Workbook
Name AgencyCode: #REF!
Name AgencyCode: #REF!
Name AgencyCode: #REF!
Name AgencyName: #REF!
Name AgencyName: #REF!
Name Functional1: #REF!
Name Functional1: #REF!
Name PANature: #REF!
Name PANature: #REF!
Name PAType: #REF!
Name PAType: #REF!
Name Performance2: #REF!
Name Performance2: #REF!
Name PerformanceType: #REF!
Name PerformanceType: #REF!

Sheet 1
H1: Հավելված N1
H2: ՀՀ կառավարության 2021 թվականի
H3: ______________ ի ___Ն որոշման
A4: «ՀԱՅԱՍՏԱՆԻ ՀԱՆՐԱՊԵՏՈՒԹՅԱՆ 2021 ԹՎԱԿԱՆԻ ՊԵՏԱԿԱՆ ԲՅՈՒՋԵԻ ՄԱՍԻՆ» ՕՐԵՆՔԻ N 1 ՀԱՎԵԼՎԱԾԻ N 3 ԱՂՅՈՒՍԱԿՈՒՄ ԿԱՏԱՐՎՈՂ ՓՈՓՈԽՈՒԹՅՈՒՆՆԵՐԸ ԵՎ ԼՐԱՑՈՒՄՆԵՐԸ
G5: հազար դրամ
A6: Ծրագրային դասիչ | C6: Բյուջետային գլխավոր կարգադրիչների, ծրագրերի, միջոցառումների և ուղղությունների անվանումները | D6: Ցուցանիշների փոփոխությունը (ավելացումները նշված են դրական նշանով, իսկ նվազեցումները` փակագծերում)
D7: Ընդամենը, | E7: այդ թվում՝
A8: Ծրագիր | B8: Միջոցառում | E8: Կառուցման աշխատանքներ | F8: Վերակառուցման, վերանորոգման և վերականգնման աշխատանքներ | G8: Նախագծահե- տազոտական, գեոդեզիա- քարտեզագրա- կան աշխա- տանքներ | H8: Ոչ ֆինանսական այլ ակտիվների ձեռքբերում
C9: ԸՆԴԱՄԵՆԸ | D9: =+E9+F9+G9+H9 -> 0 | E9: =E11 -> 0 | F9: =F11 -> -12170 | G9: =G11 -> 12170 | H9: =H11 -> 0
C10: այդ թվում՝
C11: ՀՀ ՏԱՐԱԾՔԱՅԻՆ ԿԱՌԱՎԱՐՄԱՆ ԵՎ ԵՆԹԱԿԱՌՈՒՑՎԱԾՔՆԵՐԻ ՆԱԽԱՐԱՐՈՒԹՅՈՒՆ | D11: =+E11+F11+G11+H11 -> 0 | E11: =+E13+E33 -> 0 | F11: =+F13+F33 -> -12170 | G11: =+G13+G33 -> 12170 | H11: =+H13+H33 -> 0
C12: այդ թվում`
A13: 1049 | B13: 21001 | C13: Պետական նշանակության ավտոճանապարհների հիմնանորոգում | D13: =+E13+F13+G13+H13 -> 0 | E13: =+E15+E23+E31 -> 0 | F13: =-G13 -> -8690 | G13: =+G15+G23+G31 -> 8690 | H13: =+H15+H23+H31 -> 0
C14: այդ թվում`
B15: 1 | C15: Միջպետական նշանակության ավտոճանապարհներ, այդ թվում | D15: =+E15+F15+G15+H15 -> 3010.8 | E15: =E16+E21+E19 -> 0 | F15: =F16+F21+F19 -> 0 | G15: =G16+G21+G19 -> 3010.8 | H15: =H16+H21+H19 -> 0
C16: Մ- 3, Թուրքիայի սահման-Մարգարա-Վանաձոր-Տաշիր-Վրաստանի սահման | D16: =+E16+F16+G16+H16 -> 2600.8 | E16: =SUM(E17:E17) -> 0 | F16: =SUM(F17:F17) -> 0 | G16: =+G17+G18 -> 2600.8 | H16: =SUM(H17:H17) -> 0
C17: կմ97+020-կմ104+700 հատվածի հիմնանորոգում | D17: =+E17+F17+G17+H17 -> 908.2 | E17: 0 | F17: 0 | G17: =+'3'!F20 -> 908.2 | H17: 0
C18: կմ154+000-կմ176+900 հատվածի հիմնանորոգում | D18: =+E18+F18+G18+H18 -> 1692.6 | E18: 0 | F18: 0 | G18: =+'3'!F21 -> 1692.6 | H18: 0
C19: Մ-4, Երևան-Սևան-Իջևան-Ադրբեջանի սահման | D19: =+E19+F19+G19+H19 -> 336 | E19: =SUM(E20:E20) -> 0 | F19: =SUM(F20:F20) -> 0 | G19: =+G20 -> 336 | H19: =SUM(H20:H20) -> 0
C20: կմ105+000 և կմ106+300 - կմ106+700 հատվածներում բացակայող պարապետերի վերականգնում և կմ105+700 հատվածի փլուզված հողային պաստառի շեպի և կողնակի վերականգնում | D20: =+E20+F20+G20+H20 -> 336 | E20: 0 | F20: 0 | G20: =+'3'!F23 -> 336 | H20: 0
C21: Մ10, Սևան-Մարտունի-Գետափ | D21: =+E21+F21+G21+H21 -> 74 | E21: =SUM(E22:E22) -> 0 | F21: =SUM(F22:F22) -> 0 | G21: =+G22 -> 74 | H21: =SUM(H22:H22) -> 0
C22: կմ57+450-կմ59+450 հատվածի մայթերի կառուցում | D22: =+E22+F22+G22+H22 -> 74 | E22: 0 | F22: 0 | G22: =+'3'!F25 -> 74 | H22: 0
B23: 2 | C23: Հանրապետական նշանակության ավտոճանապարհներ, այդ թվում | D23: =+E23+F23+G23+H23 -> 4446.9 | E23: =SUM(E24:E30) -> 0 | F23: =SUM(F24:F30) -> 0 | G23: =SUM(G24:G30) -> 4446.9 | H23: =SUM(H24:H30) -> 0
C24: Հ-2, /Հ-1/ Աբովյան- Արզնի-/Հ-6/ (Նոր Գեղի) հանրապետական նշանակության ավտոճանապարհի կմ0+000-կմ1+400 հատվածի հիմնանորոգում | D24: =+E24+G24+F24+H24 -> 207 | E24: 0 | F24: 0 | G24: =+'3'!F27 -> 207 | H24: 0
C25: Հ-4, Երևան - եղվարդ - Արագյուղ - Հարթավան - /Մ-3/ հանրապետական նշանակության ավտոճանապարհի կմ33+500 - կմ34+800 հատվածի (Երնջատափ գյուղը շրջանցող հատված) հիմնանորոգում | D25: =+E25+G25+F25+H25 -> 192.2 | E25: 0 | F25: 0 | G25: =+'3'!F28 -> 192.2 | H25: 0
C26: Հ-33, /Մ-3 /Ստեփանավան-Ագարակ-Յաղդան-/Հ-35/ հանրապետական նշանակության ավտոճանապարհի կմ0+000-կմ8+100 հատվածի հիմնանորոգում | D26: =+E26+G26+F26+H26 -> 957.9 | E26: 0 | F26: 0 | G26: =+'3'!F29 -> 957.9 | H26: 0
C27: Հ-36, /Մ-4/ (Իջևան) - Նավուր - Բերդ - Այգեպար հանրապետական նշանակության ավտոճանապարհի կմ 5+600-կմ 42+100 հատվածի հիմնանորոգում | D27: =+E27+F27+G27+H27 -> 1888.4 | E27: 0 | F27: 0 | G27: =+'3'!F30 -> 1888.4 | H27: 0
C28: Հ-46, /Մ-2/-Տաթև-Աղվանի-/Մ-2/(Սյունիք) հանրապետական նշանակության ավտոճանապարհի կմ55+000-կմ68+000 հատվածի հիմնանորոգում | D28: =+E28+F28+G28+H28 -> 1153 | E28: 0 | F28: 0 | G28: =+'3'!F31 -> 1153 | H28: 0
C29: Հ-64, Բերդ - Արծվաբերդ - Չինարի հանրապետական նշանակության ավտոճանապարհի 18-րդ կիլոմետրում փլուզված հողային պաստառի վերականգնում | D29: =+E29+F29+G29+H29 -> 35.5 | E29: 0 | F29: 0 | G29: =+'3'!F32 -> 35.5 | H29: 0
C30: Հ-69, /Հ-21/-Հառիճ ավտոճանապարհի հանրապետական նշանակության կմ1+100-ում երթևեկային մասի ջրահեռացման կարգավորում և 200 գծ.մ ասֆալտապատում | D30: =+E30+F30+G30+H30 -> 12.9 | E30: 0 | F30: 0 | G30: =+'3'!F33 -> 12.9 | H30: 0
B31: 3 | C31: Մարզային նշանակության ավտոճանապարհներ, այդ թվում | D31: =+E31+F31+G31+H31 -> 1232.3 | E31: =SUM(E32:E32) -> 0 | F31: =SUM(F32:F32) -> 0 | G31: =SUM(G32:G32) -> 1232.3 | H31: =SUM(H32:H32) -> 0
C32: Տ-8-22, /Մ-2/ - Վարդավանք – Խդրանց - Ագարակ ավտոճանապարհի կմ0+000 - կմ13+100 հատվածի հիմնանորոգում | D32: =+E32+G32+F32+H32 -> 1232.3 | E32: 0 | F32: 0 | G32: =+'3'!F35 -> 1232.3 | H32: 0
A33: 1049 | B33: 21002 | C33: Տրանսպորտային օբյեկտների հիմնանորոգում, այդ թվում | D33: =+E33+F33+G33+H33 -> 0 | E33: =SUM(E35:E51) -> 0 | F33: =-G33 -> -3480 | G33: =SUM(G35:G51) -> 3480 | H33: =SUM(H35:H51) -> 0
C34: այդ թվում
C35: Մ-2, Երևան-Երասխ-Գորիս-Մեղրի-Իրանի սահման կմ 27+349 հատվածում վերգետնյա ուղեանցի կառուցում | D35: =+E35+F35+G35+H35 -> 432.5 | E35: 0 | F35: 0 | G35: =+'3'!F41 -> 432.5 | H35: 0
C36: Մ-2, Երևան-Երասխ-Գորիս-Մեղրի-Իրանի սահման կմ202+985-ում d=1.0մ ե/բ խողովակի վերանորոգում | D36: =+E36+F36+G36+H36 -> 46.1 | E36: 0 | F36: 0 | G36: =+'3'!F42 -> 46.1 | H36: 0
C37: Մ-2, Երևան-Երասխ-Գորիս-Մեղրի-Իրանի սահման կմ178+000-կմ178+060 հատվածի ստորին հենապատի վերանորոգում | D37: =+E37+F37+G37+H37 -> 144.2 | E37: 0 | F37: 0 | G37: =+'3'!F43 -> 144.2 | H37: 0
C38: Մ- 3, Թուրքիայի սահման-Մարգարա-Վանաձոր-Տաշիր-Վրաստանի սահման կմ144+020-ում գտնվող կամրջի հիմնանորոգում | D38: =+E38+F38+G38+H38 -> 336.4 | E38: 0 | F38: 0 | G38: =+'3'!F44 -> 336.4 | H38: 0
C39: Մ- 4, Երևան - Սևան - Իջևան - Ադրբեջանի սահման կմ 14+796 հատվածում գտնվող կամրջի վերանորոգում | D39: =+E39+F39+G39+H39 -> 144.2 | E39: 0 | F39: 0 | G39: =+'3'!F45 -> 144.2 | H39: 0
C40: Մ- 4, Երևան - Սևան - Իջևան - Ադրբեջանի սահման կմ 104+300 հատվածում գտնվող կամուրջի վերանորոգում | D40: =+E40+F40+G40+H40 -> 144.2 | E40: 0 | F40: 0 | G40: =+'3'!F46 -> 144.2 | H40: 0
C41: Մ10, Սևան-Մարտունի-Գետափ Կմ 123+500 (Գետափ բնակավայրի դպրոցի մոտ) վերգետնյա հետիոտնային անցման կառուցում | D41: =+E41+F41+G41+H41 -> 144.2 | E41: 0 | F41: 0 | G41: =+'3'!F47 -> 144.2 | H41: 0
C42: Հ-7, /Հ-5/ - Կարենիս - Չարենցավան - Ֆանտան հանրապետական նշանակության ավտոճանապարհի Չարենցավան - Ֆանտան հատվածի (Երևան -Սևան երկաթգծի և Հրազդանի ջրանցքի վրայով անցնող) կամրջի հիմնանորոգում | D42: =+E42+F42+G42+H42 -> 144.2 | E42: 0 | F42: 0 | G42: =+'3'!F48 -> 144.2 | H42: 0
C43: Հ-6, /Հ-2/ –Նոր Գեղի - Եղվարդի տրանսպորտային հանգույց - /Մ-1/ ավտոճանապարհի Հրազդան գետի վրայի կամրջի վերանորոգում | D43: =+E43+F43+G43+H43 -> 336.4 | E43: 0 | F43: 0 | G43: =+'3'!F49 -> 336.4 | H43: 0
C44: Հ-22, /Մ-6/-Դսեղ-/Հ-70/ հանրապետական նշանակության ավտոճանապարհի առաջին կիլոմետրում գտնվող կամրջի հիմնանորոգում | D44: =+E44+F44+G44+H44 -> 454.2 | E44: 0 | F44: 0 | G44: =+'3'!F50 -> 454.2 | H44: 0
C45: Հ-30, Մ-4 – Ճամբարակ-Դրախտիկ կմ 35+050-ում գտնվող կամուրջի հիմնանորոգում | D45: =+E45+F45+G45+H45 -> 105.7 | E45: 0 | F45: 0 | G45: =+'3'!F51 -> 105.7 | H45: 0
C46: ՀՀ Շիրակի մարզի Ամասիա - Երիզակ ավտոճանապարհի կմ9+300 հատվածի հավաքովի ե/բետոնե ուղղանկյուն խողովակի հիմնանորոգում | D46: =+E46+F46+G46+H46 -> 105.7 | E46: 0 | F46: 0 | G46: =+'3'!F52 -> 105.7 | H46: 0
... C51: Տ-7-9, Կրասար (Տ-7-6) - Մեծ Սեպասար - /Հ-66/ մարզային նշանակության ավտոճանապարհի կամրջի հիմնանորոգում | D51: =+E51+F51+G51+H51 -> 144.2 | E51: 0 | F51: 0 | G51: =+'3'!F57 -> 144.2 | H51: 0

Sheet 2
A1: Հավելված N2
A2: ՀՀ կառավարության 2021 թվականի
A3: ______________ ի ___Ն որոշման
A5: ՀԱՅԱՍՏԱՆԻ ՀԱՆՐԱՊԵՏՈՒԹՅԱՆ ԿԱՌԱՎԱՐՈՒԹՅԱՆ 2020 ԹՎԱԿԱՆԻ ԴԵԿՏԵՄԲԵՐԻ 30-Ի N 2215-Ն ՈՐՈՇՄԱՆ N 3 ԵՎ N 4 ՀԱՎԵԼՎԱԾՆԵՐՈՒՄ ԿԱՏԱՐՎՈՂ ՓՈՓՈԽՈՒԹՅՈՒՆՆԵՐԸ
H7: հազար դրամ
A8: Գործառական դասիչը | D8: Ծրագրային դասիչը | F8: Բյուջետային ծախսերի գործառական դասակարգման բաժինների, խմբերի և դասերի, բյուջետային հատկացումների գլխավոր կարգադրիչների, ծրագրերի, միջոցառումների և միջոցառումները կատարող պետական մարմինների անվանումները | G8: Ցուցանիշների փոփոխությունը (ավելացումները նշված են դրական նշանով, իսկ նվազեցումները` փակագծերում)
A9: Բաժին | B9: Խումբ | C9: Դաս | D9: Ծրագիր | E9: Միջոցա ռում | G9: Առաջին կիսամյակ | H9: Ինն ամիս | I9: Տարի
F10: ԸՆԴԱՄԵՆԸ ԾԱԽՍԵՐ | G10: =G12 -> 0 | H10: =H12 -> 0 | I10: =I12 -> 0
F11: այդ թվում`
A12: 04 | F12: ՏՆՏԵՍԱԿԱՆ ՀԱՐԱԲԵՐՈՒԹՅՈՒՆՆԵՐ | G12: =G14 -> 0 | H12: =H14 -> 0 | I12: =I14 -> 0
F13: այդ թվում`
B14: 05 | F14: Տրանսպորտ | G14: =G16 -> 0 | H14: =H16 -> 0 | I14: =I16 -> 0
F15: այդ թվում`
C16: 01 | F16: Ճանապարհային տրանսպորտ | G16: =G18 -> 0 | H16: =H18 -> 0 | I16: =I18 -> 0
F17: այդ թվում`
F18: ՀՀ ՏԱՐԱԾՔԱՅԻՆ ԿԱՌԱՎԱՐՄԱՆ ԵՎ ԵՆԹԱԿԱՌՈՒՑՎԱԾՔՆԵՐԻ ՆԱԽԱՐԱՐՈՒԹՅՈՒՆ | G18: =+G20 -> 0 | H18: =+H20 -> 0 | I18: =+I20 -> 0
F19: այդ թվում`
D20: 1049 | F20: Ճանապարհային ցանցի բարելավում | G20: =+G22+G38 -> 0 | H20: =+H22+H38 -> 0 | I20: =+I22+I38 -> 0
F21: այդ թվում`
E22: 21001 | F22: Պետական նշանակության ավտոճանապարհների հիմնանորոգում | G22: =+G24+G31 -> 0 | H22: =+H24+H31 -> 0 | I22: =+I24+I31 -> 0
F23: այդ թվում` ըստ կատարողների
F24: ՀՀ կառավարություն | G24: =+G26 -> -8690 | H24: =+H26 -> -8690 | I24: =+I26 -> -8690
F25: այդ թվում` բյուջետային ծախսերի տնտեսագիտական դասակարգման հոդվածների
F26: ԸՆԴԱՄԵՆԸ ԾԱԽՍԵՐ | G26: =+G27 -> -8690 | H26: =+H27 -> -8690 | I26: =+I27 -> -8690
F27: ՈՉ ՖԻՆԱՆՍԱԿԱՆ ԱԿՏԻՎՆԵՐԻ ԳԾՈՎ ԾԱԽՍԵՐ | G27: =+G28 -> -8690 | H27: =+H28 -> -8690 | I27: =+I28 -> -8690
F28: ՀԻՄՆԱԿԱՆ ՄԻՋՈՑՆԵՐ | G28: =+G29 -> -8690 | H28: =+H29 -> -8690 | I28: =+I29 -> -8690
F29: ՇԵՆՔԵՐ ԵՎ ՇԻՆՈՒԹՅՈՒՆՆԵՐ | G29: =+G30 -> -8690 | H29: =+H30 -> -8690 | I29: =+I30 -> -8690
F30: - Շենքերի և շինությունների կապիտալ վերանորոգում | G30: =-G37 -> -8690 | H30: =-H37 -> -8690 | I30: =-I37 -> -8690
F31: ՀՀ տարածքային կառավարման և ենթակառուցվածքների նախարարություն | G31: =+G33 -> 8690 | H31: =+H33 -> 8690 | I31: =+I33 -> 8690
F32: այդ թվում` բյուջետային ծախսերի տնտեսագիտական դասակարգման հոդվածների
F33: ԸՆԴԱՄԵՆԸ ԾԱԽՍԵՐ | G33: =+G34 -> 8690 | H33: =+H34 -> 8690 | I33: =+I34 -> 8690
F34: ՈՉ ՖԻՆԱՆՍԱԿԱՆ ԱԿՏԻՎՆԵՐԻ ԳԾՈՎ ԾԱԽՍԵՐ | G34: =+G35 -> 8690 | H34: =+H35 -> 8690 | I34: =+I35 -> 8690
F35: ՀԻՄՆԱԿԱՆ ՄԻՋՈՑՆԵՐ | G35: =+G36 -> 8690 | H35: =+H36 -> 8690 | I35: =+I36 -> 8690
F36: ԱՅԼ ՀԻՄՆԱԿԱՆ ՄԻՋՈՑՆԵՐ | G36: =+G37 -> 8690 | H36: =+H37 -> 8690 | I36: =+I37 -> 8690
F37: - Նախագծահետազոտական ծախսեր | G37: =+'3'!D16 -> 8690 | H37: =+'3'!E16 -> 8690 | I37: =+'3'!F16 -> 8690
E38: 21002 | F38: Տրանսպորտային օբյեկտների հիմնանորոգում | G38: =+G40+G47 -> 0 | H38: =+H40+H47 -> 0 | I38: =+I40+I47 -> 0
F39: այդ թվում` ըստ կատարողների
F40: ՀՀ կառավարություն | G40: =+G42 -> -3480 | H40: =+H42 -> -3480 | I40: =+I42 -> -3480
F41: այդ թվում` բյուջետային ծախսերի տնտեսագիտական դասակարգման հոդվածների
F42: ԸՆԴԱՄԵՆԸ ԾԱԽՍԵՐ | G42: =+G43 -> -3480 | H42: =+H43 -> -3480 | I42: =+I43 -> -3480
F43: ՈՉ ՖԻՆԱՆՍԱԿԱՆ ԱԿՏԻՎՆԵՐԻ ԳԾՈՎ ԾԱԽՍԵՐ | G43: =+G44 -> -3480 | H43: =+H44 -> -3480 | I43: =+I44 -> -3480
F44: ՀԻՄՆԱԿԱՆ ՄԻՋՈՑՆԵՐ | G44: =+G45 -> -3480 | H44: =+H45 -> -3480 | I44: =+I45 -> -3480
F45: ՇԵՆՔԵՐ ԵՎ ՇԻՆՈՒԹՅՈՒՆՆԵՐ | G45: =+G46 -> -3480 | H45: =+H46 -> -3480 | I45: =+I46 -> -3480
F46: - Շենքերի և շինությունների կապիտալ վերանորոգում | G46: =-G53 -> -3480 | H46: =-H53 -> -3480 | I46: =-I53 -> -3480
F47: ՀՀ տարածքային կառավարման և ենթակառուցվածքների նախարարություն | G47: =+G49 -> 3480 | H47: =+H49 -> 3480 | I47: =+I49 -> 3480
F48: այդ թվում` բյուջետային ծախսերի տնտեսագիտական դասակարգման հոդվածների
F49: ԸՆԴԱՄԵՆԸ ԾԱԽՍԵՐ | G49: =+G50 -> 3480 | H49: =+H50 -> 3480 | I49: =+I50 -> 3480
F50: ՈՉ ՖԻՆԱՆՍԱԿԱՆ ԱԿՏԻՎՆԵՐԻ ԳԾՈՎ ԾԱԽՍԵՐ | G50: =+G51 -> 3480 | H50: =+H51 -> 3480 | I50: =+I51 -> 3480
F51: ՀԻՄՆԱԿԱՆ ՄԻՋՈՑՆԵՐ | G51: =+G52 -> 3480 | H51: =+H52 -> 3480 | I51: =+I52 -> 3480
F52: ՇԵՆՔԵՐ ԵՎ ՇԻՆՈՒԹՅՈՒՆՆԵՐ | G52: =+G53 -> 3480 | H52: =+H53 -> 3480 | I52: =+I53 -> 3480
F53: - Նախագծահետազոտական ծախսեր | G53: =+'3'!D39 -> 3480 | H53: =+'3'!E39 -> 3480 | I53: =+'3'!F39 -> 3480

Sheet 3
A1: Հավելված N3
A2: ՀՀ կառավարության 2021 թվականի
A3: ______________ ի ___Ն որոշման
A5: ՀԱՅԱՍՏԱՆԻ ՀԱՆՐԱՊԵՏՈՒԹՅԱՆ ԿԱՌԱՎԱՐՈՒԹՅԱՆ 2020 ԹՎԱԿԱՆԻ ԴԵԿՏԵՄԲԵՐԻ 30-Ի N 2215-Ն ՈՐՈՇՄԱՆ N 5 ՀԱՎԵԼՎԱԾԻ N 2 ԱՂՅՈՒՍԱԿՈՒՄ ԿԱՏԱՐՎՈՂ ՓՈՓՈԽՈՒԹՅՈՒՆՆԵՐԸ ԵՎ ԼՐԱՑՈՒՄՆԵՐԸ
E6: հազար դրամ
A7: Ծրագրային դասիչ | C7: Բյուջետային գլխավոր կարգադրիչների, ծրագրերի, միջոցառումների և ուղղությունների անվանումները | D7: Ցուցանիշների փոփոխությունը (ավելացումները նշված են դրական նշանով, իսկ նվազեցումները` փակագծերում)
A8: Ծրագիր | B8: Միջոցառում | D8: Առաջին կիսամյակ | E8: Ինն ամիս | F8: Տարի
C9: ԸՆԴԱՄԵՆԸ | D9: =D11 -> 0 | E9: =E11 -> 0 | F9: =F11 -> 0
C10: այդ թվում՝
C11: ՀՀ ՏԱՐԱԾՔԱՅԻՆ ԿԱՌԱՎԱՐՄԱՆ ԵՎ ԵՆԹԱԿԱՌՈՒՑՎԱԾՔՆԵՐԻ ՆԱԽԱՐԱՐՈՒԹՅՈՒՆ | D11: =+D13 -> 0 | E11: =+E13 -> 0 | F11: =+F13 -> 0
C12: այդ թվում`
A13: 1049 | B13: 21001 | C13: Պետական նշանակության ավտոճանապարհների հիմնանորոգում | D13: =+D16+D15 -> 0 | E13: =+E16+E15 -> 0 | F13: =+F16+F15 -> 0
C14: այդ թվում` ըստ կատարողների
C15: ՀՀ կառավարություն | D15: =+'2'!G30 -> -8690 | E15: =-E16 -> -8690 | F15: =-F16 -> -8690
C16: ՀՀ տարածքային կառավարման և ենթակառուցվածքների նախարարություն | D16: =+D18+D26+D34 -> 8690 | E16: =+E18+E26+E34 -> 8690 | F16: =+F18+F26+F34 -> 8690
C17: այդ թվում՝ ըստ ուղղությունների
B18: 1 | C18: Միջպետական նշանակության ավտոճանապարհներ, այդ թվում | D18: =D19+D22+D24 -> 3010.8 | E18: =E19+E22+E24 -> 3010.8 | F18: =F19+F22+F24 -> 3010.8
C19: Մ- 3, Թուրքիայի սահման-Մարգարա-Վանաձոր-Տաշիր-Վրաստանի սահման | D19: =+D20+D21 -> 2600.8 | E19: =+E20+E21 -> 2600.8 | F19: =+F20+F21 -> 2600.8
C20: կմ97+020-կմ104+700 հատվածի հիմնանորոգում | D20: 908.2 | E20: 908.2 | F20: 908.2
C21: կմ154+000-կմ176+900 հատվածի հիմնանորոգում | D21: 1692.6 | E21: 1692.6 | F21: 1692.6
C22: Մ-4, Երևան-Սևան-Իջևան-Ադրբեջանի սահման | D22: =+D23 -> 336 | E22: =+E23 -> 336 | F22: =+F23 -> 336
C23: կմ105+000 և կմ106+300 - կմ106+700 հատվածներում բացակայող պարապետերի վերականգնում և կմ105+700 հատվածի փլուզված հողային պաստառի շեպի և կողնակի վերականգնում | D23: 336 | E23: 336 | F23: 336
C24: Մ10, Սևան-Մարտունի-Գետափ | D24: =+D25 -> 74 | E24: =+E25 -> 74 | F24: =+F25 -> 74
C25: կմ57+450-կմ59+450 հատվածի մայթերի կառուցում | D25: 74 | E25: 74 | F25: 74
B26: 2 | C26: Հանրապետական նշանակության ավտոճանապարհներ, այդ թվում | D26: =SUM(D27:D33) -> 4446.9 | E26: =SUM(E27:E33) -> 4446.9 | F26: =SUM(F27:F33) -> 4446.9
C27: Հ-2, /Հ-1/ Աբովյան- Արզնի-/Հ-6/ (Նոր Գեղի) հանրապետական նշանակության ավտոճանապարհի կմ0+000-կմ1+400 հատվածի հիմնանորոգում | D27: 207 | E27: 207 | F27: 207
C28: Հ-4, Երևան - եղվարդ - Արագյուղ - Հարթավան - /Մ-3/ հանրապետական նշանակության ավտոճանապարհի կմ33+500 - կմ34+800 հատվածի (Երնջատափ գյուղը շրջանցող հատված) հիմնանորոգում | D28: 192.2 | E28: 192.2 | F28: 192.2
C29: Հ-33, /Մ-3 /Ստեփանավան-Ագարակ-Յաղդան-/Հ-35/ հանրապետական նշանակության ավտոճանապարհի կմ0+000-կմ8+100 հատվածի հիմնանորոգում | D29: 957.9 | E29: 957.9 | F29: 957.9
C30: Հ-36, /Մ-4/ (Իջևան) - Նավուր - Բերդ - Այգեպար հանրապետական նշանակության ավտոճանապարհի կմ 5+600-կմ 42+100 հատվածի հիմնանորոգում | D30: 1888.4 | E30: 1888.4 | F30: 1888.4
C31: Հ-46, /Մ-2/-Տաթև-Աղվանի-/Մ-2/(Սյունիք) հանրապետական նշանակության ավտոճանապարհի կմ55+000-կմ68+000 հատվածի հիմնանորոգում | D31: 1153 | E31: 1153 | F31: 1153
C32: Հ-64, Բերդ - Արծվաբերդ - Չինարի հանրապետական նշանակության ավտոճանապարհի 18-րդ կիլոմետրում փլուզված հողային պաստառի վերականգնում | D32: 35.5 | E32: 35.5 | F32: 35.5
C33: Հ-69, /Հ-21/-Հառիճ ավտոճանապարհի հանրապետական նշանակության կմ1+100-ում երթևեկային մասի ջրահեռացման կարգավորում և 200 գծ.մ ասֆալտապատում | D33: 12.9 | E33: 12.9 | F33: 12.9
B34: 3 | C34: Մարզային նշանակության ավտոճանապարհներ, այդ թվում | D34: =SUM(D35:D35) -> 1232.3 | E34: =SUM(E35:E35) -> 1232.3 | F34: =SUM(F35:F35) -> 1232.3
C35: Տ-8-22, /Մ-2/ - Վարդավանք – Խդրանց - Ագարակ ավտոճանապարհի կմ0+000 - կմ13+100 հատվածի հիմնանորոգում | D35: 1232.3 | E35: 1232.3 | F35: 1232.3
A36: 1049 | B36: 21002 | C36: Տրանսպորտային օբյեկտների հիմնանորոգում, այդ թվում | D36: =+D39+D38 -> 0 | E36: =+E39+E38 -> 0 | F36: =+F39+F38 -> 0
C37: այդ թվում` ըստ կատարողների
C38: ՀՀ կառավարություն | D38: -3480 | E38: -3480 | F38: -3480
C39: ՀՀ տարածքային կառավարման և ենթակառուցվածքների նախարարություն | D39: =SUM(D41:D57) -> 3480 | E39: =SUM(E41:E57) -> 3480 | F39: =SUM(F41:F57) -> 3480
C40: այդ թվում` ըստ ուղղությունների
C41: Մ-2, Երևան-Երասխ-Գորիս-Մեղրի-Իրանի սահման կմ 27+349 հատվածում վերգետնյա ուղեանցի կառուցում | D41: 432.5 | E41: 432.5 | F41: 432.5
C42: Մ-2, Երևան-Երասխ-Գորիս-Մեղրի-Իրանի սահման կմ202+985-ում d=1.0մ ե/բ խողովակի վերանորոգում | D42: 46.1 | E42: 46.1 | F42: 46.1
C43: Մ-2, Երևան-Երասխ-Գորիս-Մեղրի-Իրանի սահման կմ178+000-կմ178+060 հատվածի ստորին հենապատի վերանորոգում | D43: 144.2 | E43: 144.2 | F43: 144.2
C44: Մ- 3, Թուրքիայի սահման-Մարգարա-Վանաձոր-Տաշիր-Վրաստանի սահման կմ144+020-ում գտնվող կամրջի հիմնանորոգում | D44: 336.4 | E44: 336.4 | F44: 336.4
C45: Մ- 4, Երևան - Սևան - Իջևան - Ադրբեջանի սահման կմ 14+796 հատվածում գտնվող կամրջի վերանորոգում | D45: 144.2 | E45: 144.2 | F45: 144.2
C46: Մ- 4, Երևան - Սևան - Իջևան - Ադրբեջանի սահման կմ 104+300 հատվածում գտնվող կամուրջի վերանորոգում | D46: 144.2 | E46: 144.2 | F46: 144.2
C47: Մ10, Սևան-Մարտունի-Գետափ Կմ 123+500 (Գետափ բնակավայրի դպրոցի մոտ) վերգետնյա հետիոտնային անցման կառուցում | D47: 144.2 | E47: 144.2 | F47: 144.2
C48: Հ-7, /Հ-5/ - Կարենիս - Չարենցավան - Ֆանտան հանրապետական նշանակության ավտոճանապարհի Չարենցավան - Ֆանտան հատվածի (Երևան -Սևան երկաթգծի և Հրազդանի ջրանցքի վրայով անցնող) կամրջի հիմնանորոգում | D48: 144.2 | E48: 144.2 | F48: 144.2
C49: Հ-6, /Հ-2/ –Նոր Գեղի - Եղվարդի տրանսպորտային հանգույց - /Մ-1/ ավտոճանապարհի Հրազդան գետի վրայի կամրջի վերանորոգում | D49: 336.4 | E49: 336.4 | F49: 336.4
C50: Հ-22, /Մ-6/-Դսեղ-/Հ-70/ հանրապետական նշանակության ավտոճանապարհի առաջին կիլոմետրում գտնվող կամրջի հիմնանորոգում | D50: 454.2 | E50: 454.2 | F50: 454.2
C51: Հ-30, Մ-4 – Ճամբարակ-Դրախտիկ կմ 35+050-ում գտնվող կամուրջի հիմնանորոգում | D51: 105.7 | E51: 105.7 | F51: 105.7
C52: ՀՀ Շիրակի մարզի Ամասիա - Երիզակ ավտոճանապարհի կմ9+300 հատվածի հավաքովի ե/բետոնե ուղղանկյուն խողովակի հիմնանորոգում | D52: 105.7 | E52: 105.7 | F52: 105.7
... C57: Տ-7-9, Կրասար (Տ-7-6) - Մեծ Սեպասար - /Հ-66/ մարզային նշանակության ավտոճանապարհի կամրջի հիմնանորոգում | D57: 144.2 | E57: 144.2 | F57: 144.2

Sheet 4
E1: Հավելված N4
A2: ՀՀ կառավարության 2021 թվականի
A3: ______________ ի ___Ն որոշման
A5: ՀԱՅԱՍՏԱՆԻ ՀԱՆՐԱՊԵՏՈՒԹՅԱՆ ԿԱՌԱՎԱՐՈՒԹՅԱՆ 2020 ԹՎԱԿԱՆԻ ԴԵԿՏԵՄԲԵՐԻ 30-Ի N 2215-Ն ՈՐՈՇՄԱՆ N 9 ՀԱՎԵԼՎԱԾԻ N 9.8 ԱՂՅՈՒՍԱԿՈՒՄ ԿԱՏԱՐՎՈՂ ՓՈՓՈԽՈՒԹՅՈՒՆՆԵՐԸ ԵՎ ԼՐԱՑՈՒՄՆԵՐԸ
A7: ՀՀ ՏԱՐԱԾՔԱՅԻՆ ԿԱՌԱՎԱՐՄԱՆ ԵՎ ԵՆԹԱԿԱՌՈՒՑՎԱԾՔՆԵՐԻ ՆԱԽԱՐԱՐՈՒԹՅՈՒՆ
A8: ՄԱՍ 2. ՊԵՏԱԿԱՆ ՄԱՐՄՆԻ ԳԾՈՎ ԱՐԴՅՈՒՆՔԱՅԻՆ (ԿԱՏԱՐՈՂԱԿԱՆ) ՑՈՒՑԱՆԻՇՆԵՐԸ
A10: Ծրագրի դասիչը | B10: Ծրագրի անվանումը
A11: 1049 | B11: Ճանապարհային ցանցի բարելավում
A13: Ծրագրի միջոցառումները
A15: Ծրագրի դասիչը` | B15: 1049 | C15: Ցուցանիշների փոփոխությունը (ավելացումները նշված են դրական նշանով)
A16: Միջոցառման դասիչը` | B16: 21001 | C16: Առաջին կիսամյակ | D16: Ինն ամիս | E16: Տարի
A17: Միջոցառման անվանումը` | B17: Պետական նշանակության ավտոճանապարհների հիմնանորոգում
A18: Նկարագրությունը` | B18: Միջպետական՝ հանրապետական և մարզային նշանակության ավտոճանապարհների քայքայված ծածկի վերանորոգում՝ մաշված ծածկի փոխարինում
A19: Միջոցառման տեսակը` | B19: Հանրության կողմից անմիջականորեն օգտագործվող ակտիվների հետ կապված միջոցառումներ
A20: Արդյունքի չափորոշիչներ
A21: Պայմանագրերի թիվ, հատ | C21: 1 | D21: 1 | E21: 1
A22: Միջոցառման վրա կատարվող ծախսը (հազար դրամ) | C22: =+'[1]5'!D13 -> 0 | D22: =+'[1]5'!E13 -> 0 | E22: =+'[1]5'!F13 -> 0
A24: Ծրագրի դասիչը` | B24: 1049 | C24: Ցուցանիշների փոփոխությունը (ավելացումները նշված են դրական նշանով)
A25: Միջոցառման դասիչը` | B25: 21002 | C25: Առաջին կիսամյակ | D25: Ինն ամիս | E25: Տարի
A26: Միջոցառման անվանումը` | B26: Տրանսպորտային օբյեկտների հիմնանորոգում
A27: Նկարագրությունը` | B27: Ավտոմոբիլային ճանապարհների վրա գտնվող կամուրջների հիմնանորոգում
A28: Միջոցառման տեսակը` | B28: Հանրության կողմից անմիջականորեն օգտագործվող ակտիվների հետ կապված միջոցառումներ
A29: Արդյունքի չափորոշիչներ
A30: Պայմանագրերի թիվ, հատ | C30: 1 | D30: 1 | E30: 1
A31: Միջոցառման վրա կատարվող ծախսը (հազար դրամ) | C31: =-C22 -> 0 | D31: =-D22 -> 0 | E31: =-E22 -> 0

Sheet 5
E1: Հավելված N5
A2: ՀՀ կառավարության 2021 թվականի
A3: ______________ ի ___Ն որոշման
A4: ՀԱՅԱՍՏԱՆԻ ՀԱՆՐԱՊԵՏՈՒԹՅԱՆ ԿԱՌԱՎԱՐՈՒԹՅԱՆ 2020 ԹՎԱԿԱՆԻ ԴԵԿՏԵՄԲԵՐԻ 30-Ի N 2215-Ն ՈՐՈՇՄԱՆ N 9.1 ՀԱՎԵԼՎԱԾԻ NN 9.1.8 և 9.1.58 ԱՂՅՈՒՍԱԿՆԵՐՈՒՄ ԿԱՏԱՐՎՈՂ ՓՈՓՈԽՈՒԹՅՈՒՆՆԵՐԸ ԵՎ ԼՐԱՑՈՒՄՆԵՐԸ
E5: Աղյուսակ 1.
A6: ՀՀ ՏԱՐԱԾՔԱՅԻՆ ԿԱՌԱՎԱՐՄԱՆ ԵՎ ԵՆԹԱԿԱՌՈՒՑՎԱԾՔՆԵՐԻ ՆԱԽԱՐԱՐՈՒԹՅՈՒՆ
A7: ՄԱՍ 1. ՊԵՏԱԿԱՆ ՄԱՐՄՆԻ ԳԾՈՎ ԱՐԴՅՈՒՆՔԱՅԻՆ (ԿԱՏԱՐՈՂԱԿԱՆ) ՑՈՒՑԱՆԻՇՆԵՐԸ
A8: Ծրագրի դասիչը | B8: Ծրագրի անվանումը
A9: 1049 | B9: Ճանապարհային ցանցի բարելավում
A11: Ծրագրի միջոցառումները
A13: Ծրագրի դասիչը` | B13: 1049 | C13: Ցուցանիշների փոփոխությունը (ավելացումները նշված են դրական նշանով)
A14: Միջոցառման դասիչը` | B14: 21001 | C14: Առաջին կիսամյակ | D14: Ինն ամիս | E14: Տարի
A15: Միջոցառման անվանումը` | B15: Պետական նշանակության ավտոճանապարհների հիմնանորոգում
A16: Նկարագրությունը` | B16: Միջպետական՝ հանրապետական և մարզային նշանակության ավտոճանապարհների քայքայված ծածկի վերանորոգում՝ մաշված ծածկի փոխարինում_x000D_
A17: Միջոցառման տեսակը` | B17: Հանրության կողմից անմիջականորեն օգտագործվող ակտիվների հետ կապված միջոցառումներ
A18: Արդյունքի չափորոշիչներ
A19: Պայմանագրերի թիվ, հատ | C19: 1 | D19: 1 | E19: 1
A20: Միջոցառման վրա կատարվող ծախսը (հազար դրամ) | C20: =-C46 -> 8690 | D20: =-D46 -> 8690 | E20: =-E46 -> 8690
A22: Ծրագրի դասիչը` | B22: 1049 | C22: Ցուցանիշների փոփոխությունը (ավելացումները նշված են դրական նշանով)
A23: Միջոցառման դասիչը` | B23: 21002 | C23: Առաջին կիսամյակ | D23: Ինն ամիս | E23: Տարի
A24: Միջոցառման անվանումը` | B24: Տրանսպորտային օբյեկտների հիմնանորոգում
A25: Նկարագրությունը` | B25: Ավտոմոբիլային ճանապարհների վրա գտնվող կամուրջների հիմնանորոգում
A26: Միջոցառման տեսակը` | B26: Հանրության կողմից անմիջականորեն օգտագործվող ակտիվների հետ կապված միջոցառումներ
A27: Արդյունքի չափորոշիչներ
A28: Պայմանագրերի թիվ, հատ | C28: 1 | D28: 1 | E28: 1
A29: Միջոցառման վրա կատարվող ծախսը (հազար դրամ) | C29: =-C54 -> 3480 | D29: =-D54 -> 3480 | E29: =-E54 -> 3480
E32: Աղյուսակ 2
A33: ՀՀ ԿԱՌԱՎԱՐՈՒԹՅՈՒՆ
A34: ՄԱՍ 1. ՊԵՏԱԿԱՆ ՄԱՐՄՆԻ ԳԾՈՎ ԱՐԴՅՈՒՆՔԱՅԻՆ (ԿԱՏԱՐՈՂԱԿԱՆ) ՑՈՒՑԱՆԻՇՆԵՐԸ
A35: Ծրագրի դասիչը | B35: Ծրագրի անվանումը
A36: 1049 | B36: Ճանապարհային ցանցի բարելավում
A38: Ծրագրի միջոցառումները
A40: Ծրագրի դասիչը` | B40: 1049 | C40: Ցուցանիշների փոփոխությունը (նվազեցումները նշված են փակագծերում)
A41: Միջոցառման դասիչը` | B41: 21001 | C41: Առաջին կիսամյակ | D41: Ինն ամիս | E41: Տարի
A42: Միջոցառման անվանումը` | B42: Պետական նշանակության ավտոճանապարհների հիմնանորոգում
A43: Նկարագրությունը` | B43: Միջպետական՝ հանրապետական և մարզային նշանակության ավտոճանապարհների քայքայված ծածկի վերանորոգում՝ մաշված ծածկի փոխարինում_x000D_
A44: Միջոցառման տեսակը` | B44: Հանրության կողմից անմիջականորեն օգտագործվող ակտիվների հետ կապված միջոցառումներ
A45: Արդյունքի չափորոշիչներ
A46: Միջոցառման վրա կատարվող ծախսը (հազար դրամ) | C46: =+'2'!G30 -> -8690 | D46: =+'2'!H30 -> -8690 | E46: =+'2'!I30 -> -8690
A48: Ծրագրի դասիչը` | B48: 1049 | C48: Ցուցանիշների փոփոխությունը (նվազեցումները նշված են փակագծերում)
A49: Միջոցառման դասիչը` | B49: 21002 | C49: Առաջին կիսամյակ | D49: Ինն ամիս | E49: Տարի
A50: Միջոցառման անվանումը` | B50: Տրանսպորտային օբյեկտների հիմնանորոգում
A51: Նկարագրությունը` | B51: Ավտոմոբիլային ճանապարհների վրա գտնվող կամուրջների հիմնանորոգում
A52: Միջոցառման տեսակը` | B52: Հանրության կողմից անմիջականորեն օգտագործվող ակտիվների հետ կապված միջոցառումներ
A53: Արդյունքի չափորոշիչներ
A54: Միջոցառման վրա կատարվող ծախսը (հազար դրամ) | C54: =+'2'!G40 -> -3480 | D54: =+'2'!H40 -> -3480 | E54: =+'2'!I40 -> -3480

Sheet 6
A1: Հավելված N6
A2: ՀՀ կառավարության 2021 թվականի
A3: ______________ ի ___Ն որոշման
A5: ՀԱՅԱՍՏԱՆԻ ՀԱՆՐԱՊԵՏՈՒԹՅԱՆ ԿԱՌԱՎԱՐՈՒԹՅԱՆ 2020 ԹՎԱԿԱՆԻ ԴԵԿՏԵՄԲԵՐԻ 30-Ի N 2215-Ն ՈՐՈՇՄԱՆ N 10 ՀԱՎԵԼՎԱԾՈՒՄ ԿԱՏԱՐՎՈՂ ԼՐԱՑՈՒՄՆԵՐԸ
A6: Կոդը | B6: Անվանումը | C6: Գնման ձևը | D6: Չափման միավորը | E6: Միավորի գինը | F6: Ցուցանիշների փոփոխությունը (ավելացումները նշված են դրական նշանով)
F7: Քանակը | G7: Գումարը (հազար դրամով)
A8: ՀՀ տարածքային կառավարման և ենթակառուցվածքների նախարարություն | G8: =+G9 -> 12170
A9: Բաժին N 04 | B9: Խումբ N 05 | C9: Դաս N 01 | D9: Ճանապարհային տրանսպորտ | G9: =+G10+G13 -> 12170
A10: 1049 21001 | B10: Պետական նշանակության ավտոճանապարհների հիմնանորոգում | G10: =+G11 -> 8690
A11: ՄԱՍ III. ԾԱՌԱՅՈՒԹՅՈՒՆՆԵՐ | G11: =+G12 -> 8690
A12: 50531140/506 | B12: փորձաքննության ծառայություններ | C12: ԳՀ | D12: դրամ | E12: 8690000 | F12: 1 | G12: 8690
A13: 1049 21002 | B13: Տրանսպորտային օբյեկտների հիմնանորոգում | G13: =+G14 -> 3480
A14: ՄԱՍ III. ԾԱՌԱՅՈՒԹՅՈՒՆՆԵՐ | G14: =+G15 -> 3480
A15: 50531140/507 | B15: փորձաքննության ծառայություններ | C15: ԳՀ | D15: դրամ | E15: 3480000 | F15: 1 | G15: 3480
