Workbook
Name AgencyCode: #REF!
Name AgencyCode: #REF!
Name AgencyCode: #REF!
Name AgencyName: #REF!
Name AgencyName: #REF!
Name AgencyName: #REF!
Name åû: #REF!
Name åû: #REF!
Name åû: #REF!
Name davit: #REF!
Name davit: #REF!
Name davit: #REF!
Name Functional1: #REF!
Name Functional1: #REF!
Name Functional1: #REF!
Name ggg: #REF!
Name ggg: #REF!
Name ggg: #REF!
Name mas: #REF!
Name mas: #REF!
Name mas: #REF!
Name mass: #REF!
Name mass: #REF!
Name mass: #REF!
Name PANature: #REF!
Name PANature: #REF!
Name PANature: #REF!
Name PAType: #REF!
Name PAType: #REF!
Name PAType: #REF!
Name Performance2: #REF!
Name Performance2: #REF!
Name Performance2: #REF!
Name PerformanceType: #REF!
Name PerformanceType: #REF!
Name PerformanceType: #REF!
Name x: #REF!
Name x: #REF!
Name x: #REF!
Name Հավելված: #REF!
Name Հավելված: #REF!
Name Հավելված: #REF!
Name Մաս: #REF!
Name Մաս: #REF!
Name Մաս: #REF!
Name շախմատիստ: #REF!
Name շախմատիստ: #REF!
Name շախմատիստ: #REF!

Sheet 1.
A1: Հավելված 1
A2: ՀՀ կառավարության 2021 թվականի
A3: ------------ N ---------- որոշման
A5: ՀԱՅԱUՏԱՆԻ ՀԱՆՐԱՊԵՏՈՒԹՅԱՆ ԿԱՌԱՎԱՐՈՒԹՅԱՆ 2020 ԹՎԱԿԱՆԻ ԴԵԿՏԵՄԲԵՐԻ 30-Ի N 2215-Ն ՈՐՈՇՄԱՆ N 1 ՀԱՎԵԼՎԱԾԻ N 1 ԱՂՅՈՒՍԱԿՈՒՄ ԿԱՏԱՐՎՈՂ ՓՈՓՈԽՈՒԹՅՈՒՆԸ
D6: հազար դրամ
A7: Պետական բյուջեի դեֆիցիտի ֆինանսավորման աղբյուրներն ու դրանց տարրերի անվանումները | B7: Ցուցանիշների փոփոխությունները (ավելացումները նշված են դրական նշանով)
B8: Առաջին կիսամյակ | C8: Ինն ամիս | D8: Տարի
A9: ԸՆԴԱՄԵՆԸ | B9: =B11 -> 6454452 | C9: =C11 -> 6454452 | D9: =D11 -> 0
A10: այդ թվում՝
A11: Ա.Ներքին աղբյուրներ-ընդամենը | B11: =B13 -> 6454452 | C11: =C13 -> 6454452 | D11: =D13 -> 0
A12: այդ թվում՝
A13: 2. Ֆինանսական զուտ ակտիվներ | B13: =B15 -> 6454452 | C13: =C15 -> 6454452 | D13: =D15 -> 0
A14: այդ թվում՝
A15: 2.6.Այլ | B15: =B16 -> 6454452 | C15: =C16 -> 6454452 | D15: =D16 -> 0
A16: ժամանակավորապես ազատ միջոցներ | B16: ='2.'!D9 -> 6454452 | C16: ='2.'!E9 -> 6454452 | D16: 0

Sheet 2.
E1: Հավելված N 2
D2: ՀՀ կառավարության 2021 թվականի
D3: ______________ ի ___Ն որոշման
A5: «ՀԱՅԱՍՏԱՆԻ ՀԱՆՐԱՊԵՏՈՒԹՅԱՆ 2021 ԹՎԱԿԱՆԻ ՊԵՏԱԿԱՆ ԲՅՈՒՋԵԻ ՄԱՍԻՆ» ՀԱՅԱՍՏԱՆԻ ՀԱՆՐԱՊԵՏՈՒԹՅԱՆ OՐԵՆՔԻ N 1 ՀԱՎԵԼՎԱԾԻ N 2 ԱՂՅՈՒՍԱԿՈՒՄ ԿԱՏԱՐՎՈՂ ՎԵՐԱԲԱՇԽՈՒՄԸ ԵՎ ՀԱՅԱՍՏԱՆԻ ՀԱՆՐԱՊԵՏՈՒԹՅԱՆ ԿԱՌԱՎԱՐՈՒԹՅԱՆ 2020 ԹՎԱԿԱՆԻ ԴԵԿՏԵՄԲԵՐԻ 30-Ի ԹԻՎ 2215-Ն ՈՐՈՇՄԱՆ N 5 ՀԱՎԵԼՎԱԾԻ N 1 ԱՂՅՈՒՍԱԿՈՒՄ ԿԱՏԱՐՎՈՂ ՓՈՓՈԽՈՒԹՅՈՒՆՆԵՐԸ
F6: հազար դրամ
A7: Ծրագրային դասիչը | C7: Բյուջետային հատկացումների գլխավոր կարգադրիչների, ծրագրերի և միջոցառումների անվանումները | D7: Ցուցանիշների փոփոխություն (ավելացումները նշված են դրական նշանով իսկ պակասեցումները փակագծերում)
A8: Ծրագիր | B8: Միջոցառում | D8: Առաջին կիսամյակ | E8: Ինն ամիս | F8: Տարի
C9: ԸՆԴԱՄԵՆԸ | D9: =D11 -> 6454452 | E9: =E11 -> 6454452 | F9: =F11 -> 0
C10: այդ թվում՝
C11: ՀՀ աշխատանքի և սոցիալական հարցերի նախարարություն | D11: =D12+D25+D38 -> 6454452 | E11: =E12+E25+E38 -> 6454452 | F11: =F12+F25+F38 -> 0
A12: 1011 | C12: Ծրագրի անվանումը` | D12: =D19 -> 0 | E12: =E19 -> 0 | F12: =F19 -> -5454452
C13: Անապահով սոցիալական խմբերին աջակցություն
C14: Ծրագրի նպատակը`
C15: Օժանդակել անապահով ընտանիքների կենսամակարդակի բարձրացմանը
C16: Վերջնական արդյունքի նկարագրությունը`
C17: Աղքատության մեղմում և ծայրահեղ աղքատության կրճատում
A18: Ծրագրի միջոցառումներ
B19: 12001 | C19: Միջոցառման անվանումը` | D19: =D24 -> 0 | E19: =E24 -> 0 | F19: =F24 -> -5454452
C20: Ընտանիքի կենսամակարդակի բարձրացմանն ուղղված նպաստներ
C21: Միջոցառման նկարագրությունը`
C22: Ընտանիքների անապահովության գնահատման համակարգում հաշվառված, անապահով ճանաչված ընտանիքներին նպաստի, սոցիալական նպաստի և հրատապ օգնության տրամադրում
C23: Միջոցառման տեսակը
C24: Տրանսֆերտների տրամադրում | D24: =H58 -> 0 | E24: =I58 -> 0 | F24: =J58 -> -5454452
A25: 1102 | C25: Ծրագրի անվանումը` | D25: =D32 -> 0 | E25: =E32 -> 0 | F25: =F32 -> -1000000
C26: Կենսաթոշակային ապահովություն
C27: Ծրագրի նպատակը`
C28: Կենսաթոշակի իրավունքի իրացում
C29: Վերջնական արդյունքի նկարագրությունը`
C30: Կենսաթոշակների նշանակման և վճարման գործընթացի ապահովում
A31: Ծրագրի միջոցառումներ
B32: 12005 | C32: Միջոցառման անվանումը` | D32: 0 | E32: 0 | F32: =F37 -> -1000000
C33: Կուտակային հատկացումներ մասնակցի կենսաթոշակային հաշվին
C34: Միջոցառման նկարագրությունը`
C35: «Կուտակային կենսաթոշակների մասին» ՀՀ օրենքով սահմանված կարգով մասնակցի կենսաթոշակային հաշվին կուտակային հատկացումների կատարում
C36: Միջոցառման տեսակը
C37: Տրանսֆերտների տրամադրում | D37: 0 | E37: 0 | F37: =J57 -> -1000000
A38: 1205 | C38: Ծրագրի անվանումը` | D38: =D45 -> 6454452 | E38: =E45 -> 6454452 | F38: =F45 -> 6454452
C39: Սոցիալական ապահովություն
C40: Ծրագրի նպատակը`
C41: Սոցիալական ապահովության իրավունքի իրականացման ապահովում
C42: Վերջնական արդյունքի նկարագրությունը`
C43: Սոցիալական ապահովության իրավունքի իրականացում
A44: Ծրագրի միջոցառումներ
B45: 12010 | C45: Միջոցառման անվանումը` | D45: =D50 -> 6454452 | E45: =E50 -> 6454452 | F45: =F50 -> 6454452
C46: ='3.'!F34 -> Ռազմական դրությամբ պայմանավորված միանվագ կամ պարբերական դրամական օգնություն Արցախում հաշվառված քաղաքացիներին
C47: Միջոցառման նկարագրությունը`
C48: Ադրբեջանի կողմից 2020 թվականի սեպտեմբերի 27-ին սանձազերծված պատերազմական գործողությունների հետևանքով տեղահանված և փաստացի Հայաստանի Հանրապետությունում գտնվող՝ Արցախում հաշվառված քաղաքացիներին սոցիալական աջակցության տրամադրում
C49: Միջոցառման տեսակը
C50: Տրանսֆերտների տրամադրում | D50: =H59 -> 6454452 | E50: =I59 -> 6454452 | F50: =J59 -> 6454452
D56: 2 er | E56: 3 er | F56: 4 er
C57: kutakayim | D57: 5500000 | E57: 0 | F57: -6500000 | H57: =D57 -> 5500000 | I57: =H57+E57 -> 5500000 | J57: =I57+F57 -> -1000000
C58: npast | F58: =-5300000-154452 -> -5454452 | H58: =D58 -> 0 | I58: =H58+E58 -> 0 | J58: =I58+F58 -> -5454452
C59: 68 | D59: =1000000+5300000+154452 -> 6454452 | H59: =D59 -> 6454452 | I59: =H59+E59 -> 6454452 | J59: =I59+F59 -> 6454452
C60: zbzx | H60: =D60 -> 0 | I60: =H60+E60 -> 0 | J60: =I60+F60 -> 0
C61: pahust | D61: =D57+D58+D59+D60 -> 11954452 | E61: =E57+E58+E59+E60 -> 0 | F61: =F57+F58+F59+F60 -> -11954452 | G61: =G57+G58+G59+G60 -> 0 | H61: =H57+H58+H59+H60 -> 11954452 | I61: =I57+I58+I59+I60 -> 11954452 | J61: =J57+J58+J59+J60 -> 0
D64: =D57 -> 5500000
D65: =F50 -> 6454452
D66: =D64+D65 -> 11954452
D67: =D66+D61 -> 23908904

Sheet 3.
G1: Հավելված N 3
G2: ՀՀ կառավարության 2021 թվականի
G3: ______________ ի ___Ն որոշման
A6: ՀԱՅԱՍՏԱՆԻ ՀԱՆՐԱՊԵՏՈՒԹՅԱՆ ԿԱՌԱՎԱՐՈՒԹՅԱՆ 2020 ԹՎԱԿԱՆԻ ԴԵԿՏԵՄԲԵՐԻ 30-Ի N 2215-Ն ՈՐՈՇՄԱՆ N3 ԵՎ N4 ՀԱՎԵԼՎԱԾՆԵՐՈՒՄ ԿԱՏԱՐՎՈՂ ՓՈՓՈԽՈՒԹՅՈՒՆՆԵՐԸ
I8: հազար դրամ
A9: Գործառական դասիչը | D9: Ծրագրային դասիչը | F9: Բյուջետային ծախսերի գործառական դասակարգման բաժինների, խմբերի և դասերի, տնտեսագիտական դասակարգման հոդվածների, բյուջետային հատկացումների գլխավոր կարգադրիչների, բյուջետային ծրագրերի, միջոցառումների և միջոցառումները կատարող պետական մարմինների անվանումները | G9: Ցուցանիշների փոփոխությունը (ավելացումները նշված են դրական նշանով, իսկ նվազեցումները՝ փակագծերում)
A10: Բաժին | B10: Խումբ | C10: Դաս | D10: Ծրագիր | E10: Միջոցառում | G10: Առաջին կիսամյակ | H10: Ինն ամիս | I10: Տարի
F11: ԸՆԴԱՄԵՆԸ ԾԱԽՍԵՐ | G11: =G13 -> 6454452 | H11: =H13 -> 6454452 | I11: =I13 -> 0
F12: այդ թվում`
A13: 10 | F13: ՍՈՑԻԱԼԱԿԱՆ ՊԱՇՏՊԱՆՈՒԹՅՈՒՆ | G13: =G15+G42 -> 6454452 | H13: =H15+H42 -> 6454452 | I13: =I15+I42 -> 0
F14: այդ թվում`
B15: 04 | F15: Ընտանիքի անդամներ և զավակներ | G15: =G17+G30 -> 6454452 | H15: =H17+H30 -> 6454452 | I15: =I17+I30 -> 1000000
F16: այդ թվում`
C17: 01 | F17: Ընտանիքի անդամներ և զավակներ | G17: =G19 -> 0 | H17: =H19 -> 0 | I17: =I19 -> -5454452
F18: այդ թվում`
D19: 1011 | F19: Անապահով սոցիալական խմբերին աջակցություն | G19: =G21 -> 0 | H19: =H21 -> 0 | I19: =I21 -> -5454452
F20: այդ թվում՝
E21: 12001 | F21: Ընտանիքի կենսամակարդակի բարձրացմանն ուղղված նպաստներ | G21: =+G23 -> 0 | H21: =+H23 -> 0 | I21: =+I23 -> -5454452
F22: այդ թվում` ըստ կատարողների
F23: ՀՀ աշխատանքի և սոցիալական հարցերի նախարարության սոցիալական ապահովության ծառայություն | G23: =G29 -> 0 | H23: =H29 -> 0 | I23: =I29 -> -5454452
F24: այդ թվում` բյուջետային ծախսերի տնտեսագիտական դասակարգման հոդվածներ
F25: ԸՆԴԱՄԵՆԸ ԾԱԽՍԵՐ | G25: =G26 -> 0 | H25: =H26 -> 0 | I25: =I26 -> -5454452
F26: ԸՆԹԱՑԻԿ ԾԱԽՍԵՐ | G26: =G27 -> 0 | H26: =H27 -> 0 | I26: =I27 -> -5454452
F27: ՍՈՑԻԱԼԱԿԱՆ ՆՊԱՍՏՆԵՐ ԵՎ ԿԵՆՍԱԹՈՇԱԿՆԵՐ | G27: =G28 -> 0 | H27: =H28 -> 0 | I27: =I28 -> -5454452
F28: Սոցիալական օգնության դրամական արտահայտությամբ նպաստներ (բյուջեից) | G28: =G29 -> 0 | H28: =H29 -> 0 | I28: =I29 -> -5454452
F29: - Երեխաների կամ ընտանեկան նպաստներ բյուջեից | G29: ='2.'!D24 -> 0 | H29: ='2.'!E24 -> 0 | I29: ='2.'!F24 -> -5454452
B30: 09 | C30: 02 | F30: Սոցիալական պաշտպանությանը տրամադրվող օժանդակ ծառայություններ (այլ դասերին չպատկանող) | G30: =G32 -> 6454452 | H30: =H32 -> 6454452 | I30: =I32 -> 6454452
F31: այդ թվում`
D32: 1205 | F32: Սոցիալական ապահովություն | G32: =G34 -> 6454452 | H32: =H34 -> 6454452 | I32: =I34 -> 6454452
F33: այդ թվում`
E34: 12010 | F34: Ռազմական դրությամբ պայմանավորված միանվագ կամ պարբերական դրամական օգնություն Արցախում հաշվառված քաղաքացիներին | G34: =G36 -> 6454452 | H34: =H36 -> 6454452 | I34: =I36 -> 6454452
F35: այդ թվում` ըստ կատարողների
F36: ՀՀ աշխատանքի և սոցիալական հարցերի նախարարության սոցիալական ապահովության ծառայություն | G36: =G38 -> 6454452 | H36: =H38 -> 6454452 | I36: =I38 -> 6454452
F37: այդ թվում` բյուջետային ծախսերի տնտեսագիտական դասակարգման հոդվածներ
F38: ԸՆԴԱՄԵՆԸ ԾԱԽՍԵՐ | G38: =G40 -> 6454452 | H38: =H40 -> 6454452 | I38: =I40 -> 6454452
F39: ԸՆԹԱՑԻԿ ԾԱԽՍԵՐ
F40: ՍՈՑԻԱԼԱԿԱՆ ՆՊԱՍՏՆԵՐ ԵՎ ԿԵՆՍԱԹՈՇԱԿՆԵՐ | G40: =G41 -> 6454452 | H40: =H41 -> 6454452 | I40: =I41 -> 6454452
F41: - Այլ նպաստներ բյուջեից | G41: ='2.'!D50 -> 6454452 | H41: ='2.'!E50 -> 6454452 | I41: ='2.'!F50 -> 6454452
B42: 02 | F42: Ծերություն | G42: =G44 -> 0 | H42: =H44 -> 0 | I42: =I44 -> -1000000
F43: այդ թվում`
C44: 01 | F44: Ծերություն | G44: =G46 -> 0 | H44: =H46 -> 0 | I44: =I46 -> -1000000
F45: այդ թվում`
D46: 1102 | F46: Կենսաթոշակային ապահովություն | G46: =G48 -> 0 | H46: =H48 -> 0 | I46: =I48 -> -1000000
F47: այդ թվում՝
E48: 12005 | F48: Կուտակային հատկացումներ մասնակցի կենսաթոշակային հաշվին | G48: =+G50 -> 0 | H48: =+H50 -> 0 | I48: =+I50 -> -1000000
F49: այդ թվում` ըստ կատարողների
F50: ՀՀ պետական եկամուտների կոմիտե | G50: =G56 -> 0 | H50: =H56 -> 0 | I50: =I56 -> -1000000
F51: այդ թվում` բյուջետային ծախսերի տնտեսագիտական դասակարգման հոդվածներ
F52: ԸՆԴԱՄԵՆԸ ԾԱԽՍԵՐ | G52: =G53 -> 0 | H52: =H53 -> 0 | I52: =I53 -> -1000000
F53: ԸՆԹԱՑԻԿ ԾԱԽՍԵՐ | G53: =G54 -> 0 | H53: =H54 -> 0 | I53: =I54 -> -1000000
F54: ՍՈՑԻԱԼԱԿԱՆ ՆՊԱՍՏՆԵՐ ԵՎ ԿԵՆՍԱԹՈՇԱԿՆԵՐ | G54: =G55 -> 0 | H54: =H55 -> 0 | I54: =I55 -> -1000000
F55: Կենսաթոշակներ | G55: =G56 -> 0 | H55: =H56 -> 0 | I55: =I56 -> -1000000
F56: - Կենսաթոշակներ | G56: ='2.'!D37 -> 0 | H56: ='2.'!E37 -> 0 | I56: ='2.'!F37 -> -1000000

Sheet 4.
E1: Հավելված N 4
B2: ՀՀ կառավարության 2021 թվականի
B3: ______________ ի ___Ն որոշման
A6: ՀԱՅԱՍՏԱՆԻ ՀԱՆՐԱՊԵՏՈՒԹՅԱՆ ԿԱՌԱՎԱՐՈՒԹՅԱՆ 2020 ԹՎԱԿԱՆԻ ԴԵԿՏԵՄԲԵՐԻ 30-Ի N 2215-Ն ՈՐՈՇՄԱՆ N 9 ՀԱՎԵԼՎԱԾԻ 9․16 ԱՂՅՈՒՍԱԿՆԵՐՈՒՄ ԿԱՏԱՐՎՈՂ ՓՈՓՈԽՈՒԹՅՈՒՆՆԵՐԸ
A7: ՀՀ աշխատանքի և սոցիալական հարցերի նախարարություն
A9: ՄԱՍ 2. ՊԵՏԱԿԱՆ ՄԱՐՄՆԻ ԳԾՈՎ ԱՐԴՅՈՒՆՔԱՅԻՆ (ԿԱՏԱՐՈՂԱԿԱՆ) ՑՈՒՑԱՆԻՇՆԵՐԸ
A11: Ծրագրի դասիչը | B11: Ծրագրի անվանումը
A12: 1011 | B12: Անապահով սոցիալական խմբերին աջակցություն
A13: Ծրագրի միջոցառումները
A15: Ծրագրի դասիչը` | B15: 1011 | C15: Ցուցանիշների փոփոխությունները (Նվազեցումները նշված են փակագծերում)
A16: Միջոցառման դասիչը` | B16: 12001 | C16: Առաջին կիսամյակ | D16: Ինն ամիս | E16: Տարի
A17: Միջոցառման անվանումը` | B17: Ընտանիքի կենսամակարդակի բարձրացմանն ուղղված նպաստներ
A18: Նկարագրությունը` | B18: Ընտանիքների անապահովության գնահատման համակարգում հաշվառված, անապահով ճանաչված ընտանիքներին նպաստի, սոցիալական նպաստի և հրատապ օգնության տրամադրում
A19: Միջոցառման տեսակը` | B19: Տրանսֆերտների տրամադրում
A20: Շահառուների ընտրության չափանիշները | B20: Ընտանիքների անապահովության գնահատման համակարգում հաշվառված ընտանիք?ընտանիքի անապահովության միավորի հիման վրա
A21: Արդյունքի չափորոշիչներ
A22: Ընտանիքի կենսամակարդակի բարձրացմանն ուղղված նպաստներ ստացող ընտանիքների թիվ, հատ, այդ թվում
A23: Միջոցառման վրա կատարվող ծախսը (հազար դրամ) | C23: ='2.'!D24 -> 0 | D23: ='2.'!E24 -> 0 | E23: ='2.'!F24 -> -5454452
A26: Ծրագրի դասիչը | B26: Ծրագրի անվանումը
A27: 1102 | B27: Կենսաթոշակային ապահովություն
A29: Միջոցառման անվանումը` | B29: 1102 | C29: Ցուցանիշների փոփոխությունները (Նվազեցումները նշված են փակագծերում)
A30: Միջոցառման դասիչը` | B30: 12005 | C30: Առաջին կիսամյակ | D30: Ինն ամիս | E30: Տարի
A31: Միջոցառման անվանումը` | B31: Կուտակային հատկացումներ մասնակցի կենսաթոշակային հաշվին
A32: Նկարագրությունը` | B32: «Կուտակային կենսաթոշակների մասին» ՀՀ օրենքով սահմանված կարգով մասնակցի կենսաթոշակային հաշվին կուտակային հատկացումների կատարում
A33: Միջոցառման տեսակը` | B33: Տրանսֆերտների տրամադրում
A34: Շահառուների ընտրության չափանիշները | B34: Կուտակային կենսաթոշակային համակարգի մասնակիցներ
A35: Արդյունքի չափորոշիչներ
A36: Միջոցառման վրա կատարվող ծախսը (հազար դրամ) | C36: ='2.'!D37 -> 0 | D36: ='2.'!E37 -> 0 | E36: ='2.'!F37 -> -1000000
A40: Ծրագրի դասիչը | B40: Ծրագրի անվանումը
A41: 1205 | B41: Սոցիալական ապահովություն
A42: Ծրագրի միջոցառումները
A45: Միջոցառման անվանումը` | B45: ='[1]1'!A14 -> 1205 | C45: Ցուցանիշների փոփոխությունը (ավելացումները նշված են դրական նշանով
A46: Միջոցառման դասիչը` | B46: ='[1]1'!B27 -> 12010 | C46: Առաջին կիսամյակ | D46: Ինն ամիս | E46: Տարի
A47: Միջոցառման անվանումը` | B47: =+'3.'!F34 -> Ռազմական դրությամբ պայմանավորված միանվագ կամ պարբերական դրամական օգնություն Արցախում հաշվառված քաղաքացիներին
A48: Նկարագրությունը` | B48: =+'2.'!C48 -> Ադրբեջանի կողմից 2020 թվականի սեպտեմբերի 27-ին սանձազերծված պատերազմական գործողությունների հետևանքով տեղահանված և փաստացի Հայաստանի Հանրապետությունում գտնվող՝ Արցախում հաշվառված քաղաքացիներին սոցիալական աջակցության տրամադրում
A49: Միջոցառման տեսակը` | B49: ='[2]2'!C26 -> Տրանսֆերտների տրամադրում
A50: Շահառուների ընտրության չափանիշները | B50: ՀՀ Կառավարության 2021 թ․ փետրվարի 12 -ի թիվ 186 -Լ որոշման պահանջներին համապատասխան
A51: Արդյունքի չափորոշիչներ
A52: Փոխհատուցում ստացող շահառուների թվաքանակ | C52: 110000 | D52: =C52 -> 110000 | E52: =D52 -> 110000
A53: Միջոցառման վրա կատարվող ծախսը (հազար դրամ) | C53: ='2.'!D50 -> 6454452 | D53: ='2.'!E50 -> 6454452 | E53: ='2.'!F50 -> 6454452

Sheet 5.
E1: Հավելված N 5
B2: ՀՀ կառավարության 2021 թվականի
B3: ______________ ի ___Ն որոշման
A6: ՀԱՅԱՍՏԱՆԻ ՀԱՆՐԱՊԵՏՈՒԹՅԱՆ ԿԱՌԱՎԱՐՈՒԹՅԱՆ 2020 ԹՎԱԿԱՆԻ ԴԵԿՏԵՄԲԵՐԻ 30-Ի ԹԻՎ 2215-Ն ՈՐՈՇՄԱՆ N 9.1 ՀԱՎԵԼՎԱԾԻ N 9.1.20 ԱՂՅՈՒՍԱԿՆԵՐՈՒՄ ԿԱՏԱՐՎՈՂ ՓՈՓՈԽՈՒԹՅՈՒՆՆԵՐԸ
A9: ՀՀ աշխատանքի և սոցիալական հարցերի նախարարության սոցիալական ապահվության ծառայություն
A10: ՄԱՍ 1. ՊԵՏԱԿԱՆ ՄԱՐՄՆԻ ԳԾՈՎ ԱՐԴՅՈՒՆՔԱՅԻՆ (ԿԱՏԱՐՈՂԱԿԱՆ) ՑՈՒՑԱՆԻՇՆԵՐԸ
A12: Ծրագրի դասիչը | B12: Ծրագրի անվանումը
A13: 1011 | B13: Անապահով սոցիալական խմբերին աջակցություն
A14: Ծրագրի միջոցառումները
A16: Ծրագրի դասիչը` | B16: 1011 | C16: Ցուցանիշների փոփոխությունները (Նվազեցումները նշված են փակագծերում)
A17: Միջոցառման դասիչը` | B17: 12001 | C17: Առաջին կիսամյակ | D17: Ինն ամիս | E17: Տարի
A18: Միջոցառման անվանումը` | B18: Ընտանիքի կենսամակարդակի բարձրացմանն ուղղված նպաստներ
A19: Նկարագրությունը` | B19: Ընտանիքների անապահովության գնահատման համակարգում հաշվառված, անապահով ճանաչված ընտանիքներին նպաստի, սոցիալական նպաստի և հրատապ օգնության տրամադրում
A20: Միջոցառման տեսակը` | B20: Տրանսֆերտների տրամադրում
A21: Շահառուների ընտրության չափանիշները | B21: Ընտանիքների անապահովության գնահատման համակարգում հաշվառված ընտանիք?ընտանիքի անապահովության միավորի հիման վրա
A22: Արդյունքի չափորոշիչներ
A23: Ընտանիքի կենսամակարդակի բարձրացմանն ուղղված նպաստներ ստացող ընտանիքների թիվ, հատ, այդ թվում
A24: Միջոցառման վրա կատարվող ծախսը (հազար դրամ) | C24: ='2.'!D24 -> 0 | D24: ='2.'!E24 -> 0 | E24: ='2.'!F24 -> -5454452
A27: Ծրագրի դասիչը | B27: Ծրագրի անվանումը
A28: 1102 | B28: Կենսաթոշակային ապահովություն
A30: Միջոցառման անվանումը` | B30: 1102 | C30: Ցուցանիշների փոփոխությունները (Նվազեցումները նշված են փակագծերում)
A31: Միջոցառման դասիչը` | B31: 12005 | C31: Առաջին կիսամյակ | D31: Ինն ամիս | E31: Տարի
A32: Միջոցառման անվանումը` | B32: Կուտակային հատկացումներ մասնակցի կենսաթոշակային հաշվին
A33: Նկարագրությունը` | B33: «Կուտակային կենսաթոշակների մասին» ՀՀ օրենքով սահմանված կարգով մասնակցի կենսաթոշակային հաշվին կուտակային հատկացումների կատարում
A34: Միջոցառման տեսակը` | B34: Տրանսֆերտների տրամադրում
A35: Շահառուների ընտրության չափանիշները | B35: Կուտակային կենսաթոշակային համակարգի մասնակիցներ
A36: Արդյունքի չափորոշիչներ
A37: Միջոցառման վրա կատարվող ծախսը (հազար դրամ) | C37: ='2.'!D37 -> 0 | D37: ='2.'!E37 -> 0 | E37: ='2.'!F37 -> -1000000
A41: Ծրագրի դասիչը | B41: Ծրագրի անվանումը
A42: 1205 | B42: Սոցիալական ապահովություն
A43: Ծրագրի միջոցառումները
A46: Միջոցառման անվանումը` | B46: ='[1]1'!A14 -> 1205 | C46: Ցուցանիշների փոփոխությունը (ավելացումները նշված են դրական նշանով
A47: Միջոցառման դասիչը` | B47: ='[1]1'!B27 -> 12010 | C47: Առաջին կիսամյակ | D47: Ինն ամիս | E47: Տարի
A48: Միջոցառման անվանումը` | B48: =+'3.'!F34 -> Ռազմական դրությամբ պայմանավորված միանվագ կամ պարբերական դրամական օգնություն Արցախում հաշվառված քաղաքացիներին
A49: Նկարագրությունը` | B49: =+'2.'!C48 -> Ադրբեջանի կողմից 2020 թվականի սեպտեմբերի 27-ին սանձազերծված պատերազմական գործողությունների հետևանքով տեղահանված և փաստացի Հայաստանի Հանրապետությունում գտնվող՝ Արցախում հաշվառված քաղաքացիներին սոցիալական աջակցության տրամադրում
A50: Միջոցառման տեսակը` | B50: ='[2]2'!C26 -> Տրանսֆերտների տրամադրում
A51: Շահառուների ընտրության չափանիշները | B51: ՀՀ Կառավարության 2021 թ․ փետրվարի 12 -ի թիվ 186 -Լ որոշման պահանջներին համապատասխան
A52: Արդյունքի չափորոշիչներ
A53: Փոխհատուցում ստացող շահառուների թվաքանակ | C53: 110000 | D53: =C53 -> 110000 | E53: =D53 -> 110000
A54: Միջոցառման վրա կատարվող ծախսը (հազար դրամ) | C54: ='2.'!D50 -> 6454452 | D54: ='2.'!E50 -> 6454452 | E54: ='2.'!F50 -> 6454452
