Workbook

Sheet Հավելված 1
F1: Հավելված N 1
A2: «ՀԱՅԱՍՏԱՆԻ ՀԱՆՐԱՊԵՏՈՒԹՅԱՆ 2021 ԹՎԱԿԱՆԻ ՊԵՏԱԿԱՆ ԲՅՈՒՋԵԻ ՄԱՍԻՆ» ՀԱՅԱՍՏԱՆԻ ՀԱՆՐԱՊԵՏՈՒԹՅԱՆ OՐԵՆՔԻ N 1 ՀԱՎԵԼՎԱԾԻ N 2 ԱՂՅՈՒՍԱԿՈՒՄ ԿԱՏԱՐՎՈՂ ՎԵՐԱԲԱՇԽՈՒՄԸ ԵՎ ՀԱՅԱՍՏԱՆԻ ՀԱՆՐԱՊԵՏՈՒԹՅԱՆ ԿԱՌԱՎԱՐՈՒԹՅԱՆ 2020 ԹՎԱԿԱՆԻ ԴԵԿՏԵՄԲԵՐԻ 30-Ի N 2215-Ն ՈՐՈՇՄԱՆ N 5 ՀԱՎԵԼՎԱԾԻ N 1 ԱՂՅՈՒՍԱԿՈՒՄ ԿԱՏԱՐՎՈՂ ՓՈՓՈԽՈՒԹՅՈՒՆՆԵՐԸ
F3: հազ.դրամ.
A4: Ծրագրային դասիչը | C4: Բյուջետային հատկացումների գլխավոր կարգադրիչների, ծրագրերի և միջոցառումների անվանումները | D4: Ցուցանիշների փոփոխությունը (ավելացումները նշված են դրական նշանով, իսկ նվազեցումները նշված են փակագծերում)
D5: Առաջին կիսամյակ | E5: Ինն ամիս | F5: Տարի
A6: Ծրագիր | B6: Միջոցառում
A7: Ծրագիր | B7: Միջոցառում
C8: ԸՆԴԱՄԵՆԸ | D8: 0 | E8: 0 | F8: 0
C9: ՀՀ սահմանադրական դատարան | D9: -2700 | E9: -2700 | F9: -2700
A10: 1092 | C10: Ծրագրի անվանումը` | D10: -2700 | E10: -2700 | F10: -2700
C11: ՀՀ սահմանադրական դատարանի գործունեության ապահովում
C12: Ծրագրի նպատակը`
C13: ՀՀ-ում սահմանադրական արդարադատության իրականացում և սահմանադրության գերակայության ապահովում
C14: Վերջնական արդյունքի նկարագրությունը`
C15: ՀՀ-ում սահմանադրականության, քաղաքացիների և կազմակերպությունների իրավունքի ապահովումը
A16: Ծրագրի միջոցառումներ
B17: 11001 | C17: Միջոցառման անվանումը` | D17: -2700 | E17: -2700 | F17: -2700
C18: ՀՀ սահմանադրական դատարանի գործունեության և սահմանադրական արդարադատության ապահովում
C19: Միջոցառման նկարագրությունը`
C20: Վեճերի քննում, լուծում և որոշումների կայացում ՀՀ սահմանադրությանը համապատասխանության վերաբերյալ
C21: Միջոցառման տեսակը
C22: Ծառայությունների մատուցում
C23: ՀՀ արդարադատության նախարարություն | D23: -5223.7 | E23: -5223.7 | F23: -5223.7
A24: 1057 | C24: Ծրագրի անվանումը` | D24: -5223.7 | E24: -5223.7 | F24: -5223.7
C25: Արդարադատության ոլորտում քաղաքականության մշակում, ծրագրերի համակարգում, խորհրդատվության և մոնիտորինգի իրականացում
C26: Ծրագրի նպատակը`
C27: Արդարադատության ոլորտում քաղաքականության, խորհրդատվության, մոնիտորինգի, գնման և աջակցության իրականացում
C28: Վերջնական արդյունքի նկարագրությունը`
C29: Արդարադատության քաղաքականության իրագործմանն ուղղված ծրագրերի արդյունավետության բարելավում
A30: Ծրագրի միջոցառումներ
B31: 11001 | C31: Միջոցառման անվանումը` | D31: -5223.7 | E31: -5223.7 | F31: -5223.7
C32: Արդարադատության ոլորտում քաղաքականության, խորհրդատվության, մոնիտորինգի, գնման և աջակցության իրականացում
C33: Միջոցառման նկարագրությունը`
C34: Ոլորտի քաղաքականության, խորհրդատվության, մոնիտորինգի, արդարադատության ծրագրերի համակարգման ծառայություններ
C35: Միջոցառման տեսակը
C36: Ծառայությունների մատուցում
C37: ՀՀ արտաքին գործերի նախարարություն | D37: -58750 | E37: -58750 | F37: -58750
A38: 1061 | C38: Ծրագրի անվանումը` | D38: -52750 | E38: -52750 | F38: -52750
C39: Արտաքին գործերի ոլորտում Կառավարության քաղաքականության մշակում և իրականացում
C40: Ծրագրի նպատակը`
...

Sheet Հավելված 2
I1: Հավելված N 2
A3: ՀԱՅԱՍՏԱՆԻ ՀԱՆՐԱՊԵՏՈՒԹՅԱՆ ԿԱՌԱՎԱՐՈՒԹՅԱՆ 2020 ԹՎԱԿԱՆԻ ԴԵԿՏԵՄԲԵՐԻ 30-Ի N 2215-Ն ՈՐՈՇՄԱՆ N 3 ՀԱՎԵԼՎԱԾԻ ԱՂՅՈՒՍԱԿՆԵՐՈՒՄ ԿԱՏԱՐՎՈՂ ՓՈՓՈԽՈՒԹՅՈՒՆՆԵՐԸ
I5: հազ.դրամ.
A6: Գործառական դասիչը | D6: Ծրագրային դասիչը | G6: Ցուցանիշների փոփոխությունը (ավելացումները նշված են դրական նշանով, իսկ նվազեցումները նշված են փակագծերում)
F7: Բյուջետային ծախսերի գործառական դասակարգման բաժինների, խմբերի և դասերի, բյուջետային ծրագրերի միջոցառումների, բյուջետային հատկացումների գլխավոր կարգադրիչների անվանումները | G7: Առաջին կիսամյակ | H7: Ինն ամիս | I7: Տարի
A8: Բաժին | B8: Խումբ | C8: Դաս | D8: Ծրագիր | E8: Միջոցա ռում
F9: ԸՆԴԱՄԵՆԸ ԾԱԽՍԵՐ | G9: 0 | H9: 0 | I9: 0
F10: այդ թվում`
A11: 01 | F11: ԸՆԴՀԱՆՈՒՐ ԲՆՈՒՅԹԻ ՀԱՆՐԱՅԻՆ ԾԱՌԱՅՈՒԹՅՈՒՆՆԵՐ | G11: =G13+G33+G41 -> -108578.3 | H11: =H13+H33+H41 -> -105670.9 | I11: =I13+I33+I41 -> -122670.9
F12: այդ թվում`
B13: 01 | F13: Օրենսդիր և գործադիր մարմիններ, պետական կառավարում, ֆինանսական և հարկաբյուջետային հարաբերություններ, արտաքին հարաբերություններ | G13: =G15+G27 -> -36487.3 | H13: =H15+H27 -> -33579.9 | I13: =I15+I27 -> -33579.9
F14: այդ թվում`
C15: 01 | F15: Օրենսդիր և գործադիր մարմիններ, պետական կառավարում | G15: -10487.3 | H15: -7579.9001 | I15: -7579.9001
F16: այդ թվում`
D17: 1047 | E17: 11001 | F17: ՀՀ Սյունիքի մարզպետարանի կողմից տարածքային պետական կառավարման ապահովում | G17: -590.7 | H17: -590.7 | I17: -590.7
F18: ՀՀ Սյունիքի մարզպետարան | G18: -590.7 | H18: -590.7 | I18: -590.7
D19: 1051 | E19: 11001 | F19: ՀՀ Վայոց ձորի մարզպետարանի կողմից տարածքային պետական կառավարման ապահովում | G19: -1740.7 | H19: -1740.7 | I19: -1740.7
F20: ՀՀ Վայոց ձորի մարզպետարան | G20: -1740.7 | H20: -1740.7 | I20: -1740.7
D21: 1055 | E21: 11001 | F21: ՀՀ Տավուշի մարզպետարանի կողմից տարածքային պետական կառավարման ապահովում | G21: -24.8 | H21: -24.8 | I21: -24.8
F22: ՀՀ Տավուշի մարզպետարան | G22: -24.8 | H22: -24.8 | I22: -24.8
D23: 1057 | E23: 11001 | F23: Արդարադատության ոլորտում քաղաքականության, խորհրդատվության, մոնիտորինգի, գնման և աջակցության իրականացում | G23: -5223.7 | H23: -5223.7 | I23: -5223.7
F24: ՀՀ արդարադատության նախարարություն | G24: -5223.7 | H24: -5223.7 | I24: -5223.7
D25: 1203 | E25: 31001 | F25: ՀՀ պետական վերահսկողական ծառայության տեխնիկական հագեցվածության բարելավում | G25: -2907.4 | H25: 0 | I25: 0
F26: ՀՀ պետական վերահսկողական ծառայություն | G26: -2907.4 | H26: 0 | I26: 0
C27: 03 | F27: Արտաքին հարաբերություններ | G27: -26000 | H27: -26000 | I27: -26000
F28: այդ թվում`
D29: 1061 | E29: 11001 | F29: Կառավարության արտաքին քաղաքականության մշակում և իրագործման ապահովում | G29: -20000 | H29: -20000 | I29: -20000
F30: ՀՀ արտաքին գործերի նախարարություն | G30: -20000 | H30: -20000 | I30: -20000
D31: 1178 | E31: 11001 | F31: Հայաստանի Հանրապետությունում և օտարերկրյա պետություններում արարողակարգային միջոցառումների իրականացում | G31: -6000 | H31: -6000 | I31: -6000
F32: ՀՀ արտաքին գործերի նախարարություն | G32: -6000 | H32: -6000 | I32: -6000
B33: 03 | F33: Ընդհանուր բնույթի ծառայություններ | G33: -69000 | H33: -69000 | I33: -86000
F34: այդ թվում`
C35: 02 | F35: Ծրագրման և վիճակագրական ընդհանուր ծառայություններ | G35: -69000 | H35: -69000 | I35: -86000
F36: այդ թվում`
D37: 1043 | E37: 11007 | F37: Շուկաների զարգացում և միջազգային համագործակցություն | G37: -18000 | H37: -18000 | I37: -18000
F38: ՀՀ բարձր տեխնոլոգիական արդյունաբերության նախարարություն | G38: -18000 | H38: -18000 | I38: -18000
D39: 1043 | E39: 11008 | F39: «Կորոնավիրուսի (COVID-19) տնտեսական հետևանքների չեզոքացման 17-րդ միջոցառման շրջանակներում աջակցության տրամադրում» | G39: -51000 | H39: -51000 | I39: -68000
F40: ՀՀ բարձր տեխնոլոգիական արդյունաբերության նախարարություն | G40: -51000 | H40: -51000 | I40: -68000
B41: 06 | F41: Ընդհանուր բնույթի հանրային ծառայություններ (այլ դասերին չպատկանող) | G41: -3091 | H41: -3091 | I41: -3091
F42: այդ թվում`
...

Sheet Հավելված 3.
G1: Հավելված N 3
A3: ՀԱՅԱՍՏԱՆԻ ՀԱՆՐԱՊԵՏՈՒԹՅԱՆ ԿԱՌԱՎԱՐՈՒԹՅԱՆ 2020 ԹՎԱԿԱՆԻ ԴԵԿՏԵՄԲԵՐԻ 30-Ի N 2215-Ն ՈՐՈՇՄԱՆ N 4 ՀԱՎԵԼՎԱԾԻ ԱՂՅՈՒՍԱԿՆԵՐՈՒՄ ԿԱՏԱՐՎՈՂ ՓՈՓՈԽՈՒԹՅՈՒՆՆԵՐԸ
F6: հազ.դրամ.
A7: Ծրագրային դասիչը | D7: Ցուցանիշների փոփոխությունը (ավելացումները նշված են դրական նշանով, իսկ նվազեցումները նշված են փակագծերում)
C8: Բյուջետային հատկացումների գլխավոր կարգադրիչների, ծրագրերի, միջոցառումների և միջոցառումները կատարող պետական մարմինների անվանումները | D8: Առաջին կիսամյակ | E8: Ինն ամիս | F8: Տարի
A9: Ծրագիր | B9: Միջոց առում
C10: ԸՆԴԱՄԵՆԸ | D10: 0 | E10: 0 | F10: 0
C11: այդ թվում`
C12: ՀՀ սահմանադրական դատարան | D12: -2700 | E12: -2700 | F12: -2700
C13: այդ թվում`
A14: 1092 | C14: ՀՀ սահմանադրական դատարանի գործունեության ապահովում | D14: -2700 | E14: -2700 | F14: -2700
C15: այդ թվում`
B16: 11001 | C16: ՀՀ սահմանադրական դատարանի գործունեության և սահմանադրական արդարադատության ապահովում | D16: -2700 | E16: -2700 | F16: -2700
C17: այդ թվում` ըստ կատարողների
C18: ՀՀ սահմանադրական դատարան | D18: -2700 | E18: -2700 | F18: -2700
C19: այդ թվում` բյուջետային ծախսերի տնտեսագիտական դասակարգման հոդվածներ
C20: ԸՆԴԱՄԵՆԸ ԾԱԽՍԵՐ | D20: -2700 | E20: -2700 | F20: -2700
C21: ԸՆԹԱՑԻԿ ԾԱԽՍԵՐ | D21: -2700 | E21: -2700 | F21: -2700
C22: ԾԱՌԱՅՈՒԹՅՈՒՆՆԵՐԻ ԵՎ ԱՊՐԱՆՔՆԵՐԻ ՁԵՌՔԲԵՐՈՒՄ | D22: -2700 | E22: -2700 | F22: -2700
C23: Շարունակական ծախսեր | D23: -300 | E23: -300 | F23: -300
C24: - Կապի ծառայություններ | D24: -300 | E24: -300 | F24: -300
C25: Ծառայողական գործուղումների գծով ծախսեր | D25: -1400 | E25: -1400 | F25: -1400
C26: - Արտասահմանյան գործուղումների գծով ծախսեր | D26: -1400 | E26: -1400 | F26: -1400
C27: Պայմանագրային այլ ծառայությունների ձեռքբերում | D27: -1000 | E27: -1000 | F27: -1000
C28: - Ներկայացուցչական ծախսեր | D28: -1000 | E28: -1000 | F28: -1000
C29: ՀՀ արդարադատության նախարարություն | D29: -5223.7 | E29: -5223.7 | F29: -5223.7
C30: այդ թվում`
A31: 1057 | C31: Արդարադատության ոլորտում քաղաքականության մշակում, ծրագրերի համակարգում, խորհրդատվության և մոնիտորինգի իրականացում | D31: -5223.7 | E31: -5223.7 | F31: -5223.7
C32: այդ թվում`
B33: 11001 | C33: Արդարադատության ոլորտում քաղաքականության, խորհրդատվության, մոնիտորինգի, գնման և աջակցության իրականացում | D33: -5223.7 | E33: -5223.7 | F33: -5223.7
C34: այդ թվում` ըստ կատարողների
C35: ՀՀ արդարադատության նախարարություն | D35: -5223.7 | E35: -5223.7 | F35: -5223.7
C36: այդ թվում` բյուջետային ծախսերի տնտեսագիտական դասակարգման հոդվածներ
C37: ԸՆԴԱՄԵՆԸ ԾԱԽՍԵՐ | D37: -5223.7 | E37: -5223.7 | F37: -5223.7
C38: ԸՆԹԱՑԻԿ ԾԱԽՍԵՐ | D38: -5223.7 | E38: -5223.7 | F38: -5223.7
C39: ԾԱՌԱՅՈՒԹՅՈՒՆՆԵՐԻ ԵՎ ԱՊՐԱՆՔՆԵՐԻ ՁԵՌՔԲԵՐՈՒՄ | D39: -5223.7 | E39: -5223.7 | F39: -5223.7
C40: Շարունակական ծախսեր | D40: -92.7 | E40: -92.7 | F40: -92.7
C41: - Գույքի և սարքավորումների վարձակալություն | D41: -16.7 | E41: -16.7 | F41: -16.7
C42: - Արտագերատեսչական ծախսեր | D42: -76 | E42: -76 | F42: -76
C43: Պայմանագրային այլ ծառայությունների ձեռքբերում | D43: -3050.5 | E43: -3050.5 | F43: -3050.5
...

Sheet Հավելված 4.
F1: Հավելված N 4
D2: Աղյուսակ N 1
A4: ՀԱՅԱՍՏԱՆԻ ՀԱՆՐԱՊԵՏՈՒԹՅԱՆ ԿԱՌԱՎԱՐՈՒԹՅԱՆ 2020 ԹՎԱԿԱՆԻ ԴԵԿՏԵՄԲԵՐԻ 30-Ի N 2215-Ն ՈՐՈՇՄԱՆ N 5 ՀԱՎԵԼՎԱԾԻ N 2 ԱՂՅՈՒՍԱԿՈՒՄ ԿԱՏԱՐՎՈՂ ՓՈՓՈԽՈՒԹՅՈՒՆՆԵՐԸ
E5: հազ.դրամ.
A6: Ծրագրային դասիչ | D6: Ցուցանիշների փոփոխությունը (նվազեցումները նշված են փակագծերում)
C7: Բյուջետային գլխավոր կարգադրիչների, ծրագրերի, միջոցառումների և ուղղությունների անվանումները | D7: Առաջին կիսամյակ | E7: Ինն ամիս | F7: Տարի
B8: Միջոցառում
C9: ԸՆԴԱՄԵՆԸ | D9: =D13 -> -2907.4 | E9: =E13 -> 0 | F9: =F13 -> 0
C10: այդ թվում՝
C13: ՀՀ ՊԵՏԱԿԱՆ ՎԵՐԱՀՍԿՈՂԱԿԱՆ ԾԱՌԱՅՈՒԹՅՈՒՆ | D13: =+D15 -> -2907.4 | E13: =+E15 -> 0 | F13: =+F15 -> 0
C14: այդ թվում`
A15: 1203 | B15: 31001 | C15: ՀՀ պետական վերահսկողական ծառայության տեխնիկական հագեցվածության բարելավում | D15: =+D17 -> -2907.4 | E15: =+E17 -> 0 | F15: =+F17 -> 0
C16: այդ թվում` ըստ կատարողների
C17: ՀՀ պետական վերահսկողական ծառայություն | D17: -2907.4 | E17: 0 | F17: 0

Sheet  Հավելված 5
G1: Հավելված 5
F2: ՀՀ կառավարության 2021 թվականի -ի N -Ն որոշման
B3: ՀԱՅԱՍՏԱՆԻ ՀԱՆՐԱՊԵՏՈՒԹՅԱՆ ԿԱՌԱՎԱՐՈՒԹՅԱՆ 2020 ԹՎԱԿԱՆԻ ԴԵԿՏԵՄԲԵՐԻ 30-Ի N 2215-Ն ՈՐՈՇՄԱՆ N 5 ՀԱՎԵԼՎԱԾԻ 7-ՐԴ ԱՂՅՈՒՍԱԿՈՒՄ ԿԱՏԱՐՎՈՂ ՓՈՓԽՈՒԹՅՈՒՆՆԵՐԸ
F4: հազար դրամներով
A5: Ծրագրային դասիչ | C5: Բյուջետային հատկացումների գլխավոր կարգադրիչների, ծրագրերի, միջոցառումների, ծախսային ուղղությունների անվանումները | F5: Միջոցառումները կատարող պետական մարմինների և դրամաշնորհ ստացող տնտեսվարող սուբյեկտների անվանումները | G5: Տարի
G6: Ցուցանիշների փոփոխությունը (նվազեցումները նշված են փակագծերում)
A7: Ծրագիր | B7: Միջոցառում
A8: 1 | B8: 2 | C8: 3 | F8: 4 | G8: 5
A9: ՀՀ բարձր տեխնոլոգիական արդյունաբերության նախարարություն | G9: -68000
A10: 1043 | B10: Բարձր տեխնոլոգիական արդյունաբերության էկոհամակարգի և շուկայի զարգացման ծրագիր | G10: -68000
B11: 11008 | C11: «Կորոնավիրուսի (COVID-19) տնտեսական հետևանքների չեզոքացման 17-րդ միջոցառման շրջանակներում աջակցության տրամադրում» | F11: ՀՀ բարձր տեխնոլոգիական արդյունաբերության նախարարություն | G11: -68000
F12: Մասնագիտացված կազմակերպություն | G12: -68000

Sheet Հավելված 6
E2: Հավելված N 6
A4: ՀԱՅԱՍՏԱՆԻ ՀԱՆՐԱՊԵՏՈՒԹՅԱՆ ԿԱՌԱՎԱՐՈՒԹՅԱՆ 2020 ԹՎԱԿԱՆԻ ԴԵԿՏԵՄԲԵՐԻ 30-Ի N 2215-Ն ՈՐՈՇՄԱՆ N 9 ՀԱՎԵԼՎԱԾՈՒՄ ԿԱՏԱՐՎՈՂ ՓՈՓՈԽՈՒԹՅՈՒՆՆԵՐԸ
C6: Ցուցանիշների փոփոխությունը ( ավելացումները նշված են դրական նշանով, իսկ նվազեցումները նշված են փակագծերում)
D7: Աղյուսակ 9.4
A8: ՀՀ սահմանադրական դատարան
A9: ՄԱՍ 2. ՊԵՏԱԿԱՆ ՄԱՐՄՆԻ ԳԾՈՎ ԱՐԴՅՈՒՆՔԱՅԻՆ (ԿԱՏԱՐՈՂԱԿԱՆ) ՑՈՒՑԱՆԻՇՆԵՐԸ
A11: Ծրագրի դասիչը | B11: Ծրագրի անվանումը
A12: 1092 | B12: ՀՀ սահմանադրական դատարանի գործունեության ապահովում
A14: Ծրագրի միջոցառումները
A16: Ծրագրի դասիչը` | B16: 1092
A17: Միջոցառման դասիչը` | B17: 11001 | C17: Առաջին կիսամյակ | D17: Ինն ամիս | E17: Տարի
A18: Միջոցառման անվանումը` | B18: ՀՀ սահմանադրական դատարանի գործունեության և սահմանադրական արդարադատության ապահովում
A19: Նկարագրությունը` | B19: Վեճերի քննում, լուծում և որոշումների կայացում ՀՀ սահմանադրությանը համապատասխանության վերաբերյալ
A20: Միջոցառման տեսակը` | B20: Ծառայությունների մատուցում
A21: Ծառայությունը մատուցող կազմակերպության(ների) անվանում(ներ)ը | B21: ՀՀ սահմանադրական դատարան
A22: Արդյունքի չափորոշիչներ
A23: Միջոցառման վրա կատարվող ծախսը (հազար դրամ) | C23: -2700 | D23: -2700 | E23: -2700
D26: Աղյուսակ 9.10
A27: ՀՀ արդարադատության նախարարություն
A28: ՄԱՍ 2. ՊԵՏԱԿԱՆ ՄԱՐՄՆԻ ԳԾՈՎ ԱՐԴՅՈՒՆՔԱՅԻՆ (ԿԱՏԱՐՈՂԱԿԱՆ) ՑՈՒՑԱՆԻՇՆԵՐԸ
A30: Ծրագրի դասիչը | B30: Ծրագրի անվանումը
A31: 1057 | B31: Արդարադատության ոլորտում քաղաքականության մշակում, ծրագրերի համակարգում, խորհրդատվության և մոնիտորինգի իրականացում
A33: Ծրագրի միջոցառումները
A35: Ծրագրի դասիչը` | B35: 1057
A36: Միջոցառման դասիչը` | B36: 11001 | C36: Առաջին կիսամյակ | D36: Ինն ամիս | E36: Տարի
A37: Միջոցառման անվանումը` | B37: Արդարադատության ոլորտում քաղաքականության, խորհրդատվության, մոնիտորինգի, գնման և աջակցության իրականացում
A38: Նկարագրությունը` | B38: Ոլորտի քաղաքականության, խորհրդատվության, մոնիտորինգի, արդարադատության ծրագրերի համակարգման ծառայություններ
A39: Միջոցառման տեսակը` | B39: Ծառայությունների մատուցում
A40: Ծառայությունը մատուցող կազմակերպության(ների) անվանում(ներ)ը | B40: ՀՀ արդարադատության նախարարություն
A41: Արդյունքի չափորոշիչներ
A42: Միջոցառման վրա կատարվող ծախսը (հազար դրամ) | C42: -5223.7 | D42: -5223.7 | E42: -5223.7
D45: Աղյուսակ 9.12
A46: ՀՀ արտաքին գործերի նախարարություն
A47: ՄԱՍ 2. ՊԵՏԱԿԱՆ ՄԱՐՄՆԻ ԳԾՈՎ ԱՐԴՅՈՒՆՔԱՅԻՆ (ԿԱՏԱՐՈՂԱԿԱՆ) ՑՈՒՑԱՆԻՇՆԵՐԸ
A49: Ծրագրի դասիչը | B49: Ծրագրի անվանումը
A50: 1061 | B50: Արտաքին գործերի ոլորտում Կառավարության քաղաքականության մշակում և իրականացում
A52: Ծրագրի միջոցառումները
A54: Ծրագրի դասիչը` | B54: 1061
A55: Միջոցառման դասիչը` | B55: 11001 | C55: Առաջին կիսամյակ | D55: Ինն ամիս | E55: Տարի
A56: Միջոցառման անվանումը` | B56: Կառավարության արտաքին քաղաքականության մշակում և իրագործման ապահովում
...

Sheet Հավելված 7
D2: Հավելված N 7
A4: ՀԱՅԱՍՏԱՆԻ ՀԱՆՐԱՊԵՏՈՒԹՅԱՆ ԿԱՌԱՎԱՐՈՒԹՅԱՆ 2020 ԹՎԱԿԱՆԻ ԴԵԿՏԵՄԲԵՐԻ 30-Ի N 2215-Ն ՈՐՈՇՄԱՆ N 9.1 ՀԱՎԵԼՎԱԾՈՒՄ ԿԱՏԱՐՎՈՂ ՓՈՓՈԽՈՒԹՅՈՒՆՆԵՐԸ
C6: Ցուցանիշների փոփոխությունը ( ավելացումները նշված են դրական նշանով, իսկ նվազեցումները նշված են փակագծերում)
D7: Աղյուսակ 9.1.4
A8: ՀՀ սահմանադրական դատարան
A9: ՄԱՍ 1. ՊԵՏԱԿԱՆ ՄԱՐՄՆԻ ԳԾՈՎ ԱՐԴՅՈՒՆՔԱՅԻՆ (ԿԱՏԱՐՈՂԱԿԱՆ) ՑՈՒՑԱՆԻՇՆԵՐԸ
A11: Ծրագրի դասիչը | B11: Ծրագրի անվանումը
A12: 1092 | B12: ՀՀ սահմանադրական դատարանի գործունեության ապահովում
A14: Ծրագրի միջոցառումները
A16: Ծրագրի դասիչը` | B16: 1092
A17: Միջոցառման դասիչը` | B17: 11001 | C17: Առաջին կիսամյակ | D17: Ինն ամիս | E17: Տարի
A18: Միջոցառման անվանումը` | B18: ՀՀ սահմանադրական դատարանի գործունեության և սահմանադրական արդարադատության ապահովում
A19: Նկարագրությունը` | B19: Վեճերի քննում, լուծում և որոշումների կայացում ՀՀ սահմանադրությանը համապատասխանության վերաբերյալ
A20: Միջոցառման տեսակը` | B20: Ծառայությունների մատուցում
A21: Ծառայությունը մատուցող կազմակերպության(ների) անվանում(ներ)ը | B21: ՀՀ սահմանադրական դատարան
A22: Արդյունքի չափորոշիչներ
A23: Միջոցառման վրա կատարվող ծախսը (հազար դրամ) | C23: -2700 | D23: -2700 | E23: -2700
D26: Աղյուսակ 9.1.10
A27: ՀՀ արդարադատության նախարարություն
A28: ՄԱՍ 1. ՊԵՏԱԿԱՆ ՄԱՐՄՆԻ ԳԾՈՎ ԱՐԴՅՈՒՆՔԱՅԻՆ (ԿԱՏԱՐՈՂԱԿԱՆ) ՑՈՒՑԱՆԻՇՆԵՐԸ
A30: Ծրագրի դասիչը | B30: Ծրագրի անվանումը
A31: 1057 | B31: Արդարադատության ոլորտում քաղաքականության մշակում, ծրագրերի համակարգում, խորհրդատվության և մոնիտորինգի իրականացում
A33: Ծրագրի միջոցառումները
A35: Ծրագրի դասիչը` | B35: 1057
A36: Միջոցառման դասիչը` | B36: 11001 | C36: Առաջին կիսամյակ | D36: Ինն ամիս | E36: Տարի
A37: Միջոցառման անվանումը` | B37: Արդարադատության ոլորտում քաղաքականության, խորհրդատվության, մոնիտորինգի, գնման և աջակցության իրականացում
A38: Նկարագրությունը` | B38: Ոլորտի քաղաքականության, խորհրդատվության, մոնիտորինգի, արդարադատության ծրագրերի համակարգման ծառայություններ
A39: Միջոցառման տեսակը` | B39: Ծառայությունների մատուցում
A40: Ծառայությունը մատուցող կազմակերպության(ների) անվանում(ներ)ը | B40: ՀՀ արդարադատության նախարարություն
A41: Արդյունքի չափորոշիչներ
A42: Միջոցառման վրա կատարվող ծախսը (հազար դրամ) | C42: -5223.7 | D42: -5223.7 | E42: -5223.7
D45: Աղյուսակ 9.1.12
A46: ՀՀ արտաքին գործերի նախարարություն
A47: ՄԱՍ 2. ՊԵՏԱԿԱՆ ՄԱՐՄՆԻ ԳԾՈՎ ԱՐԴՅՈՒՆՔԱՅԻՆ (ԿԱՏԱՐՈՂԱԿԱՆ) ՑՈՒՑԱՆԻՇՆԵՐԸ
A49: Ծրագրի դասիչը | B49: Ծրագրի անվանումը
A50: 1061 | B50: Արտաքին գործերի ոլորտում Կառավարության քաղաքականության մշակում և իրականացում
A52: Ծրագրի միջոցառումները
A54: Ծրագրի դասիչը` | B54: 1061
A55: Միջոցառման դասիչը` | B55: 11001 | C55: Առաջին կիսամյակ | D55: Ինն ամիս | E55: Տարի
A56: Միջոցառման անվանումը` | B56: Կառավարության արտաքին քաղաքականության մշակում և իրագործման ապահովում
...

Sheet Հավելված N 8
G1: Հավելված N 8
A4: ՀԱՅԱՍՏԱՆԻ ՀԱՆՐԱՊԵՏՈՒԹՅԱՆ ԿԱՌԱՎԱՐՈՒԹՅԱՆ 2020 ԹՎԱԿԱՆԻ ԴԵԿՏԵՄԲԵՐԻ 30-Ի N 2215-Ն ՈՐՈՇՄԱՆ N 10 ՀԱՎԵԼՎԱԾՈՒՄ ԿԱՏԱՐՎՈՂ ՓՈՓՈԽՈՒԹՅՈՒՆՆԵՐԸ
A8: Կոդը | B8: Անվանումը | C8: Գնման ձևը | D8: Չափման միավորը | E8: Ցուցանիշների փոփոխությունը (ավելացումները նշված են դրական նշանով, իսկ նվազեցումները` փակագծերում)
E9: միավորի գինը (դրամով) | F9: քանակը | G9: գումարը (հազար դրամով)
G10: =G11+G46+G57+G63+G101+G107+G95+G36+G18+G24 -> -82044.9
B11: ՀՀ սահմանադրական դատարան | G11: =G12 -> -1300
A12: Բաժին N03 | B12: Խումբ N03 Դաս N01 | C12: Դատարաններ | G12: =G13 -> -1300
A13: 1092 11001 | B13: ՀՀ սահմանադրական դատարանի գործունեության և սահմանադրական արդարադատության ապահովում | G13: =G14 -> -1300
B14: ՄԱՍ III. ԾԱՌԱՅՈՒԹՅՈՒՆՆԵՐ | G14: =G15+G16 -> -1300
A15: 64211110-1 | B15: տեղայաին հեռախոսային ծառայություններ | C15: ՄԱ | D15: դրամ | G15: -300 | H15: 4236
A16: 79111200-1 | B16: ներկայացուցչական ծառայություններ | C16: ՄԱ | D16: դրամ | G16: -1000 | H16: 4239 | J16: =+G16+#REF!+#REF!+G46+G47+G48+G49+G50+G51+#REF! -> #REF!
B18: ՀՀ բարձր տեխնոլոգիական արդյունաբերության նախարարություն | G18: =G19 -> -15000
A19: Բաժին N08 | B19: Խումբ N03 Դաս N01 | C19: Հեռահաղորդակցության ապահովում | G19: =G20 -> -15000
A20: 1164 11002 | B20: Թվային հեռուստահեռարձակման ապահովման ծառայություններ | G20: =G21 -> -15000
B21: ՄԱՍ III. ԾԱՌԱՅՈՒԹՅՈՒՆՆԵՐ | G21: =G22 -> -15000
A22: 64211250-1 | B22: արբանյակային կապի վարձակալության ծառայություններ | C22: ՄԱ | D22: դրամ | G22: -15000
B24: ՀՀ արդարադատության նախարարություն | G24: =G25 -> -5147.7
A25: Բաժին N01 | B25: Խումբ N01 Դաս N01 | C25: Օրենսդիր և գործադիր մարմիններ, պետական կառավարում | G25: =G26 -> -5147.7
A26: 1057 11001 | B26: Արդարադատության ոլորտում քաղաքականության, խորհրդատվության, մոնիթորինգի, գնման և աջակցության իրականացում | G26: =G27+G30 -> -5147.7
B27: ՄԱՍ I. ԱՊՐԱՆՔՆԵՐ | G27: =G28+G29 -> -2080.5
A28: 09132200-1 | B28: բենզին, ռեգուլյար | C28: ԳՀ | D28: լիտր | E28: 390 | F28: -2005 | G28: -782
A29: 30121460-1 | B29: տոներային քարտրիջներ | C29: ԳՀ | D29: հատ | E29: 2450 | F29: -530 | G29: -1298.5
B30: ՄԱՍ III. ԾԱՌԱՅՈՒԹՅՈՒՆՆԵՐ | G30: =G31+G32+G33+G34 -> -3067.2
A31: 70221100-1 | B31: ոչ բնակելի անշարժ գույքի վարձակալության կամ լիզինգի ծառայություններ | C31: ՄԱ | D31: դրամ | G31: -16.7
A32: 72321200-1 | B32: տվյալների կառավարման ծառայություններ | C32: ԳՀ | D32: դրամ | G32: -11
A33: 92421100-1 | B33: թերթերում հայտարարությունների տպագրման ծառայություն | C33: ՄԱ | D33: դրամ | G33: -39.5
A34: 72511700-7 | B34: համակարգչային տեխնիկայի կառավարման ծառայություններ համակարգչային համակարգերի սպասարկման համար | C34: ԳՀ | D34: դրամ | G34: -3000
B36: ՀՀ արտաքին գործերի նախարարություն | G36: =G37 -> -32750
A37: Բաժին N08 | B37: Խումբ N03 Դաս N02 | C37: Հրատարակչություններ, խմբագրություններ | G37: =G38 -> -32750
A38: 1061 11002 | B38: ՀՀ մուտքի վիզաների, վերադարձի վկայականների և պաշտպանված ձևաթղթերի տպագրության աշխատանքների իրականացում | G38: =G39 -> -32750
B39: ՄԱՍ III. ԾԱՌԱՅՈՒԹՅՈՒՆՆԵՐ | G39: =G40 -> -32750
A40: 79821200-1 | B40: այլ պոլիգրաֆիական արտադրանքի տպագրման ծառայություն | C40: ԳՀ | D40: դրամ | G40: -32750
A42: 1006 11003 | B42: ՀՀ պետական պարտքի կառավարման գործընթացի հրապարակայնության ապահովում | G42: =G43 -> -113.8
B43: ՄԱՍ III. ԾԱՌԱՅՈՒԹՅՈՒՆՆԵՐ | G43: =G44 -> -113.8
A44: 79821170-504 | B44: տպագրական ― առաքման ծառայություններ | C44: ԳՀ | D44: դրամ | G44: -113.8
B46: ՀՀ կադաստրի կոմիտե | G46: =G47 -> -3091 | H46: 4239
A47: Բաժին N01 | B47: Խումբ N06 Դաս N01 | C47: Ընդհանուր բնույթի հանրային ծառայություններ (այլ դասերին չպատկանող) | G47: =G48 -> -3091 | H47: 4239
A48: 1012 11001 | B48: Գույքի նկատմամբ իրավունքների պետական գրանցում, գույքի և դրա նկատմամբ գրանցված իրավունքների և սահմանափակումների վերաբերյալ տեղեկատվության տրամադրում | G48: =G49+G51+G53 -> -3091 | H48: 4239
B49: ՄԱՍ I. ԱՊՐԱՆՔՆԵՐ | G49: =G50 -> -1000 | H49: 4239
A50: 30197646-2 | B50: թուղթ՝ A3 ֆորմատի | C50: ԳՀ | D50: կգ | E50: 640 | F50: -1562.5 | G50: -1000 | H50: 4239
...
