Workbook

Sheet Հավելված 1
F1: Հավելված N 1
A2: «ՀԱՅԱՍՏԱՆԻ ՀԱՆՐԱՊԵՏՈՒԹՅԱՆ 2021 ԹՎԱԿԱՆԻ ՊԵՏԱԿԱՆ ԲՅՈՒՋԵԻ ՄԱՍԻՆ» ՀԱՅԱՍՏԱՆԻ ՀԱՆՐԱՊԵՏՈՒԹՅԱՆ OՐԵՆՔԻ N 1 ՀԱՎԵԼՎԱԾԻ N 2 ԱՂՅՈՒՍԱԿՈՒՄ ԿԱՏԱՐՎՈՂ ՎԵՐԱԲԱՇԽՈՒՄԸ ԵՎ ՀԱՅԱՍՏԱՆԻ ՀԱՆՐԱՊԵՏՈՒԹՅԱՆ ԿԱՌԱՎԱՐՈՒԹՅԱՆ 2020 ԹՎԱԿԱՆԻ ԴԵԿՏԵՄԲԵՐԻ 30-Ի N 2215-Ն ՈՐՈՇՄԱՆ N 5 ՀԱՎԵԼՎԱԾԻ N 1 ԱՂՅՈՒՍԱԿՈՒՄ ԿԱՏԱՐՎՈՂ ՓՈՓՈԽՈՒԹՅՈՒՆՆԵՐԸ
F3: հազ.դրամ.
A4: Ծրագրային դասիչը | C4: Բյուջետային հատկացումների գլխավոր կարգադրիչների, ծրագրերի և միջոցառումների անվանումները | D4: Ցուցանիշների փոփոխությունը (ավելացումները նշված են դրական նշանով, իսկ նվազեցումները նշված են փակագծերում)
D5: Առաջին կիսամյակ | E5: Ինն ամիս | F5: Տարի
A6: Ծրագիր | B6: Միջոցառում
A7: Ծրագիր | B7: Միջոցառում
C8: ԸՆԴԱՄԵՆԸ | D8: 0 | E8: 0 | F8: 0
C9: ՀՀ սահմանադրական դատարան | D9: -2700 | E9: -2700 | F9: -2700
A10: 1092 | C10: Ծրագրի անվանումը` | D10: -2700 | E10: -2700 | F10: -2700
C11: ՀՀ սահմանադրական դատարանի գործունեության ապահովում
C12: Ծրագրի նպատակը`
C13: ՀՀ-ում սահմանադրական արդարադատության իրականացում և սահմանադրության գերակայության ապահովում
C14: Վերջնական արդյունքի նկարագրությունը`
C15: ՀՀ-ում սահմանադրականության, քաղաքացիների և կազմակերպությունների իրավունքի ապահովումը
A16: Ծրագրի միջոցառումներ
B17: 11001 | C17: Միջոցառման անվանումը` | D17: -2700 | E17: -2700 | F17: -2700
C18: ՀՀ սահմանադրական դատարանի գործունեության և սահմանադրական արդարադատության ապահովում
C19: Միջոցառման նկարագրությունը`
C20: Վեճերի քննում, լուծում և որոշումների կայացում ՀՀ սահմանադրությանը համապատասխանության վերաբերյալ
C21: Միջոցառման տեսակը
C22: Ծառայությունների մատուցում
C23: ՀՀ արդարադատության նախարարություն | D23: -5223.7 | E23: -5223.7 | F23: -5223.7
A24: 1057 | C24: Ծրագրի անվանումը` | D24: -5223.7 | E24: -5223.7 | F24: -5223.7
C25: Արդարադատության ոլորտում քաղաքականության մշակում, ծրագրերի համակարգում, խորհրդատվության և մոնիտորինգի իրականացում
C26: Ծրագրի նպատակը`
C27: Արդարադատության ոլորտում քաղաքականության, խորհրդատվության, մոնիտորինգի, գնման և աջակցության իրականացում
C28: Վերջնական արդյունքի նկարագրությունը`
C29: Արդարադատության քաղաքականության իրագործմանն ուղղված ծրագրերի արդյունավետության բարելավում
A30: Ծրագրի միջոցառումներ
B31: 11001 | C31: Միջոցառման անվանումը` | D31: -5223.7 | E31: -5223.7 | F31: -5223.7
C32: Արդարադատության ոլորտում քաղաքականության, խորհրդատվության, մոնիտորինգի, գնման և աջակցության իրականացում
C33: Միջոցառման նկարագրությունը`
C34: Ոլորտի քաղաքականության, խորհրդատվության, մոնիտորինգի, արդարադատության ծրագրերի համակարգման ծառայություններ
C35: Միջոցառման տեսակը
C36: Ծառայությունների մատուցում
C37: ՀՀ արտաքին գործերի նախարարություն | D37: -58750 | E37: -58750 | F37: -58750
A38: 1061 | C38: Ծրագրի անվանումը` | D38: -52750 | E38: -52750 | F38: -52750
C39: Արտաքին գործերի ոլորտում Կառավարության քաղաքականության մշակում և իրականացում
C40: Ծրագրի նպատակը`
C41: Միջազգային իրավունքի հիման վրա բոլոր պետությունների հետ բարիդրացիական, փոխշահավետ հարաբերությունների հաստատում և զարգացում, միջազգային հարաբերություններում ՀՀ շահերի և իրավունքների ներկայացում
C42: Վերջնական արդյունքի նկարագրությունը`
C43: ՀՀ ինքնիշխանության պաշտպանություն, արտաքին անվտանգության բաղադրիչի ամրապնդում, ԼՂ հիմնախնդրի կարգավորում, ՀՀ միջազգ. հեղինակության բարձրացում, զարգացման համար արտաքին բարենպաստ պայմանների ապահովում, արտերկրում ՀՀ քաղաքացիների շահերի պաշտպանություն
A44: Ծրագրի միջոցառումներ
B45: 11001 | C45: Միջոցառման անվանումը` | D45: -20000 | E45: -20000 | F45: -20000
C46: Կառավարության արտաքին քաղաքականության մշակում և իրագործման ապահովում
C47: Միջոցառման նկարագրությունը`
C48: ՀՀ Կառավարության ծրագրի հիման վրա արտաքին գործերի բնագավառում քաղաքականության մշակում և իրականացում, դիվանագիտական ծառայության կազմակերպում և ղեկավարում, հյուպատոսական ծառայությունների մատուցում
C49: Միջոցառման տեսակը
C50: Ծառայությունների մատուցում
B51: 11002 | C51: Միջոցառման անվանումը` | D51: -32750 | E51: -32750 | F51: -32750
C52: ՀՀ մուտքի վիզաների, վերադարձի վկայականների և պաշտպանված ձևաթղթերի տպագրության աշխատանքների իրականացում
C53: Միջոցառման նկարագրությունը`
C54: Հայաստանում և արտերկրում հյուպատոսական ծառայությունների մատուցման տեխնիկական ապահովման նպատակով հրատարակչական, տեղեկատվական և տպագրական ծառայություններ
C55: Միջոցառման տեսակը
C56: Ծառայությունների մատուցում
A57: 1178 | C57: Ծրագրի անվանումը` | D57: -6000 | E57: -6000 | F57: -6000
C58: Հայաստանի Հանրապետությունում և օտարերկրյա պետություններում արարողակարգային միջոցառումների իրականացում
C59: Ծրագրի նպատակը`
C60: Հայաստանի Հանրապետությունում և ՀՀ միջազգային հարաբերություններում պետական արարողակարգային կանոնների միասնական կիրառում
C61: Վերջնական արդյունքի նկարագրությունը`
C62: ՀՀ-ում և օտարերկրյա պետություններում միջազգային արարողակարգային չափանիշներին համապատասխան միջոցառումների ընթացակարգերի և ծիսակարգերի կազմակերպում և իրականացում
A63: Ծրագրի միջոցառումներ
B64: 11001 | C64: Միջոցառման անվանումը` | D64: -6000 | E64: -6000 | F64: -6000
C65: Հայաստանի Հանրապետությունում և օտարերկրյա պետություններում արարողակարգային միջոցառումների իրականացում
C66: Միջոցառման նկարագրությունը`
C67: Հայաստանի Հանրապետությունում և օտարերկրյա պետություններում միջազգային արարողակարգային չափանիշներին համապատասխան միջոցառումների կազմակերպում և իրականացում
C68: Միջոցառման տեսակը
C69: Ծառայությունների մատուցում
C70: ՀՀ բարձր տեխնոլոգիական արդյունաբերության նախարարություն | D70: -69000 | E70: -69000 | F70: -101000
A71: 1043 | C71: Ծրագրի անվանումը` | D71: -69000 | E71: -69000 | F71: -86000
C72: Բարձր տեխնոլոգիական արդյունաբերության էկոհամակարգի և շուկայի զարգացման ծրագիր
C73: Ծրագրի նպատակը`
C74: Բարձր տեխնոլոգիաների ենթակառուցվածքների բարելավում
C75: Վերջնական արդյունքի նկարագրությունը`
C76: Բարձր տեխնոլոգիաների ոլորտի աճ
A77: Ծրագրի միջոցառումներ
B78: 11007 | C78: Միջոցառման անվանումը` | D78: -18000 | E78: -18000 | F78: -18000
C79: Շուկաների զարգացում և միջազգային համագործակցություն
C80: Միջոցառման նկարագրությունը`
C81: Հայկական ընկերությունների հետ համատեղ միջազգային և երկկողմ բիզնես ֆորումների կազմակերպում՛ ապրանքների և ծառայությունների թիրախավորված վաճառքի խթանման նպատակով
C82: Միջոցառման տեսակը
C83: Ծառայությունների մատուցում
B84: 11008 | C84: Միջոցառման անվանումը` | D84: -51000 | E84: -51000 | F84: -68000
C85: «Կորոնավիրուսի (COVID-19) տնտեսական հետևանքների չեզոքացման 17-րդ միջոցառման շրջանակներում աջակցության տրամադրում»
C86: Միջոցառման նկարագրությունը`
C87: Կորոնավիրուսի (COVID-19) տնտեսական հետևանքների չեզոքացման 17-րդ միջոցառման շահառու համարվող տնտեսավարող սուբյեկտներին աջակցության տրամադրում
C88: Միջոցառման տեսակը
C89: Ծառայությունների մատուցում
A90: 1164 | C90: Ծրագրի անվանումը` | D90: 0 | E90: 0 | F90: -15000
C91: Հեռահաղորդակցության ապահովում
C92: Ծրագրի նպատակը`
C93: Անխափան ռադիոկապի, հեռախոսային կապի և հեռուստառադիոհեռարձակման ապահովում
C94: Վերջնական արդյունքի նկարագրությունը`
C95: Ռադիոկապի, հեռախոսային կապի և հեռուստառադիոհեռարձակման որակի բարելավում
A96: Ծրագրի միջոցառումներ
B97: 11002 | C97: Միջոցառման անվանումը` | D97: 0 | E97: 0 | F97: -15000
C98: Թվային հեռուստահեռարձակման ապահովման ծառայություններ
C99: Միջոցառման նկարագրությունը`
C100: Հայաստանի Հանրապետությունում թվային հեռուստահեռարձակման ապահովման շրջանակներում հանրապետական սփռման մուլտիպլեքսի արբանյակային տարածման համար արբանյակային ունակության վարձակալում
...

Sheet Հավելված 2
I1: Հավելված N 2
A3: ՀԱՅԱՍՏԱՆԻ ՀԱՆՐԱՊԵՏՈՒԹՅԱՆ ԿԱՌԱՎԱՐՈՒԹՅԱՆ 2020 ԹՎԱԿԱՆԻ ԴԵԿՏԵՄԲԵՐԻ 30-Ի N 2215-Ն ՈՐՈՇՄԱՆ N 3 ՀԱՎԵԼՎԱԾԻ ԱՂՅՈՒՍԱԿՆԵՐՈՒՄ ԿԱՏԱՐՎՈՂ ՓՈՓՈԽՈՒԹՅՈՒՆՆԵՐԸ
I5: հազ.դրամ.
A6: Գործառական դասիչը | D6: Ծրագրային դասիչը | G6: Ցուցանիշների փոփոխությունը (ավելացումները նշված են դրական նշանով, իսկ նվազեցումները նշված են փակագծերում)
F7: Բյուջետային ծախսերի գործառական դասակարգման բաժինների, խմբերի և դասերի, բյուջետային ծրագրերի միջոցառումների, բյուջետային հատկացումների գլխավոր կարգադրիչների անվանումները | G7: Առաջին կիսամյակ | H7: Ինն ամիս | I7: Տարի
A8: Բաժին | B8: Խումբ | C8: Դաս | D8: Ծրագիր | E8: Միջոցա ռում
F9: ԸՆԴԱՄԵՆԸ ԾԱԽՍԵՐ | G9: 0 | H9: 0 | I9: 0
F10: այդ թվում`
A11: 01 | F11: ԸՆԴՀԱՆՈՒՐ ԲՆՈՒՅԹԻ ՀԱՆՐԱՅԻՆ ԾԱՌԱՅՈՒԹՅՈՒՆՆԵՐ | G11: =G13+G33+G41 -> -108578.3 | H11: =H13+H33+H41 -> -105670.9 | I11: =I13+I33+I41 -> -122670.9
F12: այդ թվում`
B13: 01 | F13: Օրենսդիր և գործադիր մարմիններ, պետական կառավարում, ֆինանսական և հարկաբյուջետային հարաբերություններ, արտաքին հարաբերություններ | G13: =G15+G27 -> -36487.3 | H13: =H15+H27 -> -33579.9 | I13: =I15+I27 -> -33579.9
F14: այդ թվում`
C15: 01 | F15: Օրենսդիր և գործադիր մարմիններ, պետական կառավարում | G15: -10487.3 | H15: -7579.9001 | I15: -7579.9001
F16: այդ թվում`
D17: 1047 | E17: 11001 | F17: ՀՀ Սյունիքի մարզպետարանի կողմից տարածքային պետական կառավարման ապահովում | G17: -590.7 | H17: -590.7 | I17: -590.7
F18: ՀՀ Սյունիքի մարզպետարան | G18: -590.7 | H18: -590.7 | I18: -590.7
D19: 1051 | E19: 11001 | F19: ՀՀ Վայոց ձորի մարզպետարանի կողմից տարածքային պետական կառավարման ապահովում | G19: -1740.7 | H19: -1740.7 | I19: -1740.7
F20: ՀՀ Վայոց ձորի մարզպետարան | G20: -1740.7 | H20: -1740.7 | I20: -1740.7
D21: 1055 | E21: 11001 | F21: ՀՀ Տավուշի մարզպետարանի կողմից տարածքային պետական կառավարման ապահովում | G21: -24.8 | H21: -24.8 | I21: -24.8
F22: ՀՀ Տավուշի մարզպետարան | G22: -24.8 | H22: -24.8 | I22: -24.8
D23: 1057 | E23: 11001 | F23: Արդարադատության ոլորտում քաղաքականության, խորհրդատվության, մոնիտորինգի, գնման և աջակցության իրականացում | G23: -5223.7 | H23: -5223.7 | I23: -5223.7
F24: ՀՀ արդարադատության նախարարություն | G24: -5223.7 | H24: -5223.7 | I24: -5223.7
D25: 1203 | E25: 31001 | F25: ՀՀ պետական վերահսկողական ծառայության տեխնիկական հագեցվածության բարելավում | G25: -2907.4 | H25: 0 | I25: 0
F26: ՀՀ պետական վերահսկողական ծառայություն | G26: -2907.4 | H26: 0 | I26: 0
C27: 03 | F27: Արտաքին հարաբերություններ | G27: -26000 | H27: -26000 | I27: -26000
F28: այդ թվում`
D29: 1061 | E29: 11001 | F29: Կառավարության արտաքին քաղաքականության մշակում և իրագործման ապահովում | G29: -20000 | H29: -20000 | I29: -20000
F30: ՀՀ արտաքին գործերի նախարարություն | G30: -20000 | H30: -20000 | I30: -20000
D31: 1178 | E31: 11001 | F31: Հայաստանի Հանրապետությունում և օտարերկրյա պետություններում արարողակարգային միջոցառումների իրականացում | G31: -6000 | H31: -6000 | I31: -6000
F32: ՀՀ արտաքին գործերի նախարարություն | G32: -6000 | H32: -6000 | I32: -6000
B33: 03 | F33: Ընդհանուր բնույթի ծառայություններ | G33: -69000 | H33: -69000 | I33: -86000
F34: այդ թվում`
C35: 02 | F35: Ծրագրման և վիճակագրական ընդհանուր ծառայություններ | G35: -69000 | H35: -69000 | I35: -86000
F36: այդ թվում`
D37: 1043 | E37: 11007 | F37: Շուկաների զարգացում և միջազգային համագործակցություն | G37: -18000 | H37: -18000 | I37: -18000
F38: ՀՀ բարձր տեխնոլոգիական արդյունաբերության նախարարություն | G38: -18000 | H38: -18000 | I38: -18000
D39: 1043 | E39: 11008 | F39: «Կորոնավիրուսի (COVID-19) տնտեսական հետևանքների չեզոքացման 17-րդ միջոցառման շրջանակներում աջակցության տրամադրում» | G39: -51000 | H39: -51000 | I39: -68000
F40: ՀՀ բարձր տեխնոլոգիական արդյունաբերության նախարարություն | G40: -51000 | H40: -51000 | I40: -68000
B41: 06 | F41: Ընդհանուր բնույթի հանրային ծառայություններ (այլ դասերին չպատկանող) | G41: -3091 | H41: -3091 | I41: -3091
F42: այդ թվում`
C43: 01 | F43: Ընդհանուր բնույթի հանրային ծառայություններ (այլ դասերին չպատկանող) | G43: -3091 | H43: -3091 | I43: -3091
F44: այդ թվում`
D45: 1012 | E45: 11001 | F45: Գույքի նկատմամբ իրավունքների պետական գրանցում,գույքի և դրա նկատմամբ գրանցված իրավունքների և սահմանափակումների վերաբերյալ տեղեկատվության տրամադրում | G45: -3091 | H45: -3091 | I45: -3091
F46: ՀՀ կադաստրի կոմիտե | G46: -3091 | H46: -3091 | I46: -3091
A47: 03 | F47: ՀԱՍԱՐԱԿԱԿԱՆ ԿԱՐԳ, ԱՆՎՏԱՆԳՈՒԹՅՈՒՆ ԵՎ ԴԱՏԱԿԱՆ ԳՈՐԾՈՒՆԵՈՒԹՅՈՒՆ | G47: -30564.6 | H47: -30564.6 | I47: -31100
F48: այդ թվում`
B49: 03 | F49: Դատական գործունեություն և իրավական պաշտպանություն | G49: -5000 | H49: -5000 | I49: -5000
F50: այդ թվում`
C51: 01 | F51: Դատարաններ | G51: -2700 | H51: -2700 | I51: -2700
F52: այդ թվում`
D53: 1092 | E53: 11001 | F53: ՀՀ սահմանադրական դատարանի գործունեության և սահմանադրական արդարադատության ապահովում | G53: -2700 | H53: -2700 | I53: -2700
F54: ՀՀ սահմանադրական դատարան | G54: -2700 | H54: -2700 | I54: -2700
C55: 02 | F55: Իրավական պաշտպանություն | G55: -2300 | H55: -2300 | I55: -2300
F56: այդ թվում`
D57: 1060 | E57: 11001 | F57: Մարդու իրավունքների և հիմնարար ազատությունների պաշտպանության ծառայությունների տրամադրում | G57: -2300 | H57: -2300 | I57: -2300
F58: Մարդու իրավունքների պաշտպանի աշխատակազմ | G58: -2300 | H58: -2300 | I58: -2300
B59: 07 | F59: Նախաքննություն | G59: -25564.6 | H59: -25564.6 | I59: -26100
F60: այդ թվում`
C61: 01 | F61: Նախաքննություն | G61: -25564.6 | H61: -25564.6 | I61: -26100
F62: այդ թվում`
D63: 1180 | E63: 11001 | F63: Քրեական գործերով վարույթի իրականացում | G63: -25564.6 | H63: -25564.6 | I63: -26100
F64: ՀՀ քննչական կոմիտե | G64: -25564.6 | H64: -25564.6 | I64: -26100
A65: 08 | F65: ՀԱՆԳԻՍՏ, ՄՇԱԿՈՒՅԹ ԵՎ ԿՐՈՆ | G65: -32750 | H65: -32750 | I65: -47750
F66: այդ թվում`
B67: 03 | F67: Ռադիո և հեռուստահաղորդումների հեռարձակման և հրատարակչական ծառայություններ | G67: -32750 | H67: -32750 | I67: -47750
F68: այդ թվում`
C69: 01 | F69: Հեռուստառադիոհաղորդումներ | G69: 0 | H69: 0 | I69: -15000
F70: այդ թվում`
D71: 1164 | E71: 11002 | F71: Թվային հեռուստահեռարձակման ապահովման ծառայություններ | G71: 0 | H71: 0 | I71: -15000
F72: ՀՀ բարձր տեխնոլոգիական արդյունաբերության նախարարություն | G72: 0 | H72: 0 | I72: -15000
C73: 02 | F73: Հրատարակչություններ, խմբագրություններ | G73: -32750 | H73: -32750 | I73: -32750
F74: այդ թվում`
D75: 1061 | E75: 11002 | F75: ՀՀ մուտքի վիզաների, վերադարձի վկայականների և պաշտպանված ձևաթղթերի տպագրության աշխատանքների իրականացում | G75: -32750 | H75: -32750 | I75: -32750
F76: ՀՀ արտաքին գործերի նախարարություն | G76: -32750 | H76: -32750 | I76: -32750
A77: 11 | F77: ՀԻՄՆԱԿԱՆ ԲԱԺԻՆՆԵՐԻՆ ՉԴԱՍՎՈՂ ՊԱՀՈՒՍՏԱՅԻՆ ՖՈՆԴԵՐ | G77: =G79 -> 171892.9 | H77: =H79 -> 168985.5 | I77: =I79 -> 201520.9
F78: այդ թվում`
B79: 01 | F79: ՀՀ կառավարության և համայնքների պահուստային ֆոնդ | G79: =G81 -> 171892.9 | H79: =H81 -> 168985.5 | I79: =I81 -> 201520.9
F80: այդ թվում`
C81: 01 | F81: ՀՀ կառավարության պահուստային ֆոնդ | G81: =G83 -> 171892.9 | H81: =H83 -> 168985.5 | I81: =I83 -> 201520.9
F82: այդ թվում`
D83: 1139 | E83: 11001 | F83: ՀՀ կառավարության պահուստային ֆոնդ | G83: =G84 -> 171892.9 | H83: =H84 -> 168985.5 | I83: =I84 -> 201520.9
F84: ՀՀ կառավարություն | G84: ='Հավելված 1'!D209 -> 171892.9 | H84: ='Հավելված 1'!E209 -> 168985.5 | I84: ='Հավելված 1'!F209 -> 201520.9

Sheet Հավելված 3.
G1: Հավելված N 3
A3: ՀԱՅԱՍՏԱՆԻ ՀԱՆՐԱՊԵՏՈՒԹՅԱՆ ԿԱՌԱՎԱՐՈՒԹՅԱՆ 2020 ԹՎԱԿԱՆԻ ԴԵԿՏԵՄԲԵՐԻ 30-Ի N 2215-Ն ՈՐՈՇՄԱՆ N 4 ՀԱՎԵԼՎԱԾԻ ԱՂՅՈՒՍԱԿՆԵՐՈՒՄ ԿԱՏԱՐՎՈՂ ՓՈՓՈԽՈՒԹՅՈՒՆՆԵՐԸ
F6: հազ.դրամ.
A7: Ծրագրային դասիչը | D7: Ցուցանիշների փոփոխությունը (ավելացումները նշված են դրական նշանով, իսկ նվազեցումները նշված են փակագծերում)
C8: Բյուջետային հատկացումների գլխավոր կարգադրիչների, ծրագրերի, միջոցառումների և միջոցառումները կատարող պետական մարմինների անվանումները | D8: Առաջին կիսամյակ | E8: Ինն ամիս | F8: Տարի
A9: Ծրագիր | B9: Միջոց առում
C10: ԸՆԴԱՄԵՆԸ | D10: 0 | E10: 0 | F10: 0
C11: այդ թվում`
C12: ՀՀ սահմանադրական դատարան | D12: -2700 | E12: -2700 | F12: -2700
C13: այդ թվում`
A14: 1092 | C14: ՀՀ սահմանադրական դատարանի գործունեության ապահովում | D14: -2700 | E14: -2700 | F14: -2700
C15: այդ թվում`
B16: 11001 | C16: ՀՀ սահմանադրական դատարանի գործունեության և սահմանադրական արդարադատության ապահովում | D16: -2700 | E16: -2700 | F16: -2700
C17: այդ թվում` ըստ կատարողների
C18: ՀՀ սահմանադրական դատարան | D18: -2700 | E18: -2700 | F18: -2700
C19: այդ թվում` բյուջետային ծախսերի տնտեսագիտական դասակարգման հոդվածներ
C20: ԸՆԴԱՄԵՆԸ ԾԱԽՍԵՐ | D20: -2700 | E20: -2700 | F20: -2700
C21: ԸՆԹԱՑԻԿ ԾԱԽՍԵՐ | D21: -2700 | E21: -2700 | F21: -2700
C22: ԾԱՌԱՅՈՒԹՅՈՒՆՆԵՐԻ ԵՎ ԱՊՐԱՆՔՆԵՐԻ ՁԵՌՔԲԵՐՈՒՄ | D22: -2700 | E22: -2700 | F22: -2700
C23: Շարունակական ծախսեր | D23: -300 | E23: -300 | F23: -300
C24: - Կապի ծառայություններ | D24: -300 | E24: -300 | F24: -300
C25: Ծառայողական գործուղումների գծով ծախսեր | D25: -1400 | E25: -1400 | F25: -1400
C26: - Արտասահմանյան գործուղումների գծով ծախսեր | D26: -1400 | E26: -1400 | F26: -1400
C27: Պայմանագրային այլ ծառայությունների ձեռքբերում | D27: -1000 | E27: -1000 | F27: -1000
C28: - Ներկայացուցչական ծախսեր | D28: -1000 | E28: -1000 | F28: -1000
C29: ՀՀ արդարադատության նախարարություն | D29: -5223.7 | E29: -5223.7 | F29: -5223.7
C30: այդ թվում`
A31: 1057 | C31: Արդարադատության ոլորտում քաղաքականության մշակում, ծրագրերի համակարգում, խորհրդատվության և մոնիտորինգի իրականացում | D31: -5223.7 | E31: -5223.7 | F31: -5223.7
C32: այդ թվում`
B33: 11001 | C33: Արդարադատության ոլորտում քաղաքականության, խորհրդատվության, մոնիտորինգի, գնման և աջակցության իրականացում | D33: -5223.7 | E33: -5223.7 | F33: -5223.7
C34: այդ թվում` ըստ կատարողների
C35: ՀՀ արդարադատության նախարարություն | D35: -5223.7 | E35: -5223.7 | F35: -5223.7
C36: այդ թվում` բյուջետային ծախսերի տնտեսագիտական դասակարգման հոդվածներ
C37: ԸՆԴԱՄԵՆԸ ԾԱԽՍԵՐ | D37: -5223.7 | E37: -5223.7 | F37: -5223.7
C38: ԸՆԹԱՑԻԿ ԾԱԽՍԵՐ | D38: -5223.7 | E38: -5223.7 | F38: -5223.7
C39: ԾԱՌԱՅՈՒԹՅՈՒՆՆԵՐԻ ԵՎ ԱՊՐԱՆՔՆԵՐԻ ՁԵՌՔԲԵՐՈՒՄ | D39: -5223.7 | E39: -5223.7 | F39: -5223.7
C40: Շարունակական ծախսեր | D40: -92.7 | E40: -92.7 | F40: -92.7
C41: - Գույքի և սարքավորումների վարձակալություն | D41: -16.7 | E41: -16.7 | F41: -16.7
C42: - Արտագերատեսչական ծախսեր | D42: -76 | E42: -76 | F42: -76
C43: Պայմանագրային այլ ծառայությունների ձեռքբերում | D43: -3050.5 | E43: -3050.5 | F43: -3050.5
C44: - Վարչական ծառայություններ | D44: -11 | E44: -11 | F44: -11
C45: - Համակարգչային ծառայություններ | D45: -3000 | E45: -3000 | F45: -3000
C46: - Տեղեկատվական ծառայություններ | D46: -39.5 | E46: -39.5 | F46: -39.5
C47: Նյութեր (Ապրանքներ) | D47: -2080.5 | E47: -2080.5 | F47: -2080.5
C48: - Գրասենյակային նյութեր և հագուստ | D48: -1298.5 | E48: -1298.5 | F48: -1298.5
... C50: ՀՀ արտաքին գործերի նախարարություն | D50: -58750 | E50: -58750 | F50: -58750
C51: այդ թվում`
A52: 1061 | C52: Արտաքին գործերի ոլորտում Կառավարության քաղաքականության մշակում և իրականացում | D52: -52750 | E52: -52750 | F52: -52750
C53: այդ թվում`
B54: 11001 | C54: Կառավարության արտաքին քաղաքականության մշակում և իրագործման ապահովում | D54: -20000 | E54: -20000 | F54: -20000
C55: այդ թվում` ըստ կատարողների
C56: ՀՀ արտաքին գործերի նախարարություն | D56: -20000 | E56: -20000 | F56: -20000
C57: այդ թվում` բյուջետային ծախսերի տնտեսագիտական դասակարգման հոդվածներ
C58: ԸՆԴԱՄԵՆԸ ԾԱԽՍԵՐ | D58: -20000 | E58: -20000 | F58: -20000
C59: ԸՆԹԱՑԻԿ ԾԱԽՍԵՐ | D59: -20000 | E59: -20000 | F59: -20000
C60: ԾԱՌԱՅՈՒԹՅՈՒՆՆԵՐԻ ԵՎ ԱՊՐԱՆՔՆԵՐԻ ՁԵՌՔԲԵՐՈՒՄ | D60: -20000 | E60: -20000 | F60: -20000
C61: Ծառայողական գործուղումների գծով ծախսեր | D61: -20000 | E61: -20000 | F61: -20000
C62: - Արտասահմանյան գործուղումների գծով ծախսեր | D62: -20000 | E62: -20000 | F62: -20000
B63: 11002 | C63: ՀՀ մուտքի վիզաների, վերադարձի վկայականների և պաշտպանված ձևաթղթերի տպագրության աշխատանքների իրականացում | D63: -32750 | E63: -32750 | F63: -32750
C64: այդ թվում` ըստ կատարողների
C65: ՀՀ արտաքին գործերի նախարարություն | D65: -32750 | E65: -32750 | F65: -32750
C66: այդ թվում` բյուջետային ծախսերի տնտեսագիտական դասակարգման հոդվածներ
C67: ԸՆԴԱՄԵՆԸ ԾԱԽՍԵՐ | D67: -32750 | E67: -32750 | F67: -32750
C68: ԸՆԹԱՑԻԿ ԾԱԽՍԵՐ | D68: -32750 | E68: -32750 | F68: -32750
C69: ԾԱՌԱՅՈՒԹՅՈՒՆՆԵՐԻ ԵՎ ԱՊՐԱՆՔՆԵՐԻ ՁԵՌՔԲԵՐՈՒՄ | D69: -32750 | E69: -32750 | F69: -32750
C70: Պայմանագրային այլ ծառայությունների ձեռքբերում | D70: -32750 | E70: -32750 | F70: -32750
C71: - Տեղեկատվական ծառայություններ | D71: -32750 | E71: -32750 | F71: -32750
A72: 1178 | C72: Հայաստանի Հանրապետությունում և օտարերկրյա պետություններում արարողակարգային միջոցառումների իրականացում | D72: -6000 | E72: -6000 | F72: -6000
C73: այդ թվում`
B74: 11001 | C74: Հայաստանի Հանրապետությունում և օտարերկրյա պետություններում արարողակարգային միջոցառումների իրականացում | D74: -6000 | E74: -6000 | F74: -6000
C75: այդ թվում` ըստ կատարողների
C76: ՀՀ արտաքին գործերի նախարարության պետական արարողակարգի ծառայություն | D76: -6000 | E76: -6000 | F76: -6000
C77: այդ թվում` բյուջետային ծախսերի տնտեսագիտական դասակարգման հոդվածներ
C78: ԸՆԴԱՄԵՆԸ ԾԱԽՍԵՐ | D78: -6000 | E78: -6000 | F78: -6000
C79: ԸՆԹԱՑԻԿ ԾԱԽՍԵՐ | D79: -6000 | E79: -6000 | F79: -6000
C80: ԾԱՌԱՅՈՒԹՅՈՒՆՆԵՐԻ ԵՎ ԱՊՐԱՆՔՆԵՐԻ ՁԵՌՔԲԵՐՈՒՄ | D80: -6000 | E80: -6000 | F80: -6000
C81: Ծառայողական գործուղումների գծով ծախսեր | D81: -6000 | E81: -6000 | F81: -6000
C82: - Արտասահմանյան գործուղումների գծով ծախսեր | D82: -6000 | E82: -6000 | F82: -6000
C83: ՀՀ բարձր տեխնոլոգիական արդյունաբերության նախարարություն | D83: -69000 | E83: -69000 | F83: -101000
C84: այդ թվում`
A85: 1043 | C85: Բարձր տեխնոլոգիական արդյունաբերության էկոհամակարգի և շուկայի զարգացման ծրագիր | D85: -69000 | E85: -69000 | F85: -86000
C86: այդ թվում`
B87: 11007 | C87: Շուկաների զարգացում և միջազգային համագործակցություն | D87: -18000 | E87: -18000 | F87: -18000
C88: այդ թվում` ըստ կատարողների
C89: ՀՀ բարձր տեխնոլոգիական արդյունաբերության նախարարություն | D89: -18000 | E89: -18000 | F89: -18000
C90: այդ թվում` բյուջետային ծախսերի տնտեսագիտական դասակարգման հոդվածներ
C91: ԸՆԴԱՄԵՆԸ ԾԱԽՍԵՐ | D91: -18000 | E91: -18000 | F91: -18000
C92: ԸՆԹԱՑԻԿ ԾԱԽՍԵՐ | D92: -18000 | E92: -18000 | F92: -18000
C93: ԾԱՌԱՅՈՒԹՅՈՒՆՆԵՐԻ ԵՎ ԱՊՐԱՆՔՆԵՐԻ ՁԵՌՔԲԵՐՈՒՄ | D93: -18000 | E93: -18000 | F93: -18000
C94: Պայմանագրային այլ ծառայությունների ձեռքբերում | D94: -18000 | E94: -18000 | F94: -18000
C95: - Ընդհանուր բնույթի այլ ծառայություններ | D95: -18000 | E95: -18000 | F95: -18000
B96: 11008 | C96: «Կորոնավիրուսի (COVID-19) տնտեսական հետևանքների չեզոքացման 17-րդ միջոցառման շրջանակներում աջակցության տրամադրում» | D96: -51000 | E96: -51000 | F96: -68000
C97: այդ թվում` ըստ կատարողների
C98: ՀՀ բարձր տեխնոլոգիական արդյունաբերության նախարարություն | D98: -51000 | E98: -51000 | F98: -68000
C99: այդ թվում` բյուջետային ծախսերի տնտեսագիտական դասակարգման հոդվածներ
C100: ԸՆԴԱՄԵՆԸ ԾԱԽՍԵՐ | D100: -51000 | E100: -51000 | F100: -68000
C101: ԸՆԹԱՑԻԿ ԾԱԽՍԵՐ | D101: -51000 | E101: -51000 | F101: -68000
C102: ԴՐԱՄԱՇՆՈՐՀՆԵՐ | D102: -51000 | E102: -51000 | F102: -68000
C103: Ընթացիկ դրամաշնորհներ պետական հատվածի այլ մակարդակներին | D103: -51000 | E103: -51000 | F103: -68000
C104: - Այլ ընթացիկ դրամաշնորհներ | D104: -51000 | E104: -51000 | F104: -68000
...

Sheet Հավելված 4.
F1: Հավելված N 4
D2: Աղյուսակ N 1
A4: ՀԱՅԱՍՏԱՆԻ ՀԱՆՐԱՊԵՏՈՒԹՅԱՆ ԿԱՌԱՎԱՐՈՒԹՅԱՆ 2020 ԹՎԱԿԱՆԻ ԴԵԿՏԵՄԲԵՐԻ 30-Ի N 2215-Ն ՈՐՈՇՄԱՆ N 5 ՀԱՎԵԼՎԱԾԻ N 2 ԱՂՅՈՒՍԱԿՈՒՄ ԿԱՏԱՐՎՈՂ ՓՈՓՈԽՈՒԹՅՈՒՆՆԵՐԸ
E5: հազ.դրամ.
A6: Ծրագրային դասիչ | D6: Ցուցանիշների փոփոխությունը (նվազեցումները նշված են փակագծերում)
C7: Բյուջետային գլխավոր կարգադրիչների, ծրագրերի, միջոցառումների և ուղղությունների անվանումները | D7: Առաջին կիսամյակ | E7: Ինն ամիս | F7: Տարի
B8: Միջոցառում
C9: ԸՆԴԱՄԵՆԸ | D9: =D13 -> -2907.4 | E9: =E13 -> 0 | F9: =F13 -> 0
C10: այդ թվում՝
C13: ՀՀ ՊԵՏԱԿԱՆ ՎԵՐԱՀՍԿՈՂԱԿԱՆ ԾԱՌԱՅՈՒԹՅՈՒՆ | D13: =+D15 -> -2907.4 | E13: =+E15 -> 0 | F13: =+F15 -> 0
C14: այդ թվում`
A15: 1203 | B15: 31001 | C15: ՀՀ պետական վերահսկողական ծառայության տեխնիկական հագեցվածության բարելավում | D15: =+D17 -> -2907.4 | E15: =+E17 -> 0 | F15: =+F17 -> 0
C16: այդ թվում` ըստ կատարողների
C17: ՀՀ պետական վերահսկողական ծառայություն | D17: -2907.4 | E17: 0 | F17: 0

Sheet  Հավելված 5
G1: Հավելված 5
F2: ՀՀ կառավարության 2021 թվականի -ի N -Ն որոշման
B3: ՀԱՅԱՍՏԱՆԻ ՀԱՆՐԱՊԵՏՈՒԹՅԱՆ ԿԱՌԱՎԱՐՈՒԹՅԱՆ 2020 ԹՎԱԿԱՆԻ ԴԵԿՏԵՄԲԵՐԻ 30-Ի N 2215-Ն ՈՐՈՇՄԱՆ N 5 ՀԱՎԵԼՎԱԾԻ 7-ՐԴ ԱՂՅՈՒՍԱԿՈՒՄ ԿԱՏԱՐՎՈՂ ՓՈՓԽՈՒԹՅՈՒՆՆԵՐԸ
F4: հազար դրամներով
A5: Ծրագրային դասիչ | C5: Բյուջետային հատկացումների գլխավոր կարգադրիչների, ծրագրերի, միջոցառումների, ծախսային ուղղությունների անվանումները | F5: Միջոցառումները կատարող պետական մարմինների և դրամաշնորհ ստացող տնտեսվարող սուբյեկտների անվանումները | G5: Տարի
G6: Ցուցանիշների փոփոխությունը (նվազեցումները նշված են փակագծերում)
A7: Ծրագիր | B7: Միջոցառում
A8: 1 | B8: 2 | C8: 3 | F8: 4 | G8: 5
A9: ՀՀ բարձր տեխնոլոգիական արդյունաբերության նախարարություն | G9: -68000
A10: 1043 | B10: Բարձր տեխնոլոգիական արդյունաբերության էկոհամակարգի և շուկայի զարգացման ծրագիր | G10: -68000
B11: 11008 | C11: «Կորոնավիրուսի (COVID-19) տնտեսական հետևանքների չեզոքացման 17-րդ միջոցառման շրջանակներում աջակցության տրամադրում» | F11: ՀՀ բարձր տեխնոլոգիական արդյունաբերության նախարարություն | G11: -68000
F12: Մասնագիտացված կազմակերպություն | G12: -68000

Sheet Հավելված 6
E2: Հավելված N 6
A4: ՀԱՅԱՍՏԱՆԻ ՀԱՆՐԱՊԵՏՈՒԹՅԱՆ ԿԱՌԱՎԱՐՈՒԹՅԱՆ 2020 ԹՎԱԿԱՆԻ ԴԵԿՏԵՄԲԵՐԻ 30-Ի N 2215-Ն ՈՐՈՇՄԱՆ N 9 ՀԱՎԵԼՎԱԾՈՒՄ ԿԱՏԱՐՎՈՂ ՓՈՓՈԽՈՒԹՅՈՒՆՆԵՐԸ
C6: Ցուցանիշների փոփոխությունը ( ավելացումները նշված են դրական նշանով, իսկ նվազեցումները նշված են փակագծերում)
D7: Աղյուսակ 9.4
A8: ՀՀ սահմանադրական դատարան
A9: ՄԱՍ 2. ՊԵՏԱԿԱՆ ՄԱՐՄՆԻ ԳԾՈՎ ԱՐԴՅՈՒՆՔԱՅԻՆ (ԿԱՏԱՐՈՂԱԿԱՆ) ՑՈՒՑԱՆԻՇՆԵՐԸ
A11: Ծրագրի դասիչը | B11: Ծրագրի անվանումը
A12: 1092 | B12: ՀՀ սահմանադրական դատարանի գործունեության ապահովում
A14: Ծրագրի միջոցառումները
A16: Ծրագրի դասիչը` | B16: 1092
A17: Միջոցառման դասիչը` | B17: 11001 | C17: Առաջին կիսամյակ | D17: Ինն ամիս | E17: Տարի
A18: Միջոցառման անվանումը` | B18: ՀՀ սահմանադրական դատարանի գործունեության և սահմանադրական արդարադատության ապահովում
A19: Նկարագրությունը` | B19: Վեճերի քննում, լուծում և որոշումների կայացում ՀՀ սահմանադրությանը համապատասխանության վերաբերյալ
A20: Միջոցառման տեսակը` | B20: Ծառայությունների մատուցում
A21: Ծառայությունը մատուցող կազմակերպության(ների) անվանում(ներ)ը | B21: ՀՀ սահմանադրական դատարան
A22: Արդյունքի չափորոշիչներ
A23: Միջոցառման վրա կատարվող ծախսը (հազար դրամ) | C23: -2700 | D23: -2700 | E23: -2700
D26: Աղյուսակ 9.10
A27: ՀՀ արդարադատության նախարարություն
A28: ՄԱՍ 2. ՊԵՏԱԿԱՆ ՄԱՐՄՆԻ ԳԾՈՎ ԱՐԴՅՈՒՆՔԱՅԻՆ (ԿԱՏԱՐՈՂԱԿԱՆ) ՑՈՒՑԱՆԻՇՆԵՐԸ
A30: Ծրագրի դասիչը | B30: Ծրագրի անվանումը
A31: 1057 | B31: Արդարադատության ոլորտում քաղաքականության մշակում, ծրագրերի համակարգում, խորհրդատվության և մոնիտորինգի իրականացում
A33: Ծրագրի միջոցառումները
A35: Ծրագրի դասիչը` | B35: 1057
A36: Միջոցառման դասիչը` | B36: 11001 | C36: Առաջին կիսամյակ | D36: Ինն ամիս | E36: Տարի
A37: Միջոցառման անվանումը` | B37: Արդարադատության ոլորտում քաղաքականության, խորհրդատվության, մոնիտորինգի, գնման և աջակցության իրականացում
A38: Նկարագրությունը` | B38: Ոլորտի քաղաքականության, խորհրդատվության, մոնիտորինգի, արդարադատության ծրագրերի համակարգման ծառայություններ
A39: Միջոցառման տեսակը` | B39: Ծառայությունների մատուցում
A40: Ծառայությունը մատուցող կազմակերպության(ների) անվանում(ներ)ը | B40: ՀՀ արդարադատության նախարարություն
A41: Արդյունքի չափորոշիչներ
A42: Միջոցառման վրա կատարվող ծախսը (հազար դրամ) | C42: -5223.7 | D42: -5223.7 | E42: -5223.7
D45: Աղյուսակ 9.12
A46: ՀՀ արտաքին գործերի նախարարություն
A47: ՄԱՍ 2. ՊԵՏԱԿԱՆ ՄԱՐՄՆԻ ԳԾՈՎ ԱՐԴՅՈՒՆՔԱՅԻՆ (ԿԱՏԱՐՈՂԱԿԱՆ) ՑՈՒՑԱՆԻՇՆԵՐԸ
A49: Ծրագրի դասիչը | B49: Ծրագրի անվանումը
A50: 1061 | B50: Արտաքին գործերի ոլորտում Կառավարության քաղաքականության մշակում և իրականացում
A52: Ծրագրի միջոցառումները
A54: Ծրագրի դասիչը` | B54: 1061
A55: Միջոցառման դասիչը` | B55: 11001 | C55: Առաջին կիսամյակ | D55: Ինն ամիս | E55: Տարի
A56: Միջոցառման անվանումը` | B56: Կառավարության արտաքին քաղաքականության մշակում և իրագործման ապահովում
A57: Նկարագրությունը` | B57: ՀՀ Կառավարության ծրագրի հիման վրա արտաքին գործերի բնագավառում քաղաքականության մշակում և իրականացում, դիվանագիտական ծառայության կազմակերպում և ղեկավարում, հյուպատոսական ծառայությունների մատուցում
A58: Միջոցառման տեսակը` | B58: Ծառայությունների մատուցում
A59: Ծառայությունը մատուցող կազմակերպության(ների) անվանում(ներ)ը | B59: ՀՀ արտաքին գործերի նախարարություն
A60: Արդյունքի չափորոշիչներ
A61: Միջոցառման վրա կատարվող ծախսը (հազար դրամ) | C61: -20000 | D61: -20000 | E61: -20000
A63: Ծրագրի դասիչը` | B63: 1061
A64: Միջոցառման դասիչը` | B64: 11002 | C64: Առաջին կիսամյակ | D64: Ինն ամիս | E64: Տարի
A65: Միջոցառման անվանումը` | B65: ՀՀ մուտքի վիզաների, վերադարձի վկայականների և պաշտպանված ձևաթղթերի տպագրության աշխատանքների իրականացում
A66: Նկարագրությունը` | B66: Հայաստանում և արտերկրում հյուպատոսական ծառայությունների մատուցման տեխնիկական ապահովման նպատակով հրատարակչական, տեղեկատվական և տպագրական ծառայություններ
A67: Միջոցառման տեսակը` | B67: Ծառայությունների մատուցում
A68: Միջոցառումն իրականացնողի անվանումը? | B68: «Գնումների մասին» ՀՀ օրենքի համաձայն ընտրված կազմակերպություն
A69: Արդյունքի չափորոշիչներ
A70: ՀՀ մուտքի վիզաների տպագրություն, հատ(մնացորդային քանակ 2020թ. տարեսկզբի դրությամբ՛ 127510) | C70: =-150000 -> -150000 | D70: =-150000 -> -150000 | E70: =-150000 -> -150000
A71: ՀՀ վերադարձի վկայականների տպագրություն, հատ(մնացորդային քանակ 2020թ. տարեսկզբի դրությամբ՛ 65160)
A72: Պաշտպանված ձևաթղթերի տպագրություն, հատ(մնացորդային քանակ 2020թ. տարեսկզբի դրությամբ՛ 66540) | C72: 35000 | D72: 35000 | E72: 35000
A73: Միջոցառման վրա կատարվող ծախսը (հազար դրամ) | C73: -32750 | D73: -32750 | E73: -32750
A76: Ծրագրի դասիչը | B76: Ծրագրի անվանումը
A77: 1178 | B77: Հայաստանի Հանրապետությունում և օտարերկրյա պետություններում արարողակարգային միջոցառումների իրականացում
A79: Ծրագրի միջոցառումները
A81: Ծրագրի դասիչը` | B81: 1178
A82: Միջոցառման դասիչը` | B82: 11001 | C82: Առաջին կիսամյակ | D82: Ինն ամիս | E82: Տարի
A83: Միջոցառման անվանումը` | B83: Հայաստանի Հանրապետությունում և օտարերկրյա պետություններում արարողակարգային միջոցառումների իրականացում
A84: Նկարագրությունը` | B84: Հայաստանի Հանրապետությունում և օտարերկրյա պետություններում միջազգային արարողակարգային չափանիշներին համապատասխան միջոցառումների կազմակերպում և իրականացում
A85: Միջոցառման տեսակը` | B85: Ծառայությունների մատուցում
A86: Ծառայությունը մատուցող կազմակերպության(ների) անվանում(ներ)ը | B86: ՀՀ ԱԳՆ Պետական արարողակարգի ծառայություն
A87: Արդյունքի չափորոշիչներ
A88: Միջոցառման վրա կատարվող ծախսը (հազար դրամ) | C88: -6000 | D88: -6000 | E88: -6000
D91: Աղյուսակ 9.17
A92: ՀՀ բարձր տեխնոլոգիական արդյունաբերության նախարարություն
A93: ՄԱՍ 2. ՊԵՏԱԿԱՆ ՄԱՐՄՆԻ ԳԾՈՎ ԱՐԴՅՈՒՆՔԱՅԻՆ (ԿԱՏԱՐՈՂԱԿԱՆ) ՑՈՒՑԱՆԻՇՆԵՐԸ
A95: Ծրագրի դասիչը | B95: Ծրագրի անվանումը
A96: 1043 | B96: Բարձր տեխնոլոգիական արդյունաբերության էկոհամակարգի և շուկայի զարգացման ծրագիր
A98: Ծրագրի միջոցառումները
A100: Ծրագրի դասիչը` | B100: 1043
A101: Միջոցառման դասիչը` | B101: 11007 | C101: Առաջին կիսամյակ | D101: Ինն ամիս | E101: Տարի
A102: Միջոցառման անվանումը` | B102: Շուկաների զարգացում և միջազգային համագործակցություն
A103: Նկարագրությունը` | B103: Հայկական ընկերությունների հետ համատեղ միջազգային և երկկողմ բիզնես ֆորումների կազմակերպում՛ ապրանքների և ծառայությունների թիրախավորված վաճառքի խթանման նպատակով
A104: Միջոցառման տեսակը` | B104: Ծառայությունների մատուցում
A105: Միջոցառումն իրականացնողի անվանումը | B105: ՀՀ բարձր տեխնոլոգիական արդյունաբերության նախարարություն
A106: Արդյունքի չափորոշիչներ
A107: Միջազգային ցուցահանդեսների մասնակցություն "Հայաստան" տաղավարով, հատ
A108: Հայկական բարձր տեխնոլոգիական ապրանքների և ծառայությունների ոլորտի ուսոմնասիրում, հատ
A109: Հայաստանում կազմակերպվող ֆորումների և ցուցահանդեսների քանակը, հատ | C109: -1 | D109: -1 | E109: -1
A110: Միջոցառման վրա կատարվող ծախսը (հազար դրամ) | C110: -18000 | D110: -18000 | E110: -18000
A112: Ծրագրի դասիչը` | B112: 1043
A113: Միջոցառման դասիչը` | B113: 11008 | C113: Առաջին կիսամյակ | D113: Ինն ամիս | E113: Տարի
A114: Միջոցառման անվանումը` | B114: «Կորոնավիրուսի (COVID-19) տնտեսական հետևանքների չեզոքացման 17-րդ միջոցառման շրջանակներում աջակցության տրամադրում»
A115: Նկարագրությունը` | B115: «Կորոնավիրուսի (COVID-19) տնտեսական հետևանքների չեզոքացման 17-րդ միջոցառման շահառու համարվող տնտեսավարող սուբյեկտներին աջակցության տրամադրում
A116: Միջոցառման տեսակը` | B116: Ծառայությունների մատուցում
A117: Միջոցառումն իրականացնողի անվանումը | B117: ՀՀ բարձր տեխնոլոգիական արդյունաբերության նախարարություն
A118: Արդյունքի չափորոշիչներ
A119: Նորարարական դրամաշնորհները, քանակը, հատ
A120: Կայացած ընկերությունների դրամաշնորհներ, քանակը, հատ | C120: -3 | D120: -3 | E120: -3
A121: Միջոցառման վրա կատարվող ծախսը (հազար դրամ) | C121: -51000 | D121: -51000 | E121: -68000
A123: Ծրագրի դասիչը | B123: Ծրագրի անվանումը
A124: 1164 | B124: Հեռահաղորդակցության ապահովում
A126: Ծրագրի միջոցառումները
A128: Ծրագրի դասիչը` | B128: 1164
A129: Միջոցառման դասիչը` | B129: 11002 | C129: Առաջին կիսամյակ | D129: Ինն ամիս | E129: Տարի
A130: Միջոցառման անվանումը` | B130: Թվային հեռուստահեռարձակման ապահովման ծառայություններ
...

Sheet Հավելված 7
D2: Հավելված N 7
A4: ՀԱՅԱՍՏԱՆԻ ՀԱՆՐԱՊԵՏՈՒԹՅԱՆ ԿԱՌԱՎԱՐՈՒԹՅԱՆ 2020 ԹՎԱԿԱՆԻ ԴԵԿՏԵՄԲԵՐԻ 30-Ի N 2215-Ն ՈՐՈՇՄԱՆ N 9.1 ՀԱՎԵԼՎԱԾՈՒՄ ԿԱՏԱՐՎՈՂ ՓՈՓՈԽՈՒԹՅՈՒՆՆԵՐԸ
C6: Ցուցանիշների փոփոխությունը ( ավելացումները նշված են դրական նշանով, իսկ նվազեցումները նշված են փակագծերում)
D7: Աղյուսակ 9.1.4
A8: ՀՀ սահմանադրական դատարան
A9: ՄԱՍ 1. ՊԵՏԱԿԱՆ ՄԱՐՄՆԻ ԳԾՈՎ ԱՐԴՅՈՒՆՔԱՅԻՆ (ԿԱՏԱՐՈՂԱԿԱՆ) ՑՈՒՑԱՆԻՇՆԵՐԸ
A11: Ծրագրի դասիչը | B11: Ծրագրի անվանումը
A12: 1092 | B12: ՀՀ սահմանադրական դատարանի գործունեության ապահովում
A14: Ծրագրի միջոցառումները
A16: Ծրագրի դասիչը` | B16: 1092
A17: Միջոցառման դասիչը` | B17: 11001 | C17: Առաջին կիսամյակ | D17: Ինն ամիս | E17: Տարի
A18: Միջոցառման անվանումը` | B18: ՀՀ սահմանադրական դատարանի գործունեության և սահմանադրական արդարադատության ապահովում
A19: Նկարագրությունը` | B19: Վեճերի քննում, լուծում և որոշումների կայացում ՀՀ սահմանադրությանը համապատասխանության վերաբերյալ
A20: Միջոցառման տեսակը` | B20: Ծառայությունների մատուցում
A21: Ծառայությունը մատուցող կազմակերպության(ների) անվանում(ներ)ը | B21: ՀՀ սահմանադրական դատարան
A22: Արդյունքի չափորոշիչներ
A23: Միջոցառման վրա կատարվող ծախսը (հազար դրամ) | C23: -2700 | D23: -2700 | E23: -2700
D26: Աղյուսակ 9.1.10
A27: ՀՀ արդարադատության նախարարություն
A28: ՄԱՍ 1. ՊԵՏԱԿԱՆ ՄԱՐՄՆԻ ԳԾՈՎ ԱՐԴՅՈՒՆՔԱՅԻՆ (ԿԱՏԱՐՈՂԱԿԱՆ) ՑՈՒՑԱՆԻՇՆԵՐԸ
A30: Ծրագրի դասիչը | B30: Ծրագրի անվանումը
A31: 1057 | B31: Արդարադատության ոլորտում քաղաքականության մշակում, ծրագրերի համակարգում, խորհրդատվության և մոնիտորինգի իրականացում
A33: Ծրագրի միջոցառումները
A35: Ծրագրի դասիչը` | B35: 1057
A36: Միջոցառման դասիչը` | B36: 11001 | C36: Առաջին կիսամյակ | D36: Ինն ամիս | E36: Տարի
A37: Միջոցառման անվանումը` | B37: Արդարադատության ոլորտում քաղաքականության, խորհրդատվության, մոնիտորինգի, գնման և աջակցության իրականացում
A38: Նկարագրությունը` | B38: Ոլորտի քաղաքականության, խորհրդատվության, մոնիտորինգի, արդարադատության ծրագրերի համակարգման ծառայություններ
A39: Միջոցառման տեսակը` | B39: Ծառայությունների մատուցում
A40: Ծառայությունը մատուցող կազմակերպության(ների) անվանում(ներ)ը | B40: ՀՀ արդարադատության նախարարություն
A41: Արդյունքի չափորոշիչներ
A42: Միջոցառման վրա կատարվող ծախսը (հազար դրամ) | C42: -5223.7 | D42: -5223.7 | E42: -5223.7
D45: Աղյուսակ 9.1.12
A46: ՀՀ արտաքին գործերի նախարարություն
A47: ՄԱՍ 2. ՊԵՏԱԿԱՆ ՄԱՐՄՆԻ ԳԾՈՎ ԱՐԴՅՈՒՆՔԱՅԻՆ (ԿԱՏԱՐՈՂԱԿԱՆ) ՑՈՒՑԱՆԻՇՆԵՐԸ
A49: Ծրագրի դասիչը | B49: Ծրագրի անվանումը
A50: 1061 | B50: Արտաքին գործերի ոլորտում Կառավարության քաղաքականության մշակում և իրականացում
A52: Ծրագրի միջոցառումները
A54: Ծրագրի դասիչը` | B54: 1061
A55: Միջոցառման դասիչը` | B55: 11001 | C55: Առաջին կիսամյակ | D55: Ինն ամիս | E55: Տարի
A56: Միջոցառման անվանումը` | B56: Կառավարության արտաքին քաղաքականության մշակում և իրագործման ապահովում
A57: Նկարագրությունը` | B57: ՀՀ Կառավարության ծրագրի հիման վրա արտաքին գործերի բնագավառում քաղաքականության մշակում և իրականացում, դիվանագիտական ծառայության կազմակերպում և ղեկավարում, հյուպատոսական ծառայությունների մատուցում
A58: Միջոցառման տեսակը` | B58: Ծառայությունների մատուցում
A59: Ծառայությունը մատուցող կազմակերպության(ների) անվանում(ներ)ը | B59: ՀՀ արտաքին գործերի նախարարություն
A60: Արդյունքի չափորոշիչներ
A61: Միջոցառման վրա կատարվող ծախսը (հազար դրամ) | C61: -20000 | D61: -20000 | E61: -20000
A63: Ծրագրի դասիչը` | B63: 1061
A64: Միջոցառման դասիչը` | B64: 11002 | C64: Առաջին կիսամյակ | D64: Ինն ամիս | E64: Տարի
A65: Միջոցառման անվանումը` | B65: ՀՀ մուտքի վիզաների, վերադարձի վկայականների և պաշտպանված ձևաթղթերի տպագրության աշխատանքների իրականացում
A66: Նկարագրությունը` | B66: Հայաստանում և արտերկրում հյուպատոսական ծառայությունների մատուցման տեխնիկական ապահովման նպատակով հրատարակչական, տեղեկատվական և տպագրական ծառայություններ
A67: Միջոցառման տեսակը` | B67: Ծառայությունների մատուցում
A68: Միջոցառումն իրականացնողի անվանումը? | B68: «Գնումների մասին» ՀՀ օրենքի համաձայն ընտրված կազմակերպություն
A69: Արդյունքի չափորոշիչներ
A70: ՀՀ մուտքի վիզաների տպագրություն, հատ(մնացորդային քանակ 2020թ. տարեսկզբի դրությամբ՛ 127510) | C70: =-150000 -> -150000 | D70: =-150000 -> -150000 | E70: =-150000 -> -150000
A71: ՀՀ վերադարձի վկայականների տպագրություն, հատ(մնացորդային քանակ 2020թ. տարեսկզբի դրությամբ՛ 65160)
A72: Պաշտպանված ձևաթղթերի տպագրություն, հատ(մնացորդային քանակ 2020թ. տարեսկզբի դրությամբ՛ 66540) | C72: 35000 | D72: 35000 | E72: 35000
A73: Միջոցառման վրա կատարվող ծախսը (հազար դրամ) | C73: -32750 | D73: -32750 | E73: -32750
D76: Աղյուսակ 9.1.17
A77: ՀՀ բարձր տեխնոլոգիական արդյունաբերության նախարարություն
A78: ՄԱՍ 2. ՊԵՏԱԿԱՆ ՄԱՐՄՆԻ ԳԾՈՎ ԱՐԴՅՈՒՆՔԱՅԻՆ (ԿԱՏԱՐՈՂԱԿԱՆ) ՑՈՒՑԱՆԻՇՆԵՐԸ
A80: Ծրագրի դասիչը | B80: Ծրագրի անվանումը
A81: 1043 | B81: Բարձր տեխնոլոգիական արդյունաբերության էկոհամակարգի և շուկայի զարգացման ծրագիր
A83: Ծրագրի միջոցառումները
A85: Ծրագրի դասիչը` | B85: 1043
A86: Միջոցառման դասիչը` | B86: 11007 | C86: Առաջին կիսամյակ | D86: Ինն ամիս | E86: Տարի
A87: Միջոցառման անվանումը` | B87: Շուկաների զարգացում և միջազգային համագործակցություն
A88: Նկարագրությունը` | B88: Հայկական ընկերությունների հետ համատեղ միջազգային և երկկողմ բիզնես ֆորումների կազմակերպում՛ ապրանքների և ծառայությունների թիրախավորված վաճառքի խթանման նպատակով
A89: Միջոցառման տեսակը` | B89: Ծառայությունների մատուցում
A90: Միջոցառումն իրականացնողի անվանումը | B90: ՀՀ բարձր տեխնոլոգիական արդյունաբերության նախարարություն
A91: Արդյունքի չափորոշիչներ
A92: Միջազգային ցուցահանդեսների մասնակցություն "Հայաստան" տաղավարով, հատ
A93: Հայկական բարձր տեխնոլոգիական ապրանքների և ծառայությունների ոլորտի ուսոմնասիրում, հատ
A94: Հայաստանում կազմակերպվող ֆորումների և ցուցահանդեսների քանակը, հատ | C94: -1 | D94: -1 | E94: -1
A95: Միջոցառման վրա կատարվող ծախսը (հազար դրամ) | C95: -18000 | D95: -18000 | E95: -18000
A97: Ծրագրի դասիչը` | B97: 1043
A98: Միջոցառման դասիչը` | B98: 11008 | C98: Առաջին կիսամյակ | D98: Ինն ամիս | E98: Տարի
A99: Միջոցառման անվանումը` | B99: «Կորոնավիրուսի (COVID-19) տնտեսական հետևանքների չեզոքացման 17-րդ միջոցառման շրջանակներում աջակցության տրամադրում»
A100: Նկարագրությունը` | B100: «Կորոնավիրուսի (COVID-19) տնտեսական հետևանքների չեզոքացման 17-րդ միջոցառման շահառու համարվող տնտեսավարող սուբյեկտներին աջակցության տրամադրում
A101: Միջոցառման տեսակը` | B101: Ծառայությունների մատուցում
A102: Միջոցառումն իրականացնողի անվանումը | B102: ՀՀ բարձր տեխնոլոգիական արդյունաբերության նախարարություն
A103: Արդյունքի չափորոշիչներ
A104: Նորարարական դրամաշնորհները, քանակը, հատ
A105: Կայացած ընկերությունների դրամաշնորհներ, քանակը, հատ | C105: -3 | D105: -3 | E105: -3
A106: Միջոցառման վրա կատարվող ծախսը (հազար դրամ) | C106: -51000 | D106: -51000 | E106: -68000
A108: Ծրագրի դասիչը | B108: Ծրագրի անվանումը
A109: 1164 | B109: Հեռահաղորդակցության ապահովում
A111: Ծրագրի միջոցառումները
A113: Ծրագրի դասիչը` | B113: 1164
A114: Միջոցառման դասիչը` | B114: 11002 | C114: Առաջին կիսամյակ | D114: Ինն ամիս | E114: Տարի
A115: Միջոցառման անվանումը` | B115: Թվային հեռուստահեռարձակման ապահովման ծառայություններ
A116: Նկարագրությունը` | B116: Հայաստանի Հանրապետությունում թվային հեռուստահեռարձակման ապահովման շրջանակներում հանրապետական սփռման մուլտիպլեքսի արբանյակային տարածման համար արբանյակային ունակության վարձակալում
A117: Միջոցառման տեսակը` | B117: Ծառայությունների մատուցում
A118: Միջոցառումն իրականացնողի անվանումը | B118: Մասնագիտացված կազմակերպություն
A119: Արդյունքի չափորոշիչներ
A120: Հայաստանի Հանրապետությունում մուլտիպլեքսի արբանյակային տարածման համար արբանյակային ունակության վարձակալում, հատ
A121: ՀՀ ողջ տարածքում հեռուստահեռարձակման ծածկույթը, տոկոս
A122: Միջոցառման վրա կատարվող ծախսը (հազար դրամ) | C122: 0 | D122: 0 | E122: -15000
D125: Աղյուսակ 9.1.18
D126: Աղյուսակ 9.1.25
A127: ՀՀ կադաստրի կոմիտե
A128: ՄԱՍ 1. ՊԵՏԱԿԱՆ ՄԱՐՄՆԻ ԳԾՈՎ ԱՐԴՅՈՒՆՔԱՅԻՆ (ԿԱՏԱՐՈՂԱԿԱՆ) ՑՈՒՑԱՆԻՇՆԵՐԸ
...

Sheet Հավելված N 8
G1: Հավելված N 8
A4: ՀԱՅԱՍՏԱՆԻ ՀԱՆՐԱՊԵՏՈՒԹՅԱՆ ԿԱՌԱՎԱՐՈՒԹՅԱՆ 2020 ԹՎԱԿԱՆԻ ԴԵԿՏԵՄԲԵՐԻ 30-Ի N 2215-Ն ՈՐՈՇՄԱՆ N 10 ՀԱՎԵԼՎԱԾՈՒՄ ԿԱՏԱՐՎՈՂ ՓՈՓՈԽՈՒԹՅՈՒՆՆԵՐԸ
A8: Կոդը | B8: Անվանումը | C8: Գնման ձևը | D8: Չափման միավորը | E8: Ցուցանիշների փոփոխությունը (ավելացումները նշված են դրական նշանով, իսկ նվազեցումները` փակագծերում)
E9: միավորի գինը (դրամով) | F9: քանակը | G9: գումարը (հազար դրամով)
G10: =G11+G46+G57+G63+G101+G107+G95+G36+G18+G24 -> -82044.9
B11: ՀՀ սահմանադրական դատարան | G11: =G12 -> -1300
A12: Բաժին N03 | B12: Խումբ N03 Դաս N01 | C12: Դատարաններ | G12: =G13 -> -1300
A13: 1092 11001 | B13: ՀՀ սահմանադրական դատարանի գործունեության և սահմանադրական արդարադատության ապահովում | G13: =G14 -> -1300
B14: ՄԱՍ III. ԾԱՌԱՅՈՒԹՅՈՒՆՆԵՐ | G14: =G15+G16 -> -1300
A15: 64211110-1 | B15: տեղայաին հեռախոսային ծառայություններ | C15: ՄԱ | D15: դրամ | G15: -300 | H15: 4236
A16: 79111200-1 | B16: ներկայացուցչական ծառայություններ | C16: ՄԱ | D16: դրամ | G16: -1000 | H16: 4239 | J16: =+G16+#REF!+#REF!+G46+G47+G48+G49+G50+G51+#REF! -> #REF!
B18: ՀՀ բարձր տեխնոլոգիական արդյունաբերության նախարարություն | G18: =G19 -> -15000
A19: Բաժին N08 | B19: Խումբ N03 Դաս N01 | C19: Հեռահաղորդակցության ապահովում | G19: =G20 -> -15000
A20: 1164 11002 | B20: Թվային հեռուստահեռարձակման ապահովման ծառայություններ | G20: =G21 -> -15000
B21: ՄԱՍ III. ԾԱՌԱՅՈՒԹՅՈՒՆՆԵՐ | G21: =G22 -> -15000
A22: 64211250-1 | B22: արբանյակային կապի վարձակալության ծառայություններ | C22: ՄԱ | D22: դրամ | G22: -15000
B24: ՀՀ արդարադատության նախարարություն | G24: =G25 -> -5147.7
A25: Բաժին N01 | B25: Խումբ N01 Դաս N01 | C25: Օրենսդիր և գործադիր մարմիններ, պետական կառավարում | G25: =G26 -> -5147.7
A26: 1057 11001 | B26: Արդարադատության ոլորտում քաղաքականության, խորհրդատվության, մոնիթորինգի, գնման և աջակցության իրականացում | G26: =G27+G30 -> -5147.7
B27: ՄԱՍ I. ԱՊՐԱՆՔՆԵՐ | G27: =G28+G29 -> -2080.5
A28: 09132200-1 | B28: բենզին, ռեգուլյար | C28: ԳՀ | D28: լիտր | E28: 390 | F28: -2005 | G28: -782
A29: 30121460-1 | B29: տոներային քարտրիջներ | C29: ԳՀ | D29: հատ | E29: 2450 | F29: -530 | G29: -1298.5
B30: ՄԱՍ III. ԾԱՌԱՅՈՒԹՅՈՒՆՆԵՐ | G30: =G31+G32+G33+G34 -> -3067.2
A31: 70221100-1 | B31: ոչ բնակելի անշարժ գույքի վարձակալության կամ լիզինգի ծառայություններ | C31: ՄԱ | D31: դրամ | G31: -16.7
A32: 72321200-1 | B32: տվյալների կառավարման ծառայություններ | C32: ԳՀ | D32: դրամ | G32: -11
A33: 92421100-1 | B33: թերթերում հայտարարությունների տպագրման ծառայություն | C33: ՄԱ | D33: դրամ | G33: -39.5
A34: 72511700-7 | B34: համակարգչային տեխնիկայի կառավարման ծառայություններ համակարգչային համակարգերի սպասարկման համար | C34: ԳՀ | D34: դրամ | G34: -3000
B36: ՀՀ արտաքին գործերի նախարարություն | G36: =G37 -> -32750
A37: Բաժին N08 | B37: Խումբ N03 Դաս N02 | C37: Հրատարակչություններ, խմբագրություններ | G37: =G38 -> -32750
A38: 1061 11002 | B38: ՀՀ մուտքի վիզաների, վերադարձի վկայականների և պաշտպանված ձևաթղթերի տպագրության աշխատանքների իրականացում | G38: =G39 -> -32750
B39: ՄԱՍ III. ԾԱՌԱՅՈՒԹՅՈՒՆՆԵՐ | G39: =G40 -> -32750
A40: 79821200-1 | B40: այլ պոլիգրաֆիական արտադրանքի տպագրման ծառայություն | C40: ԳՀ | D40: դրամ | G40: -32750
A42: 1006 11003 | B42: ՀՀ պետական պարտքի կառավարման գործընթացի հրապարակայնության ապահովում | G42: =G43 -> -113.8
B43: ՄԱՍ III. ԾԱՌԱՅՈՒԹՅՈՒՆՆԵՐ | G43: =G44 -> -113.8
A44: 79821170-504 | B44: տպագրական ― առաքման ծառայություններ | C44: ԳՀ | D44: դրամ | G44: -113.8
B46: ՀՀ կադաստրի կոմիտե | G46: =G47 -> -3091 | H46: 4239
A47: Բաժին N01 | B47: Խումբ N06 Դաս N01 | C47: Ընդհանուր բնույթի հանրային ծառայություններ (այլ դասերին չպատկանող) | G47: =G48 -> -3091 | H47: 4239
A48: 1012 11001 | B48: Գույքի նկատմամբ իրավունքների պետական գրանցում, գույքի և դրա նկատմամբ գրանցված իրավունքների և սահմանափակումների վերաբերյալ տեղեկատվության տրամադրում | G48: =G49+G51+G53 -> -3091 | H48: 4239
B49: ՄԱՍ I. ԱՊՐԱՆՔՆԵՐ | G49: =G50 -> -1000 | H49: 4239
A50: 30197646-2 | B50: թուղթ՝ A3 ֆորմատի | C50: ԳՀ | D50: կգ | E50: 640 | F50: -1562.5 | G50: -1000 | H50: 4239
B51: ՄԱՍ II. ԱՇԽԱՏԱՆՔՆԵՐ | G51: =G52 -> -1000 | H51: 4239
A52: 45461100-1 | B52: շենքերի, շինությունների ընթացիկ նորոգման աշխատանքներ | C52: ԳՀ | D52: դրամ | G52: -1000 | H52: 4252 | J52: =+G52+#REF!+G53+G54+G55+G56 -> #REF!
B53: ՄԱՍ III. ԾԱՌԱՅՈՒԹՅՈՒՆՆԵՐ | G53: =G54+G55 -> -1091 | H53: 4252
A54: 66511170-2 | B54: փոխադրամիջոցների հետ կապված ապահովագրական ծառայություններ | C54: ԳՀ | D54: դրամ | E54: 91000 | F54: -1 | G54: -91 | H54: 4252
A55: 72212223-1 | B55: տվյալների անվտանգության համակարգչային ծրագրային փաթեթների մշակման ծառայություններ | C55: ԳՀ | D55: դրամ | G55: -1000 | H55: 4252
H56: 4252
B57: Մարդու իրավունքների պաշտպանի աշխատակազմ | G57: =G58 -> -300
A58: Բաժին N03 | B58: Խումբ N03 Դաս N02 | C58: Իրավական պաշտպանություն | G58: =G59 -> -300
A59: 1060 11001 | B59: Մարդու իրավունքների և հիմնարար ազատությունների պաշտպանության ծառայությունների տրամադրում | G59: =G60 -> -300
B60: ՄԱՍ III. ԾԱՌԱՅՈՒԹՅՈՒՆՆԵՐ | G60: =G61+G62 -> -300
A61: 71241200-1 | B61: նախագծերի պատրաստում, ծախսերի գնահատում | C61: ՄԱ | D61: դրամ | E61: 300000 | F61: -1 | G61: -300
B63: ՀՀ քննչական կոմիտե | G63: =G64 -> -22100
A64: Բաժին N03 | B64: Խումբ N07 Դաս N01 | C64: Նախաքննություն | G64: =G65 -> -22100
A65: 1180 11001 | B65: Քրեական գործերով վարույթի իրականացում | G65: =G66+G90 -> -22100
B66: ՄԱՍ I. ԱՊՐԱՆՔՆԵՐ | G66: =G67+G68+G69+G70+G71+G72+G73+G74+G75+G76+G77+G78+G79+G80+G81+G82+G83+G84+G85+G86+G87+G88+G89 -> -8800
A67: 22451180-1 | B67: պատվերով տպագրվող նյութեր | C67: ԳՀ | D67: հատ | G67: -226
A68: 22451180-2 | B68: պատվերով տպագրվող նյութեր | C68: ԳՀ | D68: հատ | G68: -222.4
A69: 22851200-1 | B69: թղթապանակ | C69: ԳՀ | D69: հատ | G69: -117.6
A70: 22851200-2 | B70: թղթապանակ | C70: ԳՀ | D70: հատ | G70: -434
A71: 30197622-1 | B71: թուղթ՝ A4 ֆորմատի | C71: ԳՀ | D71: կգ | G71: -4965.3
A72: 24951310-1 | B72: հակասառիչ հեղուկ՝ A դասի կոնցենտրանտ, A-40 դասի՝ 40 C աստիճան սառման ջերմաստիճանով, A-65 դասի՝ 65 C սառման ջերմաստիճանով | C72: ԳՀ | D72: լիտր | G72: -163.8
A73: 09211100-1 | B73: շարժիչի յուղեր | C73: ԳՀ | D73: լիտր | G73: -40
A74: 09211100-2 | B74: շարժիչի յուղեր | C74: ԳՀ | D74: լիտր | G74: -104
A75: 09132200-503 | B75: բենզին, ռեգուլյար | C75: ԲՄ | D75: լիտր | G75: -342.9
A76: 34351200-1 | B76: ավտոմեքենաների անիվներ | C76: ԳՀ | D76: հատ | G76: -142.8
A77: 34351200-12 | B77: ավտոմեքենաների անիվներ | C77: ԳՀ | D77: հատ | G77: -117.2
A78: 34351200-13 | B78: ավտոմեքենաների անիվներ | C78: ԳՀ | D78: հատ | G78: -74.5
... A86: 33761100-1 | B86: զուգարանի թուղթ | C86: ԳՀ | D86: հատ | G86: -165
A87: 44141200-1 | B87: շրջանակներ | C87: ՄԱ | D87: հատ | E87: 1500 | F87: -203 | G87: -304.5
A88: 44423400-3 | B88: ցուցանակներ եւ հարակից առարկաներ | C88: ԳՀ | D88: հատ | G88: -51
A89: 44423400-2 | B89: ցուցանակներ եւ հարակից առարկաներ | C89: ԳՀ | D89: հատ | G89: -150
B90: ՄԱՍ III. ԾԱՌԱՅՈՒԹՅՈՒՆՆԵՐ | G90: =G91+G92+G93 -> -13300
A91: 65211100-1 | B91: գազի բաշխում | C91: ՄԱ | D91: դրամ | G91: -6000
A92: 64211100-1 | B92: հանրային հեռախոսային ծառայություններ | C92: ՄԱ | D92: դրամ | G92: -6000
A93: 48511700-2 | B93: տեղեկատվական տեխնոլոգիաների համակարգչային ծրագրային փաթեթներ | C93: ԳՀ | D93: դրամ | G93: -1300
B95: ՀՀ Սյունիքի մարզպետարան | G95: =G96 -> -590.7
A96: Բաժին N01 | B96: Խումբ N01 Դաս N01 | C96: Օրենսդիր և գործադիր մարմիններ, պետական կառավարում | G96: =G97 -> -590.7
A97: 1047 11001 | B97: ՀՀ Սյունիքի մարզպետարանի կողմից տարածքային պետական կառավարման ապահովում | G97: =G98 -> -590.7
B98: ՄԱՍ III. ԾԱՌԱՅՈՒԹՅՈՒՆՆԵՐ | G98: =G99 -> -590.7
A99: 64211110-1 | B99: տեղային հեռախոսային ծառայություններ | C99: ԳՀ | D99: դրամ | G99: -590.7
B101: ՀՀ Վայոց ձորի մարզպետարան | G101: =G102 -> -1740.7
A102: Բաժին N01 | B102: Խումբ N01 Դաս N01 | C102: Օրենսդիր և գործադիր մարմիններ, պետական կառավարում | G102: =G103 -> -1740.7
A103: 1051 11001 | B103: ՀՀ Վայոց ձորի մարզպետարանի կողմից տարածքային պետական կառավարման ապահովում | G103: =G104+G106 -> -1740.7
B104: ՄԱՍ III. ԾԱՌԱՅՈՒԹՅՈՒՆՆԵՐ | G104: =G105+G106 -> -1740.7
A105: 48441300-1 | B105: հաշվապահական համակարգչային ծրագրային փաթեթներ | C105: ԳՀ | D105: դրամ | G105: -1740.7
B107: ՀՀ Տավուշի մարզպետարան | G107: =G108 -> -24.8
A108: Բաժին N01 | B108: Խումբ N01 Դաս N01 | C108: Օրենսդիր և գործադիր մարմիններ, պետական կառավարում | G108: =G109 -> -24.8
A109: 1055 11001 | B109: ՀՀ Տավուշի մարզպետարանի կողմից տարածքային պետական կառավարման ապահովում | G109: =G110+G113 -> -24.8
B110: ՄԱՍ I. ԱՊՐԱՆՔՆԵՐ | G110: =G111+G112 -> -17.8 | H110: 4261 | J110: =SUM(#REF!) -> #REF!
A111: 22211100-1 | B111: թերթեր | C111: ՄԱ | D111: հատ | G111: -7.8 | H111: 4261
A112: 22211400-1 | B112: պարբերական հրապարակումներ | C112: ՄԱ | D112: հատ | E112: 5000 | F112: -2 | G112: -10 | H112: 4261
B113: ՄԱՍ III. ԾԱՌԱՅՈՒԹՅՈՒՆՆԵՐ | G113: =G114 -> -7
A114: 66511170-1 | B114: փոխադրամիջոցների հետ կապված ապահովագրական ծառայություններ | C114: ՄԱ | D114: դրամ | G114: -7
