Workbook
Name _tab10: #REF!
Name _tab10: #REF!
Name _tab11: #REF!
Name _tab11: #REF!
Name _tab12: #REF!
Name _tab12: #REF!
Name _tab13: #REF!
Name _tab13: #REF!
Name _tab14: #REF!
Name _tab14: #REF!
Name _tab15: #REF!
Name _tab15: #REF!
Name _tab16: #REF!
Name _tab16: #REF!
Name _tab17: #REF!
Name _tab17: #REF!
Name _tab18: #REF!
Name _tab18: #REF!
Name _tab19: #REF!
Name _tab19: #REF!
Name _tab20: #REF!
Name _tab20: #REF!
Name _tab21: #REF!
Name _tab21: #REF!
Name _tab22: #REF!
Name _tab22: #REF!
Name _tab23: #REF!
Name _tab23: #REF!
Name _tab24: #REF!
Name _tab24: #REF!
Name _tab5: #REF!
Name _tab5: #REF!
Name _tab6: #REF!
Name _tab6: #REF!
Name _tab7: #REF!
Name _tab7: #REF!
Name _tab8: #REF!
Name _tab8: #REF!
Name _tab9: #REF!
Name _tab9: #REF!
Name par_count: #REF!,#REF!,#REF!,#REF!,#REF!,#REF!,#REF!,#REF!,#REF!,#REF!,#REF!,#REF!,#REF!,#REF!,#REF!
Name par_count: #REF!,#REF!,#REF!,#REF!,#REF!,#REF!,#REF!,#REF!,#REF!,#REF!,#REF!,#REF!,#REF!,#REF!,#REF!
Name par_qual: #REF!,#REF!,#REF!,#REF!,#REF!
Name par_qual: #REF!,#REF!,#REF!,#REF!,#REF!
Name par_time: #REF!,#REF!,#REF!,#REF!
Name par_time: #REF!,#REF!,#REF!,#REF!
Name par2.12s: #REF!
Name par2.12s: #REF!
Name par2.4s: #REF!,#REF!,#REF!,#REF!,#REF!,#REF!,#REF!,#REF!,#REF!,#REF!,#REF!,#REF!,#REF!,#REF!,#REF!,#REF!
Name par2.4s: #REF!,#REF!,#REF!,#REF!,#REF!,#REF!,#REF!,#REF!,#REF!,#REF!,#REF!,#REF!,#REF!,#REF!,#REF!,#REF!
Name par2.5s: #REF!,#REF!
Name par2.5s: #REF!,#REF!
Name par2.6s: #REF!,#REF!,#REF!,#REF!
Name par2.6s: #REF!,#REF!,#REF!,#REF!
Name par2.7s: #REF!,#REF!
Name par2.7s: #REF!,#REF!
Name par2.9s: #REF!,#REF!,#REF!,#REF!,#REF!,#REF!,#REF!,#REF!,#REF!,#REF!,#REF!,#REF!,#REF!,#REF!,#REF!,#REF!
Name par2.9s: #REF!,#REF!,#REF!,#REF!,#REF!,#REF!,#REF!,#REF!,#REF!,#REF!,#REF!,#REF!,#REF!,#REF!,#REF!,#REF!
Name par4.10s: #REF!,#REF!
Name par4.10s: #REF!,#REF!

Sheet 1
E1: Հավելված № 1
E2: ՀՀ կառավարության 2021 թվականի
E3: -------------- ի № ---- -Ն որոշման
B5: ՀՀ ԿԱՌԱՎԱՐՈՒԹՅԱՆ 2020 ԹՎԱԿԱՆԻ ԴԵԿՏԵՄԲԵՐԻ 30-Ի № 2215-Ն ՈՐՈՇՄԱՆ № 1 ՀԱՎԵԼՎԱԾԻ № 1 ԱՂՅՈՒՍԱԿԻ ՑՈՒՑԱՆԻՇՆԵՐՈՒՄ ԿԱՏԱՐՎՈՂ ԼՐԱՑՈՒՄՆԵՐԸ
E6: հազար դրամ
B7: Պետական բյուջեի դեֆիցիտի ֆինանսավորման աղբյուրների ու դրանց տարրերի անվանումները | C7: Ցուցանիշների փոփոխությունը (մուտքերի ավելացումները նշված են դրական նշանով)
C8: Առաջին կիսամյակ | D8: Ինն ամիս | E8: Տարի
B9: ԸՆԴԱՄԵՆԸ | C9: 327758.2 | D9: =C9 -> 327758.2 | E9: =+E11 -> 0
B10: այդ թվում՝
B11: Ա.Ներքին աղբյուրներ-ընդամենը | C11: 327758.2 | D11: 327758.2 | E11: =+E12 -> 0
B12: 2. Ֆինանսական զուտ ակտիվներ | C12: 327758.2 | D12: 327758.2 | E12: =+E14 -> 0
B13: այդ թվում՝
B14: 2.6.Այլ | C14: =C12 -> 327758.2 | D14: =D12 -> 327758.2 | E14: =SUM(E15:E15) -> 0
B15: ժամանակավորապես ազատ միջոցներ | C15: =C14 -> 327758.2 | D15: =D14 -> 327758.2 | E15: =+'[1]2'!F9 -> 0

Sheet 2
F1: Հավելված № 2
F2: Կառավարության 2021 թվականի
F3: ________ N ____-Ն որոշման
A5: «ՀԱՅԱՍՏԱՆԻ ՀԱՆՐԱՊԵՏՈՒԹՅԱՆ 2021 ԹՎԱԿԱՆԻ ՊԵՏԱԿԱՆ ԲՅՈՒՋԵԻ ՄԱՍԻՆ» ՕՐԵՆՔԻ N 1 ՀԱՎԵԼՎԱԾԻ N 7 ԱՂՅՈՒՍԱԿՈՒՄ ԵՎ ՀԱՅԱՍՏԱՆԻ ՀԱՆՐԱՊԵՏՈՒԹՅԱՆ ԿԱՌԱՎԱՐՈՒԹՅԱՆ 2020 ԹՎԱԿԱՆԻ ԴԵԿՏԵՄԲԵՐԻ 30-Ի N 2215-Ն ՈՐՈՇՄԱՆ N 5 ՀԱՎԵԼՎԱԾԻ N 6 ԱՂՅՈՒՍԱԿՈՒՄ ԿԱՏԱՐՎՈՂ ՓՈՓՈԽՈՒԹՅՈՒՆԸ ԼՐԱՑՈՒՄՆԵՐԸ
F6: հազար դրամ
A7: Ծրագրային դասիչը | C7: Բյուջետային հատկացումների գլխավոր կարգադրիչների, ծրագրերի, միջոցառումների և միջոցառումները կատարող պետական մարմինների անվանումները | D7: Ցուցանիշների փոփոխությունը (ավելացումները նշված են դրական նշանով, իսկ նվազեցումները` փակագծերում)
A8: Ծրագիր | B8: Միջոցառում | D8: Առաջին կիսամյակ | E8: Ինն ամիս | F8: Տարի
C9: ԸՆԴԱՄԵՆԸ | D9: ='1'!C9 -> 327758.2 | E9: ='1'!D9 -> 327758.2 | F9: ='1'!E9 -> 0
C10: այդ թվում
A11: Կապիտալ սուբվենցիաներ համայնքներին | D11: =D9 -> 327758.2 | E11: =E9 -> 327758.2 | F11: =F9 -> 0
A12: այդ թվում`
A13: ՀՀ տարածքային կառավարման և ենթակառուցվածքների նախարարություն | D13: =D11 -> 327758.2 | E13: =E11 -> 327758.2 | F13: =F11 -> 0
A14: այդ թվում`
A15: 1212 | B15: Տարածքային զարգացում | D15: =D13 -> 327758.2 | E15: =E13 -> 327758.2 | F15: =F13 -> 0
C16: այդ թվում`
B17: 12007 | C17: ՀՀ մարզերին սուբվենցիաների տրամադրում՝ ենթակառուցվածքների զարգացման նպատակով | D17: =D15 -> 327758.2 | E17: =E15 -> 327758.2 | F17: =F15 -> 0
C18: այդ թվում` ըստ կատարողների
C19: ՀՀ կառավարություն | D19: -500000 | E19: -500000 | F19: =E19-'1'!C9 -> -827758.2
C20: ՀՀ Արմավիրի մարզպետարան | D20: =D22+D23+D24+D25 -> 38099.5 | E20: =SUM(E22:E25) -> 38099.5 | F20: =SUM(F22:F25) -> 38099.5
C21: այդ թվում` ըստ ուղղությունների
C22: Խանջյան համայնքի մշակույթի տան էլեկտրատեխնիկական մասի/արևային ֆոտովոլտային համակարգի 5-րդ փող 2 հասցեում/ տեղակայում | D22: 4797.7 | E22: 4797.7 | F22: 4797.7
C23: Նորակերտ համայնքի գազիֆիկացում | D23: 16387.5 | E23: 16387.5 | F23: 16387.5
C24: Նոր Կեսարիա համայնքի մշակույթի տան մասնակի վերանորոգում | D24: 4578 | E24: =D24 -> 4578 | F24: =E24 -> 4578
C25: Նալբանդյան համայնքում արևային ֆոտովոլտային կայանների տեղադրում | D25: 12336.3 | E25: 12336.3 | F25: 12336.3
C27: ՀՀ Գեղարքունիքի մարզպետարան | D27: =D29+D30+D31 -> 80716 | E27: =E29+E30+E31 -> 80716 | F27: =F29+F30+F31 -> 80716
C28: այդ թվում` ըստ ուղղությունների
C29: Ճամբարակ համայնքի Գետիկ, Դպրաբակ, Թթուջուր, Ձորավանք, Մարտունի բնակավայրերում, ինչպես նաև Ճամբարակ քաղաքի Ազատամարտիկների, Արցախի, Զ. Անդրանիկի, Իսահակյան, Լեոյի, Մաշտոցի, Նարեկացի, Պ. Սևակ փողոցների և Պ. Սևակ Տ. Մեծ փողոցները միմյանց կապող հետիոտնային արահետի լուսավորության ցանցի անցկացում | D29: 6983.4 | E29: 6983.4 | F29: 6983.4
C30: Գավառ համայնքի թիվ 8 մանկապարտեզ ՀՈԱԿ-ի շենքի վերանորոգում | D30: 55785.5 | E30: 55785.5 | F30: 55785.5
C31: Զոլաքար համայնքի մանկապարտեզի շենքի կառուցում | D31: 17947.1 | E31: =D31 -> 17947.1 | F31: =E31 -> 17947.1
C33: ՀՀ Լոռու մարզպետարան | D33: =SUM(D35:D37) -> 200474.7 | E33: =SUM(E35:E37) -> 200474.7 | F33: =SUM(F35:F37) -> 200474.7
C34: այդ թվում` ըստ ուղղությունների
C35: Շնող համայնքի Քարկոսի,Թեղուտ գյուղերի և Շնող գյուղի «Չալեր»,«Շեկ աղբյուր», Վարդուտ թաղամասերի գազիֆիկացում | D35: 151105.6 | E35: 151105.6 | F35: 151105.6
C36: Ախթալա համայնքի ներհամայնքային ճանապարհների բարեկարգում՝ մասնակի նորոգման, տուֆապատման միջոցով | D36: 49369.1 | E36: 49369.1 | F36: 49369.1
C38: ՀՀ Կոտայքի մարզպետարան | D38: =D40+D41+D42+D43+D44+D45 -> 232911.4 | E38: =E40+E41+E42+E43+E44+E45 -> 232911.4 | F38: =F40+F41+F42+F43+F44+F45 -> 232911.4
C39: այդ թվում` ըստ ուղղությունների
C40: Քաղսի համայնքի մշակույթի տան դահլիճի վերանորոգում | D40: 6347.7 | E40: 6347.7 | F40: 6347.7
C41: Նոր Երզնկա համայնքի պուրակի կառուցում | D41: 6223.2 | E41: 6223.2 | F41: 6223.2
C42: Նոր Երզնկա համայնքի խաղահրապարակի կառուցում | D42: 6985.4 | E42: 6985.4 | F42: 6985.4
C43: Նոր Գեղի համայնքում ֆոտովոլտային կայանի տեղադրում | D43: 15449.8 | E43: 15449.8 | F43: 15449.8
C44: Ջրվեժ գյուղի մանկապարտեզի կառուցում | D44: 181550.3 | E44: 181550.3 | F44: 181550.3
C45: Առինջ համայնքի Խ․Աղովյան 2-րդ, Պ․ Սևակի թաղ 8-րդ փող Մնացականյան փող․ 4-րդ, 10-րդ, 12-րդ, և 14-րդ փող 1-ին և 2-րդ փակուղիների փողոցների արտաքին լուսավորության աշխատանքներ | D45: 16355 | E45: 16355 | F45: 16355
C47: ՀՀ Վայոց ձորի մարզպետարան | D47: =SUM(D49:D49) -> 10284.5 | E47: =SUM(E49:E49) -> 10284.5 | F47: =SUM(F49:F49) -> 10284.5
C48: այդ թվում` ըստ ուղղությունների
C49: Արենի համայնքի Աղավնաձոր,Արենի,Ելփին,Չիվա,Խաչիկ,Ռինդ,Արփի, Գնիշիկ բնակավայրերում խմելու ջրի կապտաժների և ջրագծերի կառուցում ,կոյուղագծերի կառուցում Աղավնաձոր բնակավայրում | D49: 10284.5 | E49: 10284.5 | F49: 10284.5
C51: ՀՀ Սյունիքի մարզպետարան | D51: =D53+D54 -> 265272.1 | E51: =E53+E54 -> 265272.06 | F51: =F53+F54 -> 265272.06
C52: այդ թվում` ըստ ուղղությունների
C53: Կապան համայնքի «Հասարակական շենքերի (արվեստի թանգարան, Ձորք թաղամասի ակումբ, գրադարան, ՔԿԱԳ գրասենյակ) նորոգում» | D53: 118244.9 | E53: 118244.9 | F53: 118244.9
C54: Կապան համայնքի «Կապան քաղաքի թիվ 8 և Դավիթ Բեկ բնակավայրի ՆՈՒՀ-երի շենքերի վերանորոգում և Վարդավանք բնակավայրում այլընտրանքային ՆՈՒՀ-ի համար նախատեսվող շենքի վերանորոգում» | D54: 147027.2 | E54: 147027.16 | F54: 147027.16

Sheet 3
F1: Հավելված № 3
F2: ՀՀ կառավարության 2021 թվականի
F3: -------------- ի № ---- -Ն որոշման
A5: ՀԱՅԱՍՏԱՆԻ ՀԱՆՐԱՊԵՏՈՒԹՅԱՆ ԿԱՌԱՎԱՐՈՒԹՅԱՆ 2020 ԹՎԱԿԱՆԻ ԴԵԿՏԵՄԲԵՐԻ 30-Ի № 2215-Ն ՈՐՈՇՄԱՆ № 5 ՀԱՎԵԼՎԱԾԻ № 1 ԱՂՅՈՒՍԱԿՈՒՄ ԿԱՏԱՐՎՈՂ ԼՐԱՑՈՒՄԸ
F6: հազար դրամ
A7: Ծրագրային դասիչը | C7: Բյուջետային հատկացումների գլխավոր կարգադրիչների, ծրագրերի և միջոցառումների անվանումները | D7: Ցուցանիշների փոփոխությունները (ավելացումները նշված են դրական նշանով)
A8: Ծրագիր | B8: Միջոցառում | D8: Առաջին կիսամյակ | E8: Ինն ամիս | F8: Տարի
C9: ԸՆԴԱՄԵՆԸ | D9: =D10 -> 327758.2 | E9: =E10 -> 327758.2 | F9: =F10 -> 0
C10: ՀՀ տարածքային կառավարման և ենթակառուցվածքների նախարարություն | D10: =D12 -> 327758.2 | E10: =+E12 -> 327758.2 | F10: =+F12 -> 0
C11: Ծրագրի անվանումը
A12: 1212 | C12: Տարածքային զարգացում | D12: =D19 -> 327758.2 | E12: =E19 -> 327758.2 | F12: =F19 -> 0
C13: Ծրագրի նպատակը
C14: Տարածքային համաչափ զարգացման խթանում
C15: Վերջնական արդյունքի նկարագրությունը
C16: ՀՀ համայնքների կառավարման արդյունավետության բարձրացում և տնտեսական գործունեության խթանում
A17: Ծրագրի միջոցառումներ
B18: 12007 | C18: Միջոցառման անվանումը
C19: ՀՀ մարզերին սուբվենցիաների տրամադրում՛ ենթակառուցվածքների զարգացման նպատակով | D19: =+'1'!C9 -> 327758.2 | E19: =+'1'!D9 -> 327758.2 | F19: =+'[1]1'!E15 -> 0
C20: Միջոցառման նկարագրությունը
C21: ՀՀ մարզերին սուբվենցիաների տրամադրում՛ ենթակառուցվածքների զարգացման նպատակով
C22: Միջոցառման տեսակը
C23: Տրանսֆերտների տրամադրում

Sheet 4
I1: Հավելված № 4
I2: ՀՀ կառավարության 2021 թվականի
I3: -------------- ի № ---- -Ն որոշման
A5: ՀԱՅԱՍՏԱՆԻ ՀԱՆՐԱՊԵՏՈՒԹՅԱՆ ԿԱՌԱՎԱՐՈՒԹՅԱՆ 2020 ԹՎԱԿԱՆԻ ԴԵԿՏԵՄԲԵՐԻ 30-Ի № 2215-Ն ՈՐՈՇՄԱՆ №№ 3 և 4 ՀԱՎԵԼՎԱԾՆԵՐՈՒՄ ԿԱՏԱՐՎՈՂ ՓՈՓՈԽՈՒԹՅՈՒՆՆԵՐԸ ԵՎ ԼՐԱՑՈՒՄՆԵՐԸ
H6: հազար դրամ
A7: Գործառական դասիչը | D7: Ծրագրային դասիչը | F7: Բյուջետային հատկացումների գլխավոր կարգադրիչների, ծրագրերի, միջոցառումների և միջոցառումները կատարող պետական մարմինների անվանումները | G7: Ցուցանիշների փոփոխությունները (ավելացումները նշված են դրական նշանով իսկ նվազեցումները` փակագծերում)
A8: բաժին | B8: խումբ | C8: դաս | D8: Ծրագիր | E8: Միջոցառում | G8: Առաջին կիսամյակ | H8: Ինն ամիս | I8: Տարի
A9: ԸՆԴԱՄԵՆԸ ԾԱԽՍԵՐ | G9: ='1'!C9 -> 327758.2 | H9: ='1'!D9 -> 327758.2 | I9: 0
A10: 01 | F10: ԸՆԴՀԱՆՈՒՐ ԲՆՈՒՅԹԻ ՀԱՆՐԱՅԻՆ ԾԱՌԱՅՈՒԹՅՈՒՆՆԵՐ | G10: =G9 -> 327758.2 | H10: =H9 -> 327758.2 | I10: 0
F11: այդ թվում՝
B12: 08 | F12: Կառավարության տարբեր մակարդակների միջև իրականացվող ընդհանուր բնույթի տրանսֆերտներ | G12: =G9 -> 327758.2 | H12: =H9 -> 327758.2 | I12: 0
F13: այդ թվում՝
C14: 01 | F14: Կառավարության տարբեր մակարդակների միջև իրականացվող ընդհանուր բնույթի տրանսֆերտներ | G14: =G12 -> 327758.2 | H14: =H12 -> 327758.2 | I14: 0
F15: այդ թվում՝
F16: ՀՀ տարածքային կառավարման և ենթակառուցվածքների նախարարություն | G16: =G14 -> 327758.2 | H16: =H14 -> 327758.2 | I16: 0
F17: այդ թվում՝
D18: 1212 | F18: Տարածքային զարգացում | G18: =G16 -> 327758.2 | H18: =H16 -> 327758.2 | I18: 0
F19: այդ թվում`
E20: 12007 | F20: ՀՀ մարզերին սուբվենցիաների տրամադրում՛ ենթակառուցվածքների զարգացման նպատակով_x000D_ | G20: ='1'!C9 -> 327758.2 | H20: ='1'!D9 -> 327758.2 | I20: 0
F21: այդ թվում` ըստ կատարողների
F22: ՀՀ կառավարություն | G22: =+G24 -> -500000 | H22: =+H24 -> -500000 | I22: =-H20+H22 -> -827758.2
F23: այդ թվում` բյուջետային ծախսերի տնտեսագիտական դասակարգման հոդվածներ
F24: ԸՆԴԱՄԵՆԸ ԾԱԽՍԵՐ | G24: =+G25 -> -500000 | H24: =+H25 -> -500000 | I24: =I22 -> -827758.2
F25: ԸՆԹԱՑԻԿ ԾԱԽՍԵՐ | G25: =+G26 -> -500000 | H25: =+H26 -> -500000 | I25: =I24 -> -827758.2
F26: ԴՐԱՄԱՇՆՈՐՀՆԵՐ | G26: =+G27 -> -500000 | H26: =+H27 -> -500000 | I26: =I24 -> -827758.2
F27: Կապիտալ դրամաշնորհներ պետական հատվածի այլ մակարդակներին | G27: =+G28 -> -500000 | H27: =+H28 -> -500000 | I27: =I25 -> -827758.2
F28: - Կապիտալ սուբվենցիաներ համայնքներին | G28: -500000 | H28: -500000 | I28: =I26 -> -827758.2
F29: ՀՀ Արմավիրի մարզպետարան | G29: =+G31 -> 38099.5 | H29: =+H31 -> 38099.5 | I29: =+I31 -> 38099.5
F30: այդ թվում` բյուջետային ծախսերի տնտեսագիտական դասակարգման հոդվածներ
F31: ԸՆԴԱՄԵՆԸ ԾԱԽՍԵՐ | G31: =G33 -> 38099.5 | H31: =H33 -> 38099.5 | I31: =I33 -> 38099.5
F32: ԸՆԹԱՑԻԿ ԾԱԽՍԵՐ | G32: =G33 -> 38099.5 | H32: =H33 -> 38099.5 | I32: =I33 -> 38099.5
F33: ԴՐԱՄԱՇՆՈՐՀՆԵՐ | G33: =G34 -> 38099.5 | H33: =H34 -> 38099.5 | I33: =I34 -> 38099.5
F34: Կապիտալ դրամաշնորհներ պետական հատվածի այլ մակարդակներին | G34: =+G35 -> 38099.5 | H34: =+H35 -> 38099.5 | I34: =+I35 -> 38099.5
F35: - Կապիտալ սուբվենցիաներ համայնքներին | G35: =+'2'!D20 -> 38099.5 | H35: =+'2'!E20 -> 38099.5 | I35: =+'2'!F20 -> 38099.5
F36: ՀՀ Գեղարքունիքի մարզպետարան | G36: =+G38 -> 80716 | H36: =+H38 -> 80716 | I36: =+I38 -> 80716
F37: այդ թվում` բյուջետային ծախսերի տնտեսագիտական դասակարգման հոդվածներ
F38: ԸՆԴԱՄԵՆԸ ԾԱԽՍԵՐ | G38: =G40 -> 80716 | H38: =H40 -> 80716 | I38: =I40 -> 80716
F39: ԸՆԹԱՑԻԿ ԾԱԽՍԵՐ | G39: =G40 -> 80716 | H39: =H40 -> 80716 | I39: =I40 -> 80716
F40: ԴՐԱՄԱՇՆՈՐՀՆԵՐ | G40: =G41 -> 80716 | H40: =H41 -> 80716 | I40: =I41 -> 80716
F41: Կապիտալ դրամաշնորհներ պետական հատվածի այլ մակարդակներին | G41: =+G42 -> 80716 | H41: =+H42 -> 80716 | I41: =+I42 -> 80716
F42: - Կապիտալ սուբվենցիաներ համայնքներին | G42: =+'2'!D27 -> 80716 | H42: ='2'!E27 -> 80716 | I42: ='2'!F27 -> 80716
F43: ՀՀ Լոռու մարզպետարան | G43: =+G45 -> 200474.7 | H43: =+H45 -> 200474.7 | I43: =+I45 -> 200474.7
F44: այդ թվում` բյուջետային ծախսերի տնտեսագիտական դասակարգման հոդվածներ
F45: ԸՆԴԱՄԵՆԸ ԾԱԽՍԵՐ | G45: =G47 -> 200474.7 | H45: =H47 -> 200474.7 | I45: =I47 -> 200474.7
F46: ԸՆԹԱՑԻԿ ԾԱԽՍԵՐ | G46: =G47 -> 200474.7 | H46: =H47 -> 200474.7 | I46: =I47 -> 200474.7
F47: ԴՐԱՄԱՇՆՈՐՀՆԵՐ | G47: =G48 -> 200474.7 | H47: =H48 -> 200474.7 | I47: =I48 -> 200474.7
F48: Կապիտալ դրամաշնորհներ պետական հատվածի այլ մակարդակներին | G48: =+G49 -> 200474.7 | H48: =+H49 -> 200474.7 | I48: =+I49 -> 200474.7
F49: - Կապիտալ սուբվենցիաներ համայնքներին | G49: =+'2'!D33 -> 200474.7 | H49: =+'2'!E33 -> 200474.7 | I49: =+'2'!F33 -> 200474.7
F50: ՀՀ Կոտայքի մարզպետարան | G50: =+G52 -> 232911.4 | H50: =+H52 -> 232911.4 | I50: =+I52 -> 232911.4
F51: այդ թվում` բյուջետային ծախսերի տնտեսագիտական դասակարգման հոդվածներ
F52: ԸՆԴԱՄԵՆԸ ԾԱԽՍԵՐ | G52: =G54 -> 232911.4 | H52: =H54 -> 232911.4 | I52: =I54 -> 232911.4
F53: ԸՆԹԱՑԻԿ ԾԱԽՍԵՐ | G53: =G54 -> 232911.4 | H53: =H54 -> 232911.4 | I53: =I54 -> 232911.4
F54: ԴՐԱՄԱՇՆՈՐՀՆԵՐ | G54: =G55 -> 232911.4 | H54: =H55 -> 232911.4 | I54: =I55 -> 232911.4
F55: Կապիտալ դրամաշնորհներ պետական հատվածի այլ մակարդակներին | G55: =+G56 -> 232911.4 | H55: =+H56 -> 232911.4 | I55: =+I56 -> 232911.4
F56: - Կապիտալ սուբվենցիաներ համայնքներին | G56: =+'2'!D38 -> 232911.4 | H56: =+'2'!E38 -> 232911.4 | I56: =+'2'!F38 -> 232911.4
F57: ՀՀ Վայոց ձորի մարզպետարան | G57: =+G59 -> 10284.5 | H57: =+H59 -> 10284.5 | I57: =+I59 -> 10284.5
F58: այդ թվում` բյուջետային ծախսերի տնտեսագիտական դասակարգման հոդվածներ
F59: ԸՆԴԱՄԵՆԸ ԾԱԽՍԵՐ | G59: =G61 -> 10284.5 | H59: =H61 -> 10284.5 | I59: =I61 -> 10284.5
F60: ԸՆԹԱՑԻԿ ԾԱԽՍԵՐ | G60: =G61 -> 10284.5 | H60: =H61 -> 10284.5 | I60: =I61 -> 10284.5
F61: ԴՐԱՄԱՇՆՈՐՀՆԵՐ | G61: =G62 -> 10284.5 | H61: =H62 -> 10284.5 | I61: =I62 -> 10284.5
F62: Կապիտալ դրամաշնորհներ պետական հատվածի այլ մակարդակներին | G62: =+G63 -> 10284.5 | H62: =+H63 -> 10284.5 | I62: =+I63 -> 10284.5
F63: - Կապիտալ սուբվենցիաներ համայնքներին | G63: =+'2'!D47 -> 10284.5 | H63: =+'2'!E47 -> 10284.5 | I63: =+'2'!F47 -> 10284.5
F64: ՀՀ Սյունիքի մարզպետարան | G64: 265272.1 | H64: 265272.1 | I64: 265272.1
F65: այդ թվում` բյուջետային ծախսերի տնտեսագիտական դասակարգման հոդվածներ
F66: ԸՆԴԱՄԵՆԸ ԾԱԽՍԵՐ | G66: 265272.1 | H66: 265272.1 | I66: 265272.1
F67: ԸՆԹԱՑԻԿ ԾԱԽՍԵՐ | G67: 265272.1 | H67: 265272.1 | I67: 265272.1
F68: ԴՐԱՄԱՇՆՈՐՀՆԵՐ | G68: 265272.1 | H68: 265272.1 | I68: 265272.1
F69: Կապիտալ դրամաշնորհներ պետական հատվածի այլ մակարդակներին | G69: 265272.1 | H69: 265272.1 | I69: 265272.1
F70: - Կապիտալ սուբվենցիաներ համայնքներին | G70: 265272.1 | H70: 265272.1 | I70: 265272.1

Sheet 5
E1: Հավելված № 5
E2: ՀՀ կառավարության 2021 թվականի
E3: -------------- ի № ---- -Ն որոշման
A5: ՀԱՅԱՍՏԱՆԻ ՀԱՆՐԱՊԵՏՈՒԹՅԱՆ ԿԱՌԱՎԱՐՈՒԹՅԱՆ 2020 ԹՎԱԿԱՆԻ ԴԵԿՏԵՄԲԵՐԻ 30-Ի № 2215-Ն ՈՐՈՇՄԱՆ № 9 ՀԱՎԵԼՎԱԾԻ № 9.8 ԱՂՅՈՒՍԱԿՈՒՄ ԿԱՏԱՐՎՈՂ ԼՐԱՑՈՒՄԸ
A6: ՀՀ տարածքային կառավարման և ենթակառուցվածքների նախարարություն
A9: Ծրագրի դասիչը | B9: Ծրագրի անվանումը
A10: 1212 | B10: Տարածքային զարգացում
A12: Ծրագրի միջոցառումները
A14: Ծրագրի դասիչը` | B14: 1212 | C14: Ցուցանիշների փոփոխությունները (ավելացումները նշված են դրական նշանով)
A15: Միջոցառման դասիչը` | B15: 12007 | C15: Առաջին կիսամյակ | D15: Ինն ամիս | E15: Տարի
A16: Միջոցառման անվանումը` | B16: ՀՀ մարզերին սուբվենցիաների տրամադրում` ենթակառուցվածքների զարգացման նպատակով_x000D_
A17: Նկարագրությունը` | B17: ՀՀ մարզերին սուբվենցիաների տրամադրում` ենթակառուցվածքների զարգացման նպատակով
A18: Միջոցառման տեսակը` | B18: Տրանսֆերտների տրամադրում
A19: Միջոցառումն իրականացնողի անվանումը | B19: ՀՀ համայնքներ
A20: Արդյունքի չափորոշիչներ
A21: ՀՀ համայնքների թիվ, հատ | C21: 16 | D21: 16 | E21: 16
A22: Միջոցառման վրա կատարվող ծախսը (հազար դրամ) | C22: ='1'!C9 -> 327758.2 | D22: ='1'!D9 -> 327758.2 | E22: ='1'!E9 -> 0

Sheet 6
D1: Հավելված № 6
D2: ՀՀ կառավարության 2021 թվականի
D3: -------------- ի № ---- -Ն որոշման
A5: ՀԱՅԱՍՏԱՆԻ ՀԱՆՐԱՊԵՏՈՒԹՅԱՆ ԿԱՌԱՎԱՐՈՒԹՅԱՆ 2020 ԹՎԱԿԱՆԻ ԴԵԿՏԵՄԲԵՐԻ 30-Ի № 2215-Ն ՈՐՈՇՄԱՆ № 9.1 ՀԱՎԵԼՎԱԾԻ № 9.1.50 ԱՂՅՈՒՍԱԿՈՒՄ ԿԱՏԱՐՎՈՂ ԼՐԱՑՈՒՄԸ
A6: ՀՀ Արմավիրի մարզպետարան
A8: ՄԱՍ 1. ՊԵՏԱԿԱՆ ՄԱՐՄՆԻ ԳԾՈՎ ԱՐԴՅՈՒՆՔԱՅԻՆ (ԿԱՏԱՐՈՂԱԿԱՆ) ՑՈՒՑԱՆԻՇՆԵՐԸ
A10: Ծրագրի դասիչը | B10: Ծրագրի անվանումը
A11: 1212 | B11: Տարածքային զարգացում
A13: Ծրագրի միջոցառումները
A15: Ծրագրի դասիչը` | B15: 1212 | C15: Ցուցանիշների փոփոխությունները (ավելացումները նշված են դրական նշանով)
A16: Միջոցառման դասիչը` | B16: 12007 | C16: Առաջին կիսամյակ | D16: Ինն ամիս | E16: Տարի
A17: Միջոցառման անվանումը` | B17: ՀՀ մարզերին սուբվենցիաների տրամադրում` ենթակառուցվածքների զարգացման նպատակով_x000D_
A18: Նկարագրությունը` | B18: ՀՀ մարզերին սուբվենցիաների տրամադրում` ենթակառուցվածքների զարգացման նպատակով
A19: Միջոցառման տեսակը` | B19: Տրանսֆերտների տրամադրում
A20: Միջոցառումն իրականացնողի անվանումը | B20: ՀՀ համայնքներ
A21: Արդյունքի չափորոշիչներ
A22: ՀՀ համայնքների թիվ, հատ | C22: 4 | D22: 4 | E22: 4
A23: Միջոցառման վրա կատարվող ծախսը (հազար դրամ) | C23: =+'2'!D20 -> 38099.5 | D23: =+'2'!E20 -> 38099.5 | E23: =+'2'!F20 -> 38099.5
A26: ՀԱՅԱՍՏԱՆԻ ՀԱՆՐԱՊԵՏՈՒԹՅԱՆ ԿԱՌԱՎԱՐՈՒԹՅԱՆ 2020 ԹՎԱԿԱՆԻ ԴԵԿՏԵՄԲԵՐԻ 30-Ի № 2215-Ն ՈՐՈՇՄԱՆ № 9.1 ՀԱՎԵԼՎԱԾԻ № 9.1.51 ԱՂՅՈՒՍԱԿՈՒՄ ԿԱՏԱՐՎՈՂ ԼՐԱՑՈՒՄԸ
A27: ՀՀ Գեղարքունիքի մարզպետարան
A29: ՄԱՍ 1. ՊԵՏԱԿԱՆ ՄԱՐՄՆԻ ԳԾՈՎ ԱՐԴՅՈՒՆՔԱՅԻՆ (ԿԱՏԱՐՈՂԱԿԱՆ) ՑՈՒՑԱՆԻՇՆԵՐԸ
A31: Ծրագրի դասիչը | B31: Ծրագրի անվանումը
A32: 1212 | B32: Տարածքային զարգացում
A34: Ծրագրի միջոցառումները
A36: Ծրագրի դասիչը` | B36: 1212 | C36: Ցուցանիշների փոփոխությունները (ավելացումները նշված են դրական նշանով)
A37: Միջոցառման դասիչը` | B37: 12007 | C37: Առաջին կիսամյակ | D37: Ինն ամիս | E37: Տարի
A38: Միջոցառման անվանումը` | B38: ՀՀ մարզերին սուբվենցիաների տրամադրում` ենթակառուցվածքների զարգացման նպատակով_x000D_
A39: Նկարագրությունը` | B39: ՀՀ մարզերին սուբվենցիաների տրամադրում` ենթակառուցվածքների զարգացման նպատակով
A40: Միջոցառման տեսակը` | B40: Տրանսֆերտների տրամադրում
A41: Միջոցառումն իրականացնողի անվանումը | B41: ՀՀ համայնքներ
A42: Արդյունքի չափորոշիչներ
A43: ՀՀ համայնքների թիվ, հատ | C43: 3 | D43: 3 | E43: 3
A44: Միջոցառման վրա կատարվող ծախսը (հազար դրամ) | C44: =+'2'!D27 -> 80716 | D44: =+'2'!E27 -> 80716 | E44: =+'2'!F27 -> 80716
A47: ՀԱՅԱՍՏԱՆԻ ՀԱՆՐԱՊԵՏՈՒԹՅԱՆ ԿԱՌԱՎԱՐՈՒԹՅԱՆ 2020 ԹՎԱԿԱՆԻ ԴԵԿՏԵՄԲԵՐԻ 30-Ի № 2215-Ն ՈՐՈՇՄԱՆ № 9.1 ՀԱՎԵԼՎԱԾԻ № 9.1.52 ԱՂՅՈՒՍԱԿՈՒՄ ԿԱՏԱՐՎՈՂ ԼՐԱՑՈՒՄԸ
A48: ՀՀ Լոռու մարզպետարան
A50: ՄԱՍ 1. ՊԵՏԱԿԱՆ ՄԱՐՄՆԻ ԳԾՈՎ ԱՐԴՅՈՒՆՔԱՅԻՆ (ԿԱՏԱՐՈՂԱԿԱՆ) ՑՈՒՑԱՆԻՇՆԵՐԸ
A52: Ծրագրի դասիչը | B52: Ծրագրի անվանումը
A53: 1212 | B53: Տարածքային զարգացում
A55: Ծրագրի միջոցառումները
A57: Ծրագրի դասիչը` | B57: 1212 | C57: Ցուցանիշների փոփոխությունները (ավելացումները նշված են դրական նշանով)
A58: Միջոցառման դասիչը` | B58: 12007 | C58: Առաջին կիսամյակ | D58: Ինն ամիս | E58: Տարի
A59: Միջոցառման անվանումը` | B59: ՀՀ մարզերին սուբվենցիաների տրամադրում` ենթակառուցվածքների զարգացման նպատակով_x000D_
A60: Նկարագրությունը` | B60: ՀՀ մարզերին սուբվենցիաների տրամադրում` ենթակառուցվածքների զարգացման նպատակով
A61: Միջոցառման տեսակը` | B61: Տրանսֆերտների տրամադրում
A62: Միջոցառումն իրականացնողի անվանումը | B62: ՀՀ համայնքներ
A63: Արդյունքի չափորոշիչներ
A64: ՀՀ համայնքների թիվ, հատ | C64: 2 | D64: 2 | E64: 2
A65: Միջոցառման վրա կատարվող ծախսը (հազար դրամ) | C65: =+'2'!D33 -> 200474.7 | D65: =+'2'!E33 -> 200474.7 | E65: =+'2'!F33 -> 200474.7
A68: ՀԱՅԱՍՏԱՆԻ ՀԱՆՐԱՊԵՏՈՒԹՅԱՆ ԿԱՌԱՎԱՐՈՒԹՅԱՆ 2020 ԹՎԱԿԱՆԻ ԴԵԿՏԵՄԲԵՐԻ 30-Ի № 2215-Ն ՈՐՈՇՄԱՆ № 9.1 ՀԱՎԵԼՎԱԾԻ № 9.1.53 ԱՂՅՈՒՍԱԿՈՒՄ ԿԱՏԱՐՎՈՂ ԼՐԱՑՈՒՄԸ
A69: ՀՀ Կոտայքի մարզպետարան
A71: ՄԱՍ 1. ՊԵՏԱԿԱՆ ՄԱՐՄՆԻ ԳԾՈՎ ԱՐԴՅՈՒՆՔԱՅԻՆ (ԿԱՏԱՐՈՂԱԿԱՆ) ՑՈՒՑԱՆԻՇՆԵՐԸ
A73: Ծրագրի դասիչը | B73: Ծրագրի անվանումը
A74: 1212 | B74: Տարածքային զարգացում
A76: Ծրագրի միջոցառումները
A78: Ծրագրի դասիչը` | B78: 1212 | C78: Ցուցանիշների փոփոխությունները (ավելացումները նշված են դրական նշանով)
A79: Միջոցառման դասիչը` | B79: 12007 | C79: Առաջին կիսամյակ | D79: Ինն ամիս | E79: Տարի
A80: Միջոցառման անվանումը` | B80: ՀՀ մարզերին սուբվենցիաների տրամադրում` ենթակառուցվածքների զարգացման նպատակով_x000D_
A81: Նկարագրությունը` | B81: ՀՀ մարզերին սուբվենցիաների տրամադրում` ենթակառուցվածքների զարգացման նպատակով
A82: Միջոցառման տեսակը` | B82: Տրանսֆերտների տրամադրում
A83: Միջոցառումն իրականացնողի անվանումը | B83: ՀՀ համայնքներ
A84: Արդյունքի չափորոշիչներ
A85: ՀՀ համայնքների թիվ, հատ | C85: 5 | D85: 5 | E85: 5
A86: Միջոցառման վրա կատարվող ծախսը (հազար դրամ) | C86: =+'2'!D38 -> 232911.4 | D86: =+'2'!E38 -> 232911.4 | E86: =+'2'!F38 -> 232911.4
A88: ՀԱՅԱՍՏԱՆԻ ՀԱՆՐԱՊԵՏՈՒԹՅԱՆ ԿԱՌԱՎԱՐՈՒԹՅԱՆ 2020 ԹՎԱԿԱՆԻ ԴԵԿՏԵՄԲԵՐԻ 30-Ի № 2215-Ն ՈՐՈՇՄԱՆ № 9.1 ՀԱՎԵԼՎԱԾԻ № 9.1.55 ԱՂՅՈՒՍԱԿՈՒՄ ԿԱՏԱՐՎՈՂ ԼՐԱՑՈՒՄԸ
A89: ՀՀ Սյունիքի մարզպետարան
A91: ՄԱՍ 1. ՊԵՏԱԿԱՆ ՄԱՐՄՆԻ ԳԾՈՎ ԱՐԴՅՈՒՆՔԱՅԻՆ (ԿԱՏԱՐՈՂԱԿԱՆ) ՑՈՒՑԱՆԻՇՆԵՐԸ
A93: Ծրագրի դասիչը | B93: Ծրագրի անվանումը
A94: 1212 | B94: Տարածքային զարգացում
A96: Ծրագրի միջոցառումները
A98: Ծրագրի դասիչը` | B98: 1212 | C98: Ցուցանիշների փոփոխությունները (ավելացումները նշված են դրական նշանով)
A99: Միջոցառման դասիչը` | B99: 12007 | C99: Առաջին կիսամյակ | D99: Ինն ամիս | E99: Տարի
A100: Միջոցառման անվանումը` | B100: ՀՀ մարզերին սուբվենցիաների տրամադրում` ենթակառուցվածքների զարգացման նպատակով_x000D_
A101: Նկարագրությունը` | B101: ՀՀ մարզերին սուբվենցիաների տրամադրում` ենթակառուցվածքների զարգացման նպատակով
A102: Միջոցառման տեսակը` | B102: Տրանսֆերտների տրամադրում
A103: Միջոցառումն իրականացնողի անվանումը | B103: ՀՀ համայնքներ
A104: Արդյունքի չափորոշիչներ
A105: ՀՀ համայնքների թիվ, հատ | C105: 1 | D105: 1 | E105: 1
A106: Միջոցառման վրա կատարվող ծախսը (հազար դրամ) | C106: 265272.1 | D106: 265272.1 | E106: 265272.1
A109: ՀԱՅԱՍՏԱՆԻ ՀԱՆՐԱՊԵՏՈՒԹՅԱՆ ԿԱՌԱՎԱՐՈՒԹՅԱՆ 2020 ԹՎԱԿԱՆԻ ԴԵԿՏԵՄԲԵՐԻ 30-Ի № 2215-Ն ՈՐՈՇՄԱՆ № 9.1 ՀԱՎԵԼՎԱԾԻ № 9.1.56 ԱՂՅՈՒՍԱԿՈՒՄ ԿԱՏԱՐՎՈՂ ԼՐԱՑՈՒՄԸ
A110: ՀՀ Վայոց ձորի մարզպետարան
A112: ՄԱՍ 1. ՊԵՏԱԿԱՆ ՄԱՐՄՆԻ ԳԾՈՎ ԱՐԴՅՈՒՆՔԱՅԻՆ (ԿԱՏԱՐՈՂԱԿԱՆ) ՑՈՒՑԱՆԻՇՆԵՐԸ
A114: Ծրագրի դասիչը | B114: Ծրագրի անվանումը
A115: 1212 | B115: Տարածքային զարգացում
A117: Ծրագրի միջոցառումները
A119: Ծրագրի դասիչը` | B119: 1212 | C119: Ցուցանիշների փոփոխությունները (ավելացումները նշված են դրական նշանով)
A120: Միջոցառման դասիչը` | B120: 12007 | C120: Առաջին կիսամյակ | D120: Ինն ամիս | E120: Տարի
A121: Միջոցառման անվանումը` | B121: ՀՀ մարզերին սուբվենցիաների տրամադրում` ենթակառուցվածքների զարգացման նպատակով_x000D_
A122: Նկարագրությունը` | B122: ՀՀ մարզերին սուբվենցիաների տրամադրում` ենթակառուցվածքների զարգացման նպատակով
A123: Միջոցառման տեսակը` | B123: Տրանսֆերտների տրամադրում
A124: Միջոցառումն իրականացնողի անվանումը | B124: ՀՀ համայնքներ
A125: Արդյունքի չափորոշիչներ
A126: ՀՀ համայնքների թիվ, հատ | C126: 1 | D126: 1 | E126: 1
A127: Միջոցառման վրա կատարվող ծախսը (հազար դրամ) | C127: =+'2'!D47 -> 10284.5 | D127: =+'2'!E47 -> 10284.5 | E127: =+'2'!F47 -> 10284.5
A131: ՀԱՅԱՍՏԱՆԻ ՀԱՆՐԱՊԵՏՈՒԹՅԱՆ ԿԱՌԱՎԱՐՈՒԹՅԱՆ 2020 ԹՎԱԿԱՆԻ ԴԵԿՏԵՄԲԵՐԻ 30-Ի № 2215-Ն ՈՐՈՇՄԱՆ № 9.1 ՀԱՎԵԼՎԱԾԻ № 9.1.58 ԱՂՅՈՒՍԱԿՈՒՄ ԿԱՏԱՐՎՈՂ ՓՈՓՈԽՈՒԹՅՈՒՆԸ
A132: ՀՀ կառավարություն
A134: ՄԱՍ 1. ՊԵՏԱԿԱՆ ՄԱՐՄՆԻ ԳԾՈՎ ԱՐԴՅՈՒՆՔԱՅԻՆ (ԿԱՏԱՐՈՂԱԿԱՆ) ՑՈՒՑԱՆԻՇՆԵՐԸ
A136: Ծրագրի դասիչը | B136: Ծրագրի անվանումը
A137: 1212 | B137: Տարածքային զարգացում
A139: Ծրագրի միջոցառումները
A141: Ծրագրի դասիչը` | B141: 1212 | C141: Ցուցանիշների փոփոխությունները (նվազեցումները նշված են փակագծերում)
...
