Workbook
Name _tab10: #REF!
Name _tab10: #REF!
Name _tab11: #REF!
Name _tab11: #REF!
Name _tab12: #REF!
Name _tab12: #REF!
Name _tab13: #REF!
Name _tab13: #REF!
Name _tab14: #REF!
Name _tab14: #REF!
Name _tab15: #REF!
Name _tab15: #REF!
Name _tab16: #REF!
Name _tab16: #REF!
Name _tab17: #REF!
Name _tab17: #REF!
Name _tab18: #REF!
Name _tab18: #REF!
Name _tab19: #REF!
Name _tab19: #REF!
Name _tab20: #REF!
Name _tab20: #REF!
Name _tab21: #REF!
Name _tab21: #REF!
Name _tab22: #REF!
Name _tab22: #REF!
Name _tab23: #REF!
Name _tab23: #REF!
Name _tab24: #REF!
Name _tab24: #REF!
Name _tab5: #REF!
Name _tab5: #REF!
Name _tab6: #REF!
Name _tab6: #REF!
Name _tab7: #REF!
Name _tab7: #REF!
Name _tab8: #REF!
Name _tab8: #REF!
Name _tab9: #REF!
Name _tab9: #REF!
Name par_count: #REF!,#REF!,#REF!,#REF!,#REF!,#REF!,#REF!,#REF!,#REF!,#REF!,#REF!,#REF!,#REF!,#REF!,#REF!
Name par_count: #REF!,#REF!,#REF!,#REF!,#REF!,#REF!,#REF!,#REF!,#REF!,#REF!,#REF!,#REF!,#REF!,#REF!,#REF!
Name par_qual: #REF!,#REF!,#REF!,#REF!,#REF!
Name par_qual: #REF!,#REF!,#REF!,#REF!,#REF!
Name par_time: #REF!,#REF!,#REF!,#REF!
Name par_time: #REF!,#REF!,#REF!,#REF!
Name par2.12s: #REF!
Name par2.12s: #REF!
Name par2.4s: #REF!,#REF!,#REF!,#REF!,#REF!,#REF!,#REF!,#REF!,#REF!,#REF!,#REF!,#REF!,#REF!,#REF!,#REF!,#REF!
Name par2.4s: #REF!,#REF!,#REF!,#REF!,#REF!,#REF!,#REF!,#REF!,#REF!,#REF!,#REF!,#REF!,#REF!,#REF!,#REF!,#REF!
Name par2.5s: #REF!,#REF!
Name par2.5s: #REF!,#REF!
Name par2.6s: #REF!,#REF!,#REF!,#REF!
Name par2.6s: #REF!,#REF!,#REF!,#REF!
Name par2.7s: #REF!,#REF!
Name par2.7s: #REF!,#REF!
Name par2.9s: #REF!,#REF!,#REF!,#REF!,#REF!,#REF!,#REF!,#REF!,#REF!,#REF!,#REF!,#REF!,#REF!,#REF!,#REF!,#REF!
Name par2.9s: #REF!,#REF!,#REF!,#REF!,#REF!,#REF!,#REF!,#REF!,#REF!,#REF!,#REF!,#REF!,#REF!,#REF!,#REF!,#REF!
Name par4.10s: #REF!,#REF!
Name par4.10s: #REF!,#REF!

Sheet 1
E1: Հավելված № 1
E2: ՀՀ կառավարության 2021 թվականի
E3: -------------- ի № ---- -Ն որոշման
B5: ՀՀ ԿԱՌԱՎԱՐՈՒԹՅԱՆ 2020 ԹՎԱԿԱՆԻ ԴԵԿՏԵՄԲԵՐԻ 30-Ի № 2215-Ն ՈՐՈՇՄԱՆ № 1 ՀԱՎԵԼՎԱԾԻ № 1 ԱՂՅՈՒՍԱԿԻ ՑՈՒՑԱՆԻՇՆԵՐՈՒՄ ԿԱՏԱՐՎՈՂ ԼՐԱՑՈՒՄՆԵՐԸ
E6: հազար դրամ
B7: Պետական բյուջեի դեֆիցիտի ֆինանսավորման աղբյուրների ու դրանց տարրերի անվանումները | C7: Ցուցանիշների փոփոխությունը (մուտքերի ավելացումները նշված են դրական նշանով)
C8: Առաջին կիսամյակ | D8: Ինն ամիս | E8: Տարի
B9: ԸՆԴԱՄԵՆԸ | C9: 327758.2 | D9: =C9 -> 327758.2 | E9: =+E11 -> 0
B10: այդ թվում՝
B11: Ա.Ներքին աղբյուրներ-ընդամենը | C11: 327758.2 | D11: 327758.2 | E11: =+E12 -> 0
B12: 2. Ֆինանսական զուտ ակտիվներ | C12: 327758.2 | D12: 327758.2 | E12: =+E14 -> 0
B13: այդ թվում՝
B14: 2.6.Այլ | C14: =C12 -> 327758.2 | D14: =D12 -> 327758.2 | E14: =SUM(E15:E15) -> 0
B15: ժամանակավորապես ազատ միջոցներ | C15: =C14 -> 327758.2 | D15: =D14 -> 327758.2 | E15: =+'[1]2'!F9 -> 0

Sheet 2
F1: Հավելված № 2
F2: Կառավարության 2021 թվականի
F3: ________ N ____-Ն որոշման
A5: «ՀԱՅԱՍՏԱՆԻ ՀԱՆՐԱՊԵՏՈՒԹՅԱՆ 2021 ԹՎԱԿԱՆԻ ՊԵՏԱԿԱՆ ԲՅՈՒՋԵԻ ՄԱՍԻՆ» ՕՐԵՆՔԻ N 1 ՀԱՎԵԼՎԱԾԻ N 7 ԱՂՅՈՒՍԱԿՈՒՄ ԵՎ ՀԱՅԱՍՏԱՆԻ ՀԱՆՐԱՊԵՏՈՒԹՅԱՆ ԿԱՌԱՎԱՐՈՒԹՅԱՆ 2020 ԹՎԱԿԱՆԻ ԴԵԿՏԵՄԲԵՐԻ 30-Ի N 2215-Ն ՈՐՈՇՄԱՆ N 5 ՀԱՎԵԼՎԱԾԻ N 6 ԱՂՅՈՒՍԱԿՈՒՄ ԿԱՏԱՐՎՈՂ ՓՈՓՈԽՈՒԹՅՈՒՆԸ ԼՐԱՑՈՒՄՆԵՐԸ
F6: հազար դրամ
A7: Ծրագրային դասիչը | C7: Բյուջետային հատկացումների գլխավոր կարգադրիչների, ծրագրերի, միջոցառումների և միջոցառումները կատարող պետական մարմինների անվանումները | D7: Ցուցանիշների փոփոխությունը (ավելացումները նշված են դրական նշանով, իսկ նվազեցումները` փակագծերում)
A8: Ծրագիր | B8: Միջոցառում | D8: Առաջին կիսամյակ | E8: Ինն ամիս | F8: Տարի
C9: ԸՆԴԱՄԵՆԸ | D9: ='1'!C9 -> 327758.2 | E9: ='1'!D9 -> 327758.2 | F9: ='1'!E9 -> 0
C10: այդ թվում
A11: Կապիտալ սուբվենցիաներ համայնքներին | D11: =D9 -> 327758.2 | E11: =E9 -> 327758.2 | F11: =F9 -> 0
A12: այդ թվում`
A13: ՀՀ տարածքային կառավարման և ենթակառուցվածքների նախարարություն | D13: =D11 -> 327758.2 | E13: =E11 -> 327758.2 | F13: =F11 -> 0
A14: այդ թվում`
A15: 1212 | B15: Տարածքային զարգացում | D15: =D13 -> 327758.2 | E15: =E13 -> 327758.2 | F15: =F13 -> 0
C16: այդ թվում`
B17: 12007 | C17: ՀՀ մարզերին սուբվենցիաների տրամադրում՝ ենթակառուցվածքների զարգացման նպատակով | D17: =D15 -> 327758.2 | E17: =E15 -> 327758.2 | F17: =F15 -> 0
C18: այդ թվում` ըստ կատարողների
C19: ՀՀ կառավարություն | D19: -500000 | E19: -500000 | F19: =E19-'1'!C9 -> -827758.2
C20: ՀՀ Արմավիրի մարզպետարան | D20: =D22+D23+D24+D25 -> 38099.5 | E20: =SUM(E22:E25) -> 38099.5 | F20: =SUM(F22:F25) -> 38099.5
C21: այդ թվում` ըստ ուղղությունների
C22: Խանջյան համայնքի մշակույթի տան էլեկտրատեխնիկական մասի/արևային ֆոտովոլտային համակարգի 5-րդ փող 2 հասցեում/ տեղակայում | D22: 4797.7 | E22: 4797.7 | F22: 4797.7
C23: Նորակերտ համայնքի գազիֆիկացում | D23: 16387.5 | E23: 16387.5 | F23: 16387.5
C24: Նոր Կեսարիա համայնքի մշակույթի տան մասնակի վերանորոգում | D24: 4578 | E24: =D24 -> 4578 | F24: =E24 -> 4578
C25: Նալբանդյան համայնքում արևային ֆոտովոլտային կայանների տեղադրում | D25: 12336.3 | E25: 12336.3 | F25: 12336.3
C27: ՀՀ Գեղարքունիքի մարզպետարան | D27: =D29+D30+D31 -> 80716 | E27: =E29+E30+E31 -> 80716 | F27: =F29+F30+F31 -> 80716
C28: այդ թվում` ըստ ուղղությունների
C29: Ճամբարակ համայնքի Գետիկ, Դպրաբակ, Թթուջուր, Ձորավանք, Մարտունի բնակավայրերում, ինչպես նաև Ճամբարակ քաղաքի Ազատամարտիկների, Արցախի, Զ. Անդրանիկի, Իսահակյան, Լեոյի, Մաշտոցի, Նարեկացի, Պ. Սևակ փողոցների և Պ. Սևակ Տ. Մեծ փողոցները միմյանց կապող հետիոտնային արահետի լուսավորության ցանցի անցկացում | D29: 6983.4 | E29: 6983.4 | F29: 6983.4
C30: Գավառ համայնքի թիվ 8 մանկապարտեզ ՀՈԱԿ-ի շենքի վերանորոգում | D30: 55785.5 | E30: 55785.5 | F30: 55785.5
C31: Զոլաքար համայնքի մանկապարտեզի շենքի կառուցում | D31: 17947.1 | E31: =D31 -> 17947.1 | F31: =E31 -> 17947.1
C33: ՀՀ Լոռու մարզպետարան | D33: =SUM(D35:D37) -> 200474.7 | E33: =SUM(E35:E37) -> 200474.7 | F33: =SUM(F35:F37) -> 200474.7
C34: այդ թվում` ըստ ուղղությունների
C35: Շնող համայնքի Քարկոսի,Թեղուտ գյուղերի և Շնող գյուղի «Չալեր»,«Շեկ աղբյուր», Վարդուտ թաղամասերի գազիֆիկացում | D35: 151105.6 | E35: 151105.6 | F35: 151105.6
C36: Ախթալա համայնքի ներհամայնքային ճանապարհների բարեկարգում՝ մասնակի նորոգման, տուֆապատման միջոցով | D36: 49369.1 | E36: 49369.1 | F36: 49369.1
C38: ՀՀ Կոտայքի մարզպետարան | D38: =D40+D41+D42+D43+D44+D45 -> 232911.4 | E38: =E40+E41+E42+E43+E44+E45 -> 232911.4 | F38: =F40+F41+F42+F43+F44+F45 -> 232911.4
C39: այդ թվում` ըստ ուղղությունների
C40: Քաղսի համայնքի մշակույթի տան դահլիճի վերանորոգում | D40: 6347.7 | E40: 6347.7 | F40: 6347.7
C41: Նոր Երզնկա համայնքի պուրակի կառուցում | D41: 6223.2 | E41: 6223.2 | F41: 6223.2
C42: Նոր Երզնկա համայնքի խաղահրապարակի կառուցում | D42: 6985.4 | E42: 6985.4 | F42: 6985.4
C43: Նոր Գեղի համայնքում ֆոտովոլտային կայանի տեղադրում | D43: 15449.8 | E43: 15449.8 | F43: 15449.8
C44: Ջրվեժ գյուղի մանկապարտեզի կառուցում | D44: 181550.3 | E44: 181550.3 | F44: 181550.3
...

Sheet 3
F1: Հավելված № 3
F2: ՀՀ կառավարության 2021 թվականի
F3: -------------- ի № ---- -Ն որոշման
A5: ՀԱՅԱՍՏԱՆԻ ՀԱՆՐԱՊԵՏՈՒԹՅԱՆ ԿԱՌԱՎԱՐՈՒԹՅԱՆ 2020 ԹՎԱԿԱՆԻ ԴԵԿՏԵՄԲԵՐԻ 30-Ի № 2215-Ն ՈՐՈՇՄԱՆ № 5 ՀԱՎԵԼՎԱԾԻ № 1 ԱՂՅՈՒՍԱԿՈՒՄ ԿԱՏԱՐՎՈՂ ԼՐԱՑՈՒՄԸ
F6: հազար դրամ
A7: Ծրագրային դասիչը | C7: Բյուջետային հատկացումների գլխավոր կարգադրիչների, ծրագրերի և միջոցառումների անվանումները | D7: Ցուցանիշների փոփոխությունները (ավելացումները նշված են դրական նշանով)
A8: Ծրագիր | B8: Միջոցառում | D8: Առաջին կիսամյակ | E8: Ինն ամիս | F8: Տարի
C9: ԸՆԴԱՄԵՆԸ | D9: =D10 -> 327758.2 | E9: =E10 -> 327758.2 | F9: =F10 -> 0
C10: ՀՀ տարածքային կառավարման և ենթակառուցվածքների նախարարություն | D10: =D12 -> 327758.2 | E10: =+E12 -> 327758.2 | F10: =+F12 -> 0
C11: Ծրագրի անվանումը
A12: 1212 | C12: Տարածքային զարգացում | D12: =D19 -> 327758.2 | E12: =E19 -> 327758.2 | F12: =F19 -> 0
C13: Ծրագրի նպատակը
C14: Տարածքային համաչափ զարգացման խթանում
C15: Վերջնական արդյունքի նկարագրությունը
C16: ՀՀ համայնքների կառավարման արդյունավետության բարձրացում և տնտեսական գործունեության խթանում
A17: Ծրագրի միջոցառումներ
B18: 12007 | C18: Միջոցառման անվանումը
C19: ՀՀ մարզերին սուբվենցիաների տրամադրում՛ ենթակառուցվածքների զարգացման նպատակով | D19: =+'1'!C9 -> 327758.2 | E19: =+'1'!D9 -> 327758.2 | F19: =+'[1]1'!E15 -> 0
C20: Միջոցառման նկարագրությունը
C21: ՀՀ մարզերին սուբվենցիաների տրամադրում՛ ենթակառուցվածքների զարգացման նպատակով
C22: Միջոցառման տեսակը
C23: Տրանսֆերտների տրամադրում

Sheet 4
I1: Հավելված № 4
I2: ՀՀ կառավարության 2021 թվականի
I3: -------------- ի № ---- -Ն որոշման
A5: ՀԱՅԱՍՏԱՆԻ ՀԱՆՐԱՊԵՏՈՒԹՅԱՆ ԿԱՌԱՎԱՐՈՒԹՅԱՆ 2020 ԹՎԱԿԱՆԻ ԴԵԿՏԵՄԲԵՐԻ 30-Ի № 2215-Ն ՈՐՈՇՄԱՆ №№ 3 և 4 ՀԱՎԵԼՎԱԾՆԵՐՈՒՄ ԿԱՏԱՐՎՈՂ ՓՈՓՈԽՈՒԹՅՈՒՆՆԵՐԸ ԵՎ ԼՐԱՑՈՒՄՆԵՐԸ
H6: հազար դրամ
A7: Գործառական դասիչը | D7: Ծրագրային դասիչը | F7: Բյուջետային հատկացումների գլխավոր կարգադրիչների, ծրագրերի, միջոցառումների և միջոցառումները կատարող պետական մարմինների անվանումները | G7: Ցուցանիշների փոփոխությունները (ավելացումները նշված են դրական նշանով իսկ նվազեցումները` փակագծերում)
A8: բաժին | B8: խումբ | C8: դաս | D8: Ծրագիր | E8: Միջոցառում | G8: Առաջին կիսամյակ | H8: Ինն ամիս | I8: Տարի
A9: ԸՆԴԱՄԵՆԸ ԾԱԽՍԵՐ | G9: ='1'!C9 -> 327758.2 | H9: ='1'!D9 -> 327758.2 | I9: 0
A10: 01 | F10: ԸՆԴՀԱՆՈՒՐ ԲՆՈՒՅԹԻ ՀԱՆՐԱՅԻՆ ԾԱՌԱՅՈՒԹՅՈՒՆՆԵՐ | G10: =G9 -> 327758.2 | H10: =H9 -> 327758.2 | I10: 0
F11: այդ թվում՝
B12: 08 | F12: Կառավարության տարբեր մակարդակների միջև իրականացվող ընդհանուր բնույթի տրանսֆերտներ | G12: =G9 -> 327758.2 | H12: =H9 -> 327758.2 | I12: 0
F13: այդ թվում՝
C14: 01 | F14: Կառավարության տարբեր մակարդակների միջև իրականացվող ընդհանուր բնույթի տրանսֆերտներ | G14: =G12 -> 327758.2 | H14: =H12 -> 327758.2 | I14: 0
F15: այդ թվում՝
F16: ՀՀ տարածքային կառավարման և ենթակառուցվածքների նախարարություն | G16: =G14 -> 327758.2 | H16: =H14 -> 327758.2 | I16: 0
F17: այդ թվում՝
D18: 1212 | F18: Տարածքային զարգացում | G18: =G16 -> 327758.2 | H18: =H16 -> 327758.2 | I18: 0
F19: այդ թվում`
E20: 12007 | F20: ՀՀ մարզերին սուբվենցիաների տրամադրում՛ ենթակառուցվածքների զարգացման նպատակով_x000D_ | G20: ='1'!C9 -> 327758.2 | H20: ='1'!D9 -> 327758.2 | I20: 0
F21: այդ թվում` ըստ կատարողների
F22: ՀՀ կառավարություն | G22: =+G24 -> -500000 | H22: =+H24 -> -500000 | I22: =-H20+H22 -> -827758.2
F23: այդ թվում` բյուջետային ծախսերի տնտեսագիտական դասակարգման հոդվածներ
F24: ԸՆԴԱՄԵՆԸ ԾԱԽՍԵՐ | G24: =+G25 -> -500000 | H24: =+H25 -> -500000 | I24: =I22 -> -827758.2
F25: ԸՆԹԱՑԻԿ ԾԱԽՍԵՐ | G25: =+G26 -> -500000 | H25: =+H26 -> -500000 | I25: =I24 -> -827758.2
F26: ԴՐԱՄԱՇՆՈՐՀՆԵՐ | G26: =+G27 -> -500000 | H26: =+H27 -> -500000 | I26: =I24 -> -827758.2
F27: Կապիտալ դրամաշնորհներ պետական հատվածի այլ մակարդակներին | G27: =+G28 -> -500000 | H27: =+H28 -> -500000 | I27: =I25 -> -827758.2
F28: - Կապիտալ սուբվենցիաներ համայնքներին | G28: -500000 | H28: -500000 | I28: =I26 -> -827758.2
F29: ՀՀ Արմավիրի մարզպետարան | G29: =+G31 -> 38099.5 | H29: =+H31 -> 38099.5 | I29: =+I31 -> 38099.5
F30: այդ թվում` բյուջետային ծախսերի տնտեսագիտական դասակարգման հոդվածներ
F31: ԸՆԴԱՄԵՆԸ ԾԱԽՍԵՐ | G31: =G33 -> 38099.5 | H31: =H33 -> 38099.5 | I31: =I33 -> 38099.5
F32: ԸՆԹԱՑԻԿ ԾԱԽՍԵՐ | G32: =G33 -> 38099.5 | H32: =H33 -> 38099.5 | I32: =I33 -> 38099.5
F33: ԴՐԱՄԱՇՆՈՐՀՆԵՐ | G33: =G34 -> 38099.5 | H33: =H34 -> 38099.5 | I33: =I34 -> 38099.5
F34: Կապիտալ դրամաշնորհներ պետական հատվածի այլ մակարդակներին | G34: =+G35 -> 38099.5 | H34: =+H35 -> 38099.5 | I34: =+I35 -> 38099.5
F35: - Կապիտալ սուբվենցիաներ համայնքներին | G35: =+'2'!D20 -> 38099.5 | H35: =+'2'!E20 -> 38099.5 | I35: =+'2'!F20 -> 38099.5
F36: ՀՀ Գեղարքունիքի մարզպետարան | G36: =+G38 -> 80716 | H36: =+H38 -> 80716 | I36: =+I38 -> 80716
F37: այդ թվում` բյուջետային ծախսերի տնտեսագիտական դասակարգման հոդվածներ
F38: ԸՆԴԱՄԵՆԸ ԾԱԽՍԵՐ | G38: =G40 -> 80716 | H38: =H40 -> 80716 | I38: =I40 -> 80716
F39: ԸՆԹԱՑԻԿ ԾԱԽՍԵՐ | G39: =G40 -> 80716 | H39: =H40 -> 80716 | I39: =I40 -> 80716
F40: ԴՐԱՄԱՇՆՈՐՀՆԵՐ | G40: =G41 -> 80716 | H40: =H41 -> 80716 | I40: =I41 -> 80716
F41: Կապիտալ դրամաշնորհներ պետական հատվածի այլ մակարդակներին | G41: =+G42 -> 80716 | H41: =+H42 -> 80716 | I41: =+I42 -> 80716
...

Sheet 5
E1: Հավելված № 5
E2: ՀՀ կառավարության 2021 թվականի
E3: -------------- ի № ---- -Ն որոշման
A5: ՀԱՅԱՍՏԱՆԻ ՀԱՆՐԱՊԵՏՈՒԹՅԱՆ ԿԱՌԱՎԱՐՈՒԹՅԱՆ 2020 ԹՎԱԿԱՆԻ ԴԵԿՏԵՄԲԵՐԻ 30-Ի № 2215-Ն ՈՐՈՇՄԱՆ № 9 ՀԱՎԵԼՎԱԾԻ № 9.8 ԱՂՅՈՒՍԱԿՈՒՄ ԿԱՏԱՐՎՈՂ ԼՐԱՑՈՒՄԸ
A6: ՀՀ տարածքային կառավարման և ենթակառուցվածքների նախարարություն
A9: Ծրագրի դասիչը | B9: Ծրագրի անվանումը
A10: 1212 | B10: Տարածքային զարգացում
A12: Ծրագրի միջոցառումները
A14: Ծրագրի դասիչը` | B14: 1212 | C14: Ցուցանիշների փոփոխությունները (ավելացումները նշված են դրական նշանով)
A15: Միջոցառման դասիչը` | B15: 12007 | C15: Առաջին կիսամյակ | D15: Ինն ամիս | E15: Տարի
A16: Միջոցառման անվանումը` | B16: ՀՀ մարզերին սուբվենցիաների տրամադրում` ենթակառուցվածքների զարգացման նպատակով_x000D_
A17: Նկարագրությունը` | B17: ՀՀ մարզերին սուբվենցիաների տրամադրում` ենթակառուցվածքների զարգացման նպատակով
A18: Միջոցառման տեսակը` | B18: Տրանսֆերտների տրամադրում
A19: Միջոցառումն իրականացնողի անվանումը | B19: ՀՀ համայնքներ
A20: Արդյունքի չափորոշիչներ
A21: ՀՀ համայնքների թիվ, հատ | C21: 16 | D21: 16 | E21: 16
A22: Միջոցառման վրա կատարվող ծախսը (հազար դրամ) | C22: ='1'!C9 -> 327758.2 | D22: ='1'!D9 -> 327758.2 | E22: ='1'!E9 -> 0

Sheet 6
D1: Հավելված № 6
D2: ՀՀ կառավարության 2021 թվականի
D3: -------------- ի № ---- -Ն որոշման
A5: ՀԱՅԱՍՏԱՆԻ ՀԱՆՐԱՊԵՏՈՒԹՅԱՆ ԿԱՌԱՎԱՐՈՒԹՅԱՆ 2020 ԹՎԱԿԱՆԻ ԴԵԿՏԵՄԲԵՐԻ 30-Ի № 2215-Ն ՈՐՈՇՄԱՆ № 9.1 ՀԱՎԵԼՎԱԾԻ № 9.1.50 ԱՂՅՈՒՍԱԿՈՒՄ ԿԱՏԱՐՎՈՂ ԼՐԱՑՈՒՄԸ
A6: ՀՀ Արմավիրի մարզպետարան
A8: ՄԱՍ 1. ՊԵՏԱԿԱՆ ՄԱՐՄՆԻ ԳԾՈՎ ԱՐԴՅՈՒՆՔԱՅԻՆ (ԿԱՏԱՐՈՂԱԿԱՆ) ՑՈՒՑԱՆԻՇՆԵՐԸ
A10: Ծրագրի դասիչը | B10: Ծրագրի անվանումը
A11: 1212 | B11: Տարածքային զարգացում
A13: Ծրագրի միջոցառումները
A15: Ծրագրի դասիչը` | B15: 1212 | C15: Ցուցանիշների փոփոխությունները (ավելացումները նշված են դրական նշանով)
A16: Միջոցառման դասիչը` | B16: 12007 | C16: Առաջին կիսամյակ | D16: Ինն ամիս | E16: Տարի
A17: Միջոցառման անվանումը` | B17: ՀՀ մարզերին սուբվենցիաների տրամադրում` ենթակառուցվածքների զարգացման նպատակով_x000D_
A18: Նկարագրությունը` | B18: ՀՀ մարզերին սուբվենցիաների տրամադրում` ենթակառուցվածքների զարգացման նպատակով
A19: Միջոցառման տեսակը` | B19: Տրանսֆերտների տրամադրում
A20: Միջոցառումն իրականացնողի անվանումը | B20: ՀՀ համայնքներ
A21: Արդյունքի չափորոշիչներ
A22: ՀՀ համայնքների թիվ, հատ | C22: 4 | D22: 4 | E22: 4
A23: Միջոցառման վրա կատարվող ծախսը (հազար դրամ) | C23: =+'2'!D20 -> 38099.5 | D23: =+'2'!E20 -> 38099.5 | E23: =+'2'!F20 -> 38099.5
A26: ՀԱՅԱՍՏԱՆԻ ՀԱՆՐԱՊԵՏՈՒԹՅԱՆ ԿԱՌԱՎԱՐՈՒԹՅԱՆ 2020 ԹՎԱԿԱՆԻ ԴԵԿՏԵՄԲԵՐԻ 30-Ի № 2215-Ն ՈՐՈՇՄԱՆ № 9.1 ՀԱՎԵԼՎԱԾԻ № 9.1.51 ԱՂՅՈՒՍԱԿՈՒՄ ԿԱՏԱՐՎՈՂ ԼՐԱՑՈՒՄԸ
A27: ՀՀ Գեղարքունիքի մարզպետարան
A29: ՄԱՍ 1. ՊԵՏԱԿԱՆ ՄԱՐՄՆԻ ԳԾՈՎ ԱՐԴՅՈՒՆՔԱՅԻՆ (ԿԱՏԱՐՈՂԱԿԱՆ) ՑՈՒՑԱՆԻՇՆԵՐԸ
A31: Ծրագրի դասիչը | B31: Ծրագրի անվանումը
A32: 1212 | B32: Տարածքային զարգացում
A34: Ծրագրի միջոցառումները
A36: Ծրագրի դասիչը` | B36: 1212 | C36: Ցուցանիշների փոփոխությունները (ավելացումները նշված են դրական նշանով)
A37: Միջոցառման դասիչը` | B37: 12007 | C37: Առաջին կիսամյակ | D37: Ինն ամիս | E37: Տարի
A38: Միջոցառման անվանումը` | B38: ՀՀ մարզերին սուբվենցիաների տրամադրում` ենթակառուցվածքների զարգացման նպատակով_x000D_
A39: Նկարագրությունը` | B39: ՀՀ մարզերին սուբվենցիաների տրամադրում` ենթակառուցվածքների զարգացման նպատակով
A40: Միջոցառման տեսակը` | B40: Տրանսֆերտների տրամադրում
A41: Միջոցառումն իրականացնողի անվանումը | B41: ՀՀ համայնքներ
A42: Արդյունքի չափորոշիչներ
A43: ՀՀ համայնքների թիվ, հատ | C43: 3 | D43: 3 | E43: 3
A44: Միջոցառման վրա կատարվող ծախսը (հազար դրամ) | C44: =+'2'!D27 -> 80716 | D44: =+'2'!E27 -> 80716 | E44: =+'2'!F27 -> 80716
A47: ՀԱՅԱՍՏԱՆԻ ՀԱՆՐԱՊԵՏՈՒԹՅԱՆ ԿԱՌԱՎԱՐՈՒԹՅԱՆ 2020 ԹՎԱԿԱՆԻ ԴԵԿՏԵՄԲԵՐԻ 30-Ի № 2215-Ն ՈՐՈՇՄԱՆ № 9.1 ՀԱՎԵԼՎԱԾԻ № 9.1.52 ԱՂՅՈՒՍԱԿՈՒՄ ԿԱՏԱՐՎՈՂ ԼՐԱՑՈՒՄԸ
A48: ՀՀ Լոռու մարզպետարան
A50: ՄԱՍ 1. ՊԵՏԱԿԱՆ ՄԱՐՄՆԻ ԳԾՈՎ ԱՐԴՅՈՒՆՔԱՅԻՆ (ԿԱՏԱՐՈՂԱԿԱՆ) ՑՈՒՑԱՆԻՇՆԵՐԸ
A52: Ծրագրի դասիչը | B52: Ծրագրի անվանումը
A53: 1212 | B53: Տարածքային զարգացում
A55: Ծրագրի միջոցառումները
A57: Ծրագրի դասիչը` | B57: 1212 | C57: Ցուցանիշների փոփոխությունները (ավելացումները նշված են դրական նշանով)
...
