Workbook
Name AgencyCode: #REF!
Name AgencyCode: #REF!
Name AgencyCode: #REF!
Name AgencyName: #REF!
Name AgencyName: #REF!
Name AgencyName: #REF!
Name davit: #REF!
Name davit: #REF!
Name davit: #REF!
Name Functional1: #REF!
Name Functional1: #REF!
Name Functional1: #REF!
Name ggg: #REF!
Name ggg: #REF!
Name ggg: #REF!
Name PANature: #REF!
Name PANature: #REF!
Name PANature: #REF!
Name PAType: #REF!
Name PAType: #REF!
Name PAType: #REF!
Name Performance2: #REF!
Name Performance2: #REF!
Name Performance2: #REF!
Name PerformanceType: #REF!
Name PerformanceType: #REF!
Name PerformanceType: #REF!
Name Հավելված: #REF!
Name Հավելված: #REF!
Name Հավելված: #REF!
Name Մաս: #REF!
Name Մաս: #REF!
Name Մաս: #REF!
Name շախմատիստ: #REF!
Name շախմատիստ: #REF!
Name շախմատիստ: #REF!

Sheet Havelvats 1
C1: Հավելված N 1
C2: ՀՀ կառավարության 2021 թվականի
C3: ______________ ի ___Ն որոշման
A5: «ՀԱՅԱUՏԱՆԻ ՀԱՆՐԱՊԵՏՈՒԹՅԱՆ 2021 ԹՎԱԿԱՆԻ ՊԵՏԱԿԱՆ ԲՅՈՒՋԵԻ ՄԱUԻՆ» ՀԱՅԱUՏԱՆԻ ՀԱՆՐԱՊԵՏՈՒԹՅԱՆ OՐԵՆՔԻ N 1 ՀԱՎԵԼՎԱԾԻ N 2 ԱՂՅՈՒՍԱԿՈՒՄ ԿԱՏԱՐՎՈՂ ՎԵՐԱԲԱՇԽՈՒՄԸ ԵՎ ՀԱՅԱՍՏԱՆԻ ՀԱՆՐԱՊԵՏՈՒԹՅԱՆ ԿԱՌԱՎԱՐՈՒԹՅԱՆ 2020 ԹՎԱԿԱՆԻ ԴԵԿՏԵՄԲԵՐԻ 30-Ի N 2215-Ն ՈՐՈՇՄԱՆ N 5 ՀԱՎԵԼՎԱԾԻ N 1 ԱՂՅՈՒՍԱԿՈՒՄ ԿԱՏԱՐՎՈՂ ՓՈՓՈԽՈՒԹՅՈՒՆՆԵՐԸ ԵՎ ԼՐԱՑՈՒՄՆԵՐԸ
E7: հազ. դրամներով
A8: Ծրագրային դասիչը | C8: Բյուջետային հատկացումների գլխավոր կարգադրիչների, ծրագրերի և միջոցառումների անվանումները | D8: Ցուցանիշների փոփոխությունը (ավելացումները նշված են դրական նշանով, իսկ նվազեցումները՝ փակագծերում)
A9: Ծրագիր | B9: Միջոցառում | D9: Ինն ամիս | E9: Տարի
C10: ԸՆԴԱՄԵՆԸ | D10: =+D12+D39 -> 0 | E10: =+E12+E39 -> 0
C11: այդ թվում
A12: ՀՀ Կրթության, գիտության, մշակույթի և սպորտի նախարարություն | D12: =+D14+D27 -> 1044542.6 | E12: =+E14+E27 -> 2942825.1
A13: 1146 | C13: Ծրագրի անվանումը`
C14: Հանրակրթության ծրագիր | D14: =+D21 -> 294542.6 | E14: =+E21 -> 1442825.1
C15: Ծրագրի նպատակը`
C16: Ապահովել անվճար և որակյալ հանրակրթություն
C17: Վերջնական արդյունքի նկարագրությունը`
C18: Մտավոր, հոգևոր, ֆիզիկական և սոցիալական ունակությունների համակողմանի ու ներդաշնակ զարգացմամբ, հայրենասիրության, պետականության և մարդասիրության ոգով դաստիրակված, պատշաճ վարքով և վարվելակերպով անձի ձևավորում
C19: Ծրագրի միջոցառումներ
B20: 12010 | C20: Միջոցառման անվանումը`
C21: «Մոդուլային» տիպի մանկապարտեզների շենքային ապահովում | D21: =+'Havelvats 2'!G22 -> 294542.6 | E21: =+'Havelvats 2'!H22 -> 1442825.1
C22: Միջոցառման նկարագրությունը`
C23: Համայնքներում «Մոդուլային» տիպի մանկապարտեզների կառուցում և նախագծում _x000D_
C24: Միջոցառման տեսակը
C25: Տրանսֆերտների տրամադրում
A26: 1183 | C26: Ծրագրի անվանումը`
C27: Ապահով դպրոց | D27: =+D34 -> 750000 | E27: =+E34 -> 1500000
C28: Ծրագրի նպատակը`
C29: Դպրոցներին սպառնացող աղետների ռիսկի կառավարման կարողությունների հզորացում, դպրոցի անձնակազմի և աշակերտների անվտանգության ապահովման մակարդակի բարձրացում՛ կիրառելով ներառական և երեխայակենտրոն մոտեցում
C30: Վերջնական արդյունքի նկարագրությունը`
C31: Դպրոցական միջավայրի բարելավում
C32: Ծրագրի միջոցառումներ
B33: 32003 | C33: Միջոցառման անվանումը`
C34: Փոքրաքանակ երեխաներով համալրված հանրակրթական դպրոցների մոդուլային շենքերի կառուցում | D34: =+'Havelvats 2'!G35 -> 750000 | E34: =+'Havelvats 2'!H35 -> 1500000
C35: Միջոցառման նկարագրությունը`
C36: Կրթական հաստատությունների կառուցում համայնքային կենտրոնների մոդելով _x000D_
C37: Միջոցառման տեսակը
C38: Այլ պետական կազմակերպությունների կողմից օգտագործվող ոչ ֆինանսական ակտիվների հետ գործառնություններ
B39: ՀՀ կառավարություն | C39: ՀՀ կառավարություն | D39: =+D41 -> -1044542.6 | E39: =+E41 -> -2942825.1
A40: 1139 | C40: Ծրագրի անվանումը`
C41: ՀՀ կառավարության պահուստային ֆոնդ | D41: =+D47 -> -1044542.6 | E41: =+E47 -> -2942825.1
C42: Ծրագրի նպատակը`
...

Sheet Havelvats 2
F1: Հավելված N 2
F2: ՀՀ կառավարության 2021 թվականի
F3: ______________ ի ___Ն որոշման
A5: ՀԱՅԱՍՏԱՆԻ ՀԱՆՐԱՊԵՏՈՒԹՅԱՆ ԿԱՌԱՎԱՐՈՒԹՅԱՆ 2020 ԹՎԱԿԱՆԻ ԴԵԿՏԵՄԲԵՐԻ 30-Ի N 2215-Ն ՈՐՈՇՄԱՆ N 3 ԵՎ N 4 ՀԱՎԵԼՎԱԾՆԵՐՈՒՄ ԿԱՏԱՐՎՈՂ ՓՈՓՈԽՈՒԹՅՈՒՆՆԵՐԸ ԵՎ ԼՐԱՑՈՒՄՆԵՐԸ
H6: հազ. դրամներով
A7: Գործառական դասիչը | D7: Ծրագրային դասիչը | F7: Բյուջետային հատկացումների գլխավոր կարգադրիչների, ծրագրերի, միջոցառումների և միջոցառումները կատարող պետական մարմինների անվանումները | G7: Ցուցանիշների փոփոխությունը (ավելացումները նշված են դրական նշանով, իսկ նվազեցումները՝ փակագծերում)
A8: Բաժին | B8: Խումբ | C8: Դաս | D8: Ծրագիր | E8: Միջոցառում | G8: Ինն ամիս | H8: Տարի
F9: ԸՆԴԱՄԵՆԸ | G9: =+G11+G44 -> 0 | H9: =+H11+H44 -> 0
F10: այդ թվում
F11: ՀՀ կրթության, գիտության, մշակույթի և սպորտի նախարարություն | G11: =+G12 -> 1044542.6 | H11: =+H12 -> 2942825.1
A12: 09 | F12: ԿՐԹՈՒԹՅՈՒՆ | G12: =+G14 -> 1044542.6 | H12: =+H14 -> 2942825.1
F13: այդ թվում`
B14: 06 | F14: Կրթությանը տրամադրվող օժանդակ ծառայություններ | G14: =+G16 -> 1044542.6 | H14: =+H16 -> 2942825.1
F15: այդ թվում`
C16: 01 | F16: Կրթությանը տրամադրվող օժանդակ ծառայություններ | G16: =+G18 -> 1044542.6 | H16: =+H18 -> 2942825.1
F17: այդ թվում`
F18: ՀՀ կրթության, գիտության, մշակույթի և սպորտի նախարարություն | G18: =+G20+G33 -> 1044542.6 | H18: =+H20+H33 -> 2942825.1
F19: այդ թվում`
D20: 1146 | E20: Հանրակրթության ծրագիր | G20: =+G22 -> 294542.6 | H20: =+H22 -> 1442825.1
F21: այդ թվում`
E22: 12010 | F22: «Մոդուլային» տիպի մանկապարտեզների շենքային ապահովում | G22: =+G24 -> 294542.6 | H22: =+H24 -> 1442825.1
F23: այդ թվում` ըստ կատարողների
F24: ՀՀ քաղաքաշինության կոմիտե | G24: =+G26 -> 294542.6 | H24: =+H26 -> 1442825.1
F25: այդ թվում՝ բյուջետային ծախսերի տնտեսագիտական դասակարգման հոդվածներ
F26: ԸՆԴԱՄԵՆԸ ԾԱԽՍԵՐ | G26: =+G27 -> 294542.6 | H26: =+H27 -> 1442825.1
F27: ՈՉ ՖԻՆԱՆՍԱԿԱՆ ԱԿՏԻՎՆԵՐԻ ԳԾՈՎ ԾԱԽՍԵՐ | G27: =+G28 -> 294542.6 | H27: =+H28 -> 1442825.1
F28: ՀԻՄՆԱԿԱՆ ՄԻՋՈՑՆԵՐ | G28: =+G29+G31 -> 294542.6 | H28: =+H29+H31 -> 1442825.1
F29: ՇԵՆՔԵՐ ԵՎ ՇԻՆՈՒԹՅՈՒՆՆԵՐ | G29: =+G30 -> 248282.6 | H29: =+H30 -> 1396565.1
F30: -Շենքերի և շինությունների շինարարություն | G30: =+'Havelvats 4'!E14-'Havelvats 4'!E16 -> 248282.6 | H30: =+'Havelvats 4'!F14-'Havelvats 4'!F16 -> 1396565.1
F31: ԱՅԼ ՀԻՄՆԱԿԱՆ ՄԻՋՈՑՆԵՐ | G31: =+G32 -> 46260 | H31: =+H32 -> 46260
F32: - Նախագծահետազոտական ծախսեր | G32: =+'Havelvats 4'!E16 -> 46260 | H32: =+'Havelvats 4'!F16 -> 46260
D33: 1183 | E33: Ապահով դպրոց | G33: =+G35 -> 750000 | H33: =+H35 -> 1500000
F34: այդ թվում`
E35: 32003 | F35: Փոքրաքանակ երեխաներով համալրված հանրակրթական դպրոցների մոդուլային շենքերի կառուցում | G35: =+G37 -> 750000 | H35: =+H37 -> 1500000
F36: այդ թվում` ըստ կատարողների
F37: ՀՀ քաղաքաշինության կոմիտե | G37: =+G39 -> 750000 | H37: =+H39 -> 1500000
F38: այդ թվում՝ բյուջետային ծախսերի տնտեսագիտական դասակարգման հոդվածներ
F39: ԸՆԴԱՄԵՆԸ ԾԱԽՍԵՐ | G39: =+G40 -> 750000 | H39: =+H40 -> 1500000
F40: ՈՉ ՖԻՆԱՆՍԱԿԱՆ ԱԿՏԻՎՆԵՐԻ ԳԾՈՎ ԾԱԽՍԵՐ | G40: =+G41 -> 750000 | H40: =+H41 -> 1500000
F41: ՀԻՄՆԱԿԱՆ ՄԻՋՈՑՆԵՐ | G41: =+G42 -> 750000 | H41: =+H42 -> 1500000
...

Sheet Havelvats 3
F1: Հավելված N 3
F2: ՀՀ կառավարության 2021 թվականի
F3: ______________ ի ___Ն որոշման
A5: «ՀԱՅԱUՏԱՆԻ ՀԱՆՐԱՊԵՏՈՒԹՅԱՆ 2021 ԹՎԱԿԱՆԻ ՊԵՏԱԿԱՆ ԲՅՈՒՋԵԻ ՄԱUԻՆ» ՀԱՅԱUՏԱՆԻ ՀԱՆՐԱՊԵՏՈՒԹՅԱՆ OՐԵՆՔԻ N 1 ՀԱՎԵԼՎԱԾԻ N 3 ԱՂՅՈՒՍԱԿՈՒՄ ԿԱՏԱՐՎՈՂ ԼՐԱՑՈՒՄՆԵՐԸ
G8: հազ. դրամներով
A9: Ծրագրային դասիչ | C9: Բյուջետային գլխավոր կարգադրիչների, ծրագրերի, միջոցառումների, միջոցառումները կատարող պետական մարմինների և ուղղությունների անվանումները | D9: Ընդամենը | E9: Ցուցանիշների փոփոխությունը (ավելացումները նշված են դրական նշանով)
A10: Ծրագիր | B10: Միջոցառում | E10: Կառուցման աշխատանքներ | F10: Վերակառուցման, վերանորոգման և վերականգնման աշխատանքներ | G10: Նախագծահե- տազոտական, գեոդեզիա- քարտեզագրա- կան աշխա- տանքներ | H10: Ոչ ֆինանսական այլ ակտիվների ձեռքբերում
C11: ԸՆԴԱՄԵՆԸ | D11: =SUM(E11:H11) -> 2942825.1 | E11: =+E13 -> 2896565.1 | F11: =+F13 -> 0 | G11: =+G13 -> 46260 | H11: =+H13 -> 0
C12: այդ թվում՝
C13: ՀՀ ԿՐԹՈՒԹՅԱՆ, ԳԻՏՈՒԹՅԱՆ, ՄՇԱԿՈՒՅԹԻ ԵՎ ՍՊՈՐՏԻ ՆԱԽԱՐԱՐՈՒԹՅՈՒՆ | D13: =SUM(E13:H13) -> 2942825.1 | E13: =+E15+E38 -> 2896565.1 | F13: =+F15+F38 -> 0 | G13: =+G15+G38 -> 46260 | H13: =+H15+H38 -> 0
C14: այդ թվում`
A15: 1146 | B15: 12010 | C15: «Մոդուլային» տիպի մանկապարտեզների շենքային ապահովում | D15: =SUM(E15:H15) -> 1442825.1 | E15: =+E17+E18+E20+E22+E24+E26+E28+E30+E32+E34+E36 -> 1396565.1 | F15: =+F17+F18+F20+F22+F24+F26+F28+F30+F32+F34+F36 -> 0 | G15: =+G17+G18+G20+G22+G24+G26+G28+G30+G32+G34+G36 -> 46260 | H15: =+H17+H18+H20+H22+H24+H26+H28+H30+H32+H34+H36 -> 0
C16: այդ թվում`
C17: «Մոդուլային» տիպի 144 տեղ հզորությամբ մսուր-մանկապարտեզի բազմակի օգտագործման օրինակելի նախագծանախահաշվային փաստաթղթերի մշակում և համապատասխան համայնքներում տեղակապում | D17: =SUM(E17:H17) -> 46260 | G17: =4740*9+400*9 -> 46260
C18: ՀՀ Արագածոտնի մարզ | D18: =SUM(E18:H18) -> 100000 | E18: =+E19 -> 100000 | F18: =+F19 -> 0 | G18: =+G19 -> 0 | H18: =+H19 -> 0
C19: ՀՀ Արագածոտնի մարզի Ալագյազ համայնքում «Մոդուլային» տիպի 144 տեղ հզորությամբ մսուր-մանկապարտեզ | D19: =SUM(E19:H19) -> 100000 | E19: 100000
C20: ՀՀ Արարատի մարզ | D20: =SUM(E20:H20) -> 100000 | E20: =+E21 -> 100000 | F20: =+F21 -> 0 | G20: =+G21 -> 0 | H20: =+H21 -> 0
C21: ՀՀ Արարատի մարզի Արալեզ համայնքում «Մոդուլային» տիպի 144 տեղ հզորությամբ մսուր-մանկապարտեզ | D21: =SUM(E21:H21) -> 100000 | E21: 100000
C22: ՀՀ Արմավիրի մարզ | D22: =SUM(E22:H22) -> 496565.1 | E22: =+E23 -> 496565.1 | F22: =+F23 -> 0 | G22: =+G23 -> 0 | H22: =+H23 -> 0
C23: ՀՀ Արմավիրի մարզի Արևիկ համայնքում «Մոդուլային» տիպի մսուր-մանկապարտեզ | D23: =SUM(E23:H23) -> 496565.1 | E23: 496565.1
C24: ՀՀ Գեղարքունիքի մարզ | D24: =SUM(E24:H24) -> 100000 | E24: =+E25 -> 100000 | F24: =+F25 -> 0 | G24: =+G25 -> 0 | H24: =+H25 -> 0
C25: ՀՀ Գեղարքունիքի մարզի Աստղաձոր համայնքում «Մոդուլային» տիպի 144 տեղ հզորությամբ մսուր-մանկապարտեզ | D25: =SUM(E25:H25) -> 100000 | E25: 100000
C26: ՀՀ Լոռու մարզ | D26: =SUM(E26:H26) -> 100000 | E26: =+E27 -> 100000 | F26: =+F27 -> 0 | G26: =+G27 -> 0 | H26: =+H27 -> 0
C27: ՀՀ Լոռու մարզի Սպիտակ համայնքում «Մոդուլային» տիպի 144 տեղ հզորությամբ մսուր-մանկապարտեզ | D27: =SUM(E27:H27) -> 100000 | E27: 100000
C28: ՀՀ Կոտայքի մարզ | D28: =SUM(E28:H28) -> 100000 | E28: =+E29 -> 100000 | F28: =+F29 -> 0 | G28: =+G29 -> 0 | H28: =+H29 -> 0
C29: ՀՀ Կոտայքի մարզի Հրազդան համայնքում «Մոդուլային» տիպի 144 տեղ հզորությամբ մսուր-մանկապարտեզ | D29: =SUM(E29:H29) -> 100000 | E29: 100000
C30: ՀՀ Շիրակի մարզ | D30: =SUM(E30:H30) -> 100000 | E30: =+E31 -> 100000 | F30: =+F31 -> 0 | G30: =+G31 -> 0 | H30: =+H31 -> 0
C31: ՀՀ Շիրակի մարզի Արթիկ համայնքում «Մոդուլային» տիպի 144 տեղ հզորությամբ մսուր-մանկապարտեզ | D31: =SUM(E31:H31) -> 100000 | E31: 100000
C32: ՀՀ Սյունիքի մարզ | D32: =SUM(E32:H32) -> 100000 | E32: =+E33 -> 100000 | F32: =+F33 -> 0 | G32: =+G33 -> 0 | H32: =+H33 -> 0
C33: ՀՀ Սյունիքի մարզի Կապան համայնքում «Մոդուլային» տիպի 144 տեղ հզորությամբ մսուր-մանկապարտեզ | D33: =SUM(E33:H33) -> 100000 | E33: 100000
C34: ՀՀ Վայոց Ձորի մարզ | D34: =SUM(E34:H34) -> 100000 | E34: =+E35 -> 100000 | F34: =+F35 -> 0 | G34: =+G35 -> 0 | H34: =+H35 -> 0
C35: ՀՀ Վայոց ձորի մարզի Եղեգիս համայնքի Շատին բնակավայրում «Մոդուլային» տիպի 144 տեղ հզորությամբ մսուր-մանկապարտեզ | D35: =SUM(E35:H35) -> 100000 | E35: 100000
C36: ՀՀ Տավուշի մարզ | D36: =SUM(E36:H36) -> 100000 | E36: =+E37 -> 100000 | F36: =+F37 -> 0 | G36: =+G37 -> 0 | H36: =+H37 -> 0
C37: ՀՀ Տավուշի մարզի Բերդ համայնքի Արծվաբերդ բնակավայրում «Մոդուլային» տիպի 144 տեղ հզորությամբ մսուր-մանկապարտեզ | D37: =SUM(E37:H37) -> 100000 | E37: 100000
A38: 1183 | B38: 32003 | C38: Փոքրաքանակ երեխաներով համալրված հանրակրթական դպրոցների մոդուլային շենքերի կառուցում | D38: =SUM(E38:H38) -> 1500000 | E38: =+E40+E43+E45+E47+E50+E58+E62+E56+E53+E64 -> 1500000 | F38: =+F40+F43+F45+F47+F50+F58+F62+F56+F53+F64 -> 0 | G38: =+G40+G43+G45+G47+G50+G58+G62+G56+G53+G64 -> 0 | H38: =+H40+H43+H45+H47+H50+H58+H62+H56+H53+H64 -> 0
C39: այդ թվում`
C40: ՀՀ Արագածոտնի մարզ | D40: =SUM(E40:H40) -> 200000 | E40: =+E41+E42 -> 200000
C41: «Լուսակնի միջնակարգ դպրոց» ՀՈԱԿ | D41: =SUM(E41:H41) -> 100000 | E41: 100000
C42: «Գառնահովիտի միջնակարգ դպրոց» ՊՈԱԿ | D42: =SUM(E42:H42) -> 100000 | E42: 100000
C43: ՀՀ Արարատի մարզ | D43: =SUM(E43:H43) -> 100000 | E43: =+E44 -> 100000
...

Sheet Havelvats 4
E1: Հավելված N 4
D2: ՀՀ կառավարության 2021 թվականի
E3: ______________ ի ___Ն որոշման
B5: ՀԱՅԱՍՏԱՆԻ ՀԱՆՐԱՊԵՏՈՒԹՅԱՆ ԿԱՌԱՎԱՐՈՒԹՅԱՆ 2020 ԹՎԱԿԱՆԻ ԴԵԿՏԵՄԲԵՐԻ 30-Ի N 2215-Ն ՈՐՈՇՄԱՆ N 5 ՀԱՎԵԼՎԱԾԻ N 2 ԱՂՅՈՒՍԱԿՈՒՄ ԿԱՏԱՐՎՈՂ ԼՐԱՑՈՒՄՆԵՐԸ
F7: հազ. դրամներով
B8: Ծրագրային դասիչ | D8: Բյուջետային գլխավոր կարգադրիչների, ծրագրերի, միջոցառումների, միջոցառումները կատարող պետական մարմինների և ուղղությունների անվանումները | E8: Ցուցանիշների փոփոխությունը (ավելացումները նշված են դրական նշանով)
B9: Ծրագիր | C9: Միջոցառում | E9: Ինն ամիս | F9: Տարի
D10: ՀՀ ԿՐԹՈՒԹՅԱՆ, ԳԻՏՈՒԹՅԱՆ, ՄՇԱԿՈՒՅԹԻ ԵՎ ՍՊՈՐՏԻ ՆԱԽԱՐԱՐՈՒԹՅՈՒՆ | E10: =+E12+E37 -> 1044542.6 | F10: =+F12+F37 -> 2942825.1
D11: այդ թվում՝
B12: 1146 | C12: 12010 | D12: «Մոդուլային» տիպի մանկապարտեզների շենքային ապահովում | E12: =+E14 -> 294542.6 | F12: =+F14 -> 1442825.1
D13: այդ թվում` ըստ կատարողների
D14: ՀՀ քաղաքաշինության կոմիտե | E14: =+E16+E17+E19+E21+E23+E25+E27+E29+E31+E33+E35 -> 294542.6 | F14: =+F16+F17+F19+F21+F23+F25+F27+F29+F31+F33+F35 -> 1442825.1
D15: այդ թվում`ըստ ուղղությունների
D16: «Մոդուլային» տիպի 144 տեղ հզորությամբ մսուր-մանկապարտեզի բազմակի օգտագործման օրինակելի նախագծանախահաշվային փաստաթղթերի մշակում և համապատասխան համայնքներում տեղակապում | E16: =+'Havelvats 3'!D17 -> 46260 | F16: =+E16 -> 46260
D17: ՀՀ Արագածոտնի մարզ | E17: =+E18 -> 0 | F17: =+F18 -> 100000
D18: ՀՀ Արագածոտնի մարզի Ալագյազ համայնքում «Մոդուլային» տիպի 144 տեղ հզորությամբ մսուր-մանկապարտեզ | E18: 0 | F18: =+'Havelvats 3'!D19 -> 100000
D19: ՀՀ Արարատի մարզ | E19: =+E20 -> 0 | F19: =+F20 -> 100000
D20: ՀՀ Արարատի մարզի Արալեզ համայնքում «Մոդուլային» տիպի 144 տեղ հզորությամբ մսուր-մանկապարտեզ | E20: 0 | F20: =+'Havelvats 3'!D21 -> 100000
D21: ՀՀ Արմավիրի մարզ | E21: =+E22 -> 248282.6 | F21: =+F22 -> 496565.1
D22: ՀՀ Արմավիրի մարզի Արևիկ համայնքում «Մոդուլային» տիպի մսուր-մանկապարտեզ | E22: 248282.6 | F22: =+'Havelvats 3'!D23 -> 496565.1
D23: ՀՀ Գեղարքունիքի մարզ | E23: =+E24 -> 0 | F23: =+F24 -> 100000
D24: ՀՀ Գեղարքունիքի մարզի Աստղաձոր համայնքում «Մոդուլային» տիպի 144 տեղ հզորությամբ մսուր-մանկապարտեզ | E24: 0 | F24: =+'Havelvats 3'!D25 -> 100000
D25: ՀՀ Լոռու մարզ | E25: =+E26 -> 0 | F25: =+F26 -> 100000
D26: ՀՀ Լոռու մարզի Սպիտակ համայնքում «Մոդուլային» տիպի 144 տեղ հզորությամբ մսուր-մանկապարտեզ | E26: 0 | F26: =+'Havelvats 3'!D27 -> 100000
D27: ՀՀ Կոտայքի մարզ | E27: =+E28 -> 0 | F27: =+F28 -> 100000
D28: ՀՀ Կոտայքի մարզի Հրազդան համայնքում «Մոդուլային» տիպի 144 տեղ հզորությամբ մսուր-մանկապարտեզ | E28: 0 | F28: =+'Havelvats 3'!D29 -> 100000
D29: ՀՀ Շիրակի մարզ | E29: =+E30 -> 0 | F29: =+F30 -> 100000
D30: ՀՀ Շիրակի մարզի Արթիկ համայնքում «Մոդուլային» տիպի 144 տեղ հզորությամբ մսուր-մանկապարտեզ | E30: 0 | F30: =+'Havelvats 3'!D31 -> 100000
D31: ՀՀ Սյունիքի մարզ | E31: =+E32 -> 0 | F31: =+F32 -> 100000
D32: ՀՀ Սյունիքի մարզի Կապան համայնքում «Մոդուլային» տիպի 144 տեղ հզորությամբ մսուր-մանկապարտեզ | E32: 0 | F32: =+'Havelvats 3'!D33 -> 100000
D33: ՀՀ Վայոց Ձորի մարզ | E33: =+E34 -> 0 | F33: =+F34 -> 100000
D34: ՀՀ Վայոց ձորի մարզի Եղեգիս համայնքի Շատին բնակավայրում «Մոդուլային» տիպի 144 տեղ հզորությամբ մսուր-մանկապարտեզ | E34: 0 | F34: =+'Havelvats 3'!D35 -> 100000
D35: ՀՀ Տավուշի մարզ | E35: =+E36 -> 0 | F35: =+F36 -> 100000
D36: ՀՀ Տավուշի մարզի Բերդ համայնքի Արծվաբերդ բնակավայրում «Մոդուլային» տիպի 144 տեղ հզորությամբ մսուր-մանկապարտեզ | E36: 0 | F36: =+'Havelvats 3'!D37 -> 100000
B37: 1183 | C37: 32003 | D37: Փոքրաքանակ երեխաներով համալրված հանրակրթական դպրոցների մոդուլային շենքերի կառուցում | E37: =+E39 -> 750000 | F37: =+F39 -> 1500000
D38: այդ թվում` ըստ կատարողների
D39: ՀՀ քաղաքաշինության կոմիտե | E39: =+E41+E44+E46+E48+E51+E54+E57+E59+E63+E65 -> 750000 | F39: =+F41+F44+F46+F48+F51+F54+F57+F59+F63+F65 -> 1500000
D40: այդ թվում`ըստ ուղղությունների
D41: ՀՀ Արագածոտնի մարզ | E41: =+E42+E43 -> 100000 | F41: =+F42+F43 -> 200000
D42: «Լուսակնի միջնակարգ դպրոց» ՀՈԱԿ | E42: 50000 | F42: =+'Havelvats 3'!D41 -> 100000
...

Sheet Havelvats 5
D1: Հավելված N 5
D2: ՀՀ կառավարության 2021 թվականի
D3: ______________ ի ___Ն որոշման
B5: ՀԱՅԱՍՏԱՆԻ ՀԱՆՐԱՊԵՏՈՒԹՅԱՆ ԿԱՌԱՎԱՐՈՒԹՅԱՆ 2020 ԹՎԱԿԱՆԻ ԴԵԿՏԵՄԲԵՐԻ 30-Ի N 2215-Ն ՈՐՈՇՄԱՆ N 9 ՀԱՎԵԼՎԱԾԻ N 9.14 ԱՂՅՈՒՍԱԿՈՒՄ ԿԱՏԱՐՎՈՂ ՓՈՓՈԽՈՒԹՅՈՒՆՆԵՐԸ ԵՎ ԼՐԱՑՈՒՄՆԵՐԸ
A7: Աղյուսակ 9․14
C8: ՀՀ կրթության, գիտության, մշակույթի և սպորտի նախարարություն
B9: ՄԱՍ 2. ՊԵՏԱԿԱՆ ՄԱՐՄՆԻ ԳԾՈՎ ԱՐԴՅՈՒՆՔԱՅԻՆ (ԿԱՏԱՐՈՂԱԿԱՆ) ՑՈՒՑԱՆԻՇՆԵՐԸ
B12: Ծրագրի դասիչը | C12: Ծրագրի անվանումը
B13: 1146 | C13: Հանրակրթության ծրագիր
B14: Ծրագրի միջոցառումները
B15: Ծրագրի դասիչը՝ | C15: 1146 | D15: Ցուցանիշների փոփոխությունը (ավելացումները նշված են դրական նշանով)
B16: Միջոցառման դասիչը՝ | C16: 12010 | D16: Ինն ամիս | E16: Տարի
B17: Միջոցառման անվանումը` | C17: «Մոդուլային» տիպի մանկապարտեզների շենքային ապահովում
B18: Նկարագրությունը` | C18: Համայնքներում «Մոդուլային» տիպի մանկապարտեզների կառուցում և նախագծում
B19: Միջոցառման տեսակը` | C19: Տրանսֆերտների տրամադրում
B20: Շահառուների ընտրության չափանիշները | C20: Նախադպրոցական կրթություն իրականացնող ուսումնական հաստատություններ
B21: Արդյունքի չափորոշիչներ
B22: Կազմակերպությունների թիվը, որոնց համար իրականացվում է նախագծում, հատ | D22: 9 | E22: 9
B23: Կազմակերպությունների թիվը, որտեղ կատարվում են ներդրումները, հատ | D23: 1 | E23: 10
B24: Միջոցառման վրա կատարվող ծախսը (հազար դրամ) | D24: =+'Havelvats 1'!D21 -> 294542.6 | E24: =+'Havelvats 1'!E21 -> 1442825.1
B26: Ծրագրի դասիչը | C26: Ծրագրի անվանումը
B27: 1183 | C27: Ապահով դպրոց
B28: Ծրագրի միջոցառումները
B29: Ծրագրի դասիչը՝ | C29: 1183 | D29: Ցուցանիշների փոփոխությունը (ավելացումները նշված են դրական նշանով, իսկ նվազեցումները՝ փակագծերում)
B30: Միջոցառման դասիչը՝ | C30: 32003 | D30: Ինն ամիս | E30: Տարի
B31: Միջոցառման անվանումը` | C31: Փոքրաքանակ երեխաներով համալրված հանրակրթական դպրոցների մոդուլային շենքերի կառուցում
B32: Նկարագրությունը` | C32: Կրթական հաստատությունների կառուցում համայնքային կենտրոնների մոդելով
B33: Միջոցառման տեսակը` | C33: Այլ պետական կազմակերպությունների կողմից օգտագործվող ոչ ֆինանսական ակտիվների հետ գործառնություններ
B34: Ակտիվն օգտագործող կազմակերպությունների անվանումները | C34: Փոքրաքանակ երեխաներով համալրված հանրակրթական դպրոցներ
B35: Արդյունքի չափորոշիչներ
B36: Կառուցված ուսումնական հաստատությունների քանակ, հատ | D36: -1 | E36: -1
B37: Միջոցառման վրա կատարվող ծախսը (հազար դրամ) | D37: =+'Havelvats 1'!D34 -> 750000 | E37: =+'Havelvats 1'!E34 -> 1500000
A41: Աղյուսակ 9․1.58
C42: ՀՀ կառավարություն
B43: ՄԱՍ 2. ՊԵՏԱԿԱՆ ՄԱՐՄՆԻ ԳԾՈՎ ԱՐԴՅՈՒՆՔԱՅԻՆ (ԿԱՏԱՐՈՂԱԿԱՆ) ՑՈՒՑԱՆԻՇՆԵՐԸ
B46: Ծրագրի դասիչը | C46: Ծրագրի անվանումը
B47: 1139 | C47: ՀՀ կառավարության պահուստային ֆոնդ
B48: Ծրագրի միջոցառումները
B49: Ծրագրի դասիչը՝ | C49: 1139 | D49: Ցուցանիշների փոփոխությունը (նվազեցումները նշված են փակագծերում)
B50: Միջոցառման դասիչը՝ | C50: 11001 | D50: Ինն ամիս | E50: Տարի
...

Sheet Havelvats 6
D1: Հավելված N6
D2: ՀՀ կառավարության 2021 թվականի
D3: ______________ ի ___Ն որոշման
B5: ՀԱՅԱՍՏԱՆԻ ՀԱՆՐԱՊԵՏՈՒԹՅԱՆ ԿԱՌԱՎԱՐՈՒԹՅԱՆ 2020 ԹՎԱԿԱՆԻ ԴԵԿՏԵՄԲԵՐԻ 30-Ի N 2215-Ն ՈՐՈՇՄԱՆ N 9.1. ՀԱՎԵԼՎԱԾԻ N 9.1.42 ԱՂՅՈՒՍԱԿՈՒՄ ԿԱՏԱՐՎՈՂ ՓՈՓՈԽՈՒԹՅՈՒՆՆԵՐԸ ԵՎ ԼՐԱՑՈՒՄՆԵՐԸ
A7: Աղյուսակ 9.1.42
C8: ՀՀ քաղաքաշինության կոմիտե
B9: ՄԱՍ 1. ՊԵՏԱԿԱՆ ՄԱՐՄՆԻ ԳԾՈՎ ԱՐԴՅՈՒՆՔԱՅԻՆ (ԿԱՏԱՐՈՂԱԿԱՆ) ՑՈՒՑԱՆԻՇՆԵՐԸ
B12: Ծրագրի դասիչը | C12: Ծրագրի անվանումը
B13: 1146 | C13: Հանրակրթության ծրագիր
B14: Ծրագրի միջոցառումները
B15: Ծրագրի դասիչը՝ | C15: 1146 | D15: Ցուցանիշների փոփոխությունը (ավելացումները նշված են դրական նշանով)
B16: Միջոցառման դասիչը՝ | C16: 12010 | D16: Ինն ամիս | E16: Տարի
B17: Միջոցառման անվանումը` | C17: «Մոդուլային» տիպի մանկապարտեզների շենքային ապահովում
B18: Նկարագրությունը` | C18: Համայնքներում «Մոդուլային» տիպի մանկապարտեզների կառուցում և նախագծում
B19: Միջոցառման տեսակը` | C19: Տրանսֆերտների տրամադրում
B20: Շահառուների ընտրության չափանիշները | C20: Նախադպրոցական կրթություն իրականացնող ուսումնական հաստատություններ
B21: Արդյունքի չափորոշիչներ
B22: Կազմակերպությունների թիվը, որոնց համար իրականացվում է նախագծում, հատ | D22: 9 | E22: 9
B23: Կազմակերպությունների թիվը, որտեղ կատարվում են ներդրումները, հատ | D23: 1 | E23: 10
B24: Միջոցառման վրա կատարվող ծախսը (հազար դրամ) | D24: =+'Havelvats 2'!G24 -> 294542.6 | E24: =+'Havelvats 2'!H24 -> 1442825.1
B26: Ծրագրի դասիչը | C26: Ծրագրի անվանումը
B27: 1183 | C27: Ապահով դպրոց
B28: Ծրագրի միջոցառումները
B29: Ծրագրի դասիչը՝ | C29: 1183 | D29: Ցուցանիշների փոփոխությունը (ավելացումները նշված են դրական նշանով, իսկ նվազեցումները՝ փակագծերում)
B30: Միջոցառման դասիչը՝ | C30: 32003 | D30: Ինն ամիս | E30: Տարի
B31: Միջոցառման անվանումը` | C31: Փոքրաքանակ երեխաներով համալրված հանրակրթական դպրոցների մոդուլային շենքերի կառուցում
B32: Նկարագրությունը` | C32: Կրթական հաստատությունների կառուցում համայնքային կենտրոնների մոդելով
B33: Միջոցառման տեսակը` | C33: Այլ պետական կազմակերպությունների կողմից օգտագործվող ոչ ֆինանսական ակտիվների հետ գործառնություններ
B34: Ակտիվն օգտագործող կազմակերպությունների անվանումները | C34: Փոքրաքանակ երեխաներով համալրված հանրակրթական դպրոցներ
B35: Արդյունքի չափորոշիչներ
B36: Կառուցված ուսումնական հաստատությունների քանակ, հատ | D36: -1 | E36: -1
B37: Միջոցառման վրա կատարվող ծախսը (հազար դրամ) | D37: =+'Havelvats 2'!G37 -> 750000 | E37: =+'Havelvats 2'!H37 -> 1500000
A41: Աղյուսակ 9․1.58
C42: ՀՀ կառավարություն
B43: ՄԱՍ 1. ՊԵՏԱԿԱՆ ՄԱՐՄՆԻ ԳԾՈՎ ԱՐԴՅՈՒՆՔԱՅԻՆ (ԿԱՏԱՐՈՂԱԿԱՆ) ՑՈՒՑԱՆԻՇՆԵՐԸ
B46: Ծրագրի դասիչը | C46: Ծրագրի անվանումը
B47: 1139 | C47: ՀՀ կառավարության պահուստային ֆոնդ
B48: Ծրագրի միջոցառումները
B49: Ծրագրի դասիչը՝ | C49: 1139 | D49: Ցուցանիշների փոփոխությունը (նվազեցումները նշված են փակագծերում)
B50: Միջոցառման դասիչը՝ | C50: 11001 | D50: Ինն ամիս | E50: Տարի
...

Sheet Havelvats 7
H1: Հավելված N 7
H2: ՀՀ կառավարության 2021 թվականի
H3: ______________ ի ___Ն որոշման
A5: ՀԱՅԱՍՏԱՆԻ ՀԱՆՐԱՊԵՏՈՒԹՅԱՆ ԿԱՌԱՎԱՐՈՒԹՅԱՆ 2020 ԹՎԱԿԱՆԻ ԴԵԿՏԵՄԲԵՐԻ 30-Ի N 2215-Ն ՈՐՈՇՄԱՆ N 10 ՀԱՎԵԼՎԱԾՈՒՄ ԿԱՏԱՐՎՈՂ ՓՈՓՈԽՈՒԹՅՈՒՆՆԵՐԸ ԵՎ ԼՐԱՑՈՒՄՆԵՐԸ
A7: Կոդը | B7: Անվանումը | E7: Գնման ձևը | F7: Չափման միավորը | G7: Միավորի գինը | H7: Ցուցանիշների փոփոխությունը (ավելացումները նշված են դրական նշանով, իսկ նվազեցումները` փակագծերում)
H8: Քանակը | I8: Գումարը (հազար դրամ)
A10: 1 | B10: 2 | E10: 3 | F10: 4 | G10: 5 | H10: 6 | I10: 7
A11: ՀՀ քաղաքաշինության կոմիտե | I11: =+I12 -> 2942825.1
A12: Բաժին N 09 | B12: Խումբ N 06 | C12: Դաս N 01 | D12: Կրթությանը տրամադրվող օժանդակ ծառայություններ | I12: =+I13+I48 -> 2942825.1
A13: 1146-12010 | B13: «Մոդուլային» տիպի մանկապարտեզների շենքային ապահովում | I13: =+I14+I25 -> 1442825.1
B14: ՄԱՍ II. ԱՇԽԱՏԱՆՔՆԵՐ | I14: =SUM(I15:I24) -> 1332671.6
A15: 45221142-520 | B15: ընդհանուր շինարարական աշխատանքներ | E15: ՀԲՄ | F15: դրամ | G15: 472250916 | H15: 1 | I15: 472250.9
A16: 45221142 | B16: ընդհանուր շինարարական աշխատանքներ | E16: ՀԲՄ | F16: դրամ | G16: 95602294 | H16: 1 | I16: 95602.3
A17: 45221142 | B17: ընդհանուր շինարարական աշխատանքներ | E17: ՀԲՄ | F17: դրամ | G17: 95602294 | H17: 1 | I17: 95602.3
A18: 45221142 | B18: ընդհանուր շինարարական աշխատանքներ | E18: ՀԲՄ | F18: դրամ | G18: 95602294 | H18: 1 | I18: 95602.3
A19: 45221142 | B19: ընդհանուր շինարարական աշխատանքներ | E19: ՀԲՄ | F19: դրամ | G19: 95602294 | H19: 1 | I19: 95602.3
A20: 45221142 | B20: ընդհանուր շինարարական աշխատանքներ | E20: ՀԲՄ | F20: դրամ | G20: 95602294 | H20: 1 | I20: 95602.3
A21: 45221142 | B21: ընդհանուր շինարարական աշխատանքներ | E21: ՀԲՄ | F21: դրամ | G21: 95602294 | H21: 1 | I21: 95602.3
A22: 45221142 | B22: ընդհանուր շինարարական աշխատանքներ | E22: ՀԲՄ | F22: դրամ | G22: 95602294 | H22: 1 | I22: 95602.3
A23: 45221142 | B23: ընդհանուր շինարարական աշխատանքներ | E23: ՀԲՄ | F23: դրամ | G23: 95602294 | H23: 1 | I23: 95602.3
A24: 45221142 | B24: ընդհանուր շինարարական աշխատանքներ | E24: ՀԲՄ | F24: դրամ | G24: 95602294 | H24: 1 | I24: 95602.3
B25: ՄԱՍ III. ԾԱՌԱՅՈՒԹՅՈՒՆՆԵՐ | I25: =SUM(I26:I47) -> 110153.5
A26: 71241200 | B26: նախագծերի պատրաստում, ծախսերի գնահատում | E26: ՀՄԱ | F26: դրամ | G26: 42660000 | H26: 1 | I26: 42660
A27: 50531140 | B27: փորձաքննության ծառայություններ | E27: ԳՀ | F27: դրամ | G27: 3600000 | H27: 1 | I27: 3600
A28: 71351540 | B28: տեխնիկական հսկողության ծառայություններ | E28: ԳՀ | F28: դրամ | G28: 21142830 | H28: 1 | I28: 21142.8
A29: 71351540 | B29: տեխնիկական հսկողության ծառայություններ | E29: ԳՀ | F29: դրամ | G29: 3824091 | H29: 1 | I29: 3824.1
A30: 71351540 | B30: տեխնիկական հսկողության ծառայություններ | E30: ԳՀ | F30: դրամ | G30: 3824091 | H30: 1 | I30: 3824.1
A31: 71351540 | B31: տեխնիկական հսկողության ծառայություններ | E31: ԳՀ | F31: դրամ | G31: 3824091 | H31: 1 | I31: 3824.1
A32: 71351540 | B32: տեխնիկական հսկողության ծառայություններ | E32: ԳՀ | F32: դրամ | G32: 3824091 | H32: 1 | I32: 3824.1
A33: 71351540 | B33: տեխնիկական հսկողության ծառայություններ | E33: ԳՀ | F33: դրամ | G33: 3824091 | H33: 1 | I33: 3824.1
A34: 71351540 | B34: տեխնիկական հսկողության ծառայություններ | E34: ԳՀ | F34: դրամ | G34: 3824091 | H34: 1 | I34: 3824.1
A35: 71351540 | B35: տեխնիկական հսկողության ծառայություններ | E35: ԳՀ | F35: դրամ | G35: 3824091 | H35: 1 | I35: 3824.1
A36: 71351540 | B36: տեխնիկական հսկողության ծառայություններ | E36: ԳՀ | F36: դրամ | G36: 3824091 | H36: 1 | I36: 3824.1
A37: 71351540 | B37: տեխնիկական հսկողության ծառայություններ | E37: ԳՀ | F37: դրամ | G37: 3824091 | H37: 1 | I37: 3824.1
... A47: 98111140 | B47: հեղինակային հսկողության ծառայություններ | E47: ՄԱ | F47: դրամ | G47: 573615 | H47: 1 | I47: 573.6
A48: 1183-32003 | B48: Փոքրաքանակ երեխաներով համալրված հանրակրթական դպրոցների մոդուլային շենքերի կառուցում | I48: =+I49+I66 -> 1500000
B49: ՄԱՍ II. ԱՇԽԱՏԱՆՔՆԵՐ | I49: =SUM(I50:I65) -> 1433652.1
A50: 45211231-1 | B50: միջնակարգ դպրոցների կառուցման աշխատանքներ | E50: ԲՄ | F50: դրամ | G50: 95006862 | H50: 1 | I50: 95006.9
A51: 45211231-2 | B51: միջնակարգ դպրոցների կառուցման աշխատանքներ | E51: ԲՄ | F51: դրամ | G51: 95774010 | H51: 1 | I51: 95774
A52: 45211231-3 | B52: միջնակարգ դպրոցների կառուցման աշխատանքներ | E52: ԲՄ | F52: դրամ | G52: 95459595 | H52: 1 | I52: 95459.6
...

Sheet Havelvats 8
C1: Հավելված N 8
C2: ՀՀ կառավարության 2021 թվականի
C3: ______________ ի ___Ն որոշման
A6: «ՀԱՅԱUՏԱՆԻ ՀԱՆՐԱՊԵՏՈՒԹՅԱՆ 2021 ԹՎԱԿԱՆԻ ՊԵՏԱԿԱՆ ԲՅՈՒՋԵԻ ՄԱUԻՆ» ՀԱՅԱUՏԱՆԻ ՀԱՆՐԱՊԵՏՈՒԹՅԱՆ OՐԵՆՔԻ N 6 ՀԱՎԵԼՎԱԾԻ N 2 ԱՂՅՈՒՍԱԿՈՒՄ ԿԱՏԱՐՎՈՂ ՓՈՓՈԽՈՒԹՅՈՒՆՆԵՐԸ
C7: հազար դրամներով
A8: Ծրագրային դասիչ | C8: Բյուջետային գլխավոր կարգադրիչների, ծրագրերի, միջոցառումների և ուղղությունների անվանումները | D8: Ընդամենը
A9: Ծրագիր | B9: Միջոցառում
C10: ԸՆԴԱՄԵՆԸ | D10: =+D12 -> -1500000
C11: այդ թվում՝
C12: ՀՀ ԿՐԹՈՒԹՅԱՆ, ԳԻՏՈՒԹՅԱՆ, ՄՇԱԿՈՒՅԹԻ ԵՎ ՍՊՈՐՏԻ ՆԱԽԱՐԱՐՈՒԹՅՈՒՆ | D12: =+D14 -> -1500000
C13: այդ թվում`
A14: 1183 | B14: 32003 | C14: Փոքրաքանակ երեխաներով համալրված հանրակրթական դպրոցների մոդուլային շենքերի կառուցում | D14: =-'Havelvats 1'!E34 -> -1500000

Sheet Havelvats 9
G1: Հավելված N 9
G2: ՀՀ կառավարության 2021 թվականի
G3: ______________ ի ___Ն որոշման
A6: ՀԱՅԱՍՏԱՆԻ ՀԱՆՐԱՊԵՏՈՒԹՅԱՆ 2021 ԹՎԱԿԱՆԻ ՊԵՏԱԿԱՆ ԲՅՈՒՋԵՈՎ ՆԱԽԱՏԵՍՎԱԾ՝ ՀԱՅԱՍՏԱՆԻ ՀԱՆՐԱՊԵՏՈՒԹՅԱՆ ԿԱՌԱՎԱՐՈՒԹՅԱՆ ՊԱՀՈՒՍՏԱՅԻՆ ՖՈՆԴԻՑ ՀԱՏԿԱՑՈՒՄՆԵՐ ԿԱՏԱՐԵԼՈՒ ՎԵՐԱԲԵՐՅԱԼ
H8: հազ. դրամներով
A9: Գործառական դասիչը | D9: Ծրագրային դասիչը | F9: Բյուջետային հատկացումների գլխավոր կարգադրիչների, ծրագրերի, միջոցառումների և միջոցառումները կատարող պետական մարմինների անվանումները | G9: Ցուցանիշների փոփոխությունը (ավելացումները նշված են դրական նշանով, իսկ նվազեցումները՝ փակագծերում)
A10: Բաժին | B10: Խումբ | C10: Դաս | D10: Ծրագիր | E10: Միջոցառում | G10: Ինն ամիս | H10: Տարի
F11: ԸՆԴԱՄԵՆԸ | G11: =+G13+G32 -> 0 | H11: =+H13+H32 -> 0
F12: այդ թվում
F13: ՀՀ կառավարություն | G13: =+G14 -> -1044542.6 | H13: =+H14 -> -2942825.1
A14: 11 | F14: ՀԻՄՆԱԿԱՆ ԲԱԺԻՆՆԵՐԻՆ ՉԴԱՍՎՈՂ ՊԱՀՈՒՍՏԱՅԻՆ ՖՈՆԴԵՐ | G14: =+G16 -> -1044542.6 | H14: =+H16 -> -2942825.1
F15: այդ թվում`
B16: 01 | F16: ՀՀ կառավարության և համայնքների պահուստային ֆոնդ | G16: =+G18 -> -1044542.6 | H16: =+H18 -> -2942825.1
F17: այդ թվում`
C18: 01 | F18: ՀՀ կառավարության պահուստային ֆոնդ | G18: =+G20 -> -1044542.6 | H18: =+H20 -> -2942825.1
F19: այդ թվում`
F20: ՀՀ կառավարություն | G20: =+G22 -> -1044542.6 | H20: =+H22 -> -2942825.1
F21: այդ թվում`
D22: 1139 | E22: ՀՀ կառավարության պահուստային ֆոնդ | F22: ՀՀ կառավարության պահուստային ֆոնդ | G22: =+G24 -> -1044542.6 | H22: =+H24 -> -2942825.1
F23: այդ թվում`
E24: 11001 | F24: ՀՀ կառավարության պահուստային ֆոնդ | G24: =+G26 -> -1044542.6 | H24: =+H26 -> -2942825.1
F25: այդ թվում` ըստ կատարողների
F26: ՀՀ կառավարություն | G26: =+G28 -> -1044542.6 | H26: =+H28 -> -2942825.1
F27: այդ թվում` բյուջետային ծախսերի տնտեսագիտական դասակարգման հոդվածներ
F28: ԸՆԴԱՄԵՆԸ ԾԱԽՍԵՐ | G28: =+G29 -> -1044542.6 | H28: =+H29 -> -2942825.1
F29: ԸՆԹԱՑԻԿ ԾԱԽՍԵՐ | G29: =+G30 -> -1044542.6 | H29: =+H30 -> -2942825.1
F30: ԱՅԼ ԾԱԽՍԵՐ | G30: =+G31 -> -1044542.6 | H30: =+H31 -> -2942825.1
F31: Պահուստային միջոցներ | G31: =+'Havelvats 2'!G62 -> -1044542.6 | H31: =+'Havelvats 2'!H62 -> -2942825.1
F32: ՀՀ կրթության, գիտության, մշակույթի և սպորտի նախարարություն | G32: =+G33 -> 1044542.6 | H32: =+H33 -> 2942825.1
A33: 09 | F33: ԿՐԹՈՒԹՅՈՒՆ | G33: =+G35 -> 1044542.6 | H33: =+H35 -> 2942825.1
F34: այդ թվում`
B35: 06 | F35: Կրթությանը տրամադրվող օժանդակ ծառայություններ | G35: =+G37 -> 1044542.6 | H35: =+H37 -> 2942825.1
F36: այդ թվում`
C37: 01 | F37: Կրթությանը տրամադրվող օժանդակ ծառայություններ | G37: =+G39 -> 1044542.6 | H37: =+H39 -> 2942825.1
F38: այդ թվում`
F39: ՀՀ կրթության, գիտության, մշակույթի և սպորտի նախարարություն | G39: =+G41+G54 -> 1044542.6 | H39: =+H41+H54 -> 2942825.1
F40: այդ թվում`
D41: 1146 | E41: Հանրակրթության ծրագիր | G41: =+G43 -> 294542.6 | H41: =+H43 -> 1442825.1
E42: 12010 | F42: այդ թվում`
F43: «Մոդուլային» տիպի մանկապարտեզների շենքային ապահովում | G43: =+G45 -> 294542.6 | H43: =+H45 -> 1442825.1
...
