Workbook

Sheet 1
F1: Հավելված N 1
F2: ՀՀ կառավարության 2021 թվականի
F3: -ի N -Ն որոշման
A4: «ՀԱՅԱՍՏԱՆԻ ՀԱՆՐԱՊԵՏՈՒԹՅԱՆ 2021 ԹՎԱԿԱՆԻ ՊԵՏԱԿԱՆ ԲՅՈՒՋԵԻ ՄԱՍԻՆ» ՕՐԵՆՔԻ N 1 ՀԱՎԵԼՎԱԾԻ N 2 ԱՂՅՈՒՍԱԿՈՒՄ ԿԱՏԱՐՎՈՂ ՎԵՐԱԲԱՇԽՈՒՄԸ ԵՎ ՀԱՅԱՍՏԱՆԻ ՀԱՆՐԱՊԵՏՈՒԹՅԱՆ ԿԱՌԱՎԱՐՈՒԹՅԱՆ 2020 ԹՎԱԿԱՆԻ ԴԵԿՏԵՄԲԵՐԻ 30-Ի N 2215-Ն ՈՐՈՇՄԱՆ N 5 ՀԱՎԵԼՎԱԾԻ N 1 ԱՂՅՈՒՍԱԿՈՒՄ ԿԱՏԱՐՎՈՂ ՓՈՓՈԽՈՒԹՅՈՒՆՆԵՐԸ ԵՎ ԼՐԱՑՈՒՄՆԵՐԸ
E6: հազ.դրամ
A7: Ծրագրային դասիչը | C7: Բյուջետային գլխավոր կարգադրիչների, ծրագրերի և միջոցառումների անվանումները | D7: Ցուցանիշների փոփոխությունը (ավելացումները նշված են դրական նշանով, իսկ նվազեցումները՝ փակագծերում)
A8: Ծրագիր | B8: Միջոցառում | D8: Առաջին կիսամյակ | E8: Ինն ամիս | F8: Տարի
C9: ԸՆԴԱՄԵՆԸ | D9: =D10+D37 -> 0 | E9: =E10+E37 -> 0 | F9: =F10+F37 -> 0
C10: ՀՀ տարածքային կառավարման և ենթակառուցվածքների նախարարություն | D10: =D11+D24 -> 0 | E10: =E11+E24 -> 0 | F10: =F11+F24 -> 0
A11: 1004 | C11: Ծրագրի անվանումը` | D11: =D18 -> -21446.6 | E11: =E18 -> -107232.9 | F11: =F18 -> -107232.9
C12: Ոռոգման համակարգի առողջացում
C13: Ծրագրի նպատակը`
C14: Ոռոգման ծառայությունների հասանելիության և մատչելիության ապահովում
C15: Վերջնական արդյունքի նկարագրությունը`
C16: Ոռոգման ջրի մատակարարման արդյունավետության և հասանելիության բարելավում՝ կորուստների կրճատում
A17: Ծրագրի միջոցառումներ
B18: 31010 | C18: Միջոցառման անվանումը` | D18: =-D24 -> -21446.6 | E18: =-E24 -> -107232.9 | F18: =-F24 -> -107232.9
C19: Հեր-Հերի ջրամբարից ինքնահոս ջրատարի կառուցում
C20: Միջոցառման նկարագրությունը`
C21: Հեր-Հերի ջրամբարից ինքնահոս ջրատարի կառուցման համար նախագծերի և աշխատանքների ձեռքբերում
C22: Միջոցառման տեսակը
C23: Պետական մարմինների կողմից օգտագործվող ոչ ֆինանսական ակտիվների հետ գործառնություններ
A24: 1017 | C24: Ծրագրի անվանումը` | D24: =D31 -> 21446.6 | E24: =E31 -> 107232.9 | F24: =F31 -> 107232.9
C25: Որոտան-Արփա-Սևան թունելի ջրային համակարգի կառավարում
C26: Ծրագրի նպատակը`
C27: Որոտան-Արփա-Սևան թունելի ջրային համակարգի պահպանում և շահագործում
C28: Վերջնական արդյունքի նկարագրությունը`
C29: Որոտան-Արփա-Սևան հիդրոհամակարգի անվտանգության և հուսալիության ապահովում
A30: Ծրագրի միջոցառումներ
B31: 21002 | C31: Միջոցառման անվանումը` | D31: 21446.6 | E31: 107232.9 | F31: 107232.9
C32: Արփա-Սևան ջրային համակարգի վերազինում
C33: Միջոցառման նկարագրությունը`
C34: Արփա-Սևան ջրային համակարգի վերազինման համար նախագծերի, ջրաչափական սարքավորումների և աշխատանքների ձեռքբերում
C35: Միջոցառման տեսակը
C36: Հանրության կողմից անմիջականորեն օգտագործվող ակտիվների հետ կապված միջոցառումներ
C37: ՀՀ կառավարություն | D37: =D38 -> 0 | E37: =E38 -> 0 | F37: =F38 -> 0
A38: 1139 | C38: Ծրագրի անվանումը` | D38: =D45+D51 -> 0 | E38: =E45+E51 -> 0 | F38: =F45+F51 -> 0
C39: ՀՀ կառավարության պահուստային ֆոնդ
C40: Ծրագրի նպատակը`
C41: Պետական բյուջեում չկանխատեսված՝ ինչպես նաեւ բյուջետային երաշխիքների ապահովման ծախսերի ֆինանսավորման ապահովում
...

Sheet 2
A1: Հավելված N 2
A2: ՀՀ կառավարության 2021 թվականի
A3: -ի N -Ն որոշման
A4: «ՀԱՅԱՍՏԱՆԻ ՀԱՆՐԱՊԵՏՈՒԹՅԱՆ 2021 ԹՎԱԿԱՆԻ ՊԵՏԱԿԱՆ ԲՅՈՒՋԵԻ ՄԱՍԻՆ» ՕՐԵՆՔԻ N 1 ՀԱՎԵԼՎԱԾԻ N 3 ԱՂՅՈՒՍԱԿՈՒՄ ԿԱՏԱՐՎՈՂ ՓՈՓՈԽՈՒԹՅՈՒՆՆԵՐԸ ԵՎ ԼՐԱՑՈՒՄՆԵՐԸ
G5: հազ.դրամ
A6: Ծրագրային դասիչ | C6: Բյուջետային գլխավոր կարգադրիչների, ծրագրերի, միջոցառումների և ուղղությունների անվանումները | D6: Ցուցանիշների փոփոխությունը (ավելացումները նշված են դրական նշանով, իսկ նվազեցումները՝ փակագծերում)
D7: Ընդամենը, | E7: այդ թվում՝
A8: Ծրագիր | B8: Միջոցառում | E8: Կառուցման աշխատանքներ | F8: Վերակառուցման, վերանորոգման և վերականգնման աշխատանքներ | G8: Նախագծահե- տազոտական, գեոդեզիա- քարտեզագրա- կան աշխա- տանքներ | H8: Ոչ ֆինանսական այլ ակտիվների ձեռքբերում
C9: ԸՆԴԱՄԵՆԸ | D9: =D11 -> 0 | E9: =E11 -> -107232.9 | F9: =F11 -> 107232.9 | G9: =G11 -> 0 | H9: =H11 -> 0
C10: այդ թվում՝
C11: ՀՀ տարածքային կառավարման և ենթակառուցվածքների նախարարություն | D11: =SUM(E11:H11) -> 0 | E11: =E13 -> -107232.9 | F11: =F14 -> 107232.9 | G11: =G14 -> 0 | H11: =H14 -> 0
C12: այդ թվում`
A13: 1004 | B13: 31010 | C13: Հեր-Հերի ջրամբարից ինքնահոս ջրատարի կառուցում | D13: =SUM(E13:H13) -> -107232.9 | E13: ='1'!F18 -> -107232.9
A14: 1017 | B14: 21002 | C14: Արփա-Սևան ջրային համակարգի վերազինում | D14: =SUM(E14:H14) -> 107232.9 | F14: ='1'!F31 -> 107232.9

Sheet 3
I1: Հավելված N3
A2: ՀՀ կառավարության 2021 թվականի
A3: -ի N -Ն որոշման
A4: ՀԱՅԱՍՏԱՆԻ ՀԱՆՐԱՊԵՏՈՒԹՅԱՆ ԿԱՌԱՎԱՐՈՒԹՅԱՆ 2020 ԹՎԱԿԱՆԻ ԴԵԿՏԵՄԲԵՐԻ 30-Ի N 2215-Ն ՈՐՈՇՄԱՆ N 3 ԵՎ N 4 ՀԱՎԵԼՎԱԾՆԵՐՈՒՄ ԿԱՏԱՐՎՈՂ ՓՈՓՈԽՈՒԹՅՈՒՆՆԵՐԸ ԵՎ ԼՐԱՑՈՒՄՆԵՐԸ
H6: հազ. դրամ
A7: Գործառական դասիչը | D7: Ծրագրային դասիչը | F7: Բյուջետային ծախսերի գործառական դասակարգման բաժինների, խմբերի և դասերի, բյուջետային ծրագրերի միջոցառումների, բյուջետային հատկացումների գլխավոր կարգադրիչների անվանումները | G7: Ցուցանիշների փոփոխությունը (ավելացումները նշված են դրական նշանով, իսկ նվազեցումները՝ փակագծերում)
G8: Առաջին կիսամյակ | H8: Ինն ամիս | I8: Տարի
A9: Բաժին | B9: Խումբ | C9: Դաս | D9: Ծրագիր | E9: Միջոցառում
F10: ԸՆԴԱՄԵՆԸ ԾԱԽՍԵՐ | G10: =G12+G31 -> 0 | H10: =H12+H31 -> 0 | I10: =I12+I31 -> 0
F11: այդ թվում`
A12: 04 | F12: ՏՆՏԵՍԱԿԱՆ ՀԱՐԱԲԵՐՈՒԹՅՈՒՆՆԵՐ | G12: =G14 -> -21446.6 | H12: =H14 -> -107232.9 | I12: =I14 -> -107232.9
F13: այդ թվում`
B14: 02 | F14: Գյուղատնտեսություն, անտառային տնտեսություն, ձկնորսություն և որսորդություն | G14: =G16 -> -21446.6 | H14: =H16 -> -107232.9 | I14: =I16 -> -107232.9
F15: այդ թվում`
C16: 04 | F16: Ոռոգում | G16: =G18 -> -21446.6 | H16: =H18 -> -107232.9 | I16: =I18 -> -107232.9
F17: այդ թվում`
F18: ՀՀ տարածքային կառավարման և ենթակառուցվածքների նախարարություն | G18: =G20 -> -21446.6 | H18: =H20 -> -107232.9 | I18: =I20 -> -107232.9
F19: այդ թվում`
D20: 1004 | F20: Ոռոգման համակարգի առողջացում | G20: =G22 -> -21446.6 | H20: =H22 -> -107232.9 | I20: =I22 -> -107232.9
F21: այդ թվում`
E22: 31010 | F22: ='1'!C19 -> Հեր-Հերի ջրամբարից ինքնահոս ջրատարի կառուցում | G22: =G26 -> -21446.6 | H22: =H26 -> -107232.9 | I22: =I26 -> -107232.9
F23: այդ թվում` ըստ կատարողների
F24: ՀՀ տարածքային կառավարման և ենթակառուցվածքների նախարարության ջրային կոմիտե | G24: =G26 -> -21446.6 | H24: =H26 -> -107232.9 | I24: =I26 -> -107232.9
F25: այդ թվում` բյուջետային ծախսերի տնտեսագիտական դասակարգման հոդվածներ
F26: ԸՆԴԱՄԵՆԸ ԾԱԽՍԵՐ | G26: =G27 -> -21446.6 | H26: =H27 -> -107232.9 | I26: =I27 -> -107232.9
F27: ՈՉ ՖԻՆԱՆՍԱԿԱՆ ԱԿՏԻՎՆԵՐԻ ԳԾՈՎ ԾԱԽՍԵՐ | G27: =G28 -> -21446.6 | H27: =H28 -> -107232.9 | I27: =I28 -> -107232.9
F28: ՀԻՄՆԱԿԱՆ ՄԻՋՈՑՆԵՐ | G28: =G29 -> -21446.6 | H28: =H29 -> -107232.9 | I28: =I29 -> -107232.9
F29: ՇԵՆՔԵՐ ԵՎ ՇԻՆՈՒԹՅՈՒՆՆԵՐ | G29: =G30 -> -21446.6 | H29: =H30 -> -107232.9 | I29: =I30 -> -107232.9
F30: - Շենքերի և շինությունների շինարարություն | G30: ='1'!D18 -> -21446.6 | H30: ='1'!E18 -> -107232.9 | I30: ='1'!F18 -> -107232.9
A31: 05 | F31: ՇՐՋԱԿԱ ՄԻՋԱՎԱՅՐԻ ՊԱՇՏՊԱՆՈՒԹՅՈՒՆ | G31: =G33 -> 21446.6 | H31: =H33 -> 107232.9 | I31: =I33 -> 107232.9
F32: այդ թվում`
B33: 04 | F33: Կենսաբազմազանության և բնության պաշտպանություն | G33: =G35 -> 21446.6 | H33: =H35 -> 107232.9 | I33: =I35 -> 107232.9
F34: այդ թվում`
C35: 01 | F35: Կենսաբազմազանության և բնության պաշտպանություն | G35: =G37 -> 21446.6 | H35: =H37 -> 107232.9 | I35: =I37 -> 107232.9
F36: այդ թվում`
F37: ՀՀ տարածքային կառավարման և ենթակառուցվածքների նախարարություն | G37: =G41 -> 21446.6 | H37: =H41 -> 107232.9 | I37: =I41 -> 107232.9
F38: այդ թվում`
D39: 1017 | F39: Որոտան-Արփա-Սևան թունելի ջրային համակարգի կառավարում | G39: =G41 -> 21446.6 | H39: =H41 -> 107232.9 | I39: =I41 -> 107232.9
F40: այդ թվում`
E41: 21002 | F41: Արփա-Սևան ջրային համակարգի վերազինում | G41: =G43 -> 21446.6 | H41: =H43 -> 107232.9 | I41: =I43 -> 107232.9
...

Sheet 4
A1: Հավելված N 4
A2: ՀՀ կառավարության 2021 թվականի
A3: -ի N -Ն որոշման
A4: ԿԱՌԱՎԱՐՈՒԹՅԱՆ 2020 ԹՎԱԿԱՆԻ ԴԵԿՏԵՄԲԵՐԻ 30-Ի N 2215-Ն ՈՐՈՇՄԱՆ N 5 ՀԱՎԵԼՎԱԾԻ N 2 ԱՂՅՈՒՍԱԿՈՒՄ ԿԱՏԱՐՎՈՂ ՓՈՓՈԽՈՒԹՅՈՒՆՆԵՐԸ ԵՎ ԼՐԱՑՈՒՄՆԵՐԸ
E5: հազ.դրամ
A6: Ծրագրային դասիչ | C6: Բյուջետային գլխավոր կարգադրիչների, ծրագրերի, միջոցառումների, միջոցառումները կատարող պետական մարմինների և ուղղությունների անվանումները | D6: Ցուցանիշների փոփոխությունը (ավելացումները նշված են դրական նշանով, իսկ նվազեցումները՝ փակագծերում)
D7: Առաջին կիսամյակ | E7: Ինն ամիս | F7: Տարի
A8: Ծրագիր | B8: Միջոցառում
C9: ԸՆԴԱՄԵՆԸ | D9: =D11 -> 0 | E9: =E11 -> 0 | F9: =F11 -> 0
C10: այդ թվում՝
C11: ՀՀ ՏԱՐԱԾՔԱՅԻՆ ԿԱՌԱՎԱՐՄԱՆ ԵՎ ԵՆԹԱԿԱՌՈՒՑՎԱԾՔՆԵՐԻ ՆԱԽԱՐԱՐՈՒԹՅՈՒՆ | D11: =D16+D13 -> 0 | E11: =E16+E13 -> 0 | F11: =F16+F13 -> 0
C12: այդ թվում`
A13: 1004 | B13: 31010 | C13: Հեր-Հերի ջրամբարից ինքնահոս ջրատարի կառուցում | D13: =D15 -> -21446.6 | E13: =E15 -> -107232.9 | F13: =F15 -> -107232.9
C14: այդ թվում` ըստ կատարողների
C15: ՀՀ տարածքային կառավարման և ենթակառուցվածքների նախարարության ջրային կոմիտե | D15: ='1'!D18 -> -21446.6 | E15: ='1'!E18 -> -107232.9 | F15: ='1'!F18 -> -107232.9
A16: 1017 | B16: 21002 | C16: ='2'!C14 -> Արփա-Սևան ջրային համակարգի վերազինում | D16: ='3'!G48 -> 21446.6 | E16: ='3'!H48 -> 107232.9 | F16: ='3'!I48 -> 107232.9
C17: այդ թվում` ըստ կատարողների
C18: ՀՀ տարածքային կառավարման և ենթակառուցվածքների նախարարության ջրային կոմիտե | D18: ='1'!D31 -> 21446.6 | E18: ='1'!E31 -> 107232.9 | F18: ='1'!F31 -> 107232.9

Sheet 5-1
E1: Հավելված N 5
E2: ՀՀ կառավարության 2021 թվականի
E3: -ի N -Ն որոշման
E4: Աղյուսակ 1
A5: ՀԱՅԱՍՏԱՆԻ ՀԱՆՐԱՊԵՏՈՒԹՅԱՆ ԿԱՌԱՎԱՐՈՒԹՅԱՆ 2020 ԹՎԱԿԱՆԻ ԴԵԿՏԵՄԲԵՐԻ 30-Ի N 2215-Ն ՈՐՈՇՄԱՆ N 9 ՀԱՎԵԼՎԱԾԻ N 9.8 ԵՎ N 9.47 ԱՂՅՈՒՍԱԿՆԵՐՈՒՄ ԿԱՏԱՐՎՈՂ ՓՈՓՈԽՈՒԹՅՈՒՆՆԵՐԸ ԵՎ ԼՐԱՑՈՒՄՆԵՐԸ
A8: ՀՀ տարածքային կառավարման և ենթակառուցվածքների նախարարություն
A11: ՄԱՍ 2. ՊԵՏԱԿԱՆ ՄԱՐՄՆԻ ԳԾՈՎ ԱՐԴՅՈՒՆՔԱՅԻՆ (ԿԱՏԱՐՈՂԱԿԱՆ) ՑՈՒՑԱՆԻՇՆԵՐԸ
A12: Ծրագրի դասիչը | B12: Ծրագրի անվանումը
A13: 1004 | B13: Ոռոգման համակարգի առողջացում
A15: Ծրագրի միջոցառումները
A16: Ծրագրի դասիչը` | B16: 1004
C17: Ցուցանիշների փոփոխությունը (նվազեցումները նշված են փակագծերում)
A18: Միջոցառման դասիչը` | B18: 31010 | C18: Առաջին կիսամյակ | D18: Ինն ամիս | E18: Տարի
A19: Միջոցառման անվանումը` | B19: Հեր-Հերի ջրամբարից ինքնահոս ջրատարի կառուցում
A20: Նկարագրությունը` | B20: Հեր-Հերի ջրամբարից ինքնահոս ջրատարի կառուցման համար նախագծերի և աշխատանքների ձեռքբերում
A21: Միջոցառման տեսակը` | B21: Պետական մարմինների կողմից օգտագործվող ոչ ֆինանսական ակտիվների հետ գործառնություններ
A22: Ակտիվն օգտագործող կազմակերպության(ների) անվանում(ները)՛ | B22: ՀՀ ՏԿԵՆ ջրային կոմիտե
A23: Արդյունքի չափորոշիչներ
A24: Կառուցվող ջրատար, կմ | D24: -0.3 | E24: -0.3
A25: Միջոցառման վրա կատարվող ծախսը (հազար դրամ) | C25: ='1'!D18 -> -21446.6 | D25: ='1'!E18 -> -107232.9 | E25: ='1'!F18 -> -107232.9
A27: Ծրագրի դասիչը | B27: Ծրագրի անվանումը
A28: 1017 | B28: Որոտան-Արփա-Սևան թունելի ջրային համակարգի կառավարում
A29: Ծրագրի միջոցառումները
A31: Ծրագրի դասիչը` | B31: 1017 | C31: Ցուցանիշների փոփոխությունը (ավելացումները նշված են դրական նշանով)
A32: Միջոցառման դասիչը` | B32: 21002 | C32: Առաջին կիսամյակ | D32: Ինն ամիս | E32: Տարի
A33: Միջոցառման անվանումը` | B33: Արփա-Սևան ջրային համակարգի վերազինում
A34: Նկարագրությունը` | B34: Արփա-Սևան ջրային համակարգի վերազինման համար նախագծերի, ջրաչափական սարքավորումների և աշխատանքների ձեռքբերում
A35: Միջոցառման տեսակը` | B35: Հանրության կողմից անմիջականորեն օգտագործվող ակտիվների հետ կապված միջոցառումներ
A36: Միջոցառումն իրականացնողի անվանումը | B36: ՀՀ ՏԿԵՆ Ջրային կոմիտե
A37: Արդյունքի չափորոշիչներ
A38: Հիդրոհանգույցների քանակը, որտեղ կտեղադրվեն ջրաչափական սարքավորումներ, հատ | C38: 3 | D38: 3 | E38: 3
A39: Ջրաչափերի մոնտաժում և ծրագրային ապահովում, հատ | C39: 1 | D39: 6 | E39: 6
A40: SCADA համակարգի մոնտաժում և ծրագրային ապահովում, համակարգ | C40: 1 | D40: 2 | E40: 2
A41: Միջոցառման վրա կատարվող ծախսը (հազար դրամ) | C41: ='1'!D31 -> 21446.6 | D41: ='1'!E31 -> 107232.9 | E41: ='1'!F31 -> 107232.9
C43: Աղյուսակ 9.47
A44: ՀՀ կառավարություն
A46: ՄԱՍ 2. ՊԵՏԱԿԱՆ ՄԱՐՄՆԻ ԳԾՈՎ ԱՐԴՅՈՒՆՔԱՅԻՆ (ԿԱՏԱՐՈՂԱԿԱՆ) ՑՈՒՑԱՆԻՇՆԵՐԸ
A48: Ծրագրի դասիչը | B48: Ծրագրի անվանումը
A49: 1139 | B49: ՀՀ կառավարության պահուստային ֆոնդ
A51: Ծրագրի միջոցառումները
...

Sheet 5-2
F1: Հավելված N 5
F2: ՀՀ կառավարության 2021 թվականի
F3: -ի N -Ն որոշման
F4: Աղյուսակ 2
A6: ՀԱՅԱՍՏԱՆԻ ՀԱՆՐԱՊԵՏՈՒԹՅԱՆ ԿԱՌԱՎԱՐՈՒԹՅԱՆ 2020 ԹՎԱԿԱՆԻ ԴԵԿՏԵՄԲԵՐԻ 30-Ի N 2215-Ն ՈՐՈՇՄԱՆ N 9.1 ՀԱՎԵԼՎԱԾԻ N 9.1.26 ԵՎ N 9.1.58 ԱՂՅՈՒՍԱԿՆԵՐՈՒՄ ԿԱՏԱՐՎՈՂ ՓՈՓՈԽՈՒԹՅՈՒՆՆԵՐԸ ԵՎ ԼՐԱՑՈՒՄՆԵՐԸ
A8: ՀՀ տարածքային կառավարման և ենթակառուցվածքների նախարարության ջրային կոմիտե
A10: ՄԱՍ 2. ՊԵՏԱԿԱՆ ՄԱՐՄՆԻ ԳԾՈՎ ԱՐԴՅՈՒՆՔԱՅԻՆ (ԿԱՏԱՐՈՂԱԿԱՆ) ՑՈՒՑԱՆԻՇՆԵՐԸ
A11: Ծրագրի դասիչը | B11: Ծրագրի անվանումը
A12: 1004 | B12: Ոռոգման համակարգի առողջացում
A14: Ծրագրի միջոցառումները
A15: Ծրագրի դասիչը` | B15: 1004
C16: Ցուցանիշների փոփոխությունը (նվազեցումները նշված են փակագծերում)
A17: Միջոցառման դասիչը` | B17: 31010 | C17: Առաջին կիսամյակ | D17: Ինն ամիս | E17: Տարի
A18: Միջոցառման անվանումը` | B18: Հեր-Հերի ջրամբարից ինքնահոս ջրատարի կառուցում
A19: Նկարագրությունը` | B19: Հեր-Հերի ջրամբարից ինքնահոս ջրատարի կառուցման համար նախագծերի և աշխատանքների ձեռքբերում
A20: Միջոցառման տեսակը` | B20: Պետական մարմինների կողմից օգտագործվող ոչ ֆինանսական ակտիվների հետ գործառնություններ
A21: Ակտիվն օգտագործող կազմակերպության(ների) անվանում(ները)՛ | B21: ՀՀ ՏԿԵՆ ջրային կոմիտե
A22: Արդյունքի չափորոշիչներ
A23: Կառուցվող ջրատար, կմ | D23: -0.3 | E23: -0.3
A24: Միջոցառման վրա կատարվող ծախսը (հազար դրամ) | C24: ='5-1'!C25 -> -21446.6 | D24: ='5-1'!D25 -> -107232.9 | E24: ='5-1'!E25 -> -107232.9
A26: Ծրագրի դասիչը | B26: Ծրագրի անվանումը
A27: 1017 | B27: Որոտան-Արփա-Սևան թունելի ջրային համակարգի կառավարում
A28: Ծրագրի միջոցառումները
A30: Ծրագրի դասիչը` | B30: 1017 | C30: Ցուցանիշների փոփոխությունը (ավելացումները նշված են դրական նշանով)
A31: Միջոցառման դասիչը` | B31: 21002 | C31: Առաջին կիսամյակ | D31: Ինն ամիս | E31: Տարի
A32: Միջոցառման անվանումը` | B32: Արփա-Սևան ջրային համակարգի վերազինում
A33: Նկարագրությունը` | B33: Արփա-Սևան ջրային համակարգի վերազինման համար նախագծերի, ջրաչափական սարքավորումների և աշխատանքների ձեռքբերում
A34: Միջոցառման տեսակը` | B34: Հանրության կողմից անմիջականորեն օգտագործվող ակտիվների հետ կապված միջոցառումներ
A35: Միջոցառումն իրականացնողի անվանումը | B35: ՀՀ ՏԿԵՆ Ջրային կոմիտե
A36: Արդյունքի չափորոշիչներ
A37: Հիդրոհանգույցների քանակը, որտեղ կտեղադրվեն ջրաչափական սարքավորումներ, հատ | C37: 3 | D37: 3 | E37: 3
A38: Ջրաչափերի մոնտաժում և ծրագրային ապահովում, հատ | C38: 1 | D38: 6 | E38: 6
A39: SCADA համակարգի մոնտաժում և ծրագրային ապահովում, համակարգ | C39: 1 | D39: 2 | E39: 2
A40: Միջոցառման վրա կատարվող ծախսը (հազար դրամ) | C40: ='5-1'!C41 -> 21446.6 | D40: ='5-1'!D41 -> 107232.9 | E40: ='5-1'!E41 -> 107232.9
C42: Աղյուսակ 9.1.58
A43: ՀՀ կառավարություն
A45: ՄԱՍ 2. ՊԵՏԱԿԱՆ ՄԱՐՄՆԻ ԳԾՈՎ ԱՐԴՅՈՒՆՔԱՅԻՆ (ԿԱՏԱՐՈՂԱԿԱՆ) ՑՈՒՑԱՆԻՇՆԵՐԸ
A47: Ծրագրի դասիչը | B47: Ծրագրի անվանումը
A48: 1139 | B48: ՀՀ կառավարության պահուստային ֆոնդ
A50: Ծրագրի միջոցառումները
...

Sheet 6
A2: Հավելված N 6
A3: ՀՀ կառավարության 2021 թվականի
A4: -ի N -Ն որոշման
A6: ԿԱՌԱՎԱՐՈՒԹՅԱՆ 2020 ԹՎԱԿԱՆԻ ԴԵԿՏԵՄԲԵՐԻ 30-Ի N 2215-Ն ՈՐՈՇՄԱՆ N 10 ՀԱՎԵԼՎԱԾՈՒՄ ԿԱՏԱՐՎՈՂ ԼՐԱՑՈՒՄՆԵՐԸ
A8: Կոդը | B8: Անվանումը | C8: Գնման ձևը | D8: Չափի միավորը | E8: Ցուցանիշների փոփոխությունը (ավելացումները նշված են դրական նշանով, իսկ նվազեցումները՝ փակագծերում)
E9: Միավորի գինը | F9: քանակը | G9: գումարը (հազ. դրամ)
A10: ՀՀ տարածքային կառավարման և ենթակառուցվածքների նախարարության ջրային կոմիտե | G10: =G14+G11 -> 0
A11: Ծրագիր <<Ոռոգման համակարգի առողջացում>> Միջոցառում <<Հեր-Հերի ջրամբարից ինքնահոս ջրատարի կառուցում>> Բաժին N 04, Խումբ N 02, Դաս N 04 Ոռոգում Ծրագիր 1004 Միջոցառում 31010 | G11: =G12 -> -107232.9
B12: ՄԱՍ II ԱՇԽԱՏԱՆՔՆԵՐ | G12: =G13 -> -107232.9
A13: 45241170/1 | B13: ջրամատակարարման համակարգերի կառուցում | C13: ԲՄ | D13: դրամ | G13: ='1'!F18 -> -107232.9
A14: Ծրագիր <<Որոտան-Արփա-Սևան թունելի ջրային համակարգի կառավարում>> Միջոցառում <<Արփա-Սևան ջրային համակարգի վերազինում>> Բաժին N 05 , Խումբ 04 , Դաս 01 Ծրագիր 1017 Միջոցառում 21002 | G14: =G15+G17 -> 107232.9
B15: ՄԱՍ II ԱՇԽԱՏԱՆՔՆԵՐ | G15: =G16 -> 104924.5
A16: 45241152/516 | B16: շինարարական աշխատանքներ հիդրոմեխանիկական կառույցների համար | C16: ԲՄ | D16: դրամ | E16: 104924500 | F16: 1 | G16: =E16*F16/1000 -> 104924.5
B17: ՄԱՍ III ԾԱՌԱՅՈՒԹՅՈՒՆՆԵՐ | G17: =G18+G19 -> 2308.4
A18: 71351540/509 | B18: տեխնիկական հսկողության ծառայություններ | C18: ԳՀ | D18: դրամ | E18: 1888600 | F18: 1 | G18: =E18*F18/1000 -> 1888.6
A19: 98111140/10 | B19: հեղինակային հսկողության ծառայություններ | C19: ՄԱ | D19: դրամ | E19: 419800 | F19: 1 | G19: =E19*F19/1000 -> 419.8
