Workbook

Sheet 1
I1: Հավելված N 1
I2: ՀՀ կառավարության 2021 թվականի
I3: ___________ ___-ի N _______ որոշման
A6: ՀԱՅԱՍՏԱՆԻ ՀԱՆՐԱՊԵՏՈՒԹՅԱՆ ԿԱՌԱՎԱՐՈՒԹՅԱՆ 2020 ԹՎԱԿԱՆԻ ԴԵԿՏԵՄԲԵՐԻ 30-Ի N 2215-Ն ՈՐՈՇՄԱՆ N 3 և N 4 ՀԱՎԵԼՎԱԾՆԵՐՈՒՄ ԿԱՏԱՐՎՈՂ ՓՈՓՈԽՈՒԹՅՈՒՆՆԵՐԸ
H7: հազ. դրամներով
A8: Գործառական դասիչը | D8: Ծրագրային դասիչը | F8: Բյուջետային ծախսերի գործառական դասակարգման բաժինների, խմբերի և դասերի, բյուջետային ծրագրերի, միջոցառումների բյուջետային հատկացումնեյի գլխավոր կարկադրիչների անվանումները | G8: Ցուցանիշների փոփոխությունը (ավելացումները նշված են դրական նշանով, իսկ նվազեցումները` փակագծերում)
A9: Բաժին | B9: Խումբ | C9: Դաս | D9: Ծրագիր | E9: Միջոցառում | G9: առաջին կիսամյակ | H9: ինն ամիս | I9: Տարի
F10: ԸՆԴԱՄԵՆԸ | G10: =+G11 -> 0 | H10: =+H11 -> 0 | I10: =+I11 -> 0
A11: 03 | F11: ՀԱՍԱՐԱԿԱԿԱՆ ԿԱՐԳ, ԱՆՎՏԱՆԳՈՒԹՅՈՒՆ ԵՎ ԴԱՏԱԿԱՆ ԳՈՐԾՈՒՆԵՈՒԹՅՈՒՆ | G11: =G13 -> 0 | H11: =H13 -> 0 | I11: =I13 -> 0
F12: այդ թվում`
B13: 03 | F13: Դատական գործունեություն և իրավական պաշտպանություն | G13: =+G15 -> 0 | H13: =+H15 -> 0 | I13: =+I15 -> 0
F14: այդ թվում`
C15: 01 | F15: Դատարաններ | G15: =G17 -> 0 | H15: =H17 -> 0 | I15: =I17 -> 0
F16: այդ թվում`
F17: Բարձրագույն դատական խորհուրդ | G17: =G19 -> 0 | H17: =H19 -> 0 | I17: =I19 -> 0
F18: այդ թվում`
D19: 1080 | F19: Դատական իշխանության գործունեության ապահովում և իրականացում | G19: =+G21+G61+G101+G141+G41+G81+G121+G150 -> 0 | H19: =+H21+H61+H101+H141+H41+H81+H121+H150 -> 0 | I19: =+I21+I61+I101+I141+I41+I81+I121+I150 -> 0
F20: այդ թվում՝
E21: 11001 | F21: Բարձրագույն դատական խորհրդի բնականոն գործունեության ապահովում և Բարձրագույն դատական խորհրդի կողմից դատական իշխանության անկախության երաշխավորմանն ուղղված միջոցառումների իրականացում | H21: =H23 -> -255586 | I21: =I23 -> -576031.9
F22: այդ թվում` ըստ կատարողների | H22: 0
F23: ՀՀ դատական դեպարտամենտ | H23: =H25 -> -255586 | I23: =I25 -> -576031.9
F24: այդ թվում` բյուջետային ծախսերի տնտեսագիտական դասակարգման հոդվածներ | H24: 0
F25: ԸՆԴԱՄԵՆԸ ԾԱԽՍԵՐ | H25: =H26 -> -255586 | I25: =I26 -> -576031.9
F26: ԸՆԹԱՑԻԿ ԾԱԽՍԵՐ | H26: =+H27+H32 -> -255586 | I26: =+I27+I32 -> -576031.9
F27: ԱՇԽԱՏԱՆՔԻ ՎԱՐՁԱՏՐՈՒԹՅՈՒՆ | H27: =H28 -> -214490.3 | I27: =I28 -> -480142
F28: Դրամով վճարվող աշխատավարձեր և հավելավճարներ | H28: =H29+H30+H31 -> -214490.3 | I28: =I29+I30+I31 -> -480142
F29: - Աշխատողների աշխատավարձեր և հավելավճարներ | H29: -158288.6 | I29: -369340
F30: - Պարգևատրումներ, դրամական խրախուսումներ և հատուկ վճարներ | H30: -40950.2 | I30: -95550.5
F31: - Քաղաքացիական, դատական և պետական այլ ծառայողների պարգևատրում | H31: -15251.5 | I31: -15251.5
F32: ԾԱՌԱՅՈՒԹՅՈՒՆՆԵՐԻ ԵՎ ԱՊՐԱՆՔՆԵՐԻ ՁԵՌՔԲԵՐՈՒՄ | H32: =H33+H37 -> -41095.7 | I32: =I33+I37 -> -95889.9
F33: Շարունակական ծախսեր | H33: =H34+H35+H36 -> -35070 | I33: =I34+I35+I36 -> -81830
F34: - Էներգետիկ ծառայություններ | H34: -9135 | I34: -21315
F35: - Կոմունալ ծառայություններ | H35: -735 | I35: -1715
F36: - Կապի ծառայություններ | H36: -25200 | I36: -58800
F37: Նյութեր (Ապրանքներ) | H37: =H38+H39+H40 -> -6025.7 | I37: =I38+I39+I40 -> -14059.9
F38: - Գրասենյակային նյութեր և հագուստ | H38: -5282.2 | I38: -12325.3
F39: - Կենցաղային և հանրային սննդի նյութեր | H39: -291.9 | I39: -681.1
F40: - Հատուկ նպատակային այլ նյութեր | H40: -451.6 | I40: -1053.5
E41: 11001 | F41: Բարձրագույն դատական խորհրդի բնականոն գործունեության ապահովում և Բարձրագույն դատական խորհրդի կողմից դատական իշխանության անկախության երաշխավորմանն ուղղված միջոցառումների իրականացում | H41: =H43 -> 255586 | I41: =I43 -> 576031.9
F42: այդ թվում` ըստ կատարողների | H42: 0
...

Sheet 2
F1: Հավելված 2
C2: ՀՀ կառավարության 2021 թվականի
C3: ______________ ի ___Ն որոշման
A5: ՀԱՅԱՍՏԱՆԻ ՀԱՆՐԱՊԵՏՈՒԹՅԱՆ ԿԱՌԱՎԱՐՈՒԹՅԱՆ 2020 ԹՎԱԿԱՆԻ ԴԵԿՏԵՄԲԵՐԻ 30-Ի ԹԻՎ 2215-Ն ՈՐՈՇՄԱՆ N5 ՀԱՎԵԼՎԱԾԻ N2 ԱՂՅՈՒՍԱԿՈՒՄ ԿԱՏԱՐՎՈՂ ՓՈՓՈԽՈՒԹՅՈՒՆՆԵՐԸ
F7: հազ. դրամներով
A8: Ծրագրային դասիչ | C8: Բյուջետային գլխավոր կարգադրիչների, ծրագրերի, միջոցառումների, միջոցառումները կատարող պետական մարմինների և ուղղությունների անվանումները | D8: Ցուցանիշների փոփոխությունը (ավելացումները նշված են դրական նշանով, իսկ նվազեցումները` փակագծերում)
A9: Ծրագիր | B9: Միջոցառում | D9: Առաջին կիսամյակ | E9: Ինն ամիս | F9: Տարի
C10: ԸՆԴԱՄԵՆԸ | D10: =+D11 -> 0 | E10: =+E11 -> 0 | F10: =+F11 -> 0
C11: ԲԱՐՁՐԱԳՈՒՅՆ ԴԱՏԱԿԱՆ ԽՈՐՀՈՒՐԴ | D11: =D13 -> 0 | E11: =E13 -> 0 | F11: =F13 -> 0
C12: այդ թվում`
A13: 1080 | B13: 31001 | C13: Բարձրագույն դատական խորհրդի տեխնիկական հագեցվածության բարելավում | D13: =D15+D16 -> 0 | E13: =E15+E16 -> 0 | F13: =F15+F16 -> 0
C14: այդ թվում` ըստ կատարողների
C15: ՀՀ դատական դեպարտամենտ | D15: ='1'!G141 -> -211377 | E15: ='1'!H141 -> -295927.8 | F15: ='1'!I141 -> -295927.8
C16: ՀՀ արդարադատության նախարարություն | D16: 211377 | E16: 295927.8 | F16: 295927.8

Sheet 3
E2: Հավելված N 3
E3: ՀՀ կառավարության 2021 թվականի
E4: ___________ ___-ի N _______ որոշման
A8: ՀԱՅԱՍՏԱՆԻ ՀԱՆՐԱՊԵՏՈՒԹՅԱՆ ԿԱՌԱՎԱՐՈՒԹՅԱՆ 2020 ԹՎԱԿԱՆԻ ԴԵԿՏԵՄԲԵՐԻ 30-Ի ԹԻՎ 2215-Ն ՈՐՈՇՄԱՆ N 9.1 ՀԱՎԵԼՎԱԾԻ 9.1.5 և 9.1.10 ԱՂՅՈՒՍԱԿՆԵՐՈՒՄ ԿԱՏԱՐՎՈՂ ՓՈՓՈԽՈՒԹՅՈՒՆՆԵՐԸ
A10: ՀՀ արդարադատության նախարարություն
A12: ՄԱՍ 1. ՊԵՏԱԿԱՆ ՄԱՐՄՆԻ ԳԾՈՎ ԱՐԴՅՈՒՆՔԱՅԻՆ (ԿԱՏԱՐՈՂԱԿԱՆ) ՑՈՒՑԱՆԻՇՆԵՐԸ
A14: Ծրագրի դասիչը | B14: Ծրագրի անվանումը
A15: 1080 | B15: Դատական իշխանության գործունեության ապահովում և իրականացում
A17: Ծրագրի միջոցառումները
A18: Ծրագրի դասիչը` | B18: 1080 | C18: Ցուցանիշների փոփոխությունը (ավելացումները նշված են դրական նշանով)
A19: Միջոցառման դասիչը` | B19: 11001 | C19: Առաջին կիսամյակ | D19: Ինն ամիս | E19: Տարի
A20: Միջոցառման անվանումը` | B20: Բարձրագույն դատական խորհրդի բնականոն գործունեության ապահովում և Բարձրագույն դատական խորհրդի կողմից դատական իշխանության անկախության երաշխավորմանն ուղղված միջոցառումների իրականացում
A21: Նկարագրությունը` | B21: Դատական գործերի բաշխման համակարգի արդիականացում, դատարանների բնականոն գործունեության համար նյութատեխնիկական պայմաններով ապահովում, Դատական դեպարտամենտին որակյալ կադրերով ապահովում, ճշգրիտ դատական վիճակագրության վարում և այլն
A22: Միջոցառման տեսակը` | B22: Ծառայությունների մատուցում
A23: Ծառայությունը մատուցող կազմակերպության անվանումը | B23: Դատական դեպարտամենտ
A24: Արդյունքի չափորոշիչներ
A25: Միջոցառման վրա կատարվող ծախսը (հազար դրամ) | C25: ='1'!G41 -> 0 | D25: ='1'!H41 -> 255586 | E25: ='1'!I41 -> 576031.9
A27: Ծրագրի միջոցառումները
A28: Ծրագրի դասիչը` | B28: 1080 | C28: Ցուցանիշների փոփոխությունը (ավելացումները նշված են դրական նշանով)
A29: Միջոցառման դասիչը` | B29: 11019 | C29: Առաջին կիսամյակ | D29: Ինն ամիս | E29: Տարի
A30: Միջոցառման անվանումը` | B30: Հակակոռուպցիոն դատարանի բնականոն գործունեության և ՀՀ Հակակոռուպցիոն դատարանի կողմից դատական պաշտպանության իրավունքի ապահովում
A31: Նկարագրությունը` | B31: Դատավարական գործունեության իրականացում, դատական ակտերի կազմում և հրապարակում, արխիվային փաստաթղթերի տրամադրում, դատական ծառայության իրականացում
A32: Միջոցառման տեսակը` | B32: Ծառայությունների մատուցում
A33: Ծառայությունը մատուցող կազմակերպության անվանումը | B33: Հակակոռուպցիոն դատարան
A34: Արդյունքի չափորոշիչներ
A35: Միջոցառման վրա կատարվող ծախսը (հազար դրամ) | C35: ='1'!G81 -> 0 | D35: ='1'!H81 -> 0 | E35: ='1'!I81 -> 113761.1
A36: Ծրագրի միջոցառումները
A37: Ծրագրի դասիչը` | B37: 1080 | C37: Ցուցանիշների փոփոխությունը (ավելացումները նշված են դրական նշանով)
A38: Միջոցառման դասիչը` | B38: 11020 | C38: Առաջին կիսամյակ | D38: Ինն ամիս | E38: Տարի
A39: Միջոցառման անվանումը` | B39: Վերաքննիչ հակակոռուպցիոն դատարանի բնականոն գործունեության և Վերաքննիչ հակակոռուպցիոն դատարանի կողմից դատական պաշտպանության իրավունքի ապահովում
A40: Նկարագրությունը` | B40: Դատավարական գործունեության իրականացում, դատական ակտերի կազմում և հրապարակում, արխիվային փաստաթղթերի տրամադրում, դատական ծառայության իրականացում
A41: Միջոցառման տեսակը` | B41: Ծառայությունների մատուցում
A42: Ծառայությունը մատուցող կազմակերպության անվանումը | B42: Վերաքննիչ հակակոռուպցիոն դատարան
A43: Արդյունքի չափորոշիչներ
A44: Միջոցառման վրա կատարվող ծախսը (հազար դրամ) | C44: ='1'!G121 -> 0 | D44: ='1'!H121 -> 0 | E44: ='1'!I121 -> 113880.1
A47: Ծրագրի դասիչը` | B47: 1080 | C47: Ցուցանիշների փոփոխությունը (ավելացումները նշված են դրական նշանով)
A48: Միջոցառման դասիչը` | B48: 31001 | C48: Առաջին կիսամյակ | D48: Ինն ամիս | E48: Տարի
A49: Միջոցառման անվանումը` | B49: Բարձրագույն դատական խորհրդի տեխնիկական հագեցվածության բարելավում
A50: Նկարագրությունը` | B50: ԲԴԽ աշխատանքային պայմանների բարելավման համար վարչական սարքավորումների ձեռքբերում
A51: Միջոցառման տեսակը` | B51: Պետական մարմնի կողմից օգտագործվող ոչ ֆինանսական ակտիվների հետ գործառնություններ
...

Sheet 4
E1: Հավելված N 4
E2: ՀՀ կառավարության
E3: 2021 թվականի __________
E4: N -Ն որոշման
A5: ՀԱՅԱՍՏԱՆԻ ՀԱՆՐԱՊԵՏՈՒԹՅԱՆ ԿԱՌԱՎԱՐՈՒԹՅԱՆ 2020 ԹՎԱԿԱՆԻ ԴԵԿՏԵՄԲԵՐԻ 30-Ի N 2215-Ն ՈՐՈՇՄԱՆ N 10 ՀԱՎԵԼՎԱԾԻ ՑՈՒՑԱՆԻՇՆԵՐՈՒՄ ԿԱՏԱՐՎՈՂ ՓՈՓՈԽՈՒԹՅՈՒՆՆԵՐԸ
A7: Կոդը | B7: Անվանումը | C7: Գնման ձևը | D7: Չափի միավորը | E7: միավորի գինը | F7: Ցուցանիշների փոփոխությունը (ավելացումները նշված են դրական նշանով, իսկ նվազեցումները՝ փակագծերում)
F8: քանակը | G8: գումարը (հազար դրամով)
A9: 1 | B9: 2 | C9: 3 | D9: 4 | E9: 5 | F9: 6 | G9: 7
A10: ՀՀ արդարադատության նախարարություն | G10: =G12+G95+G156+G217 -> 419865.87
A11: Բաժին N 03 Խումբ N 03 Դաս N 01 Դատարաններ
A12: 1080 | B12: 11001 | C12: Բարձրագույն դատական խորհրդի բնականոն գործունեության ապահովում և Բարձրագույն դատական խորհրդի կողմից դատական իշխանության անկախության երաշխավորմանն ուղղված միջոցառումների իրականացում | G12: =G13+G89 -> 95889.873
B13: ՄԱՍ 1. ԱՊՐԱՆՔՆԵՐ | G13: =SUM(G14:G88) -> 14059.873
A14: 18111100 | B14: արտադրական հատուկ հագուստ | C14: ԳՀ | D14: հատ | E14: 70000 | F14: 42 | G14: =E14*F14/1000 -> 2940
A15: 30121460-1 | B15: տոներային քարտրիջներ | C15: ԳՀ | D15: հատ | E15: 7500 | F15: 95 | G15: =E15*F15/1000 -> 712.5
A16: 30121460-10 | B16: տոներային քարտրիջներ | C16: ԳՀ | D16: հատ | E16: 8524 | F16: 53 | G16: =E16*F16/1000 -> 451.772
A17: 30121470-1 | B17: տոներ լազերային տպիչների/հեռապատճենահանող մեքենաների համար | C17: ԳՀ | D17: կգ | E17: 4000 | F17: 85 | G17: =E17*F17/1000 -> 340
A18: 30121470-2 | B18: տոներ լազերային տպիչների/հեռապատճենահանող մեքենաների համար | C18: ԳՀ | D18: կգ | E18: 7000 | F18: 20 | G18: =E18*F18/1000 -> 140
A19: 30121470-7 | B19: տոներ լազերային տպիչների/հեռապատճենահանող մեքենաների համար | C19: ԳՀ | D19: կգ | E19: 7200 | F19: 25 | G19: =E19*F19/1000 -> 180
A20: 30192121 | B20: Գրիչ գնդիկավոր | C20: ԳՀ | D20: հատ | E20: 50 | F20: 500 | G20: =E20*F20/1000 -> 25
A21: 30192128-1 | B21: Գրիչ գելային | C21: ԳՀ | D21: հատ | E21: 150 | F21: 220 | G21: =E21*F21/1000 -> 33
A22: 30192152-1 | B22: Կնիք, ավտոմատ, կլոր | C22: ԳՀ | D22: հատ | E22: 7000 | F22: 42 | G22: =E22*F22/1000 -> 294
A23: 30193110-1 | B23: գրենական պիտույքների դասավորման համարանքներ և պարագաներ | C23: ԳՀ | D23: հատ | E23: 2800 | F23: 100 | G23: =E23*F23/1000 -> 280
A24: 30193200-1 | B24: փաստաթղթերի համար նախատեսված, սեղանի վրա դրվող դարակաշարեր | C24: ԳՀ | D24: հատ | E24: 3500 | F24: 50 | G24: =E24*F24/1000 -> 175
A25: 30197100-1 | B25: կարիչի մետաղալարե կապեր, մեծ | C25: ԳՀ | D25: տուփ | E25: 350 | F25: 175 | G25: =E25*F25/1000 -> 61.25
A26: 30197112-1 | B26: կարիչի մետաղալարե կապեր, միջին | C26: ԳՀ | D26: տուփ | E26: 87 | F26: 153 | G26: =E26*F26/1000 -> 13.311
A27: 30197230-1 | B27: թղթապանակ | C27: ԳՀ | D27: հատ | E27: 36 | F27: 400 | G27: =E27*F27/1000 -> 14.4
A28: 30197230-2 | B28: թղթապանակ | C28: ԳՀ | D28: հատ | E28: 166 | F28: 500 | G28: =E28*F28/1000 -> 83
A29: 30197231-1 | B29: թղթապանակ, պոլիմերային թաղանթ, ֆայլ | C29: ԳՀ | D29: հատ | E29: 6 | F29: 550 | G29: =E29*F29/1000 -> 3.3
A30: 30197232-1 | B30: թղթապանակ, արագակար, թղթյա | C30: ԳՀ | D30: հատ | E30: 47 | F30: 300 | G30: =E30*F30/1000 -> 14.1
A31: 30197234-1 | B31: թղթապանակ, կոշտ կազմով | C31: ԳՀ | D31: հատ | E31: 509 | F31: 300 | G31: =E31*F31/1000 -> 152.7
A32: 30197321-1 | B32: կարիչ, մինչև 20 թերթի համար | C32: ԳՀ | D32: հատ | E32: 650 | F32: 50 | G32: =E32*F32/1000 -> 32.5
... A88: 35821400-1 | B88: դրոշներ | C88: ԳՀ | D88: հատ | E88: 24000 | F88: 8 | G88: =E88*F88/1000 -> 192
B89: ՄԱՍ III. ԾԱՌԱՅՈՒԹՅՈՒՆՆԵՐ | G89: =SUM(G90:G94) -> 81830
A90: 64211100-1 | B90: հանրային հեռախոսային ծառայություններ | C90: ԳՀ | D90: դրամ | E90: 30800000 | F90: 1 | G90: =E90*F90/1000 -> 30800
A91: 65111100-1 | B91: խմելու ջրի բաշխում | C91: ՄԱ | D91: դրամ | E91: 1715000 | F91: 1 | G91: =E91*F91/1000 -> 1715
A92: 65211100-1 | B92: գազի բաշխում | C92: ՄԱ | D92: դրամ | E92: 6315000 | F92: 1 | G92: =E92*F92/1000 -> 6315
A93: 65311100-1 | B93: էլեկտրականության բաշխում | C93: ՄԱ | D93: դրամ | E93: 15000000 | F93: 1 | G93: =E93*F93/1000 -> 15000
A94: 79571100-1 | B94: փոստային առաքման ծառայություններ | C94: ՄԱ | D94: դրամ | E94: 28000000 | F94: 1 | G94: =E94*F94/1000 -> 28000
A95: 1080 | B95: 11019 | C95: Հակակոռուպցիոն դատարանի բնականոն գործունեության և ՀՀ Հակակոռուպցիոն դատարանի կողմից դատական պաշտպանության իրավունքի ապահովում | G95: =G150+G96 -> 14676.376
B96: ՄԱՍ 1. ԱՊՐԱՆՔՆԵՐ | G96: =SUM(G97:G149) -> 2429.676
...
