Workbook

Sheet 1
I1: Հավելված N 1
I2: ՀՀ կառավարության 2021 թվականի
I3: ___________ ___-ի N _______ որոշման
A6: ՀԱՅԱՍՏԱՆԻ ՀԱՆՐԱՊԵՏՈՒԹՅԱՆ ԿԱՌԱՎԱՐՈՒԹՅԱՆ 2020 ԹՎԱԿԱՆԻ ԴԵԿՏԵՄԲԵՐԻ 30-Ի N 2215-Ն ՈՐՈՇՄԱՆ N 3 և N 4 ՀԱՎԵԼՎԱԾՆԵՐՈՒՄ ԿԱՏԱՐՎՈՂ ՓՈՓՈԽՈՒԹՅՈՒՆՆԵՐԸ
H7: հազ. դրամներով
A8: Գործառական դասիչը | D8: Ծրագրային դասիչը | F8: Բյուջետային ծախսերի գործառական դասակարգման բաժինների, խմբերի և դասերի, բյուջետային ծրագրերի, միջոցառումների բյուջետային հատկացումնեյի գլխավոր կարկադրիչների անվանումները | G8: Ցուցանիշների փոփոխությունը (ավելացումները նշված են դրական նշանով, իսկ նվազեցումները` փակագծերում)
A9: Բաժին | B9: Խումբ | C9: Դաս | D9: Ծրագիր | E9: Միջոցառում | G9: առաջին կիսամյակ | H9: ինն ամիս | I9: Տարի
F10: ԸՆԴԱՄԵՆԸ | G10: =+G11 -> 0 | H10: =+H11 -> 0 | I10: =+I11 -> 0
A11: 03 | F11: ՀԱՍԱՐԱԿԱԿԱՆ ԿԱՐԳ, ԱՆՎՏԱՆԳՈՒԹՅՈՒՆ ԵՎ ԴԱՏԱԿԱՆ ԳՈՐԾՈՒՆԵՈՒԹՅՈՒՆ | G11: =G13 -> 0 | H11: =H13 -> 0 | I11: =I13 -> 0
F12: այդ թվում`
B13: 03 | F13: Դատական գործունեություն և իրավական պաշտպանություն | G13: =+G15 -> 0 | H13: =+H15 -> 0 | I13: =+I15 -> 0
F14: այդ թվում`
C15: 01 | F15: Դատարաններ | G15: =G17 -> 0 | H15: =H17 -> 0 | I15: =I17 -> 0
F16: այդ թվում`
F17: Բարձրագույն դատական խորհուրդ | G17: =G19 -> 0 | H17: =H19 -> 0 | I17: =I19 -> 0
F18: այդ թվում`
D19: 1080 | F19: Դատական իշխանության գործունեության ապահովում և իրականացում | G19: =+G21+G61+G101+G141+G41+G81+G121+G150 -> 0 | H19: =+H21+H61+H101+H141+H41+H81+H121+H150 -> 0 | I19: =+I21+I61+I101+I141+I41+I81+I121+I150 -> 0
F20: այդ թվում՝
E21: 11001 | F21: Բարձրագույն դատական խորհրդի բնականոն գործունեության ապահովում և Բարձրագույն դատական խորհրդի կողմից դատական իշխանության անկախության երաշխավորմանն ուղղված միջոցառումների իրականացում | H21: =H23 -> -255586 | I21: =I23 -> -576031.9
F22: այդ թվում` ըստ կատարողների | H22: 0
F23: ՀՀ դատական դեպարտամենտ | H23: =H25 -> -255586 | I23: =I25 -> -576031.9
F24: այդ թվում` բյուջետային ծախսերի տնտեսագիտական դասակարգման հոդվածներ | H24: 0
F25: ԸՆԴԱՄԵՆԸ ԾԱԽՍԵՐ | H25: =H26 -> -255586 | I25: =I26 -> -576031.9
F26: ԸՆԹԱՑԻԿ ԾԱԽՍԵՐ | H26: =+H27+H32 -> -255586 | I26: =+I27+I32 -> -576031.9
F27: ԱՇԽԱՏԱՆՔԻ ՎԱՐՁԱՏՐՈՒԹՅՈՒՆ | H27: =H28 -> -214490.3 | I27: =I28 -> -480142
F28: Դրամով վճարվող աշխատավարձեր և հավելավճարներ | H28: =H29+H30+H31 -> -214490.3 | I28: =I29+I30+I31 -> -480142
F29: - Աշխատողների աշխատավարձեր և հավելավճարներ | H29: -158288.6 | I29: -369340
F30: - Պարգևատրումներ, դրամական խրախուսումներ և հատուկ վճարներ | H30: -40950.2 | I30: -95550.5
F31: - Քաղաքացիական, դատական և պետական այլ ծառայողների պարգևատրում | H31: -15251.5 | I31: -15251.5
F32: ԾԱՌԱՅՈՒԹՅՈՒՆՆԵՐԻ ԵՎ ԱՊՐԱՆՔՆԵՐԻ ՁԵՌՔԲԵՐՈՒՄ | H32: =H33+H37 -> -41095.7 | I32: =I33+I37 -> -95889.9
F33: Շարունակական ծախսեր | H33: =H34+H35+H36 -> -35070 | I33: =I34+I35+I36 -> -81830
F34: - Էներգետիկ ծառայություններ | H34: -9135 | I34: -21315
F35: - Կոմունալ ծառայություններ | H35: -735 | I35: -1715
F36: - Կապի ծառայություններ | H36: -25200 | I36: -58800
F37: Նյութեր (Ապրանքներ) | H37: =H38+H39+H40 -> -6025.7 | I37: =I38+I39+I40 -> -14059.9
F38: - Գրասենյակային նյութեր և հագուստ | H38: -5282.2 | I38: -12325.3
F39: - Կենցաղային և հանրային սննդի նյութեր | H39: -291.9 | I39: -681.1
F40: - Հատուկ նպատակային այլ նյութեր | H40: -451.6 | I40: -1053.5
E41: 11001 | F41: Բարձրագույն դատական խորհրդի բնականոն գործունեության ապահովում և Բարձրագույն դատական խորհրդի կողմից դատական իշխանության անկախության երաշխավորմանն ուղղված միջոցառումների իրականացում | H41: =H43 -> 255586 | I41: =I43 -> 576031.9
F42: այդ թվում` ըստ կատարողների | H42: 0
F43: ՀՀ արդարադատության նախարարություն | H43: =H45 -> 255586 | I43: =I45 -> 576031.9
F44: այդ թվում` բյուջետային ծախսերի տնտեսագիտական դասակարգման հոդվածներ | H44: 0
F45: ԸՆԴԱՄԵՆԸ ԾԱԽՍԵՐ | H45: =H46 -> 255586 | I45: =I46 -> 576031.9
F46: ԸՆԹԱՑԻԿ ԾԱԽՍԵՐ | H46: =+H47+H52 -> 255586 | I46: =+I47+I52 -> 576031.9
F47: ԱՇԽԱՏԱՆՔԻ ՎԱՐՁԱՏՐՈՒԹՅՈՒՆ | H47: =H48 -> 214490.3 | I47: =I48 -> 480142
F48: Դրամով վճարվող աշխատավարձեր և հավելավճարներ | H48: =H49+H50+H51 -> 214490.3 | I48: =I49+I50+I51 -> 480142
F49: - Աշխատողների աշխատավարձեր և հավելավճարներ | H49: 158288.6 | I49: 369340
F50: - Պարգևատրումներ, դրամական խրախուսումներ և հատուկ վճարներ | H50: 40950.2 | I50: 95550.5
F51: - Քաղաքացիական, դատական և պետական այլ ծառայողների պարգևատրում | H51: 15251.5 | I51: 15251.5
F52: ԾԱՌԱՅՈՒԹՅՈՒՆՆԵՐԻ ԵՎ ԱՊՐԱՆՔՆԵՐԻ ՁԵՌՔԲԵՐՈՒՄ | H52: =H53+H57 -> 41095.7 | I52: =I53+I57 -> 95889.9
F53: Շարունակական ծախսեր | H53: =H54+H55+H56 -> 35070 | I53: =I54+I55+I56 -> 81830
F54: - Էներգետիկ ծառայություններ | H54: 9135 | I54: 21315
F55: - Կոմունալ ծառայություններ | H55: 735 | I55: 1715
F56: - Կապի ծառայություններ | H56: 25200 | I56: 58800
F57: Նյութեր (Ապրանքներ) | H57: =H58+H59+H60 -> 6025.7 | I57: =I58+I59+I60 -> 14059.9
F58: - Գրասենյակային նյութեր և հագուստ | H58: 5282.2 | I58: 12325.3
F59: - Կենցաղային և հանրային սննդի նյութեր | H59: 291.9 | I59: 681.1
F60: - Հատուկ նպատակային այլ նյութեր | H60: 451.6 | I60: 1053.5
E61: 11019 | F61: Հակակոռուպցիոն դատարանի բնականոն գործունեության և ՀՀ Հակակոռուպցիոն դատարանի կողմից դատական պաշտպանության իրավունքի ապահովում | G61: =G63 -> 0 | H61: =H63 -> 0 | I61: =I63 -> -113761.1
F62: այդ թվում` ըստ կատարողների | H62: 0
F63: Հակակոռուպցիոն դատարան | G63: =G65 -> 0 | H63: =H65 -> 0 | I63: =I65 -> -113761.1
F64: այդ թվում` բյուջետային ծախսերի տնտեսագիտական դասակարգման հոդվածներ | H64: 0
F65: ԸՆԴԱՄԵՆԸ ԾԱԽՍԵՐ | G65: =G66 -> 0 | H65: =H66 -> 0 | I65: =I66 -> -113761.1
F66: ԸՆԹԱՑԻԿ ԾԱԽՍԵՐ | G66: =G67 -> 0 | H66: =H67+H71 -> 0 | I66: =I67+I71 -> -113761.1
F67: ԱՇԽԱՏԱՆՔԻ ՎԱՐՁԱՏՐՈՒԹՅՈՒՆ | G67: =G68 -> 0 | H67: =H68 -> 0 | I67: =I68 -> -99084.7
F68: Դրամով վճարվող աշխատավարձեր և հավելավճարներ | G68: =G69+G70 -> 0 | H68: =H69+H70 -> 0 | I68: =I69+I70 -> -99084.7
F69: - Աշխատողների աշխատավարձեր և հավելավճարներ | G69: 0 | H69: 0 | I69: -76219
F70: - Պարգևատրումներ, դրամական խրախուսումներ և հատուկ վճարներ | G70: 0 | H70: 0 | I70: -22865.7
F71: ԾԱՌԱՅՈՒԹՅՈՒՆՆԵՐԻ ԵՎ ԱՊՐԱՆՔՆԵՐԻ ՁԵՌՔԲԵՐՈՒՄ | H71: =H72+H76 -> 0 | I71: =I72+I76 -> -14676.4
F72: Շարունակական ծախսեր | H72: 0 | I72: =I73+I74+I75 -> -12246.7
F73: - Էներգետիկ ծառայություններ | H73: 0 | I73: -3190
F74: - Կոմունալ ծառայություններ | H74: 0 | I74: -256.7
F75: - Կապի ծառայություններ | H75: 0 | I75: -8800
F76: Նյութեր (Ապրանքներ) | H76: =H77+H78+H80+H79 -> 0 | I76: =I77+I78+I80+I79 -> -2429.7
F77: - Գրասենյակային նյութեր և հագուստ | H77: 0 | I77: -1844.3
F78: - Կենցաղային և հանրային սննդի նյութեր | H78: 0 | I78: -101.9
F79: - Տրանսպորտային նյութեր | H79: 0 | I79: -325.8
F80: - Հատուկ նպատակային այլ նյութեր | H80: 0 | I80: -157.7
E81: 11019 | F81: Հակակոռուպցիոն դատարանի բնականոն գործունեության և ՀՀ Հակակոռուպցիոն դատարանի կողմից դատական պաշտպանության իրավունքի ապահովում | G81: =G83 -> 0 | H81: =H83 -> 0 | I81: =I83 -> 113761.1
F82: այդ թվում` ըստ կատարողների | H82: 0
F83: ՀՀ արդարադատության նախարարություն | G83: =G85 -> 0 | H83: =H85 -> 0 | I83: =I85 -> 113761.1
F84: այդ թվում` բյուջետային ծախսերի տնտեսագիտական դասակարգման հոդվածներ | H84: 0
F85: ԸՆԴԱՄԵՆԸ ԾԱԽՍԵՐ | G85: =G86 -> 0 | H85: =H86 -> 0 | I85: =I86 -> 113761.1
F86: ԸՆԹԱՑԻԿ ԾԱԽՍԵՐ | G86: =G87 -> 0 | H86: =H87+H91 -> 0 | I86: =I87+I91 -> 113761.1
F87: ԱՇԽԱՏԱՆՔԻ ՎԱՐՁԱՏՐՈՒԹՅՈՒՆ | G87: =G88 -> 0 | H87: =H88 -> 0 | I87: =I88 -> 99084.7
F88: Դրամով վճարվող աշխատավարձեր և հավելավճարներ | G88: =G89+G90 -> 0 | H88: =H89+H90 -> 0 | I88: =I89+I90 -> 99084.7
F89: - Աշխատողների աշխատավարձեր և հավելավճարներ | G89: 0 | H89: 0 | I89: 76219
F90: - Պարգևատրումներ, դրամական խրախուսումներ և հատուկ վճարներ | G90: 0 | H90: 0 | I90: 22865.7
F91: ԾԱՌԱՅՈՒԹՅՈՒՆՆԵՐԻ ԵՎ ԱՊՐԱՆՔՆԵՐԻ ՁԵՌՔԲԵՐՈՒՄ | H91: =H92+H96 -> 0 | I91: =I92+I96 -> 14676.4
F92: Շարունակական ծախսեր | H92: 0 | I92: =I93+I94+I95 -> 12246.7
F93: - Էներգետիկ ծառայություններ | H93: 0 | I93: 3190
F94: - Կոմունալ ծառայություններ | H94: 0 | I94: 256.7
F95: - Կապի ծառայություններ | H95: 0 | I95: 8800
F96: Նյութեր (Ապրանքներ) | H96: =H97+H98+H100+H99 -> 0 | I96: =I97+I98+I100+I99 -> 2429.7
F97: - Գրասենյակային նյութեր և հագուստ | H97: 0 | I97: 1844.3
F98: - Կենցաղային և հանրային սննդի նյութեր | H98: 0 | I98: 101.9
F99: - Տրանսպորտային նյութեր | H99: 0 | I99: 325.8
F100: - Հատուկ նպատակային այլ նյութեր | H100: 0 | I100: 157.7
E101: 11020 | F101: Վերաքննիչ հակակոռուպցիոն դատարանի բնականոն գործունեության և Վերաքննիչ հակակոռուպցիոն դատարանի կողմից դատական պաշտպանության իրավունքի ապահովում | G101: =G103 -> 0 | H101: =H103 -> 0 | I101: =I103 -> -113880.1
F102: այդ թվում` ըստ կատարողների | H102: 0
...

Sheet 2
F1: Հավելված 2
C2: ՀՀ կառավարության 2021 թվականի
C3: ______________ ի ___Ն որոշման
A5: ՀԱՅԱՍՏԱՆԻ ՀԱՆՐԱՊԵՏՈՒԹՅԱՆ ԿԱՌԱՎԱՐՈՒԹՅԱՆ 2020 ԹՎԱԿԱՆԻ ԴԵԿՏԵՄԲԵՐԻ 30-Ի ԹԻՎ 2215-Ն ՈՐՈՇՄԱՆ N5 ՀԱՎԵԼՎԱԾԻ N2 ԱՂՅՈՒՍԱԿՈՒՄ ԿԱՏԱՐՎՈՂ ՓՈՓՈԽՈՒԹՅՈՒՆՆԵՐԸ
F7: հազ. դրամներով
A8: Ծրագրային դասիչ | C8: Բյուջետային գլխավոր կարգադրիչների, ծրագրերի, միջոցառումների, միջոցառումները կատարող պետական մարմինների և ուղղությունների անվանումները | D8: Ցուցանիշների փոփոխությունը (ավելացումները նշված են դրական նշանով, իսկ նվազեցումները` փակագծերում)
A9: Ծրագիր | B9: Միջոցառում | D9: Առաջին կիսամյակ | E9: Ինն ամիս | F9: Տարի
C10: ԸՆԴԱՄԵՆԸ | D10: =+D11 -> 0 | E10: =+E11 -> 0 | F10: =+F11 -> 0
C11: ԲԱՐՁՐԱԳՈՒՅՆ ԴԱՏԱԿԱՆ ԽՈՐՀՈՒՐԴ | D11: =D13 -> 0 | E11: =E13 -> 0 | F11: =F13 -> 0
C12: այդ թվում`
A13: 1080 | B13: 31001 | C13: Բարձրագույն դատական խորհրդի տեխնիկական հագեցվածության բարելավում | D13: =D15+D16 -> 0 | E13: =E15+E16 -> 0 | F13: =F15+F16 -> 0
C14: այդ թվում` ըստ կատարողների
C15: ՀՀ դատական դեպարտամենտ | D15: ='1'!G141 -> -211377 | E15: ='1'!H141 -> -295927.8 | F15: ='1'!I141 -> -295927.8
C16: ՀՀ արդարադատության նախարարություն | D16: 211377 | E16: 295927.8 | F16: 295927.8

Sheet 3
E2: Հավելված N 3
E3: ՀՀ կառավարության 2021 թվականի
E4: ___________ ___-ի N _______ որոշման
A8: ՀԱՅԱՍՏԱՆԻ ՀԱՆՐԱՊԵՏՈՒԹՅԱՆ ԿԱՌԱՎԱՐՈՒԹՅԱՆ 2020 ԹՎԱԿԱՆԻ ԴԵԿՏԵՄԲԵՐԻ 30-Ի ԹԻՎ 2215-Ն ՈՐՈՇՄԱՆ N 9.1 ՀԱՎԵԼՎԱԾԻ 9.1.5 և 9.1.10 ԱՂՅՈՒՍԱԿՆԵՐՈՒՄ ԿԱՏԱՐՎՈՂ ՓՈՓՈԽՈՒԹՅՈՒՆՆԵՐԸ
A10: ՀՀ արդարադատության նախարարություն
A12: ՄԱՍ 1. ՊԵՏԱԿԱՆ ՄԱՐՄՆԻ ԳԾՈՎ ԱՐԴՅՈՒՆՔԱՅԻՆ (ԿԱՏԱՐՈՂԱԿԱՆ) ՑՈՒՑԱՆԻՇՆԵՐԸ
A14: Ծրագրի դասիչը | B14: Ծրագրի անվանումը
A15: 1080 | B15: Դատական իշխանության գործունեության ապահովում և իրականացում
A17: Ծրագրի միջոցառումները
A18: Ծրագրի դասիչը` | B18: 1080 | C18: Ցուցանիշների փոփոխությունը (ավելացումները նշված են դրական նշանով)
A19: Միջոցառման դասիչը` | B19: 11001 | C19: Առաջին կիսամյակ | D19: Ինն ամիս | E19: Տարի
A20: Միջոցառման անվանումը` | B20: Բարձրագույն դատական խորհրդի բնականոն գործունեության ապահովում և Բարձրագույն դատական խորհրդի կողմից դատական իշխանության անկախության երաշխավորմանն ուղղված միջոցառումների իրականացում
A21: Նկարագրությունը` | B21: Դատական գործերի բաշխման համակարգի արդիականացում, դատարանների բնականոն գործունեության համար նյութատեխնիկական պայմաններով ապահովում, Դատական դեպարտամենտին որակյալ կադրերով ապահովում, ճշգրիտ դատական վիճակագրության վարում և այլն
A22: Միջոցառման տեսակը` | B22: Ծառայությունների մատուցում
A23: Ծառայությունը մատուցող կազմակերպության անվանումը | B23: Դատական դեպարտամենտ
A24: Արդյունքի չափորոշիչներ
A25: Միջոցառման վրա կատարվող ծախսը (հազար դրամ) | C25: ='1'!G41 -> 0 | D25: ='1'!H41 -> 255586 | E25: ='1'!I41 -> 576031.9
A27: Ծրագրի միջոցառումները
A28: Ծրագրի դասիչը` | B28: 1080 | C28: Ցուցանիշների փոփոխությունը (ավելացումները նշված են դրական նշանով)
A29: Միջոցառման դասիչը` | B29: 11019 | C29: Առաջին կիսամյակ | D29: Ինն ամիս | E29: Տարի
A30: Միջոցառման անվանումը` | B30: Հակակոռուպցիոն դատարանի բնականոն գործունեության և ՀՀ Հակակոռուպցիոն դատարանի կողմից դատական պաշտպանության իրավունքի ապահովում
A31: Նկարագրությունը` | B31: Դատավարական գործունեության իրականացում, դատական ակտերի կազմում և հրապարակում, արխիվային փաստաթղթերի տրամադրում, դատական ծառայության իրականացում
A32: Միջոցառման տեսակը` | B32: Ծառայությունների մատուցում
A33: Ծառայությունը մատուցող կազմակերպության անվանումը | B33: Հակակոռուպցիոն դատարան
A34: Արդյունքի չափորոշիչներ
A35: Միջոցառման վրա կատարվող ծախսը (հազար դրամ) | C35: ='1'!G81 -> 0 | D35: ='1'!H81 -> 0 | E35: ='1'!I81 -> 113761.1
A36: Ծրագրի միջոցառումները
A37: Ծրագրի դասիչը` | B37: 1080 | C37: Ցուցանիշների փոփոխությունը (ավելացումները նշված են դրական նշանով)
A38: Միջոցառման դասիչը` | B38: 11020 | C38: Առաջին կիսամյակ | D38: Ինն ամիս | E38: Տարի
A39: Միջոցառման անվանումը` | B39: Վերաքննիչ հակակոռուպցիոն դատարանի բնականոն գործունեության և Վերաքննիչ հակակոռուպցիոն դատարանի կողմից դատական պաշտպանության իրավունքի ապահովում
A40: Նկարագրությունը` | B40: Դատավարական գործունեության իրականացում, դատական ակտերի կազմում և հրապարակում, արխիվային փաստաթղթերի տրամադրում, դատական ծառայության իրականացում
A41: Միջոցառման տեսակը` | B41: Ծառայությունների մատուցում
A42: Ծառայությունը մատուցող կազմակերպության անվանումը | B42: Վերաքննիչ հակակոռուպցիոն դատարան
A43: Արդյունքի չափորոշիչներ
A44: Միջոցառման վրա կատարվող ծախսը (հազար դրամ) | C44: ='1'!G121 -> 0 | D44: ='1'!H121 -> 0 | E44: ='1'!I121 -> 113880.1
A47: Ծրագրի դասիչը` | B47: 1080 | C47: Ցուցանիշների փոփոխությունը (ավելացումները նշված են դրական նշանով)
A48: Միջոցառման դասիչը` | B48: 31001 | C48: Առաջին կիսամյակ | D48: Ինն ամիս | E48: Տարի
A49: Միջոցառման անվանումը` | B49: Բարձրագույն դատական խորհրդի տեխնիկական հագեցվածության բարելավում
A50: Նկարագրությունը` | B50: ԲԴԽ աշխատանքային պայմանների բարելավման համար վարչական սարքավորումների ձեռքբերում
A51: Միջոցառման տեսակը` | B51: Պետական մարմնի կողմից օգտագործվող ոչ ֆինանսական ակտիվների հետ գործառնություններ
A52: Ակտիվն օգտագործող կազմակերպության(ների) անվանում(ներ)ը | B52: Դատական դեպարտամենտ
A53: Արդյունքի չափորոշիչներ
A54: Համակարգչային սարքավորումների քանակ, հատ | C54: 351 | D54: 351 | E54: 351
A55: Գրասենյակային գույքի միավոր քանակ, հատ | C55: 1689 | D55: 1689 | E55: 1689
A56: Այլ սարքավորումների քանակ,հատ | C56: 40 | D56: 40 | E56: 40
A57: Սարքավորումների ծառայության կանխատեսվող միջին ժամկետ, տարի | E57: 7
A58: Միջոցառման վրա կատարվող ծախսը (հազար դրամ) | C58: ='1'!G150 -> 211377 | D58: ='1'!H150 -> 295927.8 | E58: ='1'!I150 -> 295927.8
A61: ՀՀ դատական դեպարտամենտ
A63: ՄԱՍ 1. ՊԵՏԱԿԱՆ ՄԱՐՄՆԻ ԳԾՈՎ ԱՐԴՅՈՒՆՔԱՅԻՆ (ԿԱՏԱՐՈՂԱԿԱՆ) ՑՈՒՑԱՆԻՇՆԵՐԸ
A66: Ծրագրի դասիչը | B66: Ծրագրի անվանումը
A67: 1080 | B67: Դատական իշխանության գործունեության ապահովում և իրականացում
A69: Ծրագրի միջոցառումները
A70: Ծրագրի դասիչը` | B70: 1080 | C70: Ցուցանիշների փոփոխությունը (նվազեցումները նշված են փակագծերում)
A71: Միջոցառման դասիչը` | B71: 11001 | C71: Առաջին կիսամյակ | D71: Ինն ամիս | E71: Տարի
A72: Միջոցառման անվանումը` | B72: Բարձրագույն դատական խորհրդի բնականոն գործունեության ապահովում և Բարձրագույն դատական խորհրդի կողմից դատական իշխանության անկախության երաշխավորմանն ուղղված միջոցառումների իրականացում
A73: Նկարագրությունը` | B73: Դատական գործերի բաշխման համակարգի արդիականացում, դատարանների բնականոն գործունեության համար նյութատեխնիկական պայմաններով ապահովում, Դատական դեպարտամենտին որակյալ կադրերով ապահովում, ճշգրիտ դատական վիճակագրության վարում և այլն
A74: Միջոցառման տեսակը` | B74: Ծառայությունների մատուցում
A75: Ծառայությունը մատուցող կազմակերպության անվանումը | B75: Դատական դեպարտամենտ
A76: Արդյունքի չափորոշիչներ
A77: Միջոցառման վրա կատարվող ծախսը (հազար դրամ) | C77: ='1'!G21 -> 0 | D77: ='1'!H21 -> -255586 | E77: ='1'!I21 -> -576031.9
A79: Ծրագրի միջոցառումները
A80: Ծրագրի դասիչը` | B80: 1080 | C80: Ցուցանիշների փոփոխությունը (նվազեցումները նշված են փակագծերում)
A81: Միջոցառման դասիչը` | B81: 11019 | C81: Առաջին կիսամյակ | D81: Ինն ամիս | E81: Տարի
A82: Միջոցառման անվանումը` | B82: Հակակոռուպցիոն դատարանի բնականոն գործունեության և ՀՀ Հակակոռուպցիոն դատարանի կողմից դատական պաշտպանության իրավունքի ապահովում
A83: Նկարագրությունը` | B83: Դատավարական գործունեության իրականացում, դատական ակտերի կազմում և հրապարակում, արխիվային փաստաթղթերի տրամադրում, դատական ծառայության իրականացում
A84: Միջոցառման տեսակը` | B84: Ծառայությունների մատուցում
A85: Ծառայությունը մատուցող կազմակերպության անվանումը | B85: Հակակոռուպցիոն դատարան
A86: Արդյունքի չափորոշիչներ
A87: Միջոցառման վրա կատարվող ծախսը (հազար դրամ) | C87: ='1'!G61 -> 0 | D87: ='1'!H61 -> 0 | E87: ='1'!I61 -> -113761.1
A88: Ծրագրի միջոցառումները
A89: Ծրագրի դասիչը` | B89: 1080 | C89: Ցուցանիշների փոփոխությունը (նվազեցումները նշված են փակագծերում)
A90: Միջոցառման դասիչը` | B90: 11020 | C90: Առաջին կիսամյակ | D90: Ինն ամիս | E90: Տարի
A91: Միջոցառման անվանումը` | B91: Վերաքննիչ հակակոռուպցիոն դատարանի բնականոն գործունեության և Վերաքննիչ հակակոռուպցիոն դատարանի կողմից դատական պաշտպանության իրավունքի ապահովում
A92: Նկարագրությունը` | B92: Դատավարական գործունեության իրականացում, դատական ակտերի կազմում և հրապարակում, արխիվային փաստաթղթերի տրամադրում, դատական ծառայության իրականացում
A93: Միջոցառման տեսակը` | B93: Ծառայությունների մատուցում
A94: Ծառայությունը մատուցող կազմակերպության անվանումը | B94: Վերաքննիչ հակակոռուպցիոն դատարան
A95: Արդյունքի չափորոշիչներ
A96: Միջոցառման վրա կատարվող ծախսը (հազար դրամ) | C96: ='1'!G101 -> 0 | D96: ='1'!H101 -> 0 | E96: ='1'!I101 -> -113880.1
A99: Ծրագրի դասիչը` | B99: 1080 | C99: Ցուցանիշների փոփոխությունը (նվազեցումները նշված են փակագծերում)
A100: Միջոցառման դասիչը` | B100: 31001 | C100: Առաջին կիսամյակ | D100: Ինն ամիս | E100: Տարի
A101: Միջոցառման անվանումը` | B101: Բարձրագույն դատական խորհրդի տեխնիկական հագեցվածության բարելավում
A102: Նկարագրությունը` | B102: ԲԴԽ աշխատանքային պայմանների բարելավման համար վարչական սարքավորումների ձեռքբերում
A103: Միջոցառման տեսակը` | B103: Պետական մարմնի կողմից օգտագործվող ոչ ֆինանսական ակտիվների հետ գործառնություններ
A104: Ակտիվն օգտագործող կազմակերպության(ների) անվանում(ներ)ը | B104: Դատական դեպարտամենտ
A105: Արդյունքի չափորոշիչներ
A106: Համակարգչային սարքավորումների քանակ, հատ | C106: -351 | D106: -351 | E106: -351
A107: Գրասենյակային գույքի միավոր քանակ, հատ | C107: -1689 | D107: -1689 | E107: -1689
A108: Այլ սարքավորումների քանակ,հատ | C108: -40 | D108: -40 | E108: -40
A109: Սարքավորումների ծառայության կանխատեսվող միջին ժամկետ, տարի | E109: 7
A110: Միջոցառման վրա կատարվող ծախսը (հազար դրամ) | C110: ='1'!G141 -> -211377 | D110: ='1'!H141 -> -295927.8 | E110: ='1'!I141 -> -295927.8

Sheet 4
E1: Հավելված N 4
E2: ՀՀ կառավարության
E3: 2021 թվականի __________
E4: N -Ն որոշման
A5: ՀԱՅԱՍՏԱՆԻ ՀԱՆՐԱՊԵՏՈՒԹՅԱՆ ԿԱՌԱՎԱՐՈՒԹՅԱՆ 2020 ԹՎԱԿԱՆԻ ԴԵԿՏԵՄԲԵՐԻ 30-Ի N 2215-Ն ՈՐՈՇՄԱՆ N 10 ՀԱՎԵԼՎԱԾԻ ՑՈՒՑԱՆԻՇՆԵՐՈՒՄ ԿԱՏԱՐՎՈՂ ՓՈՓՈԽՈՒԹՅՈՒՆՆԵՐԸ
A7: Կոդը | B7: Անվանումը | C7: Գնման ձևը | D7: Չափի միավորը | E7: միավորի գինը | F7: Ցուցանիշների փոփոխությունը (ավելացումները նշված են դրական նշանով, իսկ նվազեցումները՝ փակագծերում)
F8: քանակը | G8: գումարը (հազար դրամով)
A9: 1 | B9: 2 | C9: 3 | D9: 4 | E9: 5 | F9: 6 | G9: 7
A10: ՀՀ արդարադատության նախարարություն | G10: =G12+G95+G156+G217 -> 419865.87
A11: Բաժին N 03 Խումբ N 03 Դաս N 01 Դատարաններ
A12: 1080 | B12: 11001 | C12: Բարձրագույն դատական խորհրդի բնականոն գործունեության ապահովում և Բարձրագույն դատական խորհրդի կողմից դատական իշխանության անկախության երաշխավորմանն ուղղված միջոցառումների իրականացում | G12: =G13+G89 -> 95889.873
B13: ՄԱՍ 1. ԱՊՐԱՆՔՆԵՐ | G13: =SUM(G14:G88) -> 14059.873
A14: 18111100 | B14: արտադրական հատուկ հագուստ | C14: ԳՀ | D14: հատ | E14: 70000 | F14: 42 | G14: =E14*F14/1000 -> 2940
A15: 30121460-1 | B15: տոներային քարտրիջներ | C15: ԳՀ | D15: հատ | E15: 7500 | F15: 95 | G15: =E15*F15/1000 -> 712.5
A16: 30121460-10 | B16: տոներային քարտրիջներ | C16: ԳՀ | D16: հատ | E16: 8524 | F16: 53 | G16: =E16*F16/1000 -> 451.772
A17: 30121470-1 | B17: տոներ լազերային տպիչների/հեռապատճենահանող մեքենաների համար | C17: ԳՀ | D17: կգ | E17: 4000 | F17: 85 | G17: =E17*F17/1000 -> 340
A18: 30121470-2 | B18: տոներ լազերային տպիչների/հեռապատճենահանող մեքենաների համար | C18: ԳՀ | D18: կգ | E18: 7000 | F18: 20 | G18: =E18*F18/1000 -> 140
A19: 30121470-7 | B19: տոներ լազերային տպիչների/հեռապատճենահանող մեքենաների համար | C19: ԳՀ | D19: կգ | E19: 7200 | F19: 25 | G19: =E19*F19/1000 -> 180
A20: 30192121 | B20: Գրիչ գնդիկավոր | C20: ԳՀ | D20: հատ | E20: 50 | F20: 500 | G20: =E20*F20/1000 -> 25
A21: 30192128-1 | B21: Գրիչ գելային | C21: ԳՀ | D21: հատ | E21: 150 | F21: 220 | G21: =E21*F21/1000 -> 33
A22: 30192152-1 | B22: Կնիք, ավտոմատ, կլոր | C22: ԳՀ | D22: հատ | E22: 7000 | F22: 42 | G22: =E22*F22/1000 -> 294
A23: 30193110-1 | B23: գրենական պիտույքների դասավորման համարանքներ և պարագաներ | C23: ԳՀ | D23: հատ | E23: 2800 | F23: 100 | G23: =E23*F23/1000 -> 280
A24: 30193200-1 | B24: փաստաթղթերի համար նախատեսված, սեղանի վրա դրվող դարակաշարեր | C24: ԳՀ | D24: հատ | E24: 3500 | F24: 50 | G24: =E24*F24/1000 -> 175
A25: 30197100-1 | B25: կարիչի մետաղալարե կապեր, մեծ | C25: ԳՀ | D25: տուփ | E25: 350 | F25: 175 | G25: =E25*F25/1000 -> 61.25
A26: 30197112-1 | B26: կարիչի մետաղալարե կապեր, միջին | C26: ԳՀ | D26: տուփ | E26: 87 | F26: 153 | G26: =E26*F26/1000 -> 13.311
A27: 30197230-1 | B27: թղթապանակ | C27: ԳՀ | D27: հատ | E27: 36 | F27: 400 | G27: =E27*F27/1000 -> 14.4
A28: 30197230-2 | B28: թղթապանակ | C28: ԳՀ | D28: հատ | E28: 166 | F28: 500 | G28: =E28*F28/1000 -> 83
A29: 30197231-1 | B29: թղթապանակ, պոլիմերային թաղանթ, ֆայլ | C29: ԳՀ | D29: հատ | E29: 6 | F29: 550 | G29: =E29*F29/1000 -> 3.3
A30: 30197232-1 | B30: թղթապանակ, արագակար, թղթյա | C30: ԳՀ | D30: հատ | E30: 47 | F30: 300 | G30: =E30*F30/1000 -> 14.1
A31: 30197234-1 | B31: թղթապանակ, կոշտ կազմով | C31: ԳՀ | D31: հատ | E31: 509 | F31: 300 | G31: =E31*F31/1000 -> 152.7
A32: 30197321-1 | B32: կարիչ, մինչև 20 թերթի համար | C32: ԳՀ | D32: հատ | E32: 650 | F32: 50 | G32: =E32*F32/1000 -> 32.5
... A88: 35821400-1 | B88: դրոշներ | C88: ԳՀ | D88: հատ | E88: 24000 | F88: 8 | G88: =E88*F88/1000 -> 192
B89: ՄԱՍ III. ԾԱՌԱՅՈՒԹՅՈՒՆՆԵՐ | G89: =SUM(G90:G94) -> 81830
A90: 64211100-1 | B90: հանրային հեռախոսային ծառայություններ | C90: ԳՀ | D90: դրամ | E90: 30800000 | F90: 1 | G90: =E90*F90/1000 -> 30800
A91: 65111100-1 | B91: խմելու ջրի բաշխում | C91: ՄԱ | D91: դրամ | E91: 1715000 | F91: 1 | G91: =E91*F91/1000 -> 1715
A92: 65211100-1 | B92: գազի բաշխում | C92: ՄԱ | D92: դրամ | E92: 6315000 | F92: 1 | G92: =E92*F92/1000 -> 6315
A93: 65311100-1 | B93: էլեկտրականության բաշխում | C93: ՄԱ | D93: դրամ | E93: 15000000 | F93: 1 | G93: =E93*F93/1000 -> 15000
A94: 79571100-1 | B94: փոստային առաքման ծառայություններ | C94: ՄԱ | D94: դրամ | E94: 28000000 | F94: 1 | G94: =E94*F94/1000 -> 28000
A95: 1080 | B95: 11019 | C95: Հակակոռուպցիոն դատարանի բնականոն գործունեության և ՀՀ Հակակոռուպցիոն դատարանի կողմից դատական պաշտպանության իրավունքի ապահովում | G95: =G150+G96 -> 14676.376
B96: ՄԱՍ 1. ԱՊՐԱՆՔՆԵՐ | G96: =SUM(G97:G149) -> 2429.676
A97: 09132200-1 | B97: բենզին, ռեգուլյար | C97: ԳՀ | D97: լիտր | E97: 380 | F97: 857.4 | G97: =E97*F97/1000 -> 325.812
A98: 18111100-1 | B98: արտադրական հատուկ հագուստ | C98: ԳՀ | D98: հատ | E98: 70000 | F98: 11 | G98: =E98*F98/1000 -> 770
A99: 30121460-1 | B99: տոներային քարտրիջներ | C99: ԳՀ | D99: հատ | E99: 7500 | F99: 22 | G99: =E99*F99/1000 -> 165
A100: 30121470-1 | B100: տոներ լազերային տպիչների/հեռապատճենահանող մեքենաների համար | C100: ԳՀ | D100: կգ | E100: 4000 | F100: 20 | G100: =E100*F100/1000 -> 80
A101: 30192121-1 | B101: Գրիչ գնդիկավոր | C101: ԳՀ | D101: հատ | E101: 50 | F101: 102 | G101: =E101*F101/1000 -> 5.1
A102: 30192128-1 | B102: Գրիչ գելային | C102: ԳՀ | D102: հատ | E102: 150 | F102: 50 | G102: =E102*F102/1000 -> 7.5
A103: 30192152-1 | B103: Կնիք, ավտոմատ, կլոր | C103: ԳՀ | D103: հատ | E103: 7000 | F103: 11 | G103: =E103*F103/1000 -> 77
A104: 30193110-1 | B104: գրենական պիտույքների դասավորման համարանքներ և պարագաներ | C104: ԳՀ | D104: հատ | E104: 2800 | F104: 11 | G104: =E104*F104/1000 -> 30.8
A105: 30197100-1 | B105: կարիչի մետաղալարե կապեր, մեծ | C105: ԳՀ | D105: տուփ | E105: 350 | F105: 25 | G105: =E105*F105/1000 -> 8.75
A106: 30197112-1 | B106: կարիչի մետաղալարե կապեր, միջին | C106: ԳՀ | D106: տուփ | E106: 87 | F106: 33 | G106: =E106*F106/1000 -> 2.871
A107: 30197230-1 | B107: թղթապանակ | C107: ԳՀ | D107: հատ | E107: 36 | F107: 100 | G107: =E107*F107/1000 -> 3.6
A108: 30197230-2 | B108: թղթապանակ | C108: ԳՀ | D108: հատ | E108: 166 | F108: 50 | G108: =E108*F108/1000 -> 8.3
... A149: 35821100-1 | B149: ՀՀ զինանշան | C149: ԳՀ | D149: հատ | E149: 31540 | F149: 5 | G149: =E149*F149/1000 -> 157.7
B150: ՄԱՍ III. ԾԱՌԱՅՈՒԹՅՈՒՆՆԵՐ | G150: =SUM(G151:G155) -> 12246.7
A151: 64211100-1 | B151: հանրային հեռախոսային ծառայություններ | C151: ԳՀ | D151: դրամ | E151: 5800000 | F151: 1 | G151: =E151*F151/1000 -> 5800
A152: 65111100-1 | B152: խմելու ջրի բաշխում | C152: ՄԱ | D152: դրամ | E152: 256700 | F152: 1 | G152: =E152*F152/1000 -> 256.7
A153: 65211100-1 | B153: գազի բաշխում | C153: ՄԱ | D153: դրամ | E153: 990000 | F153: 1 | G153: =E153*F153/1000 -> 990
A154: 65311100-1 | B154: էլեկտրականության բաշխում | C154: ՄԱ | D154: դրամ | E154: 2200000 | F154: 1 | G154: =E154*F154/1000 -> 2200
A155: 79571100-1 | B155: փոստային առաքման ծառայություններ | C155: ՄԱ | D155: դրամ | E155: 3000000 | F155: 1 | G155: =E155*F155/1000 -> 3000
A156: 1080 | B156: 11020 | C156: Վերաքննիչ հակակոռուպցիոն դատարանի բնականոն գործունեության և Վերաքննիչ հակակոռուպցիոն դատարանի կողմից դատական պաշտպանության իրավունքի ապահովում | G156: =G211+G157 -> 13371.824
B157: ՄԱՍ 1. ԱՊՐԱՆՔՆԵՐ | G157: =SUM(G158:G210) -> 2238.524
A158: 09132200-1 | B158: բենզին, ռեգուլյար | C158: ԳՀ | D158: լիտր | E158: 380 | F158: 857.4 | G158: =E158*F158/1000 -> 325.812
A159: 18111100-1 | B159: արտադրական հատուկ հագուստ | C159: ԳՀ | D159: հատ | E159: 70000 | F159: 10 | G159: =E159*F159/1000 -> 700
A160: 30121460-1 | B160: տոներային քարտրիջներ | C160: ԳՀ | D160: հատ | E160: 7500 | F160: 20 | G160: =E160*F160/1000 -> 150
A161: 30121470-1 | B161: տոներ լազերային տպիչների/հեռապատճենահանող մեքենաների համար | C161: ԳՀ | D161: կգ | E161: 4000 | F161: 15 | G161: =E161*F161/1000 -> 60
A162: 30192121-1 | B162: Գրիչ գնդիկավոր | C162: ԳՀ | D162: հատ | E162: 50 | F162: 82 | G162: =E162*F162/1000 -> 4.1
A163: 30192128-1 | B163: Գրիչ գելային | C163: ԳՀ | D163: հատ | E163: 150 | F163: 50 | G163: =E163*F163/1000 -> 7.5
A164: 30192152-1 | B164: Կնիք, ավտոմատ, կլոր | C164: ԳՀ | D164: հատ | E164: 7000 | F164: 10 | G164: =E164*F164/1000 -> 70
A165: 30193110-1 | B165: գրենական պիտույքների դասավորման համարանքներ և պարագաներ | C165: ԳՀ | D165: հատ | E165: 2800 | F165: 10 | G165: =E165*F165/1000 -> 28
A166: 30197100-1 | B166: կարիչի մետաղալարե կապեր, մեծ | C166: ԳՀ | D166: տուփ | E166: 350 | F166: 25 | G166: =E166*F166/1000 -> 8.75
A167: 30197112-1 | B167: կարիչի մետաղալարե կապեր, միջին | C167: ԳՀ | D167: տուփ | E167: 87 | F167: 33 | G167: =E167*F167/1000 -> 2.871
A168: 30197230-1 | B168: թղթապանակ | C168: ԳՀ | D168: հատ | E168: 36 | F168: 100 | G168: =E168*F168/1000 -> 3.6
A169: 30197230-2 | B169: թղթապանակ | C169: ԳՀ | D169: հատ | E169: 166 | F169: 50 | G169: =E169*F169/1000 -> 8.3
... A210: 35821100-1 | B210: ՀՀ զինանշան | C210: ԳՀ | D210: հատ | E210: 28660 | F210: 5 | G210: =E210*F210/1000 -> 143.3
B211: ՄԱՍ III. ԾԱՌԱՅՈՒԹՅՈՒՆՆԵՐ | G211: =SUM(G212:G216) -> 11133.3
A212: 64211100-1 | B212: հանրային հեռախոսային ծառայություններ | C212: ԳՀ | D212: դրամ | E212: 5000000 | F212: 1 | G212: =E212*F212/1000 -> 5000
A213: 65111100-1 | B213: խմելու ջրի բաշխում | C213: ՄԱ | D213: դրամ | E213: 233300 | F213: 1 | G213: =E213*F213/1000 -> 233.3
A214: 65211100-1 | B214: գազի բաշխում | C214: ՄԱ | D214: դրամ | E214: 900000 | F214: 1 | G214: =E214*F214/1000 -> 900
A215: 65311100-1 | B215: էլեկտրականության բաշխում | C215: ՄԱ | D215: դրամ | E215: 2000000 | F215: 1 | G215: =E215*F215/1000 -> 2000
A216: 79571100-1 | B216: փոստային առաքման ծառայություններ | C216: ՄԱ | D216: դրամ | E216: 3000000 | F216: 1 | G216: =E216*F216/1000 -> 3000
A217: 1080 | B217: 31001 | C217: Բարձրագույն դատական խորհրդի տեխնիկական հագեցվածության բարելավում | G217: =G218 -> 295927.8
B218: ՄԱՍ 1. ԱՊՐԱՆՔՆԵՐ | G218: =SUM(G219:G238) -> 295927.8
A219: 30211280 | B219: Համակարգիչ ամբողջը մեկում | C219: ԲՄ | D219: հատ | E219: =445120+90000 -> 535120 | F219: 168 | G219: =E219*F219/1000 -> 89900.16
A220: 30232110 | B220: լազերային տպիչներ | C220: ԳՀ | D220: հատ | E220: 141440 | F220: 126 | G220: =E220*F220/1000 -> 17821.44
A221: 30239170 | B221: բազմաֆունկցիոնալ սարք` լազերային | C221: ԳՀ | D221: հատ | E221: 380328 | F221: 42 | G221: =E221*F221/1000 -> 15973.776
A222: 30237280 | B222: էլեկտրական սնուցման պարագաներ | C222: ԳՀ | D222: հատ | E222: 54198 | F222: 168 | G222: =E222*F222/1000 -> 9105.264
A223: 44421300 | B223: չհրկիզվող պահարաններ | C223: ԳՀ | D223: հատ | E223: 75920 | F223: 84 | G223: =E223*F223/1000 -> 6377.28
A224: 39121100 | B224: գրասեղաններ | C224: ԳՀ | D224: հատ | E224: 33072 | F224: 84 | G224: =E224*F224/1000 -> 2778.048
A225: 39121100 | B225: գրասեղաններ | C225: ԳՀ | D225: հատ | E225: 40061 | F225: 42 | G225: =E225*F225/1000 -> 1682.562
A226: 39121360 | B226: սեղան` ղեկավարի | C226: ԳՀ | D226: հատ | E226: 67972 | F226: 42 | G226: =E226*F226/1000 -> 2854.824
A227: 39121440 | B227: սեղան` նախագահության | C227: ԳՀ | D227: հատ | E227: 133948 | F227: 42 | G227: =E227*F227/1000 -> 5625.816
A228: 39141260 | B228: Զգեստապահարան | C228: ԳՀ | D228: հատ | E228: 28392 | F228: 42 | G228: =E228*F228/1000 -> 1192.464
A229: 39121520 | B229: Գրապահարան | C229: ԳՀ | D229: հատ | E229: 34427 | F229: 42 | G229: =E229*F229/1000 -> 1445.934
A230: 39141120 | B230: դարակներով պահարաններ | C230: ԳՀ | D230: հատ | E230: 240000 | F230: 42 | G230: =E230*F230/1000 -> 10080
A231: 39111220 | B231: Բազկաթոռ ղեկավարի | C231: ԳՀ | D231: հատ | E231: 75920 | F231: 84 | G231: =E231*F231/1000 -> 6377.28
... A236: 39292600 | B236: ամբիոն | C236: ԳՀ | D236: հատ | E236: 29640 | F236: 42 | G236: =E236*F236/1000 -> 1244.88
A237: 32331510-1 | B237: ձայնագրառման համակարգ | C237: ԲՄ | D237: հատ | E237: 2480400 | F237: 42 | G237: =E237*F237/1000 -> 104176.8
A238: 30216110 | B238: սկաներներ համակարգիչների համար | C238: ԳՀ | D238: հատ | E238: 40000 | F238: 42 | G238: =E238*F238/1000 -> 1680
A239: ՀՀ դատական դեպարտամենտ | G239: =G241+G324+G385+G446 -> -419865.87
A240: Բաժին N 03 Խումբ N 03 Դաս N 01 Դատարաններ
...
