Workbook
Name AgencyCode: #REF!
Name AgencyCode: #REF!
Name AgencyCode: #REF!
Name AgencyName: #REF!
Name AgencyName: #REF!
Name AgencyName: #REF!
Name davit: #REF!
Name davit: #REF!
Name Functional1: #REF!
Name Functional1: #REF!
Name Functional1: #REF!
Name ggg: #REF!
Name ggg: #REF!
Name PANature: #REF!
Name PANature: #REF!
Name PANature: #REF!
Name PAType: #REF!
Name PAType: #REF!
Name PAType: #REF!
Name Performance2: #REF!
Name Performance2: #REF!
Name Performance2: #REF!
Name PerformanceType: #REF!
Name PerformanceType: #REF!
Name PerformanceType: #REF!
Name Հավելված: #REF!
Name Հավելված: #REF!
Name Մաս: #REF!
Name Մաս: #REF!
Name շախմատիստ: #REF!
Name շախմատիստ: #REF!

Sheet Havelvats 1
E1: Հավելված N 1
E2: ՀՀ կառավարության 2021 թվականի
E3: ______________ ի ___Ն որոշման
A5: «ՀԱՅԱUՏԱՆԻ ՀԱՆՐԱՊԵՏՈՒԹՅԱՆ 2020 ԹՎԱԿԱՆԻ ՊԵՏԱԿԱՆ ԲՅՈՒՋԵԻ ՄԱUԻՆ» ՀՀ OՐԵՆՔԻ N 1 ՀԱՎԵԼՎԱԾԻ N 2 ԱՂՅՈՒՍԱԿՈՒՄ ԿԱՏԱՐՎՈՂ ՎԵՐԱԲԱՇԽՈՒՄԸ ԵՎ ՀԱՅԱՍՏԱՆԻ ՀԱՆՐԱՊԵՏՈՒԹՅԱՆ ԿԱՌԱՎԱՐՈՒԹՅԱՆ 2020 ԹՎԱԿԱՆԻ ԴԵԿՏԵՄԲԵՐԻ 30-Ի N 2215-Ն ՈՐՈՇՄԱՆ N 5 ՀԱՎԵԼՎԱԾԻ N 1 ԱՂՅՈՒՍԱԿՈՒՄ ԿԱՏԱՐՎՈՂ ՓՈՓՈԽՈՒԹՅՈՒՆՆԵՐԸ ԵՎ ԼՐԱՑՈՒՄՆԵՐԸ
E7: հազ. դրամներով
A8: Ծրագրային դասիչը | C8: Բյուջետային հատկացումների գլխավոր կարգադրիչների, ծրագրերի և միջոցառումների անվանումները | D8: Ցուցանիշների փոփոխությունը (ավելացումները նշված են դրական նշանով, իսկ նվազեցումները` փակագծերում)
A9: Ծրագիր | B9: Միջոցառում | D9: Առաջին կիսամյակ | E9: Ինն ամիս | F9: Տարի
A10: 1192 | C10: ԸՆԴԱՄԵՆԸ | D10: =+D12+D52 -> 0 | E10: =+E12+E52 -> 0 | F10: =+F12+F52 -> 0
C11: այդ թվում
B12: ՀՀ տարածքային կառավարման և ենթակառուցվածքների նախարարություն | D12: =+D14+D40+D27 -> 0 | E12: =+E14+E40+E27 -> 0 | F12: =+F14+F40+F27 -> 0
A13: 1070 | C13: Ծրագրի անվանումը`
C14: Աջակցություն փախստականների ինտեգրմանը | D14: =D21 -> -700000 | E14: =E21 -> -1200000 | F14: =F21 -> -1200000
C15: Ծրագրի նպատակը`
C16: Փախստականների ինտեգրում հասարակություն
C17: Վերջնական արդյունքի նկարագրությունը`
C18: Փախստականներին մատուցվող ծառայությունների ընդգրկման և ծառայությունների շրջանակի ընդլայնում
C19: Ծրագրի միջոցառումներ
B20: 12003 | C20: Միջոցառման անվանումը`
C21: 1988-1992 թվականներին Ադրբեջանից բռնագաղթված և Հայաստանի Հանրապետությունում ապաստանած փախստական ընտանիքների բնակարանային ապահովում | D21: ='Havelvats 2 '!G20 -> -700000 | E21: ='Havelvats 2 '!H20 -> -1200000 | F21: ='Havelvats 2 '!I20 -> -1200000
C22: Միջոցառման նկարագրությունը`
C23: 1988-1992 թվականներին Ադրբեջանից բռնագաղթված և Հայաստանի Հանրապետությունում ապաստանած բնակության վայր չունեցող փախստական ընտանիքներին բնակարանային ապահովման աջակցություն
C24: Միջոցառման տեսակը
C25: Տրանսֆերտների տրամադրում
A26: 1004 | C26: Ծրագրի անվանումը`
C27: Ոռոգման համակարգի առողջացում | D27: =D34 -> -500000 | E27: =E34 -> 0 | F27: =F34 -> 0
C28: Ծրագրի նպատակը`
C29: Ոռոգման ծառայությունների հասանելիության և մատչելիության ապահովում
C30: Վերջնական արդյունքի նկարագրությունը`
C31: Ոռոգման ջրի մատակարարման արդյունավետության և հասանելիության բարելավում, կորուստների կրճատում
C32: Ծրագրի միջոցառումներ
B33: 11002 | C33: Միջոցառման անվանումը`
C34: Ոռոգման ծառայություններ մատուցող ընկերություններին ֆինանսական աջակցության տրամադրում | D34: ='Havelvats 2 '!G48 -> -500000 | E34: ='Havelvats 2 '!H48 -> 0 | F34: ='Havelvats 2 '!I48 -> 0
C35: Միջոցառման նկարագրությունը`
C36: Ոռոգման ոլորտի սուբսիդավորում ՋՕԸ-ների համար սահմանված ոռոգման ջրի սակագնի և նվազագույն շահավետ գնի տարբերության չափով
C37: Միջոցառման տեսակը
C38: Ծառայությունների մատուցում
A39: 1212 | C39: Ծրագրի անվանումը`
C40: Տարածքային զարգացում | D40: =+D47 -> 1200000 | E40: =+E47 -> 1200000 | F40: =+F47 -> 1200000
C41: Ծրագրի նպատակը`
C42: Տարածքային համաչափ զարգացման խթանում
...

Sheet Havelvats 2 
H1: Հավելված N 2
H2: ՀՀ կառավարության 2021 թվականի
H3: ______________ ի ___Ն որոշման
A5: ՀԱՅԱՍՏԱՆԻ ՀԱՆՐԱՊԵՏՈՒԹՅԱՆ ԿԱՌԱՎԱՐՈՒԹՅԱՆ 2020 ԹՎԱԿԱՆԻ ԴԵԿՏԵՄԲԵՐԻ 30-Ի N 2215-Ն ՈՐՈՇՄԱՆ N 3 ԵՎ N 4 ՀԱՎԵԼՎԱԾՆԵՐՈՒՄ ԿԱՏԱՐՎՈՂ ՓՈՓՈԽՈՒԹՅՈՒՆՆԵՐԸ ԵՎ ԼՐԱՑՈՒՄՆԵՐԸ
H7: հազ. դրամներով
A8: Գործառական դասիչը | D8: Ծրագրային դասիչը | F8: Բյուջետային հատկացումների գլխավոր կարգադրիչների, ծրագրերի, միջոցառումների և միջոցառումները կատարող պետական մարմինների անվանումները | G8: Ցուցանիշների փոփոխությունը (ավելացումները նշված են դրական նշանով, իսկ նվազեցումները` փակագծերում)
A9: Բաժին | B9: Խումբ | C9: Դաս | D9: Ծրագիր | E9: Միջոցառում | G9: Առաջին կիսամյակ | H9: Ինն ամիս | I9: Տարի
F10: ԸՆԴԱՄԵՆԸ | G10: =G12+G124 -> 0 | H10: =H12+H124 -> 0 | I10: =I12+I124 -> 0
F11: այդ թվում
F12: ՀՀ տարածքային կառավարման և ենթակառուցվածքների նախարարություն | G12: =G13+G31+G49 -> 0 | H12: =H13+H31+H49 -> 0 | I12: =I13+I31+I49 -> 0
A13: 10 | D13: 1192 | E13: 11010 | F13: ՍՈՑԻԱԼԱԿԱՆ ՊԱՇՏՊԱՆՈՒԹՅՈՒՆ | G13: =G15 -> -700000 | H13: =H15 -> -1200000 | I13: =I15 -> -1200000
B14: 06 | F14: այդ թվում`
F15: Բնակարանային ապահովում | G15: =G17 -> -700000 | H15: =H17 -> -1200000 | I15: =I17 -> -1200000
F16: այդ թվում`
C17: 01 | F17: Բնակարանային ապահովում | G17: =+G20 -> -700000 | H17: =+H20 -> -1200000 | I17: =+I20 -> -1200000
F18: այդ թվում`
F19: ՀՀ տարածքային կառավարման և ենթակառուցվածքների նախարարություն
D20: 1070 | E20: Աջակցություն փախստականների ինտեգրմանը | G20: =+G22 -> -700000 | H20: =+H22 -> -1200000 | I20: =+I22 -> -1200000
F21: այդ թվում`
F22: 1988-1992 թվականներին Ադրբեջանից բռնագաղթված և Հայաստանի Հանրապետությունում ապաստանած փախստական ընտանիքների բնակարանային ապահովում | G22: =+G24 -> -700000 | H22: =+H24 -> -1200000 | I22: =+I24 -> -1200000
E23: 12003 | F23: այդ թվում` ըստ կատարողների
F24: ՀՀ տարածքային կառավարման և ենթակառուցվածքների նախարարության միգրացիոն ծառայություն | G24: =+G26 -> -700000 | H24: =H26 -> -1200000 | I24: =I26 -> -1200000
F25: այդ թվում` բյուջետային ծախսերի տնտեսագիտական դասակարգման հոդվածներ
F26: ԸՆԴԱՄԵՆԸ ԾԱԽՍԵՐ | G26: =+G27 -> -700000 | H26: =H27 -> -1200000 | I26: =I27 -> -1200000
F27: ԸՆԹԱՑԻԿ ԾԱԽՍԵՐ | G27: =+G28 -> -700000 | H27: =H28 -> -1200000 | I27: =I28 -> -1200000
F28: ԴՐԱՄԱՇՆՈՐՀՆԵՐ | G28: =G29 -> -700000 | H28: =H29 -> -1200000 | I28: =I29 -> -1200000
F29: Կապիտալ դրամաշնորհներ պետական հատվածի այլ մակարդակներին | G29: =G30 -> -700000 | H29: =H30 -> -1200000 | I29: =I30 -> -1200000
F30: - Այլ կապիտալ դրամաշնորհներ | G30: =-700000 -> -700000 | H30: =-1200000 -> -1200000 | I30: =-1200000 -> -1200000
A31: 04 | D31: 1192 | E31: 11010 | F31: ՏՆՏԵՍԱԿԱՆ ՀԱՐԱԲԵՐՈՒԹՅՈՒՆՆԵՐ | G31: =G33 -> -500000 | H31: =H33 -> 0 | I31: =I33 -> 0
B32: 02 | F32: այդ թվում`
F33: Գյուղատնտեսություն, անտառային տնտեսություն, ձկնորսություն և որսորդություն | G33: =G35 -> -500000 | H33: =H35 -> 0 | I33: =I35 -> 0
F34: այդ թվում`
C35: 04 | F35: Ոռոգում | G35: =+G38 -> -500000 | H35: =+H38 -> 0 | I35: =+I38 -> 0
F36: այդ թվում`
F37: ՀՀ տարածքային կառավարման և ենթակառուցվածքների նախարարություն
D38: 1004 | E38: Ոռոգման համակարգի առողջացում | G38: =+G40 -> -500000 | H38: =+H40 -> 0 | I38: =+I40 -> 0
F39: այդ թվում`
F40: Ոռոգման ծառայություններ մատուցող ընկերություններին ֆինանսական աջակցության տրամադրում | G40: =+G42 -> -500000 | H40: =+H42 -> 0 | I40: =+I42 -> 0
E41: 11002 | F41: այդ թվում` ըստ կատարողների
F42: ՀՀ տարածքային կառավարման և ենթակառուցվածքների նախարարության ջրային կոմիտե | G42: =+G44 -> -500000 | H42: =H44 -> 0 | I42: =I44 -> 0
...

Sheet Havelvats 3
F1: Հավելված 3
F2: ՀՀ կառավարության 2021 թվականի
F3: ______________ ի ___Ն որոշման
B5: ՀԱՅԱՍՏԱՆԻ ՀԱՆՐԱՊԵՏՈՒԹՅԱՆ ԿԱՌԱՎԱՐՈՒԹՅԱՆ 2020 ԹՎԱԿԱՆԻ ԴԵԿՏԵՄԲԵՐԻ 30-Ի N 2215-Ն ՈՐՈՇՄԱՆ N 9 ՀԱՎԵԼՎԱԾԻ N 9.8 ԱՂՅՈՒՍԱԿՈՒՄ ԿԱՏԱՐՎՈՂ ՓՈՓՈԽՈՒԹՅՈՒՆՆԵՐԸ
B7: ՀՀ տարածքային կառավարման և ենթակառուցվածքների նախարարություն
B8: ՄԱՍ 2. ՊԵՏԱԿԱՆ ՄԱՐՄՆԻ ԳԾՈՎ ԱՐԴՅՈՒՆՔԱՅԻՆ (ԿԱՏԱՐՈՂԱԿԱՆ) ՑՈՒՑԱՆԻՇՆԵՐԸ
B10: Ծրագրի դասիչը | C10: Ծրագրի անվանումը
B11: 1070 | C11: Աջակցություն փախստականների ինտեգրմանը
B13: Ծրագրի միջոցառումները
B14: Ծրագրի դասիչը` | C14: 1070 | D14: Ցուցանիշների փոփոխությունը ( նվազեցումները նշված են փակագծերում)
B15: Միջոցառման դասիչը` | C15: 12003 | D15: Առաջին կիսամյակ | E15: Ինն ամիս | F15: Տարի
B16: Միջոցառման անվանումը` | C16: 1988-1992 թվականներին Ադրբեջանից բռնագաղթված և Հայաստանի Հանրապետությունում ապաստանած փախստական ընտանիքների բնակարանային ապահովում
B17: Նկարագրությունը` | C17: 1988-1992 թվականներին Ադրբեջանից բռնագաղթված և Հայաստանի Հանրապետությունում ապաստանած բնակության վայր չունեցող փախստական ընտանիքներին բնակարանային ապահովման աջակցություն
B18: Միջոցառման տեսակը` | C18: Տրանսֆերտների տրամադրում
B19: Շահառուների ընտրության չափանիշներ | C19: Ադրբեջանից բռնագաղթված, Հայաստանի Հանրապետությունում քաղաքացիություն ստացած բնակության վայր չունեցող ընտանիքներ
B20: Արդյունքի չափորոշիչներ
B21: Միջոցառման վրա կատարվող ծախսը (հազար դրամ) | D21: ='Havelvats 2 '!G20 -> -700000 | E21: ='Havelvats 2 '!H20 -> -1200000 | F21: ='Havelvats 2 '!I20 -> -1200000
B24: Ծրագրի դասիչը | C24: Ծրագրի անվանումը
B25: 1004 | C25: Ոռոգման համակարգի առողջացում
B27: Ծրագրի միջոցառումները
B28: Ծրագրի դասիչը` | C28: 1004 | D28: Ցուցանիշների փոփոխությունը ( նվազեցումները նշված են փակագծերում)
B29: Միջոցառման դասիչը` | C29: 11002 | D29: Առաջին կիսամյակ | E29: Ինն ամիս | F29: Տարի
B30: Միջոցառման անվանումը` | C30: Ոռոգման ծառայություններ մատուցող ընկերություններին ֆինանսական աջակցության տրամադրում
B31: Նկարագրությունը` | C31: Ոռոգման ոլորտի սուբսիդավորում ՋՕԸ-ների համար սահմանված ոռոգման ջրի սակագնի և նվազագույն շահավետ գնի տարբերության չափով
B32: Միջոցառման տեսակը` | C32: Ծառայությունների մատուցում
B33: Միջոցառումն իրականացնողի անվանումը | C33: Ջրօգտագործողների ընկերություններ
B34: Արդյունքի չափորոշիչներ
B35: Միջոցառման վրա կատարվող ծախսը (հազար դրամ) | D35: ='Havelvats 2 '!G38 -> -500000 | E35: ='Havelvats 2 '!H38 -> 0 | F35: ='Havelvats 2 '!I38 -> 0
B38: Ծրագրի դասիչը | C38: Ծրագրի անվանումը
B39: 1212 | C39: Տարածքային զարգացում
B41: Ծրագրի միջոցառումները
B42: Ծրագրի դասիչը` | C42: 1212 | D42: Ցուցանիշների փոփոխությունը (ավելացումները նշված են դրական նշանով)
B43: Միջոցառման դասիչը` | C43: 12025 | D43: Առաջին կիսամյակ | E43: Ինն ամիս | F43: Տարի
B44: Միջոցառման անվանումը` | C44: ='Havelvats 1'!C47 -> Մարզերում առաջնահերթ լուծում պահանջող հիմնախնդիրների լուծում
B45: Նկարագրությունը` | C45: ='Havelvats 1'!C49 -> Մարզերում առաջնահերթ լուծում պահանջող ծրագրերի իրականացում, որի արդյունքում լուծում կտրվի բնակչության և համայնքների սոցիալական նշանակություն ունեցող հիմնախնդիրներին:
B46: Միջոցառման տեսակը` | C46: Տրանսֆերտների տրամադրում
B47: Արդյունքի չափորոշիչներ
B48: Միջոցառման վրա կատարվող ծախսը (հազար դրամ) | D48: ='Havelvats 2 '!G59 -> 1200000 | E48: ='Havelvats 2 '!H59 -> 1200000 | F48: ='Havelvats 2 '!I59 -> 1200000
B52: ՀԱՅԱՍՏԱՆԻ ՀԱՆՐԱՊԵՏՈՒԹՅԱՆ ԿԱՌԱՎԱՐՈՒԹՅԱՆ 2020 ԹՎԱԿԱՆԻ ԴԵԿՏԵՄԲԵՐԻ 30-Ի N 2215-Ն ՈՐՈՇՄԱՆ N 9 ՀԱՎԵԼՎԱԾԻ N 9.47 ԱՂՅՈՒՍԱԿՈՒՄ ԿԱՏԱՐՎՈՂ ՓՈՓՈԽՈՒԹՅՈՒՆՆԵՐԸ
C54: ՀՀ կառավարություն
...

Sheet Havelvats 4
F1: Հավելված 4
F2: ՀՀ կառավարության 2021 թվականի
F3: ______________ ի ___Ն որոշման
B5: ՀԱՅԱՍՏԱՆԻ ՀԱՆՐԱՊԵՏՈՒԹՅԱՆ ԿԱՌԱՎԱՐՈՒԹՅԱՆ 2020 ԹՎԱԿԱՆԻ ԴԵԿՏԵՄԲԵՐԻ 30-Ի N 2215-Ն ՈՐՈՇՄԱՆ N 9.1 ՀԱՎԵԼՎԱԾԻ N 9.1.35 ԱՂՅՈՒՍԱԿՈՒՄ ԿԱՏԱՐՎՈՂ ՓՈՓՈԽՈՒԹՅՈՒՆՆԵՐԸ
B7: ՀՀ տարածքային կառավարման և ենթակառուցվածքների նախարարության միգրացիոն ծառայություն
B8: ՄԱՍ 1. ՊԵՏԱԿԱՆ ՄԱՐՄՆԻ ԳԾՈՎ ԱՐԴՅՈՒՆՔԱՅԻՆ (ԿԱՏԱՐՈՂԱԿԱՆ) ՑՈՒՑԱՆԻՇՆԵՐԸ
B10: Ծրագրի դասիչը | C10: Ծրագրի անվանումը
B11: 1070 | C11: Աջակցություն փախստականների ինտեգրմանը
B13: Ծրագրի միջոցառումները
B14: Ծրագրի դասիչը` | C14: 1070 | D14: Ցուցանիշների փոփոխությունը ( նվազեցումները նշված են փակագծերում)
B15: Միջոցառման դասիչը` | C15: 12003 | D15: Առաջին կիսամյակ | E15: Ինն ամիս | F15: Տարի
B16: Միջոցառման անվանումը` | C16: 1988-1992 թվականներին Ադրբեջանից բռնագաղթված և Հայաստանի Հանրապետությունում ապաստանած փախստական ընտանիքների բնակարանային ապահովում
B17: Նկարագրությունը` | C17: 1988-1992 թվականներին Ադրբեջանից բռնագաղթված և Հայաստանի Հանրապետությունում ապաստանած բնակության վայր չունեցող փախստական ընտանիքներին բնակարանային ապահովման աջակցություն
B18: Միջոցառման տեսակը` | C18: Տրանսֆերտների տրամադրում
B19: Շահառուների ընտրության չափանիշներ | C19: Ադրբեջանից բռնագաղթված, Հայաստանի Հանրապետությունում քաղաքացիություն ստացած բնակության վայր չունեցող ընտանիքներ
B20: Արդյունքի չափորոշիչներ
B21: Միջոցառման վրա կատարվող ծախսը (հազար դրամ) | D21: ='Havelvats 2 '!G20 -> -700000 | E21: ='Havelvats 2 '!H20 -> -1200000 | F21: ='Havelvats 2 '!I20 -> -1200000
B23: ՀԱՅԱՍՏԱՆԻ ՀԱՆՐԱՊԵՏՈՒԹՅԱՆ ԿԱՌԱՎԱՐՈՒԹՅԱՆ 2020 ԹՎԱԿԱՆԻ ԴԵԿՏԵՄԲԵՐԻ 30-Ի N 2215-Ն ՈՐՈՇՄԱՆ N 9.1 ՀԱՎԵԼՎԱԾԻ N 9.1.26 ԱՂՅՈՒՍԱԿՈՒՄ ԿԱՏԱՐՎՈՂ ՓՈՓՈԽՈՒԹՅՈՒՆՆԵՐԸ
B25: ՀՀ տարածքային կառավարման և ենթակառուցվածքների նախարարության ջրային կոմիտե
B26: ՄԱՍ 1. ՊԵՏԱԿԱՆ ՄԱՐՄՆԻ ԳԾՈՎ ԱՐԴՅՈՒՆՔԱՅԻՆ (ԿԱՏԱՐՈՂԱԿԱՆ) ՑՈՒՑԱՆԻՇՆԵՐԸ
B28: Ծրագրի դասիչը | C28: Ծրագրի անվանումը
B29: 1004 | C29: Ոռոգման համակարգի առողջացում
B31: Ծրագրի միջոցառումները
B32: Ծրագրի դասիչը` | C32: 1004 | D32: Ցուցանիշների փոփոխությունը ( նվազեցումները նշված են փակագծերում)
B33: Միջոցառման դասիչը` | C33: 11002 | D33: Առաջին կիսամյակ | E33: Ինն ամիս | F33: Տարի
B34: Միջոցառման անվանումը` | C34: Ոռոգման ծառայություններ մատուցող ընկերություններին ֆինանսական աջակցության տրամադրում
B35: Նկարագրությունը` | C35: Ոռոգման ոլորտի սուբսիդավորում ՋՕԸ-ների համար սահմանված ոռոգման ջրի սակագնի և նվազագույն շահավետ գնի տարբերության չափով
B36: Միջոցառման տեսակը` | C36: Ծառայությունների մատուցում
B37: Միջոցառումն իրականացնողի անվանումը | C37: Ջրօգտագործողների ընկերություններ
B38: Արդյունքի չափորոշիչներ
B39: Միջոցառման վրա կատարվող ծախսը (հազար դրամ) | D39: ='Havelvats 2 '!G38 -> -500000 | E39: ='Havelvats 2 '!H38 -> 0 | F39: ='Havelvats 2 '!I38 -> 0
B41: ՀԱՅԱՍՏԱՆԻ ՀԱՆՐԱՊԵՏՈՒԹՅԱՆ ԿԱՌԱՎԱՐՈՒԹՅԱՆ 2019 ԹՎԱԿԱՆԻ ԴԵԿՏԵՄԲԵՐԻ 26-Ի N 1919-Ն ՈՐՈՇՄԱՆ N 9.1 ՀԱՎԵԼՎԱԾԻ N 9.1.48 ԱՂՅՈՒՍԱԿՈՒՄ ԿԱՏԱՐՎՈՂ ՓՈՓՈԽՈՒԹՅՈՒՆՆԵՐԸ
B43: ՀՀ Արագածոտնի մարզպետարան
B44: ՄԱՍ 1. ՊԵՏԱԿԱՆ ՄԱՐՄՆԻ ԳԾՈՎ ԱՐԴՅՈՒՆՔԱՅԻՆ (ԿԱՏԱՐՈՂԱԿԱՆ) ՑՈՒՑԱՆԻՇՆԵՐԸ
B46: Ծրագրի դասիչը | C46: Ծրագրի անվանումը
B47: 1212 | C47: Տարածքային զարգացում
B49: Ծրագրի միջոցառումները
B50: Ծրագրի դասիչը` | C50: 1212 | D50: Ցուցանիշների փոփոխությունը (ավելացումները նշված են դրական նշանով)
B51: Միջոցառման դասիչը` | C51: 12025 | D51: Առաջին կիսամյակ | E51: Ինն ամիս | F51: Տարի
B52: Միջոցառման անվանումը` | C52: ='Havelvats 1'!C47 -> Մարզերում առաջնահերթ լուծում պահանջող հիմնախնդիրների լուծում
...

Sheet Havelvats 5
H1: Հավելված N 5
H2: ՀՀ կառավարության 2021 թվականի
H3: ______________ ի ___Ն որոշման
A5: ՀԱՅԱՍՏԱՆԻ ՀԱՆՐԱՊԵՏՈՒԹՅԱՆ 2021 ԹՎԱԿԱՆԻ ՊԵՏԱԿԱՆ ԲՅՈՒՋԵՈՎ ՆԱԽԱՏԵՍՎԱԾ՝ ՀԱՅԱՍՏԱՆԻ ՀԱՆՐԱՊԵՏՈՒԹՅԱՆ ԿԱՌԱՎԱՐՈՒԹՅԱՆ ՊԱՀՈՒՍՏԱՅԻՆ ՖՈՆԴԻՑ ՀԱՏԿԱՑՈՒՄՆԵՐ ԿԱՏԱՐԵԼՈՒ ՎԵՐԱԲԵՐՅԱԼ
H7: հազ. դրամներով
A8: Գործառական դասիչը | D8: Ծրագրային դասիչը | F8: Բյուջետային հատկացումների գլխավոր կարգադրիչների, ծրագրերի, միջոցառումների և միջոցառումները կատարող պետական մարմինների անվանումները | G8: Ցուցանիշների փոփոխությունը (ավելացումները նշված են դրական նշանով, իսկ նվազեցումները` փակագծերում)
A9: Բաժին | B9: Խումբ | C9: Դաս | D9: Ծրագիր | E9: Միջոցառում | G9: Առաջին կիսամյակ | H9: Ինն ամիս | I9: Տարի
F10: ԸՆԴԱՄԵՆԸ | G10: =G12+G124 -> 0 | H10: =H12+H124 -> 0 | I10: =I12+I124 -> 0
F11: այդ թվում
F12: ՀՀ տարածքային կառավարման և ենթակառուցվածքների նախարարություն | G12: =G13+G31+G49 -> 0 | H12: =H13+H31+H49 -> 0 | I12: =I13+I31+I49 -> 0
A13: 10 | D13: 1192 | E13: 11010 | F13: ՍՈՑԻԱԼԱԿԱՆ ՊԱՇՏՊԱՆՈՒԹՅՈՒՆ | G13: =G15 -> -700000 | H13: =H15 -> -1200000 | I13: =I15 -> -1200000
B14: 06 | F14: այդ թվում`
F15: Բնակարանային ապահովում | G15: =G17 -> -700000 | H15: =H17 -> -1200000 | I15: =I17 -> -1200000
F16: այդ թվում`
C17: 01 | F17: Բնակարանային ապահովում | G17: =+G20 -> -700000 | H17: =+H20 -> -1200000 | I17: =+I20 -> -1200000
F18: այդ թվում`
F19: ՀՀ տարածքային կառավարման և ենթակառուցվածքների նախարարություն
D20: 1070 | E20: Աջակցություն փախստականների ինտեգրմանը | G20: =+G22 -> -700000 | H20: =+H22 -> -1200000 | I20: =+I22 -> -1200000
F21: այդ թվում`
F22: 1988-1992 թվականներին Ադրբեջանից բռնագաղթված և Հայաստանի Հանրապետությունում ապաստանած փախստական ընտանիքների բնակարանային ապահովում | G22: =+G24 -> -700000 | H22: =+H24 -> -1200000 | I22: =+I24 -> -1200000
E23: 12003 | F23: այդ թվում` ըստ կատարողների
F24: ՀՀ տարածքային կառավարման և ենթակառուցվածքների նախարարության միգրացիոն ծառայություն | G24: =+G26 -> -700000 | H24: =H26 -> -1200000 | I24: =I26 -> -1200000
F25: այդ թվում` բյուջետային ծախսերի տնտեսագիտական դասակարգման հոդվածներ
F26: ԸՆԴԱՄԵՆԸ ԾԱԽՍԵՐ | G26: =+G27 -> -700000 | H26: =H27 -> -1200000 | I26: =I27 -> -1200000
F27: ԸՆԹԱՑԻԿ ԾԱԽՍԵՐ | G27: =+G28 -> -700000 | H27: =H28 -> -1200000 | I27: =I28 -> -1200000
F28: ԴՐԱՄԱՇՆՈՐՀՆԵՐ | G28: =G29 -> -700000 | H28: =H29 -> -1200000 | I28: =I29 -> -1200000
F29: Կապիտալ դրամաշնորհներ պետական հատվածի այլ մակարդակներին | G29: =G30 -> -700000 | H29: =H30 -> -1200000 | I29: =I30 -> -1200000
F30: - Այլ կապիտալ դրամաշնորհներ | G30: =-700000 -> -700000 | H30: =-1200000 -> -1200000 | I30: =-1200000 -> -1200000
A31: 04 | D31: 1192 | E31: 11010 | F31: ՏՆՏԵՍԱԿԱՆ ՀԱՐԱԲԵՐՈՒԹՅՈՒՆՆԵՐ | G31: =G33 -> -500000 | H31: =H33 -> 0 | I31: =I33 -> 0
B32: 02 | F32: այդ թվում`
F33: Գյուղատնտեսություն, անտառային տնտեսություն, ձկնորսություն և որսորդություն | G33: =G35 -> -500000 | H33: =H35 -> 0 | I33: =I35 -> 0
F34: այդ թվում`
C35: 04 | F35: Ոռոգում | G35: =+G38 -> -500000 | H35: =+H38 -> 0 | I35: =+I38 -> 0
F36: այդ թվում`
F37: ՀՀ տարածքային կառավարման և ենթակառուցվածքների նախարարություն
D38: 1004 | E38: Ոռոգման համակարգի առողջացում | G38: =+G40 -> -500000 | H38: =+H40 -> 0 | I38: =+I40 -> 0
F39: այդ թվում`
F40: Ոռոգման ծառայություններ մատուցող ընկերություններին ֆինանսական աջակցության տրամադրում | G40: =+G42 -> -500000 | H40: =+H42 -> 0 | I40: =+I42 -> 0
E41: 11002 | F41: այդ թվում` ըստ կատարողների
F42: ՀՀ տարածքային կառավարման և ենթակառուցվածքների նախարարության ջրային կոմիտե | G42: =+G44 -> -500000 | H42: =H44 -> 0 | I42: =I44 -> 0
...
