Workbook
Name AgencyCode: #REF!
Name AgencyCode: #REF!
Name AgencyCode: #REF!
Name AgencyName: #REF!
Name AgencyName: #REF!
Name AgencyName: #REF!
Name davit: #REF!
Name davit: #REF!
Name Functional1: #REF!
Name Functional1: #REF!
Name Functional1: #REF!
Name ggg: #REF!
Name ggg: #REF!
Name PANature: #REF!
Name PANature: #REF!
Name PANature: #REF!
Name PAType: #REF!
Name PAType: #REF!
Name PAType: #REF!
Name Performance2: #REF!
Name Performance2: #REF!
Name Performance2: #REF!
Name PerformanceType: #REF!
Name PerformanceType: #REF!
Name PerformanceType: #REF!
Name Հավելված: #REF!
Name Հավելված: #REF!
Name Մաս: #REF!
Name Մաս: #REF!
Name շախմատիստ: #REF!
Name շախմատիստ: #REF!

Sheet Havelvats 1
E1: Հավելված N 1
E2: ՀՀ կառավարության 2021 թվականի
E3: ______________ ի ___Ն որոշման
A5: «ՀԱՅԱUՏԱՆԻ ՀԱՆՐԱՊԵՏՈՒԹՅԱՆ 2020 ԹՎԱԿԱՆԻ ՊԵՏԱԿԱՆ ԲՅՈՒՋԵԻ ՄԱUԻՆ» ՀՀ OՐԵՆՔԻ N 1 ՀԱՎԵԼՎԱԾԻ N 2 ԱՂՅՈՒՍԱԿՈՒՄ ԿԱՏԱՐՎՈՂ ՎԵՐԱԲԱՇԽՈՒՄԸ ԵՎ ՀԱՅԱՍՏԱՆԻ ՀԱՆՐԱՊԵՏՈՒԹՅԱՆ ԿԱՌԱՎԱՐՈՒԹՅԱՆ 2020 ԹՎԱԿԱՆԻ ԴԵԿՏԵՄԲԵՐԻ 30-Ի N 2215-Ն ՈՐՈՇՄԱՆ N 5 ՀԱՎԵԼՎԱԾԻ N 1 ԱՂՅՈՒՍԱԿՈՒՄ ԿԱՏԱՐՎՈՂ ՓՈՓՈԽՈՒԹՅՈՒՆՆԵՐԸ ԵՎ ԼՐԱՑՈՒՄՆԵՐԸ
E7: հազ. դրամներով
A8: Ծրագրային դասիչը | C8: Բյուջետային հատկացումների գլխավոր կարգադրիչների, ծրագրերի և միջոցառումների անվանումները | D8: Ցուցանիշների փոփոխությունը (ավելացումները նշված են դրական նշանով, իսկ նվազեցումները` փակագծերում)
A9: Ծրագիր | B9: Միջոցառում | D9: Առաջին կիսամյակ | E9: Ինն ամիս | F9: Տարի
A10: 1192 | C10: ԸՆԴԱՄԵՆԸ | D10: =+D12+D52 -> 0 | E10: =+E12+E52 -> 0 | F10: =+F12+F52 -> 0
C11: այդ թվում
B12: ՀՀ տարածքային կառավարման և ենթակառուցվածքների նախարարություն | D12: =+D14+D40+D27 -> 0 | E12: =+E14+E40+E27 -> 0 | F12: =+F14+F40+F27 -> 0
A13: 1070 | C13: Ծրագրի անվանումը`
C14: Աջակցություն փախստականների ինտեգրմանը | D14: =D21 -> -700000 | E14: =E21 -> -1200000 | F14: =F21 -> -1200000
C15: Ծրագրի նպատակը`
C16: Փախստականների ինտեգրում հասարակություն
C17: Վերջնական արդյունքի նկարագրությունը`
C18: Փախստականներին մատուցվող ծառայությունների ընդգրկման և ծառայությունների շրջանակի ընդլայնում
C19: Ծրագրի միջոցառումներ
B20: 12003 | C20: Միջոցառման անվանումը`
C21: 1988-1992 թվականներին Ադրբեջանից բռնագաղթված և Հայաստանի Հանրապետությունում ապաստանած փախստական ընտանիքների բնակարանային ապահովում | D21: ='Havelvats 2 '!G20 -> -700000 | E21: ='Havelvats 2 '!H20 -> -1200000 | F21: ='Havelvats 2 '!I20 -> -1200000
C22: Միջոցառման նկարագրությունը`
C23: 1988-1992 թվականներին Ադրբեջանից բռնագաղթված և Հայաստանի Հանրապետությունում ապաստանած բնակության վայր չունեցող փախստական ընտանիքներին բնակարանային ապահովման աջակցություն
C24: Միջոցառման տեսակը
C25: Տրանսֆերտների տրամադրում
A26: 1004 | C26: Ծրագրի անվանումը`
C27: Ոռոգման համակարգի առողջացում | D27: =D34 -> -500000 | E27: =E34 -> 0 | F27: =F34 -> 0
C28: Ծրագրի նպատակը`
C29: Ոռոգման ծառայությունների հասանելիության և մատչելիության ապահովում
C30: Վերջնական արդյունքի նկարագրությունը`
C31: Ոռոգման ջրի մատակարարման արդյունավետության և հասանելիության բարելավում, կորուստների կրճատում
C32: Ծրագրի միջոցառումներ
B33: 11002 | C33: Միջոցառման անվանումը`
C34: Ոռոգման ծառայություններ մատուցող ընկերություններին ֆինանսական աջակցության տրամադրում | D34: ='Havelvats 2 '!G48 -> -500000 | E34: ='Havelvats 2 '!H48 -> 0 | F34: ='Havelvats 2 '!I48 -> 0
C35: Միջոցառման նկարագրությունը`
C36: Ոռոգման ոլորտի սուբսիդավորում ՋՕԸ-ների համար սահմանված ոռոգման ջրի սակագնի և նվազագույն շահավետ գնի տարբերության չափով
C37: Միջոցառման տեսակը
C38: Ծառայությունների մատուցում
A39: 1212 | C39: Ծրագրի անվանումը`
C40: Տարածքային զարգացում | D40: =+D47 -> 1200000 | E40: =+E47 -> 1200000 | F40: =+F47 -> 1200000
C41: Ծրագրի նպատակը`
C42: Տարածքային համաչափ զարգացման խթանում
C43: Վերջնական արդյունքի նկարագրությունը`
C44: ՀՀ համայնքների կառավարման արդյունավետության բարձրացում և տնտեսական գործունեության խթանում
C45: Ծրագրի միջոցառումներ
B46: 12025 | C46: Միջոցառման անվանումը`
C47: Մարզերում առաջնահերթ լուծում պահանջող հիմնախնդիրների լուծում | D47: ='Havelvats 2 '!G57 -> 1200000 | E47: ='Havelvats 2 '!H57 -> 1200000 | F47: ='Havelvats 2 '!I57 -> 1200000
C48: Միջոցառման նկարագրությունը`
C49: Մարզերում առաջնահերթ լուծում պահանջող ծրագրերի իրականացում, որի արդյունքում լուծում կտրվի բնակչության և համայնքների սոցիալական նշանակություն ունեցող հիմնախնդիրներին:
C50: Միջոցառման տեսակը
C51: Տրանսֆերտների տրամադրում
B52: ՀՀ կառավարություն | C52: ՀՀ կառավարություն | D52: =+D54 -> 0 | E52: =+E54 -> 0 | F52: =+F54 -> 0
A53: 1139 | C53: Ծրագրի անվանումը`
C54: ՀՀ կառավարության պահուստային ֆոնդ | D54: =+D60+D66 -> 0 | E54: =+E60+E66 -> 0 | F54: =+F60+F66 -> 0
C55: Ծրագրի նպատակը`
C56: Պետական բյուջեում չկանխատեսված, ինչպես նաև բյուջետային երաշխիքների ապահովման ծախսերի ֆինանսավորման ապահովում
C57: Վերջնական արդյունքի նկարագրությունը`
C58: Պահուստային ֆոնդի կառավարման արդյունավետության և թափանցիկության ապահովում
B59: 11001 | C59: Միջոցառման անվանումը`
C60: ՀՀ կառավարության պահուստային ֆոնդ | D60: ='Havelvats 2 '!G150 -> -1200000 | E60: ='Havelvats 2 '!H150 -> -1200000 | F60: ='Havelvats 2 '!I150 -> -1200000
C61: Միջոցառման նկարագրությունը`
C62: ՀՀ պետական բյուջեում նախատեսված ելքերի լրացուցիչ ֆինանսավորման՝ պետական բյուջեում չկանխատեսված ելքերի, ինչպես նաև բյուջետային երաշխիքների ապահովման ելքերի ֆինանսավորման ապահովում
C63: Միջոցառման տեսակը
C64: Ծառայությունների մատուցում
B65: 11001 | C65: Միջոցառման անվանումը`
C66: ՀՀ կառավարության պահուստային ֆոնդ | D66: ='Havelvats 2 '!G142 -> 1200000 | E66: ='Havelvats 2 '!H142 -> 1200000 | F66: ='Havelvats 2 '!I142 -> 1200000
C67: Միջոցառման նկարագրությունը`
C68: ՀՀ պետական բյուջեում նախատեսված ելքերի լրացուցիչ ֆինանսավորման՝ պետական բյուջեում չկանխատեսված ելքերի, ինչպես նաև բյուջետային երաշխիքների ապահովման ելքերի ֆինանսավորման ապահովում
C69: Միջոցառման տեսակը
C70: Ծառայությունների մատուցում

Sheet Havelvats 2 
H1: Հավելված N 2
H2: ՀՀ կառավարության 2021 թվականի
H3: ______________ ի ___Ն որոշման
A5: ՀԱՅԱՍՏԱՆԻ ՀԱՆՐԱՊԵՏՈՒԹՅԱՆ ԿԱՌԱՎԱՐՈՒԹՅԱՆ 2020 ԹՎԱԿԱՆԻ ԴԵԿՏԵՄԲԵՐԻ 30-Ի N 2215-Ն ՈՐՈՇՄԱՆ N 3 ԵՎ N 4 ՀԱՎԵԼՎԱԾՆԵՐՈՒՄ ԿԱՏԱՐՎՈՂ ՓՈՓՈԽՈՒԹՅՈՒՆՆԵՐԸ ԵՎ ԼՐԱՑՈՒՄՆԵՐԸ
H7: հազ. դրամներով
A8: Գործառական դասիչը | D8: Ծրագրային դասիչը | F8: Բյուջետային հատկացումների գլխավոր կարգադրիչների, ծրագրերի, միջոցառումների և միջոցառումները կատարող պետական մարմինների անվանումները | G8: Ցուցանիշների փոփոխությունը (ավելացումները նշված են դրական նշանով, իսկ նվազեցումները` փակագծերում)
A9: Բաժին | B9: Խումբ | C9: Դաս | D9: Ծրագիր | E9: Միջոցառում | G9: Առաջին կիսամյակ | H9: Ինն ամիս | I9: Տարի
F10: ԸՆԴԱՄԵՆԸ | G10: =G12+G124 -> 0 | H10: =H12+H124 -> 0 | I10: =I12+I124 -> 0
F11: այդ թվում
F12: ՀՀ տարածքային կառավարման և ենթակառուցվածքների նախարարություն | G12: =G13+G31+G49 -> 0 | H12: =H13+H31+H49 -> 0 | I12: =I13+I31+I49 -> 0
A13: 10 | D13: 1192 | E13: 11010 | F13: ՍՈՑԻԱԼԱԿԱՆ ՊԱՇՏՊԱՆՈՒԹՅՈՒՆ | G13: =G15 -> -700000 | H13: =H15 -> -1200000 | I13: =I15 -> -1200000
B14: 06 | F14: այդ թվում`
F15: Բնակարանային ապահովում | G15: =G17 -> -700000 | H15: =H17 -> -1200000 | I15: =I17 -> -1200000
F16: այդ թվում`
C17: 01 | F17: Բնակարանային ապահովում | G17: =+G20 -> -700000 | H17: =+H20 -> -1200000 | I17: =+I20 -> -1200000
F18: այդ թվում`
F19: ՀՀ տարածքային կառավարման և ենթակառուցվածքների նախարարություն
D20: 1070 | E20: Աջակցություն փախստականների ինտեգրմանը | G20: =+G22 -> -700000 | H20: =+H22 -> -1200000 | I20: =+I22 -> -1200000
F21: այդ թվում`
F22: 1988-1992 թվականներին Ադրբեջանից բռնագաղթված և Հայաստանի Հանրապետությունում ապաստանած փախստական ընտանիքների բնակարանային ապահովում | G22: =+G24 -> -700000 | H22: =+H24 -> -1200000 | I22: =+I24 -> -1200000
E23: 12003 | F23: այդ թվում` ըստ կատարողների
F24: ՀՀ տարածքային կառավարման և ենթակառուցվածքների նախարարության միգրացիոն ծառայություն | G24: =+G26 -> -700000 | H24: =H26 -> -1200000 | I24: =I26 -> -1200000
F25: այդ թվում` բյուջետային ծախսերի տնտեսագիտական դասակարգման հոդվածներ
F26: ԸՆԴԱՄԵՆԸ ԾԱԽՍԵՐ | G26: =+G27 -> -700000 | H26: =H27 -> -1200000 | I26: =I27 -> -1200000
F27: ԸՆԹԱՑԻԿ ԾԱԽՍԵՐ | G27: =+G28 -> -700000 | H27: =H28 -> -1200000 | I27: =I28 -> -1200000
F28: ԴՐԱՄԱՇՆՈՐՀՆԵՐ | G28: =G29 -> -700000 | H28: =H29 -> -1200000 | I28: =I29 -> -1200000
F29: Կապիտալ դրամաշնորհներ պետական հատվածի այլ մակարդակներին | G29: =G30 -> -700000 | H29: =H30 -> -1200000 | I29: =I30 -> -1200000
F30: - Այլ կապիտալ դրամաշնորհներ | G30: =-700000 -> -700000 | H30: =-1200000 -> -1200000 | I30: =-1200000 -> -1200000
A31: 04 | D31: 1192 | E31: 11010 | F31: ՏՆՏԵՍԱԿԱՆ ՀԱՐԱԲԵՐՈՒԹՅՈՒՆՆԵՐ | G31: =G33 -> -500000 | H31: =H33 -> 0 | I31: =I33 -> 0
B32: 02 | F32: այդ թվում`
F33: Գյուղատնտեսություն, անտառային տնտեսություն, ձկնորսություն և որսորդություն | G33: =G35 -> -500000 | H33: =H35 -> 0 | I33: =I35 -> 0
F34: այդ թվում`
C35: 04 | F35: Ոռոգում | G35: =+G38 -> -500000 | H35: =+H38 -> 0 | I35: =+I38 -> 0
F36: այդ թվում`
F37: ՀՀ տարածքային կառավարման և ենթակառուցվածքների նախարարություն
D38: 1004 | E38: Ոռոգման համակարգի առողջացում | G38: =+G40 -> -500000 | H38: =+H40 -> 0 | I38: =+I40 -> 0
F39: այդ թվում`
F40: Ոռոգման ծառայություններ մատուցող ընկերություններին ֆինանսական աջակցության տրամադրում | G40: =+G42 -> -500000 | H40: =+H42 -> 0 | I40: =+I42 -> 0
E41: 11002 | F41: այդ թվում` ըստ կատարողների
F42: ՀՀ տարածքային կառավարման և ենթակառուցվածքների նախարարության ջրային կոմիտե | G42: =+G44 -> -500000 | H42: =H44 -> 0 | I42: =I44 -> 0
F43: այդ թվում` բյուջետային ծախսերի տնտեսագիտական դասակարգման հոդվածներ
F44: ԸՆԴԱՄԵՆԸ ԾԱԽՍԵՐ | G44: =+G45 -> -500000 | H44: =H45 -> 0 | I44: =I45 -> 0
F45: ԸՆԹԱՑԻԿ ԾԱԽՍԵՐ | G45: =+G46 -> -500000 | H45: =H46 -> 0 | I45: =I46 -> 0
F46: ՍՈՒԲՍԻԴԻԱՆԵՐ | G46: =G47 -> -500000 | H46: =H47 -> 0 | I46: =I47 -> 0
F47: Սուբսիդիաներ ոչ պետական կազմակերպություններին | G47: =G48 -> -500000 | H47: =H48 -> 0 | I47: =I48 -> 0
F48: - Սուբսիդիաներ ոչ պետական ոչ ֆինանսական կազմակերպություններին | G48: =-500000 -> -500000
A49: 01 | F49: ԸՆԴՀԱՆՈՒՐ ԲՆՈՒՅԹԻ ՀԱՆՐԱՅԻՆ ԾԱՌԱՅՈՒԹՅՈՒՆՆԵՐ | G49: =+G57 -> 1200000 | H49: =+H57 -> 1200000 | I49: =I51 -> 1200000
F50: այդ թվում`
B51: 08 | F51: Կառավարության տարբեր մակարդակների միջև իրականացվող ընդհանուր բնույթի տրանսֆերտներ | G51: =G53 -> 1200000 | H51: =H53 -> 1200000 | I51: =I53 -> 1200000
F52: այդ թվում`
C53: 01 | F53: Կառավարության տարբեր մակարդակների միջև իրականացվող ընդհանուր բնույթի տրանսֆերտներ | G53: =+G55 -> 1200000 | H53: =+H55 -> 1200000 | I53: =+I55 -> 1200000
F54: այդ թվում`
F55: ՀՀ տարածքային կառավարման և ենթակառուցվածքների նախարարություն | G55: =+G57 -> 1200000 | H55: =+H57 -> 1200000 | I55: =+I57 -> 1200000
F56: այդ թվում`
D57: 1212 | E57: Տարածքային զարգացում | G57: =+G59 -> 1200000 | H57: =+H59 -> 1200000 | I57: =+I59 -> 1200000
E58: 12025 | F58: այդ թվում`
F59: ='Havelvats 1'!C47 -> Մարզերում առաջնահերթ լուծում պահանջող հիմնախնդիրների լուծում | G59: =G61+G68+G75+G82+G89+G96+G103+G110+G117 -> 1200000 | H59: =H61+H68+H75+H82+H89+H96+H103+H110+H117 -> 1200000 | I59: =I61+I68+I75+I82+I89+I96+I103+I110+I117 -> 1200000
F60: այդ թվում`ըստ կատարողների
F61: Արագածոտնի մարզպետարան | G61: =G63 -> 120000 | H61: =H63 -> 120000 | I61: =I63 -> 120000
F62: այդ թվում` բյուջետային ծախսերի տնտեսագիտական դասակարգման հոդվածներ
F63: ԸՆԴԱՄԵՆԸ ԾԱԽՍԵՐ | G63: =+G64 -> 120000 | H63: =+H64 -> 120000 | I63: =+I64 -> 120000
F64: ԸՆԹԱՑԻԿ ԾԱԽՍԵՐ | G64: =G65 -> 120000 | H64: =H65 -> 120000 | I64: =I65 -> 120000
F65: ՍՈՑԻԱԼԱԿԱՆ ՆՊԱՍՏՆԵՐ ԵՎ ԿԵՆՍԱԹՈՇԱԿՆԵՐ | G65: =G66 -> 120000 | H65: =H66 -> 120000 | I65: =I66 -> 120000
F66: Սոցիալական օգնության դրամական արտահայտությամբ նպաստներ (բյուջեից) | G66: =G67 -> 120000 | H66: =H67 -> 120000 | I66: =I67 -> 120000
F67: - Այլ նպաստներ բյուջեից | G67: 120000 | H67: 120000 | I67: 120000
F68: Արմավիրի մարզպետարան | G68: =G70 -> 144000 | H68: =H70 -> 144000 | I68: =I70 -> 144000
F69: այդ թվում` բյուջետային ծախսերի տնտեսագիտական դասակարգման հոդվածներ
F70: ԸՆԴԱՄԵՆԸ ԾԱԽՍԵՐ | G70: =+G71 -> 144000 | H70: =+H71 -> 144000 | I70: =+I71 -> 144000
F71: ԸՆԹԱՑԻԿ ԾԱԽՍԵՐ | G71: =G72 -> 144000 | H71: =H72 -> 144000 | I71: =I72 -> 144000
F72: ՍՈՑԻԱԼԱԿԱՆ ՆՊԱՍՏՆԵՐ ԵՎ ԿԵՆՍԱԹՈՇԱԿՆԵՐ | G72: =G73 -> 144000 | H72: =H73 -> 144000 | I72: =I73 -> 144000
F73: Սոցիալական օգնության դրամական արտահայտությամբ նպաստներ (բյուջեից) | G73: =G74 -> 144000 | H73: =H74 -> 144000 | I73: =I74 -> 144000
F74: - Այլ նպաստներ բյուջեից | G74: 144000 | H74: 144000 | I74: 144000
F75: Արարատի մարզպետարան | G75: =G77 -> 144000 | H75: =H77 -> 144000 | I75: =I77 -> 144000
F76: այդ թվում` բյուջետային ծախսերի տնտեսագիտական դասակարգման հոդվածներ
F77: ԸՆԴԱՄԵՆԸ ԾԱԽՍԵՐ | G77: =+G78 -> 144000 | H77: =+H78 -> 144000 | I77: =+I78 -> 144000
F78: ԸՆԹԱՑԻԿ ԾԱԽՍԵՐ | G78: =G79 -> 144000 | H78: =H79 -> 144000 | I78: =I79 -> 144000
F79: ՍՈՑԻԱԼԱԿԱՆ ՆՊԱՍՏՆԵՐ ԵՎ ԿԵՆՍԱԹՈՇԱԿՆԵՐ | G79: =G80 -> 144000 | H79: =H80 -> 144000 | I79: =I80 -> 144000
F80: Սոցիալական օգնության դրամական արտահայտությամբ նպաստներ (բյուջեից) | G80: =G81 -> 144000 | H80: =H81 -> 144000 | I80: =I81 -> 144000
F81: - Այլ նպաստներ բյուջեից | G81: 144000 | H81: 144000 | I81: 144000
F82: Գեղարքունիքի մարզպետարան | G82: =G84 -> 144000 | H82: =H84 -> 144000 | I82: =I84 -> 144000
F83: այդ թվում` բյուջետային ծախսերի տնտեսագիտական դասակարգման հոդվածներ
F84: ԸՆԴԱՄԵՆԸ ԾԱԽՍԵՐ | G84: =+G85 -> 144000 | H84: =+H85 -> 144000 | I84: =+I85 -> 144000
F85: ԸՆԹԱՑԻԿ ԾԱԽՍԵՐ | G85: =G86 -> 144000 | H85: =H86 -> 144000 | I85: =I86 -> 144000
F86: ՍՈՑԻԱԼԱԿԱՆ ՆՊԱՍՏՆԵՐ ԵՎ ԿԵՆՍԱԹՈՇԱԿՆԵՐ | G86: =G87 -> 144000 | H86: =H87 -> 144000 | I86: =I87 -> 144000
F87: Սոցիալական օգնության դրամական արտահայտությամբ նպաստներ (բյուջեից) | G87: =G88 -> 144000 | H87: =H88 -> 144000 | I87: =I88 -> 144000
F88: - Այլ նպաստներ բյուջեից | G88: 144000 | H88: 144000 | I88: 144000
F89: Լոռու մարզպետարան | G89: =G91 -> 144000 | H89: =H91 -> 144000 | I89: =I91 -> 144000
F90: այդ թվում` բյուջետային ծախսերի տնտեսագիտական դասակարգման հոդվածներ
F91: ԸՆԴԱՄԵՆԸ ԾԱԽՍԵՐ | G91: =+G92 -> 144000 | H91: =+H92 -> 144000 | I91: =+I92 -> 144000
F92: ԸՆԹԱՑԻԿ ԾԱԽՍԵՐ | G92: =G93 -> 144000 | H92: =H93 -> 144000 | I92: =I93 -> 144000
F93: ՍՈՑԻԱԼԱԿԱՆ ՆՊԱՍՏՆԵՐ ԵՎ ԿԵՆՍԱԹՈՇԱԿՆԵՐ | G93: =G94 -> 144000 | H93: =H94 -> 144000 | I93: =I94 -> 144000
F94: Սոցիալական օգնության դրամական արտահայտությամբ նպաստներ (բյուջեից) | G94: =G95 -> 144000 | H94: =H95 -> 144000 | I94: =I95 -> 144000
F95: - Այլ նպաստներ բյուջեից | G95: 144000 | H95: 144000 | I95: 144000
F96: Կոտայքի մարզպետարան | G96: =G98 -> 120000 | H96: =H98 -> 120000 | I96: =I98 -> 120000
F97: այդ թվում` բյուջետային ծախսերի տնտեսագիտական դասակարգման հոդվածներ
F98: ԸՆԴԱՄԵՆԸ ԾԱԽՍԵՐ | G98: =+G99 -> 120000 | H98: =+H99 -> 120000 | I98: =+I99 -> 120000
F99: ԸՆԹԱՑԻԿ ԾԱԽՍԵՐ | G99: =G100 -> 120000 | H99: =H100 -> 120000 | I99: =I100 -> 120000
F100: ՍՈՑԻԱԼԱԿԱՆ ՆՊԱՍՏՆԵՐ ԵՎ ԿԵՆՍԱԹՈՇԱԿՆԵՐ | G100: =G101 -> 120000 | H100: =H101 -> 120000 | I100: =I101 -> 120000
F101: Սոցիալական օգնության դրամական արտահայտությամբ նպաստներ (բյուջեից) | G101: =G102 -> 120000 | H101: =H102 -> 120000 | I101: =I102 -> 120000
F102: - Այլ նպաստներ բյուջեից | G102: 120000 | H102: 120000 | I102: 120000
...

Sheet Havelvats 3
F1: Հավելված 3
F2: ՀՀ կառավարության 2021 թվականի
F3: ______________ ի ___Ն որոշման
B5: ՀԱՅԱՍՏԱՆԻ ՀԱՆՐԱՊԵՏՈՒԹՅԱՆ ԿԱՌԱՎԱՐՈՒԹՅԱՆ 2020 ԹՎԱԿԱՆԻ ԴԵԿՏԵՄԲԵՐԻ 30-Ի N 2215-Ն ՈՐՈՇՄԱՆ N 9 ՀԱՎԵԼՎԱԾԻ N 9.8 ԱՂՅՈՒՍԱԿՈՒՄ ԿԱՏԱՐՎՈՂ ՓՈՓՈԽՈՒԹՅՈՒՆՆԵՐԸ
B7: ՀՀ տարածքային կառավարման և ենթակառուցվածքների նախարարություն
B8: ՄԱՍ 2. ՊԵՏԱԿԱՆ ՄԱՐՄՆԻ ԳԾՈՎ ԱՐԴՅՈՒՆՔԱՅԻՆ (ԿԱՏԱՐՈՂԱԿԱՆ) ՑՈՒՑԱՆԻՇՆԵՐԸ
B10: Ծրագրի դասիչը | C10: Ծրագրի անվանումը
B11: 1070 | C11: Աջակցություն փախստականների ինտեգրմանը
B13: Ծրագրի միջոցառումները
B14: Ծրագրի դասիչը` | C14: 1070 | D14: Ցուցանիշների փոփոխությունը ( նվազեցումները նշված են փակագծերում)
B15: Միջոցառման դասիչը` | C15: 12003 | D15: Առաջին կիսամյակ | E15: Ինն ամիս | F15: Տարի
B16: Միջոցառման անվանումը` | C16: 1988-1992 թվականներին Ադրբեջանից բռնագաղթված և Հայաստանի Հանրապետությունում ապաստանած փախստական ընտանիքների բնակարանային ապահովում
B17: Նկարագրությունը` | C17: 1988-1992 թվականներին Ադրբեջանից բռնագաղթված և Հայաստանի Հանրապետությունում ապաստանած բնակության վայր չունեցող փախստական ընտանիքներին բնակարանային ապահովման աջակցություն
B18: Միջոցառման տեսակը` | C18: Տրանսֆերտների տրամադրում
B19: Շահառուների ընտրության չափանիշներ | C19: Ադրբեջանից բռնագաղթված, Հայաստանի Հանրապետությունում քաղաքացիություն ստացած բնակության վայր չունեցող ընտանիքներ
B20: Արդյունքի չափորոշիչներ
B21: Միջոցառման վրա կատարվող ծախսը (հազար դրամ) | D21: ='Havelvats 2 '!G20 -> -700000 | E21: ='Havelvats 2 '!H20 -> -1200000 | F21: ='Havelvats 2 '!I20 -> -1200000
B24: Ծրագրի դասիչը | C24: Ծրագրի անվանումը
B25: 1004 | C25: Ոռոգման համակարգի առողջացում
B27: Ծրագրի միջոցառումները
B28: Ծրագրի դասիչը` | C28: 1004 | D28: Ցուցանիշների փոփոխությունը ( նվազեցումները նշված են փակագծերում)
B29: Միջոցառման դասիչը` | C29: 11002 | D29: Առաջին կիսամյակ | E29: Ինն ամիս | F29: Տարի
B30: Միջոցառման անվանումը` | C30: Ոռոգման ծառայություններ մատուցող ընկերություններին ֆինանսական աջակցության տրամադրում
B31: Նկարագրությունը` | C31: Ոռոգման ոլորտի սուբսիդավորում ՋՕԸ-ների համար սահմանված ոռոգման ջրի սակագնի և նվազագույն շահավետ գնի տարբերության չափով
B32: Միջոցառման տեսակը` | C32: Ծառայությունների մատուցում
B33: Միջոցառումն իրականացնողի անվանումը | C33: Ջրօգտագործողների ընկերություններ
B34: Արդյունքի չափորոշիչներ
B35: Միջոցառման վրա կատարվող ծախսը (հազար դրամ) | D35: ='Havelvats 2 '!G38 -> -500000 | E35: ='Havelvats 2 '!H38 -> 0 | F35: ='Havelvats 2 '!I38 -> 0
B38: Ծրագրի դասիչը | C38: Ծրագրի անվանումը
B39: 1212 | C39: Տարածքային զարգացում
B41: Ծրագրի միջոցառումները
B42: Ծրագրի դասիչը` | C42: 1212 | D42: Ցուցանիշների փոփոխությունը (ավելացումները նշված են դրական նշանով)
B43: Միջոցառման դասիչը` | C43: 12025 | D43: Առաջին կիսամյակ | E43: Ինն ամիս | F43: Տարի
B44: Միջոցառման անվանումը` | C44: ='Havelvats 1'!C47 -> Մարզերում առաջնահերթ լուծում պահանջող հիմնախնդիրների լուծում
B45: Նկարագրությունը` | C45: ='Havelvats 1'!C49 -> Մարզերում առաջնահերթ լուծում պահանջող ծրագրերի իրականացում, որի արդյունքում լուծում կտրվի բնակչության և համայնքների սոցիալական նշանակություն ունեցող հիմնախնդիրներին:
B46: Միջոցառման տեսակը` | C46: Տրանսֆերտների տրամադրում
B47: Արդյունքի չափորոշիչներ
B48: Միջոցառման վրա կատարվող ծախսը (հազար դրամ) | D48: ='Havelvats 2 '!G59 -> 1200000 | E48: ='Havelvats 2 '!H59 -> 1200000 | F48: ='Havelvats 2 '!I59 -> 1200000
B52: ՀԱՅԱՍՏԱՆԻ ՀԱՆՐԱՊԵՏՈՒԹՅԱՆ ԿԱՌԱՎԱՐՈՒԹՅԱՆ 2020 ԹՎԱԿԱՆԻ ԴԵԿՏԵՄԲԵՐԻ 30-Ի N 2215-Ն ՈՐՈՇՄԱՆ N 9 ՀԱՎԵԼՎԱԾԻ N 9.47 ԱՂՅՈՒՍԱԿՈՒՄ ԿԱՏԱՐՎՈՂ ՓՈՓՈԽՈՒԹՅՈՒՆՆԵՐԸ
C54: ՀՀ կառավարություն
B55: ՄԱՍ 2. ՊԵՏԱԿԱՆ ՄԱՐՄՆԻ ԳԾՈՎ ԱՐԴՅՈՒՆՔԱՅԻՆ (ԿԱՏԱՐՈՂԱԿԱՆ) ՑՈՒՑԱՆԻՇՆԵՐԸ
B58: Ծրագրի դասիչը | C58: Ծրագրի անվանումը
B59: 1139 | C59: ՀՀ կառավարության պահուստային ֆոնդ
B61: Ծրագրի միջոցառումները
B62: Ծրագրի դասիչը՝ | C62: 1139 | D62: Ցուցանիշների փոփոխությունը (ավելացումները նշված են դրական նշանով)
B63: Միջոցառման դասիչը՝ | C63: 11001 | D63: Առաջին կիսամսյակ | E63: Ինն ամիս | F63: Տարի
B64: Միջոցառման անվանումը՝ | C64: ՀՀ կառավարության պահուստային ֆոնդ
B65: Նկարագրությունը՝ | C65: ՀՀ պետական բյուջեում նախատեսված ելքերի լրացուցիչ ֆինանսավորման՝ պետական բյուջեում չկանխատեսված ելքերի, ինչպես նաև բյուջետային երաշխիքների ապահովման ելքերի ֆինանսավորման ապահովում
B66: Միջոցառման տեսակը՝ | C66: Ծառայությունների մատուցում
B67: Միջոցառումն իրականացնողի անվանումը | C67: ՀՀ կառավարություն
C68: Արդյունքի չափորոշիչներ
B69: Միջոցառման վրա կատարվող ծախսը (հազար դրամ) | D69: ='Havelvats 2 '!G135 -> 1200000 | E69: ='Havelvats 2 '!H135 -> 1200000 | F69: ='Havelvats 2 '!I135 -> 1200000
B71: Ծրագրի դասիչը՝ | C71: 1139 | D71: Ցուցանիշների փոփոխությունը ( նվազեցումները նշված են փակագծերում)
B72: Միջոցառման դասիչը՝ | C72: 11001 | D72: Առաջին կիսամսյակ | E72: Ինն ամիս | F72: Տարի
B73: Միջոցառման անվանումը՝ | C73: ՀՀ կառավարության պահուստային ֆոնդ
B74: Նկարագրությունը՝ | C74: ՀՀ պետական բյուջեում նախատեսված ելքերի լրացուցիչ ֆինանսավորման՝ պետական բյուջեում չկանխատեսված ելքերի, ինչպես նաև բյուջետային երաշխիքների ապահովման ելքերի ֆինանսավորման ապահովում
B75: Միջոցառման տեսակը՝ | C75: Ծառայությունների մատուցում
B76: Միջոցառումն իրականացնողի անվանումը | C76: ՀՀ կառավարություն
C77: Արդյունքի չափորոշիչներ
B78: Միջոցառման վրա կատարվող ծախսը (հազար դրամ) | D78: ='Havelvats 2 '!G143 -> -1200000 | E78: ='Havelvats 2 '!H143 -> -1200000 | F78: ='Havelvats 2 '!I143 -> -1200000

Sheet Havelvats 4
F1: Հավելված 4
F2: ՀՀ կառավարության 2021 թվականի
F3: ______________ ի ___Ն որոշման
B5: ՀԱՅԱՍՏԱՆԻ ՀԱՆՐԱՊԵՏՈՒԹՅԱՆ ԿԱՌԱՎԱՐՈՒԹՅԱՆ 2020 ԹՎԱԿԱՆԻ ԴԵԿՏԵՄԲԵՐԻ 30-Ի N 2215-Ն ՈՐՈՇՄԱՆ N 9.1 ՀԱՎԵԼՎԱԾԻ N 9.1.35 ԱՂՅՈՒՍԱԿՈՒՄ ԿԱՏԱՐՎՈՂ ՓՈՓՈԽՈՒԹՅՈՒՆՆԵՐԸ
B7: ՀՀ տարածքային կառավարման և ենթակառուցվածքների նախարարության միգրացիոն ծառայություն
B8: ՄԱՍ 1. ՊԵՏԱԿԱՆ ՄԱՐՄՆԻ ԳԾՈՎ ԱՐԴՅՈՒՆՔԱՅԻՆ (ԿԱՏԱՐՈՂԱԿԱՆ) ՑՈՒՑԱՆԻՇՆԵՐԸ
B10: Ծրագրի դասիչը | C10: Ծրագրի անվանումը
B11: 1070 | C11: Աջակցություն փախստականների ինտեգրմանը
B13: Ծրագրի միջոցառումները
B14: Ծրագրի դասիչը` | C14: 1070 | D14: Ցուցանիշների փոփոխությունը ( նվազեցումները նշված են փակագծերում)
B15: Միջոցառման դասիչը` | C15: 12003 | D15: Առաջին կիսամյակ | E15: Ինն ամիս | F15: Տարի
B16: Միջոցառման անվանումը` | C16: 1988-1992 թվականներին Ադրբեջանից բռնագաղթված և Հայաստանի Հանրապետությունում ապաստանած փախստական ընտանիքների բնակարանային ապահովում
B17: Նկարագրությունը` | C17: 1988-1992 թվականներին Ադրբեջանից բռնագաղթված և Հայաստանի Հանրապետությունում ապաստանած բնակության վայր չունեցող փախստական ընտանիքներին բնակարանային ապահովման աջակցություն
B18: Միջոցառման տեսակը` | C18: Տրանսֆերտների տրամադրում
B19: Շահառուների ընտրության չափանիշներ | C19: Ադրբեջանից բռնագաղթված, Հայաստանի Հանրապետությունում քաղաքացիություն ստացած բնակության վայր չունեցող ընտանիքներ
B20: Արդյունքի չափորոշիչներ
B21: Միջոցառման վրա կատարվող ծախսը (հազար դրամ) | D21: ='Havelvats 2 '!G20 -> -700000 | E21: ='Havelvats 2 '!H20 -> -1200000 | F21: ='Havelvats 2 '!I20 -> -1200000
B23: ՀԱՅԱՍՏԱՆԻ ՀԱՆՐԱՊԵՏՈՒԹՅԱՆ ԿԱՌԱՎԱՐՈՒԹՅԱՆ 2020 ԹՎԱԿԱՆԻ ԴԵԿՏԵՄԲԵՐԻ 30-Ի N 2215-Ն ՈՐՈՇՄԱՆ N 9.1 ՀԱՎԵԼՎԱԾԻ N 9.1.26 ԱՂՅՈՒՍԱԿՈՒՄ ԿԱՏԱՐՎՈՂ ՓՈՓՈԽՈՒԹՅՈՒՆՆԵՐԸ
B25: ՀՀ տարածքային կառավարման և ենթակառուցվածքների նախարարության ջրային կոմիտե
B26: ՄԱՍ 1. ՊԵՏԱԿԱՆ ՄԱՐՄՆԻ ԳԾՈՎ ԱՐԴՅՈՒՆՔԱՅԻՆ (ԿԱՏԱՐՈՂԱԿԱՆ) ՑՈՒՑԱՆԻՇՆԵՐԸ
B28: Ծրագրի դասիչը | C28: Ծրագրի անվանումը
B29: 1004 | C29: Ոռոգման համակարգի առողջացում
B31: Ծրագրի միջոցառումները
B32: Ծրագրի դասիչը` | C32: 1004 | D32: Ցուցանիշների փոփոխությունը ( նվազեցումները նշված են փակագծերում)
B33: Միջոցառման դասիչը` | C33: 11002 | D33: Առաջին կիսամյակ | E33: Ինն ամիս | F33: Տարի
B34: Միջոցառման անվանումը` | C34: Ոռոգման ծառայություններ մատուցող ընկերություններին ֆինանսական աջակցության տրամադրում
B35: Նկարագրությունը` | C35: Ոռոգման ոլորտի սուբսիդավորում ՋՕԸ-ների համար սահմանված ոռոգման ջրի սակագնի և նվազագույն շահավետ գնի տարբերության չափով
B36: Միջոցառման տեսակը` | C36: Ծառայությունների մատուցում
B37: Միջոցառումն իրականացնողի անվանումը | C37: Ջրօգտագործողների ընկերություններ
B38: Արդյունքի չափորոշիչներ
B39: Միջոցառման վրա կատարվող ծախսը (հազար դրամ) | D39: ='Havelvats 2 '!G38 -> -500000 | E39: ='Havelvats 2 '!H38 -> 0 | F39: ='Havelvats 2 '!I38 -> 0
B41: ՀԱՅԱՍՏԱՆԻ ՀԱՆՐԱՊԵՏՈՒԹՅԱՆ ԿԱՌԱՎԱՐՈՒԹՅԱՆ 2019 ԹՎԱԿԱՆԻ ԴԵԿՏԵՄԲԵՐԻ 26-Ի N 1919-Ն ՈՐՈՇՄԱՆ N 9.1 ՀԱՎԵԼՎԱԾԻ N 9.1.48 ԱՂՅՈՒՍԱԿՈՒՄ ԿԱՏԱՐՎՈՂ ՓՈՓՈԽՈՒԹՅՈՒՆՆԵՐԸ
B43: ՀՀ Արագածոտնի մարզպետարան
B44: ՄԱՍ 1. ՊԵՏԱԿԱՆ ՄԱՐՄՆԻ ԳԾՈՎ ԱՐԴՅՈՒՆՔԱՅԻՆ (ԿԱՏԱՐՈՂԱԿԱՆ) ՑՈՒՑԱՆԻՇՆԵՐԸ
B46: Ծրագրի դասիչը | C46: Ծրագրի անվանումը
B47: 1212 | C47: Տարածքային զարգացում
B49: Ծրագրի միջոցառումները
B50: Ծրագրի դասիչը` | C50: 1212 | D50: Ցուցանիշների փոփոխությունը (ավելացումները նշված են դրական նշանով)
B51: Միջոցառման դասիչը` | C51: 12025 | D51: Առաջին կիսամյակ | E51: Ինն ամիս | F51: Տարի
B52: Միջոցառման անվանումը` | C52: ='Havelvats 1'!C47 -> Մարզերում առաջնահերթ լուծում պահանջող հիմնախնդիրների լուծում
B53: Նկարագրությունը` | C53: ='Havelvats 1'!C49 -> Մարզերում առաջնահերթ լուծում պահանջող ծրագրերի իրականացում, որի արդյունքում լուծում կտրվի բնակչության և համայնքների սոցիալական նշանակություն ունեցող հիմնախնդիրներին:
B54: Միջոցառման տեսակը` | C54: Տրանսֆերտների տրամադրում
B55: Արդյունքի չափորոշիչներ
B56: Միջոցառման վրա կատարվող ծախսը (հազար դրամ) | D56: ='Havelvats 2 '!G61 -> 120000 | E56: ='Havelvats 2 '!H61 -> 120000 | F56: ='Havelvats 2 '!I61 -> 120000
B58: ՀԱՅԱՍՏԱՆԻ ՀԱՆՐԱՊԵՏՈՒԹՅԱՆ ԿԱՌԱՎԱՐՈՒԹՅԱՆ 2019 ԹՎԱԿԱՆԻ ԴԵԿՏԵՄԲԵՐԻ 26-Ի N 1919-Ն ՈՐՈՇՄԱՆ N 9.1 ՀԱՎԵԼՎԱԾԻ N 9.1.49 ԱՂՅՈՒՍԱԿՈՒՄ ԿԱՏԱՐՎՈՂ ՓՈՓՈԽՈՒԹՅՈՒՆՆԵՐԸ
B60: ՀՀ Արարատի մարզպետարան
B61: ՄԱՍ 1. ՊԵՏԱԿԱՆ ՄԱՐՄՆԻ ԳԾՈՎ ԱՐԴՅՈՒՆՔԱՅԻՆ (ԿԱՏԱՐՈՂԱԿԱՆ) ՑՈՒՑԱՆԻՇՆԵՐԸ
B63: Ծրագրի դասիչը | C63: Ծրագրի անվանումը
B64: 1212 | C64: Տարածքային զարգացում
B66: Ծրագրի միջոցառումները
B67: Ծրագրի դասիչը` | C67: 1212 | D67: Ցուցանիշների փոփոխությունը (ավելացումները նշված են դրական նշանով)
B68: Միջոցառման դասիչը` | C68: 12025 | D68: Առաջին կիսամյակ | E68: Ինն ամիս | F68: Տարի
B69: Միջոցառման անվանումը` | C69: ='Havelvats 1'!C47 -> Մարզերում առաջնահերթ լուծում պահանջող հիմնախնդիրների լուծում
B70: Նկարագրությունը` | C70: ='Havelvats 1'!C49 -> Մարզերում առաջնահերթ լուծում պահանջող ծրագրերի իրականացում, որի արդյունքում լուծում կտրվի բնակչության և համայնքների սոցիալական նշանակություն ունեցող հիմնախնդիրներին:
B71: Միջոցառման տեսակը` | C71: Տրանսֆերտների տրամադրում
B72: Արդյունքի չափորոշիչներ
B73: Միջոցառման վրա կատարվող ծախսը (հազար դրամ) | D73: ='Havelvats 2 '!G75 -> 144000 | E73: ='Havelvats 2 '!H75 -> 144000 | F73: ='Havelvats 2 '!I75 -> 144000
B75: ՀԱՅԱՍՏԱՆԻ ՀԱՆՐԱՊԵՏՈՒԹՅԱՆ ԿԱՌԱՎԱՐՈՒԹՅԱՆ 2019 ԹՎԱԿԱՆԻ ԴԵԿՏԵՄԲԵՐԻ 26-Ի N 1919-Ն ՈՐՈՇՄԱՆ N 9.1 ՀԱՎԵԼՎԱԾԻ N 9.1.50 ԱՂՅՈՒՍԱԿՈՒՄ ԿԱՏԱՐՎՈՂ ՓՈՓՈԽՈՒԹՅՈՒՆՆԵՐԸ
B77: ՀՀ Արմավիրի մարզպետարան
B78: ՄԱՍ 1. ՊԵՏԱԿԱՆ ՄԱՐՄՆԻ ԳԾՈՎ ԱՐԴՅՈՒՆՔԱՅԻՆ (ԿԱՏԱՐՈՂԱԿԱՆ) ՑՈՒՑԱՆԻՇՆԵՐԸ
B80: Ծրագրի դասիչը | C80: Ծրագրի անվանումը
B81: 1212 | C81: Տարածքային զարգացում
B83: Ծրագրի միջոցառումները
B84: Ծրագրի դասիչը` | C84: 1212 | D84: Ցուցանիշների փոփոխությունը (ավելացումները նշված են դրական նշանով)
B85: Միջոցառման դասիչը` | C85: 12025 | D85: Առաջին կիսամյակ | E85: Ինն ամիս | F85: Տարի
B86: Միջոցառման անվանումը` | C86: ='Havelvats 1'!C47 -> Մարզերում առաջնահերթ լուծում պահանջող հիմնախնդիրների լուծում
B87: Նկարագրությունը` | C87: ='Havelvats 1'!C49 -> Մարզերում առաջնահերթ լուծում պահանջող ծրագրերի իրականացում, որի արդյունքում լուծում կտրվի բնակչության և համայնքների սոցիալական նշանակություն ունեցող հիմնախնդիրներին:
B88: Միջոցառման տեսակը` | C88: Տրանսֆերտների տրամադրում
B89: Արդյունքի չափորոշիչներ
B90: Միջոցառման վրա կատարվող ծախսը (հազար դրամ) | D90: ='Havelvats 2 '!G68 -> 144000 | E90: ='Havelvats 2 '!H68 -> 144000 | F90: ='Havelvats 2 '!I68 -> 144000
B92: ՀԱՅԱՍՏԱՆԻ ՀԱՆՐԱՊԵՏՈՒԹՅԱՆ ԿԱՌԱՎԱՐՈՒԹՅԱՆ 2019 ԹՎԱԿԱՆԻ ԴԵԿՏԵՄԲԵՐԻ 26-Ի N 1919-Ն ՈՐՈՇՄԱՆ N 9.1 ՀԱՎԵԼՎԱԾԻ N 9.1.51 ԱՂՅՈՒՍԱԿՈՒՄ ԿԱՏԱՐՎՈՂ ՓՈՓՈԽՈՒԹՅՈՒՆՆԵՐԸ
B94: ՀՀ Գեղարքունիքի մարզպետարան
B95: ՄԱՍ 1. ՊԵՏԱԿԱՆ ՄԱՐՄՆԻ ԳԾՈՎ ԱՐԴՅՈՒՆՔԱՅԻՆ (ԿԱՏԱՐՈՂԱԿԱՆ) ՑՈՒՑԱՆԻՇՆԵՐԸ
B97: Ծրագրի դասիչը | C97: Ծրագրի անվանումը
B98: 1212 | C98: Տարածքային զարգացում
B100: Ծրագրի միջոցառումները
B101: Ծրագրի դասիչը` | C101: 1212 | D101: Ցուցանիշների փոփոխությունը (ավելացումները նշված են դրական նշանով)
B102: Միջոցառման դասիչը` | C102: 12025 | D102: Առաջին կիսամյակ | E102: Ինն ամիս | F102: Տարի
B103: Միջոցառման անվանումը` | C103: ='Havelvats 1'!C47 -> Մարզերում առաջնահերթ լուծում պահանջող հիմնախնդիրների լուծում
B104: Նկարագրությունը` | C104: ='Havelvats 1'!C49 -> Մարզերում առաջնահերթ լուծում պահանջող ծրագրերի իրականացում, որի արդյունքում լուծում կտրվի բնակչության և համայնքների սոցիալական նշանակություն ունեցող հիմնախնդիրներին:
B105: Միջոցառման տեսակը` | C105: Տրանսֆերտների տրամադրում
B106: Արդյունքի չափորոշիչներ
B107: Միջոցառման վրա կատարվող ծախսը (հազար դրամ) | D107: ='Havelvats 2 '!G82 -> 144000 | E107: ='Havelvats 2 '!H82 -> 144000 | F107: ='Havelvats 2 '!I82 -> 144000
B110: ՀԱՅԱՍՏԱՆԻ ՀԱՆՐԱՊԵՏՈՒԹՅԱՆ ԿԱՌԱՎԱՐՈՒԹՅԱՆ 2019 ԹՎԱԿԱՆԻ ԴԵԿՏԵՄԲԵՐԻ 26-Ի N 1919-Ն ՈՐՈՇՄԱՆ N 9.1 ՀԱՎԵԼՎԱԾԻ N 9.1.52 ԱՂՅՈՒՍԱԿՈՒՄ ԿԱՏԱՐՎՈՂ ՓՈՓՈԽՈՒԹՅՈՒՆՆԵՐԸ
B112: ՀՀ Լոռու մարզպետարան
B113: ՄԱՍ 1. ՊԵՏԱԿԱՆ ՄԱՐՄՆԻ ԳԾՈՎ ԱՐԴՅՈՒՆՔԱՅԻՆ (ԿԱՏԱՐՈՂԱԿԱՆ) ՑՈՒՑԱՆԻՇՆԵՐԸ
B115: Ծրագրի դասիչը | C115: Ծրագրի անվանումը
B116: 1212 | C116: Տարածքային զարգացում
B118: Ծրագրի միջոցառումները
B119: Ծրագրի դասիչը` | C119: 1212 | D119: Ցուցանիշների փոփոխությունը (ավելացումները նշված են դրական նշանով)
B120: Միջոցառման դասիչը` | C120: 12025 | D120: Առաջին կիսամյակ | E120: Ինն ամիս | F120: Տարի
B121: Միջոցառման անվանումը` | C121: ='Havelvats 1'!C47 -> Մարզերում առաջնահերթ լուծում պահանջող հիմնախնդիրների լուծում
B122: Նկարագրությունը` | C122: ='Havelvats 1'!C49 -> Մարզերում առաջնահերթ լուծում պահանջող ծրագրերի իրականացում, որի արդյունքում լուծում կտրվի բնակչության և համայնքների սոցիալական նշանակություն ունեցող հիմնախնդիրներին:
B123: Միջոցառման տեսակը` | C123: Տրանսֆերտների տրամադրում
B124: Արդյունքի չափորոշիչներ
B125: Միջոցառման վրա կատարվող ծախսը (հազար դրամ) | D125: ='Havelvats 2 '!G89 -> 144000 | E125: ='Havelvats 2 '!H89 -> 144000 | F125: ='Havelvats 2 '!I89 -> 144000
B127: ՀԱՅԱՍՏԱՆԻ ՀԱՆՐԱՊԵՏՈՒԹՅԱՆ ԿԱՌԱՎԱՐՈՒԹՅԱՆ 2019 ԹՎԱԿԱՆԻ ԴԵԿՏԵՄԲԵՐԻ 26-Ի N 1919-Ն ՈՐՈՇՄԱՆ N 9.1 ՀԱՎԵԼՎԱԾԻ N 9.1.53 ԱՂՅՈՒՍԱԿՈՒՄ ԿԱՏԱՐՎՈՂ ՓՈՓՈԽՈՒԹՅՈՒՆՆԵՐԸ
B129: ՀՀ Կոտայքի մարզպետարան
B130: ՄԱՍ 1. ՊԵՏԱԿԱՆ ՄԱՐՄՆԻ ԳԾՈՎ ԱՐԴՅՈՒՆՔԱՅԻՆ (ԿԱՏԱՐՈՂԱԿԱՆ) ՑՈՒՑԱՆԻՇՆԵՐԸ
B132: Ծրագրի դասիչը | C132: Ծրագրի անվանումը
...

Sheet Havelvats 5
H1: Հավելված N 5
H2: ՀՀ կառավարության 2021 թվականի
H3: ______________ ի ___Ն որոշման
A5: ՀԱՅԱՍՏԱՆԻ ՀԱՆՐԱՊԵՏՈՒԹՅԱՆ 2021 ԹՎԱԿԱՆԻ ՊԵՏԱԿԱՆ ԲՅՈՒՋԵՈՎ ՆԱԽԱՏԵՍՎԱԾ՝ ՀԱՅԱՍՏԱՆԻ ՀԱՆՐԱՊԵՏՈՒԹՅԱՆ ԿԱՌԱՎԱՐՈՒԹՅԱՆ ՊԱՀՈՒՍՏԱՅԻՆ ՖՈՆԴԻՑ ՀԱՏԿԱՑՈՒՄՆԵՐ ԿԱՏԱՐԵԼՈՒ ՎԵՐԱԲԵՐՅԱԼ
H7: հազ. դրամներով
A8: Գործառական դասիչը | D8: Ծրագրային դասիչը | F8: Բյուջետային հատկացումների գլխավոր կարգադրիչների, ծրագրերի, միջոցառումների և միջոցառումները կատարող պետական մարմինների անվանումները | G8: Ցուցանիշների փոփոխությունը (ավելացումները նշված են դրական նշանով, իսկ նվազեցումները` փակագծերում)
A9: Բաժին | B9: Խումբ | C9: Դաս | D9: Ծրագիր | E9: Միջոցառում | G9: Առաջին կիսամյակ | H9: Ինն ամիս | I9: Տարի
F10: ԸՆԴԱՄԵՆԸ | G10: =G12+G124 -> 0 | H10: =H12+H124 -> 0 | I10: =I12+I124 -> 0
F11: այդ թվում
F12: ՀՀ տարածքային կառավարման և ենթակառուցվածքների նախարարություն | G12: =G13+G31+G49 -> 0 | H12: =H13+H31+H49 -> 0 | I12: =I13+I31+I49 -> 0
A13: 10 | D13: 1192 | E13: 11010 | F13: ՍՈՑԻԱԼԱԿԱՆ ՊԱՇՏՊԱՆՈՒԹՅՈՒՆ | G13: =G15 -> -700000 | H13: =H15 -> -1200000 | I13: =I15 -> -1200000
B14: 06 | F14: այդ թվում`
F15: Բնակարանային ապահովում | G15: =G17 -> -700000 | H15: =H17 -> -1200000 | I15: =I17 -> -1200000
F16: այդ թվում`
C17: 01 | F17: Բնակարանային ապահովում | G17: =+G20 -> -700000 | H17: =+H20 -> -1200000 | I17: =+I20 -> -1200000
F18: այդ թվում`
F19: ՀՀ տարածքային կառավարման և ենթակառուցվածքների նախարարություն
D20: 1070 | E20: Աջակցություն փախստականների ինտեգրմանը | G20: =+G22 -> -700000 | H20: =+H22 -> -1200000 | I20: =+I22 -> -1200000
F21: այդ թվում`
F22: 1988-1992 թվականներին Ադրբեջանից բռնագաղթված և Հայաստանի Հանրապետությունում ապաստանած փախստական ընտանիքների բնակարանային ապահովում | G22: =+G24 -> -700000 | H22: =+H24 -> -1200000 | I22: =+I24 -> -1200000
E23: 12003 | F23: այդ թվում` ըստ կատարողների
F24: ՀՀ տարածքային կառավարման և ենթակառուցվածքների նախարարության միգրացիոն ծառայություն | G24: =+G26 -> -700000 | H24: =H26 -> -1200000 | I24: =I26 -> -1200000
F25: այդ թվում` բյուջետային ծախսերի տնտեսագիտական դասակարգման հոդվածներ
F26: ԸՆԴԱՄԵՆԸ ԾԱԽՍԵՐ | G26: =+G27 -> -700000 | H26: =H27 -> -1200000 | I26: =I27 -> -1200000
F27: ԸՆԹԱՑԻԿ ԾԱԽՍԵՐ | G27: =+G28 -> -700000 | H27: =H28 -> -1200000 | I27: =I28 -> -1200000
F28: ԴՐԱՄԱՇՆՈՐՀՆԵՐ | G28: =G29 -> -700000 | H28: =H29 -> -1200000 | I28: =I29 -> -1200000
F29: Կապիտալ դրամաշնորհներ պետական հատվածի այլ մակարդակներին | G29: =G30 -> -700000 | H29: =H30 -> -1200000 | I29: =I30 -> -1200000
F30: - Այլ կապիտալ դրամաշնորհներ | G30: =-700000 -> -700000 | H30: =-1200000 -> -1200000 | I30: =-1200000 -> -1200000
A31: 04 | D31: 1192 | E31: 11010 | F31: ՏՆՏԵՍԱԿԱՆ ՀԱՐԱԲԵՐՈՒԹՅՈՒՆՆԵՐ | G31: =G33 -> -500000 | H31: =H33 -> 0 | I31: =I33 -> 0
B32: 02 | F32: այդ թվում`
F33: Գյուղատնտեսություն, անտառային տնտեսություն, ձկնորսություն և որսորդություն | G33: =G35 -> -500000 | H33: =H35 -> 0 | I33: =I35 -> 0
F34: այդ թվում`
C35: 04 | F35: Ոռոգում | G35: =+G38 -> -500000 | H35: =+H38 -> 0 | I35: =+I38 -> 0
F36: այդ թվում`
F37: ՀՀ տարածքային կառավարման և ենթակառուցվածքների նախարարություն
D38: 1004 | E38: Ոռոգման համակարգի առողջացում | G38: =+G40 -> -500000 | H38: =+H40 -> 0 | I38: =+I40 -> 0
F39: այդ թվում`
F40: Ոռոգման ծառայություններ մատուցող ընկերություններին ֆինանսական աջակցության տրամադրում | G40: =+G42 -> -500000 | H40: =+H42 -> 0 | I40: =+I42 -> 0
E41: 11002 | F41: այդ թվում` ըստ կատարողների
F42: ՀՀ տարածքային կառավարման և ենթակառուցվածքների նախարարության ջրային կոմիտե | G42: =+G44 -> -500000 | H42: =H44 -> 0 | I42: =I44 -> 0
F43: այդ թվում` բյուջետային ծախսերի տնտեսագիտական դասակարգման հոդվածներ
F44: ԸՆԴԱՄԵՆԸ ԾԱԽՍԵՐ | G44: =+G45 -> -500000 | H44: =H45 -> 0 | I44: =I45 -> 0
F45: ԸՆԹԱՑԻԿ ԾԱԽՍԵՐ | G45: =+G46 -> -500000 | H45: =H46 -> 0 | I45: =I46 -> 0
F46: ՍՈՒԲՍԻԴԻԱՆԵՐ | G46: =G47 -> -500000 | H46: =H47 -> 0 | I46: =I47 -> 0
F47: Սուբսիդիաներ ոչ պետական կազմակերպություններին | G47: =G48 -> -500000 | H47: =H48 -> 0 | I47: =I48 -> 0
F48: - Սուբսիդիաներ ոչ պետական ոչ ֆինանսական կազմակերպություններին | G48: =-500000 -> -500000
A49: 01 | F49: ԸՆԴՀԱՆՈՒՐ ԲՆՈՒՅԹԻ ՀԱՆՐԱՅԻՆ ԾԱՌԱՅՈՒԹՅՈՒՆՆԵՐ | G49: =+G57 -> 1200000 | H49: =+H57 -> 1200000 | I49: =I51 -> 1200000
F50: այդ թվում`
B51: 08 | F51: Կառավարության տարբեր մակարդակների միջև իրականացվող ընդհանուր բնույթի տրանսֆերտներ | G51: =G53 -> 1200000 | H51: =H53 -> 1200000 | I51: =I53 -> 1200000
F52: այդ թվում`
C53: 01 | F53: Կառավարության տարբեր մակարդակների միջև իրականացվող ընդհանուր բնույթի տրանսֆերտներ | G53: =+G55 -> 1200000 | H53: =+H55 -> 1200000 | I53: =+I55 -> 1200000
F54: այդ թվում`
F55: ՀՀ տարածքային կառավարման և ենթակառուցվածքների նախարարություն | G55: =+G57 -> 1200000 | H55: =+H57 -> 1200000 | I55: =+I57 -> 1200000
F56: այդ թվում`
D57: 1212 | E57: Տարածքային զարգացում | G57: =+G59 -> 1200000 | H57: =+H59 -> 1200000 | I57: =+I59 -> 1200000
E58: 12025 | F58: այդ թվում`
F59: ='Havelvats 1'!C47 -> Մարզերում առաջնահերթ լուծում պահանջող հիմնախնդիրների լուծում | G59: =G61+G68+G75+G82+G89+G96+G103+G110+G117 -> 1200000 | H59: =H61+H68+H75+H82+H89+H96+H103+H110+H117 -> 1200000 | I59: =I61+I68+I75+I82+I89+I96+I103+I110+I117 -> 1200000
F60: այդ թվում`ըստ կատարողների
F61: Արագածոտնի մարզպետարան | G61: =G63 -> 120000 | H61: =H63 -> 120000 | I61: =I63 -> 120000
F62: այդ թվում` բյուջետային ծախսերի տնտեսագիտական դասակարգման հոդվածներ
F63: ԸՆԴԱՄԵՆԸ ԾԱԽՍԵՐ | G63: =+G64 -> 120000 | H63: =+H64 -> 120000 | I63: =+I64 -> 120000
F64: ԸՆԹԱՑԻԿ ԾԱԽՍԵՐ | G64: =G65 -> 120000 | H64: =H65 -> 120000 | I64: =I65 -> 120000
F65: ՍՈՑԻԱԼԱԿԱՆ ՆՊԱՍՏՆԵՐ ԵՎ ԿԵՆՍԱԹՈՇԱԿՆԵՐ | G65: =G66 -> 120000 | H65: =H66 -> 120000 | I65: =I66 -> 120000
F66: Սոցիալական օգնության դրամական արտահայտությամբ նպաստներ (բյուջեից) | G66: =G67 -> 120000 | H66: =H67 -> 120000 | I66: =I67 -> 120000
F67: - Այլ նպաստներ բյուջեից | G67: 120000 | H67: 120000 | I67: 120000
F68: Արմավիրի մարզպետարան | G68: =G70 -> 144000 | H68: =H70 -> 144000 | I68: =I70 -> 144000
F69: այդ թվում` բյուջետային ծախսերի տնտեսագիտական դասակարգման հոդվածներ
F70: ԸՆԴԱՄԵՆԸ ԾԱԽՍԵՐ | G70: =+G71 -> 144000 | H70: =+H71 -> 144000 | I70: =+I71 -> 144000
F71: ԸՆԹԱՑԻԿ ԾԱԽՍԵՐ | G71: =G72 -> 144000 | H71: =H72 -> 144000 | I71: =I72 -> 144000
F72: ՍՈՑԻԱԼԱԿԱՆ ՆՊԱՍՏՆԵՐ ԵՎ ԿԵՆՍԱԹՈՇԱԿՆԵՐ | G72: =G73 -> 144000 | H72: =H73 -> 144000 | I72: =I73 -> 144000
F73: Սոցիալական օգնության դրամական արտահայտությամբ նպաստներ (բյուջեից) | G73: =G74 -> 144000 | H73: =H74 -> 144000 | I73: =I74 -> 144000
F74: - Այլ նպաստներ բյուջեից | G74: 144000 | H74: 144000 | I74: 144000
F75: Արարատի մարզպետարան | G75: =G77 -> 144000 | H75: =H77 -> 144000 | I75: =I77 -> 144000
F76: այդ թվում` բյուջետային ծախսերի տնտեսագիտական դասակարգման հոդվածներ
F77: ԸՆԴԱՄԵՆԸ ԾԱԽՍԵՐ | G77: =+G78 -> 144000 | H77: =+H78 -> 144000 | I77: =+I78 -> 144000
F78: ԸՆԹԱՑԻԿ ԾԱԽՍԵՐ | G78: =G79 -> 144000 | H78: =H79 -> 144000 | I78: =I79 -> 144000
F79: ՍՈՑԻԱԼԱԿԱՆ ՆՊԱՍՏՆԵՐ ԵՎ ԿԵՆՍԱԹՈՇԱԿՆԵՐ | G79: =G80 -> 144000 | H79: =H80 -> 144000 | I79: =I80 -> 144000
F80: Սոցիալական օգնության դրամական արտահայտությամբ նպաստներ (բյուջեից) | G80: =G81 -> 144000 | H80: =H81 -> 144000 | I80: =I81 -> 144000
F81: - Այլ նպաստներ բյուջեից | G81: 144000 | H81: 144000 | I81: 144000
F82: Գեղարքունիքի մարզպետարան | G82: =G84 -> 144000 | H82: =H84 -> 144000 | I82: =I84 -> 144000
F83: այդ թվում` բյուջետային ծախսերի տնտեսագիտական դասակարգման հոդվածներ
F84: ԸՆԴԱՄԵՆԸ ԾԱԽՍԵՐ | G84: =+G85 -> 144000 | H84: =+H85 -> 144000 | I84: =+I85 -> 144000
F85: ԸՆԹԱՑԻԿ ԾԱԽՍԵՐ | G85: =G86 -> 144000 | H85: =H86 -> 144000 | I85: =I86 -> 144000
F86: ՍՈՑԻԱԼԱԿԱՆ ՆՊԱՍՏՆԵՐ ԵՎ ԿԵՆՍԱԹՈՇԱԿՆԵՐ | G86: =G87 -> 144000 | H86: =H87 -> 144000 | I86: =I87 -> 144000
F87: Սոցիալական օգնության դրամական արտահայտությամբ նպաստներ (բյուջեից) | G87: =G88 -> 144000 | H87: =H88 -> 144000 | I87: =I88 -> 144000
F88: - Այլ նպաստներ բյուջեից | G88: 144000 | H88: 144000 | I88: 144000
F89: Լոռու մարզպետարան | G89: =G91 -> 144000 | H89: =H91 -> 144000 | I89: =I91 -> 144000
F90: այդ թվում` բյուջետային ծախսերի տնտեսագիտական դասակարգման հոդվածներ
F91: ԸՆԴԱՄԵՆԸ ԾԱԽՍԵՐ | G91: =+G92 -> 144000 | H91: =+H92 -> 144000 | I91: =+I92 -> 144000
F92: ԸՆԹԱՑԻԿ ԾԱԽՍԵՐ | G92: =G93 -> 144000 | H92: =H93 -> 144000 | I92: =I93 -> 144000
F93: ՍՈՑԻԱԼԱԿԱՆ ՆՊԱՍՏՆԵՐ ԵՎ ԿԵՆՍԱԹՈՇԱԿՆԵՐ | G93: =G94 -> 144000 | H93: =H94 -> 144000 | I93: =I94 -> 144000
F94: Սոցիալական օգնության դրամական արտահայտությամբ նպաստներ (բյուջեից) | G94: =G95 -> 144000 | H94: =H95 -> 144000 | I94: =I95 -> 144000
F95: - Այլ նպաստներ բյուջեից | G95: 144000 | H95: 144000 | I95: 144000
F96: Կոտայքի մարզպետարան | G96: =G98 -> 120000 | H96: =H98 -> 120000 | I96: =I98 -> 120000
F97: այդ թվում` բյուջետային ծախսերի տնտեսագիտական դասակարգման հոդվածներ
F98: ԸՆԴԱՄԵՆԸ ԾԱԽՍԵՐ | G98: =+G99 -> 120000 | H98: =+H99 -> 120000 | I98: =+I99 -> 120000
F99: ԸՆԹԱՑԻԿ ԾԱԽՍԵՐ | G99: =G100 -> 120000 | H99: =H100 -> 120000 | I99: =I100 -> 120000
F100: ՍՈՑԻԱԼԱԿԱՆ ՆՊԱՍՏՆԵՐ ԵՎ ԿԵՆՍԱԹՈՇԱԿՆԵՐ | G100: =G101 -> 120000 | H100: =H101 -> 120000 | I100: =I101 -> 120000
F101: Սոցիալական օգնության դրամական արտահայտությամբ նպաստներ (բյուջեից) | G101: =G102 -> 120000 | H101: =H102 -> 120000 | I101: =I102 -> 120000
F102: - Այլ նպաստներ բյուջեից | G102: 120000 | H102: 120000 | I102: 120000
...
