Workbook
Name AgencyCode: #REF!
Name AgencyCode: #REF!
Name AgencyCode: #REF!
Name AgencyCode: #REF!
Name AgencyName: #REF!
Name AgencyName: #REF!
Name AgencyName: #REF!
Name davit: #REF!
Name Functional1: #REF!
Name Functional1: #REF!
Name Functional1: #REF!
Name ggg: #REF!
Name PANature: #REF!
Name PANature: #REF!
Name PANature: #REF!
Name PAType: #REF!
Name PAType: #REF!
Name PAType: #REF!
Name Performance2: #REF!
Name Performance2: #REF!
Name Performance2: #REF!
Name PerformanceType: #REF!
Name PerformanceType: #REF!
Name PerformanceType: #REF!
Name Հավելված: #REF!
Name Մաս: #REF!
Name շախմատիստ: #REF!

Sheet 1
F1: Հավելված N 1
F2: ՀՀ կառավարության 2021 թվականի
F3: ______________ ի ___Ն որոշման
A5: «ՀԱՅԱUՏԱՆԻ ՀԱՆՐԱՊԵՏՈՒԹՅԱՆ 2021 ԹՎԱԿԱՆԻ ՊԵՏԱԿԱՆ ԲՅՈՒՋԵԻ ՄԱUԻՆ» OՐԵՆՔԻ N 1 ՀԱՎԵԼՎԱԾԻ N 2 ԱՂՅՈՒՍԱԿՈՒՄ ԿԱՏԱՐՎՈՂ ՎԵՐԱԲԱՇԽՈՒՄԸ, ՓՈՓՈԽՈՒԹՅՈՒՆՆԵՐԸ ԵՎ ԼՐԱՑՈՒՄՆԵՐԸ, ՀԱՅԱՍՏԱՆԻ ՀԱՆՐԱՊԵՏՈՒԹՅԱՆ ԿԱՌԱՎԱՐՈՒԹՅԱՆ 2020 ԹՎԱԿԱՆԻ ԴԵԿՏԵՄԲԵՐԻ 30-Ի N 2215-Ն ՈՐՈՇՄԱՆ N 5 ՀԱՎԵԼՎԱԾԻ N 1 ԱՂՅՈՒՍԱԿՈՒՄ ԿԱՏԱՐՎՈՂ ՓՈՓՈԽՈՒԹՅՈՒՆՆԵՐԸ ԵՎ ԼՐԱՑՈՒՄՆԵՐԸ
F7: հազ. դրամ
A8: Ծրագրային դասիչը | C8: Բյուջետային հատկացումների գլխավոր կարգադրիչների, ծրագրերի և միջոցառումների անվանումները | D8: Ցուցանիշների փոփոխությունը (ավելացումները նշված են դրական նշանով, իսկ նվազեցումները` փակագծերում)
A9: Ծրագիր | B9: Միջոցառում | D9: Առաջին կիսամյակ | E9: Ինն ամիս | F9: Տարի
A10: 1192 | C10: ԸՆԴԱՄԵՆԸ | D10: =D12 -> 0 | E10: =E12 -> 0 | F10: =F12 -> 0
C11: այդ թվում
B12: ՀՀ տարածքային կառավարման և ենթակառուցվածքների նախարարություն | D12: =D13+D26 -> 0 | E12: =E13+E26 -> 0 | F12: =F13+F26 -> 0
A13: 1049 | C13: Ծրագրի անվանումը` | D13: =D20 -> -277913.5 | E13: =E20 -> -277913.5 | F13: =F20 -> -277913.5
C14: Ճանապարհային ցանցի բարելավում | F14: =F21 -> 0
C15: Ծրագրի նպատակը`
C16: Ճանապարհային ցանցի բարելավում և անվտանգ երթևեկության ապահովում
C17: Վերջնական արդյունքի նկարագրությունը`
C18: Ճանապարհների ծածկի որակի և փոխադրումների արդյունավետության բարելավում՝ ճանապարհների վիճակով պայմանավորված պատահարների նվազում
C19: Ծրագրի միջոցառումներ
B20: 21001 | C20: Միջոցառման անվանումը` | D20: -277913.5 | E20: =D20 -> -277913.5 | F20: =E20 -> -277913.5
C21: Պետական նշանակության ավտոճանապարհների հիմնանորոգում
C22: Միջոցառման նկարագրությունը`
C23: Միջպետական՝ հանրապետական և մարզային նշանակության ավտոճոնապարհների քայքայված ծածկի վերանորոգում՝ մաշված ծածկի փոխարինում_x000D_
C24: Միջոցառման տեսակը
C25: Հանրության կողմից անմիջականորեն օգտագործվող ակտիվների հետ կապված միջոցառումներ
A26: 1072 | C26: Ծրագրի անվանումը` | D26: =D33 -> 277913.5 | E26: =E33 -> 277913.5 | F26: =F33 -> 277913.5
C27: Ջրամատակարարման և ջրահեռացման բարելավում
C28: Ծրագրի նպատակը`
C29: Ջրամատակարարման ծառայությունների հասանելիության և մատչելիության ապահովում
C30: Վերջնական արդյունքի նկարագրությունը`
C31: Խմելու ջրի մատակարարման և ջրահեռացման համակարգի բարելավում՝ կորուստների կրճատում
C32: Ծրագրի միջոցառումներ
B33: 31010 | C33: Միջոցառման անվանումը` | D33: 277913.5 | E33: =D33 -> 277913.5 | F33: =E33 -> 277913.5
C34: Ջրամատակարարման և ջրահեռացման համակարգերի հիմնանորոգում
C35: Միջոցառման նկարագրությունը`
C36: Ջրամատակարարման և ջրահեռացման համակարգերի հիմնանորոգման նախագծերի և աշխատանքների ձեռքբերում
C37: Միջոցառման տեսակը
C38: Պետական մարմինների կողմից օգտագործվող ոչ ֆինանսական ակտիվների հետ գործառնություններ

Sheet 2
H1: Հավելված N2
H2: ՀՀ կառավարության 2021 թվականի
H3: ______________ ի ___Ն որոշման
A4: «ՀԱՅԱՍՏԱՆԻ ՀԱՆՐԱՊԵՏՈՒԹՅԱՆ 2021 ԹՎԱԿԱՆԻ ՊԵՏԱԿԱՆ ԲՅՈՒՋԵԻ ՄԱՍԻՆ» ՕՐԵՆՔԻ N 1 ՀԱՎԵԼՎԱԾԻ N 3 ԱՂՅՈՒՍԱԿՈՒՄ ԿԱՏԱՐՎՈՂ ՎԵՐԱԲԱՇԽՈՒՄԸ ԵՎ ԼՐԱՑՈՒՄՆԵՐԸ
G5: հազ.դրամ
A6: Ծրագրային դասիչ | C6: Բյուջետային գլխավոր կարգադրիչների, ծրագրերի, միջոցառումների և ուղղությունների անվանումները | D6: Ցուցանիշների փոփոխությունը (ավելացումները նշված են դրական նշանով, իսկ նվազեցումները` փակագծերում)
D7: Ընդամենը, | E7: այդ թվում՝
A8: Ծրագիր | B8: Միջոցառում | E8: Կառուցման աշխատանքներ | F8: Վերակառուցման, վերանորոգման և վերականգնման աշխատանքներ | G8: Նախագծահե- տազոտական, գեոդեզիա- քարտեզագրա- կան աշխա- տանքներ | H8: Ոչ ֆինանսական այլ ակտիվների ձեռքբերում
C9: ԸՆԴԱՄԵՆԸ | D9: =D11 -> 0 | E9: =E11 -> 0 | F9: =F11 -> 0 | G9: =G11 -> 0 | H9: =H11 -> 0
C10: այդ թվում՝
C11: ՀՀ ՏԱՐԱԾՔԱՅԻՆ ԿԱՌԱՎԱՐՄԱՆ ԵՎ ԵՆԹԱԿԱՌՈՒՑՎԱԾՔՆԵՐԻ ՆԱԽԱՐԱՐՈՒԹՅՈՒՆ | D11: =+E11+F11+G11+H11 -> 0 | E11: =E13+E14 -> 0 | F11: =F13+F14 -> 0 | G11: =G13+G14 -> 0 | H11: =H13+H14 -> 0
C12: այդ թվում`
A13: 1049 | B13: 21001 | C13: Պետական նշանակության ավտոճանապարհների հիմնանորոգում | D13: =+E13+F13+G13+H13 -> -277913.5 | E13: 0 | F13: -277913.5 | G13: 0 | H13: 0
A14: 1072 | B14: 31010 | C14: Ջրամատակարարման և ջրահեռացման համակարգի հիմնանորոգում | D14: =+E14+F14+G14+H14 -> 277913.5 | E14: =+E16 -> 0 | F14: =+F16+F17+F18 -> 277913.5 | G14: =+G16 -> 0 | H14: =+H16 -> 0
C15: այդ թվում` | D15: =+E15+F15+G15+H15 -> 0
C16: ՀՀ Արագածոտնի մարզի Թալին համայնքի Սպանդարյան, Քոթանյան, Գայի փողոցների ջրամատակարարման և ջրահեռացման ցանցի վերակառուցում (Մ-9, Մ-1-Թալին-Քարակերտ-Թուրքիայի սահմանի կմ1+300-կմ3+600) | D16: =+E16+F16+G16+H16 -> 104991.8 | E16: =+E17 -> 0 | F16: 104991.8
C17: ՀՀ Արարատի մարզի Նոր Կյանք համայնքի ջրամատակարարման համակարգի վերակառուցում (Հ8, Երևան-Արտաշատ-Այգեվան կմ 26+400 - կմ 30+000) | D17: =+E17+F17+G17+H17 -> 32106.4 | F17: 32106.4
C18: ՀՀ Արարատի մարզի Գ. Արարատ համայնքի ջրամատակարարման համակարգի վերակառուցում (Հ8, Երևան-Արտաշատ-Այգեվան կմ 33+500 կմ 42+600) | D18: =+E18+F18+G18+H18 -> 140815.3 | F18: 140815.3

Sheet 3
I1: Հավելված N 3
I2: ՀՀ կառավարության 2021 թվականի
I3: ______________ ի ___Ն որոշման
A5: ՀԱՅԱՍՏԱՆԻ ՀԱՆՐԱՊԵՏՈՒԹՅԱՆ ԿԱՌԱՎԱՐՈՒԹՅԱՆ 2020 ԹՎԱԿԱՆԻ ԴԵԿՏԵՄԲԵՐԻ 30-Ի N 2215-Ն ՈՐՈՇՄԱՆ N 3 ԵՎ N 4 ՀԱՎԵԼՎԱԾՆԵՐՈՒՄ ԿԱՏԱՐՎՈՂ ՓՈՓՈԽՈՒԹՅՈՒՆՆԵՐԸ ԵՎ ԼՐԱՑՈՒՄՆԵՐԸ
I7: հազ. դրամ
A8: Գործառական դասիչը | D8: Ծրագրային դասիչը | F8: Բյուջետային հատկացումների գլխավոր կարգադրիչների, ծրագրերի, միջոցառումների և միջոցառումները կատարող պետական մարմինների անվանումները | G8: Ցուցանիշների փոփոխությունը (ավելացումները նշված են դրական նշանով, իսկ նվազեցումները` փակագծերում)
A9: Բաժին | B9: Խումբ | C9: Դաս | D9: Ծրագիր | E9: Միջոցառում | G9: Առաջին կիսամյակ | H9: Ինն ամիս | I9: Տարի
F10: ԸՆԴԱՄԵՆԸ | G10: =G12 -> 0 | H10: =H12 -> 0 | I10: =I12 -> 0
F11: այդ թվում
F12: ՀՀ տարածքային կառավարման և ենթակառուցվածքների նախարարություն | G12: =G13+G31 -> 0 | H12: =H13+H31 -> 0 | I12: =I13+I31 -> 0
A13: 04 | D13: 1192 | E13: 11010 | F13: ՏՆՏԵՍԱԿԱՆ ՀԱՐԱԲԵՐՈՒԹՅՈՒՆՆԵՐ | G13: =G15 -> -277913.5 | H13: =H15 -> -277913.5 | I13: =I15 -> -277913.5
B14: 05 | F14: այդ թվում`
F15: Տրանսպորտ | G15: =G17 -> -277913.5 | H15: =H17 -> -277913.5 | I15: =I17 -> -277913.5
F16: այդ թվում`
C17: 01 | F17: Ճանապարհային տրանսպորտ | G17: =+G20 -> -277913.5 | H17: =+H20 -> -277913.5 | I17: =+I20 -> -277913.5
F18: այդ թվում`
F19: ՀՀ տարածքային կառավարման և ենթակառուցվածքների նախարարություն
D20: 1049 | E20: Ճանապարհային ցանցի բարելավում | G20: =G22 -> -277913.5 | H20: =H22 -> -277913.5 | I20: =I22 -> -277913.5
E21: 21001 | F21: այդ թվում`
F22: Պետական նշանակության ավտոճանապարհների հիմնանորոգում | G22: =G24 -> -277913.5 | H22: =H24 -> -277913.5 | I22: =I24 -> -277913.5
F23: այդ թվում` ըստ կատարողների
F24: ՀՀ կառավարություն | G24: =G26 -> -277913.5 | H24: =H26 -> -277913.5 | I24: =I26 -> -277913.5
F25: այդ թվում` բյուջետային ծախսերի տնտեսագիտական դասակարգման հոդվածներ
F26: ԸՆԴԱՄԵՆԸ ԾԱԽՍԵՐ | G26: =G27 -> -277913.5 | H26: =H27 -> -277913.5 | I26: =I27 -> -277913.5
F27: ՈՉ ՖԻՆԱՆՍԱԿԱՆ ԱԿՏԻՎՆԵՐԻ ԳԾՈՎ ԾԱԽՍԵՐ | G27: =G28 -> -277913.5 | H27: =H28 -> -277913.5 | I27: =I28 -> -277913.5
F28: ՀԻՄՆԱԿԱՆ ՄԻՋՈՑՆԵՐ | G28: =G29 -> -277913.5 | H28: =H29 -> -277913.5 | I28: =I29 -> -277913.5
F29: ՇԵՆՔԵՐ ԵՎ ՇԻՆՈՒԹՅՈՒՆՆԵՐ | G29: =G30 -> -277913.5 | H29: =H30 -> -277913.5 | I29: =I30 -> -277913.5
F30: - Շենքերի և շինությունների կապիտալ վերանորոգում | G30: ='1'!D20 -> -277913.5 | H30: ='1'!E20 -> -277913.5 | I30: ='1'!F20 -> -277913.5
A31: 06 | F31: ԲՆԱԿԱՐԱՆԱՅԻՆ ՇԻՆԱՐԱՐՈՒԹՅՈՒՆ ԵՎ ԿՈՄՈՒՆԱԼ ԾԱՌԱՅՈՒԹՅՈՒՆՆԵՐ | G31: =G33 -> 277913.5 | H31: =H33 -> 277913.5 | I31: =I33 -> 277913.5
F32: այդ թվում`
B33: 03 | F33: Ջրամատակարարում | G33: =G35 -> 277913.5 | H33: =H35 -> 277913.5 | I33: =I35 -> 277913.5
F34: այդ թվում`
C35: 01 | F35: Ջրամատակարարում | G35: =+G37 -> 277913.5 | H35: =+H37 -> 277913.5 | I35: =+I37 -> 277913.5
F36: այդ թվում`
F37: ՀՀ տարածքային կառավարման և ենթակառուցվածքների նախարարություն | G37: =+G39 -> 277913.5 | H37: =+H39 -> 277913.5 | I37: =+I39 -> 277913.5
F38: այդ թվում`
D39: 1072 | E39: Ջրամատակարարման և ջրահեռացման բարելավում | G39: =+G41 -> 277913.5 | H39: =+H41 -> 277913.5 | I39: =+I41 -> 277913.5
F40: այդ թվում`
E41: 31010 | F41: Ջրամատակարարման և ջրահեռացման համակարգի հիմնանորոգում | G41: =G43 -> 277913.5 | H41: =H43 -> 277913.5 | I41: =I43 -> 277913.5
F42: այդ թվում` ըստ կատարողների
F43: ՀՀ տարածքային կառավարման և ենթակառուցվածքների նախարարության ջրային կոմիտե | G43: =G45 -> 277913.5 | H43: =H45 -> 277913.5 | I43: =I45 -> 277913.5
F44: այդ թվում` բյուջետային ծախսերի տնտեսագիտական դասակարգման հոդվածներ
F45: ԸՆԴԱՄԵՆԸ ԾԱԽՍԵՐ | G45: =+G46 -> 277913.5 | H45: =+H46 -> 277913.5 | I45: =+I46 -> 277913.5
F46: ՈՉ ՖԻՆԱՆՍԱԿԱՆ ԱԿՏԻՎՆԵՐԻ ԳԾՈՎ ԾԱԽՍԵՐ | G46: =G47 -> 277913.5 | H46: =H47 -> 277913.5 | I46: =I47 -> 277913.5
F47: ՀԻՄՆԱԿԱՆ ՄԻՋՈՑՆԵՐ | G47: =G48 -> 277913.5 | H47: =H48 -> 277913.5 | I47: =I48 -> 277913.5
F48: ՇԵՆՔԵՐ ԵՎ ՇԻՆՈՒԹՅՈՒՆՆԵՐ | G48: =G49 -> 277913.5 | H48: =H49 -> 277913.5 | I48: =I49 -> 277913.5
F49: - Շենքերի և շինությունների կապիտալ վերանորոգում | G49: ='1'!D33 -> 277913.5 | H49: ='1'!E33 -> 277913.5 | I49: ='1'!F33 -> 277913.5

Sheet 4
F1: Հավելված N4
F2: ՀՀ կառավարության 2021 թվականի
F3: ______________ ի ___Ն որոշման
A5: ՀԱՅԱՍՏԱՆԻ ՀԱՆՐԱՊԵՏՈՒԹՅԱՆ ԿԱՌԱՎԱՐՈՒԹՅԱՆ 2020 ԹՎԱԿԱՆԻ ԴԵԿՏԵՄԲԵՐԻ 30-Ի N 2215-Ն ՈՐՈՇՄԱՆ N 5 ՀԱՎԵԼՎԱԾԻ N 2 ԱՂՅՈՒՍԱԿՈՒՄ ԿԱՏԱՐՎՈՂ ՓՈՓՈԽՈՒԹՅՈՒՆՆԵՐԸ ԵՎ ԼՐԱՑՈՒՄՆԵՐԸ
F6: հազ.դրամ
A7: Ծրագրային դասիչ | C7: Բյուջետային գլխավոր կարգադրիչների, ծրագրերի, միջոցառումների և ուղղությունների անվանումները | D7: Ցուցանիշների փոփոխությունը (ավելացումները նշված են դրական նշանով, իսկ նվազեցումները` փակագծերում)
A8: Ծրագիր | B8: Միջոցառում | D8: Առաջին կիսամյակ | E8: Ինն ամիս | F8: Տարի
C9: ԸՆԴԱՄԵՆԸ | D9: =D11 -> 0 | E9: =E11 -> 0 | F9: =F11 -> 0
C10: այդ թվում՝
C11: ՀՀ ՏԱՐԱԾՔԱՅԻՆ ԿԱՌԱՎԱՐՄԱՆ ԵՎ ԵՆԹԱԿԱՌՈՒՑՎԱԾՔՆԵՐԻ ՆԱԽԱՐԱՐՈՒԹՅՈՒՆ | D11: =+D13+D16 -> 0 | E11: =+E13+E16 -> 0 | F11: =+F13+F16 -> 0
C12: այդ թվում`
A13: 1049 | B13: 21001 | C13: Պետական նշանակության ավտոճանապարհների հիմնանորոգում | D13: =+D15 -> -277913.5 | E13: =+E15 -> -277913.5 | F13: =+F15 -> -277913.5
C14: այդ թվում` ըստ կատարողների
C15: ՀՀ կառավարություն | D15: ='2'!F13 -> -277913.5 | E15: =D15 -> -277913.5 | F15: =E15 -> -277913.5
A16: 1072 | B16: 31010 | C16: Ջրամատակարարման և ջրահեռացման համակարգի հիմնանորոգում | D16: =+D20+D21+D22 -> 277913.5 | E16: =+E20+E21+E22 -> 277913.5 | F16: =+F20+F21+F22 -> 277913.5
C17: այդ թվում` ըստ կատարողների
C18: ՀՀ տարածքային կառավարման և ենթակառուցվածքների նախարարության ջրային կոմիտե | D18: =+D21+D20+D22 -> 277913.5 | E18: =+E21+E20+E22 -> 277913.5 | F18: =+F21+F20+F22 -> 277913.5
C19: այդ թվում՝ ըստ ուղղությունների
C20: ՀՀ Արագածոտնի մարզի Թալին համայնքի Սպանդարյան, Քոթանյան, Գայի փողոցների ջրամատակարարման և ջրահեռացման ցանցի վերակառուցում (Մ-9, Մ-1-Թալին-Քարակերտ-Թուրքիայի սահմանի կմ1+300-կմ3+600) | D20: ='2'!D16 -> 104991.8 | E20: =D20 -> 104991.8 | F20: =E20 -> 104991.8
C21: ՀՀ Արարատի մարզի Նոր Կյանք համայնքի ջրամատակարարման համակարգի վերակառուցում (Հ8, Երևան-Արտաշատ-Այգեվան կմ 26+400 - կմ 30+000) | D21: ='2'!D17 -> 32106.4 | E21: =D21 -> 32106.4 | F21: =E21 -> 32106.4
C22: ՀՀ Արարատի մարզի Գ. Արարատ համայնքի ջրամատակարարման համակարգի վերակառուցում (Հ8, Երևան-Արտաշատ-Այգեվան կմ 33+500 կմ 42+600) | D22: ='2'!D18 -> 140815.3 | E22: =D22 -> 140815.3 | F22: =E22 -> 140815.3

Sheet 5
E1: Հավելված 5
E2: ՀՀ կառավարության 2021 թվականի
E3: ______________ ի ___Ն որոշման
A5: ՀԱՅԱՍՏԱՆԻ ՀԱՆՐԱՊԵՏՈՒԹՅԱՆ ԿԱՌԱՎԱՐՈՒԹՅԱՆ 2020 ԹՎԱԿԱՆԻ ԴԵԿՏԵՄԲԵՐԻ 30-Ի N 2215-Ն ՈՐՈՇՄԱՆ N 9 ՀԱՎԵԼՎԱԾԻ N 9.8 ԱՂՅՈՒՍԱԿՈՒՄ ԿԱՏԱՐՎՈՂ ՓՈՓՈԽՈՒԹՅՈՒՆՆԵՐԸ ԵՎ ԼՐԱՑՈՒՄՆԵՐԸ
A7: ՀՀ տարածքային կառավարման և ենթակառուցվածքների նախարարություն
A8: ՄԱՍ 2. ՊԵՏԱԿԱՆ ՄԱՐՄՆԻ ԳԾՈՎ ԱՐԴՅՈՒՆՔԱՅԻՆ (ԿԱՏԱՐՈՂԱԿԱՆ) ՑՈՒՑԱՆԻՇՆԵՐԸ | E8: Աղյուսակ 9.8
A10: Ծրագրի դասիչը | B10: Ծրագրի անվանումը
A11: 1049 | B11: Ճանապարհային ցանցի բարելավում
A13: Ծրագրի միջոցառումները
A14: Ծրագրի դասիչը` | B14: 1049 | C14: Ցուցանիշների փոփոխությունը (ավելացումները նշված են դրական նշանով, իսկ նվազեցումները` փակագծերում)
A15: Միջոցառման դասիչը` | B15: 21001 | C15: Առաջին կիսամյակ | D15: Ինն ամիս | E15: Տարի
A16: Միջոցառման անվանումը` | B16: Պետական նշանակության ավտոճանապարհների հիմնանորոգում
A17: Նկարագրությունը` | B17: Միջպետական, հանրապետական և մարզային նշանակության ավտոճոնապարհների քայքայված ծածկի վերանորոգում, մաշված ծածկի փոխարինում
A18: Միջոցառման տեսակը` | B18: Հանրության կողմից անմիջականորեն օգտագործվող ակտիվների հետ կապված միջոցառումներ
A19: Արդյունքի չափորոշիչներ
A20: Հիմնանորոգվող ավտոճանապարհների երկարությունը/կիլոմետր/ այդ թվում՛
A21: Միջպետական նշանակության ավտոճանապարհներ
A22: Հանրապետական նշանակության ավտոճանապարհներ
A23: Մարզային նշանակության ավտոճանապարհներ
A24: Բավարար վիճակում ճանապարհների և հատվածների երկարության հարաբերությունը այդ կարգի ճանապարհների ողջ երկարությանը, %
A25: Աշխատանքների ավարտվածության աստիճան, %
A26: Միջոցառման վրա կատարվող ծախսը (հազար դրամ) | C26: ='1'!D20 -> -277913.5 | D26: ='1'!E20 -> -277913.5 | E26: ='1'!F20 -> -277913.5
A28: Ծրագրի դասիչը | B28: Ծրագրի անվանումը
A29: 1072 | B29: Ջրամատակարարաման և ջրահեռացման բարելավում
A31: Ծրագրի միջոցառումները
A32: Ծրագրի դասիչը` | B32: 1072 | C32: Ցուցանիշների փոփոխությունը (ավելացումները նշված են դրական նշանով, իսկ նվազեցումները` փակագծերում)
A33: Միջոցառման դասիչը` | B33: 31010 | C33: Առաջին կիսամյակ | D33: Ինն ամիս | E33: Տարի
A34: Միջոցառման անվանումը` | B34: Ջրամատակարարման և ջրահեռացման համակարգի հիմնանորոգում
A35: Նկարագրությունը` | B35: Ջրամատակարարման և ջրահեռացման համակարգի հիմնանորոգման նախագծերի և աշխատանքների ձեռքբերում
A36: Միջոցառման տեսակը` | B36: Պետական մարմինների կողմից օգտագործվող ոչ ֆինանսական ակտիվների հետ գործառնություններ
A37: Արդյունքի չափորոշիչներ
A38: Նորոգվող ջրագծերի երկարություն, գմ (Մ-9, Մ-1-Թալին-Քարակերտ-Թուրքիայի սահմանի կմ1+300-կմ3+600, Հ8, Երևան-Արտաշատ-Այգեվան կմ 26+400 - կմ 30+000, Հ8, Երևան-Արտաշատ-Այգեվան կմ 33+500 կմ 42+600) | C38: 8161 | D38: 8161 | E38: 8161
A39: Նորոգվող կոյուղագծերի երկարություն, գմ (Մ-9, Մ-1-Թալին-Քարակերտ-Թուրքիայի սահմանի կմ1+300-կմ3+600, Հ8, Երևան-Արտաշատ-Այգեվան կմ 26+400 - կմ 30+000, Հ8, Երևան-Արտաշատ-Այգեվան կմ 33+500 կմ 42+600) | C39: 1905 | D39: 1905 | E39: 1905
A40: Նորոգվող տնային միացումներ, հատ (Մ-9, Մ-1-Թալին-Քարակերտ-Թուրքիայի սահմանի կմ1+300-կմ3+600, Հ8, Երևան-Արտաշատ-Այգեվան կմ 26+400 - կմ 30+000, Հ8, Երևան-Արտաշատ-Այգեվան կմ 33+500 կմ 42+600) | C40: 200 | D40: 200 | E40: 200
A41: Միջոցառման վրա կատարվող ծախսը (հազար դրամ) | C41: ='1'!D33 -> 277913.5 | D41: ='1'!E33 -> 277913.5 | E41: ='1'!F33 -> 277913.5

Sheet 6
F1: Հավելված 6
F2: ՀՀ կառավարության 2020 թվականի
F3: ______________ ի ___Ն որոշման
A5: ՀԱՅԱՍՏԱՆԻ ՀԱՆՐԱՊԵՏՈՒԹՅԱՆ ԿԱՌԱՎԱՐՈՒԹՅԱՆ 2020 ԹՎԱԿԱՆԻ ԴԵԿՏԵՄԲԵՐԻ 30-Ի N 2215-Ն ՈՐՈՇՄԱՆ N 9.1 ՀԱՎԵԼՎԱԾԻ N 9.1.26 ԱՂՅՈՒՍԱԿՈՒՄ ԿԱՏԱՐՎՈՂ ՓՈՓՈԽՈՒԹՅՈՒՆՆԵՐԸ ԵՎ ԼՐԱՑՈՒՄՆԵՐԸ
A6: ՀՀ տարածքային կառավարման և ենթակառուցվածքների նախարարության ջրային կոմիտե
A7: ՄԱՍ 1. ՊԵՏԱԿԱՆ ՄԱՐՄՆԻ ԳԾՈՎ ԱՐԴՅՈՒՆՔԱՅԻՆ (ԿԱՏԱՐՈՂԱԿԱՆ) ՑՈՒՑԱՆԻՇՆԵՐԸ
A9: Ծրագրի դասիչը | B9: Ծրագրի անվանումը
A10: 1072 | B10: Ջրամատակարարաման և ջրահեռացման բարելավում
A12: Ծրագրի միջոցառումները
A13: Ծրագրի դասիչը` | B13: 1072 | C13: Ցուցանիշների փոփոխությունը (ավելացումները նշված են դրական նշանով, իսկ նվազեցումները` փակագծերում)
A14: Միջոցառման դասիչը` | B14: 31010 | C14: Առաջին կիսամյակ | D14: Ինն ամիս | E14: Տարի
A15: Միջոցառման անվանումը` | B15: Ջրամատակարարման և ջրահեռացման համակարգի հիմնանորոգում
A16: Նկարագրությունը` | B16: Ջրամատակարարման և ջրահեռացման համակարգի հիմնանորոգման նախագծերի և աշխատանքների ձեռքբերում
A17: Միջոցառման տեսակը` | B17: Պետական մարմինների կողմից օգտագործվող ոչ ֆինանսական ակտիվների հետ գործառնություններ
A18: Ակտիվն օգտագործող կազմակերպության(ների) անվանում(ները)՛ | B18: Մասնագիտացված միավոր
A19: Արդյունքի չափորոշիչներ
A20: Նորոգվող ջրագծերի երկարություն, գմ (Մ-9, Մ-1-Թալին-Քարակերտ-Թուրքիայի սահմանի կմ1+300-կմ3+600, Հ8, Երևան-Արտաշատ-Այգեվան կմ 26+400 - կմ 30+000, Հ8, Երևան-Արտաշատ-Այգեվան կմ 33+500 կմ 42+600) | C20: 8161 | D20: 8161 | E20: 8161
A21: Նորոգվող կոյուղագծերի երկարություն, գմ (Մ-9, Մ-1-Թալին-Քարակերտ-Թուրքիայի սահմանի կմ1+300-կմ3+600, Հ8, Երևան-Արտաշատ-Այգեվան կմ 26+400 - կմ 30+000, Հ8, Երևան-Արտաշատ-Այգեվան կմ 33+500 կմ 42+600) | C21: 1905 | D21: 1905 | E21: 1905
A22: Նորոգվող տնային միացումներ, հատ (Մ-9, Մ-1-Թալին-Քարակերտ-Թուրքիայի սահմանի կմ1+300-կմ3+600, Հ8, Երևան-Արտաշատ-Այգեվան կմ 26+400 - կմ 30+000, Հ8, Երևան-Արտաշատ-Այգեվան կմ 33+500 կմ 42+600) | C22: 200 | D22: 200 | E22: 200
A23: Միջոցառման վրա կատարվող ծախսը (հազար դրամ) | C23: ='5'!C41 -> 277913.5 | D23: ='5'!D41 -> 277913.5 | E23: ='5'!E41 -> 277913.5

Sheet 7
A1: Հավելված N7
A2: ՀՀ կառավարության 2021 թվականի
A3: ______________ ի ___Ն որոշման
A6: ՀԱՅԱՍՏԱՆԻ ՀԱՆՐԱՊԵՏՈՒԹՅԱՆ ԿԱՌԱՎԱՐՈՒԹՅԱՆ 2020 ԹՎԱԿԱՆԻ ԴԵԿՏԵՄԲԵՐԻ 30-Ի N 2215-Ն ՈՐՈՇՄԱՆ N 10 ՀԱՎԵԼՎԱԾՈՒՄ ԿԱՏԱՐՎՈՂ ԼՐԱՑՈՒՄՆԵՐԸ
A7: Կոդը | B7: Անվանումը | C7: Գնման ձևը | D7: Չափման միավորը | E7: Ցուցանիշների փոփոխությունը (ավելացումները նշված են դրական նշանով, իսկ նվազեցումները` փակագծերում)
E8: Միավորի գինը | F8: Քանակը | G8: Գումարը (հազար դրամով)
A9: ՀՀ տարածքային կառավարման և ենթակառուցվածքների նախարարության ջրային կոմիտե
A10: Ծրագիր «Ջրամատակարարման և ջրահեռացման բարելավում» Միջոցառում «Ջրամատակարարման և ջրահեռացման համակարգերի հիմնանորոգում» | G10: =+G11 -> 277913.5
A11: Բաժին N 06, Խումբ N 03,Դաս N 01, Ծրագիր N 1072, Միջոցառում N 31010 | G11: =G12+G16 -> 277913.5
A12: ՄԱՍ II. ԱՇԽԱՏԱՆՔՆԵՐ | G12: =SUM(G13:G15) -> 271847.1
A13: 45231131/ | B13: Ջրամատակարարման խողովակաշարերի հետ կապված աշխատանքներ | C13: ՀՄԱ | D13: դրամ | E13: 102708000 | F13: 1 | G13: =+F13*E13/1000 -> 102708
A14: 45231131/ | B14: Ջրամատակարարման խողովակաշարերի հետ կապված աշխատանքներ | C14: ՀՄԱ | D14: դրամ | E14: 31384700 | F14: 1 | G14: =+F14*E14/1000 -> 31384.7
A15: 45231131/ | B15: Ջրամատակարարման խողովակաշարերի հետ կապված աշխատանքներ | C15: ՀՄԱ | D15: դրամ | E15: 137754400 | F15: 1 | G15: =+F15*E15/1000 -> 137754.4
A16: ՄԱՍ III. ԾԱՌԱՅՈՒԹՅՈՒՆՆԵՐ | G16: =SUM(G17:G22) -> 6066.4
A17: 71351540/ | B17: տեխնիկական հսկողության ծառայություններ | C17: ՀՄԱ | D17: դրամ | E17: 1631300 | F17: 1 | G17: =+F17*E17/1000 -> 1631.3
A18: 71351540/ | B18: տեխնիկական հսկողության ծառայություններ | C18: ՀՄԱ | D18: դրամ | E18: 590400 | F18: 1 | G18: =+F18*E18/1000 -> 590.4
A19: 71351540/ | B19: տեխնիկական հսկողության ծառայություններ | C19: ՀՄԱ | D19: դրամ | E19: 2416500 | F19: 1 | G19: =+F19*E19/1000 -> 2416.5
A20: 98111140/ | B20: հեղինակային հսկողության ծառայություններ | C20: ՄԱ | D20: դրամ | E20: 652500 | F20: 1 | G20: =+F20*E20/1000 -> 652.5
A21: 98111140/ | B21: հեղինակային հսկողության ծառայություններ | C21: ՄԱ | D21: դրամ | E21: 131300 | F21: 1 | G21: =+F21*E21/1000 -> 131.3
A22: 98111140/ | B22: հեղինակային հսկողության ծառայություններ | C22: ՄԱ | D22: դրամ | E22: 644400 | F22: 1 | G22: =+F22*E22/1000 -> 644.4
