Workbook
Name AgencyCode: #REF!
Name AgencyCode: #REF!
Name AgencyCode: #REF!
Name AgencyName: #REF!
Name AgencyName: #REF!
Name AgencyName: #REF!
Name åû: #REF!
Name davit: #REF!
Name Functional1: #REF!
Name Functional1: #REF!
Name Functional1: #REF!
Name ggg: #REF!
Name mas: #REF!
Name mass: #REF!
Name PANature: #REF!
Name PANature: #REF!
Name PANature: #REF!
Name PAType: #REF!
Name PAType: #REF!
Name PAType: #REF!
Name Performance2: #REF!
Name Performance2: #REF!
Name Performance2: #REF!
Name PerformanceType: #REF!
Name PerformanceType: #REF!
Name PerformanceType: #REF!
Name x: #REF!
Name Հավելված: #REF!
Name Մաս: #REF!
Name շախմատիստ: #REF!

Sheet Հ1
F1: Հավելված N 1
F2: ՀՀ կառավարության 2021 թվականի
F3: ______________ ի ___Ն որոշման
A5: «ՀԱՅԱUՏԱՆԻ ՀԱՆՐԱՊԵՏՈՒԹՅԱՆ 2021 ԹՎԱԿԱՆԻ ՊԵՏԱԿԱՆ ԲՅՈՒՋԵԻ ՄԱUԻՆ» OՐԵՆՔԻ N 1 ՀԱՎԵԼՎԱԾԻ N 2 ԱՂՅՈՒՍԱԿՈՒՄ ԿԱՏԱՐՎՈՂ ՎԵՐԱԲԱՇԽՈՒՄԸ ԵՎ ՀԱՅԱՍՏԱՆԻ ՀԱՆՐԱՊԵՏՈՒԹՅԱՆ ԿԱՌԱՎԱՐՈՒԹՅԱՆ 2020 ԹՎԱԿԱՆԻ ԴԵԿՏԵՄԲԵՐԻ 30-Ի N 2215-Ն ՈՐՈՇՄԱՆ N 5 ՀԱՎԵԼՎԱԾԻ N 1 ԱՂՅՈՒՍԱԿՈՒՄ ԿԱՏԱՐՎՈՂ ՓՈՓՈԽՈՒԹՅՈՒՆՆԵՐԸ ԵՎ ԼՐԱՑՈՒՄՆԵՐԸ
F7: հազար դրամներով
A8: Ծրագրային դասիչը | C8: Բյուջետային հատկացումների գլխավոր կարգադրիչների, ծրագրերի և միջոցառումների անվանումները | D8: Ցուցանիշների փոփոխությունը (ավելացումները նշված են դրական նշանով, իսկ նվազեցումները` փակագծերում)
A9: Ծրագիր | B9: Միջոցառում | D9: Առաջին կիսամյակ | E9: Ինն ամիս | F9: Տարի
C10: ԸՆԴԱՄԵՆԸ | D10: 0 | E10: 0 | F10: 0
C11: այդ թվում
B12: ՀՀ տարածքային կառավարման և ենթակառուցվածքների նախարարություն | D12: 0 | E12: 0 | F12: 0
A13: 1212 | C13: Ծրագրի անվանումը`
C14: Տարածքային զարգացում | D14: 61782.3 | E14: 61782.3 | F14: 61782.3
C15: Ծրագրի նպատակը`
C16: Տարածքային համաչափ զարգացման խթանում
C17: Վերջնական արդյունքի նկարագրությունը`
C18: ՀՀ համայնքների կառավարման արդյունավետության բարձրացում և տնտեսական գործունեության խթանում
C19: Ծրագրի միջոցառումներ
B20: 12017 | C20: Միջոցառման անվանումը`
C21: Պատերազմի արդյունքում ժամանակավորապես Հայաստանի Հանրապետությունում գտնվող քաղաքացիներին մշտական բնակության վայր տեղափոխում | D21: 61782.3 | E21: 61782.3 | F21: 61782.3
C22: Միջոցառման նկարագրությունը`
C23: Ադրբեջանի կողմից սանձազերծված պատերազմի արդյունքում Արցախի Հանրապետությունից Հայաստանի Հանրապետություն ժամանակավորապես ժամանած քաղաքացիներին Արցախի Հանրապետություն ուղարկելու նպատակով` Երևանի քաղաքապետարանի և ՀՀ մարզպետարանների կողմից կազմակերպված ուղևորափոխադրումների փոխհատուցում
C24: Միջոցառման տեսակը
C25: Տրանսֆերտների տրամադրում
A26: 1176 | C26: Ծրագրի անվանումը` | D26: -61782.3 | E26: -61782.3 | F26: -61782.3
C27: Ավիացիայի բնագավառում վերահսկողության և կանոնակարգման ապահովում
C28: Ծրագրի նպատակը`
C29: ՀՀ քաղաքացիական ավիացիայի համակարգի ենթակառուցվածքների գործունեության կանոնակարգում և զարգացում
C30: Վերջնական արդյունքի նկարագրությունը`
C31: ՀՀ օդային տարածքով քաղաքացիների և բեռների անվտանգ և արագ տեղափոխման գործընթացների պատշաճ կանոնակարգում և դրանց պահանջների ապահովում
C32: Ծրագրի միջոցառումներ
B33: 11003 | C33: Միջոցառման անվանումը` | D33: -61782.3 | E33: -61782.3 | F33: -61782.3
C34: Ավիացիոն և այլ սարքավորումների պահպանում
C35: Միջոցառման նկարագրությունը`
C36: Ավիացիոն և այլ սարքավորումների նորոգում և պահպանում
C37: Միջոցառման տեսակը
C38: Ծառայությունների մատուցում
B39: ՀՀ կառավարություն | C39: ՀՀ կառավարություն | D39: 0 | E39: 0 | F39: 0
A40: 1139 | C40: Ծրագրի անվանումը`
C41: ՀՀ կառավարության պահուստային ֆոնդ | D41: 0 | E41: 0 | F41: 0
C42: Ծրագրի նպատակը`
C43: Պետական բյուջեում չկանխատեսված, ինչպես նաև բյուջետային երաշխիքների ապահովման ծախսերի ֆինանսավորման ապահովում
C44: Վերջնական արդյունքի նկարագրությունը`
C45: Պահուստային ֆոնդի կառավարման արդյունավետության և թափանցիկության ապահովում
B46: 11001 | C46: Միջոցառման անվանումը`
C47: ՀՀ կառավարության պահուստային ֆոնդ | D47: 61782.3 | E47: 61782.3 | F47: 61782.3
C48: Միջոցառման նկարագրությունը`
C49: ՀՀ պետական բյուջեում նախատեսված ելքերի լրացուցիչ ֆինանսավորման՝ պետական բյուջեում չկանխատեսված ելքերի, ինչպես նաև բյուջետային երաշխիքների ապահովման ելքերի ֆինանսավորման ապահովում
C50: Միջոցառման տեսակը
C51: Ծառայությունների մատուցում
B52: 11001 | C52: Միջոցառման անվանումը`
C53: ՀՀ կառավարության պահուստային ֆոնդ | D53: -61782.3 | E53: -61782.3 | F53: -61782.3
C54: Միջոցառման նկարագրությունը`
C55: ՀՀ պետական բյուջեում նախատեսված ելքերի լրացուցիչ ֆինանսավորման՝ պետական բյուջեում չկանխատեսված ելքերի, ինչպես նաև բյուջետային երաշխիքների ապահովման ելքերի ֆինանսավորման ապահովում
C56: Միջոցառման տեսակը
C57: Ծառայությունների մատուցում

Sheet Հ2
I1: Հավելված N 2
I2: ՀՀ կառավարության 2021 թվականի
I3: ______________ ի ___Ն որոշման
A5: ՀԱՅԱՍՏԱՆԻ ՀԱՆՐԱՊԵՏՈՒԹՅԱՆ ԿԱՌԱՎԱՐՈՒԹՅԱՆ 2020 ԹՎԱԿԱՆԻ ԴԵԿՏԵՄԲԵՐԻ 30-Ի N 2215-Ն ՈՐՈՇՄԱՆ N 3 ԵՎ N 4 ՀԱՎԵԼՎԱԾՆԵՐՈՒՄ ԿԱՏԱՐՎՈՂ ՓՈՓՈԽՈՒԹՅՈՒՆՆԵՐԸ ԵՎ ԼՐԱՑՈՒՄՆԵՐԸ
I7: հազար դրամներով
A8: Գործառական դասիչը | D8: Ծրագրային դասիչը | F8: Բյուջետային հատկացումների գլխավոր կարգադրիչների, ծրագրերի, միջոցառումների և միջոցառումները կատարող պետական մարմինների անվանումները | G8: Ցուցանիշների փոփոխությունը (ավելացումները նշված են դրական նշանով, իսկ նվազեցումները` փակագծերում)
A9: Բաժին | B9: Խումբ | C9: Դաս | D9: Ծրագիր | E9: Միջոցառում | G9: Առաջին կիսամյակ | H9: Ինն ամիս | I9: Տարի
F10: ԸՆԴԱՄԵՆԸ | G10: =+G12+G84 -> 0 | H10: =+H12+H84 -> 0 | I10: =+I12+I84 -> 0
F11: այդ թվում
F12: ՀՀ տարածքային կառավարման և ենթակառուցվածքների նախարարություն | G12: =+G13+G30 -> 0 | H12: =+H13+H30 -> 0 | I12: =+I13+I30 -> 0
A13: 04 | F13: ՏՆՏԵՍԱԿԱՆ ՀԱՐԱԲԵՐՈՒԹՅՈՒՆՆԵՐ | G13: =+G15 -> -61782.3 | H13: =+H15 -> -61782.3 | I13: =+I15 -> -61782.3
F14: այդ թվում`
B15: 05 | F15: Տրանսպորտ | G15: =+G17 -> -61782.3 | H15: =+H17 -> -61782.3 | I15: =+I17 -> -61782.3
F16: այդ թվում`
C17: 04 | F17: Օդային տրանսպորտ | G17: =+G19 -> -61782.3 | H17: =+H19 -> -61782.3 | I17: =+I19 -> -61782.3
F18: այդ թվում`
D19: 1176 | F19: Ավիացիայի բնագավառում վերահսկողության և կանոնակարգման ապահովում | G19: =+G21 -> -61782.3 | H19: =+H21 -> -61782.3 | I19: =+I21 -> -61782.3
F20: այդ թվում`
E21: 11003 | F21: Ավիացիոն և այլ սարքավորումների պահպանում | G21: =+G23 -> -61782.3 | H21: =+H23 -> -61782.3 | I21: =+I23 -> -61782.3
F22: այդ թվում` ըստ կատարողների
F23: ՀՀ տարածքային կառավարման և ենթակառուցվածքների նախարարության քաղաքացիական ավիացիայի կոմիտե | G23: =+G25 -> -61782.3 | H23: =+H25 -> -61782.3 | I23: =+I25 -> -61782.3
F24: այդ թվում` բյուջետային ծախսերի տնտեսագիտական դասակարգման հոդվածներ
F25: ԸՆԴԱՄԵՆԸ ԾԱԽՍԵՐ | G25: =+G28 -> -61782.3 | H25: =+H28 -> -61782.3 | I25: =+I28 -> -61782.3
F26: ԸՆԹԱՑԻԿ ԾԱԽՍԵՐ | G26: =+G27 -> -61782.3 | H26: =+H27 -> -61782.3 | I26: =+I27 -> -61782.3
F27: ԾԱՌԱՅՈՒԹՅՈՒՆՆԵՐԻ ԵՎ ԱՊՐԱՆՔՆԵՐԻ ՁԵՌՔԲԵՐՈՒՄ | G27: =+G28 -> -61782.3 | H27: =+H28 -> -61782.3 | I27: =+I28 -> -61782.3
F28: Ընթացիկ նորոգում և պահպանում (ծառայություններ և նյութեր) | G28: =+G29 -> -61782.3 | H28: =+H29 -> -61782.3 | I28: =+I29 -> -61782.3
F29: - Մեքենաների և սարքավորումների ընթացիկ նորոգում և պահպանում | G29: =-G30 -> -61782.3 | H29: =-H30 -> -61782.3 | I29: =-I30 -> -61782.3
A30: 01 | F30: ԸՆԴՀԱՆՈՒՐ ԲՆՈՒՅԹԻ ՀԱՆՐԱՅԻՆ ԾԱՌԱՅՈՒԹՅՈՒՆՆԵՐ | G30: =G32 -> 61782.3 | H30: =H32 -> 61782.3 | I30: =I32 -> 61782.3
F31: այդ թվում`
B32: 08 | F32: Կառավարության տարբեր մակարդակների միջև իրականացվող ընդհանուր բնույթի տրանսֆերտներ | G32: =G34 -> 61782.3 | H32: =H34 -> 61782.3 | I32: =I34 -> 61782.3
F33: այդ թվում`
C34: 01 | F34: Կառավարության տարբեր մակարդակների միջև իրականացվող ընդհանուր բնույթի տրանսֆերտներ | G34: =+G36 -> 61782.3 | H34: =+H36 -> 61782.3 | I34: =+I36 -> 61782.3
F35: այդ թվում`
F36: ՀՀ տարածքային կառավարման և ենթակառուցվածքների նախարարություն | G36: =+G38 -> 61782.3 | H36: =+H38 -> 61782.3 | I36: =+I38 -> 61782.3
F37: այդ թվում`
D38: 1212 | E38: Տարածքային զարգացում | G38: =+G40 -> 61782.3 | H38: =+H40 -> 61782.3 | I38: =+I40 -> 61782.3
E39: 12017 | F39: այդ թվում`
F40: =+Հ1!C21 -> Պատերազմի արդյունքում ժամանակավորապես Հայաստանի Հանրապետությունում գտնվող քաղաքացիներին մշտական բնակության վայր տեղափոխում | G40: =G49+G56+G63+G70+G77+G42 -> 61782.3 | H40: =H49+H56+H63+H70+H77+H42 -> 61782.3 | I40: =I49+I56+I63+I70+I77+I42 -> 61782.3
F41: այդ թվում` ըստ կատարողների
F42: ՀՀ տարածքային կառավարման և ենթակառուցվածքների նախարարություն | G42: =G44 -> 60030 | H42: =H44 -> 60030 | I42: =I44 -> 60030
F43: այդ թվում` բյուջետային ծախսերի տնտեսագիտական դասակարգման հոդվածներ
F44: ԸՆԴԱՄԵՆԸ ԾԱԽՍԵՐ | G44: =+G45 -> 60030 | H44: =+H45 -> 60030 | I44: =+I45 -> 60030
F45: ԸՆԹԱՑԻԿ ԾԱԽՍԵՐ | G45: =G46 -> 60030 | H45: =H46 -> 60030 | I45: =I46 -> 60030
F46: ԴՐԱՄԱՇՆՈՐՀՆԵՐ | G46: =G47 -> 60030 | H46: =H47 -> 60030 | I46: =I47 -> 60030
F47: Ընթացիկ դրամաշնորհներ պետական հատվածի այլ մակարդակներին | G47: =G48 -> 60030 | H47: =H48 -> 60030 | I47: =I48 -> 60030
F48: - Ընթացիկ սուբվենցիաներ համայնքներին | G48: =14790+8410+6960+7250+7540+8410+6670 -> 60030 | H48: =14790+8410+6960+7250+7540+8410+6670 -> 60030 | I48: =14790+8410+6960+7250+7540+8410+6670 -> 60030
F49: ՀՀ Արմավիրի մարզպետարան | G49: =G51 -> 320 | H49: =H51 -> 320 | I49: =I51 -> 320
F50: այդ թվում` բյուջետային ծախսերի տնտեսագիտական դասակարգման հոդվածներ
F51: ԸՆԴԱՄԵՆԸ ԾԱԽՍԵՐ | G51: =+G52 -> 320 | H51: =+H52 -> 320 | I51: =+I52 -> 320
F52: ԸՆԹԱՑԻԿ ԾԱԽՍԵՐ | G52: =G53 -> 320 | H52: =H53 -> 320 | I52: =I53 -> 320
F53: ԾԱՌԱՅՈՒԹՅՈՒՆՆԵՐԻ ԵՎ ԱՊՐԱՆՔՆԵՐԻ ՁԵՌՔԲԵՐՈՒՄ | G53: =G54 -> 320 | H53: =H54 -> 320 | I53: =I54 -> 320
F54: Պայմանագրային այլ ծառայությունների ձեռքբերում | G54: =G55 -> 320 | H54: =H55 -> 320 | I54: =I55 -> 320
F55: - Ընդհանուր բնույթի այլ ծառայություններ | G55: 320 | H55: 320 | I55: 320
F56: ՀՀ Կոտայքի մարզպետարան | G56: =G58 -> 870 | H56: =H58 -> 870 | I56: =I58 -> 870
F57: այդ թվում` բյուջետային ծախսերի տնտեսագիտական դասակարգման հոդվածներ
F58: ԸՆԴԱՄԵՆԸ ԾԱԽՍԵՐ | G58: =+G59 -> 870 | H58: =+H59 -> 870 | I58: =+I59 -> 870
F59: ԸՆԹԱՑԻԿ ԾԱԽՍԵՐ | G59: =G60 -> 870 | H59: =H60 -> 870 | I59: =I60 -> 870
F60: ԾԱՌԱՅՈՒԹՅՈՒՆՆԵՐԻ ԵՎ ԱՊՐԱՆՔՆԵՐԻ ՁԵՌՔԲԵՐՈՒՄ | G60: =G61 -> 870 | H60: =H61 -> 870 | I60: =I61 -> 870
F61: Պայմանագրային այլ ծառայությունների ձեռքբերում | G61: =G62 -> 870 | H61: =H62 -> 870 | I61: =I62 -> 870
F62: - Ընդհանուր բնույթի այլ ծառայություններ | G62: 870 | H62: 870 | I62: 870
F63: ՀՀ Սյունիքի մարզպետարան | G63: =G65 -> 312.3 | H63: =H65 -> 312.3 | I63: =I65 -> 312.3
F64: այդ թվում`բյուջետային ծախսերի տնտեսագիտական դասակարգման հոդվածներ
F65: ԸՆԴԱՄԵՆԸ ԾԱԽՍԵՐ | G65: =+G66 -> 312.3 | H65: =+H66 -> 312.3 | I65: =+I66 -> 312.3
F66: ԸՆԹԱՑԻԿ ԾԱԽՍԵՐ | G66: =G67 -> 312.3 | H66: =H67 -> 312.3 | I66: =I67 -> 312.3
F67: ԾԱՌԱՅՈՒԹՅՈՒՆՆԵՐԻ ԵՎ ԱՊՐԱՆՔՆԵՐԻ ՁԵՌՔԲԵՐՈՒՄ | G67: =G68 -> 312.3 | H67: =H68 -> 312.3 | I67: =I68 -> 312.3
F68: Պայմանագրային այլ ծառայությունների ձեռքբերում | G68: =G69 -> 312.3 | H68: =H69 -> 312.3 | I68: =I69 -> 312.3
F69: - Ընդհանուր բնույթի այլ ծառայություններ | G69: 312.3 | H69: 312.3 | I69: 312.3
F70: ՀՀ Վայոց ձորի մարզպետարան | G70: =G72 -> 120 | H70: =H72 -> 120 | I70: =I72 -> 120
F71: այդ թվում`բյուջետային ծախսերի տնտեսագիտական դասակարգման հոդվածներ
F72: ԸՆԴԱՄԵՆԸ ԾԱԽՍԵՐ | G72: =+G73 -> 120 | H72: =+H73 -> 120 | I72: =+I73 -> 120
F73: ԸՆԹԱՑԻԿ ԾԱԽՍԵՐ | G73: =G74 -> 120 | H73: =H74 -> 120 | I73: =I74 -> 120
F74: ԾԱՌԱՅՈՒԹՅՈՒՆՆԵՐԻ ԵՎ ԱՊՐԱՆՔՆԵՐԻ ՁԵՌՔԲԵՐՈՒՄ | G74: =G75 -> 120 | H74: =H75 -> 120 | I74: =I75 -> 120
F75: Պայմանագրային այլ ծառայությունների ձեռքբերում | G75: =G76 -> 120 | H75: =H76 -> 120 | I75: =I76 -> 120
F76: - Ընդհանուր բնույթի այլ ծառայություններ | G76: 120 | H76: 120 | I76: 120
F77: ՀՀ Տավուշի մարզպետարան | G77: =G79 -> 130 | H77: =H79 -> 130 | I77: =I79 -> 130
F78: այդ թվում`բյուջետային ծախսերի տնտեսագիտական դասակարգման հոդվածներ
F79: ԸՆԴԱՄԵՆԸ ԾԱԽՍԵՐ | G79: =+G80 -> 130 | H79: =+H80 -> 130 | I79: =+I80 -> 130
F80: ԸՆԹԱՑԻԿ ԾԱԽՍԵՐ | G80: =G81 -> 130 | H80: =H81 -> 130 | I80: =I81 -> 130
F81: ԾԱՌԱՅՈՒԹՅՈՒՆՆԵՐԻ ԵՎ ԱՊՐԱՆՔՆԵՐԻ ՁԵՌՔԲԵՐՈՒՄ | G81: =G82 -> 130 | H81: =H82 -> 130 | I81: =I82 -> 130
F82: Պայմանագրային այլ ծառայությունների ձեռքբերում | G82: =G83 -> 130 | H82: =H83 -> 130 | I82: =I83 -> 130
F83: - Ընդհանուր բնույթի այլ ծառայություններ | G83: 130 | H83: 130 | I83: 130
A84: 11 | F84: ՀՀ կառավարություն | G84: =+G85 -> 0 | H84: =+H85 -> 0 | I84: =+I85 -> 0
F85: ՀԻՄՆԱԿԱՆ ԲԱԺԻՆՆԵՐԻՆ ՉԴԱՍՎՈՂ ՊԱՀՈՒՍՏԱՅԻՆ ՖՈՆԴԵՐ | G85: =+G87 -> 0 | H85: =+H87 -> 0 | I85: =+I87 -> 0
B86: 01 | F86: այդ թվում`
F87: ՀՀ կառավարության և համայնքների պահուստային ֆոնդ | G87: =+G89 -> 0 | H87: =+H89 -> 0 | I87: =+I89 -> 0
C88: 01 | F88: այդ թվում`
F89: ՀՀ կառավարության պահուստային ֆոնդ | G89: =+G91 -> 0 | H89: =+H91 -> 0 | I89: =+I91 -> 0
F90: այդ թվում`
F91: ՀՀ կառավարություն | G91: =+G93 -> 0 | H91: =+H93 -> 0 | I91: =+I93 -> 0
F92: այդ թվում`
D93: 1139 | E93: ՀՀ կառավարության պահուստային ֆոնդ | F93: ՀՀ կառավարության պահուստային ֆոնդ | G93: =+G95+G103 -> 0 | H93: =+H95+H103 -> 0 | I93: =+I95+I103 -> 0
F94: այդ թվում`
E95: 11001 | F95: ՀՀ կառավարության պահուստային ֆոնդ | G95: =+G97 -> 61782.3 | H95: =+H97 -> 61782.3 | I95: =+I97 -> 61782.3
F96: այդ թվում` ըստ կատարողների
F97: ՀՀ կառավարություն | G97: =+G99 -> 61782.3 | H97: =+H99 -> 61782.3 | I97: =+I99 -> 61782.3
F98: այդ թվում` բյուջետային ծախսերի տնտեսագիտական դասակարգման հոդվածներ
F99: ԸՆԴԱՄԵՆԸ ԾԱԽՍԵՐ | G99: =+G100 -> 61782.3 | H99: =+H100 -> 61782.3 | I99: =+I100 -> 61782.3
F100: ԸՆԹԱՑԻԿ ԾԱԽՍԵՐ | G100: =+G101 -> 61782.3 | H100: =+H101 -> 61782.3 | I100: =+I101 -> 61782.3
F101: ԱՅԼ ԾԱԽՍԵՐ | G101: =+G102 -> 61782.3 | H101: =+H102 -> 61782.3 | I101: =+I102 -> 61782.3
F102: Պահուստային միջոցներ | G102: =-G103 -> 61782.3 | H102: =-H103 -> 61782.3 | I102: =-I103 -> 61782.3
...

Sheet Հ3
G1: Հավելված 3
G2: ՀՀ կառավարության 2021 թվականի
G3: ______________ ի ___Ն որոշման
A5: «ՀԱՅԱՍՏԱՆԻ ՀԱՆՐԱՊԵՏՈՒԹՅԱՆ 2021 ԹՎԱԿԱՆԻ ՊԵՏԱԿԱՆ ԲՅՈՒՋԵԻ ՄԱՍԻՆ» ՀՀ ՕՐԵՆՔԻ N 1 ՀԱՎԵԼՎԱԾԻ N 7 ԱՂՅՈՒՍԱԿՈՒՄ ԵՎ ՀԱՅԱՍՏԱՆԻ ՀԱՆՐԱՊԵՏՈՒԹՅԱՆ ԿԱՌԱՎԱՐՈՒԹՅԱՆ 2020 ԹՎԱԿԱՆԻ ԴԵԿՏԵՄԲԵՐԻ 30-Ի N 2215-Ն ՈՐՈՇՄԱՆ N 5 ՀԱՎԵԼՎԱԾԻ N 6 ԱՂՅՈՒՍԱԿՈՒՄ ԿԱՏԱՐՎՈՂ ԼՐԱՑՈՒՄԸ
G7: հազ. դրամներով
B8: Ծրագրային դասիչը | D8: Հատկացումների տրամադրման նպատակները և բյուջետային գլխավոր կարգադրիչների, ծրագրերի, միջոցառումների և կատարող պետական մարմնի անվանումները | E8: Ցուցանիշների փոփոխությունը (ավելացումները նշված են դրական նշանով)
B9: Ծրագիր | C9: Միջոցառում | E9: Առաջին կիսամյակ | F9: Ինն ամիս | G9: Տարի
D10: Ընդամենը | E10: =+E12 -> 60030 | F10: =+F12 -> 60030 | G10: =+G12 -> 60030
B11: այդ թվում`
B12: ՀՀ տարածքային կառավարման և ենթակառուցվածքների նախարարություն | E12: =+E14 -> 60030 | F12: =+F14 -> 60030 | G12: =+G14 -> 60030
B13: այդ թվում`
B14: 1212 | C14: Տարածքային զարգացում | E14: =E15 -> 60030 | F14: =F15 -> 60030 | G14: =G15 -> 60030
C15: 12017 | D15: =+Հ2!F40 -> Պատերազմի արդյունքում ժամանակավորապես Հայաստանի Հանրապետությունում գտնվող քաղաքացիներին մշտական բնակության վայր տեղափոխում | E15: =+E16 -> 60030 | F15: =+F16 -> 60030 | G15: =+G16 -> 60030
D16: ՀՀ տարածքային կառավարման և ենթակառուցվածքների նախարարություն | E16: =+Հ2!G48 -> 60030 | F16: =+Հ2!H48 -> 60030 | G16: =+Հ2!I48 -> 60030

Sheet Հ4
F1: Հավելված N 4
F2: ՀՀ կառավարության 2021 թվականի
F3: ______________ ի ___Ն որոշման
B6: ՀԱՅԱՍՏԱՆԻ ՀԱՆՐԱՊԵՏՈՒԹՅԱՆ ԿԱՌԱՎԱՐՈՒԹՅԱՆ 2020 ԹՎԱԿԱՆԻ ԴԵԿՏԵՄԲԵՐԻ 30-Ի N 2215-Ն ՈՐՈՇՄԱՆ N 9 ՀԱՎԵԼՎԱԾԻ N 9.8 ԱՂՅՈՒՍԱԿՈՒՄ ԿԱՏԱՐՎՈՂ ՓՈՓՈԽՈՒԹՅՈՒՆՆԵՐԸ ԵՎ ԼՐԱՑՈՒՄՆԵՐԸ
B8: ՀՀ տարածքային կառավարման և ենթակառուցվածքների նախարարություն
B10: ՄԱՍ 2. ՊԵՏԱԿԱՆ ՄԱՐՄՆԻ ԳԾՈՎ ԱՐԴՅՈՒՆՔԱՅԻՆ (ԿԱՏԱՐՈՂԱԿԱՆ) ՑՈՒՑԱՆԻՇՆԵՐԸ
B12: Ծրագրի դասիչը | C12: Ծրագրի անվանումը
B13: 1212 | C13: Տարածքային զարգացում
B15: Ծրագրի միջոցառումները
B16: Ծրագրի դասիչը` | C16: 1212 | D16: Ցուցանիշների փոփոխությունը (ավելացումները նշված են դրական նշանով)
B17: Միջոցառման դասիչը` | C17: 12017 | D17: Առաջին կիսամյակ | E17: Ինն ամիս | F17: Տարի
B18: Միջոցառման անվանումը` | C18: =+Հ1!C21 -> Պատերազմի արդյունքում ժամանակավորապես Հայաստանի Հանրապետությունում գտնվող քաղաքացիներին մշտական բնակության վայր տեղափոխում
B19: Նկարագրությունը` | C19: =+Հ1!C23 -> Ադրբեջանի կողմից սանձազերծված պատերազմի արդյունքում Արցախի Հանրապետությունից Հայաստանի Հանրապետություն ժամանակավորապես ժամանած քաղաքացիներին Արցախի Հանրապետություն ուղարկելու նպատակով` Երևանի քաղաքապետարանի և ՀՀ մարզպետարանների կողմից կազմակերպված ուղևորափոխադրումների փոխհատուցում
B20: Միջոցառման տեսակը` | C20: Տրանսֆերտների տրամադրում
B21: Շահառուների ընտրության չափանիշները` | C21: Մասնագիտացված միավոր
B22: Արդյունքի չափորոշիչներ
B23: Տեղափոխված ուղևորների քանակ, մարդ | D23: =+Հ5!D41+Հ5!D61+Հ5!D82+Հ5!D103+Հ5!D123+Հ5!D143 -> 9455 | E23: =+Հ5!E41+Հ5!E61+Հ5!E82+Հ5!E103+Հ5!E123+Հ5!E143 -> 9455 | F23: =+Հ5!F41+Հ5!F61+Հ5!F82+Հ5!F103+Հ5!F123+Հ5!F143 -> 9455
B24: Երթերի քանակ, հատ | D24: =+Հ5!D42+Հ5!D62+Հ5!D83+Հ5!D104+Հ5!D124+Հ5!D144 -> 219 | E24: =+Հ5!E42+Հ5!E62+Հ5!E83+Հ5!E104+Հ5!E124+Հ5!E144 -> 219 | F24: =+Հ5!F42+Հ5!F62+Հ5!F83+Հ5!F104+Հ5!F124+Հ5!F144 -> 219
B25: Միջոցառման վրա կատարվող ծախսը (հազար դրամ) | D25: =+Հ2!G40 -> 61782.3 | E25: =+Հ2!H40 -> 61782.3 | F25: =+Հ2!I40 -> 61782.3
B27: Ծրագրի դասիչը | C27: Ծրագրի անվանումը
B28: 1176 | C28: Ավիացիայի բնագավառում վերահսկողության և կանոնակարգման ապահովում
B30: Ծրագրի միջոցառումները
B32: Ծրագրի դասիչը՝ | C32: 1176 | D32: Ցուցանիշների փոփոխությունը (նվազեցումները նշված են փակագծերում)
B33: Միջոցառման դասիչը՝ | C33: 11003 | D33: Առաջին կիսամյակ | E33: Ինն ամիս | F33: Տարի
B34: Միջոցառման անվանումը՝ | C34: Ավիացիոն և այլ սարքավորումների պահպանում
B35: Նկարագրությունը՝ | C35: Ավիացիոն և այլ սարքավորումների նորոգում և պահպանում
B36: Միջոցառման տեսակը՝ | C36: Ծառայությունների մատուցում
B37: Միջոցառումն իրականացնողի անվանումը | C37: ՀՀ տարածքային կառավարման և ենթակառուցվածքների նախարարության քաղաքացիական ավիացիայի կոմիտե
C38: Արդյունքի չափորոշիչներ
B39: Միջոցառման վրա կատարվող ծախսը (հազար դրամ) | D39: =-D25 -> -61782.3 | E39: =-E25 -> -61782.3 | F39: =-F25 -> -61782.3
B42: ՀԱՅԱՍՏԱՆԻ ՀԱՆՐԱՊԵՏՈՒԹՅԱՆ ԿԱՌԱՎԱՐՈՒԹՅԱՆ 2020 ԹՎԱԿԱՆԻ ԴԵԿՏԵՄԲԵՐԻ 30-Ի N 2215-Ն ՈՐՈՇՄԱՆ N 9 ՀԱՎԵԼՎԱԾԻ N 9.47 ԱՂՅՈՒՍԱԿՈՒՄ ԿԱՏԱՐՎՈՂ ՓՈՓՈԽՈՒԹՅՈՒՆՆԵՐԸ
C44: ՀՀ կառավարություն
B45: ՄԱՍ 2. ՊԵՏԱԿԱՆ ՄԱՐՄՆԻ ԳԾՈՎ ԱՐԴՅՈՒՆՔԱՅԻՆ (ԿԱՏԱՐՈՂԱԿԱՆ) ՑՈՒՑԱՆԻՇՆԵՐԸ
B47: Ծրագրի դասիչը | C47: Ծրագրի անվանումը
B48: 1139 | C48: ՀՀ կառավարության պահուստային ֆոնդ
B50: Ծրագրի միջոցառումները
B51: Ծրագրի դասիչը՝ | C51: 1139 | D51: Ցուցանիշների փոփոխությունը (նվազեցումները նշված են փակագծերում)
B52: Միջոցառման դասիչը՝ | C52: 11001 | D52: Առաջին կիսամյակ | E52: Ինն ամիս | F52: Տարի
B53: Միջոցառման անվանումը՝ | C53: ՀՀ կառավարության պահուստային ֆոնդ
B54: Նկարագրությունը՝ | C54: ՀՀ պետական բյուջեում նախատեսված ելքերի լրացուցիչ ֆինանսավորման՝ պետական բյուջեում չկանխատեսված ելքերի, ինչպես նաև բյուջետային երաշխիքների ապահովման ելքերի ֆինանսավորման ապահովում
B55: Միջոցառման տեսակը՝ | C55: Ծառայությունների մատուցում
B56: Միջոցառումն իրականացնողի անվանումը | C56: ՀՀ կառավարություն
C57: Արդյունքի չափորոշիչներ
B58: Միջոցառման վրա կատարվող ծախսը (հազար դրամ) | D58: =-D25 -> -61782.3 | E58: =-E25 -> -61782.3 | F58: =-F25 -> -61782.3
B60: Ծրագրի դասիչը՝ | C60: 1139 | D60: Ցուցանիշների փոփոխությունը (ավելացումները նշված են դրական նշանով)
B61: Միջոցառման դասիչը՝ | C61: 11001 | D61: Առաջին կիսամյակ | E61: Ինն ամիս | F61: Տարի
B62: Միջոցառման անվանումը՝ | C62: ՀՀ կառավարության պահուստային ֆոնդ
B63: Նկարագրությունը՝ | C63: ՀՀ պետական բյուջեում նախատեսված ելքերի լրացուցիչ ֆինանսավորման՝ պետական բյուջեում չկանխատեսված ելքերի, ինչպես նաև բյուջետային երաշխիքների ապահովման ելքերի ֆինանսավորման ապահովում
B64: Միջոցառման տեսակը՝ | C64: Ծառայությունների մատուցում
B65: Միջոցառումն իրականացնողի անվանումը | C65: ՀՀ կառավարություն
C66: Արդյունքի չափորոշիչներ
B67: Միջոցառման վրա կատարվող ծախսը (հազար դրամ) | D67: =-D58 -> 61782.3 | E67: =-E58 -> 61782.3 | F67: =-F58 -> 61782.3

Sheet Հ5
F1: Հավելված N 5
F2: ՀՀ կառավարության 2021 թվականի
F3: ______________ ի ___Ն որոշման
A5: ՀԱՅԱՍՏԱՆԻ ՀԱՆՐԱՊԵՏՈՒԹՅԱՆ ԿԱՌԱՎԱՐՈՒԹՅԱՆ 2020 ԹՎԱԿԱՆԻ ԴԵԿՏԵՄԲԵՐԻ 30-Ի N 2215-Ն ՈՐՈՇՄԱՆ N 9.1 ՀԱՎԵԼՎԱԾԻ 9.1.30 ԱՂՅՈՒՍԱԿՈՒՄ ԿԱՏԱՐՎՈՂ ՓՈՓՈԽՈՒԹՅՈՒՆՆԵՐԸ
B7: ՀՀ տարածքային կառավարման և ենթակառուցվածքների նախարարության քաղաքացիական ավիացիայի կոմիտե
B9: ՄԱՍ 1. ՊԵՏԱԿԱՆ ՄԱՐՄՆԻ ԳԾՈՎ ԱՐԴՅՈՒՆՔԱՅԻՆ (ԿԱՏԱՐՈՂԱԿԱՆ) ՑՈՒՑԱՆԻՇՆԵՐԸ
B11: Ծրագրի դասիչը | C11: Ծրագրի անվանումը
B12: 1176 | C12: Ավիացիայի բնագավառում վերահսկողության և կանոնակարգման ապահովում
B14: Ծրագրի միջոցառումները
B16: Ծրագրի դասիչը՝ | C16: 1176 | D16: Ցուցանիշների փոփոխությունը (նվազեցումները նշված են փակագծերում)
B17: Միջոցառման դասիչը՝ | C17: 11003 | D17: Առաջին կիսամյակ | E17: Ինն ամիս | F17: Տարի
B18: Միջոցառման անվանումը՝ | C18: Ավիացիոն և այլ սարքավորումների պահպանում
B19: Նկարագրությունը՝ | C19: Ավիացիոն և այլ սարքավորումների նորոգում և պահպանում
B20: Միջոցառման տեսակը՝ | C20: Ծառայությունների մատուցում
B21: Միջոցառումն իրականացնողի անվանումը | C21: ՀՀ տարածքային կառավարման և ենթակառուցվածքների նախարարության քաղաքացիական ավիացիայի կոմիտե
C22: Արդյունքի չափորոշիչներ
B23: Միջոցառման վրա կատարվող ծախսը (հազար դրամ) | D23: =-D43-D63-D84-D105-D125-D145 -> -61782.3 | E23: =-E43-E63-E84-E105-E125-E145 -> -61782.3 | F23: =-F43-F63-F84-F105-F125-F145 -> -61782.3
B25: ՀԱՅԱՍՏԱՆԻ ՀԱՆՐԱՊԵՏՈՒԹՅԱՆ ԿԱՌԱՎԱՐՈՒԹՅԱՆ 2020 ԹՎԱԿԱՆԻ ԴԵԿՏԵՄԲԵՐԻ 30-Ի N 2215-Ն ՈՐՈՇՄԱՆ N 9.1 ՀԱՎԵԼՎԱԾԻ N 9.1.8 ԱՂՅՈՒՍԱԿՈՒՄ ԿԱՏԱՐՎՈՂ ՓՈՓՈԽՈՒԹՅՈՒՆՆԵՐԸ ԵՎ ԼՐԱՑՈՒՄՆԵՐԸ
B27: ՀՀ տարածքային կառավարման և ենթակառուցվածքների նախարարություն
B28: ՄԱՍ 1. ՊԵՏԱԿԱՆ ՄԱՐՄՆԻ ԳԾՈՎ ԱՐԴՅՈՒՆՔԱՅԻՆ (ԿԱՏԱՐՈՂԱԿԱՆ) ՑՈՒՑԱՆԻՇՆԵՐԸ
B30: Ծրագրի դասիչը | C30: Ծրագրի անվանումը
B31: 1212 | C31: Տարածքային զարգացում
B33: Ծրագրի միջոցառումները
B34: Ծրագրի դասիչը` | C34: 1212 | D34: Ցուցանիշների փոփոխությունը (ավելացումները նշված են դրական նշանով)
B35: Միջոցառման դասիչը` | C35: 12017 | D35: Առաջին կիսամյակ | E35: Ինն ամիս | F35: Տարի
B36: Միջոցառման անվանումը` | C36: Պատերազմի արդյունքում ժամանակավորապես Հայաստանի Հանրապետությունում գտնվող քաղաքացիներին մշտական բնակության վայր տեղափոխում
B37: Նկարագրությունը` | C37: Ադրբեջանի կողմից սանձազերծված պատերազմի արդյունքում Արցախի Հանրապետությունից Հայաստանի Հանրապետություն ժամանակավորապես ժամանած քաղաքացիներին Արցախի Հանրապետություն ուղարկելու նպատակով` Երևանի քաղաքապետարանի և ՀՀ մարզպետարանների կողմից կազմակերպված ուղևորափոխադրումների փոխհատուցում
B38: Միջոցառման տեսակը` | C38: Տրանսֆերտների տրամադրում
B39: Շահառուների ընտրության չափանիշները` | C39: Մասնագիտացված միավոր
B40: Արդյունքի չափորոշիչներ
B41: Տեղափոխված ուղևորների քանակ, մարդ | D41: 9262 | E41: 9262 | F41: 9262
B42: Երթերի քանակ, հատ | D42: 207 | E42: 207 | F42: 207
B43: Միջոցառման վրա կատարվող ծախսը (հազար դրամ) | D43: =+Հ2!G48 -> 60030 | E43: =+Հ2!H48 -> 60030 | F43: =+Հ2!I48 -> 60030
B45: ՀԱՅԱՍՏԱՆԻ ՀԱՆՐԱՊԵՏՈՒԹՅԱՆ ԿԱՌԱՎԱՐՈՒԹՅԱՆ 2020 ԹՎԱԿԱՆԻ ԴԵԿՏԵՄԲԵՐԻ 30-Ի N 2215-Ն ՈՐՈՇՄԱՆ N 9.1 ՀԱՎԵԼՎԱԾԻ N 9.1.50 ԱՂՅՈՒՍԱԿՈՒՄ ԿԱՏԱՐՎՈՂ ՓՈՓՈԽՈՒԹՅՈՒՆՆԵՐԸ
B47: ՀՀ Արմավիրի մարզպետարան
B48: ՄԱՍ 1. ՊԵՏԱԿԱՆ ՄԱՐՄՆԻ ԳԾՈՎ ԱՐԴՅՈՒՆՔԱՅԻՆ (ԿԱՏԱՐՈՂԱԿԱՆ) ՑՈՒՑԱՆԻՇՆԵՐԸ
B50: Ծրագրի դասիչը | C50: Ծրագրի անվանումը
B51: 1212 | C51: Տարածքային զարգացում
B53: Ծրագրի միջոցառումները
B54: Ծրագրի դասիչը` | C54: 1212 | D54: Ցուցանիշների փոփոխությունը (ավելացումները նշված են դրական նշանով)
B55: Միջոցառման դասիչը` | C55: 12017 | D55: Առաջին կիսամյակ | E55: Ինն ամիս | F55: Տարի
B56: Միջոցառման անվանումը` | C56: Պատերազմի արդյունքում ժամանակավորապես Հայաստանի Հանրապետությունում գտնվող քաղաքացիներին մշտական բնակության վայր տեղափոխում
B57: Նկարագրությունը` | C57: Ադրբեջանի կողմից սանձազերծված պատերազմի արդյունքում Արցախի Հանրապետությունից Հայաստանի Հանրապետություն ժամանակավորապես ժամանած քաղաքացիներին Արցախի Հանրապետություն ուղարկելու նպատակով` Երևանի քաղաքապետարանի և ՀՀ մարզպետարանների կողմից կազմակերպված ուղևորափոխադրումների փոխհատուցում
B58: Միջոցառման տեսակը` | C58: Տրանսֆերտների տրամադրում
B59: Շահառուների ընտրության չափանիշները` | C59: Մասնագիտացված միավոր
B60: Արդյունքի չափորոշիչներ
B61: Տեղափոխված ուղևորների քանակ, մարդ | D61: 22 | E61: 22 | F61: 22
B62: Երթերի քանակ, հատ | D62: 1 | E62: 1 | F62: 1
B63: Միջոցառման վրա կատարվող ծախսը (հազար դրամ) | D63: =+Հ2!G49 -> 320 | E63: =+Հ2!H49 -> 320 | F63: =+Հ2!I49 -> 320
B66: ՀԱՅԱՍՏԱՆԻ ՀԱՆՐԱՊԵՏՈՒԹՅԱՆ ԿԱՌԱՎԱՐՈՒԹՅԱՆ 2020 ԹՎԱԿԱՆԻ ԴԵԿՏԵՄԲԵՐԻ 30-Ի N 2215-Ն ՈՐՈՇՄԱՆ N 9.1 ՀԱՎԵԼՎԱԾԻ N 9.1.53 ԱՂՅՈՒՍԱԿՈՒՄ ԿԱՏԱՐՎՈՂ ՓՈՓՈԽՈՒԹՅՈՒՆՆԵՐԸ
B68: ՀՀ Կոտայքի մարզպետարան
B69: ՄԱՍ 1. ՊԵՏԱԿԱՆ ՄԱՐՄՆԻ ԳԾՈՎ ԱՐԴՅՈՒՆՔԱՅԻՆ (ԿԱՏԱՐՈՂԱԿԱՆ) ՑՈՒՑԱՆԻՇՆԵՐԸ
B71: Ծրագրի դասիչը | C71: Ծրագրի անվանումը
B72: 1212 | C72: Տարածքային զարգացում
B74: Ծրագրի միջոցառումները
B75: Ծրագրի դասիչը` | C75: 1212 | D75: Ցուցանիշների փոփոխությունը (ավելացումները նշված են դրական նշանով)
B76: Միջոցառման դասիչը` | C76: 12017 | D76: Առաջին կիսամյակ | E76: Ինն ամիս | F76: Տարի
B77: Միջոցառման անվանումը` | C77: Պատերազմի արդյունքում ժամանակավորապես Հայաստանի Հանրապետությունում գտնվող քաղաքացիներին մշտական բնակության վայր տեղափոխում
B78: Նկարագրությունը` | C78: Ադրբեջանի կողմից սանձազերծված պատերազմի արդյունքում Արցախի Հանրապետությունից Հայաստանի Հանրապետություն ժամանակավորապես ժամանած քաղաքացիներին Արցախի Հանրապետություն ուղարկելու նպատակով` Երևանի քաղաքապետարանի և ՀՀ մարզպետարանների կողմից կազմակերպված ուղևորափոխադրումների փոխհատուցում
B79: Միջոցառման տեսակը` | C79: Տրանսֆերտների տրամադրում
B80: Շահառուների ընտրության չափանիշները` | C80: Մասնագիտացված միավոր
B81: Արդյունքի չափորոշիչներ
B82: Տեղափոխված ուղևորների քանակ, մարդ | D82: 124 | E82: 124 | F82: 124
B83: Երթերի քանակ, հատ | D83: 5 | E83: 5 | F83: 5
B84: Միջոցառման վրա կատարվող ծախսը (հազար դրամ) | D84: =+Հ2!G56 -> 870 | E84: =+Հ2!H56 -> 870 | F84: =+Հ2!I56 -> 870
B87: ՀԱՅԱՍՏԱՆԻ ՀԱՆՐԱՊԵՏՈՒԹՅԱՆ ԿԱՌԱՎԱՐՈՒԹՅԱՆ 2020 ԹՎԱԿԱՆԻ ԴԵԿՏԵՄԲԵՐԻ 30-Ի N 2215-Ն ՈՐՈՇՄԱՆ N 9.1 ՀԱՎԵԼՎԱԾԻ N 9.1.55 ԱՂՅՈՒՍԱԿՈՒՄ ԿԱՏԱՐՎՈՂ ՓՈՓՈԽՈՒԹՅՈՒՆՆԵՐԸ
B89: ՀՀ Սյունիքի մարզպետարան
B90: ՄԱՍ 1. ՊԵՏԱԿԱՆ ՄԱՐՄՆԻ ԳԾՈՎ ԱՐԴՅՈՒՆՔԱՅԻՆ (ԿԱՏԱՐՈՂԱԿԱՆ) ՑՈՒՑԱՆԻՇՆԵՐԸ
B92: Ծրագրի դասիչը | C92: Ծրագրի անվանումը
B93: 1212 | C93: Տարածքային զարգացում
B95: Ծրագրի միջոցառումները
B96: Ծրագրի դասիչը` | C96: 1212 | D96: Ցուցանիշների փոփոխությունը (ավելացումները նշված են դրական նշանով)
B97: Միջոցառման դասիչը` | C97: 12017 | D97: Առաջին կիսամյակ | E97: Ինն ամիս | F97: Տարի
B98: Միջոցառման անվանումը` | C98: Պատերազմի արդյունքում ժամանակավորապես Հայաստանի Հանրապետությունում գտնվող քաղաքացիներին մշտական բնակության վայր տեղափոխում
B99: Նկարագրությունը` | C99: Ադրբեջանի կողմից սանձազերծված պատերազմի արդյունքում Արցախի Հանրապետությունից Հայաստանի Հանրապետություն ժամանակավորապես ժամանած քաղաքացիներին Արցախի Հանրապետություն ուղարկելու նպատակով` Երևանի քաղաքապետարանի և ՀՀ մարզպետարանների կողմից կազմակերպված ուղևորափոխադրումների փոխհատուցում
B100: Միջոցառման տեսակը` | C100: Տրանսֆերտների տրամադրում
B101: Շահառուների ընտրության չափանիշները` | C101: Մասնագիտացված միավոր
B102: Արդյունքի չափորոշիչներ
B103: Տեղափոխված ուղևորների քանակ, մարդ | D103: 24 | E103: 24 | F103: 24
B104: Երթերի քանակ, հատ | D104: 4 | E104: 4 | F104: 4
B105: Միջոցառման վրա կատարվող ծախսը (հազար դրամ) | D105: =+Հ2!G63 -> 312.3 | E105: =+Հ2!H63 -> 312.3 | F105: =+Հ2!I63 -> 312.3
B107: ՀԱՅԱՍՏԱՆԻ ՀԱՆՐԱՊԵՏՈՒԹՅԱՆ ԿԱՌԱՎԱՐՈՒԹՅԱՆ 2020 ԹՎԱԿԱՆԻ ԴԵԿՏԵՄԲԵՐԻ 30-Ի N 2215-Ն ՈՐՈՇՄԱՆ N 9.1 ՀԱՎԵԼՎԱԾԻ N 9.1.56 ԱՂՅՈՒՍԱԿՈՒՄ ԿԱՏԱՐՎՈՂ ՓՈՓՈԽՈՒԹՅՈՒՆՆԵՐԸ
B109: ՀՀ Վայոց ձորի մարզպետարան
B110: ՄԱՍ 1. ՊԵՏԱԿԱՆ ՄԱՐՄՆԻ ԳԾՈՎ ԱՐԴՅՈՒՆՔԱՅԻՆ (ԿԱՏԱՐՈՂԱԿԱՆ) ՑՈՒՑԱՆԻՇՆԵՐԸ
B112: Ծրագրի դասիչը | C112: Ծրագրի անվանումը
B113: 1212 | C113: Տարածքային զարգացում
B115: Ծրագրի միջոցառումները
B116: Ծրագրի դասիչը` | C116: 1212 | D116: Ցուցանիշների փոփոխությունը (ավելացումները նշված են դրական նշանով)
B117: Միջոցառման դասիչը` | C117: 12017 | D117: Առաջին կիսամյակ | E117: Ինն ամիս | F117: Տարի
B118: Միջոցառման անվանումը` | C118: Պատերազմի արդյունքում ժամանակավորապես Հայաստանի Հանրապետությունում գտնվող քաղաքացիներին մշտական բնակության վայր տեղափոխում
B119: Նկարագրությունը` | C119: Ադրբեջանի կողմից սանձազերծված պատերազմի արդյունքում Արցախի Հանրապետությունից Հայաստանի Հանրապետություն ժամանակավորապես ժամանած քաղաքացիներին Արցախի Հանրապետություն ուղարկելու նպատակով` Երևանի քաղաքապետարանի և ՀՀ մարզպետարանների կողմից կազմակերպված ուղևորափոխադրումների փոխհատուցում
B120: Միջոցառման տեսակը` | C120: Տրանսֆերտների տրամադրում
B121: Շահառուների ընտրության չափանիշները` | C121: Մասնագիտացված միավոր
B122: Արդյունքի չափորոշիչներ
B123: Տեղափոխված ուղևորների քանակ, մարդ | D123: 12 | E123: 12 | F123: 12
B124: Երթերի քանակ, հատ | D124: 1 | E124: 1 | F124: 1
B125: Միջոցառման վրա կատարվող ծախսը (հազար դրամ) | D125: =+Հ2!G70 -> 120 | E125: =+Հ2!H70 -> 120 | F125: =+Հ2!I70 -> 120
B127: ՀԱՅԱՍՏԱՆԻ ՀԱՆՐԱՊԵՏՈՒԹՅԱՆ ԿԱՌԱՎԱՐՈՒԹՅԱՆ 2020 ԹՎԱԿԱՆԻ ԴԵԿՏԵՄԲԵՐԻ 30-Ի N 2215-Ն ՈՐՈՇՄԱՆ N 9.1 ՀԱՎԵԼՎԱԾԻ N 9.1.57 ԱՂՅՈՒՍԱԿՈՒՄ ԿԱՏԱՐՎՈՂ ՓՈՓՈԽՈՒԹՅՈՒՆՆԵՐԸ
B129: ՀՀ Տավուշի մարզպետարան
B130: ՄԱՍ 1. ՊԵՏԱԿԱՆ ՄԱՐՄՆԻ ԳԾՈՎ ԱՐԴՅՈՒՆՔԱՅԻՆ (ԿԱՏԱՐՈՂԱԿԱՆ) ՑՈՒՑԱՆԻՇՆԵՐԸ
...

Sheet Հ6
G1: Հավելված N 6
G2: ՀՀ կառավարության 2021 թվականի
G3: ______________ ի ___Ն որոշման
A4: ՀԱՅԱՍՏԱՆԻ ՀԱՆՐԱՊԵՏՈՒԹՅԱՆ ԿԱՌԱՎԱՐՈՒԹՅԱՆ 2020 ԹՎԱԿԱՆԻ ԴԵԿՏԵՄԲԵՐԻ 30-Ի N 2215-Ն ՈՐՈՇՄԱՆ N 10 ՀԱՎԵԼՎԱԾՈՒՄ ԿԱՏԱՐՎՈՂ ԼՐԱՑՈՒՄՆԵՐԸ
A5: Կոդը | B5: Անվանումը | C5: Ցուցանիշների փոփոխությունը (ավելացումները նշված են դրական նշանով)
C6: Գնման ձևը | D6: Չափման միավորը | E6: Միավորի գինը | F6: Քանակը | G6: Գումարը (հազար դրամով)
A7: ՀՀ Արմավիրի մարզպետարան
A8: Բաժին N 01 | B8: Խումբ N 08 | C8: Դաս N 01 | D8: Կառավարության տարբեր մակարդակների միջև իրականացվող ընդհանուր բնույթի տրանսֆերտներ
A9: 1212 12017 | B9: Պատերազմի արդյունքում ժամանակավորապես Հայաստանի Հանրապետությունում գտնվող քաղաքացիներին մշտական բնակության վայր տեղափոխում
B10: ՄԱՍ III. ԾԱՌԱՅՈՒԹՅՈՒՆՆԵՐ
A11: 60141100 | B11: ոչ կանոնավոր ուղևորափոխադրման ծառայություններ | C11: ՄԱ | D11: դրամ | E11: 1 | F11: =+Հ5!F63*1000 -> 320000 | G11: =+E11*F11/1000 -> 320
A12: ՀՀ Կոտայքի մարզպետարան
A13: Բաժին N 01 | B13: Խումբ N 08 | C13: Դաս N 01 | D13: Կառավարության տարբեր մակարդակների միջև իրականացվող ընդհանուր բնույթի տրանսֆերտներ
A14: 1212 12017 | B14: Պատերազմի արդյունքում ժամանակավորապես Հայաստանի Հանրապետությունում գտնվող քաղաքացիներին մշտական բնակության վայր տեղափոխում
B15: ՄԱՍ III. ԾԱՌԱՅՈՒԹՅՈՒՆՆԵՐ
A16: 60141100 | B16: ոչ կանոնավոր ուղևորափոխադրման ծառայություններ | C16: ՄԱ | D16: դրամ | E16: 1 | F16: =+Հ5!F84*1000 -> 870000 | G16: =+E16*F16/1000 -> 870
A17: ՀՀ Սյունիքի մարզպետարան
A18: Բաժին N 01 | B18: Խումբ N 08 | C18: Դաս N 01 | D18: Կառավարության տարբեր մակարդակների միջև իրականացվող ընդհանուր բնույթի տրանսֆերտներ
A19: 1212 12017 | B19: Պատերազմի արդյունքում ժամանակավորապես Հայաստանի Հանրապետությունում գտնվող քաղաքացիներին մշտական բնակության վայր տեղափոխում
B20: ՄԱՍ III. ԾԱՌԱՅՈՒԹՅՈՒՆՆԵՐ
A21: 60141100 | B21: ոչ կանոնավոր ուղևորափոխադրման ծառայություններ | C21: ՄԱ | D21: դրամ | E21: 1 | F21: =+Հ5!F105*1000 -> 312300 | G21: =+E21*F21/1000 -> 312.3
A22: ՀՀ Վայոց ձորի մարզպետարան
A23: Բաժին N 01 | B23: Խումբ N 08 | C23: Դաս N 01 | D23: Կառավարության տարբեր մակարդակների միջև իրականացվող ընդհանուր բնույթի տրանսֆերտներ
A24: 1212 12017 | B24: Պատերազմի արդյունքում ժամանակավորապես Հայաստանի Հանրապետությունում գտնվող քաղաքացիներին մշտական բնակության վայր տեղափոխում
B25: ՄԱՍ III. ԾԱՌԱՅՈՒԹՅՈՒՆՆԵՐ
A26: 60141100 | B26: ոչ կանոնավոր ուղևորափոխադրման ծառայություններ | C26: ՄԱ | D26: դրամ | E26: 1 | F26: =+Հ5!F125*1000 -> 120000 | G26: =+E26*F26/1000 -> 120
A27: ՀՀ Տավուշի մարզպետարան
A28: Բաժին N 01 | B28: Խումբ N 08 | C28: Դաս N 01 | D28: Կառավարության տարբեր մակարդակների միջև իրականացվող ընդհանուր բնույթի տրանսֆերտներ
A29: 1212 12017 | B29: Պատերազմի արդյունքում ժամանակավորապես Հայաստանի Հանրապետությունում գտնվող քաղաքացիներին մշտական բնակության վայր տեղափոխում
B30: ՄԱՍ III. ԾԱՌԱՅՈՒԹՅՈՒՆՆԵՐ
A31: 60141100 | B31: ոչ կանոնավոր ուղևորափոխադրման ծառայություններ | C31: ՄԱ | D31: դրամ | E31: 1 | F31: =+Հ5!F145*1000 -> 130000 | G31: =+E31*F31/1000 -> 130

Sheet Հ7
I1: Հավելված N 7
I2: ՀՀ կառավարության 2021 թվականի
I3: ______________N______-Ն որոշման
B5: ՀԱՅԱՍՏԱՆԻ ՀԱՆՐԱՊԵՏՈՒԹՅԱՆ 2020 ԹՎԱԿԱՆԻ ՊԵՏԱԿԱՆ ԲՅՈՒՋԵՈՎ ՆԱԽԱՏԵՍՎԱԾ՝ ՀԱՅԱՍՏԱՆԻ ՀԱՆՐԱՊԵՏՈՒԹՅԱՆ ԿԱՌԱՎԱՐՈՒԹՅԱՆ ՊԱՀՈՒՍՏԱՅԻՆ ՖՈՆԴԻՑ ՀԱՏԿԱՑՈՒՄՆԵՐ ԿԱՏԱՐԵԼՈՒ ՎԵՐԱԲԵՐՅԱԼ
F8: հազար դրամներով
A9: Գործառական դասիչը | D9: Ծրագրային դասիչը | F9: Բյուջետային հատկացումների գլխավոր կարգադրիչների, ծրագրերի, միջոցառումների և միջոցառումները կատարող պետական մարմինների անվանումները | G9: Ցուցանիշների փոփոխությունը (ավելացումները նշված են դրական նշանով, իսկ նվազեցումները` փակագծերում)
A10: Բաժին | B10: Խումբ | C10: Դաս | D10: Ծրագիր | E10: Միջոցառում | G10: Առաջին կիսամյակ | H10: Ինն ամիս | I10: Տարի
F11: ԸՆԴԱՄԵՆԸ | G11: =+G13+G68 -> 0 | H11: =+H13+H68 -> 0 | I11: =+I13+I68 -> 0
F12: այդ թվում
F13: ՀՀ տարածքային կառավարման և ենթակառուցվածքների նախարարություն | G13: =+G14 -> 61782.3 | H13: =+H14 -> 61782.3 | I13: =+I14 -> 61782.3
A14: 01 | F14: ԸՆԴՀԱՆՈՒՐ ԲՆՈՒՅԹԻ ՀԱՆՐԱՅԻՆ ԾԱՌԱՅՈՒԹՅՈՒՆՆԵՐ | G14: =G16 -> 61782.3 | H14: =H16 -> 61782.3 | I14: =I16 -> 61782.3
F15: այդ թվում`
B16: 08 | F16: Կառավարության տարբեր մակարդակների միջև իրականացվող ընդհանուր բնույթի տրանսֆերտներ | G16: =G18 -> 61782.3 | H16: =H18 -> 61782.3 | I16: =I18 -> 61782.3
F17: այդ թվում`
C18: 01 | F18: Կառավարության տարբեր մակարդակների միջև իրականացվող ընդհանուր բնույթի տրանսֆերտներ | G18: =+G20 -> 61782.3 | H18: =+H20 -> 61782.3 | I18: =+I20 -> 61782.3
F19: այդ թվում`
F20: ՀՀ տարածքային կառավարման և ենթակառուցվածքների նախարարություն | G20: =+G22 -> 61782.3 | H20: =+H22 -> 61782.3 | I20: =+I22 -> 61782.3
F21: այդ թվում`
D22: 1212 | E22: Տարածքային զարգացում | G22: =+G24 -> 61782.3 | H22: =+H24 -> 61782.3 | I22: =+I24 -> 61782.3
E23: 12017 | F23: այդ թվում`
F24: =+Հ1!C22 -> Միջոցառման նկարագրությունը` | G24: =G33+G40+G47+G54+G61+G26 -> 61782.3 | H24: =H33+H40+H47+H54+H61+H26 -> 61782.3 | I24: =I33+I40+I47+I54+I61+I26 -> 61782.3
F25: այդ թվում` ըստ կատարողների
F26: ՀՀ տարածքային կառավարման և ենթակառուցվածքների նախարարություն | G26: =G28 -> 60030 | H26: =H28 -> 60030 | I26: =I28 -> 60030
F27: այդ թվում` բյուջետային ծախսերի տնտեսագիտական դասակարգման հոդվածներ
F28: ԸՆԴԱՄԵՆԸ ԾԱԽՍԵՐ | G28: =+G29 -> 60030 | H28: =+H29 -> 60030 | I28: =+I29 -> 60030
F29: ԸՆԹԱՑԻԿ ԾԱԽՍԵՐ | G29: =G30 -> 60030 | H29: =H30 -> 60030 | I29: =I30 -> 60030
F30: ԴՐԱՄԱՇՆՈՐՀՆԵՐ | G30: =G31 -> 60030 | H30: =H31 -> 60030 | I30: =I31 -> 60030
F31: Ընթացիկ դրամաշնորհներ պետական հատվածի այլ մակարդակներին | G31: =G32 -> 60030 | H31: =H32 -> 60030 | I31: =I32 -> 60030
F32: - Ընթացիկ սուբվենցիաներ համայնքներին | G32: =+Հ2!G48 -> 60030 | H32: =+Հ2!H48 -> 60030 | I32: =+Հ2!I48 -> 60030
F33: ՀՀ Արմավիրի մարզպետարան | G33: =G35 -> 320 | H33: =H35 -> 320 | I33: =I35 -> 320
F34: այդ թվում` բյուջետային ծախսերի տնտեսագիտական դասակարգման հոդվածներ
F35: ԸՆԴԱՄԵՆԸ ԾԱԽՍԵՐ | G35: =+G36 -> 320 | H35: =+H36 -> 320 | I35: =+I36 -> 320
F36: ԸՆԹԱՑԻԿ ԾԱԽՍԵՐ | G36: =G37 -> 320 | H36: =H37 -> 320 | I36: =I37 -> 320
F37: ԾԱՌԱՅՈՒԹՅՈՒՆՆԵՐԻ ԵՎ ԱՊՐԱՆՔՆԵՐԻ ՁԵՌՔԲԵՐՈՒՄ | G37: =G38 -> 320 | H37: =H38 -> 320 | I37: =I38 -> 320
F38: Պայմանագրային այլ ծառայությունների ձեռքբերում | G38: =G39 -> 320 | H38: =H39 -> 320 | I38: =I39 -> 320
F39: - Ընդհանուր բնույթի այլ ծառայություններ | G39: =+Հ2!G55 -> 320 | H39: =+Հ2!H55 -> 320 | I39: =+Հ2!I55 -> 320
F40: ՀՀ Կոտայքի մարզպետարան | G40: =G42 -> 870 | H40: =H42 -> 870 | I40: =I42 -> 870
F41: այդ թվում` բյուջետային ծախսերի տնտեսագիտական դասակարգման հոդվածներ
F42: ԸՆԴԱՄԵՆԸ ԾԱԽՍԵՐ | G42: =+G43 -> 870 | H42: =+H43 -> 870 | I42: =+I43 -> 870
F43: ԸՆԹԱՑԻԿ ԾԱԽՍԵՐ | G43: =G44 -> 870 | H43: =H44 -> 870 | I43: =I44 -> 870
F44: ԾԱՌԱՅՈՒԹՅՈՒՆՆԵՐԻ ԵՎ ԱՊՐԱՆՔՆԵՐԻ ՁԵՌՔԲԵՐՈՒՄ | G44: =G45 -> 870 | H44: =H45 -> 870 | I44: =I45 -> 870
F45: Պայմանագրային այլ ծառայությունների ձեռքբերում | G45: =G46 -> 870 | H45: =H46 -> 870 | I45: =I46 -> 870
F46: - Ընդհանուր բնույթի այլ ծառայություններ | G46: =+Հ2!G62 -> 870 | H46: =+Հ2!H62 -> 870 | I46: =+Հ2!I62 -> 870
F47: ՀՀ Սյունիքի մարզպետարան | G47: =G49 -> 312.3 | H47: =H49 -> 312.3 | I47: =I49 -> 312.3
F48: այդ թվում`բյուջետային ծախսերի տնտեսագիտական դասակարգման հոդվածներ
F49: ԸՆԴԱՄԵՆԸ ԾԱԽՍԵՐ | G49: =+G50 -> 312.3 | H49: =+H50 -> 312.3 | I49: =+I50 -> 312.3
F50: ԸՆԹԱՑԻԿ ԾԱԽՍԵՐ | G50: =G51 -> 312.3 | H50: =H51 -> 312.3 | I50: =I51 -> 312.3
F51: ԾԱՌԱՅՈՒԹՅՈՒՆՆԵՐԻ ԵՎ ԱՊՐԱՆՔՆԵՐԻ ՁԵՌՔԲԵՐՈՒՄ | G51: =G52 -> 312.3 | H51: =H52 -> 312.3 | I51: =I52 -> 312.3
F52: Պայմանագրային այլ ծառայությունների ձեռքբերում | G52: =G53 -> 312.3 | H52: =H53 -> 312.3 | I52: =I53 -> 312.3
F53: - Ընդհանուր բնույթի այլ ծառայություններ | G53: =+Հ2!G69 -> 312.3 | H53: =+Հ2!H69 -> 312.3 | I53: =+Հ2!I69 -> 312.3
F54: ՀՀ Վայոց ձորի մարզպետարան | G54: =G56 -> 120 | H54: =H56 -> 120 | I54: =I56 -> 120
F55: այդ թվում`բյուջետային ծախսերի տնտեսագիտական դասակարգման հոդվածներ
F56: ԸՆԴԱՄԵՆԸ ԾԱԽՍԵՐ | G56: =+G57 -> 120 | H56: =+H57 -> 120 | I56: =+I57 -> 120
F57: ԸՆԹԱՑԻԿ ԾԱԽՍԵՐ | G57: =G58 -> 120 | H57: =H58 -> 120 | I57: =I58 -> 120
F58: ԾԱՌԱՅՈՒԹՅՈՒՆՆԵՐԻ ԵՎ ԱՊՐԱՆՔՆԵՐԻ ՁԵՌՔԲԵՐՈՒՄ | G58: =G59 -> 120 | H58: =H59 -> 120 | I58: =I59 -> 120
F59: Պայմանագրային այլ ծառայությունների ձեռքբերում | G59: =G60 -> 120 | H59: =H60 -> 120 | I59: =I60 -> 120
F60: - Ընդհանուր բնույթի այլ ծառայություններ | G60: =+Հ2!G76 -> 120 | H60: =+Հ2!H76 -> 120 | I60: =+Հ2!I76 -> 120
F61: ՀՀ Տավուշի մարզպետարան | G61: =G63 -> 130 | H61: =H63 -> 130 | I61: =I63 -> 130
F62: այդ թվում`բյուջետային ծախսերի տնտեսագիտական դասակարգման հոդվածներ
F63: ԸՆԴԱՄԵՆԸ ԾԱԽՍԵՐ | G63: =+G64 -> 130 | H63: =+H64 -> 130 | I63: =+I64 -> 130
F64: ԸՆԹԱՑԻԿ ԾԱԽՍԵՐ | G64: =G65 -> 130 | H64: =H65 -> 130 | I64: =I65 -> 130
F65: ԾԱՌԱՅՈՒԹՅՈՒՆՆԵՐԻ ԵՎ ԱՊՐԱՆՔՆԵՐԻ ՁԵՌՔԲԵՐՈՒՄ | G65: =G66 -> 130 | H65: =H66 -> 130 | I65: =I66 -> 130
F66: Պայմանագրային այլ ծառայությունների ձեռքբերում | G66: =G67 -> 130 | H66: =H67 -> 130 | I66: =I67 -> 130
F67: - Ընդհանուր բնույթի այլ ծառայություններ | G67: =+Հ2!G83 -> 130 | H67: =+Հ2!H83 -> 130 | I67: =+Հ2!I83 -> 130
A68: 11 | F68: ՀՀ կառավարություն | G68: =+G69 -> -61782.3 | H68: =+H69 -> -61782.3 | I68: =+I69 -> -61782.3
F69: ՀԻՄՆԱԿԱՆ ԲԱԺԻՆՆԵՐԻՆ ՉԴԱՍՎՈՂ ՊԱՀՈՒՍՏԱՅԻՆ ՖՈՆԴԵՐ | G69: =+G71 -> -61782.3 | H69: =+H71 -> -61782.3 | I69: =+I71 -> -61782.3
B70: 01 | F70: այդ թվում`
F71: ՀՀ կառավարության և համայնքների պահուստային ֆոնդ | G71: =+G73 -> -61782.3 | H71: =+H73 -> -61782.3 | I71: =+I73 -> -61782.3
C72: 01 | F72: այդ թվում`
D73: 1139 | E73: ՀՀ կառավարության պահուստային ֆոնդ | F73: ՀՀ կառավարության պահուստային ֆոնդ | G73: =+G75 -> -61782.3 | H73: =+H75 -> -61782.3 | I73: =+I75 -> -61782.3
F74: այդ թվում`
E75: 11001 | F75: ՀՀ կառավարության պահուստային ֆոնդ | G75: =+G77 -> -61782.3 | H75: =+H77 -> -61782.3 | I75: =+I77 -> -61782.3
F76: այդ թվում` ըստ կատարողների
F77: ՀՀ կառավարություն | G77: =+G79 -> -61782.3 | H77: =+H79 -> -61782.3 | I77: =+I79 -> -61782.3
F78: այդ թվում` բյուջետային ծախսերի տնտեսագիտական դասակարգման հոդվածներ
F79: ԸՆԴԱՄԵՆԸ ԾԱԽՍԵՐ | G79: =+G80 -> -61782.3 | H79: =+H80 -> -61782.3 | I79: =+I80 -> -61782.3
F80: ԸՆԹԱՑԻԿ ԾԱԽՍԵՐ | G80: =+G81 -> -61782.3 | H80: =+H81 -> -61782.3 | I80: =+I81 -> -61782.3
F81: ԱՅԼ ԾԱԽՍԵՐ | G81: =+G82 -> -61782.3 | H81: =+H82 -> -61782.3 | I81: =+I82 -> -61782.3
F82: Պահուստային միջոցներ | G82: =-Հ2!G102 -> -61782.3 | H82: =-Հ2!H102 -> -61782.3 | I82: =-Հ2!I102 -> -61782.3
