Workbook
Name AgencyCode: #REF!
Name AgencyCode: #REF!
Name AgencyCode: #REF!
Name AgencyName: #REF!
Name AgencyName: #REF!
Name AgencyName: #REF!
Name åû: #REF!
Name davit: #REF!
Name Functional1: #REF!
Name Functional1: #REF!
Name Functional1: #REF!
Name ggg: #REF!
Name mas: #REF!
Name mass: #REF!
Name PANature: #REF!
Name PANature: #REF!
Name PANature: #REF!
Name PAType: #REF!
Name PAType: #REF!
Name PAType: #REF!
Name Performance2: #REF!
Name Performance2: #REF!
Name Performance2: #REF!
Name PerformanceType: #REF!
Name PerformanceType: #REF!
Name PerformanceType: #REF!
Name x: #REF!
Name Հավելված: #REF!
Name Մաս: #REF!
Name շախմատիստ: #REF!

Sheet Հ1
F1: Հավելված N 1
F2: ՀՀ կառավարության 2021 թվականի
F3: ______________ ի ___Ն որոշման
A5: «ՀԱՅԱUՏԱՆԻ ՀԱՆՐԱՊԵՏՈՒԹՅԱՆ 2021 ԹՎԱԿԱՆԻ ՊԵՏԱԿԱՆ ԲՅՈՒՋԵԻ ՄԱUԻՆ» OՐԵՆՔԻ N 1 ՀԱՎԵԼՎԱԾԻ N 2 ԱՂՅՈՒՍԱԿՈՒՄ ԿԱՏԱՐՎՈՂ ՎԵՐԱԲԱՇԽՈՒՄԸ ԵՎ ՀԱՅԱՍՏԱՆԻ ՀԱՆՐԱՊԵՏՈՒԹՅԱՆ ԿԱՌԱՎԱՐՈՒԹՅԱՆ 2020 ԹՎԱԿԱՆԻ ԴԵԿՏԵՄԲԵՐԻ 30-Ի N 2215-Ն ՈՐՈՇՄԱՆ N 5 ՀԱՎԵԼՎԱԾԻ N 1 ԱՂՅՈՒՍԱԿՈՒՄ ԿԱՏԱՐՎՈՂ ՓՈՓՈԽՈՒԹՅՈՒՆՆԵՐԸ ԵՎ ԼՐԱՑՈՒՄՆԵՐԸ
F7: հազար դրամներով
A8: Ծրագրային դասիչը | C8: Բյուջետային հատկացումների գլխավոր կարգադրիչների, ծրագրերի և միջոցառումների անվանումները | D8: Ցուցանիշների փոփոխությունը (ավելացումները նշված են դրական նշանով, իսկ նվազեցումները` փակագծերում)
A9: Ծրագիր | B9: Միջոցառում | D9: Առաջին կիսամյակ | E9: Ինն ամիս | F9: Տարի
C10: ԸՆԴԱՄԵՆԸ | D10: 0 | E10: 0 | F10: 0
C11: այդ թվում
B12: ՀՀ տարածքային կառավարման և ենթակառուցվածքների նախարարություն | D12: 0 | E12: 0 | F12: 0
A13: 1212 | C13: Ծրագրի անվանումը`
C14: Տարածքային զարգացում | D14: 61782.3 | E14: 61782.3 | F14: 61782.3
C15: Ծրագրի նպատակը`
C16: Տարածքային համաչափ զարգացման խթանում
C17: Վերջնական արդյունքի նկարագրությունը`
C18: ՀՀ համայնքների կառավարման արդյունավետության բարձրացում և տնտեսական գործունեության խթանում
C19: Ծրագրի միջոցառումներ
B20: 12017 | C20: Միջոցառման անվանումը`
C21: Պատերազմի արդյունքում ժամանակավորապես Հայաստանի Հանրապետությունում գտնվող քաղաքացիներին մշտական բնակության վայր տեղափոխում | D21: 61782.3 | E21: 61782.3 | F21: 61782.3
C22: Միջոցառման նկարագրությունը`
C23: Ադրբեջանի կողմից սանձազերծված պատերազմի արդյունքում Արցախի Հանրապետությունից Հայաստանի Հանրապետություն ժամանակավորապես ժամանած քաղաքացիներին Արցախի Հանրապետություն ուղարկելու նպատակով` Երևանի քաղաքապետարանի և ՀՀ մարզպետարանների կողմից կազմակերպված ուղևորափոխադրումների փոխհատուցում
C24: Միջոցառման տեսակը
C25: Տրանսֆերտների տրամադրում
A26: 1176 | C26: Ծրագրի անվանումը` | D26: -61782.3 | E26: -61782.3 | F26: -61782.3
C27: Ավիացիայի բնագավառում վերահսկողության և կանոնակարգման ապահովում
C28: Ծրագրի նպատակը`
C29: ՀՀ քաղաքացիական ավիացիայի համակարգի ենթակառուցվածքների գործունեության կանոնակարգում և զարգացում
C30: Վերջնական արդյունքի նկարագրությունը`
C31: ՀՀ օդային տարածքով քաղաքացիների և բեռների անվտանգ և արագ տեղափոխման գործընթացների պատշաճ կանոնակարգում և դրանց պահանջների ապահովում
C32: Ծրագրի միջոցառումներ
B33: 11003 | C33: Միջոցառման անվանումը` | D33: -61782.3 | E33: -61782.3 | F33: -61782.3
C34: Ավիացիոն և այլ սարքավորումների պահպանում
C35: Միջոցառման նկարագրությունը`
C36: Ավիացիոն և այլ սարքավորումների նորոգում և պահպանում
C37: Միջոցառման տեսակը
C38: Ծառայությունների մատուցում
B39: ՀՀ կառավարություն | C39: ՀՀ կառավարություն | D39: 0 | E39: 0 | F39: 0
A40: 1139 | C40: Ծրագրի անվանումը`
C41: ՀՀ կառավարության պահուստային ֆոնդ | D41: 0 | E41: 0 | F41: 0
C42: Ծրագրի նպատակը`
...

Sheet Հ2
I1: Հավելված N 2
I2: ՀՀ կառավարության 2021 թվականի
I3: ______________ ի ___Ն որոշման
A5: ՀԱՅԱՍՏԱՆԻ ՀԱՆՐԱՊԵՏՈՒԹՅԱՆ ԿԱՌԱՎԱՐՈՒԹՅԱՆ 2020 ԹՎԱԿԱՆԻ ԴԵԿՏԵՄԲԵՐԻ 30-Ի N 2215-Ն ՈՐՈՇՄԱՆ N 3 ԵՎ N 4 ՀԱՎԵԼՎԱԾՆԵՐՈՒՄ ԿԱՏԱՐՎՈՂ ՓՈՓՈԽՈՒԹՅՈՒՆՆԵՐԸ ԵՎ ԼՐԱՑՈՒՄՆԵՐԸ
I7: հազար դրամներով
A8: Գործառական դասիչը | D8: Ծրագրային դասիչը | F8: Բյուջետային հատկացումների գլխավոր կարգադրիչների, ծրագրերի, միջոցառումների և միջոցառումները կատարող պետական մարմինների անվանումները | G8: Ցուցանիշների փոփոխությունը (ավելացումները նշված են դրական նշանով, իսկ նվազեցումները` փակագծերում)
A9: Բաժին | B9: Խումբ | C9: Դաս | D9: Ծրագիր | E9: Միջոցառում | G9: Առաջին կիսամյակ | H9: Ինն ամիս | I9: Տարի
F10: ԸՆԴԱՄԵՆԸ | G10: =+G12+G84 -> 0 | H10: =+H12+H84 -> 0 | I10: =+I12+I84 -> 0
F11: այդ թվում
F12: ՀՀ տարածքային կառավարման և ենթակառուցվածքների նախարարություն | G12: =+G13+G30 -> 0 | H12: =+H13+H30 -> 0 | I12: =+I13+I30 -> 0
A13: 04 | F13: ՏՆՏԵՍԱԿԱՆ ՀԱՐԱԲԵՐՈՒԹՅՈՒՆՆԵՐ | G13: =+G15 -> -61782.3 | H13: =+H15 -> -61782.3 | I13: =+I15 -> -61782.3
F14: այդ թվում`
B15: 05 | F15: Տրանսպորտ | G15: =+G17 -> -61782.3 | H15: =+H17 -> -61782.3 | I15: =+I17 -> -61782.3
F16: այդ թվում`
C17: 04 | F17: Օդային տրանսպորտ | G17: =+G19 -> -61782.3 | H17: =+H19 -> -61782.3 | I17: =+I19 -> -61782.3
F18: այդ թվում`
D19: 1176 | F19: Ավիացիայի բնագավառում վերահսկողության և կանոնակարգման ապահովում | G19: =+G21 -> -61782.3 | H19: =+H21 -> -61782.3 | I19: =+I21 -> -61782.3
F20: այդ թվում`
E21: 11003 | F21: Ավիացիոն և այլ սարքավորումների պահպանում | G21: =+G23 -> -61782.3 | H21: =+H23 -> -61782.3 | I21: =+I23 -> -61782.3
F22: այդ թվում` ըստ կատարողների
F23: ՀՀ տարածքային կառավարման և ենթակառուցվածքների նախարարության քաղաքացիական ավիացիայի կոմիտե | G23: =+G25 -> -61782.3 | H23: =+H25 -> -61782.3 | I23: =+I25 -> -61782.3
F24: այդ թվում` բյուջետային ծախսերի տնտեսագիտական դասակարգման հոդվածներ
F25: ԸՆԴԱՄԵՆԸ ԾԱԽՍԵՐ | G25: =+G28 -> -61782.3 | H25: =+H28 -> -61782.3 | I25: =+I28 -> -61782.3
F26: ԸՆԹԱՑԻԿ ԾԱԽՍԵՐ | G26: =+G27 -> -61782.3 | H26: =+H27 -> -61782.3 | I26: =+I27 -> -61782.3
F27: ԾԱՌԱՅՈՒԹՅՈՒՆՆԵՐԻ ԵՎ ԱՊՐԱՆՔՆԵՐԻ ՁԵՌՔԲԵՐՈՒՄ | G27: =+G28 -> -61782.3 | H27: =+H28 -> -61782.3 | I27: =+I28 -> -61782.3
F28: Ընթացիկ նորոգում և պահպանում (ծառայություններ և նյութեր) | G28: =+G29 -> -61782.3 | H28: =+H29 -> -61782.3 | I28: =+I29 -> -61782.3
F29: - Մեքենաների և սարքավորումների ընթացիկ նորոգում և պահպանում | G29: =-G30 -> -61782.3 | H29: =-H30 -> -61782.3 | I29: =-I30 -> -61782.3
A30: 01 | F30: ԸՆԴՀԱՆՈՒՐ ԲՆՈՒՅԹԻ ՀԱՆՐԱՅԻՆ ԾԱՌԱՅՈՒԹՅՈՒՆՆԵՐ | G30: =G32 -> 61782.3 | H30: =H32 -> 61782.3 | I30: =I32 -> 61782.3
F31: այդ թվում`
B32: 08 | F32: Կառավարության տարբեր մակարդակների միջև իրականացվող ընդհանուր բնույթի տրանսֆերտներ | G32: =G34 -> 61782.3 | H32: =H34 -> 61782.3 | I32: =I34 -> 61782.3
F33: այդ թվում`
C34: 01 | F34: Կառավարության տարբեր մակարդակների միջև իրականացվող ընդհանուր բնույթի տրանսֆերտներ | G34: =+G36 -> 61782.3 | H34: =+H36 -> 61782.3 | I34: =+I36 -> 61782.3
F35: այդ թվում`
F36: ՀՀ տարածքային կառավարման և ենթակառուցվածքների նախարարություն | G36: =+G38 -> 61782.3 | H36: =+H38 -> 61782.3 | I36: =+I38 -> 61782.3
F37: այդ թվում`
D38: 1212 | E38: Տարածքային զարգացում | G38: =+G40 -> 61782.3 | H38: =+H40 -> 61782.3 | I38: =+I40 -> 61782.3
E39: 12017 | F39: այդ թվում`
F40: =+Հ1!C21 -> Պատերազմի արդյունքում ժամանակավորապես Հայաստանի Հանրապետությունում գտնվող քաղաքացիներին մշտական բնակության վայր տեղափոխում | G40: =G49+G56+G63+G70+G77+G42 -> 61782.3 | H40: =H49+H56+H63+H70+H77+H42 -> 61782.3 | I40: =I49+I56+I63+I70+I77+I42 -> 61782.3
F41: այդ թվում` ըստ կատարողների
F42: ՀՀ տարածքային կառավարման և ենթակառուցվածքների նախարարություն | G42: =G44 -> 60030 | H42: =H44 -> 60030 | I42: =I44 -> 60030
...

Sheet Հ3
G1: Հավելված 3
G2: ՀՀ կառավարության 2021 թվականի
G3: ______________ ի ___Ն որոշման
A5: «ՀԱՅԱՍՏԱՆԻ ՀԱՆՐԱՊԵՏՈՒԹՅԱՆ 2021 ԹՎԱԿԱՆԻ ՊԵՏԱԿԱՆ ԲՅՈՒՋԵԻ ՄԱՍԻՆ» ՀՀ ՕՐԵՆՔԻ N 1 ՀԱՎԵԼՎԱԾԻ N 7 ԱՂՅՈՒՍԱԿՈՒՄ ԵՎ ՀԱՅԱՍՏԱՆԻ ՀԱՆՐԱՊԵՏՈՒԹՅԱՆ ԿԱՌԱՎԱՐՈՒԹՅԱՆ 2020 ԹՎԱԿԱՆԻ ԴԵԿՏԵՄԲԵՐԻ 30-Ի N 2215-Ն ՈՐՈՇՄԱՆ N 5 ՀԱՎԵԼՎԱԾԻ N 6 ԱՂՅՈՒՍԱԿՈՒՄ ԿԱՏԱՐՎՈՂ ԼՐԱՑՈՒՄԸ
G7: հազ. դրամներով
B8: Ծրագրային դասիչը | D8: Հատկացումների տրամադրման նպատակները և բյուջետային գլխավոր կարգադրիչների, ծրագրերի, միջոցառումների և կատարող պետական մարմնի անվանումները | E8: Ցուցանիշների փոփոխությունը (ավելացումները նշված են դրական նշանով)
B9: Ծրագիր | C9: Միջոցառում | E9: Առաջին կիսամյակ | F9: Ինն ամիս | G9: Տարի
D10: Ընդամենը | E10: =+E12 -> 60030 | F10: =+F12 -> 60030 | G10: =+G12 -> 60030
B11: այդ թվում`
B12: ՀՀ տարածքային կառավարման և ենթակառուցվածքների նախարարություն | E12: =+E14 -> 60030 | F12: =+F14 -> 60030 | G12: =+G14 -> 60030
B13: այդ թվում`
B14: 1212 | C14: Տարածքային զարգացում | E14: =E15 -> 60030 | F14: =F15 -> 60030 | G14: =G15 -> 60030
C15: 12017 | D15: =+Հ2!F40 -> Պատերազմի արդյունքում ժամանակավորապես Հայաստանի Հանրապետությունում գտնվող քաղաքացիներին մշտական բնակության վայր տեղափոխում | E15: =+E16 -> 60030 | F15: =+F16 -> 60030 | G15: =+G16 -> 60030
D16: ՀՀ տարածքային կառավարման և ենթակառուցվածքների նախարարություն | E16: =+Հ2!G48 -> 60030 | F16: =+Հ2!H48 -> 60030 | G16: =+Հ2!I48 -> 60030

Sheet Հ4
F1: Հավելված N 4
F2: ՀՀ կառավարության 2021 թվականի
F3: ______________ ի ___Ն որոշման
B6: ՀԱՅԱՍՏԱՆԻ ՀԱՆՐԱՊԵՏՈՒԹՅԱՆ ԿԱՌԱՎԱՐՈՒԹՅԱՆ 2020 ԹՎԱԿԱՆԻ ԴԵԿՏԵՄԲԵՐԻ 30-Ի N 2215-Ն ՈՐՈՇՄԱՆ N 9 ՀԱՎԵԼՎԱԾԻ N 9.8 ԱՂՅՈՒՍԱԿՈՒՄ ԿԱՏԱՐՎՈՂ ՓՈՓՈԽՈՒԹՅՈՒՆՆԵՐԸ ԵՎ ԼՐԱՑՈՒՄՆԵՐԸ
B8: ՀՀ տարածքային կառավարման և ենթակառուցվածքների նախարարություն
B10: ՄԱՍ 2. ՊԵՏԱԿԱՆ ՄԱՐՄՆԻ ԳԾՈՎ ԱՐԴՅՈՒՆՔԱՅԻՆ (ԿԱՏԱՐՈՂԱԿԱՆ) ՑՈՒՑԱՆԻՇՆԵՐԸ
B12: Ծրագրի դասիչը | C12: Ծրագրի անվանումը
B13: 1212 | C13: Տարածքային զարգացում
B15: Ծրագրի միջոցառումները
B16: Ծրագրի դասիչը` | C16: 1212 | D16: Ցուցանիշների փոփոխությունը (ավելացումները նշված են դրական նշանով)
B17: Միջոցառման դասիչը` | C17: 12017 | D17: Առաջին կիսամյակ | E17: Ինն ամիս | F17: Տարի
B18: Միջոցառման անվանումը` | C18: =+Հ1!C21 -> Պատերազմի արդյունքում ժամանակավորապես Հայաստանի Հանրապետությունում գտնվող քաղաքացիներին մշտական բնակության վայր տեղափոխում
B19: Նկարագրությունը` | C19: =+Հ1!C23 -> Ադրբեջանի կողմից սանձազերծված պատերազմի արդյունքում Արցախի Հանրապետությունից Հայաստանի Հանրապետություն ժամանակավորապես ժամանած քաղաքացիներին Արցախի Հանրապետություն ուղարկելու նպատակով` Երևանի քաղաքապետարանի և ՀՀ մարզպետարանների կողմից կազմակերպված ուղևորափոխադրումների փոխհատուցում
B20: Միջոցառման տեսակը` | C20: Տրանսֆերտների տրամադրում
B21: Շահառուների ընտրության չափանիշները` | C21: Մասնագիտացված միավոր
B22: Արդյունքի չափորոշիչներ
B23: Տեղափոխված ուղևորների քանակ, մարդ | D23: =+Հ5!D41+Հ5!D61+Հ5!D82+Հ5!D103+Հ5!D123+Հ5!D143 -> 9455 | E23: =+Հ5!E41+Հ5!E61+Հ5!E82+Հ5!E103+Հ5!E123+Հ5!E143 -> 9455 | F23: =+Հ5!F41+Հ5!F61+Հ5!F82+Հ5!F103+Հ5!F123+Հ5!F143 -> 9455
B24: Երթերի քանակ, հատ | D24: =+Հ5!D42+Հ5!D62+Հ5!D83+Հ5!D104+Հ5!D124+Հ5!D144 -> 219 | E24: =+Հ5!E42+Հ5!E62+Հ5!E83+Հ5!E104+Հ5!E124+Հ5!E144 -> 219 | F24: =+Հ5!F42+Հ5!F62+Հ5!F83+Հ5!F104+Հ5!F124+Հ5!F144 -> 219
B25: Միջոցառման վրա կատարվող ծախսը (հազար դրամ) | D25: =+Հ2!G40 -> 61782.3 | E25: =+Հ2!H40 -> 61782.3 | F25: =+Հ2!I40 -> 61782.3
B27: Ծրագրի դասիչը | C27: Ծրագրի անվանումը
B28: 1176 | C28: Ավիացիայի բնագավառում վերահսկողության և կանոնակարգման ապահովում
B30: Ծրագրի միջոցառումները
B32: Ծրագրի դասիչը՝ | C32: 1176 | D32: Ցուցանիշների փոփոխությունը (նվազեցումները նշված են փակագծերում)
B33: Միջոցառման դասիչը՝ | C33: 11003 | D33: Առաջին կիսամյակ | E33: Ինն ամիս | F33: Տարի
B34: Միջոցառման անվանումը՝ | C34: Ավիացիոն և այլ սարքավորումների պահպանում
B35: Նկարագրությունը՝ | C35: Ավիացիոն և այլ սարքավորումների նորոգում և պահպանում
B36: Միջոցառման տեսակը՝ | C36: Ծառայությունների մատուցում
B37: Միջոցառումն իրականացնողի անվանումը | C37: ՀՀ տարածքային կառավարման և ենթակառուցվածքների նախարարության քաղաքացիական ավիացիայի կոմիտե
C38: Արդյունքի չափորոշիչներ
B39: Միջոցառման վրա կատարվող ծախսը (հազար դրամ) | D39: =-D25 -> -61782.3 | E39: =-E25 -> -61782.3 | F39: =-F25 -> -61782.3
B42: ՀԱՅԱՍՏԱՆԻ ՀԱՆՐԱՊԵՏՈՒԹՅԱՆ ԿԱՌԱՎԱՐՈՒԹՅԱՆ 2020 ԹՎԱԿԱՆԻ ԴԵԿՏԵՄԲԵՐԻ 30-Ի N 2215-Ն ՈՐՈՇՄԱՆ N 9 ՀԱՎԵԼՎԱԾԻ N 9.47 ԱՂՅՈՒՍԱԿՈՒՄ ԿԱՏԱՐՎՈՂ ՓՈՓՈԽՈՒԹՅՈՒՆՆԵՐԸ
C44: ՀՀ կառավարություն
B45: ՄԱՍ 2. ՊԵՏԱԿԱՆ ՄԱՐՄՆԻ ԳԾՈՎ ԱՐԴՅՈՒՆՔԱՅԻՆ (ԿԱՏԱՐՈՂԱԿԱՆ) ՑՈՒՑԱՆԻՇՆԵՐԸ
B47: Ծրագրի դասիչը | C47: Ծրագրի անվանումը
B48: 1139 | C48: ՀՀ կառավարության պահուստային ֆոնդ
B50: Ծրագրի միջոցառումները
B51: Ծրագրի դասիչը՝ | C51: 1139 | D51: Ցուցանիշների փոփոխությունը (նվազեցումները նշված են փակագծերում)
B52: Միջոցառման դասիչը՝ | C52: 11001 | D52: Առաջին կիսամյակ | E52: Ինն ամիս | F52: Տարի
B53: Միջոցառման անվանումը՝ | C53: ՀՀ կառավարության պահուստային ֆոնդ
B54: Նկարագրությունը՝ | C54: ՀՀ պետական բյուջեում նախատեսված ելքերի լրացուցիչ ֆինանսավորման՝ պետական բյուջեում չկանխատեսված ելքերի, ինչպես նաև բյուջետային երաշխիքների ապահովման ելքերի ֆինանսավորման ապահովում
...

Sheet Հ5
F1: Հավելված N 5
F2: ՀՀ կառավարության 2021 թվականի
F3: ______________ ի ___Ն որոշման
A5: ՀԱՅԱՍՏԱՆԻ ՀԱՆՐԱՊԵՏՈՒԹՅԱՆ ԿԱՌԱՎԱՐՈՒԹՅԱՆ 2020 ԹՎԱԿԱՆԻ ԴԵԿՏԵՄԲԵՐԻ 30-Ի N 2215-Ն ՈՐՈՇՄԱՆ N 9.1 ՀԱՎԵԼՎԱԾԻ 9.1.30 ԱՂՅՈՒՍԱԿՈՒՄ ԿԱՏԱՐՎՈՂ ՓՈՓՈԽՈՒԹՅՈՒՆՆԵՐԸ
B7: ՀՀ տարածքային կառավարման և ենթակառուցվածքների նախարարության քաղաքացիական ավիացիայի կոմիտե
B9: ՄԱՍ 1. ՊԵՏԱԿԱՆ ՄԱՐՄՆԻ ԳԾՈՎ ԱՐԴՅՈՒՆՔԱՅԻՆ (ԿԱՏԱՐՈՂԱԿԱՆ) ՑՈՒՑԱՆԻՇՆԵՐԸ
B11: Ծրագրի դասիչը | C11: Ծրագրի անվանումը
B12: 1176 | C12: Ավիացիայի բնագավառում վերահսկողության և կանոնակարգման ապահովում
B14: Ծրագրի միջոցառումները
B16: Ծրագրի դասիչը՝ | C16: 1176 | D16: Ցուցանիշների փոփոխությունը (նվազեցումները նշված են փակագծերում)
B17: Միջոցառման դասիչը՝ | C17: 11003 | D17: Առաջին կիսամյակ | E17: Ինն ամիս | F17: Տարի
B18: Միջոցառման անվանումը՝ | C18: Ավիացիոն և այլ սարքավորումների պահպանում
B19: Նկարագրությունը՝ | C19: Ավիացիոն և այլ սարքավորումների նորոգում և պահպանում
B20: Միջոցառման տեսակը՝ | C20: Ծառայությունների մատուցում
B21: Միջոցառումն իրականացնողի անվանումը | C21: ՀՀ տարածքային կառավարման և ենթակառուցվածքների նախարարության քաղաքացիական ավիացիայի կոմիտե
C22: Արդյունքի չափորոշիչներ
B23: Միջոցառման վրա կատարվող ծախսը (հազար դրամ) | D23: =-D43-D63-D84-D105-D125-D145 -> -61782.3 | E23: =-E43-E63-E84-E105-E125-E145 -> -61782.3 | F23: =-F43-F63-F84-F105-F125-F145 -> -61782.3
B25: ՀԱՅԱՍՏԱՆԻ ՀԱՆՐԱՊԵՏՈՒԹՅԱՆ ԿԱՌԱՎԱՐՈՒԹՅԱՆ 2020 ԹՎԱԿԱՆԻ ԴԵԿՏԵՄԲԵՐԻ 30-Ի N 2215-Ն ՈՐՈՇՄԱՆ N 9.1 ՀԱՎԵԼՎԱԾԻ N 9.1.8 ԱՂՅՈՒՍԱԿՈՒՄ ԿԱՏԱՐՎՈՂ ՓՈՓՈԽՈՒԹՅՈՒՆՆԵՐԸ ԵՎ ԼՐԱՑՈՒՄՆԵՐԸ
B27: ՀՀ տարածքային կառավարման և ենթակառուցվածքների նախարարություն
B28: ՄԱՍ 1. ՊԵՏԱԿԱՆ ՄԱՐՄՆԻ ԳԾՈՎ ԱՐԴՅՈՒՆՔԱՅԻՆ (ԿԱՏԱՐՈՂԱԿԱՆ) ՑՈՒՑԱՆԻՇՆԵՐԸ
B30: Ծրագրի դասիչը | C30: Ծրագրի անվանումը
B31: 1212 | C31: Տարածքային զարգացում
B33: Ծրագրի միջոցառումները
B34: Ծրագրի դասիչը` | C34: 1212 | D34: Ցուցանիշների փոփոխությունը (ավելացումները նշված են դրական նշանով)
B35: Միջոցառման դասիչը` | C35: 12017 | D35: Առաջին կիսամյակ | E35: Ինն ամիս | F35: Տարի
B36: Միջոցառման անվանումը` | C36: Պատերազմի արդյունքում ժամանակավորապես Հայաստանի Հանրապետությունում գտնվող քաղաքացիներին մշտական բնակության վայր տեղափոխում
B37: Նկարագրությունը` | C37: Ադրբեջանի կողմից սանձազերծված պատերազմի արդյունքում Արցախի Հանրապետությունից Հայաստանի Հանրապետություն ժամանակավորապես ժամանած քաղաքացիներին Արցախի Հանրապետություն ուղարկելու նպատակով` Երևանի քաղաքապետարանի և ՀՀ մարզպետարանների կողմից կազմակերպված ուղևորափոխադրումների փոխհատուցում
B38: Միջոցառման տեսակը` | C38: Տրանսֆերտների տրամադրում
B39: Շահառուների ընտրության չափանիշները` | C39: Մասնագիտացված միավոր
B40: Արդյունքի չափորոշիչներ
B41: Տեղափոխված ուղևորների քանակ, մարդ | D41: 9262 | E41: 9262 | F41: 9262
B42: Երթերի քանակ, հատ | D42: 207 | E42: 207 | F42: 207
B43: Միջոցառման վրա կատարվող ծախսը (հազար դրամ) | D43: =+Հ2!G48 -> 60030 | E43: =+Հ2!H48 -> 60030 | F43: =+Հ2!I48 -> 60030
B45: ՀԱՅԱՍՏԱՆԻ ՀԱՆՐԱՊԵՏՈՒԹՅԱՆ ԿԱՌԱՎԱՐՈՒԹՅԱՆ 2020 ԹՎԱԿԱՆԻ ԴԵԿՏԵՄԲԵՐԻ 30-Ի N 2215-Ն ՈՐՈՇՄԱՆ N 9.1 ՀԱՎԵԼՎԱԾԻ N 9.1.50 ԱՂՅՈՒՍԱԿՈՒՄ ԿԱՏԱՐՎՈՂ ՓՈՓՈԽՈՒԹՅՈՒՆՆԵՐԸ
B47: ՀՀ Արմավիրի մարզպետարան
B48: ՄԱՍ 1. ՊԵՏԱԿԱՆ ՄԱՐՄՆԻ ԳԾՈՎ ԱՐԴՅՈՒՆՔԱՅԻՆ (ԿԱՏԱՐՈՂԱԿԱՆ) ՑՈՒՑԱՆԻՇՆԵՐԸ
B50: Ծրագրի դասիչը | C50: Ծրագրի անվանումը
B51: 1212 | C51: Տարածքային զարգացում
B53: Ծրագրի միջոցառումները
B54: Ծրագրի դասիչը` | C54: 1212 | D54: Ցուցանիշների փոփոխությունը (ավելացումները նշված են դրական նշանով)
...

Sheet Հ6
G1: Հավելված N 6
G2: ՀՀ կառավարության 2021 թվականի
G3: ______________ ի ___Ն որոշման
A4: ՀԱՅԱՍՏԱՆԻ ՀԱՆՐԱՊԵՏՈՒԹՅԱՆ ԿԱՌԱՎԱՐՈՒԹՅԱՆ 2020 ԹՎԱԿԱՆԻ ԴԵԿՏԵՄԲԵՐԻ 30-Ի N 2215-Ն ՈՐՈՇՄԱՆ N 10 ՀԱՎԵԼՎԱԾՈՒՄ ԿԱՏԱՐՎՈՂ ԼՐԱՑՈՒՄՆԵՐԸ
A5: Կոդը | B5: Անվանումը | C5: Ցուցանիշների փոփոխությունը (ավելացումները նշված են դրական նշանով)
C6: Գնման ձևը | D6: Չափման միավորը | E6: Միավորի գինը | F6: Քանակը | G6: Գումարը (հազար դրամով)
A7: ՀՀ Արմավիրի մարզպետարան
A8: Բաժին N 01 | B8: Խումբ N 08 | C8: Դաս N 01 | D8: Կառավարության տարբեր մակարդակների միջև իրականացվող ընդհանուր բնույթի տրանսֆերտներ
A9: 1212 12017 | B9: Պատերազմի արդյունքում ժամանակավորապես Հայաստանի Հանրապետությունում գտնվող քաղաքացիներին մշտական բնակության վայր տեղափոխում
B10: ՄԱՍ III. ԾԱՌԱՅՈՒԹՅՈՒՆՆԵՐ
A11: 60141100 | B11: ոչ կանոնավոր ուղևորափոխադրման ծառայություններ | C11: ՄԱ | D11: դրամ | E11: 1 | F11: =+Հ5!F63*1000 -> 320000 | G11: =+E11*F11/1000 -> 320
A12: ՀՀ Կոտայքի մարզպետարան
A13: Բաժին N 01 | B13: Խումբ N 08 | C13: Դաս N 01 | D13: Կառավարության տարբեր մակարդակների միջև իրականացվող ընդհանուր բնույթի տրանսֆերտներ
A14: 1212 12017 | B14: Պատերազմի արդյունքում ժամանակավորապես Հայաստանի Հանրապետությունում գտնվող քաղաքացիներին մշտական բնակության վայր տեղափոխում
B15: ՄԱՍ III. ԾԱՌԱՅՈՒԹՅՈՒՆՆԵՐ
A16: 60141100 | B16: ոչ կանոնավոր ուղևորափոխադրման ծառայություններ | C16: ՄԱ | D16: դրամ | E16: 1 | F16: =+Հ5!F84*1000 -> 870000 | G16: =+E16*F16/1000 -> 870
A17: ՀՀ Սյունիքի մարզպետարան
A18: Բաժին N 01 | B18: Խումբ N 08 | C18: Դաս N 01 | D18: Կառավարության տարբեր մակարդակների միջև իրականացվող ընդհանուր բնույթի տրանսֆերտներ
A19: 1212 12017 | B19: Պատերազմի արդյունքում ժամանակավորապես Հայաստանի Հանրապետությունում գտնվող քաղաքացիներին մշտական բնակության վայր տեղափոխում
B20: ՄԱՍ III. ԾԱՌԱՅՈՒԹՅՈՒՆՆԵՐ
A21: 60141100 | B21: ոչ կանոնավոր ուղևորափոխադրման ծառայություններ | C21: ՄԱ | D21: դրամ | E21: 1 | F21: =+Հ5!F105*1000 -> 312300 | G21: =+E21*F21/1000 -> 312.3
A22: ՀՀ Վայոց ձորի մարզպետարան
A23: Բաժին N 01 | B23: Խումբ N 08 | C23: Դաս N 01 | D23: Կառավարության տարբեր մակարդակների միջև իրականացվող ընդհանուր բնույթի տրանսֆերտներ
A24: 1212 12017 | B24: Պատերազմի արդյունքում ժամանակավորապես Հայաստանի Հանրապետությունում գտնվող քաղաքացիներին մշտական բնակության վայր տեղափոխում
B25: ՄԱՍ III. ԾԱՌԱՅՈՒԹՅՈՒՆՆԵՐ
A26: 60141100 | B26: ոչ կանոնավոր ուղևորափոխադրման ծառայություններ | C26: ՄԱ | D26: դրամ | E26: 1 | F26: =+Հ5!F125*1000 -> 120000 | G26: =+E26*F26/1000 -> 120
A27: ՀՀ Տավուշի մարզպետարան
A28: Բաժին N 01 | B28: Խումբ N 08 | C28: Դաս N 01 | D28: Կառավարության տարբեր մակարդակների միջև իրականացվող ընդհանուր բնույթի տրանսֆերտներ
A29: 1212 12017 | B29: Պատերազմի արդյունքում ժամանակավորապես Հայաստանի Հանրապետությունում գտնվող քաղաքացիներին մշտական բնակության վայր տեղափոխում
B30: ՄԱՍ III. ԾԱՌԱՅՈՒԹՅՈՒՆՆԵՐ
A31: 60141100 | B31: ոչ կանոնավոր ուղևորափոխադրման ծառայություններ | C31: ՄԱ | D31: դրամ | E31: 1 | F31: =+Հ5!F145*1000 -> 130000 | G31: =+E31*F31/1000 -> 130

Sheet Հ7
I1: Հավելված N 7
I2: ՀՀ կառավարության 2021 թվականի
I3: ______________N______-Ն որոշման
B5: ՀԱՅԱՍՏԱՆԻ ՀԱՆՐԱՊԵՏՈՒԹՅԱՆ 2020 ԹՎԱԿԱՆԻ ՊԵՏԱԿԱՆ ԲՅՈՒՋԵՈՎ ՆԱԽԱՏԵՍՎԱԾ՝ ՀԱՅԱՍՏԱՆԻ ՀԱՆՐԱՊԵՏՈՒԹՅԱՆ ԿԱՌԱՎԱՐՈՒԹՅԱՆ ՊԱՀՈՒՍՏԱՅԻՆ ՖՈՆԴԻՑ ՀԱՏԿԱՑՈՒՄՆԵՐ ԿԱՏԱՐԵԼՈՒ ՎԵՐԱԲԵՐՅԱԼ
F8: հազար դրամներով
A9: Գործառական դասիչը | D9: Ծրագրային դասիչը | F9: Բյուջետային հատկացումների գլխավոր կարգադրիչների, ծրագրերի, միջոցառումների և միջոցառումները կատարող պետական մարմինների անվանումները | G9: Ցուցանիշների փոփոխությունը (ավելացումները նշված են դրական նշանով, իսկ նվազեցումները` փակագծերում)
A10: Բաժին | B10: Խումբ | C10: Դաս | D10: Ծրագիր | E10: Միջոցառում | G10: Առաջին կիսամյակ | H10: Ինն ամիս | I10: Տարի
F11: ԸՆԴԱՄԵՆԸ | G11: =+G13+G68 -> 0 | H11: =+H13+H68 -> 0 | I11: =+I13+I68 -> 0
F12: այդ թվում
F13: ՀՀ տարածքային կառավարման և ենթակառուցվածքների նախարարություն | G13: =+G14 -> 61782.3 | H13: =+H14 -> 61782.3 | I13: =+I14 -> 61782.3
A14: 01 | F14: ԸՆԴՀԱՆՈՒՐ ԲՆՈՒՅԹԻ ՀԱՆՐԱՅԻՆ ԾԱՌԱՅՈՒԹՅՈՒՆՆԵՐ | G14: =G16 -> 61782.3 | H14: =H16 -> 61782.3 | I14: =I16 -> 61782.3
F15: այդ թվում`
B16: 08 | F16: Կառավարության տարբեր մակարդակների միջև իրականացվող ընդհանուր բնույթի տրանսֆերտներ | G16: =G18 -> 61782.3 | H16: =H18 -> 61782.3 | I16: =I18 -> 61782.3
F17: այդ թվում`
C18: 01 | F18: Կառավարության տարբեր մակարդակների միջև իրականացվող ընդհանուր բնույթի տրանսֆերտներ | G18: =+G20 -> 61782.3 | H18: =+H20 -> 61782.3 | I18: =+I20 -> 61782.3
F19: այդ թվում`
F20: ՀՀ տարածքային կառավարման և ենթակառուցվածքների նախարարություն | G20: =+G22 -> 61782.3 | H20: =+H22 -> 61782.3 | I20: =+I22 -> 61782.3
F21: այդ թվում`
D22: 1212 | E22: Տարածքային զարգացում | G22: =+G24 -> 61782.3 | H22: =+H24 -> 61782.3 | I22: =+I24 -> 61782.3
E23: 12017 | F23: այդ թվում`
F24: =+Հ1!C22 -> Միջոցառման նկարագրությունը` | G24: =G33+G40+G47+G54+G61+G26 -> 61782.3 | H24: =H33+H40+H47+H54+H61+H26 -> 61782.3 | I24: =I33+I40+I47+I54+I61+I26 -> 61782.3
F25: այդ թվում` ըստ կատարողների
F26: ՀՀ տարածքային կառավարման և ենթակառուցվածքների նախարարություն | G26: =G28 -> 60030 | H26: =H28 -> 60030 | I26: =I28 -> 60030
F27: այդ թվում` բյուջետային ծախսերի տնտեսագիտական դասակարգման հոդվածներ
F28: ԸՆԴԱՄԵՆԸ ԾԱԽՍԵՐ | G28: =+G29 -> 60030 | H28: =+H29 -> 60030 | I28: =+I29 -> 60030
F29: ԸՆԹԱՑԻԿ ԾԱԽՍԵՐ | G29: =G30 -> 60030 | H29: =H30 -> 60030 | I29: =I30 -> 60030
F30: ԴՐԱՄԱՇՆՈՐՀՆԵՐ | G30: =G31 -> 60030 | H30: =H31 -> 60030 | I30: =I31 -> 60030
F31: Ընթացիկ դրամաշնորհներ պետական հատվածի այլ մակարդակներին | G31: =G32 -> 60030 | H31: =H32 -> 60030 | I31: =I32 -> 60030
F32: - Ընթացիկ սուբվենցիաներ համայնքներին | G32: =+Հ2!G48 -> 60030 | H32: =+Հ2!H48 -> 60030 | I32: =+Հ2!I48 -> 60030
F33: ՀՀ Արմավիրի մարզպետարան | G33: =G35 -> 320 | H33: =H35 -> 320 | I33: =I35 -> 320
F34: այդ թվում` բյուջետային ծախսերի տնտեսագիտական դասակարգման հոդվածներ
F35: ԸՆԴԱՄԵՆԸ ԾԱԽՍԵՐ | G35: =+G36 -> 320 | H35: =+H36 -> 320 | I35: =+I36 -> 320
F36: ԸՆԹԱՑԻԿ ԾԱԽՍԵՐ | G36: =G37 -> 320 | H36: =H37 -> 320 | I36: =I37 -> 320
F37: ԾԱՌԱՅՈՒԹՅՈՒՆՆԵՐԻ ԵՎ ԱՊՐԱՆՔՆԵՐԻ ՁԵՌՔԲԵՐՈՒՄ | G37: =G38 -> 320 | H37: =H38 -> 320 | I37: =I38 -> 320
F38: Պայմանագրային այլ ծառայությունների ձեռքբերում | G38: =G39 -> 320 | H38: =H39 -> 320 | I38: =I39 -> 320
F39: - Ընդհանուր բնույթի այլ ծառայություններ | G39: =+Հ2!G55 -> 320 | H39: =+Հ2!H55 -> 320 | I39: =+Հ2!I55 -> 320
F40: ՀՀ Կոտայքի մարզպետարան | G40: =G42 -> 870 | H40: =H42 -> 870 | I40: =I42 -> 870
F41: այդ թվում` բյուջետային ծախսերի տնտեսագիտական դասակարգման հոդվածներ
F42: ԸՆԴԱՄԵՆԸ ԾԱԽՍԵՐ | G42: =+G43 -> 870 | H42: =+H43 -> 870 | I42: =+I43 -> 870
F43: ԸՆԹԱՑԻԿ ԾԱԽՍԵՐ | G43: =G44 -> 870 | H43: =H44 -> 870 | I43: =I44 -> 870
...
