Workbook
Name AgencyCode: #REF!
Name AgencyCode: #REF!
Name AgencyCode: #REF!
Name AgencyName: #REF!
Name AgencyName: #REF!
Name davit: #REF!
Name Functional1: #REF!
Name Functional1: #REF!
Name ggg: #REF!
Name PANature: #REF!
Name PANature: #REF!
Name PAType: #REF!
Name PAType: #REF!
Name Performance2: #REF!
Name Performance2: #REF!
Name PerformanceType: #REF!
Name PerformanceType: #REF!
Name Հավելված: #REF!
Name Մաս: #REF!
Name շախմատիստ: #REF!

Sheet 1
B2: Հավելված N 1
B3: ՀՀ կառավարության 2021 թվականի
B4: ------------------------ -ի N ---------- որոշման
A7: «ՀԱՅԱՍՏԱՆԻ ՀԱՆՐԱՊԵՏՈՒԹՅԱՆ 2021 ԹՎԱԿԱՆԻ ՊԵՏԱԿԱՆ ԲՅՈՒՋԵԻ ՄԱՍԻՆ» ՀԱՅԱՍՏԱՆԻ ՀԱՆՐԱՊԵՏՈՒԹՅԱՆ ՕՐԵՆՔԻ 2-ՐԴ ՀՈԴՎԱԾԻ ԱՂՅՈՒՍԱԿՈՒՄ ԿԱՏԱՐՎՈՂ ՓՈՓՈԽՈՒԹՅՈՒՆՆԵՐԸ
B9: հազ. դրամ
B10: Ցուցանիշների փոփոխությունը (ավելացումները նշված են դրական նշանով)
A11: Եկամուտների գծով | B11: =+'2'!D11 -> 40000000
A12: Ծախսերի գծով | B12: =+'3.'!F9 -> 40000000
A13: Դեֆիցիտը (պակասուրդը) | B13: =+B12-B11 -> 0

Sheet 2
A1: Հավելված N 2
A2: ՀՀ կառավարության 2021 թվականի
A3: --------------------- -ի N ---------- որոշման
A6: «ՀԱՅԱՍՏԱՆԻ ՀԱՆՐԱՊԵՏՈՒԹՅԱՆ 2021 ԹՎԱԿԱՆԻ ՊԵՏԱԿԱՆ ԲՅՈՒՋԵԻ ՄԱՍԻՆ» ՀԱՅԱՍՏԱՆԻ ՀԱՆՐԱՊԵՏՈՒԹՅԱՆ ՕՐԵՆՔԻ 6-ՐԴ ՀՈԴՎԱԾԻ ԱՂՅՈՒՍԱԿՈՒՄ ԵՎ ՀԱՅԱՍՏԱՆԻ ՀԱՆՐԱՊԵՏՈՒԹՅԱՆ ԿԱՌԱՎԱՐՈՒԹՅԱՆ 2020 ԹՎԱԿԱՆԻ ԴԵԿՏԵՄԲԵՐԻ 30-Ի N 2215-Ն ՈՐՈՇՄԱՆ N 2 ՀԱՎԵԼՎԱԾՈՒՄ ԿԱՏԱՐՎՈՂ ՓՈՓՈԽՈՒԹՅՈՒՆՆԵՐԸ
C8: հազ. դրամ
A9: Պետական բյուջեի եկամուտները | B9: Ցուցանիշների փոփոխությունը (ավելացումները նշված են դրական նշանով)
B10: Առաջին կիսամյակ | C10: Ինն ամիս | D10: Տարի
A11: Ընդամենը | B11: =+B13 -> 18000000 | C11: =+C13 -> 26000000 | D11: =+D13 -> 40000000
A12: այդ թվում
A13: Հարկային եկամուտներ և պետական տուրքեր | B13: =+'4'!G10 -> 18000000 | C13: =+'4'!H10 -> 26000000 | D13: =+'4'!I10 -> 40000000

Sheet 3.
A1: Հավելված N 3
A2: ՀՀ կառավարության 2021 թվականի | E2: ՀՀ կառավարության 2021 թվականի
A3: ______________ ի ___Ն որոշման | E3: ______________ ի ___Ն որոշման
A4: «ՀԱՅԱՍՏԱՆԻ ՀԱՆՐԱՊԵՏՈՒԹՅԱՆ 2021 ԹՎԱԿԱՆԻ ՊԵՏԱԿԱՆ ԲՅՈՒՋԵԻ ՄԱՍԻՆ» ՀԱՅԱՍՏԱՆԻ ՀԱՆՐԱՊԵՏՈՒԹՅԱՆ ՕՐԵՆՔԻ N 1 ՀԱՎԵԼՎԱԾԻ N 2 ԱՂՅՈՒՍԱԿՈՒՄ ԵՎ ՀԱՅԱՍՏԱՆԻ ՀԱՆՐԱՊԵՏՈՒԹՅԱՆ ԿԱՌԱՎԱՐՈՒԹՅԱՆ 2020 ԹՎԱԿԱՆԻ ԴԵԿՏԵՄԲԵՐԻ 30-Ի N 2215-Ն ՈՐՈՇՄԱՆN 5 ՀԱՎԵԼՎԱԾԻ N 1 ԱՂՅՈՒՍԱԿՈՒՄ ԿԱՏԱՐՎՈՂ ՓՈՓՈԽՈՒԹՅՈՒՆՆԵՐԸ
E6: հազ. դրամ
A7: Ծրագրային դասիչը | C7: Բյուջետային հատկացումների գլխավոր կարգադրիչների, ծրագրերի և միջոցառումների անվանումները | D7: Ցուցանիշների փոփոխությունը (ավելացումները նշված են դրական նշանով)
A8: Ծրագիր | B8: Միջոցառում | D8: Առաջին կիսամյակ | E8: Ինն ամիս | F8: Տարի | H8: -1700000 | I8: -6400000 | J8: -12300000 | K8: -13000000
C9: ԸՆԴԱՄԵՆԸ | D9: =+D10 -> 18000000 | E9: =+E10 -> 26000000 | F9: =+F10 -> 40000000 | H9: =+#REF!+#REF!+#REF! -> #REF! | I9: =+#REF!+#REF!+#REF! -> #REF! | J9: =+#REF!+#REF!+#REF! -> #REF! | K9: =+#REF!+#REF!+#REF! -> #REF!
C10: ՀՀ կառավարություն | D10: =D11 -> 18000000 | E10: =E11 -> 26000000 | F10: =F11 -> 40000000
A11: 1139 | C11: Ծրագրի անվանումը` | D11: =D18 -> 18000000 | E11: =E18 -> 26000000 | F11: =F18 -> 40000000
C12: ՀՀ կառավարության պահուստային ֆոնդ
C13: Ծրագրի նպատակը`
C14: Պետական բյուջեում չկանխատեսված, ինչպես նաեւ բյուջետային երաշխիքների ապահովման ծախսերի ֆինանսավորման ապահովում
C15: Վերջնական արդյունքի նկարագրությունը`
C16: Պահուստային ֆոնդի կառավարման արդյունավետության և թափանցիկության ապահովում
A17: Ծրագրի միջոցառումներ
B18: 11001 | C18: Միջոցառման անվանումը` | D18: =+'4'!G28 -> 18000000 | E18: =+'4'!H28 -> 26000000 | F18: =+'4'!I28 -> 40000000
C19: ՀՀ կառավարության պահուստային ֆոնդ
C20: Միջոցառման նկարագրությունը`
C21: ՀՀ պետական բյուջեում նախատեսված ելքերի լրացուցիչ ֆինանսավորման, պետական բյուջեում չկանխատեսված ելքերի, ինչպես նաև բյուջետային երաշխիքների ապահովման ելքերի ֆինանսավորման ապահովում
C22: Միջոցառման տեսակը
C23: Ծառայությունների մատուցում

Sheet 4
A1: Հավելված N 4
A2: ՀՀ կառավարության 2021 թվականի
A3: ______________ ի ___Ն որոշման
A5: ՀԱՅԱՍՏԱՆԻ ՀԱՆՐԱՊԵՏՈՒԹՅԱՆ ԿԱՌԱՎԱՐՈՒԹՅԱՆ 2020 ԹՎԱԿԱՆԻ ԴԵԿՏԵՄԲԵՐԻ 30-Ի N 2215-Ն ՈՐՈՇՄԱՆ N 3 ԵՎ N 4 ՀԱՎԵԼՎԱԾՆԵՐՈՒՄ ԿԱՏԱՐՎՈՂ ՓՈՓՈԽՈՒԹՅՈՒՆՆԵՐԸ
H7: հազ. դրամ
A8: Գործառական դասիչը | D8: Ծրագրային դասիչը | F8: Բյուջետային ծախսերի գործառական դասակարգման բաժինների, խմբերի և դասերի, բյուջետային հատկացումների գլխավոր կարգադրիչների, ծրագրերի, միջոցառումների և միջոցառումները կատարող պետական մարմինների անվանումները | G8: Ցուցանիշների փոփոխությունը (ավելացումները նշված են դրական նշանով)
A9: Բաժին | B9: Խումբ | C9: Դաս | D9: Ծրագիր | E9: Միջոցա ռում | G9: Առաջին կիսամյակ | H9: Ինն ամիս | I9: Տարի
F10: ԸՆԴԱՄԵՆԸ ԾԱԽՍԵՐ | G10: =G12 -> 18000000 | H10: =H12 -> 26000000 | I10: =I12 -> 40000000
F11: այդ թվում`
A12: 11 | F12: ՀԻՄՆԱԿԱՆ ԲԱԺԻՆՆԵՐԻՆ ՉԴԱՍՎՈՂ ՊԱՀՈՒՍՏԱՅԻՆ ՖՈՆԴԵՐ | G12: =+G14 -> 18000000 | H12: =+H14 -> 26000000 | I12: =+I14 -> 40000000
F13: այդ թվում`
B14: 01 | F14: ՀՀ կառավարության և համայնքների պահուստային ֆոնդ | G14: =+G16 -> 18000000 | H14: =+H16 -> 26000000 | I14: =+I16 -> 40000000
F15: այդ թվում`
C16: 01 | F16: ՀՀ կառավարության պահուստային ֆոնդ | G16: =+G19 -> 18000000 | H16: =+H19 -> 26000000 | I16: =+I19 -> 40000000
F17: այդ թվում`
F18: ՀՀ կառավարություն | G18: =G23 -> 18000000 | H18: =H23 -> 26000000 | I18: =I23 -> 40000000
D19: 1139 | F19: ՀՀ կառավարության պահուստային ֆոնդ | G19: =G23 -> 18000000 | H19: =H23 -> 26000000 | I19: =I23 -> 40000000
F20: այդ թվում`
E21: 11001 | F21: ՀՀ կառավարության պահուստային ֆոնդ | G21: =G23 -> 18000000 | H21: =H23 -> 26000000 | I21: =I23 -> 40000000
F22: այդ թվում`
F23: ՀՀ կառավարություն | G23: =G25 -> 18000000 | H23: =H25 -> 26000000 | I23: =I25 -> 40000000
F24: այդ թվում` բյուջետային ծախսերի տնտեսագիտական դասակարգման հոդվածներ
F25: ԸՆԴԱՄԵՆԸ ԾԱԽՍԵՐ | G25: =G26 -> 18000000 | H25: =H26 -> 26000000 | I25: =I26 -> 40000000
F26: ԸՆԹԱՑԻԿ ԾԱԽՍԵՐ | G26: =G28 -> 18000000 | H26: =H28 -> 26000000 | I26: =I28 -> 40000000
F27: ԱՅԼ ԾԱԽՍԵՐ | G27: =G28 -> 18000000 | H27: =H28 -> 26000000 | I27: =I28 -> 40000000
F28: Պահուստային միջոցներ | G28: 18000000 | H28: 26000000 | I28: 40000000

Sheet 5
E1: Հավելված N 5
E2: ՀՀ կառավարության 2021 թվականի
E3: ______________ ի ___Ն որոշման
A4: ՀԱՅԱՍՏԱՆԻ ՀԱՆՐԱՊԵՏՈՒԹՅԱՆ ԿԱՌԱՎԱՐՈՒԹՅԱՆ 2020 ԹՎԱԿԱՆԻ ԴԵԿՏԵՄԲԵՐԻ 30-Ի N 2215-Ն ՈՐՈՇՄԱՆ N 9 ՀԱՎԵԼՎԱԾԻ N9.47 ԱՂՅՈՒՍԱԿՈՒՄ ԿԱՏԱՐՎՈՂ ՓՈՓՈԽՈՒԹՅՈՒՆՆԵՐ
E6: Աղյուսակ 9.47
A7: ՀՀ կառավարություն
A8: ՄԱՍ 2. ՊԵՏԱԿԱՆ ՄԱՐՄՆԻ ԳԾՈՎ ԱՐԴՅՈՒՆՔԱՅԻՆ (ԿԱՏԱՐՈՂԱԿԱՆ) ՑՈՒՑԱՆԻՇՆԵՐԸ
A10: Ծրագրի դասիչը | B10: Ծրագրի անվանումը
A11: 1139 | B11: ՀՀ կառավարության պահուստային ֆոնդ
A13: Ծրագրի միջոցառումները
A15: Ծրագրի դասիչը` | B15: 1139 | C15: Ցուցանիշների փոփոխությունը (ավելացումները նշված են դրական նշանով)
A16: Միջոցառման դասիչը` | B16: 11001 | C16: Առաջին կիսամյակ | D16: Ինն ամիս | E16: Տարի
A17: Միջոցառման անվանումը` | B17: ՀՀ կառավարության պահուստային ֆոնդ
A18: Նկարագրությունը` | B18: ՀՀ պետական բյուջեում նախատեսված ելքերի լրացուցիչ ֆինանսավորման, պետական բյուջեում չկանխատեսված ելքերի, ինչպես նաև բյուջետային երաշխիքների ապահովման ելքերի ֆինանսավորման ապահովում
A19: Միջոցառման տեսակը` | B19: Ծառայությունների մատուցում
B20: Արդյունքի չափորոշիչներ
A21: Արդյունքի չափորոշիչներ
A22: Միջոցառման վրա կատարվող ծախսը (հազար դրամ) | C22: ='4'!G28 -> 18000000 | D22: ='4'!H28 -> 26000000 | E22: ='4'!I28 -> 40000000

Sheet 6.
D1: Հավելված N 6
D3: ՀՀ կառավարության 2021 թվականի
C4: ______________ ի ___Ն որոշման
A5: ՀԱՅԱՍՏԱՆԻ ՀԱՆՐԱՊԵՏՈՒԹՅԱՆ ԿԱՌԱՎԱՐՈՒԹՅԱՆ 2020 ԹՎԱԿԱՆԻ ԴԵԿՏԵՄԲԵՐԻ 30-Ի N 2215-Ն ՈՐՈՇՄԱՆ N 9.1 ՀԱՎԵԼՎԱԾԻ N 9.1.58 ԱՂՅՈՒՍԱԿՈՒՄ ԿԱՏԱՐՎՈՂ ՓՈՓՈԽՈՒԹՅՈՒՆՆԵՐԸ
E6: Աղյուսակ 9.1.58
A7: ՀՀ կառավարություն
A8: ՄԱՍ 1. ՊԵՏԱԿԱՆ ՄԱՐՄՆԻ ԳԾՈՎ ԱՐԴՅՈՒՆՔԱՅԻՆ (ԿԱՏԱՐՈՂԱԿԱՆ) ՑՈՒՑԱՆԻՇՆԵՐԸ
A10: Ծրագրի դասիչը | B10: Ծրագրի անվանումը
A11: 1139 | B11: ՀՀ կառավարության պահուստային ֆոնդ
A13: Ծրագրի միջոցառումները
A15: Ծրագրի դասիչը` | B15: 1139 | C15: Ցուցանիշների փոփոխությունը (ավելացումները նշված են դրական նշանով)
A16: Միջոցառման դասիչը` | B16: 11001 | C16: Առաջին կիսամյակ | D16: Ինն ամիս | E16: Տարի
A17: Միջոցառման անվանումը` | B17: ՀՀ կառավարության պահուստային ֆոնդ
A18: Նկարագրությունը` | B18: ՀՀ պետական բյուջեում նախատեսված ելքերի լրացուցիչ ֆինանսավորման, պետական բյուջեում չկանխատեսված ելքերի, ինչպես նաև բյուջետային երաշխիքների ապահովման ելքերի ֆինանսավորման ապահովում
A19: Միջոցառման տեսակը` | B19: Ծառայությունների մատուցում
B20: Արդյունքի չափորոշիչներ
A21: Արդյունքի չափորոշիչներ
A22: Միջոցառման վրա կատարվող ծախսը (հազար դրամ) | C22: ='5'!C22 -> 18000000 | D22: ='5'!D22 -> 26000000 | E22: ='5'!E22 -> 40000000
