Workbook

Sheet hav.1
A2: Հավելված N 1
A3: ՀՀ կառավարության 2021 թվականի ----ի N-Նորոշման
A5: «ՀԱՅԱUՏԱՆԻ ՀԱՆՐԱՊԵՏՈՒԹՅԱՆ 2021 ԹՎԱԿԱՆԻ ՊԵՏԱԿԱՆ ԲՅՈՒՋԵԻ ՄԱUԻՆ» ՀԱՅԱUՏԱՆԻ ՀԱՆՐԱՊԵՏՈՒԹՅԱՆ OՐԵՆՔԻ 2-ՐԴ ՀՈԴՎԱԾԻ ԱՂՅՈՒUԱԿՈՒՄ ԿԱՏԱՐՎՈՂ ԼՐԱՑՈՒՄՆԵՐԸ
D7: (հազ. դրամ)
B8: Ցուցանիշների փոփոխությունը (ավելացումները նշված են դրական նշանով)
B9: առաջին կիսամյակ | C9: ինն ամիս | D9: տարի
A10: Եկամուտների գծով | B10: =+B11 -> 65,262.3 | C10: =+C11 -> 65,262.3 | D10: =+D11 -> 65,262.3
A11: Ծախսերի գծով | B11: 65,262.3 | C11: 65,262.3 | D11: 65,262.3
A12: Դեֆիցիտը (պակասուրդը) | B12: _ | C12: _ | D12: _
A16: ՀԱՅԱՍՏԱՆԻ ՀԱՆՐԱՊԵՏՈՒԹՅԱՆ
A17: ՎԱՐՉԱՊԵՏԻ ԱՇԽԱՏԱԿԱԶՄԻ
A18: ՂԵԿԱՎԱՐ Ա.ԹՈՐՈՍՅԱՆ
A28: Annexes_5_PT50_2020N715hav.2

Sheet hav.2
A3: Հավելված N 2
A4: ՀՀ կառավարության 2021 թվականի ----ի N-Նորոշման
A8: «ՀԱՅԱUՏԱՆԻ ՀԱՆՐԱՊԵՏՈՒԹՅԱՆ 2021 ԹՎԱԿԱՆԻ ՊԵՏԱԿԱՆ ԲՅՈՒՋԵԻ ՄԱUԻՆ» ՀԱՅԱUՏԱՆԻ ՀԱՆՐԱՊԵՏՈՒԹՅԱՆ OՐԵՆՔԻ 6-ՐԴ ՀՈԴՎԱԾԻ ԱՂՅՈՒUԱԿՈՒՄ ԵՎ ՀԱՅԱUՏԱՆԻ ՀԱՆՐԱՊԵՏՈՒԹՅԱՆ ԿԱՌԱՎԱՐՈՒԹՅԱՆ 2020 ԹՎԱԿԱՆԻ ԴԵԿՏԵՄԲԵՐԻ 30-Ի N 2215-Ն ՈՐՈՇՄԱՆ N 2 ՀԱՎԵԼՎԱԾՈՒՄ ԿԱՏԱՐՎՈՂ ԼՐԱՑՈՒՄԸ
D10: (հազ. դրամ)
A11: Պետական բյուջեի եկամուտներ | B11: Ցուցանիշների փոփոխությունը (ավելացումները նշված են դրական նշանով)
B12: առաջին կիսամյակ | C12: ինն ամիս | D12: տարի
A13: ԸՆԴԱՄԵՆԸ | B13: =+B15 -> 65,262.3 | C13: =+C15 -> 65,262.3 | D13: =+D15 -> 65,262.3
A14: Այդ թվում`
A15: Հարկային եկամուտներ և պետական տուրքեր | B15: =+hav.1!B11 -> 65,262.3 | C15: =+hav.1!C11 -> 65,262.3 | D15: =+hav.1!D11 -> 65,262.3
A19: ՀԱՅԱՍՏԱՆԻ ՀԱՆՐԱՊԵՏՈՒԹՅԱՆ
A20: ՎԱՐՉԱՊԵՏԻ ԱՇԽԱՏԱԿԱԶՄԻ
A21: ՂԵԿԱՎԱՐ Է.ԱՂԱՋԱՆՅԱՆ | B21: . | C21: Ա.ԹՈՐՈՍՅԱՆ
A31: Annexes_5_PT50_2020N715hav.2

Sheet hav.3
D1: ՀավելվածN 3
C2: ՀՀ կառավարության 2021 թվականի ---ի N -Նորոշման
A4: «ՀԱՅԱՍՏԱՆԻ ՀԱՆՐԱՊԵՏՈՒԹՅԱՆ 2021 ԹՎԱԿԱՆԻ ՊԵՏԱԿԱՆ ԲՅՈՒՋԵԻ ՄԱՍԻՆ» ՀԱՅԱՍՏԱՆԻ ՀԱՆՐԱՊԵՏՈՒԹՅԱՆ ՕՐԵՆՔԻ N 1 ՀԱՎԵԼՎԱԾԻ N 2 ԱՂՅՈՒՍԱԿՈՒՄ ԵՎ ՀԱՅԱՍՏԱՆԻ ՀԱՆՐԱՊԵՏՈՒԹՅԱՆ ԿԱՌԱՎԱՐՈՒԹՅԱՆ 2020 ԹՎԱԿԱՆԻ ԴԵԿՏԵՄԲԵՐԻ 30-Ի N 2215-Ն ՈՐՈՇՄԱՆ N 5 ՀԱՎԵԼՎԱԾԻ N 1 ԱՂՅՈՒՍԱԿՈՒՄ ԿԱՏԱՐՎՈՂ ԼՐԱՑՈՒՄՆԵՐԸ
E5: (հազ. դրամ)
A6: Ծրագրային դասիչը | C6: Բյուջետային հատկացումների գլխավոր կարգադրիչների, ծրագրերի և միջոցառումների անվանումները | D6: Ցուցանիշների փոփոխությունը (ավելացումները նշված են դրական նշանով)
A7: ծրագիրը | B7: միջոցառումը | D7: առաջին կիսամյակ | E7: ինն ամիս | F7: տարի
C8: ԸՆԴԱՄԵՆԸ | D8: =+hav.2!B15 -> 65,262.3 | E8: =+hav.2!C15 -> 65,262.3 | F8: =+hav.2!D15 -> 65,262.3
A9: ՀՀ կրթության, գիտության, մշակույթի և սպորտի նախարարություն | D9: =+D10 -> 54,769.6 | E9: =+E10 -> 54,769.6 | F9: =+F10 -> 54,769.6
A10: 1168 | C10: Ծրագրիանվանումը` | D10: =+D17 -> 54,769.6 | E10: =+E17 -> 54,769.6 | F10: =+F17 -> 54,769.6
C11: Արվեստների ծրագիր
C12: Ծրագրի նպատակը`
C13: Նպաստել ազգային հենքի վրա ժամանակակից թատերարվեստի, երաժշտարվեստի, կերպարվեստի և պարարվեստի զարգացմանը և հանրահռչակմանը
C14: Վերջնական արդյունքի նկարագրությունը`
C15: Մրցունակ արվեստային արտադրանքի ստեղծում ստեղծագործական գործընթացների խթանում, արվեստի նոր նախագծերի ներդրում և մշակութային կյանքում հասարակության ներգրավում
A16: Ծրագրի միջոցառումներ
B17: 11003 | C17: Միջոցառման անվանումը` | D17: 54,769.6 | E17: 54,769.6 | F17: 54,769.6
C18: Թատերական ներկայացումներ
C19: Միջոցառման նկարագրությունը`
C20: Թատերական ներկայացումների բեմադրություններ և թատրոնների գործունեության ապահովում
C21: Միջոցառման տեսակը
C22: Ծառայությունների մատուցում
A24: ՀՀ շրջակա միջավայրի նախարարություն | D24: =+D25 -> 10,492.7 | E24: =+E25 -> 10,492.7 | F24: =+F25 -> 10,492.7
A25: 1186 | C25: Ծրագրի անվանումը` | D25: =+D32 -> 10,492.7 | E25: =+E32 -> 10,492.7 | F25: =+F32 -> 10,492.7
C26: Բնագիտական նմուշների պահպանություն և ցուցադրություն
C27: Ծրագրի նպատակը`
C28: Նպաստել բնապահպանական աշխարհայացքի ձևավորմանը բնակչության էկոլոգիական դաստիարակությանը
C29: Վերջնական արդյունքի նկարագրությունը`
C30: Մշտական և ժամանակավոր ցուցահանդեսների միջոցով հավաքածուները ներկայացնել հանրությանը և իրականացնել բնապահպանական քարոզչություն
A31: Ծրագրի միջոցառումներ
B32: 11002 | C32: Միջոցառման անվանումը` | D32: 10,492.7 | E32: 10,492.7 | F32: 10,492.7
C33: Կենդանաբանական այգու ցուցադրություններ
C34: Միջոցառման նկարագրությունը`
C35: Աջակցություն Երևանի քաղաքային համայնքին մշակութային ժամանցի միջոցառումների իրականացման նպատակով
C36: Միջոցառման տեսակը
C37: Ծառայությունների մատուցում
A41: ՀԱՅԱՍՏԱՆԻՀԱՆՐԱՊԵՏՈՒԹՅԱՆ
A42: ՎԱՐՉԱՊԵՏԻ ԱՇԽԱՏԱԿԱԶՄԻ
A43: ՂԵԿԱՎԱՐ | D43: Ա.ԹՈՐՈՍՅԱՆ

Sheet hav.4
G3: Հավելված N 4
F4: ՀՀ կառավարության 2021 թվականի ---ի N -Նորոշման
A6: ՀԱՅԱՍՏԱՆԻ ՀԱՆՐԱՊԵՏՈՒԹՅԱՆ ԿԱՌԱՎԱՐՈՒԹՅԱՆ 2020 ԹՎԱԿԱՆԻ ԴԵԿՏԵՄԲԵՐԻ 30-Ի N 2215-Ն ՈՐՈՇՄԱՆNN 3 ԵՎ 4 ՀԱՎԵԼՎԱԾՆԵՐՈՒՄ ԿԱՏԱՐՎՈՂ ԼՐԱՑՈՒՄՆԵՐԸ
H7: (հազ. դրամ)
A8: Գործառական դասիչը | D8: Ծրագրային դասիչը | F8: Բյուջետային ծախսերի գործառական դասակարգման բաժինների, խմբերի և դասերի, բյուջետային ծրագրերի միջոցառումների, բյուջետային հատկացումների գլխավոր կարգադրիչների անվանումները | G8: Ցուցանիշների փոփոխությունը (ավելացումները նշված են դրական նշանով)
G9: առաջին կիսամյակ | H9: ինն ամիս | I9: տարի
F10: ԸՆԴԱՄԵՆԸ՝ ԾԱԽՍԵՐ | G10: =+G12 -> 65,262.3 | H10: =+H12 -> 65,262.3 | I10: =+I12 -> 65,262.3
F11: Այդ թվում`
A12: 8 | F12: ՀԱՆԳԻՍՏ, ՄՇԱԿՈՒՅԹ ԵՎ ԿՐՈՆ | G12: =+G14 -> 65,262.3 | H12: =+H14 -> 65,262.3 | I12: =+I14 -> 65,262.3
F13: Այդ թվում`
B14: 2 | F14: Մշակութային ծառայություններ | G14: =+hav.3!D8 -> 65,262.3 | H14: =+hav.3!E8 -> 65,262.3 | I14: =+hav.3!F8 -> 65,262.3
F15: Այդ թվում`
C16: 5 | F16: Արվեստ | G16: =+G18 -> 54,769.6 | H16: =+H18 -> 54,769.6 | I16: =+I18 -> 54,769.6
F17: Այդ թվում`
F18: ՀՀ կրթության, գիտության, մշակույթի և սպորտի նախարարություն | G18: =+G20 -> 54,769.6 | H18: =+H20 -> 54,769.6 | I18: =+I20 -> 54,769.6
F19: Այդ թվում`
D20: 1168 | F20: Արվեստների ծրագիր | G20: =+G22 -> 54,769.6 | H20: =+H22 -> 54,769.6 | I20: =+I22 -> 54,769.6
F21: Այդ թվում`
E22: 11003 | F22: Թատերական ներկայացումներ | G22: =+G24 -> 54,769.6 | H22: =+H24 -> 54,769.6 | I22: =+I24 -> 54,769.6
F23: Այդ թվում` ըստ կատարողների
F24: ՀՀ տարածքային կառավարման և ենթակառուցվածքների նախարարություն | G24: =+G26 -> 54,769.6 | H24: =+H26 -> 54,769.6 | I24: =+I26 -> 54,769.6
F25: Այդ թվում` բյուջետային ծախսերի տնտեսագիտական դասակարգման հոդվածներ
F26: ԸՆԴԱՄԵՆԸ՝ ԾԱԽՍԵՐ | G26: =+G27 -> 54,769.6 | H26: =+H27 -> 54,769.6 | I26: =+I27 -> 54,769.6
F27: ԸՆԹԱՑԻԿ ԾԱԽՍԵՐ | G27: =+G28 -> 54,769.6 | H27: =+H28 -> 54,769.6 | I27: =+I28 -> 54,769.6
F28: ԴՐԱՄԱՇՆՈՐՀՆԵՐ | G28: =+G30 -> 54,769.6 | H28: =+H30 -> 54,769.6 | I28: =+I30 -> 54,769.6
F29: Ընթացիկ դրամաշնորհներ պետական հատվածի այլ մակարդակներին | G29: =+G30 -> 54,769.6 | H29: =+H30 -> 54,769.6 | I29: =+I30 -> 54,769.6
F30: - Ընթացիկ սուբվենցիաներ համայնքներին | G30: =+hav.3!D9 -> 54,769.6 | H30: =+hav.3!E9 -> 54,769.6 | I30: =+hav.3!F9 -> 54,769.6
C31: 4 | F31: Այլ մշակութային կազմակերպություններ | G31: =+G33 -> 10,492.7 | H31: =+H33 -> 10,492.7 | I31: =+I33 -> 10,492.7
F32: Այդ թվում`
F33: ՀՀ շրջակա միջավայրի նախարարություն | G33: =+G35 -> 10,492.7 | H33: =+H35 -> 10,492.7 | I33: =+I35 -> 10,492.7
F34: Այդ թվում`
D35: 1186 | F35: Բնագիտական նմուշների պահպանություն և ցուցադրություն | G35: =+G37 -> 10,492.7 | H35: =+H37 -> 10,492.7 | I35: =+I37 -> 10,492.7
F36: Այդ թվում`
E37: 11002 | F37: Կենդանաբանական այգու ցուցադրություններ | G37: =+G39 -> 10,492.7 | H37: =+H39 -> 10,492.7 | I37: =+I39 -> 10,492.7
F38: Այդ թվում` ըստ կատարողների
F39: ՀՀ տարածքային կառավարման և ենթակառուցվածքների նախարարություն | G39: =+G41 -> 10,492.7 | H39: =+H41 -> 10,492.7 | I39: =+I41 -> 10,492.7
F40: Այդ թվում` բյուջետային ծախսերի տնտեսագիտական դասակարգման հոդվածներ
F41: ԸՆԴԱՄԵՆԸ՝ ԾԱԽՍԵՐ | G41: =+G42 -> 10,492.7 | H41: =+H42 -> 10,492.7 | I41: =+I42 -> 10,492.7
F42: ԸՆԹԱՑԻԿ ԾԱԽՍԵՐ | G42: =+G43 -> 10,492.7 | H42: =+H43 -> 10,492.7 | I42: =+I43 -> 10,492.7
F43: ԴՐԱՄԱՇՆՈՐՀՆԵՐ | G43: =+G44 -> 10,492.7 | H43: =+H44 -> 10,492.7 | I43: =+I44 -> 10,492.7
...

Sheet hav.5
D3: Հավելված N 5
C4: ՀՀ կառավարության 2021 թվականի ----ի N -Նորոշման
A7: «ՀԱՅԱՍՏԱՆԻ ՀԱՆՐԱՊԵՏՈՒԹՅԱՆ 2021 ԹՎԱԿԱՆԻ ՊԵՏԱԿԱՆ ԲՅՈՒՋԵԻ ՄԱՍԻՆ» ՀԱՅԱՍՏԱՆԻ ՀԱՆՐԱՊԵՏՈՒԹՅԱՆ ՕՐԵՆՔԻ N 1 ՀԱՎԵԼՎԱԾԻ N 7 ԱՂՅՈՒՍԱԿՈՒՄ ԵՎ ՀԱՅԱՍՏԱՆԻ ՀԱՆՐԱՊԵՏՈՒԹՅԱՆ ԿԱՌԱՎԱՐՈՒԹՅԱՆ 2020 ԹՎԱԿԱՆԻ ԴԵԿՏԵՄԲԵՐԻ 30-Ի N 2215-Ն ՈՐՈՇՄԱՆ N 5 ՀԱՎԵԼՎԱԾԻ N 6 ԱՂՅՈՒՍԱԿՈՒՄ ԿԱՏԱՐՎՈՂ ԼՐԱՑՈՒՄԸ
E8: (հազ. դրամ)
A9: Ծրագրային դասիչը | C9: Հատկացումների տրամադրման նպատակները և բյուջետային գլխավոր կարգադրիչների, ծրագրերի, միջոցառումների և կատարող պետական մարմնի անվանումները | D9: Գումարը (հազար դրամներով)
A10: ծրագիրը | B10: միջոցառումը
D11: առաջին կիսամյակ | E11: ինն ամիս | F11: տարի
C12: Ընդամենը | D12: =+hav.4!G10 -> 65,262.3 | E12: =+hav.4!H10 -> 65,262.3 | F12: =+hav.4!I10 -> 65,262.3
A13: այդ թվում`
A14: ՀՀ կրթության, գիտության, մշակույթի և սպորտի նախարարություն | D14: =+hav.4!G16 -> 54,769.6 | E14: =+hav.4!H16 -> 54,769.6 | F14: =+hav.4!I16 -> 54,769.6
A15: այդ թվում`
A16: 1168 | B16: Արվեստների ծրագիր | D16: =+D17 -> 54,769.6 | E16: =+E17 -> 54,769.6 | F16: =+F17 -> 54,769.6
B17: 11003 | C17: Թատերական ներկայացումներ | D17: =+D18 -> 54,769.6 | E17: =+E18 -> 54,769.6 | F17: =+F18 -> 54,769.6
C18: ՀՀ տարածքային կառավարման և նթակառուցվածքների նախարարություն | D18: =+D14 -> 54,769.6 | E18: =+E14 -> 54,769.6 | F18: =+F14 -> 54,769.6
A19: այդ թվում`
A20: ՀՀ շրջակա միջավայրի նախարարություն | D20: =+D22 -> 10,492.7 | E20: =+E22 -> 10,492.7 | F20: =+F22 -> 10,492.7
A21: այդ թվում`
A22: 1186 | B22: Բնագիտական նմուշների պահպանություն և ցուցադրություն | D22: =+D23 -> 10,492.7 | E22: =+E23 -> 10,492.7 | F22: =+F23 -> 10,492.7
B23: 11002 | C23: Կենդանաբանական այգու ցուցադրություններ | D23: =+D24 -> 10,492.7 | E23: =+E24 -> 10,492.7 | F23: =+F24 -> 10,492.7
C24: ՀՀ տարածքային կառավարման և ենթակառուցվածքների նախարարություն | D24: =+hav.4!G31 -> 10,492.7 | E24: =+hav.4!H31 -> 10,492.7 | F24: =+hav.4!I31 -> 10,492.7
A28: ՀԱՅԱՍՏԱՆԻՀԱՆՐԱՊԵՏՈՒԹՅԱՆ
A29: ՎԱՐՉԱՊԵՏԻ ԱՇԽԱՏԱԿԱԶՄԻ
A30: ՂԵԿԱՎԱՐ | D30: Ա.ԹՈՐՈՍՅԱՆ

Sheet hav.6
B1: ՀավելվածN 6
B2: ՀՀ կառավարության 2021 թվականի ----ի N -Նորոշման
B3: Աղյուսակ N 1
A5: ՀԱՅԱՍՏԱՆԻ ՀԱՆՐԱՊԵՏՈՒԹՅԱՆ ԿԱՌԱՎԱՐՈՒԹՅԱՆ 2020 ԹՎԱԿԱՆԻ ԴԵԿՏԵՄԲԵՐԻ 30-Ի N 2215-Ն ՈՐՈՇՄԱՆ N 9 ՀԱՎԵԼՎԱԾԻ N N 9.13 ԵՎ 9.14 ԱՂՅՈՒՍԱԿՆԵՐՈՒՄ ԿԱՏԱՐՎՈՂ ԼՐԱՑՈՒՄՆԵՐԸ
A6: ՀՀ կրթության, գիտության, մշակույթի և սպորտի նախարարություն
A7: ՄԱՍ 2. ՊԵՏԱԿԱՆ ՄԱՐՄՆԻ ԳԾՈՎ ԱՐԴՅՈՒՆՔԱՅԻՆ (ԿԱՏԱՐՈՂԱԿԱՆ) ՑՈՒՑԱՆԻՇՆԵՐԸ
A8: Ծրագրի դասիչը | B8: Ծրագրի անվանումը
A9: 1168 | B9: Արվեստների ծրագիր
A10: Ծրագրի միջոցառումները
A11: Ծրագրի դասիչը` | B11: 1168 | C11: Ցուցանիշների փոփոխությունը (ավելացումները նշված են դրական նշանով)
A12: Միջոցառման դասիչը` | B12: 11003 | C12: առաջին կիսամյակ | D12: ինն ամիս | E12: տարի
A13: Միջոցառման անվանումը` | B13: Թատերական ներկայացումներ
A14: Նկարագրությունը` | B14: Թատերական ներկայացումների բեմադրություններ և թատրոնների գործունեության ապահովում
A15: Միջոցառմանտեսակը` | B15: Ծառայությունների մատուցում
A16: Միջոցառումն իրականացնողի անվանումը | B16: Մասնագիտացված կազմակերպություն
A17: Արդյունքի չափորոշիչներ
A18: Միջոցառման վրա կատարվող ծախսը (հազ.դրամ) | C18: =+hav.5!D18 -> 54,769.6 | D18: =+hav.5!E18 -> 54,769.6 | E18: =+hav.5!F18 -> 54,769.6
A19: ՀՀ շրջակա միջավայրի նախարարություն
A20: Ծրագրի դասիչը | B20: Ծրագրի անվանումը
A21: 1186 | B21: Բնագիտական նմուշների պահպանություն և ցուցադրություն
A22: Ծրագրի միջոցառումները
A23: Ծրագրի դասիչը` | B23: 1186 | C23: Ցուցանիշների փոփոխությունը (ավելացումները նշված են դրական նշանով)
A24: Միջոցառմանդասիչը` | B24: 11002 | C24: առաջին կիսամյակ | D24: ինն ամիս | E24: տարի
A25: Միջոցառմանանվանումը` | B25: Կենդանաբանական այգու ցուցադրություններ
A26: Նկարագրությունը` | B26: Աջակցություն երևանի քաղաքային համայնքին ՝մշակութային ժամանցի միջոցառումների իրականացման նպատակով
A27: Միջոցառմանտեսակը` | B27: Ծառայությունների մատուցում
A28: Միջոցառումն իրականացնողի ա նվանումը | B28: Մասնագիտացված կազմակերպություն
A29: Արդյունքի չափորոշիչներ
A30: Միջոցառման վրա կատարվող ծախսը (հազ.դրամ) | C30: =+hav.5!D24 -> 10,492.7 | D30: =+hav.5!E24 -> 10,492.7 | E30: =+hav.5!F24 -> 10,492.7
C35: Աղյուսակ N 2
A37: ՀԱՅԱՍՏԱՆԻ ՀԱՆՐԱՊԵՏՈՒԹՅԱՆ ԿԱՌԱՎԱՐՈՒԹՅԱՆ 2020ԹՎԱԿԱՆԻ ԴԵԿՏԵՄԲԵՐԻ 30-Ի N 2215-Ն ՈՐՈՇՄԱՆ N 9.1 ՀԱՎԵԼՎԱԾԻ N 9.1.8 ԱՂՅՈՒՍԱԿԻ ՑՈՒՑԱՆԻՇՆԵՐՈՒՄ ԿԱՏԱՐՎՈՂ ԼՐԱՑՈՒՄՆԵՐԸ
A38: ՀՀ տարածքային կառավարման և ենթակառուցվածքների նախարարություն
A39: ՄԱՍ 2. ՊԵՏԱԿԱՆ ՄԱՐՄՆԻ ԳԾՈՎ ԱՐԴՅՈՒՆՔԱՅԻՆ (ԿԱՏԱՐՈՂԱԿԱՆ) ՑՈՒՑԱՆԻՇՆԵՐԸ
A40: Ծրագրի դասիչը | B40: Ծրագրի անվանումը
A41: 1168 | B41: Արվեստների ծրագիր
A42: Ծրագրի միջոցառումները
A43: Ծրագրի դասիչը` | B43: 1168 | C43: Ցուցանիշների փոփոխությունը (ավելացումները նշված են դրական նշանով)
A44: Միջոցառման դասիչը` | B44: 11003 | C44: առաջին կիսամյակ | D44: ինն ամիս | E44: տարի
A45: Միջոցառման անվանումը` | B45: Թատերական ներկայացումներ
A46: Նկարագրությունը` | B46: Թատերական ներկայացումների բեմադրություններ և թատրոնների գործունեության ապահովում
...
