Workbook
Name շախմատիստ: #REF!
Name շախմատիստ: #REF!
Name շախմատիստ: #REF!

Sheet Հավելված N 1
D1: Հավելված N 1
D2: ՀՀ կառավարության 2021 թվականի
D3: ______________ ի ___Ն որոշման
A4: «ՀԱՅԱՍՏԱՆԻ ՀԱՆՐԱՊԵՏՈՒԹՅԱՆ 2021 ԹՎԱԿԱՆԻ ՊԵՏԱԿԱՆ ԲՅՈՒՋԵԻ ՄԱՍԻՆ» ՕՐԵՆՔԻ N 1 ՀԱՎԵԼՎԱԾԻ N 2 ԱՂՅՈՒՍԱԿՈՒՄ ԿԱՏԱՐՎՈՂ ՎԵՐԱԲԱՇԽՈՒՄԸ ԵՎ ՀԱՅԱՍՏԱՆԻ ՀԱՆՐԱՊԵՏՈՒԹՅԱՆ ԿԱՌԱՎԱՐՈՒԹՅԱՆ 2020 ԹՎԱԿԱՆԻ ԴԵԿՏԵՄԲԵՐԻ 30-Ի N 2215-Ն ՈՐՈՇՄԱՆ N 5 ՀԱՎԵԼՎԱԾԻ N 1 ԱՂՅՈՒՍԱԿՈՒՄ ԿԱՏԱՐՎՈՂ ԼՐԱՑՈՒՄՆԵՐԸ ԵՎ ՓՈՓՈԽՈՒԹՅՈՒՆՆԵՐԸ
A7: Ծրագրային դասիչը | C7: Բյուջետային հատկացումների գլխավոր կարգադրիչների, ծրագրերի և միջոցառումների անվանումները | D7: Ցուցանիշների փոփոխությունը (ավելացումները նշված են դրական նշանով, իսկ նվազեցումները՝ փակագծերում)
A8: ծրագիր | B8: միջոցառում | D8: Առաջին կիսամյակ | E8: Ինն ամիս | F8: Տարի
C9: ԸՆԴԱՄԵՆԸ | D9: =D11+D31+D45+D59 -> 0 | E9: =E11+E31+E45+E59 -> 0 | F9: =F11+F31+F45+F59 -> 0
C10: այդ թվում
A11: ՀՀ կառավարություն | D11: =+D13 -> 0 | E11: =+E13 -> 0 | F11: =+F13 -> 0
A12: 1139 | C12: Ծրագրի անվանումը`
C13: ՀՀ կառավարության պահուստային ֆոնդ | D13: =+D20+D26 -> 0 | E13: =+E20+E26 -> 0 | F13: =+F20+F26 -> 0
C14: Ծրագրի նպատակը`
C15: Պետական բյուջեում չկանխատեսված, ինչպես նաև բյուջետային երաշխիքների ապահովման ծախսերի ֆինանսավորման ապահովում
C16: Վերջնական արդյունքի նկարագրությունը`
C17: Պահուստային ֆոնդի կառավարման արդյունավետության և թափանցիկության ապահովում
C18: Ծրագրի միջոցառումներ
B19: 11001 | C19: Միջոցառման անվանումը`
C20: ՀՀ կառավարության պահուստային ֆոնդ | D20: -30000 | E20: -30000 | F20: -40000
C21: Միջոցառման նկարագրությունը`
C22: ՀՀ պետական բյուջեում նախատեսված ելքերի լրացուցիչ ֆինանսավորման՝ պետական բյուջեում չկանխատեսված ելքերի, ինչպես նաև բյուջետային երաշխիքների ապահովման ելքերի ֆինանսավորման ապահովում
C23: Միջոցառման տեսակը
C24: Ծառայությունների մատուցում
B25: 11001 | C25: Միջոցառման անվանումը`
C26: ՀՀ կառավարության պահուստային ֆոնդ | D26: 30000 | E26: 30000 | F26: 40000
C27: Միջոցառման նկարագրությունը`
C28: ՀՀ պետական բյուջեում նախատեսված ելքերի լրացուցիչ ֆինանսավորման՝ պետական բյուջեում չկանխատեսված ելքերի, ինչպես նաև բյուջետային երաշխիքների ապահովման ելքերի ֆինանսավորման ապահովում
C29: Միջոցառման տեսակը
C30: Ծառայությունների մատուցում
A31: ՀՀ կրթության, գիտության, մշակույթի և սպորտի նախարարություն | D31: =D33 -> -30000 | E31: =E33 -> -30000 | F31: =F33 -> -30000
A32: 1041 | C32: Ծրագրի անվանումը`
C33: Մեծ նվաճումների սպորտ | D33: =D40 -> -30000 | E33: =E40 -> -30000 | F33: =F40 -> -30000
C34: Ծրագրի նպատակը`
C35: Նպաստել Հայաստանում մեծ սպորտի շարունակական զարգացմանը և միջազգային հարթակներում ՀՀ դիրքի բարելավմանը
C36: Վերջնական արդյունքի նկարագրությունը`
C37: ՀՀ առաջնությունների ընդլայնում, միջազգային սպորտային միջոցառումներին մասնակցության և նվաճումների ապահովում
A38: Ծրագրի միջոցառումներ
B39: 11002 | C39: Միջոցառման անվանումը`
C40: ՀՀ հավաքական թիմերին մարզահագուստով և մարզահանդերձանքով ապահովում | D40: -30000 | E40: -30000 | F40: -30000
C41: Միջոցառման նկարագրությունը`
C42: ՀՀ հավաքական թիմերին անհրաժեշտ մարզահագուստով և մարզահանդերձանքով ապահովման ծառայություններ
C43: Միջոցառման տեսակը
C44: Ծառայությունների մատուցում
A45: ՀՀ առողջապահության նախարարություն | D45: =D47+D62+D75 -> 0 | E45: =E47+E62+E75 -> 0 | F45: =F47+F62+F75 -> -10000
A46: 1099 | C46: Ծրագրի անվանումը`
C47: Առողջության առաջնային պահպանում | D47: =D54 -> 0 | E47: =E54 -> 0 | F47: =F54 -> -10000
C48: Ծրագրի նպատակը`
C49: Բնակչությանը մատչելի և որակյալ առաջնային բժշկական օգնության և սպասարկման տրամադրում, առողջության վատթարացման ռիսկի գործոնների վերհանում և դրանց հնարավոր անբարենպաստ ազդեցության կանխարգելում
C50: Վերջնական արդյունքի նկարագրությունը`
C51: Առողջության առաջնային պահպանման օղակում ցուցաբերվող բժշկական օգնության որակի, հիվանդությունների վաղ հայտնաբերման և կանխարգելման մակարդակի բարելավում, առողջապահական ծառայությունների վերաբերյալ իրազեկվածության և դրանց նկատմամբ պահանջարկի ավելացում
A52: Ծրագրի միջոցառումներ
B53: 11007 | C53: Միջոցառման անվանումը`
C54: Սպորտային բժշկության ծառայություններ | F54: -10000
C55: Միջոցառման նկարագրությունը`
C56: ՀՀ հավաքական թիմերի մարզիկների բժշկական հսկողություն, հիվանդությունների և վնասվածքների ախտորոշում,ամբուլատոր բուժում, դեղորայքով ապահովում
C57: Միջոցառման տեսակը
C58: Ծառայությունների մատուցում
A59: ՀՀ կրթության, գիտության, մշակույթի և սպորտի նախարարություն | D59: =D61 -> 30000 | E59: =E61 -> 30000 | F59: =F61 -> 40000
A60: 1041 | C60: Ծրագրի անվանումը`
C61: Մեծ նվաճումների սպորտ | D61: =D68 -> 30000 | E61: =E68 -> 30000 | F61: =F68 -> 40000
C62: Ծրագրի նպատակը`
C63: Նպաստել Հայաստանում մեծ սպորտի շարունակական զարգացմանը և միջազգային հարթակներում ՀՀ դիրքի բարելավմանը
C64: Վերջնական արդյունքի նկարագրությունը`
C65: ՀՀ առաջնությունների ընդլայնում, միջազգային սպորտային միջոցառումներին մասնակցության և նվաճումների ապահովում
A66: Ծրագրի միջոցառումներ
B67: 11030 | C67: Միջոցառման անվանումը`
C68: ՀՀ հավաքական թիմերի մարզիկների ֆունկցիոնալ վիճակի արդյունավետության բարձրացման նպատակով վիտամինիզացիայի և չարգելված սպորտային հավելյալ սննդով ապահովում | D68: 30000 | E68: 30000 | F68: 40000
C69: Միջոցառման նկարագրությունը`
C70: ՀՀ հավաքական թիմերի մարզիկների ֆունկցիոնալ վիճակի արդյունավետության բարձրացման նպատակով անհրաժեշտ վիտամինիզացիայի և չարգելված սպորտային հավելյալ սննդով ապահովման ծառայություններ
C71: Միջոցառման տեսակը
C72: Ծառայությունների մատուցում

Sheet Հավելված N 2
G1: Հավելված N 2
G2: ՀՀ կառավարության 2021 թվականի
G3: ______________ ի ___Ն որոշման
A4: ՀԱՅԱՍՏԱՆԻ ՀԱՆՐԱՊԵՏՈՒԹՅԱՆ ԿԱՌԱՎԱՐՈՒԹՅԱՆ 2020 ԹՎԱԿԱՆԻ ԴԵԿՏԵՄԲԵՐԻ 30-Ի N 2215-Ն ՈՐՈՇՄԱՆ N 3 և N 4 ՀԱՎԵԼՎԱԾՆԵՐՈՒՄ ԿԱՏԱՐՎՈՂ ԼՐԱՑՈՒՄՆԵՐԸ ԵՎ ՓՈՓՈԽՈՒԹՅՈՒՆՆԵՐԸ
A7: Գործառական դասիչը | D7: Ծրագրային դասիչը | F7: Բյուջետային ծախսերի գործառական դասակարգման բաժինների, խմբերի և դասերի, բյուջետային ծրագրերի միջոցառումների, բյուջետային հատկացումների գլխավոր կարգադրիչների անվանումները | G7: Ցուցանիշների փոփոխություն (ավելացումները նշված են դրական նշանով, իսկ նվազեցումները՝ փակագծերում )
A8: Բաժին | B8: Խումբ | C8: Դաս | D8: Ծրագիր | E8: Միջոցառում | G8: Առաջին կիսամյակ | H8: Ինն ամիս | I8: Տարի
F9: ԸՆԴԱՄԵՆԸ | G9: =G11+G29+G46+G63 -> 0 | H9: =H11+H29+H46+H63 -> 0 | I9: =I11+I29+I46+I63 -> 0
F10: այդ թվում`
A11: ՀՀ կառավարություն | G11: =+G12 -> 0 | H11: =+H12 -> 0 | I11: =+I12 -> 0
A12: 11 | F12: ՀԻՄՆԱԿԱՆ ԲԱԺԻՆՆԵՐԻՆ ՉԴԱՍՎՈՂ ՊԱՀՈՒՍՏԱՅԻՆ ՖՈՆԴԵՐ | G12: =+G14 -> 0 | H12: =+H14 -> 0 | I12: =+I14 -> 0
F13: այդ թվում`
B14: 01 | F14: ՀՀ կառավարության և համայնքների պահուստային ֆոնդ | G14: =+G16 -> 0 | H14: =+H16 -> 0 | I14: =+I16 -> 0
F15: այդ թվում`
C16: 01 | F16: ՀՀ կառավարության պահուստային ֆոնդ | G16: =+G18 -> 0 | H16: =+H18 -> 0 | I16: =+I18 -> 0
F17: այդ թվում`
D18: 1139 | E18: ՀՀ կառավարության պահուստային ֆոնդ | G18: =+G20 -> 0 | H18: =+H20 -> 0 | I18: =+I20 -> 0
F19: այդ թվում`
E20: 11001 | F20: ՀՀ կառավարության պահուստային ֆոնդ | G20: =+G22 -> 0 | H20: =+H22 -> 0 | I20: =+I22 -> 0
F21: այդ թվում` ըստ կատարողների
F22: ՀՀ կառավարություն | G22: =+G24 -> 0 | H22: =+H24 -> 0 | I22: =+I24 -> 0
F23: այդ թվում՝ բյուջետային ծախսերի տնտեսագիտական դասակարգման հոդվածներ
F24: ԸՆԴԱՄԵՆԸ ԾԱԽՍԵՐ | G24: =+G25 -> 0 | H24: =+H25 -> 0 | I24: =+I25 -> 0
F25: ԸՆԹԱՑԻԿ ԾԱԽՍԵՐ | G25: =+G26 -> 0 | H25: =+H26 -> 0 | I25: =+I26 -> 0
F26: ԱՅԼ ԾԱԽՍԵՐ | G26: =+G27+G28 -> 0 | H26: =+H27+H28 -> 0 | I26: =+I27+I28 -> 0
F27: Պահուստային միջոցներ | G27: ='Հավելված N 1'!D20 -> -30000 | H27: ='Հավելված N 1'!E20 -> -30000 | I27: ='Հավելված N 1'!F20 -> -40000
F28: Պահուստային միջոցներ | G28: ='Հավելված N 1'!D26 -> 30000 | H28: ='Հավելված N 1'!E26 -> 30000 | I28: ='Հավելված N 1'!F26 -> 40000
A29: ՀՀ կրթության, գիտության, մշակույթի և սպորտի նախարարություն | G29: =G30 -> -30000 | H29: =H30 -> -30000 | I29: =I30 -> -30000
A30: 08 | F30: ՀԱՆԳԻՍՏ, ՄՇԱԿՈՒՅԹ ԵՎ ԿՐՈՆ | G30: =G32 -> -30000 | H30: =H32 -> -30000 | I30: =I32 -> -30000
F31: այդ թվում`
B32: 01 | F32: Հանգստի և սպորտի ծառայություններ | G32: =G34 -> -30000 | H32: =H34 -> -30000 | I32: =I34 -> -30000
F33: այդ թվում`
C34: 01 | F34: Հանգստի և սպորտի ծառայություններ | G34: =G37 -> -30000 | H34: =H37 -> -30000 | I34: =I37 -> -30000
F35: այդ թվում`
D36: 1041 | F36: Մեծ նվաճումների սպորտ
E37: 11002 | F37: ՀՀ հավաքական թիմերին մարզահագուստով և մարզահանդերձանքով ապահովում | G37: =G39 -> -30000 | H37: =H39 -> -30000 | I37: =I39 -> -30000
F38: այդ թվում` ըստ կատարողների
F39: ՀՀ կրթության , գիտության, մշակույթի և սպորտի նախարարություն | G39: =G41 -> -30000 | H39: =H41 -> -30000 | I39: =I41 -> -30000
F40: այդ թվում` բյուջետային ծախսերի տնտեսագիտական դասակարգման հոդվածներ
F41: ԸՆԴԱՄԵՆԸ ԾԱԽՍԵՐ | G41: =G42 -> -30000 | H41: =H42 -> -30000 | I41: =I42 -> -30000
F42: ԸՆԹԱՑԻԿ ԾԱԽՍԵՐ | G42: =G43 -> -30000 | H42: =H43 -> -30000 | I42: =I43 -> -30000
F43: ԾԱՌԱՅՈՒԹՅՈՒՆՆԵՐԻ ԵՎ ԱՊՐԱՆՔՆԵՐԻ ՁԵՌՔԲԵՐՈՒՄ | G43: =G44 -> -30000 | H43: =H44 -> -30000 | I43: =I44 -> -30000
F44: Նյութեր (Ապրանքներ) | G44: =G45 -> -30000 | H44: =H45 -> -30000 | I44: =I45 -> -30000
F45: - Գրասենյակային նյութեր և հագուստ | G45: ='Հավելված N 1'!D40 -> -30000 | H45: ='Հավելված N 1'!E40 -> -30000 | I45: ='Հավելված N 1'!F40 -> -30000
A46: ՀՀ առողջապահության նախարարություն | G46: =G47+G67 -> 0 | H46: =H47+H67 -> 0 | I46: =I47+I67 -> -10000
A47: 07 | F47: ԱՌՈՂՋԱՊԱՀՈՒԹՅՈՒՆ | G47: =G49 -> 0 | H47: =H49 -> 0 | I47: =I49 -> -10000
F48: այդ թվում`
B49: 02 | F49: Արտահիվանդանոցային ծառայություններ | G49: =G51 -> 0 | H49: =H51 -> 0 | I49: =I51 -> -10000
F50: այդ թվում`
C51: 02 | F51: Մասնագիտացված բժշկական ծառայություններ | G51: =G54 -> 0 | H51: =H54 -> 0 | I51: =I54 -> -10000
F52: այդ թվում`
D53: 1099 | F53: Առողջության առաջնային պահպանում
E54: 11007 | F54: Սպորտային բժշկության ծառայություններ | G54: =G56 -> 0 | H54: =H56 -> 0 | I54: =I56 -> -10000
F55: այդ թվում` ըստ կատարողների
F56: ՀՀ առողջապահության նախարարություն | G56: =G58 -> 0 | H56: =H58 -> 0 | I56: =I58 -> -10000
F57: այդ թվում` բյուջետային ծախսերի տնտեսագիտական դասակարգման հոդվածներ
F58: ԸՆԴԱՄԵՆԸ ԾԱԽՍԵՐ | G58: =G59 -> 0 | H58: =H59 -> 0 | I58: =I59 -> -10000
F59: ԸՆԹԱՑԻԿ ԾԱԽՍԵՐ | G59: =G60 -> 0 | H59: =H60 -> 0 | I59: =I60 -> -10000
F60: ԾԱՌԱՅՈՒԹՅՈՒՆՆԵՐԻ ԵՎ ԱՊՐԱՆՔՆԵՐԻ ՁԵՌՔԲԵՐՈՒՄ | G60: =G61 -> 0 | H60: =H61 -> 0 | I60: =I61 -> -10000
F61: Պայմանագրային այլ ծառայությունների ձեռքբերում | G61: =G62 -> 0 | H61: =H62 -> 0 | I61: =I62 -> -10000
F62: - Ընդհանուր բնույթի այլ ծառայություններ | G62: 0 | H62: 0 | I62: -10000
A63: ՀՀ կրթության, գիտության, մշակույթի և սպորտի նախարարություն | G63: =G64 -> 30000 | H63: =H64 -> 30000 | I63: =I64 -> 40000
A64: 08 | F64: ՀԱՆԳԻՍՏ, ՄՇԱԿՈՒՅԹ ԵՎ ԿՐՈՆ | G64: =G66 -> 30000 | H64: =H66 -> 30000 | I64: =I66 -> 40000
F65: այդ թվում`
B66: 01 | F66: Հանգստի և սպորտի ծառայություններ | G66: =G68 -> 30000 | H66: =H68 -> 30000 | I66: =I68 -> 40000
F67: այդ թվում`
C68: 01 | F68: Հանգստի և սպորտի ծառայություններ | G68: =G71 -> 30000 | H68: =H71 -> 30000 | I68: =I71 -> 40000
F69: այդ թվում`
D70: 1041 | F70: Մեծ նվաճումների սպորտ
E71: 11030 | F71: ՀՀ հավաքական թիմերի մարզիկների ֆունկցիոնալ վիճակի արդյունավետության բարձրացման նպատակով վիտամինիզացիայի և չարգելված սպորտային հավելյալ սննդով ապահովում | G71: =G73 -> 30000 | H71: =H73 -> 30000 | I71: =I73 -> 40000
F72: այդ թվում` ըստ կատարողների
F73: ՀՀ կրթության , գիտության, մշակույթի և սպորտի նախարարություն | G73: =G75 -> 30000 | H73: =H75 -> 30000 | I73: =I75 -> 40000
F74: այդ թվում` բյուջետային ծախսերի տնտեսագիտական դասակարգման հոդվածներ
F75: ԸՆԴԱՄԵՆԸ ԾԱԽՍԵՐ | G75: =G76 -> 30000 | H75: =H76 -> 30000 | I75: =I76 -> 40000
F76: ԸՆԹԱՑԻԿ ԾԱԽՍԵՐ | G76: =G77 -> 30000 | H76: =H77 -> 30000 | I76: =I77 -> 40000
F77: ԴՐԱՄԱՇՆՈՐՀՆԵՐ | G77: =G78 -> 30000 | H77: =H78 -> 30000 | I77: =I78 -> 40000
F78: Ընթացիկ դրամաշնորհներ պետական հատվածի այլ մակարդակներին | G78: =G79 -> 30000 | H78: =H79 -> 30000 | I78: =I79 -> 40000
F79: - Այլ ընթացիկ դրամաշնորհներ | G79: 30000 | H79: 30000 | I79: 40000

Sheet Հավելված N3
B1: Հավելված N 3
B2: ՀՀ կառավարության 2021 թվականի
B3: ______________ ի ___Ն որոշման
A5: ՀԱՅԱՍՏԱՆԻ ՀԱՆՐԱՊԵՏՈՒԹՅԱՆ ԿԱՌԱՎԱՐՈՒԹՅԱՆ 2020 ԹՎԱԿԱՆԻ ԴԵԿՏԵՄԲԵՐԻ 30-Ի N 2215-Ն ՈՐՈՇՄԱՆ N 9 ՀԱՎԵԼՎԱԾԻ N 9.14, N 9.9 ԵՎ N 9.47 ԱՂՅՈՒՍԱԿՆԵՐՈՒՄ ԿԱՏԱՐՎՈՂ ԼՐԱՑՈՒՄՆԵՐԸ ԵՎ ՓՈՓՈԽՈՒԹՅՈՒՆՆԵՐԸ
E6: (հազ.դրամ)
A7: ՀՀ կառավարություն
A8: ՄԱՍ 2. ՊԵՏԱԿԱՆ ՄԱՐՄՆԻ ԳԾՈՎ ԱՐԴՅՈՒՆՔԱՅԻՆ (ԿԱՏԱՐՈՂԱԿԱՆ) ՑՈՒՑԱՆԻՇՆԵՐԸ
A10: Ծրագրի դասիչը | B10: Ծրագրի անվանումը
A11: 1139 | B11: ՀՀ կառավարության պահուստային ֆոնդ
A12: Ծրագրի միջոցառումները
A13: Ծրագրի դասիչը՝ | B13: 1139 | C13: Ցուցանիշների փոփոխություն (ավելացումները նշված են դրական նշանով)
A14: Միջոցառման դասիչը՝ | B14: 11001 | C14: Առաջին կիսամյակ | D14: Ինն ամիս | E14: Տարի
A15: Միջոցառման անվանումը՝ | B15: ՀՀ կառավարության պահուստային ֆոնդ
A16: Նկարագրությունը՝ | B16: ՀՀ պետական բյուջեում նախատեսված ելքերի լրացուցիչ ֆինանսավորման՝ պետական բյուջեում չկանխատեսված ելքերի, ինչպես նաև բյուջետային երաշխիքների ապահովման ելքերի ֆինանսավորման ապահովում
A17: Միջոցառման տեսակը՝ | B17: Ծառայությունների մատուցում
A18: Միջոցառումն իրականացնողի անվանումը | B18: ՀՀ կառավարություն
A19: Արդյունքի չափորոշիչներ
A20: Միջոցառման վրա կատարվող ծախսը (հազար դրամ) | C20: ='Հավելված N 2'!G28 -> 30000 | D20: ='Հավելված N 2'!H28 -> 30000 | E20: ='Հավելված N 2'!I28 -> 40000
A21: Ծրագրի դասիչը | B21: Ծրագրի անվանումը
A22: 1139 | B22: ՀՀ կառավարության պահուստային ֆոնդ
A23: Ծրագրի միջոցառումները
A24: Ծրագրի դասիչը՝ | B24: 1139 | C24: Ցուցանիշների փոփոխություն (նվազեցումները նշված են փակագծերում )
A25: Միջոցառման դասիչը՝ | B25: 11001 | C25: Առաջին կիսամյակ | D25: Ինն ամիս | E25: Տարի
A26: Միջոցառման անվանումը՝ | B26: ՀՀ կառավարության պահուստային ֆոնդ
A27: Նկարագրությունը՝ | B27: ՀՀ պետական բյուջեում նախատեսված ելքերի լրացուցիչ ֆինանսավորման՝ պետական բյուջեում չկանխատեսված ելքերի, ինչպես նաև բյուջետային երաշխիքների ապահովման ելքերի ֆինանսավորման ապահովում
A28: Միջոցառման տեսակը՝ | B28: Ծառայությունների մատուցում
A29: Միջոցառումն իրականացնողի անվանումը | B29: ՀՀ կառավարություն
A30: Արդյունքի չափորոշիչներ
A31: Միջոցառման վրա կատարվող ծախսը (հազար դրամ) | C31: ='Հավելված N 2'!G27 -> -30000 | D31: ='Հավելված N 2'!H27 -> -30000 | E31: ='Հավելված N 2'!I27 -> -40000
A32: ՀՀ կրթության, գիտության, մշակույթի և սպորտի նախարարություն
A33: ՄԱՍ 2. ՊԵՏԱԿԱՆ ՄԱՐՄՆԻ ԳԾՈՎ ԱՐԴՅՈՒՆՔԱՅԻՆ (ԿԱՏԱՐՈՂԱԿԱՆ) ՑՈՒՑԱՆԻՇՆԵՐԸ
A35: Ծրագրի դասիչը | B35: Ծրագրի անվանումը
A36: 1041 | B36: Մեծ նվաճումների սպորտ
A38: Ծրագրի միջոցառումները
A40: Ծրագրի դասիչը` | B40: 1041 | C40: Ցուցանիշների փոփոխություն (նվազեցումները նշված են փակագծերում )
A41: Միջոցառման դասիչը` | B41: 11002 | C41: Առաջին կիսամյակ | D41: Ինն ամիս | E41: Տարի
A42: Միջոցառման անվանումը` | B42: ՀՀ հավաքական թիմերին մարզահագուստով և մարզահանդերձանքով ապահովում
A43: Նկարագրությունը` | B43: ՀՀ հավաքական թիմերին անհրաժեշտ մարզահագուստով և մարզահանդերձանքով ապահովման ծառայություններ
A44: Միջոցառման տեսակը` | B44: Ծառայությունների մատուցում
A45: Ծառայությունը մատուցող կազմակերպությունների անվանումը | B45: «Գնումների մասին» ՀՀ օրենքի համաձայն ընտրված կազմակերպություն
A46: Արդյունքի չափորոշիչներ
A47: ՀՀ հավաքականների թիվ, հատ | C47: -31 | D47: -31 | E47: -31
A48: Միջոցառման վրա կատարվող ծախսը (հազար դրամ) | C48: -30000 | D48: -30000 | E48: -30000
A49: ՀՀ առողջապահության նախարարություն
A51: Ծրագրի դասիչը | B51: Ծրագրի անվանումը
A52: 1099 | B52: Առողջության առաջնային պահպանում
A54: Ծրագրի միջոցառումները
A56: Ծրագրի դասիչը` | B56: 1099 | C56: Ցուցանիշների փոփոխություն (նվազեցումները նշված են փակագծերում )
A57: Միջոցառման դասիչը` | B57: 11007 | C57: Առաջին կիսամյակ | D57: Ինն ամիս | E57: Տարի
A58: Միջոցառման անվանումը` | B58: Սպորտային բժշկության ծառայություններ
A59: Նկարագրությունը` | B59: ՀՀ հավաքական թիմերի մարզիկների բժշկական հսկողություն, հիվանդությունների և վնասվածքների ախտորոշում,ամբուլատոր բուժում, դեղորայքով ապահովում
A60: Միջոցառման տեսակը` | B60: Ծառայությունների մատուցում
A61: Ծառայությունը մատուցող կազմակերպության(ների) անվանում(ներ)ը | B61: Մասնագիտացված կազմակերպություն
A62: Արդյունքի չափորոշիչներ
A63: Միջոցառման վրա կատարվող ծախսը (հազար դրամ) | E63: -10000
A64: ՀՀ կրթության, գիտության, մշակույթի և սպորտի նախարարություն
A65: Ծրագրի դասիչը | B65: Ծրագրի անվանումը
A66: 1041 | B66: Մեծ նվաճումների սպորտ
A68: Ծրագրի միջոցառումները
A70: Ծրագրի դասիչը` | B70: 1041 | C70: Ցուցանիշների փոփոխություն (ավելացումները նշված են դրական նշանով )
A71: Միջոցառման դասիչը` | B71: 11030 | C71: Առաջին կիսամյակ | D71: Ինն ամիս | E71: Տարի
A72: Միջոցառման անվանումը` | B72: ՀՀ հավաքական թիմերի մարզիկների ֆունկցիոնալ վիճակի արդյունավետության բարձրացման նպատակով վիտամինիզացիայի և չարգելված սպորտային հավելյալ սննդով ապահովում
A73: Նկարագրությունը` | B73: ՀՀ հավաքական թիմերի մարզիկների ֆունկցիոնալ վիճակի արդյունավետության բարձրացման նպատակով անհրաժեշտ վիտամինիզացիայի և չարգելված սպորտային հավելյալ սննդով ապահովման ծառայություններ
A74: Միջոցառման տեսակը` | B74: Ծառայությունների մատուցում
A75: Ծառայությունը մատուցող կազմակերպությունների անվանումը | B75: ՀՀ մարզական ֆեդերացիաներ
A76: Արդյունքի չափորոշիչներ
A77: ՀՀ մարզական ֆեդերացիաների թիվ, հատ | C77: 15 | D77: 15 | E77: 15
A78: Միջոցառման վրա կատարվող ծախսը (հազար դրամ) | C78: 30000 | D78: 30000 | E78: 40000

Sheet Հավելված N4
B1: Հավելված N 4
B2: ՀՀ կառավարության 2021 թվականի
B3: ______________ ի ___Ն որոշման
A5: ՀԱՅԱՍՏԱՆԻ ՀԱՆՐԱՊԵՏՈՒԹՅԱՆ ԿԱՌԱՎԱՐՈՒԹՅԱՆ 2020 ԹՎԱԿԱՆԻ ԴԵԿՏԵՄԲԵՐԻ 30-Ի N 2215-Ն ՈՐՈՇՄԱՆ N 9.1 ՀԱՎԵԼՎԱԾԻ N 9.1.14 , N 9.1.9 ԵՎ 9.1.58 ԱՂՅՈՒՍԱԿՆԵՐՈՒՄ ԿԱՏԱՐՎՈՂ ԼՐԱՑՈՒՄՆԵՐԸ ԵՎ ՓՈՓՈԽՈՒԹՅՈՒՆՆԵՐԸ
E6: (հազ.դրամ)
A7: ՀՀ կառավարություն
A8: ՄԱՍ 2. ՊԵՏԱԿԱՆ ՄԱՐՄՆԻ ԳԾՈՎ ԱՐԴՅՈՒՆՔԱՅԻՆ (ԿԱՏԱՐՈՂԱԿԱՆ) ՑՈՒՑԱՆԻՇՆԵՐԸ
A10: Ծրագրի դասիչը | B10: Ծրագրի անվանումը
A11: 1139 | B11: ՀՀ կառավարության պահուստային ֆոնդ
A12: Ծրագրի միջոցառումները
A13: Ծրագրի դասիչը՝ | B13: 1139 | C13: Ցուցանիշների փոփոխություն (ավելացումները նշված են դրական նշանով )
A14: Միջոցառման դասիչը՝ | B14: 11001 | C14: Առաջին կիսամյակ | D14: Ինն ամիս | E14: Տարի
A15: Միջոցառման անվանումը՝ | B15: ՀՀ կառավարության պահուստային ֆոնդ
A16: Նկարագրությունը՝ | B16: ՀՀ պետական բյուջեում նախատեսված ելքերի լրացուցիչ ֆինանսավորման՝ պետական բյուջեում չկանխատեսված ելքերի, ինչպես նաև բյուջետային երաշխիքների ապահովման ելքերի ֆինանսավորման ապահովում
A17: Միջոցառման տեսակը՝ | B17: Ծառայությունների մատուցում
A18: Միջոցառումն իրականացնողի անվանումը | B18: ՀՀ կառավարություն
A19: Արդյունքի չափորոշիչներ
A20: Միջոցառման վրա կատարվող ծախսը (հազար դրամ) | C20: ='Հավելված N 2'!G28 -> 30000 | D20: ='Հավելված N 2'!H28 -> 30000 | E20: ='Հավելված N 2'!I28 -> 40000
A21: Ծրագրի դասիչը | B21: Ծրագրի անվանումը
A22: 1139 | B22: ՀՀ կառավարության պահուստային ֆոնդ
A23: Ծրագրի միջոցառումները
A24: Ծրագրի դասիչը՝ | B24: 1139 | C24: Ցուցանիշների փոփոխություն (նվազեցումները նշված են փակագծերում )
A25: Միջոցառման դասիչը՝ | B25: 11001 | C25: Առաջին կիսամյակ | D25: Ինն ամիս | E25: Տարի
A26: Միջոցառման անվանումը՝ | B26: ՀՀ կառավարության պահուստային ֆոնդ
A27: Նկարագրությունը՝ | B27: ՀՀ պետական բյուջեում նախատեսված ելքերի լրացուցիչ ֆինանսավորման՝ պետական բյուջեում չկանխատեսված ելքերի, ինչպես նաև բյուջետային երաշխիքների ապահովման ելքերի ֆինանսավորման ապահովում
A28: Միջոցառման տեսակը՝ | B28: Ծառայությունների մատուցում
A29: Միջոցառումն իրականացնողի անվանումը | B29: ՀՀ կառավարություն
A30: Արդյունքի չափորոշիչներ
A31: Միջոցառման վրա կատարվող ծախսը (հազար դրամ) | C31: ='Հավելված N 2'!G27 -> -30000 | D31: ='Հավելված N 2'!H27 -> -30000 | E31: ='Հավելված N 2'!I27 -> -40000
A32: ՀՀ կրթության, գիտության, մշակույթի և սպորտի նախարարություն
A33: ՄԱՍ 2. ՊԵՏԱԿԱՆ ՄԱՐՄՆԻ ԳԾՈՎ ԱՐԴՅՈՒՆՔԱՅԻՆ (ԿԱՏԱՐՈՂԱԿԱՆ) ՑՈՒՑԱՆԻՇՆԵՐԸ
A35: Ծրագրի դասիչը | B35: Ծրագրի անվանումը
A36: 1041 | B36: Մեծ նվաճումների սպորտ
A38: Ծրագրի միջոցառումները
A40: Ծրագրի դասիչը` | B40: 1041 | C40: Ցուցանիշների փոփոխություն (նվազեցումները նշված են փակագծերում )
A41: Միջոցառման դասիչը` | B41: 11002 | C41: Առաջին կիսամյակ | D41: Ինն ամիս | E41: Տարի
A42: Միջոցառման անվանումը` | B42: ՀՀ հավաքական թիմերին մարզահագուստով և մարզահանդերձանքով ապահովում
A43: Նկարագրությունը` | B43: ՀՀ հավաքական թիմերին անհրաժեշտ մարզահագուստով և մարզահանդերձանքով ապահովման ծառայություններ
A44: Միջոցառման տեսակը` | B44: Ծառայությունների մատուցում
A45: Ծառայությունը մատուցող կազմակերպությունների անվանումը | B45: «Գնումների մասին» ՀՀ օրենքի համաձայն ընտրված կազմակերպություն
A46: Արդյունքի չափորոշիչներ
A47: ՀՀ հավաքականների թիվ, հատ | C47: -31 | D47: -31 | E47: -31
A48: Միջոցառման վրա կատարվող ծախսը (հազար դրամ) | C48: -30000 | D48: -30000 | E48: -30000
A49: ՀՀ առողջապահության նախարարություն
A50: ՄԱՍ 2. ՊԵՏԱԿԱՆ ՄԱՐՄՆԻ ԳԾՈՎ ԱՐԴՅՈՒՆՔԱՅԻՆ (ԿԱՏԱՐՈՂԱԿԱՆ) ՑՈՒՑԱՆԻՇՆԵՐԸ
A51: 1099 | B51: Առողջության առաջնային պահպանում
A53: Ծրագրի միջոցառումները
A55: Ծրագրի դասիչը` | B55: 1099 | C55: Ցուցանիշների փոփոխություն (նվազեցումները նշված են փակագծերում )
A56: Միջոցառման դասիչը` | B56: 11007 | C56: Առաջին կիսամյակ | D56: Ինն ամիս | E56: Տարի
A57: Միջոցառման անվանումը` | B57: Սպորտային բժշկության ծառայություններ
A58: Նկարագրությունը` | B58: ՀՀ հավաքական թիմերի մարզիկների բժշկական հսկողություն, հիվանդությունների և վնասվածքների ախտորոշում,ամբուլատոր բուժում, դեղորայքով ապահովում
A59: Միջոցառման տեսակը` | B59: Ծառայությունների մատուցում
A60: Ծառայությունը մատուցող կազմակերպության(ների) անվանում(ներ)ը | B60: Մասնագիտացված կազմակերպություն
A61: Արդյունքի չափորոշիչներ
A62: Միջոցառման վրա կատարվող ծախսը (հազար դրամ) | E62: -10000
A63: ՀՀ կրթության, գիտության, մշակույթի և սպորտի նախարարություն
A64: ՄԱՍ 2. ՊԵՏԱԿԱՆ ՄԱՐՄՆԻ ԳԾՈՎ ԱՐԴՅՈՒՆՔԱՅԻՆ (ԿԱՏԱՐՈՂԱԿԱՆ) ՑՈՒՑԱՆԻՇՆԵՐԸ
A65: 1041 | B65: Մեծ նվաճումների սպորտ
A67: Ծրագրի միջոցառումները
A69: Ծրագրի դասիչը` | B69: 1041 | C69: Ցուցանիշների փոփոխություն (ավելացումները նշված են դրական նշանով )
A70: Միջոցառման դասիչը` | B70: 11030 | C70: Առաջին կիսամյակ | D70: Ինն ամիս | E70: Տարի
A71: Միջոցառման անվանումը` | B71: ՀՀ հավաքական թիմերի մարզիկների ֆունկցիոնալ վիճակի արդյունավետության բարձրացման նպատակով վիտամինիզացիայի և չարգելված սպորտային հավելյալ սննդով ապահովում
A72: Նկարագրությունը` | B72: ՀՀ հավաքական թիմերի մարզիկների ֆունկցիոնալ վիճակի արդյունավետության բարձրացման նպատակով անհրաժեշտ վիտամինիզացիայի և չարգելված սպորտային հավելյալ սննդով ապահովման ծառայություններ
A73: Միջոցառման տեսակը` | B73: Ծառայությունների մատուցում
A74: Ծառայությունը մատուցող կազմակերպության(ների) անվանում(ներ)ը | B74: ՀՀ մարզական ֆեդերացիաներ
A75: Արդյունքի չափորոշիչներ
A76: ՀՀ մարզական ֆեդերացիաների թիվ, հատ | C76: 15 | D76: 15 | E76: 15
A77: Միջոցառման վրա կատարվող ծախսը (հազար դրամ) | C77: 30000 | D77: 30000 | E77: 40000

Sheet ՀավելվածN5
H1: Հավելված N 5
H2: ՀՀ կառավարության 2021 թվականի
H3: ______________ ի ___Ն որոշման
B5: ՀԱՅԱՍՏԱՆԻ ՀԱՆՐԱՊԵՏՈՒԹՅԱՆ ԿԱՌԱՎԱՐՈՒԹՅԱՆ 2020 ԹՎԱԿԱՆԻ ԴԵԿՏԵՄԲԵՐԻ 30-Ի N 2215-Ն ՈՐՈՇՄԱՆ N 5 ՀԱՎԵԼՎԱԾԻ N 7 ԱՂՅՈՒՍԱԿՈՒՄ ԿԱՏԱՐՎՈՂ ՓՈՓՈԽՈՒԹՅՈՒՆԸ
H6: հազ. դրամ
B7: Ծրագրային դասիչ | D7: Բյուջետային հատկացումների գլխավոր կարգադրիչների, ծրագրերի, միջոցառումների, ծախսային ուղղությունների անվանումները | G7: Միջոցառումները կատարող պետական մարմինների և դրամաշնորհ ստացող տնտեսվարող սուբյեկտների անվանումները | H7: Ցուցանիշների փոփոխություն (ավելացումները նշված են դրական նշանով)
B8: Ծրագիր | C8: Միջոցառում
B9: 1 | C9: 2 | D9: 3 | G9: 4 | H9: 5
B10: ՀՀ կրթության, գիտության, մշակույթի և սպորտի նախարարություն | H10: =H11 -> 40000
B11: 1041 | C11: Մեծ նվաճումների սպորտ | H11: =H12 -> 40000
C12: 11030 | D12: ՀՀ հավաքական թիմերի մարզիկների ֆունկցիոնալ վիճակի արդյունավետության բարձրացման նպատակով վիտամինիզացիայի և չարգելված սպորտային հավելյալ սննդով ապահովում | G12: ՀՀ կրթության, գիտության, մշակույթի և սպորտի նախարարություն | H12: =SUM(H13:H27) -> 40000
G13: «Հայաստանի աթլետիկայի ֆեդերացիա» ՀԿ | H13: 900
G14: «Հայաստանի բադմինթոնի ֆեդերացիա» ՀԿ | H14: 150
G15: «Հայաստանի բասկետբոլի ֆեդերացիա» ՀԿ | H15: 2500
G16: «Հայաստանի Հանրապետության բռնցքամարտի ֆեդերացիա» ՀԿ | H16: 5000
G17: «Հայաստանի ըմբշամարտի ֆեդերացիա» ՀԿ | H17: 12500
G18: «Հայաստանի թաեքվոնդոյի ֆեդերացիա» ՀԿ | H18: 150
G19: «Լողի հայկական դաշնություն» ՀԿ | H19: 600
G20: «Հայաստանի ծանրամարտի ֆեդերացիա» ՀԿ | H20: 15000
G21: «Հայաստանի կարատեի ֆեդերացիա» ՀԿ | H21: 300
G22: «Հայաստանի հեծանվային մարզաձևի ֆեդերացիա» ՀԿ | H22: 150
G23: «Հայաստանի հրաձգության ֆեդերացիա» ՀԿ | H23: 600
G24: «Հայաստանի ձյուդոյի ֆեդերացիա» ՀԿ | H24: 950
... G27: «Հայաստանի վոլեյբոլի ֆեդերացիա» ՀԿ | H27: 250

Sheet Հավելված 6
I7: Հավելված N 6
I8: ՀՀ կառավարության 2020 թվականի
I9: -ի N -Ն որոշման
A11: ՀԱՅԱՍՏԱՆԻ ՀԱՆՐԱՊԵՏՈՒԹՅԱՆ ԿԱՌԱՎԱՐՈՒԹՅԱՆ 2020 ԹՎԱԿԱՆԻ ԴԵԿՏԵՄԲԵՐԻ 30-Ի N 2215-Ն ՈՐՈՇՄԱՆ N 10 ՀԱՎԵԼՎԱԾՈՒՄ ԿԱՏԱՐՎՈՂ ՓՈՓՈԽՈՒԹՅՈՒՆՆԵՐԸ
I13: (հազ.դրամ)
A14: Գնման առարկայի | E14: Գնման ձևը (ընթացակարգը) | F14: Չափի միավորը | G14: Միավորի գինը (ՀՀ դրամ) | H14: Քանակը | I14: Ցուցանիշների փոփոխությունը (նվազեցումները նշված են փակագծերում )
A15: Միջանցիկ կոդը` ըստ CPV դասակարգման | B15: անվանումը
A16: 1 | B16: 2 | E16: 3 | F16: 4 | G16: 5 | H16: 6 | I16: 7
A17: ՀՀ առողջապահության նախարարություն
A18: Բաժին 07 | B18: Խումբ 02 | C18: Դաս 02 | D18: Մասնագիտացված բժշկական ծառայություններ | I18: =I20 -> -10000
A19: 1099 11007 | B19: Սպորտային բժշկության ծառայություններ
B20: ՄԱՍ III. ԾԱՌԱՅՈՒԹՅՈՒՆՆԵՐ | I20: =I21 -> -10000
A21: 85121120-1 | B21: ամբուլատոր-բժշկական ծառայություններ | E21: ՄԱ | F21: դրամ | G21: 0 | H21: 0 | I21: =-10000 -> -10000
A22: ՀՀ կրթության, գիտության, մշակույթի և սպորտի նախարարություն
A23: Բաժին 08 | B23: Խումբ 01 | C23: Դաս 01 | D23: Հանգստի և սպորտի ծառայություններ | I23: =I25 -> -29999.96
A24: 1041 11002 | B24: ՀՀ հավաքական թիմերին մարզահագուստով և մարզահանդերձանքով ապահովում
B25: ՄԱՍ I. Ա Պ Ր Ա Ն Ք Ն Ե Ր | I25: =I26 -> -29999.96
A26: 18411900-11 | B26: սպորտային հագուստ, կոշիկ և այլ պարագաներ | E26: ԲՄ | F26: լրակազմ | G26: 126050.25 | H26: -238 | I26: =G26*H26/1000 -> -29999.96
