Workbook
Name շախմատիստ: #REF!
Name շախմատիստ: #REF!

Sheet Հավելված N 1
D1: Հավելված N 1
D2: ՀՀ կառավարության 2021 թվականի
D3: ______________ ի ___Ն որոշման
A4: «ՀԱՅԱՍՏԱՆԻ ՀԱՆՐԱՊԵՏՈՒԹՅԱՆ 2021 ԹՎԱԿԱՆԻ ՊԵՏԱԿԱՆ ԲՅՈՒՋԵԻ ՄԱՍԻՆ» ՕՐԵՆՔԻ N 1 ՀԱՎԵԼՎԱԾԻ N 2 ԱՂՅՈՒՍԱԿՈՒՄ ԿԱՏԱՐՎՈՂ ՎԵՐԱԲԱՇԽՈՒՄԸ ԵՎ ՀԱՅԱՍՏԱՆԻ ՀԱՆՐԱՊԵՏՈՒԹՅԱՆ ԿԱՌԱՎԱՐՈՒԹՅԱՆ 2020 ԹՎԱԿԱՆԻ ԴԵԿՏԵՄԲԵՐԻ 30-Ի N 2215-Ն ՈՐՈՇՄԱՆ N 5 ՀԱՎԵԼՎԱԾԻ N 1 ԱՂՅՈՒՍԱԿՈՒՄ ԿԱՏԱՐՎՈՂ ԼՐԱՑՈՒՄՆԵՐԸ ԵՎ ՓՈՓՈԽՈՒԹՅՈՒՆՆԵՐԸ
F5: հազ. դրամ
A6: Ծրագրային դասիչը | C6: Բյուջետային հատկացումների գլխավոր կարգադրիչների, ծրագրերի և միջոցառումների անվանումները | D6: Ցուցանիշների փոփոխությունը (ավելացումները նշված են դրական նշանով, իսկ նվազեցումները՝ փակագծերում)
A7: ծրագիր | B7: միջոցառում | D7: Առաջին կիսամյակ | E7: Ինն ամիս | F7: Տարի
C8: ԸՆԴԱՄԵՆԸ | D8: =D10+D30 -> 0 | E8: =E10+E30 -> 0 | F8: =F10+F30 -> 0
C9: այդ թվում
A10: ՀՀ կառավարություն | D10: =+D12 -> 0 | E10: =+E12 -> 0 | F10: =+F12 -> 0
A11: 1139 | C11: Ծրագրի անվանումը`
C12: ՀՀ կառավարության պահուստային ֆոնդ | D12: =+D19+D25 -> 0 | E12: =+E19+E25 -> 0 | F12: =+F19+F25 -> 0
C13: Ծրագրի նպատակը`
C14: Պետական բյուջեում չկանխատեսված, ինչպես նաև բյուջետային երաշխիքների ապահովման ծախսերի ֆինանսավորման ապահովում
C15: Վերջնական արդյունքի նկարագրությունը`
C16: Պահուստային ֆոնդի կառավարման արդյունավետության և թափանցիկության ապահովում
C17: Ծրագրի միջոցառումներ
B18: 11001 | C18: Միջոցառման անվանումը`
C19: ՀՀ կառավարության պահուստային ֆոնդ | D19: 3100 | E19: 3100 | F19: 3100
C20: Միջոցառման նկարագրությունը`
C21: ՀՀ պետական բյուջեում նախատեսված ելքերի լրացուցիչ ֆինանսավորման՝ պետական բյուջեում չկանխատեսված ելքերի, ինչպես նաև բյուջետային երաշխիքների ապահովման ելքերի ֆինանսավորման ապահովում
C22: Միջոցառման տեսակը
C23: Ծառայությունների մատուցում
B24: 11001 | C24: Միջոցառման անվանումը`
C25: ՀՀ կառավարության պահուստային ֆոնդ | D25: -3100 | E25: -3100 | F25: -3100
C26: Միջոցառման նկարագրությունը`
C27: ՀՀ պետական բյուջեում նախատեսված ելքերի լրացուցիչ ֆինանսավորման՝ պետական բյուջեում չկանխատեսված ելքերի, ինչպես նաև բյուջետային երաշխիքների ապահովման ելքերի ֆինանսավորման ապահովում
C28: Միջոցառման տեսակը
C29: Ծառայությունների մատուցում
A30: ՀՀ կրթության, գիտության, մշակույթի և սպորտի նախարարություն | D30: =D32+D45 -> 0 | E30: =E32+E45 -> 0 | F30: =F32+F45 -> 0
A31: 1148 | C31: Ծրագրի անվանումը`
C32: Արտադպրոցական դաստիարակության ծրագիր | D32: =D39 -> -3100 | E32: =E39 -> -3100 | F32: =F39 -> -3100
C33: Ծրագրի նպատակը`
C34: Նպաստել հանրակրթական ուսուցման համակարգում ընդգրկված երեխաների ֆիզիկական, հոգևոր և գեղագիտական զարգացմանը, բնապահպանական և կիրառական գիտելիքների ձեռքբերմանը
C35: Վերջնական արդյունքի նկարագրությունը`
C36: Ստեղծել պայմաններ սովորողների ազատ ժամանացի կազմակերպան միջոցով նրանց հետաքրքրությունների բացահայտման, ձևավորման և զարգացման համար
A37: Ծրագրի միջոցառումներ
B38: 11007 | C38: Միջոցառման անվանումը`
C39: Մարզիչ-մանկավարժների վերապատրաստման կազմակերպում | D39: -3100 | E39: -3100 | F39: -3100
C40: Միջոցառման նկարագրությունը`
...

Sheet Հավելված N 2
G1: Հավելված N 2
G2: ՀՀ կառավարության 2021 թվականի
G3: ______________ ի ___Ն որոշման
A4: ՀԱՅԱՍՏԱՆԻ ՀԱՆՐԱՊԵՏՈՒԹՅԱՆ ԿԱՌԱՎԱՐՈՒԹՅԱՆ 2020 ԹՎԱԿԱՆԻ ԴԵԿՏԵՄԲԵՐԻ 30-Ի N 2215-Ն ՈՐՈՇՄԱՆ N 3 և N 4 ՀԱՎԵԼՎԱԾՆԵՐՈՒՄ ԿԱՏԱՐՎՈՂ ԼՐԱՑՈՒՄՆԵՐԸ ԵՎ ՓՈՓՈԽՈՒԹՅՈՒՆՆԵՐԸ
I5: հազ. դրամ
A6: Գործառական դասիչը | D6: Ծրագրային դասիչը | F6: Բյուջետային ծախսերի գործառական դասակարգման բաժինների, խմբերի և դասերի, բյուջետային ծրագրերի միջոցառումների, բյուջետային հատկացումների գլխավոր կարգադրիչների անվանումները | G6: Ցուցանիշների փոփոխությունը (ավելացումները նշված են դրական նշանով, իսկ նվազեցումները՝ փակագծերում )
A7: Բաժին | B7: Խումբ | C7: Դաս | D7: Ծրագիր | E7: Միջոցառում | G7: Առաջին կիսամյակ | H7: Ինն ամիս | I7: Տարի
F8: ԸՆԴԱՄԵՆԸ | G8: =G10+G28 -> 0 | H8: =H10+H28 -> 0 | I8: =I10+I28 -> 0
F9: այդ թվում`
A10: ՀՀ կառավարություն | G10: =+G11 -> 0 | H10: =+H11 -> 0 | I10: =+I11 -> 0
A11: 11 | F11: ՀԻՄՆԱԿԱՆ ԲԱԺԻՆՆԵՐԻՆ ՉԴԱՍՎՈՂ ՊԱՀՈՒՍՏԱՅԻՆ ՖՈՆԴԵՐ | G11: =+G13 -> 0 | H11: =+H13 -> 0 | I11: =+I13 -> 0
F12: այդ թվում`
B13: 01 | F13: ՀՀ կառավարության և համայնքների պահուստային ֆոնդ | G13: =+G15 -> 0 | H13: =+H15 -> 0 | I13: =+I15 -> 0
F14: այդ թվում`
C15: 01 | F15: ՀՀ կառավարության պահուստային ֆոնդ | G15: =+G17 -> 0 | H15: =+H17 -> 0 | I15: =+I17 -> 0
F16: այդ թվում`
D17: 1139 | E17: ՀՀ կառավարության պահուստային ֆոնդ | G17: =+G19 -> 0 | H17: =+H19 -> 0 | I17: =+I19 -> 0
F18: այդ թվում`
E19: 11001 | F19: ՀՀ կառավարության պահուստային ֆոնդ | G19: =+G21 -> 0 | H19: =+H21 -> 0 | I19: =+I21 -> 0
F20: այդ թվում` ըստ կատարողների
F21: ՀՀ կառավարություն | G21: =+G23 -> 0 | H21: =+H23 -> 0 | I21: =+I23 -> 0
F22: այդ թվում՝ բյուջետային ծախսերի տնտեսագիտական դասակարգման հոդվածներ
F23: ԸՆԴԱՄԵՆԸ ԾԱԽՍԵՐ | G23: =+G24 -> 0 | H23: =+H24 -> 0 | I23: =+I24 -> 0
F24: ԸՆԹԱՑԻԿ ԾԱԽՍԵՐ | G24: =+G25 -> 0 | H24: =+H25 -> 0 | I24: =+I25 -> 0
F25: ԱՅԼ ԾԱԽՍԵՐ | G25: =+G26+G27 -> 0 | H25: =+H26+H27 -> 0 | I25: =+I26+I27 -> 0
F26: Պահուստային միջոցներ | G26: ='Հավելված N 1'!D19 -> 3100 | H26: ='Հավելված N 1'!E19 -> 3100 | I26: ='Հավելված N 1'!F19 -> 3100
F27: Պահուստային միջոցներ | G27: ='Հավելված N 1'!D25 -> -3100 | H27: ='Հավելված N 1'!E25 -> -3100 | I27: ='Հավելված N 1'!F25 -> -3100
A28: ՀՀ կրթության, գիտության, մշակույթի և սպորտի նախարարություն | G28: =G29+G44 -> 0 | H28: =H29+H44 -> 0 | I28: =I29+I44 -> 0
A29: 09 | F29: ԿՐԹՈՒԹՅՈՒՆ | G29: =G31 -> -3100 | H29: =H31 -> -3100 | I29: =I31 -> -3100
F30: այդ թվում`
B31: 05 | F31: Ըստ մակարդակների չդասակարգվող կրթություն | G31: =G33 -> -3100 | H31: =H33 -> -3100 | I31: =I33 -> -3100
F32: այդ թվում`
C33: 01 | F33: Արտադպրոցական դաստիարակություն | G33: =G35 -> -3100 | H33: =H35 -> -3100 | I33: =I35 -> -3100
F34: այդ թվում`
D35: 1148 | E35: 11007 | F35: Մարզիչ-մանկավարժների վերապատրաստման կազմակերպում | G35: =G37 -> -3100 | H35: =H37 -> -3100 | I35: =I37 -> -3100
F36: այդ թվում` ըստ կատարողների
F37: ՀՀ կրթության , գիտության, մշակույթի և սպորտի նախարարություն | G37: =G39 -> -3100 | H37: =H39 -> -3100 | I37: =I39 -> -3100
F38: այդ թվում` բյուջետային ծախսերի տնտեսագիտական դասակարգման հոդվածներ
F39: ԸՆԴԱՄԵՆԸ ԾԱԽՍԵՐ | G39: =G40 -> -3100 | H39: =H40 -> -3100 | I39: =I40 -> -3100
F40: ԸՆԹԱՑԻԿ ԾԱԽՍԵՐ | G40: =G41 -> -3100 | H40: =H41 -> -3100 | I40: =I41 -> -3100
...

Sheet Հավելված3
H1: Հավելված N 3
H2: ՀՀ կառավարության 2021 թվականի
H3: ______________ ի ___Ն որոշման
B5: ՀԱՅԱՍՏԱՆԻ ՀԱՆՐԱՊԵՏՈՒԹՅԱՆ ԿԱՌԱՎԱՐՈՒԹՅԱՆ 2020 ԹՎԱԿԱՆԻ ԴԵԿՏԵՄԲԵՐԻ 30-Ի N 2215-Ն ՈՐՈՇՄԱՆ N 5 ՀԱՎԵԼՎԱԾԻ N 7 ԱՂՅՈՒՍԱԿՈՒՄ ԿԱՏԱՐՎՈՂ ԼՐԱՑՈՒՄԸ ԵՎ ՓՈՓՈԽՈՒԹՅՈՒՆԸ
H6: հազ. դրամ
B7: Ծրագրային դասիչ | D7: Բյուջետային հատկացումների գլխավոր կարգադրիչների, ծրագրերի, միջոցառումների, ծախսային ուղղությունների անվանումները | G7: Միջոցառումները կատարող պետական մարմինների և դրամաշնորհ ստացող տնտեսվարող սուբյեկտների անվանումները | H7: Ցուցանիշների փոփոխությունը (ավելացումները նշված են դրական նշանով, իսկ նվազեցումները՝ փակագծերում )Տարի
B8: Ծրագիր | C8: Միջոցառում
B9: 1 | C9: 2 | D9: 3 | G9: 4 | H9: 5
B10: ՀՀ կրթության, գիտության, մշակույթի և սպորտի նախարարություն | H10: =H11+H14 -> 0
B11: 1148 | C11: Արտադպրոցական դաստիարակության ծրագիր | H11: =H12 -> -3100
C12: 11007 | D12: Մարզիչ-մանկավարժների վերապատրաստման կազմակերպում | G12: ՀՀ կրթության, գիտության, մշակույթի և սպորտի նախարարություն | H12: =H13 -> -3100
G13: «Երևանի օլիմպիական հերթափոխի պետական մարզական քոլեջ» ՊՈԱԿ | H13: -3100
B14: 1041 | C14: Մեծ նվաճումների սպորտ | H14: =H15 -> 3100
C15: 11029 | D15: ՀՀ հավաքական թիմերի մարզիկների արդյունավետության բարձրացում | G15: ՀՀ կրթության, գիտության, մշակույթի և սպորտի նախարարություն | H15: =H16 -> 3100
G16: «Մարզական հոգեբանների ֆեդերացիա» հասարակական կազմակերպություն | H16: 3100

Sheet Հավելված N4
B1: Հավելված N 4
B2: ՀՀ կառավարության 2021 թվականի
B3: ______________ ի ___Ն որոշման
A5: ՀԱՅԱՍՏԱՆԻ ՀԱՆՐԱՊԵՏՈՒԹՅԱՆ ԿԱՌԱՎԱՐՈՒԹՅԱՆ 2020 ԹՎԱԿԱՆԻ ԴԵԿՏԵՄԲԵՐԻ 30-Ի N 2215-Ն ՈՐՈՇՄԱՆ N 9 ԵՎ N 9.1 ՀԱՎԵԼՎԱԾՆԵՐԻ N 9.14, N 9.47 N 9.1.14 և N 9.1.58 ԱՂՅՈՒՍԱԿՆԵՐՈՒՄ ԿԱՏԱՐՎՈՂ ԼՐԱՑՈՒՄՆԵՐԸ ԵՎ ՓՈՓՈԽՈՒԹՅՈՒՆՆԵՐԸ
D6: հազ. դրամ
A7: ՀՀ կառավարություն
A8: ՄԱՍ 2. ՊԵՏԱԿԱՆ ՄԱՐՄՆԻ ԳԾՈՎ ԱՐԴՅՈՒՆՔԱՅԻՆ (ԿԱՏԱՐՈՂԱԿԱՆ) ՑՈՒՑԱՆԻՇՆԵՐԸ
A10: Ծրագրի դասիչը | B10: Ծրագրի անվանումը
A11: 1139 | B11: ՀՀ կառավարության պահուստային ֆոնդ
A12: Ծրագրի միջոցառումները
A13: Ծրագրի դասիչը՝ | B13: 1139 | C13: Ցուցանիշների փոփոխությունը (նվազեցումները նշված են փակագծերում)
A14: Միջոցառման դասիչը՝ | B14: 11001 | C14: Առաջին կիսամյակ | D14: Ինն ամիս | E14: Տարի
A15: Միջոցառման անվանումը՝ | B15: ՀՀ կառավարության պահուստային ֆոնդ
A16: Նկարագրությունը՝ | B16: ՀՀ պետական բյուջեում նախատեսված ելքերի լրացուցիչ ֆինանսավորման՝ պետական բյուջեում չկանխատեսված ելքերի, ինչպես նաև բյուջետային երաշխիքների ապահովման ելքերի ֆինանսավորման ապահովում
A17: Միջոցառման տեսակը՝ | B17: Ծառայությունների մատուցում
A18: Միջոցառումն իրականացնողի անվանումը | B18: ՀՀ կառավարություն
A19: Արդյունքի չափորոշիչներ
A20: Միջոցառման վրա կատարվող ծախսը (հազար դրամ) | C20: ='Հավելված N 2'!G27 -> -3100 | D20: ='Հավելված N 2'!H27 -> -3100 | E20: ='Հավելված N 2'!I27 -> -3100
A21: Ծրագրի դասիչը | B21: Ծրագրի անվանումը
A22: 1139 | B22: ՀՀ կառավարության պահուստային ֆոնդ
A23: Ծրագրի միջոցառումները
A24: Ծրագրի դասիչը՝ | B24: 1139 | C24: Ցուցանիշների փոփոխությունը (ավելացումները նշված են դրական նշանով)
A25: Միջոցառման դասիչը՝ | B25: 11001 | C25: Առաջին կիսամյակ | D25: Ինն ամիս | E25: Տարի
A26: Միջոցառման անվանումը՝ | B26: ՀՀ կառավարության պահուստային ֆոնդ
A27: Նկարագրությունը՝ | B27: ՀՀ պետական բյուջեում նախատեսված ելքերի լրացուցիչ ֆինանսավորման՝ պետական բյուջեում չկանխատեսված ելքերի, ինչպես նաև բյուջետային երաշխիքների ապահովման ելքերի ֆինանսավորման ապահովում
A28: Միջոցառման տեսակը՝ | B28: Ծառայությունների մատուցում
A29: Միջոցառումն իրականացնողի անվանումը | B29: ՀՀ կառավարություն
A30: Արդյունքի չափորոշիչներ
A31: Միջոցառման վրա կատարվող ծախսը (հազար դրամ) | C31: ='Հավելված N 2'!G26 -> 3100 | D31: ='Հավելված N 2'!H26 -> 3100 | E31: ='Հավելված N 2'!I26 -> 3100
A32: ՀՀ կրթության, գիտության, մշակույթի և սպորտի նախարարություն
A33: ՄԱՍ 2. ՊԵՏԱԿԱՆ ՄԱՐՄՆԻ ԳԾՈՎ ԱՐԴՅՈՒՆՔԱՅԻՆ (ԿԱՏԱՐՈՂԱԿԱՆ) ՑՈՒՑԱՆԻՇՆԵՐԸ
A35: Ծրագրի դասիչը | B35: Ծրագրի անվանումը
A36: 1148 | B36: Արտադպրոցական դաստիարակության ծրագիր
A38: Ծրագրի միջոցառումները
A40: Ծրագրի դասիչը` | B40: 1148 | C40: Ցուցանիշների փոփոխությունը (նվազեցումները նշված են փակագծերում)
A41: Միջոցառման դասիչը` | B41: 11007 | C41: Առաջին կիսամյակ | D41: Ինն ամիս | E41: Տարի
A42: Միջոցառման անվանումը` | B42: Մարզիչ-մանկավարժների վերապատրաստման կազմակերպում
A43: Նկարագրությունը` | B43: Մանկապատանեկան մարզադպրոցներում աշխատող մարզիչ-մանկավարժների վերապատրաստման կազմակերպում
A44: Միջոցառման տեսակը` | B44: Ծառայությունների մատուցում
A45: Ծառայությունը մատուցող կազմակերպության(ների) անվանում(ներ)ը՛ | B45: Մասնագիտացված կազմակերպություններ
...
