Workbook
Name AgencyCode: #REF!
Name AgencyCode: #REF!
Name AgencyCode: #REF!
Name AgencyCode: #REF!
Name AgencyCode: #REF!
Name AgencyName: #REF!
Name AgencyName: #REF!
Name AgencyName: #REF!
Name AgencyName: #REF!
Name davit: #REF!
Name Functional1: #REF!
Name Functional1: #REF!
Name Functional1: #REF!
Name Functional1: #REF!
Name ggg: #REF!
Name PANature: #REF!
Name PANature: #REF!
Name PANature: #REF!
Name PANature: #REF!
Name PAType: #REF!
Name PAType: #REF!
Name PAType: #REF!
Name PAType: #REF!
Name Performance2: #REF!
Name Performance2: #REF!
Name Performance2: #REF!
Name Performance2: #REF!
Name PerformanceType: #REF!
Name PerformanceType: #REF!
Name PerformanceType: #REF!
Name PerformanceType: #REF!
Name Հավելված: #REF!
Name Մաս: #REF!
Name շախմատիստ: #REF!

Sheet 1
B2: Հավելված N 1
B3: ՀՀ կառավարության 2021 թվականի
B4: ------------------------ -ի N ---------- որոշման
A7: «ՀԱՅԱՍՏԱՆԻ ՀԱՆՐԱՊԵՏՈՒԹՅԱՆ 2021 ԹՎԱԿԱՆԻ ՊԵՏԱԿԱՆ ԲՅՈՒՋԵԻ ՄԱՍԻՆ» ՀԱՅԱՍՏԱՆԻ ՀԱՆՐԱՊԵՏՈՒԹՅԱՆ ՕՐԵՆՔԻ 2-ՐԴ ՀՈԴՎԱԾԻ ԱՂՅՈՒՍԱԿՈՒՄ ԿԱՏԱՐՎՈՂ ՓՈՓՈԽՈՒԹՅՈՒՆՆԵՐԸ
B9: հազ. դրամ
B10: Ցուցանիշների փոփոխությունը (նվազեցումները նշված են փակագծերում)
A11: Եկամուտների գծով | B11: =+'2'!E13 -> -1668000
A12: Ծախսերի գծով | B12: =+'8'!G9 -> -7303900
A13: Դեֆիցիտը (պակասուրդը) | B13: =+B12-B11 -> -5635900

Sheet 2
A1: Հավելված N 2
A2: ՀՀ կառավարության 2021 թվականի
A3: --------------------- -ի N ---------- որոշման
A6: «ՀԱՅԱՍՏԱՆԻ ՀԱՆՐԱՊԵՏՈՒԹՅԱՆ 2021 ԹՎԱԿԱՆԻ ՊԵՏԱԿԱՆ ԲՅՈՒՋԵԻ ՄԱՍԻՆ» ՀԱՅԱՍՏԱՆԻ ՀԱՆՐԱՊԵՏՈՒԹՅԱՆ ՕՐԵՆՔԻ 6-ՐԴ ՀՈԴՎԱԾԻ ԱՂՅՈՒՍԱԿՈՒՄ ԵՎ ՀԱՅԱՍՏԱՆԻ ՀԱՆՐԱՊԵՏՈՒԹՅԱՆ ԿԱՌԱՎԱՐՈՒԹՅԱՆ 2020 ԹՎԱԿԱՆԻ ԴԵԿՏԵՄԲԵՐԻ 30-Ի N 2215-Ն ՈՐՈՇՄԱՆ N 2 ՀԱՎԵԼՎԱԾՈՒՄ ԿԱՏԱՐՎՈՂ ՓՈՓՈԽՈՒԹՅՈՒՆՆԵՐԸ
D8: հազ. դրամ
A9: Պետական բյուջեի եկամուտները | B9: Ցուցանիշների փոփոխությունը (նվազեցումները նշված են փակագծերում)
B10: Առաջին եռամսյակ | C10: Առաջին կիսամյակ | D10: Ինն ամիս | E10: Տարի
A11: Ընդամենը | B11: =+B13 -> 0 | C11: =+C13 -> -417000 | D11: =+D13 -> -1668000 | E11: =+E13 -> -1668000
A12: այդ թվում
A13: Պաշտոնական դրամաշնորհներ | B13: 0 | C13: =+'11'!H11 -> -417000 | D13: =+'11'!K11 -> -1668000 | E13: =+'11'!N11 -> -1668000

Sheet 3
C1: Հավելված N 3
C2: ՀՀ կառավարության 2021 թվականի
C3: --------------------- -ի N ---------- որոշման
A4: «ՀԱՅԱՍՏԱՆԻ ՀԱՆՐԱՊԵՏՈՒԹՅԱՆ 2021 ԹՎԱԿԱՆԻ ՊԵՏԱԿԱՆ ԲՅՈՒՋԵԻ ՄԱՍԻՆ» ՕՐԵՆՔԻ N 3 ՀԱՎԵԼՎԱԾԻ N 1 ԱՂՅՈՒՍԱԿՈՒՄ ԵՎ ՀԱՅԱՍՏԱՆԻ ՀԱՆՐԱՊԵՏՈՒԹՅԱՆ ԿԱՌԱՎԱՐՈՒԹՅԱՆ 2020 ԹՎԱԿԱՆԻ ԴԵԿՏԵՄԲԵՐԻ 30-Ի N 2215-Ն ՈՐՈՇՄԱՆ N1 ՀԱՎԵԼՎԱԾԻ N1 ԱՂՅՈՒՍԱԿՈՒՄ ԿԱՏԱՐՎՈՂ ՓՈՓՈԽՈՒԹՅՈՒՆՆԵՐԸ
E5: հազ. դրամ
A6: Պետական բյուջեի դեֆիցիտի ֆինանսավորման աղբյուրներն ու դրանց տարրերի անվանումները | B6: Ցուցանիշների փոփոխությունը (ավելացումները նշված են դրական նշանով, իսկ նվազեցումները՝ փակագծերում)
B7: Առաջին եռամսյակ | C7: Առաջին կիսամյակ | D7: Ինն ամիս | E7: Տարի
A8: ԸՆԴԱՄԵՆԸ | B8: =B10+B46 -> -1249950 | C8: =C10+C46 -> -3536100 | D8: =D10+D46 -> -5469100 | E8: =E10+E46 -> -5635900
A9: այդ թվում՝
A10: Ա.Ներքին աղբյուրներ-ընդամենը | B10: =B12+B19 -> 0 | C10: =C12+C19 -> 0 | D10: =D12+D19 -> 0 | E10: =E12+E19 -> 12600000
A11: այդ թվում՝
A12: 1. Փոխառու զուտ միջոցներ | B12: =B14 -> -5770 | C12: =C14 -> -6505770 | D12: =D14 -> -6505770 | E12: =E14 -> -6513343.5
A13: այդ թվում՝
A14: 1.1. Արժեթղթերի (բացառությամբ բաժնետոմսերի և կապիտալում այլ մասնակցության) թողարկումից և տեղաբաշխումից զուտ մուտքեր | B14: =B15 -> -5770 | C14: =C15 -> -6505770 | D14: =D15 -> -6505770 | E14: =E15 -> -6513343.5
A15: ՀՀ ֆինանսների նախարարություն | B15: =B17+B18 -> -5770 | C15: =C17+C18 -> -6505770 | D15: =D17+D18 -> -6505770 | E15: =E17+E18 -> -6513343.5
A16: որից`
A17: գանձապետական պարտատոմսեր | C17: -6500000 | D17: -6500000 | E17: -6500000
A18: մուրհակների մարում | B18: -5770 | C18: -5770 | D18: -5770 | E18: -13343.5
A19: 2. Ֆինանսական զուտ ակտիվներ | B19: =+B21+B23+B42+B22 -> 5770 | C19: =+C21+C23+C42+C22 -> 6505770 | D19: =+D21+D23+D42+D22 -> 6505770 | E19: =+E21+E23+E42+E22 -> 19113344
A20: այդ թվում՝
A21: 2.3. Ելքերի ֆինանսավորմանն ուղղվող ՀՀ 2020 թվականի պետական բյուջեի տարեսկզբի ազատ մնացորդի միջոցներ | B21: 5770 | C21: 5770 | D21: 5770 | E21: =+'5'!O10+13343.5 -> -386656.5
A22: 2.4. Վարկերի և փոխատվությունների տրամադրում | B22: =-'5'!D10+'6'!D8 -> 0 | C22: =-'6'!E8 -> 6500000 | D22: =-'6'!F8 -> 6500000 | E22: =-'6'!G8-'5'!M10 -> 19500000
A23: 2.5. Տրամադրված վարկերի և փոխատվությունների վերադարձից մուտքեր | B23: =SUM(B24:B41) -> 0 | C23: =SUM(C24:C41) -> 0 | D23: =SUM(D24:D41) -> 0 | E23: =SUM(E24:E41) -> 0
A24: «Հայկական ատոմակայան» ՓԲԸ
A25: «Բարձրավոլտ էլեկտրական ցանցեր» ՓԲԸ
A26: «Էլեկտրաէներգետիկական համակարգի օպերատոր» ՓԲԸ
A27: «Հայաստանի էլեկտրական ցանցեր» ՓԲԸ
A28: «Միջազգային էներգետիկ կորպորացիա» ՓԲԸ
A29: «Ակբա-Կրեդիտ Ագրիկոլ բանկ» ՓԲԸ
A30: «Կարեն Դեմիրճյանի անվան մետրոպոլիտեն» ՓԲԸ
A31: «Ավանդների փոխհատուցումը երաշխավորող հիմնադրամ» ՓԲԸ
A32: «Երքաղլույս» ՓԲԸ
A33: Վանաձորի բաղնիքային տնտեսություն
A34: ՀՀ կենտրոնական բանկից
A35: «Երևանի Ջերմաէլեկտրակենտրոն» ՓԲԸ
... A41: Այլ
A42: 2.6.Այլ | B42: =+B43+B44+B45 -> 0 | C42: =+C43+C44+C45 -> 0 | D42: =+D43+D44+D45 -> 0 | E42: =+E43+E44+E45 -> 0
A43: կայունացման դեպոզիտային հաշվի համալրում | B43: 0 | C43: 0 | D43: 0
A44: կայունացման դեպոզիտային հաշվից օգտագործում | B44: =+'6'!D8 -> 0
A45: ժամանակավորապես ազատ միջոցներ
...

Sheet 4
G1: Հավելված N 4
G2: ՀՀ կառավարության 2021 թվականի
G3: ______________ ի ___Ն որոշման
A4: «ՀԱՅԱՍՏԱՆԻ ՀԱՆՐԱՊԵՏՈՒԹՅԱՆ 2021 ԹՎԱԿԱՆԻ ՊԵՏԱԿԱՆ ԲՅՈՒՋԵԻ ՄԱՍԻՆ» ՕՐԵՆՔԻ N 3 ՀԱՎԵԼՎԱԾԻ N 1.1 ԱՂՅՈՒՍԱԿՈՒՄ ԵՎ ՀԱՅԱՍՏԱՆԻ ՀԱՆՐԱՊԵՏՈՒԹՅԱՆ ԿԱՌԱՎԱՐՈՒԹՅԱՆ 2020 ԹՎԱԿԱՆԻ ԴԵԿՏԵՄԲԵՐԻ 30-Ի N 2215-Ն ՈՐՈՇՄԱՆ N1 ՀԱՎԵԼՎԱԾԻ N2 ԱՂՅՈՒՍԱԿՈՒՄ ԿԱՏԱՐՎՈՂ ՓՈՓՈԽՈՒԹՅՈՒՆՆԵՐԸ
G6: հազ. դրամ
A7: Ծրագրային դասիչ | C7: Բյուջետային գլխավոր կարգադրիչների, ծրագրերի և միջոցառումների անվանումները | D7: Ցուցանիշների փոփոխությունը (նվազեցումները նշված են փակագծերում)
A8: Ծրագիր | B8: Միջոցառում | D8: Առաջին եռամսյակ | E8: Առաջին կիսամյակ | F8: Ինն ամիս | G8: Տարի
C9: ԸՆԴԱՄԵՆԸ այդ թվում | D9: =+D11 -> 0 | E9: =+E11 -> -6500000 | F9: =+F11 -> -6500000 | G9: =+G11 -> -19500000
C10: ՀՀ տարածքային կառավարման և ենթակառուցվածքների նախարարություն
A11: 1167 | C11: Ծրագրի անվանումը՝ Էլեկտրաէներգետիկ համակարգի զարգացման ծրագիր | D11: =+D15+D19+D24 -> 0 | E11: =+E15+E19+E24 -> -6500000 | F11: =+F15+F19+F24 -> -6500000 | G11: =+G15+G19+G24 -> -19500000
C12: Ծրագրի նպատակը՝ Նպաստել էլեկտրաէներգետիկ համակարգի հուսալիության բարձրացմանը և էլեկտրաէներգիայի անխափան մատակարարման ապահովմանը
C13: Վերջնական արդյունքի նկարագրությունը՝ Հուսալի և անվտանգ էլեկտրամատակարարման ապահովում
A14: Ֆինանսական ակտիվների կառավարման միջոցառումներ
B15: 42005 | C15: Միջոցառման անվանումը՝ Վերակառուցման և զարգացման միջազգային բանկի աջակցությամբ իրականացվող «Աշնակ» և «Արարատ» ենթակայանների վերակառուցման ծրագրի շրջանակներում ենթավարկի տրամադրում «Բարձրավոլտ էլեկտրացանցեր» ՓԲԸ- ին | G15: -1000000
C16: Միջոցառման նկարագրությունը՝ Էլեկտրահաղորդման ցանցի բարելավման ծրագրի շրջանակներում 30 և ավելի տարիներ շահագործման մեջ գտնվող 220 կՎ «Աշնակ» և 40 և ավելի տարիներ շահագործման մեջ գտնվող 220 կՎ «Արարատ-2» ենթակայանների վերակառուցում
C17: Միջոցառման տեսակը՝
C18: Վարկերի տրամադրում
B19: 42008 | C19: Միջոցառման անվանումը՝ Գերմանիայի զարգացման վարկերի բանկի (KFW) աջակցությամբ իրականացվող «Կովկասյան էլեկտրահաղորդման ցանց I» Հայաստան-Վրաստան հաղորդիչ գիծ/ենթակայանների վարկային ծրագրի շրջանակներում ենթավարկի տրամադրում «Բարձրավոլտ էլեկտրացանցեր» ՓԲԸ- ին | G19: -12000000
C21: Միջոցառման նկարագրությունը՝ Հայաստան-Վրաստան 400 կՎ լարման էլեկտրահաղորդման օդային գծի և համապատասխան ենթակայանների կառուցում
C22: Միջոցառման տեսակը՝
C23: Վարկերի տրամադրում
B24: 42009 | C24: Միջոցառման անվանումը՝ «Հայկական ատոմային էլեկտրակայան» ՓԲԸ-ին տրամադրվող բյուջետային վարկ | E24: -6500000 | F24: -6500000 | G24: -6500000
C26: Միջոցառման նկարագրությունը՝ Բյուջետային վարկի տրամադրում
C27: Միջոցառման տեսակը՝
C28: Վարկերի տրամադրում

Sheet 5
O1: Հավելված N 5
O2: ՀՀ կառավարության 2021 թվականի
O3: ______________ ի ___Ն որոշման
A4: «ՀԱՅԱՍՏԱՆԻ ՀԱՆՐԱՊԵՏՈՒԹՅԱՆ 2021 ԹՎԱԿԱՆԻ ՊԵՏԱԿԱՆ ԲՅՈՒՋԵԻ ՄԱՍԻՆ» ՕՐԵՆՔԻ N 3 ՀԱՎԵԼՎԱԾԻ N 1.1.1 ԱՂՅՈՒՍԱԿՈՒՄ ԵՎ ՀԱՅԱՍՏԱՆԻ ՀԱՆՐԱՊԵՏՈՒԹՅԱՆ ԿԱՌԱՎԱՐՈՒԹՅԱՆ 2020 ԹՎԱԿԱՆԻ ԴԵԿՏԵՄԲԵՐԻ 30-Ի N 2215-Ն ՈՐՈՇՄԱՆ N 1 ՀԱՎԵԼՎԱԾԻ N3 ԱՂՅՈՒՍԱԿՈՒՄ ԿԱՏԱՐՎՈՂ ՓՈՓՈԽՈՒԹՅՈՒՆՆԵՐԸ
N5: հազ. դրամ
A6: Ծրագրային դասիչ | C6: Բյուջետային գլխավոր կարգադրիչների, ծրագրերի և միջոցառումների անվանումները | D6: Ցուցանիշների փոփոխությունը (նվազեցումները նշված են փակագծերում)
D7: Առաջին եռամսյակ | G7: Առաջին կիսամյակ | J7: Ինն ամիս | M7: Տարի
D8: Ընդամենը | E8: այդ թվում | G8: Ընդամենը | H8: այդ թվում | J8: Ընդամենը | K8: այդ թվում | M8: Ընդամենը | N8: այդ թվում
A9: Ծրագիր | B9: Միջոցառում | E9: Վարկային միջոցներ | F9: Համաֆինան սավորում | H9: Վարկային միջոցներ | I9: Համաֆինան սավորում | K9: Վարկային միջոցներ | L9: Համաֆինան սավորում | N9: Վարկային միջոցներ | O9: Համաֆինան սավորում
C10: ԸՆԴԱՄԵՆԸ այդ թվում | D10: 0 | E10: 0 | F10: 0 | G10: 0 | H10: 0 | I10: 0 | J10: 0 | K10: 0 | L10: 0 | M10: =+N10+O10 -> -13000000 | N10: =+N11 -> -12600000 | O10: =+O11 -> -400000
C11: ՀՀ ՏԱՐԱԾՔԱՅԻՆ ԿԱՌԱՎԱՐՄԱՆ ԵՎ ԵՆԹԱԿԱՌՈՒՑՎԱԾՔՆԵՐԻ ՆԱԽԱՐԱՐՈՒԹՅՈՒՆ | D11: 0 | E11: 0 | F11: 0 | G11: 0 | H11: 0 | I11: 0 | J11: 0 | K11: 0 | L11: 0 | M11: -13000000 | N11: -12600000 | O11: -400000
A12: 1167 | C12: Էլեկտրաէներգետիկ համակարգի զարգացման ծրագիր | D12: 0 | E12: 0 | F12: 0 | G12: 0 | H12: 0 | I12: 0 | J12: 0 | K12: 0 | L12: 0 | M12: =+N12+O12 -> -13000000 | N12: =+N14+N15 -> -12600000 | O12: =+O14+O15 -> -400000
C13: այդ թվում`
B14: 42005 | C14: Վերակառուցման և զարգացման միջազգային բանկի աջակցությամբ իրականացվող «Աշնակ»_x000D_ և «Արարատ» ենթակայանների վերակառուցման ծրագրի շրջանակներում ենթավարկի տրամադրում «Բարձրավոլտ էլեկտրացանցեր» ՓԲԸ- ին | D14: 0 | E14: 0 | F14: 0 | G14: 0 | H14: 0 | I14: 0 | J14: 0 | K14: 0 | L14: 0 | M14: =+N14+O14 -> -1000000 | N14: -800000 | O14: -200000
B15: 42008 | C15: Գերմանիայի զարգացման վարկերի բանկի (KFW) աջակցությամբ իրականացվող «Կովկասյան էլեկտրահաղորդման ցանց I» Հայաստան-Վրաստան հաղորդիչ գիծ/ենթակայանների վարկային ծրագրի շրջանակներում ենթավարկի տրամադրում «Բարձրավոլտ էլեկտրացանցեր» ՓԲԸ- ին | D15: 0 | E15: 0 | F15: 0 | G15: 0 | H15: 0 | I15: 0 | J15: 0 | K15: 0 | L15: 0 | M15: =+N15+O15 -> -12000000 | N15: -11800000 | O15: -200000

Sheet 6
G1: Հավելված N 6
G2: ՀՀ կառավարության 2021 թվականի
G3: ______________ ի ___Ն որոշման
A4: «ՀԱՅԱՍՏԱՆԻ ՀԱՆՐԱՊԵՏՈՒԹՅԱՆ 2021 ԹՎԱԿԱՆԻ ՊԵՏԱԿԱՆ ԲՅՈՒՋԵԻ ՄԱՍԻՆ» ՕՐԵՆՔԻ N 3 ՀԱՎԵԼՎԱԾԻ N 1.1.1.1 ԱՂՅՈՒՍԱԿՈՒՄ ԵՎ ՀԱՅԱՍՏԱՆԻ ՀԱՆՐԱՊԵՏՈՒԹՅԱՆ ԿԱՌԱՎԱՐՈՒԹՅԱՆ 2020 ԹՎԱԿԱՆԻ ԴԵԿՏԵՄԲԵՐԻ 30-Ի N 2215-Ն ՈՐՈՇՄԱՆ N1 ՀԱՎԵԼՎԱԾԻ N4 ԱՂՅՈՒՍԱԿՈՒՄ ԿԱՏԱՐՎՈՂ ՓՈՓՈԽՈՒԹՅՈՒՆՆԵՐԸ
G5: հազ. դրամ
A6: Ծրագրային դասիչ | C6: Պետական բյուջեի դեֆիցիտի ֆինանսավորման աղբյուրներն ու դրանց տարրերի անվանումները | D6: Ցուցանիշների փոփոխությունը (նվազեցումները նշված են փակագծերում)
D7: Առաջին եռամսյակ | E7: Առաջին կիսամյակ | F7: Ինն ամիս | G7: Տարի
A8: Ծրագիր | B8: Միջոցառում | C8: ԸՆԴԱՄԵՆԸ | D8: 0 | E8: =+E10 -> -6500000 | F8: =+F10 -> -6500000 | G8: =+G10 -> -6500000
C9: այդ թվում՝
C10: ՀՀ տարածքային կառավարման և ենթակառուցվածքների նախարարություն | D10: 0 | E10: =+E11 -> -6500000 | F10: =+F11 -> -6500000 | G10: =+G11 -> -6500000
A11: 1167 | C11: Էլեկտրաէներգետիկ համակարգի զարգացման ծրագիր | D11: 0 | E11: =+E12 -> -6500000 | F11: =+F12 -> -6500000 | G11: =+G12 -> -6500000
B12: 42009 | C12: «Հայկական ատոմային էլեկտրակայան» ՓԲԸ-ին տրամադրվող բյուջետային վարկ | D12: 0 | E12: =+E16 -> -6500000 | F12: =+F16 -> -6500000 | G12: =+G16 -> -6500000
C13: այդ թվում՝ ըստ կատարողների
C14: ՀՀ ֆինանսների նախարարություն | D14: 0 | E14: -6500000 | F14: -6500000 | G14: -6500000
C15: այդ թվում՝ ըստ տնտեսագիտական դասակարգման հոդվածների՝
C16: ՀԻՄՆԱԿԱՆ ԳՈՒՄԱՐԻ ՄԱՐՄԱՆ ԵՎ ՖԻՆԱՆՍԱԿԱՆ ԱԿՏԻՎՆԵՐԻ ՁԵՌՔԲԵՐՄԱՆ ԳԾՈՎ ԾԱԽՍԵՐ, այդ թվում` | D16: 0 | E16: =+E17 -> -6500000 | F16: =+F17 -> -6500000 | G16: =+G17 -> -6500000
C17: ՖԻՆԱՆՍԱԿԱՆ ԱԿՏԻՎՆԵՐԻ ՁԵՌՔԲԵՐՈՒՄ, այդ թվում | D17: 0 | E17: =+E18 -> -6500000 | F17: =+F18 -> -6500000 | G17: =+G18 -> -6500000
C18: ՆԵՐՔԻՆ ՖԻՆԱՆՍԱԿԱՆ ԱԿՏԻՎՆԵՐԻ ՁԵՌՔԲԵՐՈՒՄ, այդ թվում` | D18: 0 | E18: =+E19 -> -6500000 | F18: =+F19 -> -6500000 | G18: =+G19 -> -6500000
C19: Ներքին վարկեր և փոխատվություններ | D19: 0 | E19: -6500000 | F19: -6500000 | G19: -6500000

Sheet 7
F1: Հավելված N 7
F2: ՀՀ կառավարության 2021 թվականի
F3: ______________ ի ___Ն որոշման
A4: ՀԱՅԱՍՏԱՆԻ ՀԱՆՐԱՊԵՏՈՒԹՅԱՆ ԿԱՌԱՎԱՐՈՒԹՅԱՆ 2020 ԹՎԱԿԱՆԻ ԴԵԿՏԵՄԲԵՐԻ 30-Ի N 2215-Ն ՈՐՈՇՄԱՆ N1 ՀԱՎԵԼՎԱԾԻ N5 ԱՂՅՈՒՍԱԿՈՒՄ ԿԱՏԱՐՎՈՂ ՓՈՓՈԽՈՒԹՅՈՒՆՆԵՐԸ
A6: ՄԱՍ 2. ՊԵՏԱԿԱՆ ՄԱՐՄՆԻ ԳԾՈՎ ԱՐԴՅՈՒՆՔԱՅԻՆ (ԿԱՏԱՐՈՂԱԿԱՆ) ՑՈՒՑԱՆԻՇՆԵՐԸ
A8: Ծրագրի դասիչը | B8: Ծրագրի անվանումը
A9: 1167 | B9: Էլեկտրաէներգետիկ համակարգի զարգացման ծրագիր
A10: Ծրագրի միջոցառումները
A12: Ծրագրի դասիչը՝ | B12: 1167 | C12: Ցուցանիշների փոփոխությունը (նվազեցումները նշված են փակագծերում)
A13: Միջոցառման դասիչը՝ | B13: 42005 | C13: Առաջին եռամսյակ | D13: Առաջին կիսամյակ | E13: Ինն ամիս | F13: Տարի
A14: Միջոցառման անվանումը՝ | B14: Վերակառուցման և զարգացման միջազգային բանկի աջակցությամբ իրականացվող «Աշնակ» և «Արարատ» ենթակայանների վերակառուցման ծրագրի շրջանակներում ենթավարկի տրամադրում «Բարձրավոլտ էլեկտրացանցեր» ՓԲԸ- ին
A15: Նկարագրությունը՝ | B15: Էլեկտրահաղորդման ցանցի բարելավման ծրագրի շրջանակներում նախատեսվում է վերակառուցել 30 և ավելի տարիներ շահագործման մեջ գտնվող 220 կՎ «Աշնակ» ենթակայանը և 40 և ավելի տարիներ շահագործման մեջ գտնվող 220 կՎ «Արարատ-2» ենթակայանը
A16: Միջոցառման տեսակը՝ | B16: Վարկերի տրամադրում
A17: Միջոցառումն իրականացնողի անվանումը՝ | B17: «Բարձրավոլտ էլեկտրացանցեր» ՓԲԸ
B18: Արդյունքի չափորոշիչներ
A19: Քանակական | B19: Տրամադրվող ենթավարկերի քանակ, հատ
A20: Քանակական | B20: Վերակառուցվող ենթակայանների քանակ, հատ
A21: Քանակական | B21: Ենթակայանների սարքավորումների խափանումների տարեկան քանակ, հատ
A22: Քանակական | B22: Տարածքում անջատումների միջին տարեկան հաճախականություն, հոսանքազրկումների քանակը/բաժանորդների թվին
A23: Միջոցառման վրա կատարվող ծախսը (հազար դրամ) | C23: 0 | D23: 0 | E23: 0 | F23: -1000000
A25: Ծրագրի դասիչը՝ | B25: 1167 | C25: Ցուցանիշների փոփոխությունը (նվազեցումները նշված են փակագծերում)
A26: Միջոցառման դասիչը՝ | B26: 42008 | C26: Առաջին եռամսյակ | D26: Առաջին կիսամյակ | E26: Ինն ամիս | F26: Տարի
A27: Միջոցառման անվանումը՝ | B27: Գերմանիայի զարգացման վարկերի բանկի (KFW) աջակցությամբ իրականացվող «Կովկասյան էլեկտրահաղորդման ցանց I» Հայաստան-Վրաստան հաղորդիչ գիծ/ենթակայանների վարկային ծրագրի շրջանակներում ենթավարկի տրամադրում «Բարձրավոլտ էլեկտրացանցեր» ՓԲԸ- ին
A28: Նկարագրությունը՝ | B28: Հայաստան-Վրաստան 400 կՎ լարման էլեկտրահաղորդման օդային գծի և համապատասխան ենթակայանների կառուցում
A29: Միջոցառման տեսակը՝ | B29: Վարկերի տրամադրում
A30: Միջոցառումն իրականացնողի անվանումը՝ | B30: «Բարձրավոլտ էլեկտրացանցեր» ՓԲԸ
B31: Արդյունքի չափորոշիչներ
A32: Քանակական | B32: Տրամադրվող ենթավարկերի քանակ, հատ
A33: Քանակական | B33: Տրամադրվող ենթադրամաշնորհների քանակ, հատ
A34: Քանակական | B34: Կառուցվող ենթակայանների քանակ, հատ
A35: Միջոցառման վրա կատարվող ծախսը (հազար դրամ) | C35: 0 | D35: 0 | E35: 0 | F35: -12000000

Sheet 8
A1: Հավելված N 8
A2: ՀՀ կառավարության 2021 թվականի | F2: ՀՀ կառավարության 2021 թվականի
A3: ______________ ի ___Ն որոշման | F3: ______________ ի ___Ն որոշման
A4: «ՀԱՅԱՍՏԱՆԻ ՀԱՆՐԱՊԵՏՈՒԹՅԱՆ 2021 ԹՎԱԿԱՆԻ ՊԵՏԱԿԱՆ ԲՅՈՒՋԵԻ ՄԱՍԻՆ» ՀԱՅԱՍՏԱՆԻ ՀԱՆՐԱՊԵՏՈՒԹՅԱՆ ՕՐԵՆՔԻ N 1 ՀԱՎԵԼՎԱԾԻ N 2 ԱՂՅՈՒՍԱԿՈՒՄ ԿԱՏԱՐՎՈՂ ԼՐԱՑՈՒՄԸ ՈՒ ՎԵՐԱԲԱՇԽՈՒՄԸ ԵՎ ՀԱՅԱՍՏԱՆԻ ՀԱՆՐԱՊԵՏՈՒԹՅԱՆ ԿԱՌԱՎԱՐՈՒԹՅԱՆ 2020 ԹՎԱԿԱՆԻ ԴԵԿՏԵՄԲԵՐԻ 30-Ի N 2215-Ն ՈՐՈՇՄԱՆN 5 ՀԱՎԵԼՎԱԾԻ N 1 ԱՂՅՈՒՍԱԿՈՒՄ ԿԱՏԱՐՎՈՂ ՓՈՓՈԽՈՒԹՅՈՒՆՆԵՐԸ ԵՎ ԼՐԱՑՈՒՄՆԵՐԸ
F6: հազ. դրամ
A7: Ծրագրային դասիչը | C7: Բյուջետային հատկացումների գլխավոր կարգադրիչների, ծրագրերի և միջոցառումների անվանումները | D7: Ցուցանիշների փոփոխությունը (ավելացումները նշված են դրական նշանով, իսկ նվազեցումները՝ փակագծերում)
A8: Ծրագիր | B8: Միջոցառում | D8: Առաջին եռամսյակ | E8: Առաջին կիսամյակ | F8: Ինն ամիս | G8: Տարի
C9: ԸՆԴԱՄԵՆԸ | D9: =+D10+D86+D100 -> -1249950 | E9: =+E10+E86+E100 -> -3953100 | F9: =+F10+F86+F100 -> -7137100 | G9: =+G10+G86+G100 -> -7303900 | BA9: -1700000 | BB9: -6400000 | BC9: -12300000 | BD9: -13000000
C10: ՀՀ տարածքային կառավարման և ենթակառուցվածքների նախարարություն | D10: =+D11+D24+D49 -> -1700000 | E10: =+E11+E24+E49 -> -6400000 | F10: =+F11+F24+F49 -> -12300000 | G10: =+G11+G24+G49 -> -13000000 | BA10: =+'10'!F11+'11'!F11+'12'!D10 -> -450050 | BB10: =+'10'!I11+'11'!I11+'12'!E10 -> -2446900 | BC10: =+'10'!L11+'11'!L11+'12'!F10 -> -5162900 | BD10: =+'10'!O11+'11'!O11+'12'!G10 -> -5696100
A11: 1040 | C11: Ծրագրի անվանումը` | D11: =+D18 -> 0 | E11: =+E18 -> 0 | F11: =+F18 -> -1000000 | G11: =+G18 -> -1000000 | BA11: =+BA9-BA10 -> -1249950 | BB11: =+BB9-BB10 -> -3953100 | BC11: =+BC9-BC10 -> -7137100 | BD11: =+BD9-BD10 -> -7303900
C12: Կոշտ թափոնների կառավարում
C13: Ծրագրի նպատակը`
C14: Կենցաղային թափոնների արդյունավետ կառավարում սոցիալական և բնապահպանական խնդիրների լուծում
C15: Վերջնական արդյունքի նկարագրությունը`
C16: Կենցաղային թափոնների արդյունավետ կառավարում
A17: Ծրագրի միջոցառումներ
B18: 32006 | C18: Միջոցառման անվանումը` | D18: =+'11'!D17 -> 0 | E18: 0 | F18: -1000000 | G18: -1000000
C19: Եվրոպական միության հարևանության ներդրումային գործիքի աջակցությամբ իրականացվող «Երևանի կոշտ թափոնների կառավարման» դրամաշնորհային ծրագիր
C20: Միջոցառման նկարագրությունը`
C21: Կոշտ թափոնների կառավարման համակարգի բարելավում և նոր աղբավայրի ստեղծում
C22: Միջոցառման տեսակը
C23: Այլ պետական կազմակերպությունների կողմից օգտագործվող ոչ ֆինանսական ակտիվների հետ գործառնություններ
A24: 1049 | C24: Ծրագրի անվանումը` | D24: =+D31+D37+D43 -> 0 | E24: =+E31+E37+E43 -> -1000000 | F24: =+F31+F37+F43 -> -3000000 | G24: =+G31+G37+G43 -> -3000000
C25: Ճանապարհային ցանցի բարելավում
C26: Ծրագրի նպատակը`
C27: Ճանապարհային ցանցի բարելավում և անվտանգ երթևեկության ապահովում
C28: Վերջնական արդյունքի նկարագրությունը`
C29: Ճանապարհների ծածկի որակի և փոխադրումների արդյունավետության բարելավում, ճանապարհների վիճակով պայմանավորված պատահարների նվազում
A30: Ծրագրի միջոցառումներ
B31: 21006 | C31: Միջոցառման անվանումը` | D31: 0 | E31: 0 | F31: -1000000 | G31: -1000000
C32: Ասիական զարգացման բանկի աջակցությամբ իրականացվող Հյուսիս-հարավ միջանցքի զարգացման վարկային ծրագիր, Տրանշ 2
C33: Միջոցառման նկարագրությունը`
C34: Աշտարակ-Թալին 29+600կմ-71+500կմ հատվածի կառուցում
C35: Միջոցառման տեսակը
C36: Հանրության կողմից անմիջականորեն օգտագործվող ակտիվների հետ կապված միջոցառումներ
B37: 21009 | C37: Միջոցառման անվանումը` | D37: 0 | E37: -500000 | F37: -1000000 | G37: -1000000
C38: Եվրոպական ներդրումային բանկի աջակցությամբ իրականացվող Հյուսիս-հարավ միջանցքի զարգացման վարկային ծրագիր, Տրանշ 3
C39: Միջոցառման նկարագրությունը`
C40: Լանջիկ-Գյումրի 27.47 կմ երկարությամբ ճանապարհային հատվածի կառուցում
C41: Միջոցառման տեսակը
...

Sheet 9
A1: Հավելված N 9
A2: ՀՀ կառավարության 2021 թվականի
A3: ______________ ի ___Ն որոշման
A5: ՀԱՅԱՍՏԱՆԻ ՀԱՆՐԱՊԵՏՈՒԹՅԱՆ ԿԱՌԱՎԱՐՈՒԹՅԱՆ 2020 ԹՎԱԿԱՆԻ ԴԵԿՏԵՄԲԵՐԻ 30-Ի N 2215-Ն ՈՐՈՇՄԱՆ N 3 ԵՎ N 4 ՀԱՎԵԼՎԱԾՆԵՐՈՒՄ ԿԱՏԱՐՎՈՂ ՓՈՓՈԽՈՒԹՅՈՒՆՆԵՐԸ ԵՎ ԼՐԱՑՈՒՄՆԵՐԸ
I7: հազ. դրամ
A8: Գործառական դասիչը | D8: Ծրագրային դասիչը | F8: Բյուջետային ծախսերի գործառական դասակարգման բաժինների, խմբերի և դասերի, բյուջետային հատկացումների գլխավոր կարգադրիչների, ծրագրերի, միջոցառումների և միջոցառումները կատարող պետական մարմինների անվանումները | G8: Ցուցանիշների փոփոխությունը (ավելացումները նշված են դրական նշանով, իսկ նվազեցումները` փակագծերում)
A9: Բաժին | B9: Խումբ | C9: Դաս | D9: Ծրագիր | E9: Միջոցա ռում | G9: Առաջին եռամսյակ | H9: Առաջին կիսամյակ | I9: Ինն ամիս | J9: Տարի
F10: ԸՆԴԱՄԵՆԸ ԾԱԽՍԵՐ | G10: =+G12+G87+G104+G123+G158 -> -1249950 | H10: =+H12+H87+H104+H123+H158 -> -3953100 | I10: =+I12+I87+I104+I123+I158 -> -7137100 | J10: =+J12+J87+J104+J123+J158 -> -7303900
F11: այդ թվում`
A12: 04 | F12: ՏՆՏԵՍԱԿԱՆ ՀԱՐԱԲԵՐՈՒԹՅՈՒՆՆԵՐ | G12: =+G14 -> -1700000 | H12: =+H14 -> -5900000 | I12: =+I14 -> -10300000 | J12: =+J14 -> -10500000
F13: այդ թվում`
B14: 05 | F14: Տրանսպորտ | G14: =+G16 -> -1700000 | H14: =+H16 -> -5900000 | I14: =+I16 -> -10300000 | J14: =+J16 -> -10500000
F15: այդ թվում`
C16: 01 | F16: Ճանապարհային տրանսպորտ | G16: =+G18+G47 -> -1700000 | H16: =+H18+H47 -> -5900000 | I16: =+I18+I47 -> -10300000 | J16: =+J18+J47 -> -10500000
F17: այդ թվում`
D18: 1049 | F18: Ճանապարհային ցանցի բարելավում | G18: =+G20+G29+G38 -> 0 | H18: =+H20+H29+H38 -> -1000000 | I18: =+I20+I29+I38 -> -3000000 | J18: =+J20+J29+J38 -> -3000000
F19: այդ թվում`
E20: 21006 | F20: Ասիական զարգացման բանկի աջակցությամբ իրականացվող Հյուսիս-հարավ միջանցքի զարգացման վարկային ծրագիր, Տրանշ 2 | G20: =+G24 -> 0 | H20: =+H24 -> 0 | I20: =+I24 -> -1000000 | J20: =+J24 -> -1000000
F21: այդ թվում` ըստ կատարողների
F22: ՀՀ տարածքային կառավարման և ենթակառուցվածքների նախարարություն | G22: =+G20 -> 0 | H22: =+H20 -> 0 | I22: =+I20 -> -1000000 | J22: =+J20 -> -1000000
F23: այդ թվում` բյուջետային ծախսերի տնտեսագիտական դասակարգման հոդվածներ
F24: ԸՆԴԱՄԵՆԸ ԾԱԽՍԵՐ | G24: =+G25 -> 0 | H24: =+H25 -> 0 | I24: =+I25 -> -1000000 | J24: =+J25 -> -1000000
F25: ՈՉ ՖԻՆԱՆՍԱԿԱՆ ԱԿՏԻՎՆԵՐԻ ԳԾՈՎ ԾԱԽՍԵՐ | G25: =+G26 -> 0 | H25: =+H26 -> 0 | I25: =+I26 -> -1000000 | J25: =+J26 -> -1000000
F26: ՀԻՄՆԱԿԱՆ ՄԻՋՈՑՆԵՐ | G26: =+G27 -> 0 | H26: =+H27 -> 0 | I26: =+I27 -> -1000000 | J26: =+J27 -> -1000000
F27: ՇԵՆՔԵՐ ԵՎ ՇԻՆՈՒԹՅՈՒՆՆԵՐ | G27: =+G28 -> 0 | H27: =+H28 -> 0 | I27: =+I28 -> -1000000 | J27: =+J28 -> -1000000
F28: - Շենքերի և շինությունների շինարարություն | G28: =+'10'!D36 -> 0 | H28: =+'10'!G36 -> 0 | I28: =+'10'!J36 -> -1000000 | J28: =+'10'!M36 -> -1000000
E29: 21009 | F29: Եվրոպական ներդրումային բանկի աջակցությամբ իրականացվող Հյուսիս-հարավ միջանցքի զարգացման վարկային ծրագիր, Տրանշ 3 | G29: =+G33 -> 0 | H29: =+H33 -> -500000 | I29: =+I33 -> -1000000 | J29: =+J33 -> -1000000
F30: այդ թվում` ըստ կատարողների
F31: ՀՀ տարածքային կառավարման և ենթակառուցվածքների նախարարություն | G31: =+G29 -> 0 | H31: =+H29 -> -500000 | I31: =+I29 -> -1000000 | J31: =+J29 -> -1000000
F32: այդ թվում` բյուջետային ծախսերի տնտեսագիտական դասակարգման հոդվածներ
F33: ԸՆԴԱՄԵՆԸ ԾԱԽՍԵՐ | G33: =+G34 -> 0 | H33: =+H34 -> -500000 | I33: =+I34 -> -1000000 | J33: =+J34 -> -1000000
F34: ՈՉ ՖԻՆԱՆՍԱԿԱՆ ԱԿՏԻՎՆԵՐԻ ԳԾՈՎ ԾԱԽՍԵՐ | G34: =+G35 -> 0 | H34: =+H35 -> -500000 | I34: =+I35 -> -1000000 | J34: =+J35 -> -1000000
F35: ՀԻՄՆԱԿԱՆ ՄԻՋՈՑՆԵՐ | G35: =+G36 -> 0 | H35: =+H36 -> -500000 | I35: =+I36 -> -1000000 | J35: =+J36 -> -1000000
F36: ՇԵՆՔԵՐ ԵՎ ՇԻՆՈՒԹՅՈՒՆՆԵՐ | G36: =+G37 -> 0 | H36: =+H37 -> -500000 | I36: =+I37 -> -1000000 | J36: =+J37 -> -1000000
F37: - Շենքերի և շինությունների շինարարություն | G37: =+'10'!D42 -> 0 | H37: =+'10'!G42 -> -500000 | I37: =+'10'!J42 -> -1000000 | J37: =+'10'!M42 -> -1000000
E38: 21011 | F38: Ասիական զարգացման բանկի աջակցությամբ իրականացվող Հյուսիս-հարավ միջանցքի զարգացման վարկային ծրագիր, Տրանշ 3 | G38: =+G42 -> 0 | H38: =+H42 -> -500000 | I38: =+I42 -> -1000000 | J38: =+J42 -> -1000000
F39: այդ թվում` ըստ կատարողների
F40: ՀՀ տարածքային կառավարման և ենթակառուցվածքների նախարարություն | G40: =+G38 -> 0 | H40: =+H38 -> -500000 | I40: =+I38 -> -1000000 | J40: =+J38 -> -1000000
F41: այդ թվում` բյուջետային ծախսերի տնտեսագիտական դասակարգման հոդվածներ
F42: ԸՆԴԱՄԵՆԸ ԾԱԽՍԵՐ | G42: =+G43 -> 0 | H42: =+H43 -> -500000 | I42: =+I43 -> -1000000 | J42: =+J43 -> -1000000
...

Sheet 10
O1: Հավելված N 10
O2: ՀՀ կառավարության 2021 թվականի
O3: ______________N______-Ն որոշման
A5: «ՀԱՅԱՍՏԱՆԻ ՀԱՆՐԱՊԵՏՈՒԹՅԱՆ 2021 ԹՎԱԿԱՆԻ ՊԵՏԱԿԱՆ ԲՅՈՒՋԵԻ ՄԱՍԻՆ» ՕՐԵՆՔԻ N 1 ՀԱՎԵԼՎԱԾԻ N 4 ԱՂՅՈՒՍԱԿՈՒՄ ԵՎ ՀԱՅԱՍՏԱՆԻ ՀԱՆՐԱՊԵՏՈՒԹՅԱՆ ԿԱՌԱՎԱՐՈՒԹՅԱՆ 2020 ԹՎԱԿԱՆԻ ԴԵԿՏԵՄԲԵՐԻ 30-Ի N 2215-Ն ՈՐՈՇՄԱՆ N 5 ՀԱՎԵԼՎԱԾԻ N 3 ԱՂՅՈՒՍԱԿՈՒՄ ԿԱՏԱՐՎՈՂ ՓՈՓՈԽՈՒԹՅՈՒՆՆԵՐԸ
O6: հազ. դրամ
A7: Ծրագրային դասիչը | C7: Բյուջետային հատկացումների գլխավոր կարգադրիչների, ծրագրերի, միջոցառումների և միջոցառումները կատարող պետական մարմինների անվանումները | D7: Ցուցանիշների փոփոխությունը (նվազեցումները նշված են փակագծերում)
D8: Առաջին եռամսյակ | G8: Առաջին կիսամյակ | J8: Ինն ամիս | M8: Տարի
A9: Ծրագիր | B9: Միջո ց_x000D_առում | D9: Ընդամենը | E9: այդ թվում | G9: Ընդամենը | H9: այդ թվում | J9: Ընդամենը | K9: այդ թվում | M9: Ընդամենը | N9: այդ թվում
E10: Վարկային միջոցներ | F10: Համաֆինան սավորում | H10: Վարկային միջոցներ | I10: Համաֆինան սավորում | K10: Վարկային միջոցներ | L10: Համաֆինան սավորում | N10: Վարկային միջոցներ | O10: Համաֆինան սավորում
C11: ԸՆԴԱՄԵՆԸ_x000D_ այդ թվում` | D11: =+E11+F11 -> -1500000 | E11: =+E13 -> -1249950 | F11: =+F13 -> -250050 | G11: =+H11+I11 -> -4300000 | H11: =+H13 -> -3536100 | I11: =+I13 -> -763900 | J11: =+K11+L11 -> -6800000 | K11: =+K13 -> -5469100 | L11: =+L13 -> -1330900 | M11: =+N11+O11 -> -7000000 | N11: =+N13 -> -5635900 | O11: =+O13 -> -1364100
C12: - ԸՆԹԱՑԻԿ ԾԱԽՍԵՐ | D12: 0 | E12: 0 | F12: 0 | G12: 0 | H12: 0 | I12: 0 | J12: 0 | K12: 0 | L12: 0 | M12: 0 | N12: 0 | O12: 0
C13: - ՈՉ ՖԻՆԱՆՍԱԿԱՆ ԱԿՏԻՎՆԵՐԻ ԳԾՈՎ ԾԱԽՍԵՐ | D13: =+E13+F13 -> -1500000 | E13: =+E21+E27+E35+E41+E47 -> -1249950 | F13: =+F21+F27+F35+F41+F47 -> -250050 | G13: =+H13+I13 -> -4300000 | H13: =+H21+H27+H35+H41+H47 -> -3536100 | I13: =+I21+I27+I35+I41+I47 -> -763900 | J13: =+K13+L13 -> -6800000 | K13: =+K21+K27+K35+K41+K47 -> -5469100 | L13: =+L21+L27+L35+L41+L47 -> -1330900 | M13: =+N13+O13 -> -7000000 | N13: =+N21+N27+N35+N41+N47 -> -5635900 | O13: =+O21+O27+O35+O41+O47 -> -1364100
C14: ՀՀ ՏԱՐԱԾՔԱՅԻՆ ԿԱՌԱՎԱՐՄԱՆ ԵՎ ԵՆԹԱԿԱՌՈՒՑՎԱԾՔՆԵՐԻ ՆԱԽԱՐԱՐՈՒԹՅՈՒՆ_x000D_ այդ թվում` | D14: =+E14+F14 -> -1500000 | E14: =+E15+E29 -> -1249950 | F14: =+F15+F29 -> -250050 | G14: =+H14+I14 -> -4300000 | H14: =+H15+H29 -> -3536100 | I14: =+I15+I29 -> -763900 | J14: =+K14+L14 -> -6800000 | K14: =+K15+K29 -> -5469100 | L14: =+L15+L29 -> -1330900 | M14: =+N14+O14 -> -7000000 | N14: =+N15+N29 -> -5635900 | O14: =+O15+O29 -> -1364100
A15: 1157 | C15: Քաղաքային զարգացում | D15: =+E15+F15 -> -1500000 | E15: =+E17+E23 -> -1249950 | F15: =+F17+F23 -> -250050 | G15: =+H15+I15 -> -3300000 | H15: =+H17+H23 -> -2750100 | I15: =+I17+I23 -> -549900 | J15: =+K15+L15 -> -3800000 | K15: =+K17+K23 -> -3167100 | L15: =+L17+L23 -> -632900 | M15: =+N15+O15 -> -4000000 | N15: =+N17+N23 -> -3333900 | O15: =+O17+O23 -> -666100
C16: այդ թվում`
B17: 12021 | C17: Ասիական զարգացման բանկի աջակցությամբ իրականացվող քաղաքային ենթակառուցվածքների և քաղաքի կայուն զարգացման ներդրումային երկրորդ ծրագրի շրջանակներում ճանապարհային շինարարություն | D17: =+E17+F17 -> -1500000 | E17: =+E21 -> -1249950 | F17: =+F21 -> -250050 | G17: =+H17+I17 -> -3000000 | H17: =+H21 -> -2499900 | I17: =+I21 -> -500100 | J17: =+K17+L17 -> -3000000 | K17: =+K21 -> -2499900 | L17: =+L21 -> -500100 | M17: =+N17+O17 -> -3000000 | N17: =+N21 -> -2499900 | O17: =+O21 -> -500100
C18: այդ թվում` ըստ կատարողների
C19: ՀՀ տարածքային կառավարման և ենթակառուցվածքների նախարարություն | D19: =+D17 -> -1500000 | E19: =+E17 -> -1249950 | F19: =+F17 -> -250050 | G19: =+G17 -> -3000000 | H19: =+H17 -> -2499900 | I19: =+I17 -> -500100 | J19: =+J17 -> -3000000 | K19: =+K17 -> -2499900 | ... O19: =+O17 -> -500100
C20: այդ թվում` բյուջետային ծախսերի տնտեսագիտական դասակարգման հոդվածներ
C21: ՈՉ ՖԻՆԱՆՍԱԿԱՆ ԱԿՏԻՎՆԵՐԻ ԳԾՈՎ ԾԱԽՍԵՐ | D21: =+E21+F21 -> -1500000 | E21: =+E22 -> -1249950 | F21: =+F22 -> -250050 | G21: =+H21+I21 -> -3000000 | H21: =+H22 -> -2499900 | I21: =+I22 -> -500100 | J21: =+K21+L21 -> -3000000 | K21: =+K22 -> -2499900 | L21: =+L22 -> -500100 | M21: =+N21+O21 -> -3000000 | N21: =+N22 -> -2499900 | O21: =+O22 -> -500100
C22: - Շենքերի և շինությունների շինարարություն | D22: -1500000 | E22: -1249950 | F22: -250050 | G22: -3000000 | H22: -2499900 | I22: -500100 | J22: -3000000 | K22: -2499900 | L22: -500100 | M22: -3000000 | N22: -2499900 | O22: -500100
B23: 12017 | C23: Վերակառուցման և զարգացման եվրոպական բանկի աջակցությամբ իրականացվող Գյումրու քաղաքային ճանապարհների ծրագիր | D23: =+E23+F23 -> 0 | E23: =+E27 -> 0 | F23: =+F27 -> 0 | G23: =+H23+I23 -> -300000 | H23: =+H27 -> -250200 | I23: =+I27 -> -49800 | J23: =+K23+L23 -> -800000 | K23: =+K27 -> -667200 | L23: =+L27 -> -132800 | M23: =+N23+O23 -> -1000000 | N23: =+N27 -> -834000 | O23: =+O27 -> -166000
C24: այդ թվում` ըստ կատարողների
C25: ՀՀ տարածքային կառավարման և ենթակառուցվածքների նախարարություն | D25: =+D23 -> 0 | E25: =+E23 -> 0 | F25: =+F23 -> 0 | G25: =+G23 -> -300000 | H25: =+H23 -> -250200 | I25: =+I23 -> -49800 | J25: =+J23 -> -800000 | K25: =+K23 -> -667200 | ... O25: =+O23 -> -166000
C26: այդ թվում` բյուջետային ծախսերի տնտեսագիտական դասակարգման հոդվածներ
C27: ՈՉ ՖԻՆԱՆՍԱԿԱՆ ԱԿՏԻՎՆԵՐԻ ԳԾՈՎ ԾԱԽՍԵՐ | D27: =+E27+F27 -> 0 | E27: =+E28 -> 0 | F27: =+F28 -> 0 | G27: =+H27+I27 -> -300000 | H27: =+H28 -> -250200 | I27: =+I28 -> -49800 | J27: =+K27+L27 -> -800000 | K27: =+K28 -> -667200 | L27: =+L28 -> -132800 | M27: =+N27+O27 -> -1000000 | N27: =+N28 -> -834000 | O27: =+O28 -> -166000
C28: - Շենքերի և շինությունների կապիտալ վերանորոգում | D28: 0 | E28: 0 | F28: 0 | G28: -300000 | H28: -250200 | I28: -49800 | J28: -800000 | K28: -667200 | L28: -132800 | M28: -1000000 | N28: -834000 | O28: -166000
A29: 1049 | C29: Ճանապարհային ցանցի բարելավում | D29: 0 | E29: 0 | F29: 0 | G29: -1000000 | H29: -786000 | I29: -214000 | J29: -3000000 | K29: -2302000 | L29: -698000 | M29: -3000000 | N29: -2302000 | O29: -698000
C30: այդ թվում`
B31: 21006 | C31: Ասիական զարգացման բանկի աջակցությամբ իրականացվող Հյուսիս-հարավ միջանցքի_x000D_ զարգացման վարկային ծրագիր, Տրանշ 2 | D31: =+E31+F31 -> 0 | E31: =+E35 -> 0 | F31: =+F35 -> 0 | G31: =+H31+I31 -> 0 | H31: =+H35 -> 0 | I31: =+I35 -> 0 | J31: =+K31+L31 -> -1000000 | K31: =+K35 -> -730000 | L31: =+L35 -> -270000 | M31: =+N31+O31 -> -1000000 | N31: =+N35 -> -730000 | O31: =+O35 -> -270000
C32: այդ թվում` ըստ կատարողների
C33: ՀՀ տարածքային կառավարման և ենթակառուցվածքների նախարարություն | D33: =+D31 -> 0 | E33: =+E31 -> 0 | F33: =+F31 -> 0 | G33: =+G31 -> 0 | H33: =+H31 -> 0 | I33: =+I31 -> 0 | J33: =+J31 -> -1000000 | K33: =+K31 -> -730000 | ... O33: =+O31 -> -270000
C34: այդ թվում` բյուջետային ծախսերի տնտեսագիտական դասակարգման հոդվածներ
C35: ՈՉ ՖԻՆԱՆՍԱԿԱՆ ԱԿՏԻՎՆԵՐԻ ԳԾՈՎ ԾԱԽՍԵՐ | D35: =+E35+F35 -> 0 | E35: =+E36 -> 0 | F35: =+F36 -> 0 | G35: =+H35+I35 -> 0 | H35: =+H36 -> 0 | I35: =+I36 -> 0 | J35: =+K35+L35 -> -1000000 | K35: =+K36 -> -730000 | L35: =+L36 -> -270000 | M35: =+N35+O35 -> -1000000 | N35: =+N36 -> -730000 | O35: =+O36 -> -270000
C36: - Շենքերի և շինությունների շինարարություն | D36: 0 | E36: 0 | F36: 0 | G36: 0 | H36: 0 | I36: 0 | J36: -1000000 | K36: -730000 | L36: -270000 | M36: -1000000 | N36: -730000 | O36: -270000
B37: 21009 | C37: Եվրոպական ներդրումային բանկի աջակցությամբ իրականացվող Հյուսիս-հարավ միջանցքի_x000D_ զարգացման վարկային ծրագիր, Տրանշ 3 | D37: =+E37+F37 -> 0 | E37: =+E41 -> 0 | F37: =+F41 -> 0 | G37: =+H37+I37 -> -500000 | H37: =+H41 -> -414000 | I37: =+I41 -> -86000 | J37: =+K37+L37 -> -1000000 | K37: =+K41 -> -828000 | L37: =+L41 -> -172000 | M37: =+N37+O37 -> -1000000 | N37: =+N41 -> -828000 | O37: =+O41 -> -172000
C38: այդ թվում` ըստ կատարողների
C39: ՀՀ տարածքային կառավարման և ենթակառուցվածքների նախարարություն | D39: =+D37 -> 0 | E39: =+E37 -> 0 | F39: =+F37 -> 0 | G39: =+G37 -> -500000 | H39: =+H37 -> -414000 | I39: =+I37 -> -86000 | J39: =+J37 -> -1000000 | K39: =+K37 -> -828000 | ... O39: =+O37 -> -172000
C40: այդ թվում` բյուջետային ծախսերի տնտեսագիտական դասակարգման հոդվածներ
C41: ՈՉ ՖԻՆԱՆՍԱԿԱՆ ԱԿՏԻՎՆԵՐԻ ԳԾՈՎ ԾԱԽՍԵՐ | D41: =+E41+F41 -> 0 | E41: =+E42 -> 0 | F41: =+F42 -> 0 | G41: =+H41+I41 -> -500000 | H41: =+H42 -> -414000 | I41: =+I42 -> -86000 | J41: =+K41+L41 -> -1000000 | K41: =+K42 -> -828000 | L41: =+L42 -> -172000 | M41: =+N41+O41 -> -1000000 | N41: =+N42 -> -828000 | O41: =+O42 -> -172000
...

Sheet 11
O1: Հավելված N 11
O2: ՀՀ կառավարության 2021 թվականի
O3: ______________N______-Ն որոշման
A5: «ՀԱՅԱՍՏԱՆԻ ՀԱՆՐԱՊԵՏՈՒԹՅԱՆ 2021 ԹՎԱԿԱՆԻ ՊԵՏԱԿԱՆ ԲՅՈՒՋԵԻ ՄԱՍԻՆ» ՕՐԵՆՔԻ N 1 ՀԱՎԵԼՎԱԾԻ N 5 ԱՂՅՈՒՍԱԿՈՒՄ ԵՎ ՀԱՅԱՍՏԱՆԻ ՀԱՆՐԱՊԵՏՈՒԹՅԱՆ ԿԱՌԱՎԱՐՈՒԹՅԱՆ 2020 ԹՎԱԿԱՆԻ ԴԵԿՏԵՄԲԵՐԻ 30-Ի N 2215-Ն ՈՐՈՇՄԱՆ N 5 ՀԱՎԵԼՎԱԾԻ N 4 ԱՂՅՈՒՍԱԿՈՒՄ ԿԱՏԱՐՎՈՂ ՓՈՓՈԽՈՒԹՅՈՒՆՆԵՐԸ
O6: հազ. դրամ
A7: Ծրագրային դասիչը | C7: Բյուջետային հատկացումների գլխավոր կարգադրիչների, ծրագրերի, միջոցառումների և միջոցառումները կատարող պետական մարմինների անվանումները | D7: Ցուցանիշների փոփոխությունը (նվազեցումները նշված են փակագծերում)
D8: Առաջին եռամսյակ | G8: Կիսամյակ | J8: Ինն ամիս | M8: Տարի
A9: Ծրագիր | B9: Միջոց_x000D_ առում | D9: Ընդամենը | E9: այդ թվում | G9: Ընդամենը | H9: այդ թվում | J9: Ընդամենը | K9: այդ թվում | M9: Ընդամենը | N9: այդ թվում
E10: Դրամաշնոր_x000D_ հային միջոցներ | F10: Համաֆինանս ավորում | H10: Դրամաշնոր_x000D_ հային միջոցներ | I10: Համաֆինանս ավորում | K10: Դրամաշնոր_x000D_ հային միջոցներ | L10: Համաֆինանս ավորում | N10: Դրամաշնոր_x000D_ հային միջոցներ | O10: Համաֆինանս ավորում
C11: ԸՆԴԱՄԵՆԸ_x000D_ այդ թվում` | D11: 0 | E11: 0 | F11: 0 | G11: -500000 | H11: -417000 | I11: -83000 | J11: -2000000 | K11: -1668000 | L11: -332000 | M11: -2000000 | N11: -1668000 | O11: -332000
C12: - ԸՆԹԱՑԻԿ ԾԱԽՍԵՐ | D12: 0 | E12: 0 | F12: 0 | G12: 0 | H12: 0 | I12: 0 | J12: 0 | K12: 0 | L12: 0 | M12: 0 | N12: 0 | O12: 0
C13: - ՈՉ ՖԻՆԱՆՍԱԿԱՆ ԱԿՏԻՎՆԵՐԻ ԳԾՈՎ ԾԱԽՍԵՐ | D13: 0 | E13: 0 | F13: 0 | G13: -500000 | H13: -417000 | I13: -83000 | J13: -2000000 | K13: -1668000 | L13: -332000 | M13: -2000000 | N13: -1668000 | O13: -332000
C14: ՀՀ ՏԱՐԱԾՔԱՅԻՆ ԿԱՌԱՎԱՐՄԱՆ ԵՎ ԵՆԹԱԿԱՌՈՒՑՎԱԾՔՆԵՐԻ ՆԱԽԱՐԱՐՈՒԹՅՈՒՆ_x000D_ այդ թվում` | D14: 0 | E14: 0 | F14: 0 | G14: -500000 | H14: -417000 | I14: -83000 | J14: -2000000 | K14: -1668000 | L14: -332000 | M14: -2000000 | N14: -1668000 | O14: -332000
A15: 1040 | C15: Կոշտ թափոնների կառավարում | D15: 0 | E15: 0 | F15: 0 | G15: 0 | H15: 0 | I15: 0 | J15: -1000000 | K15: -834000 | L15: -166000 | M15: -1000000 | N15: -834000 | O15: -166000
C16: այդ թվում`
B17: 32006 | C17: Եվրոպական միության հարևանության ներդրումային գործիքի աջակցությամբ իրականացվող_x000D_ «Երևանի կոշտ թափոնների կառավարման» դրամաշնորհային ծրագիր | D17: 0 | E17: 0 | F17: 0 | G17: 0 | H17: 0 | I17: 0 | J17: -1000000 | K17: -834000 | L17: -166000 | M17: -1000000 | N17: -834000 | O17: -166000
C18: այդ թվում` ըստ կատարողների
C19: ՀՀ տարածքային կառավարման և ենթակառուցվածքների նախարարություն | D19: 0 | E19: 0 | F19: 0 | G19: 0 | H19: 0 | I19: 0 | J19: -1000000 | K19: -834000 | L19: -166000 | M19: -1000000 | N19: -834000 | O19: -166000
C20: այդ թվում` բյուջետային ծախսերի տնտեսագիտական դասակարգման հոդվածներ
C21: ՈՉ ՖԻՆԱՆՍԱԿԱՆ ԱԿՏԻՎՆԵՐԻ ԳԾՈՎ ԾԱԽՍԵՐ | D21: 0 | E21: 0 | F21: 0 | G21: 0 | H21: 0 | I21: 0 | J21: -1000000 | K21: -834000 | L21: -166000 | M21: -1000000 | N21: -834000 | O21: -166000
C22: - Շենքերի և շինությունների շինարարություն | D22: 0 | E22: 0 | F22: 0 | G22: 0 | H22: 0 | I22: 0 | J22: -1000000 | K22: -834000 | L22: -166000 | M22: -1000000 | N22: -834000 | O22: -166000
A23: 1157 | C23: Քաղաքային զարգացում | D23: 0 | E23: 0 | F23: 0 | G23: -500000 | H23: -417000 | I23: -83000 | J23: -1000000 | K23: -834000 | L23: -166000 | M23: -1000000 | N23: -834000 | O23: -166000
C24: այդ թվում`
B25: 12018 | C25: Վերակառուցման և զարգացման եվրոպական բանկի աջակցությամբ իրականացվող Գյումրու քաղաքային ճանապարհների դրամաշնորհային ծրագիր (Տրանշ Ա, Բ, Գ) | D25: 0 | E25: 0 | F25: 0 | G25: -500000 | H25: -417000 | I25: -83000 | J25: -1000000 | K25: -834000 | L25: -166000 | M25: -1000000 | N25: -834000 | O25: -166000
C26: այդ թվում` ըստ կատարողների
C27: ՀՀ տարածքային կառավարման և ենթակառուցվածքների նախարարություն | D27: 0 | E27: 0 | F27: 0 | G27: -500000 | H27: -417000 | I27: -83000 | J27: -1000000 | K27: -834000 | L27: -166000 | M27: -1000000 | N27: -834000 | O27: -166000
C28: այդ թվում` բյուջետային ծախսերի տնտեսագիտական դասակարգման հոդվածներ
C29: ՈՉ ՖԻՆԱՆՍԱԿԱՆ ԱԿՏԻՎՆԵՐԻ ԳԾՈՎ ԾԱԽՍԵՐ | D29: 0 | E29: 0 | F29: 0 | G29: -500000 | H29: -417000 | I29: -83000 | J29: -1000000 | K29: -834000 | L29: -166000 | M29: -1000000 | N29: -834000 | O29: -166000
C30: - Շենքերի և շինությունների շինարարություն | D30: 0 | E30: 0 | F30: 0 | G30: -250000 | H30: -208500 | I30: -41500 | J30: -500000 | K30: -417000 | L30: -83000 | M30: -500000 | N30: -417000 | O30: -83000
C31: -Այլ մեքենաներ և սարքավորումներ | D31: 0 | E31: 0 | F31: 0 | G31: -250000 | H31: -208500 | I31: -41500 | J31: -500000 | K31: -417000 | L31: -83000 | M31: -500000 | N31: -417000 | O31: -83000

Sheet 12
G1: Հավելված N 12
G2: ՀՀ կառավարության 2021 թվականի
G3: ______________ ի ___Ն որոշման
A5: «ՀԱՅԱՍՏԱՆԻ ՀԱՆՐԱՊԵՏՈՒԹՅԱՆ 2021 ԹՎԱԿԱՆԻ ՊԵՏԱԿԱՆ ԲՅՈՒՋԵԻ ՄԱՍԻՆ» ՕՐԵՆՔԻ N 1 ՀԱՎԵԼՎԱԾԻ N 7 ԱՂՅՈՒՍԱԿՈՒՄ ԵՎ ՀԱՅԱՍՏԱՆԻ ՀԱՆՐԱՊԵՏՈՒԹՅԱՆ ԿԱՌԱՎԱՐՈՒԹՅԱՆ 2020 ԹՎԱԿԱՆԻ ԴԵԿՏԵՄԲԵՐԻ 30-Ի N 2215-Ն ՈՐՈՇՄԱՆ N 5 ՀԱՎԵԼՎԱԾԻ N 6 ԱՂՅՈՒՍԱԿՈՒՄ ԿԱՏԱՐՎՈՂ ՓՈՓՈԽՈՒԹՅՈՒՆՆԵՐԸ
G7: հազ. դրամ
A8: Ծրագրային դասիչը | C8: Հատկացումների տրամադրման նպատակները և բյուջետային գլխավոր կարգադրիչների, ծրագրերի, միջոցառումների և կատարող պետական մարմնի անվանումները | D8: Ցուցանիշների փոփոխությունը (նվազեցումները նշված են փակագծերում)
A9: Ծրագիր | B9: Միջոցառում | D9: Առաջին եռամսյակ | E9: Առաջին կիսամյակ | F9: Ինն ամիս | G9: Տարի
C10: Ընդամենը | D10: =+D12 -> -200000 | E10: =+E12 -> -1600000 | F10: =+F12 -> -3500000 | G10: =+G12 -> -4000000
A11: այդ թվում`
A12: Ընթացիկ սուբվենցիաներ համայնքներին | D12: =+D13 -> -200000 | E12: =+E13 -> -1600000 | F12: =+F13 -> -3500000 | G12: =+G13 -> -4000000
A13: ՀՀ տարածքային կառավարման և ենթակառուցվածքների նախարարություն | D13: =+D14 -> -200000 | E13: =+E14 -> -1600000 | F13: =+F14 -> -3500000 | G13: =+G14 -> -4000000
A14: 1157 | C14: Քաղաքային զարգացում | D14: =+D16+D19 -> -200000 | E14: =+E16+E19 -> -1600000 | F14: =+F16+F19 -> -3500000 | G14: =+G16+G19 -> -4000000
C15: այդ թվում`
B16: 12002 | C16: Երևան քաղաքի փողոցների արտաքին լուսավորության ծառայություններ | D16: 0 | E16: -500000 | F16: -1000000 | G16: -1500000
C17: այդ թվում` ըստ կատարողների
C18: ՀՀ տարածքային կառավարման և ենթակառուցվածքների նախարարություն | D18: 0 | E18: -500000 | F18: -1000000 | G18: -1500000
B19: 12007 | C19: Երևան քաղաքի փողոցների ճանապարհաշինարարական աշխատանքներ | D19: -200000 | E19: -1100000 | F19: -2500000 | G19: -2500000
C20: այդ թվում` ըստ կատարողների
C21: ՀՀ տարածքային կառավարման և ենթակառուցվածքների նախարարություն | D21: -200000 | E21: -1100000 | F21: -2500000 | G21: -2500000

Sheet 13
F1: Հավելված N 13
F2: ՀՀ կառավարության 2021 թվականի
F3: ______________ ի ___Ն որոշման
A4: ՀԱՅԱՍՏԱՆԻ ՀԱՆՐԱՊԵՏՈՒԹՅԱՆ ԿԱՌԱՎԱՐՈՒԹՅԱՆ 2020 ԹՎԱԿԱՆԻ ԴԵԿՏԵՄԲԵՐԻ 30-Ի N 2215-Ն ՈՐՈՇՄԱՆ N 9 ՀԱՎԵԼՎԱԾԻ N 9.8, 9.47, 9.9 ԱՂՅՈՒՍԱԿՆԵՐՈՒՄ ԿԱՏԱՐՎՈՂ ՓՈՓՈԽՈՒԹՅՈՒՆՆԵՐԸ ԵՎ ԼՐԱՑՈՒՄՆԵՐԸ
F5: Աղյուսակ 9.8
A6: ՀՀ տարածքային կառավարման և ենթակառուցվածքների նախարարություն
A7: ՄԱՍ 2. ՊԵՏԱԿԱՆ ՄԱՐՄՆԻ ԳԾՈՎ ԱՐԴՅՈՒՆՔԱՅԻՆ (ԿԱՏԱՐՈՂԱԿԱՆ) ՑՈՒՑԱՆԻՇՆԵՐԸ
A9: Ծրագրի դասիչը | B9: Ծրագրի անվանումը
A10: 1040 | B10: Կոշտ թափոնների կառավարում
A12: Ծրագրի միջոցառումները
A14: Ծրագրի դասիչը` | B14: 1040 | C14: Ցուցանիշների փոփոխությունը (նվազեցումները նշված են փակագծերում)
A15: Միջոցառման դասիչը` | B15: 32006 | C15: Առաջին եռամսյակ | D15: Առաջին կիսամյակ | E15: Ինն ամիս | F15: Տարի
A16: Միջոցառման անվանումը` | B16: Եվրոպական միության հարևանության ներդրումային գործիքի աջակցությամբ իրականացվող «Երևանի կոշտ թափոնների կառավարման» դրամաշնորհային ծրագիր
A17: Նկարագրությունը` | B17: Կոշտ թափոնների կառավարման համակարգի բարելավում և նոր աղբավայրի ստեղծում
A18: Միջոցառման տեսակը` | B18: Այլ պետական կազմակերպությունների կողմից օգտագործվող ոչ ֆինանսական ակտիվների հետ գործառնություններ
A19: Միջոցառումն իրականացնողի անվանումը՛ | B19: Մասնագիտացված միավոր
A20: Արդյունքի չափորոշիչներ
A21: Եվրոպական չափորոշիչներով 29 հա տարածքում նոր քաղաքային աղբավայրի կառուցում, տոկոս
A22: Գործող թվով 2 աղբանոցների(Նուբարաշեն և Աջափնյակ) մեկուսացման վերջնական նախագիծ, հատ
A23: Քաղաքային նոր աղբավայրի կառուցման վերջնական նախագիծ, հատ
A24: Աղբանոցներում առաջացող գազերի բռնկման հնարավորության նվազեցում, տոկոս
A25: Աղբահանություն իրականացնող կազմակերպությունների մեքենաների համար աղբի տեղադրման հնարավորությունների ստեղծում, մեք/օր
A26: Շրջական միջավայրը աղտոտող աղբից առաջացող ստորգետնյա ջրերի ծավալի կրճատում, տոկոս
A27: Միջոցառման վրա կատարվող ծախսը (հազար դրամ) | C27: 0 | D27: 0 | E27: -1000000 | F27: -1000000
A30: Ծրագրի դասիչը | B30: Ծրագրի անվանումը
A31: 1049 | B31: Ճանապարհային ցանցի բարելավում
A33: Ծրագրի միջոցառումները
A35: Ծրագրի դասիչը` | B35: 1049 | C35: Ցուցանիշների փոփոխությունը (նվազեցումները նշված են փակագծերում)
A36: Միջոցառման դասիչը` | B36: 21006 | C36: Առաջին եռամսյակ | D36: Առաջին կիսամյակ | E36: Ինն ամիս | F36: Տարի
A37: Միջոցառման անվանումը` | B37: Ասիական զարգացման բանկի աջակցությամբ իրականացվող Հյուսիս-հարավ միջանցքի զարգացման վարկային ծրագիր, Տրանշ 2
A38: Նկարագրությունը` | B38: Աշտարակ-Թալին 29+600կմ-71+500կմ հատվածի կառուցում
A39: Միջոցառման տեսակը` | B39: Հանրության կողմից անմիջականորեն օգտագործվող ակտիվների հետ կապված միջոցառումներ
A40: Միջոցառումն իրականացնողի անվանումը՛ | B40: Մասնագիտացված միավոր
A41: Արդյունքի չափորոշիչներ
A42: Կապալառուների քանակը, հատ
A43: Միջոցառման վրա կատարվող ծախսը (հազար դրամ) | C43: 0 | D43: 0 | E43: -1000000 | F43: -1000000
A45: Ծրագրի դասիչը` | B45: 1049 | C45: Ցուցանիշների փոփոխությունը (նվազեցումները նշված են փակագծերում)
A46: Միջոցառման դասիչը` | B46: 21009 | C46: Առաջին եռամսյակ | D46: Առաջին կիսամյակ | E46: Ինն ամիս | F46: Տարի
A47: Միջոցառման անվանումը` | B47: Եվրոպական ներդրումային բանկի աջակցությամբ իրականացվող Հյուսիս-հարավ միջանցքի զարգացման վարկային ծրագիր, Տրանշ 3
A48: Նկարագրությունը` | B48: Լանջիկ-Գյումրի 27.47 կմ երկարությամբ ճանապարհային հատվածի կառուցում
...

Sheet 14
E1: Հավելված N 14
E2: Աղյուսակ N2
E3: ՀՀ կառավարության 2021 թվականի
D4: ______________ ի ___Ն որոշման
A5: ՀԱՅԱՍՏԱՆԻ ՀԱՆՐԱՊԵՏՈՒԹՅԱՆ ԿԱՌԱՎԱՐՈՒԹՅԱՆ 2020 ԹՎԱԿԱՆԻ ԴԵԿՏԵՄԲԵՐԻ 30-Ի N 2215-Ն ՈՐՈՇՄԱՆ N 9.1 ՀԱՎԵԼՎԱԾԻ N 9.1.8, 9.1.9, 9.1.42, 9.1.58 ԱՂՅՈՒՍԱԿՈՒՄ ԿԱՏԱՐՎՈՂ ՓՈՓՈԽՈՒԹՅՈՒՆՆԵՐԸ ԵՎ ԼՐԱՑՈՒՄՆԵՐԸ
F6: Աղյուսակ 9.1.8
A7: ՀՀ տարածքային կառավարման և ենթակառուցվածքների նախարարություն
A8: ՄԱՍ 1. ՊԵՏԱԿԱՆ ՄԱՐՄՆԻ ԳԾՈՎ ԱՐԴՅՈՒՆՔԱՅԻՆ (ԿԱՏԱՐՈՂԱԿԱՆ) ՑՈՒՑԱՆԻՇՆԵՐԸ
A10: Ծրագրի դասիչը | B10: Ծրագրի անվանումը
A11: 1040 | B11: Կոշտ թափոնների կառավարում
A13: Ծրագրի միջոցառումները
A15: Ծրագրի դասիչը` | B15: 1040 | C15: Ցուցանիշների փոփոխությունը (նվազեցումները նշված են փակագծերում)
A16: Միջոցառման դասիչը` | B16: 32006 | C16: Առաջին եռամսյակ | D16: Առաջին կիսամյակ | E16: Ինն ամիս | F16: Տարի
A17: Միջոցառման անվանումը` | B17: Եվրոպական միության հարևանության ներդրումային գործիքի աջակցությամբ իրականացվող «Երևանի կոշտ թափոնների կառավարման» դրամաշնորհային ծրագիր
A18: Նկարագրությունը` | B18: Կոշտ թափոնների կառավարման համակարգի բարելավում և նոր աղբավայրի ստեղծում
A19: Միջոցառման տեսակը` | B19: Այլ պետական կազմակերպությունների կողմից օգտագործվող ոչ ֆինանսական ակտիվների հետ գործառնություններ
A20: Միջոցառումն իրականացնողի անվանումը՛ | B20: Մասնագիտացված միավոր
A21: Արդյունքի չափորոշիչներ
A22: Եվրոպական չափորոշիչներով 29 հա տարածքում նոր քաղաքային աղբավայրի կառուցում, տոկոս
A23: Գործող թվով 2 աղբանոցների(Նուբարաշեն և Աջափնյակ) մեկուսացման վերջնական նախագիծ, հատ
A24: Քաղաքային նոր աղբավայրի կառուցման վերջնական նախագիծ, հատ
A25: Աղբանոցներում առաջացող գազերի բռնկման հնարավորության նվազեցում, տոկոս
A26: Աղբահանություն իրականացնող կազմակերպությունների մեքենաների համար աղբի տեղադրման հնարավորությունների ստեղծում, մեք/օր
A27: Շրջական միջավայրը աղտոտող աղբից առաջացող ստորգետնյա ջրերի ծավալի կրճատում, տոկոս
A28: Միջոցառման վրա կատարվող ծախսը (հազար դրամ) | C28: 0 | D28: 0 | E28: -1000000 | F28: -1000000
A31: Ծրագրի դասիչը | B31: Ծրագրի անվանումը
A32: 1049 | B32: Ճանապարհային ցանցի բարելավում
A34: Ծրագրի միջոցառումները
A36: Ծրագրի դասիչը` | B36: 1049 | C36: Ցուցանիշների փոփոխությունը (նվազեցումները նշված են փակագծերում)
A37: Միջոցառման դասիչը` | B37: 21006 | C37: Առաջին եռամսյակ | D37: Առաջին կիսամյակ | E37: Ինն ամիս | F37: Տարի
A38: Միջոցառման անվանումը` | B38: Ասիական զարգացման բանկի աջակցությամբ իրականացվող Հյուսիս-հարավ միջանցքի զարգացման վարկային ծրագիր, Տրանշ 2
A39: Նկարագրությունը` | B39: Աշտարակ-Թալին 29+600կմ-71+500կմ հատվածի կառուցում
A40: Միջոցառման տեսակը` | B40: Հանրության կողմից անմիջականորեն օգտագործվող ակտիվների հետ կապված միջոցառումներ
A41: Միջոցառումն իրականացնողի անվանումը՛ | B41: Մասնագիտացված միավոր
A42: Արդյունքի չափորոշիչներ
A43: Կապալառուների քանակը, հատ
A44: Միջոցառման վրա կատարվող ծախսը (հազար դրամ) | C44: 0 | D44: 0 | E44: -1000000 | F44: -1000000
A46: Ծրագրի դասիչը` | B46: 1049 | C46: Ցուցանիշների փոփոխությունը (նվազեցումները նշված են փակագծերում)
A47: Միջոցառման դասիչը` | B47: 21009 | C47: Առաջին եռամսյակ | D47: Առաջին կիսամյակ | E47: Ինն ամիս | F47: Տարի
A48: Միջոցառման անվանումը` | B48: Եվրոպական ներդրումային բանկի աջակցությամբ իրականացվող Հյուսիս-հարավ միջանցքի զարգացման վարկային ծրագիր, Տրանշ 3
...

Sheet 15
F1: Հավելված N 15
F2: ՀՀ կառավարության 2021 թվականի
F3: ______________ ի ___Ն որոշման
A5: «ՀԱՅԱUՏԱՆԻ ՀԱՆՐԱՊԵՏՈՒԹՅԱՆ 2021 ԹՎԱԿԱՆԻ ՊԵՏԱԿԱՆ ԲՅՈՒՋԵԻ ՄԱUԻՆ» ՀԱՅԱUՏԱՆԻ ՀԱՆՐԱՊԵՏՈՒԹՅԱՆ OՐԵՆՔԻ N 1 ՀԱՎԵԼՎԱԾԻ N 3 ԱՂՅՈՒՍԱԿՈՒՄ ԿԱՏԱՐՎՈՂ ԼՐԱՑՈՒՄՆԵՐԸ
G8: հազար դրամներով
A9: Ծրագրային դասիչ | C9: Բյուջետային գլխավոր կարգադրիչների, ծրագրերի, միջոցառումների և ուղղությունների անվանումները | D9: Ընդամենը | E9: Ցուցանիշների փոփոխությունը (ավելացումները նշված են դրական նշանով)
A10: ծրագիրը | B10: Միջոցառում | E10: Կառուցման աշխատանքներ | F10: Վերակառուցման, վերանորոգման և վերականգնման աշխատանքներ | G10: Նախագծահե- տազոտական, գեոդեզիա- քարտեզագրա- կան աշխա- տանքներ | H10: Ոչ ֆինանսական այլ ակտիվների ձեռքբերում
C11: ԸՆԴԱՄԵՆԸ | D11: =E11+F11+G11+H11 -> 1726000 | E11: =E13 -> 206925 | F11: =F13 -> 1482925 | G11: =G13 -> 36150 | H11: =H13 -> 0
C12: այդ թվում՝
C13: ՀՀ առողջապահության նախարարություն | D13: =E13+F13+G13+H13 -> 1726000 | E13: =E15 -> 206925 | F13: =F15 -> 1482925 | G13: =G15 -> 36150 | H13: =H15 -> 0
C14: այդ թվում`
A15: 1126 | B15: 32003 | C15: Առողջապահական կազմակերպությունների կառուցում, վերակառուցում | D15: =E15+F15+G15+H15 -> 1726000 | E15: =E16+E19+E22+E24+E27 -> 206925 | F15: =F16+F19+F22+F24+F27 -> 1482925 | G15: =G16+G19+G22+G24+G27 -> 36150 | H15: =H16+H19+H22+H24+H27 -> 0
C16: Երևան քաղաք | D16: =E16+F16+G16+H16 -> 822512.6 | E16: =E17+E18 -> 0 | F16: =F17+F18 -> 801587.6 | G16: =G17+G18 -> 20925 | H16: =H17+H18 -> 0
C17: ՀՀ ԱՆ Հոգեկան առողջության պահպանման ազգային կենտրոն ՓԲԸ վերակառուցում | D17: =E17+F17+G17+H17 -> 510020 | F17: 510020
C18: «Ինֆեկցիոն հիվանդությունների ազգային կենտրոն» ՓԲԸ վերակառուցում | D18: =E18+F18+G18+H18 -> 312492.6 | F18: 291567.6 | G18: 20925
C19: ՀՀ Կոտայքի մարզ | D19: =E19+F19+G19+H19 -> 227775.4 | E19: =E20+E21 -> 0 | F19: =F20+F21 -> 219150.4 | G19: =G20+G21 -> 8625 | H19: =H20+H21 -> 0
C20: ՀՀ Կոտայքի մարզի Եղվարդի (Նաիրի) բժշկական կենտրոնի կառուցում | D20: =E20+F20+G20+H20 -> 8625 | G20: 8625
C21: ՀՀ Կոտայքի մարզի Չարենցավանի բժշկական կենտորնի մասնակի վերանորոգման աշխատանքներ | D21: =E21+F21+G21+H21 -> 219150.4 | F21: 219150.4
C22: ՀՀ Շիրակի մարզ | D22: =E22+F22+G22+H22 -> 6600 | E22: =E23 -> 0 | F22: =F23 -> 0 | G22: =G23 -> 6600 | H22: =H23 -> 0
C23: ՀՀ Շիրակի մարզի Արթիկի բժշկական կենտրոնի կառուցում | D23: =E23+F23+G23+H23 -> 6600 | G23: 6600
C24: ՀՀ Արագածոտնի մարզ | D24: =E24+F24+G24+H24 -> 433852 | E24: =E25+E26 -> 206925 | F24: =F25+F26 -> 226927 | G24: =G25+G26 -> 0 | H24: =H25+H26 -> 0
C25: ՀՀ Արագածոտնի մարզի Թալինի բժշկական կենտրոնի վերակառուցում | D25: =E25+F25+G25+H25 -> 226927 | F25: 226927
C26: ՀՀ Արագածոտնի մարզի Ծաղկահովիտի առողջության կենտրոնի կառուցում | D26: =E26+F26+G26+H26 -> 206925 | E26: 206925
C27: ՀՀ Սյունիքի մարզ | D27: =E27+F27+G27+H27 -> 235260 | E27: =E28 -> 0 | F27: =F28 -> 235260 | G27: =G28 -> 0 | H27: =H28 -> 0
C28: ՀՀ Սյունիքի մարզի Սիսիանի բժշկական կենտրոնի վերակառուցում | D28: =E28+F28+G28+H28 -> 235260 | F28: 235260

Sheet 16
E1: Հավելված N 16
E2: ՀՀ կառավարության 2021 թվականի
E3: ______________ ի ___Ն որոշման
B5: ՀԱՅԱՍՏԱՆԻ ՀԱՆՐԱՊԵՏՈՒԹՅԱՆ ԿԱՌԱՎԱՐՈՒԹՅԱՆ 2020 ԹՎԱԿԱՆԻ ԴԵԿՏԵՄԲԵՐԻ 30-Ի N 2215-Ն ՈՐՈՇՄԱՆ N 5 ՀԱՎԵԼՎԱԾԻ N 2 ԱՂՅՈՒՍԱԿՈՒՄ ԿԱՏԱՐՎՈՂ ԼՐԱՑՈՒՄՆԵՐԸ
E6: հազար դրամներով
A7: Ծրագրային դասիչը | C7: Բյուջետային գլխավոր կարգադրիչների, ծրագրերի, միջոցառումների, միջոցառումները կատարող պետական մարմինների և ուղղությունների անվանումները | D7: Ցուցանիշների փոփոխությունը (ավելացումները նշված են դրական նշանով)
A8: Ծրագիր | B8: Միջոցառում
D9: առաջին կիսամյակ | E9: ինն ամիս | F9: տարի
C10: ԸՆԴԱՄԵՆԸ | D10: =D12 -> 313378.9 | E10: =E12 -> 1334198.6 | F10: =F12 -> 1726000
C11: այդ թվում`
C12: ՀՀ առողջապահության նախարարություն | D12: =D14 -> 313378.9 | E12: =E14 -> 1334198.6 | F12: =F14 -> 1726000
C13: այդ թվում`
A14: 1126 | B14: 31003 | C14: Առողջապահական կազմակերպությունների կառուցում, վերակառուցում | D14: =D16+D22+D37 -> 313378.9 | E14: =E16+E22+E37 -> 1334198.6 | F14: =F16+F22+F37 -> 1726000
C15: այդ թվում` ըստ կատարողների
C16: ՀՀ առողջապահության նախարարություն | D16: =D18+D20 -> 202754.7 | E16: =E18+E20 -> 729506 | F16: =F18+F20 -> 729506
C17: այդ թվում` ըստ ուղղությունների
C18: Երևան քաղաք | D18: =D19 -> 99901.2 | E18: =E19 -> 499506 | F18: =F19 -> 499506
C19: ՀՀ ԱՆ Հոգեկան առողջության պահպանման ազգային կենտրոն ՓԲԸ վերակառուցում | D19: 99901.2 | E19: 499506 | F19: 499506
C20: ՀՀ Սյունիքի մարզ | D20: =D21 -> 102853.5 | E20: =E21 -> 230000 | F20: =F21 -> 230000
C21: ՀՀ Սյունիքի մարզի Սիսիանի բժշկական կենտրոնի վերակառուցում | D21: 102853.5 | E21: 230000 | F21: 230000
C22: ՀՀ քաղաքաշինության կոմիտե | D22: =D24+D27+D30+D32+D35 -> 110624.2 | E22: =E24+E27+E30+E32+E35 -> 313125 | F22: =F24+F27+F30+F32+F35 -> 704926.4
C23: այդ թվում` ըստ ուղղությունների
C24: Երևան քաղաք | D24: =D25+D26 -> 31439 | E24: =E25+E26 -> 31439 | F24: =F25+F26 -> 31439
C25: «Ինֆեկցիոն հիվանդությունների ազգային կենտրոն» ՓԲԸ վերակառուցում | D25: 20925 | E25: 20925 | F25: 20925
C26: ՀՀ ԱՆ Հոգեկան առողջության պահպանման ազգային կենտրոն ՓԲԸ վերակառուցում | D26: 10514 | E26: 10514 | F26: 10514
C27: ՀՀ Կոտայքի մարզ | D27: =D28+D29 -> 30540 | E27: =E28+E29 -> 96285.2 | F27: =F28+F29 -> 227775.4
C28: ՀՀ Կոտայքի մարզի Եղվարդի (Նաիրի) բժշկական կենտրոնի կառուցում | D28: 8625 | E28: 8625 | F28: 8625
C29: ՀՀ Կոտայքի մարզի Չարենցավանի բժշկական կենտրոնի մասնակի վերանորոգման աշխատանքներ | D29: 21915 | E29: 87660.2 | F29: 219150.4
C30: ՀՀ Շիրակի մարզ | D30: =D31 -> 0 | E30: =E31 -> 6600 | F30: =F31 -> 6600
C31: ՀՀ Շիրակի մարզի Արթիկի բժշկական կենտրոնի կառուցում | E31: 6600 | F31: 6600
C32: ՀՀ Արագածոտնի մարզ | D32: =D33+D34 -> 43385.2 | E32: =E33+E34 -> 173540.8 | F32: =F33+F34 -> 433852
C33: ՀՀ Արագածոտնի մարզի Թալինի բժշկական կենտրոնի վերակառուցում | D33: 22692.7 | E33: 90770.8 | F33: 226927
C34: ՀՀ Արագածոտնի մարզի Ծաղկահովիտի առողջության կենտրոնի կառուցում | D34: 20692.5 | E34: 82770 | F34: 206925
C35: ՀՀ Սյունիքի մարզ | D35: =D36 -> 5260 | E35: =E36 -> 5260 | F35: =F36 -> 5260
C36: ՀՀ Սյունիքի մարզի Սիսիանի բժշկական կենտրոնի վերակառուցում | D36: 5260 | E36: 5260 | F36: 5260
C37: ՀՀ կառավարություն | D37: =D39 -> 0 | E37: =E39 -> 291567.6 | F37: =F39 -> 291567.6
C38: այդ թվում` ըստ ուղղությունների
C39: Երևան քաղաք | D39: =D40 -> 0 | E39: =E40 -> 291567.6 | F39: =F40 -> 291567.6
C40: «Ինֆեկցիոն հիվանդությունների ազգային կենտրոն» ՓԲԸ վերակառուցում | E40: 291567.6 | F40: 291567.6

Sheet 17
E1: Հավելված N 17
E2: ՀՀ կառավարության 2021 թվականի
E3: ______________ ի ___Ն որոշման
A5: ՀԱՅԱՍՏԱՆԻ ՀԱՆՐԱՊԵՏՈՒԹՅԱՆ ԿԱՌԱՎԱՐՈՒԹՅԱՆ 2020 ԹՎԱԿԱՆԻ ԴԵԿՏԵՄԲԵՐԻ 30-Ի № 2215-Ն ՈՐՈՇՄԱՆ N 10 ՀԱՎԵԼՎԱԾՈՒՄ ԿԱՏԱՐՎՈՂ ԼՐԱՑՈՒՄՆԵՐԸ
A7: Գնման առարկայի | C7: Գնման ձևը (ընթացակարգը) | D7: Չափի միավորը | E7: Միավորի գինը (դրամ) | F7: Քանակը | G7: Ցուցանիշների փոփոխությունը (ավելացումները նշված են դրական նշանով) (հազ. դրամ)
A8: Միջանցիկ կոդը` ըստ CPV դասակարգման | B8: անվանումը
A9: 1 | B9: 2 | C9: 3 | D9: 4 | E9: 5 | F9: 6 | G9: 7
A10: ՀՀ Քաղաքաշինության կոմիտե
A11: Բաժին 07 | B11: Խումբ 06 | D11: Դաս 02 | E11: Առողջապահության (այլ դասերին չպատկանող) | G11: =+G12 -> 704926.4
A12: 1126 31003 | B12: Առողջապահական կազմակերպությունների կառուցում, վերակառուցում | G12: =+G13+G17 -> 704926.4
B13: ՄԱՍ II. ԱՇԽԱՏԱՆՔՆԵՐ | G13: =SUM(G14:G16) -> 630008.2
A14: 45451700-504 | B14: վերակառուցման աշխատանքներ | C14: ԲՄ | D14: դրամ | E14: =+G14*1000 -> 220000000 | F14: 1 | G14: 220000
A15: 45211250-504 | B15: առողջապահության հետ կապված շենքերի կառուցման աշխատանքներ | C15: ԲՄ | D15: դրամ | E15: =+G15*1000 -> 210008200 | F15: 1 | G15: 210008.2
A16: 45211250-507 | B16: առողջապահության հետ կապված շենքերի կառուցման աշխատանքներ | C16: ԲՄ | D16: դրամ | E16: =+G16*1000 -> 200000000 | F16: 1 | G16: 200000
B17: ՄԱՍ III. ԾԱՌԱՅՈՒԹՅՈՒՆՆԵՐ | G17: =SUM(G18:G30) -> 74918.2
A18: 71351540-1 | B18: տեխնիկական հսկողության ծառայություններ | C18: ԳՀ | D18: դրամ | E18: =+G18*1000 -> 7685000 | F18: 1 | G18: 7685
A19: 71351540-2 | B19: տեխնիկական հսկողության ծառայություններ | C19: ԳՀ | D19: դրամ | E19: =+G19*1000 -> 5327000 | F19: 1 | G19: 5327
A20: 71351540-3 | B20: տեխնիկական հսկողության ծառայություններ | C20: ԳՀ | D20: դրամ | E20: =+G20*1000 -> 4025000 | F20: 1 | G20: 4025
A21: 71351540-4 | B21: տեխնիկական հսկողության ծառայություններ | C21: ԳՀ | D21: դրամ | E21: =+G21*1000 -> 7949700 | F21: 1 | G21: 7949.7
A22: 71351540-5 | B22: տեխնիկական հսկողության ծառայություններ | C22: ԳՀ | D22: դրամ | E22: =+G22*1000 -> 5770000 | F22: 1 | G22: 5770
A23: 98111140-1 | B23: հեղինակային հսկողության ծառայություններ | C23: ՄԱ | D23: դրամ | E23: =+G23*1000 -> 2829000 | F23: 1 | G23: 2829
A24: 98111140-2 | B24: հեղինակային հսկողության ծառայություններ | C24: ՄԱ | D24: դրամ | E24: =+G24*1000 -> 1600000 | F24: 1 | G24: 1600
A25: 98111140-3 | B25: հեղինակային հսկողության ծառայություններ | C25: ՄԱ | D25: դրամ | E25: =+G25*1000 -> 1235000 | F25: 1 | G25: 1235
A26: 98111140-4 | B26: հեղինակային հսկողության ծառայություններ | C26: ՄԱ | D26: դրամ | E26: =+G26*1000 -> 1192500 | F26: 1 | G26: 1192.5
A27: 98111140-5 | B27: հեղինակային հսկողության ծառայություններ | C27: ՄԱ | D27: դրամ | E27: =+G27*1000 -> 1155000 | F27: 1 | G27: 1155
A28: 71241200-1 | B28: նախագծերի պատրաստում, ծախսերի գնահատում | C28: ԳՀ | D28: դրամ | E28: =+G28*1000 -> 20925000 | F28: 1 | G28: 20925
A29: 71241200-2 | B29: նախագծերի պատրաստում, ծախսերի գնահատում | C29: ՄԱ | D29: դրամ | E29: =+G29*1000 -> 8625000 | F29: 1 | G29: 8625
A30: 71241200-3 | B30: նախագծերի պատրաստում, ծախսերի գնահատում | C30: ԳՀ | D30: դրամ | E30: =+G30*1000 -> 6600000 | F30: 1 | G30: 6600
A31: ՀՀ Առողջապահության նախարարություն
A32: Բաժին 07 | B32: Խումբ 06 | D32: Դաս 02 | E32: Առողջապահության (այլ դասերին չպատկանող) | G32: =+G33 -> 729506
A33: 1126 31003 | B33: Առողջապահական կազմակերպությունների կառուցում, վերակառուցում | G33: =+G34+G37 -> 729506
B34: ՄԱՍ II. ԱՇԽԱՏԱՆՔՆԵՐ | G34: =SUM(G35:G36) -> 729506
A35: 45451700-1 | B35: վերակառուցման աշխատանքներ | C35: ՀԲՄ | D35: դրամ | E35: =+G35*1000 -> 499506000 | F35: 1 | G35: 499506
A36: 45451700-2 | B36: վերակառուցման աշխատանքներ | C36: ՀԲՄ | D36: դրամ | E36: =+G36*1000 -> 230000000 | F36: 1 | G36: 230000

Sheet 18
A1: Հավելված N 18
A2: ՀՀ կառավարության 2021 թվականի
A3: ______________ ի ___Ն որոշման
A5: ՀԱՅԱՍՏԱՆԻ ՀԱՆՐԱՊԵՏՈՒԹՅԱՆ 2021 ԹՎԱԿԱՆԻ ՊԵՏԱԿԱՆ ԲՅՈՒՋԵՈՎ ՆԱԽԱՏԵՍՎԱԾ՝ ՀԱՅԱՍՏԱՆԻ ՀԱՆՐԱՊԵՏՈՒԹՅԱՆ ԿԱՌԱՎԱՐՈՒԹՅԱՆ ՊԱՀՈՒՍՏԱՅԻՆ ՖՈՆԴԻՑ ՀԱՏԿԱՑՈՒՄՆԵՐ ԿԱՏԱՐԵԼՈՒ ՎԵՐԱԲԵՐՅԱԼ
I7: հազ. դրամ
A8: Գործառական դասիչը | D8: Ծրագրային դասիչը | F8: Բյուջետային ծախսերի գործառական դասակարգման բաժինների, խմբերի և դասերի, բյուջետային հատկացումների գլխավոր կարգադրիչների, ծրագրերի, միջոցառումների և միջոցառումները կատարող պետական մարմինների անվանումները | G8: Ցուցանիշների փոփոխությունը (ավելացումները նշված են դրական նշանով, իսկ նվազեցումները` փակագծերում)
A9: Բաժին | B9: Խումբ | C9: Դաս | D9: Ծրագիր | E9: Միջոցա ռում | G9: Առաջին եռամսյակ | H9: Առաջին կիսամյակ | I9: Ինն ամիս | J9: Տարի
F10: ԸՆԴԱՄԵՆԸ ԾԱԽՍԵՐ | G10: =+G12+G28 -> 0 | H10: =+H12+H28 -> 0 | I10: =+I12+I28 -> 0 | J10: =+J12+J28 -> 0
F11: այդ թվում`
A12: 11 | F12: ՀԻՄՆԱԿԱՆ ԲԱԺԻՆՆԵՐԻՆ ՉԴԱՍՎՈՂ ՊԱՀՈՒՍՏԱՅԻՆ ՖՈՆԴԵՐ | G12: =+G14 -> 0 | H12: =+H14 -> -313378.9 | I12: =+I14 -> -1334198.6 | J12: =J14 -> -1726000
F13: այդ թվում`
B14: 01 | F14: ՀՀ կառավարության և համայնքների պահուստային ֆոնդ | G14: =+G16 -> 0 | H14: =+H16 -> -313378.9 | I14: =+I16 -> -1334198.6 | J14: =+J16 -> -1726000
F15: այդ թվում`
C16: 01 | F16: ՀՀ կառավարության պահուստային ֆոնդ | G16: =+G19 -> 0 | H16: =+H19 -> -313378.9 | I16: =+I19 -> -1334198.6 | J16: =+J19 -> -1726000
F17: այդ թվում`
F18: ՀՀ կառավարություն | G18: =+G19 -> 0 | H18: =+H19 -> -313378.9 | I18: =+I19 -> -1334198.6 | J18: =+J19 -> -1726000
D19: 1139 | F19: ՀՀ կառավարության պահուստային ֆոնդ | G19: =+G21 -> 0 | H19: =+H21 -> -313378.9 | I19: =+I21 -> -1334198.6 | J19: =+J21 -> -1726000
F20: այդ թվում`
E21: 11001 | F21: ՀՀ կառավարության պահուստային ֆոնդ | G21: =+G22 -> 0 | H21: =+H22 -> -313378.9 | I21: =+I22 -> -1334198.6 | J21: =+J22 -> -1726000
F22: ՀՀ կառավարություն | G22: =G24 -> 0 | H22: =H24 -> -313378.9 | I22: =I24 -> -1334198.6 | J22: =J24 -> -1726000
F23: այդ թվում` բյուջետային ծախսերի տնտեսագիտական դասակարգման հոդվածներ
F24: ԸՆԴԱՄԵՆԸ ԾԱԽՍԵՐ | G24: =G25 -> 0 | H24: =H25 -> -313378.9 | I24: =I25 -> -1334198.6 | J24: =J25 -> -1726000
F25: ԸՆԹԱՑԻԿ ԾԱԽՍԵՐ | G25: =G26 -> 0 | H25: =H26 -> -313378.9 | I25: =I26 -> -1334198.6 | J25: =J26 -> -1726000
F26: ԱՅԼ ԾԱԽՍԵՐ | G26: ='9'!G136 -> 0 | H26: =H27 -> -313378.9 | I26: =I27 -> -1334198.6 | J26: =J27 -> -1726000
F27: Պահուստային միջոցներ | G27: - | H27: -313378.9 | I27: -1334198.6 | J27: -1726000
F28: ՀՀ առողջապահության նախարարություն | H28: =H29 -> 313378.9 | I28: =I29 -> 1334198.6 | J28: =J29 -> 1726000
D29: 1126 | F29: Առողջապահության ոլորտում պետական քաղաքականության մշակում, ծրագրերի համակարգում և մոնիտորինգ | G29: =+G31+G47+G55 -> 0 | H29: =+H31 -> 313378.9 | I29: =+I31 -> 1334198.6 | J29: =+J31 -> 1726000
F30: այդ թվում`
E31: 31003 | F31: Առողջապահական կազմակերպությունների կառուցում, վերակառուցում | G31: =+G42 -> 0 | H31: =H33+H40+H50 -> 313378.9 | I31: =I33+I40+I50 -> 1334198.6 | J31: =J33+J40+J50 -> 1726000
F32: այդ թվում` ըստ կատարողների
F33: ՀՀ առողջապահության նախարարություն | H33: 202754.7 | I33: 729506 | J33: 729506
F34: այդ թվում` բյուջետային ծախսերի տնտեսագիտական դասակարգման հոդվածներ
F35: ԸՆԴԱՄԵՆԸ ԾԱԽՍԵՐ | H35: =H36 -> 76528 | I35: =I36 -> 298112 | J35: =J36 -> 745280
F36: ՈՉ ՖԻՆԱՆՍԱԿԱՆ ԱԿՏԻՎՆԵՐԻ ԳԾՈՎ ԾԱԽՍԵՐ | H36: =H37 -> 76528 | I36: =I37 -> 298112 | J36: =J37 -> 745280
F37: ՀԻՄՆԱԿԱՆ ՄԻՋՈՑՆԵՐ | H37: =H38 -> 76528 | I37: =I38 -> 298112 | J37: =J38 -> 745280
F38: ՇԵՆՔԵՐ ԵՎ ՇԻՆՈՒԹՅՈՒՆՆԵՐ | H38: =H39 -> 76528 | I38: =I39 -> 298112 | J38: =J39 -> 745280
F39: Շենքերի և շինությունների կապիտալ վերանորոգում | H39: 76528 | I39: 298112 | J39: 745280
F40: ՀՀ քաղաքաշինության կոմիտե | G40: =+G31 -> 0 | H40: =H42 -> 110624.2 | I40: =I42 -> 313125 | J40: =J42 -> 704926.4
F41: այդ թվում` բյուջետային ծախսերի տնտեսագիտական դասակարգման հոդվածներ
F42: ԸՆԴԱՄԵՆԸ ԾԱԽՍԵՐ | G42: =+G43 -> 0 | H42: =+H43 -> 110624.2 | I42: =+I43 -> 313125 | J42: =+J43 -> 704926.4
...
