Workbook
Name AgencyCode: #REF!
Name AgencyCode: #REF!
Name AgencyCode: #REF!
Name AgencyCode: #REF!
Name AgencyCode: #REF!
Name AgencyName: #REF!
Name AgencyName: #REF!
Name AgencyName: #REF!
Name AgencyName: #REF!
Name davit: #REF!
Name davit: #REF!
Name davit: #REF!
Name Functional1: #REF!
Name Functional1: #REF!
Name Functional1: #REF!
Name Functional1: #REF!
Name ggg: #REF!
Name ggg: #REF!
Name ggg: #REF!
Name PANature: #REF!
Name PANature: #REF!
Name PANature: #REF!
Name PANature: #REF!
Name PAType: #REF!
Name PAType: #REF!
Name PAType: #REF!
Name PAType: #REF!
Name Performance2: #REF!
Name Performance2: #REF!
Name Performance2: #REF!
Name Performance2: #REF!
Name PerformanceType: #REF!
Name PerformanceType: #REF!
Name PerformanceType: #REF!
Name PerformanceType: #REF!
Name Հավելված: #REF!
Name Հավելված: #REF!
Name Հավելված: #REF!
Name Մաս: #REF!
Name Մաս: #REF!
Name Մաս: #REF!
Name շախմատիստ: #REF!
Name շախմատիստ: #REF!
Name շախմատիստ: #REF!

Sheet Havelvats 1
D1: Հավելված N 1
D2: ՀՀ կառավարության 2021 թվականի
D3: ______________ ի ___Ն որոշման
A5: «ՀԱՅԱUՏԱՆԻ ՀԱՆՐԱՊԵՏՈՒԹՅԱՆ 2021 ԹՎԱԿԱՆԻ ՊԵՏԱԿԱՆ ԲՅՈՒՋԵԻ ՄԱUԻՆ» ՀԱՅԱUՏԱՆԻ ՀԱՆՐԱՊԵՏՈՒԹՅԱՆ OՐԵՆՔԻ N 1 ՀԱՎԵԼՎԱԾԻ N 2 ԱՂՅՈՒՍԱԿՈՒՄ ԿԱՏԱՐՎՈՂ ՎԵՐԱԲԱՇԽՈՒՄԸ ԵՎ ՀԱՅԱՍՏԱՆԻ ՀԱՆՐԱՊԵՏՈՒԹՅԱՆ ԿԱՌԱՎԱՐՈՒԹՅԱՆ 2020 ԹՎԱԿԱՆԻ ԴԵԿՏԵՄԲԵՐԻ 30-Ի N 2215-Ն ՈՐՈՇՄԱՆ N 5 ՀԱՎԵԼՎԱԾԻ N 1 ԱՂՅՈՒՍԱԿՈՒՄ ԿԱՏԱՐՎՈՂ ՓՈՓՈԽՈՒԹՅՈՒՆՆԵՐԸ ԵՎ ԼՐԱՑՈՒՄՆԵՐԸ
E7: հազ. դրամներով
A8: Ծրագրային դասիչը | C8: Բյուջետային հատկացումների գլխավոր կարգադրիչների, ծրագրերի և միջոցառումների անվանումները | D8: Ցուցանիշների փոփոխությունը (ավելացումները նշված են դրական նշանով, իսկ նվազեցումները՝ փակագծերում)
A9: Ծրագիր | B9: Միջոցառում | D9: Առաջին կիսամյակ | E9: Ինն ամիս | F9: Տարի
A10: 1192 | C10: ԸՆԴԱՄԵՆԸ | D10: =+D12+D177 -> 0 | E10: =+E12+E177 -> 0 | F10: =+F12+F177 -> 0
C11: այդ թվում
B12: ՀՀ Կրթության, գիտության, մշակույթի և սպորտի նախարարություն | D12: =D14+D51+D64+D77+D90+D103+D140+D159 -> 0 | E12: =E14+E51+E64+E77+E90+E103+E140+E159 -> 0 | F12: =F14+F51+F64+F77+F90+F103+F140+F159 -> 0
A13: 1045 | C13: Ծրագրի անվանումը`
C14: Նախնական (արհեստագործական) և միջին մասնագիտական կրթություն | D14: =+D21+D27+D33+D39+D45 -> -492120.8 | E14: =+E21+E27+E33+E39+E45 -> -496249.9 | F14: =+F21+F27+F33+F39+F45 -> -524528.3
C15: Ծրագրի նպատակը`
C16: Աշխատաշուկայի արդի պահանջներին համապատասխան նախնական մասնագիտական (արհեստագործական) և միջին մասնագիտական կրթության որակավորում ունեցող մասնագետների պատրաստում, կրթության մատչելիության ապահովում:
C17: Վերջնական արդյունքի նկարագրությունը`
C18: Նախնական (արհեստագործական) և միջին մասնագիտական կրթության գրավչության բարձրացում, մատչելի և մրցունակ նախնական (արհեստագործական) և միջին մասնագիտական կրթության ապահովում
C19: Ծրագրի միջոցառումներ
B20: 12001 | C20: Միջոցառման անվանումը`
C21: Նախնական մասնագիտական (արհեստագործական) կրթություն ստացող ուսանողների կրթաթոշակ | D21: =+'Havelvats 2 '!G120 -> -45922.6 | E21: =+'Havelvats 2 '!H120 -> -47294.9 | F21: =+'Havelvats 2 '!I120 -> -50000
C22: Միջոցառման նկարագրությունը`
C23: Նախնական մասնագիտական (արհեստագործական) կրթություն ստացող ուսանողներին կրթաթոշակի տրամադրում
C24: Միջոցառման տեսակը
C25: Տրանսֆերտների տրամադրում
B26: 12002 | C26: Միջոցառման անվանումը`
C27: Միջին մասնագիտական կրթություն ստացող ուսանողների կրթաթոշակ | D27: =+'Havelvats 2 '!G144 -> -124426.7 | E27: =+'Havelvats 2 '!H144 -> -124426.7 | F27: =+'Havelvats 2 '!I144 -> -150000
C28: Միջոցառման նկարագրությունը`
C29: Միջին մասնագիտական կրթություն ստացող ուսանողներին կրթաթոշակի տրամադրում
C30: Միջոցառման տեսակը
C31: Տրանսֆերտների տրամադրում
B32: 12003 | C32: Միջոցառման անվանումը`
C33: Նախնական մասնագիտական (արհեստագործական) կրթության գծով ուսանողական նպաստների տրամադրում | D33: =+'Havelvats 2 '!G129 -> -50000 | E33: =+'Havelvats 2 '!H129 -> -50000 | F33: =+'Havelvats 2 '!I129 -> -50000
C34: Միջոցառման նկարագրությունը`
C35: Նախնական մասնագիտական (արհեստագործական) կրթության գծով ուսանողական նպաստների տրամադրում
C36: Միջոցառման տեսակը
C37: Տրանսֆերտների տրամադրում
B38: 12004 | C38: Միջոցառման անվանումը`
C39: Միջին մասնագիտական կրթության գծով ուսանողական նպաստների տրամադրում | D39: =+'Havelvats 2 '!G153 -> -392389 | E39: =+'Havelvats 2 '!H153 -> -392389 | F39: =+'Havelvats 2 '!I153 -> -392389
C40: Միջոցառման նկարագրությունը`
C41: Միջին մասնագիտական կրթության գծով ուսանողական նպաստների տրամադրում
C42: Միջոցառման տեսակը
C43: Տրանսֆերտների տրամադրում
B44: 32001 | C44: Միջոցառման անվանումը`
C45: Նախնական մասնագիտական (արհեստագործական) և միջին մասնագիտական ուսումնական հաստատությունների շենքային պայմանների բարելավում | D45: =+'Havelvats 2 '!G187 -> 120617.5 | E45: =+'Havelvats 2 '!H187 -> 117860.7 | F45: =+'Havelvats 2 '!I187 -> 117860.7
C46: Միջոցառման նկարագրությունը`
C47: ՆՄՄԿՈՒ հաստատությունների շենքերի հիմնանորոգման և նախագծման (շինարարական աշխատանքներ, ջեռուցման համակարգի ստեղծում, ներքին հարդարում, տարածքի բարեկարգում) աշխատանքների իրականացում
C48: Միջոցառման տեսակը
C49: Այլ պետական կազմակերպությունների կողմից օգտագործվող ոչ ֆինանսական ակտիվների հետ գործառնություններ
A50: 1075 | C50: Ծրագրի անվանումը`
C51: Մշակութային ժառանգության ծրագիր | D51: =D58 -> 108499.7 | E51: =E58 -> 108499.7 | F51: =F58 -> 108499.7
C52: Ծրագրի նպատակը`
C53: Մշակութային ժառանգության պահպանում, օգտագործում, համալրում և հանրահռչակում
C54: Վերջնական արդյունքի նկարագրությունը`
C55: Մշակութային ժառանգության շարունակական պահպանում, մշակութային զբոսաշրջության զարգացում և խթանում
C56: Ծրագրի միջոցառումներ
B57: 32001 | C57: Միջոցառման անվանումը`
C58: Ներդրումներ թանգարանների և պատկերասրահների հիմնանորոգման համար | D58: =+'Havelvats 2 '!G77 -> 108499.7 | E58: =+'Havelvats 2 '!H77 -> 108499.7 | F58: =+'Havelvats 2 '!I77 -> 108499.7
C59: Միջոցառման նկարագրությունը`
C60: Թանգարանների և պատկերասրահների շենքերի՝ մասնաշենքերի հիմնանորոգում՝ համաշինարարական աշխատանքներ՝ ջեռուցման համակարգի իրականացում՝ ներքին հարդարում՝ տարածքի բարեկարգում և նախագծում
C61: Միջոցառման տեսակը
C62: Այլ պետական կազմակերպությունների կողմից օգտագործվող ոչ ֆինանսական ակտիվների հետ գործառնություններ
A63: 1111 | C63: Ծրագրի անվանումը`
C64: Բարձրագույն և հետբուհական մասնագիտական կրթության ծրագիր | D64: =+D71 -> 0 | E64: =+E71 -> -47000 | F64: =+F71 -> -94000
C65: Ծրագրի նպատակը`
C66: Ապահովել մատչելի, որակյալ և մրցունակ բարձրագույն և հետբուհական մասնագիտական կրթություն:
C67: Վերջնական արդյունքի նկարագրությունը`
C68: Գիտելիքների տնտեսության և գիտության զարգացման արդի պահանջներին համապատասխան բարձրագույն և հետբուհական մասնագիտական որակավորում ունեցող մասնագետների պատրաստում
C69: Ծրագրի միջոցառումներ
B70: 12009 | C70: Միջոցառման անվանումը`
C71: Աջակցություն արտասահմանում սովորող ուսանողներին | D71: =+'Havelvats 2 '!G207 -> 0 | E71: =+'Havelvats 2 '!H207 -> -47000 | F71: =+'Havelvats 2 '!I207 -> -94000
C72: Միջոցառման նկարագրությունը`
C73: Աջակցություն միջազգային վարկանշավորման ցանկերում ընդգրկված ԲՈՒՀ-երում սովորող ուսանողներին
C74: Միջոցառման տեսակը
C75: Տրանսֆերտների տրամադրում
A76: 1148 | C76: Ծրագրի անվանումը`
C77: Արտադպրոցական դաստիարակության ծրագիր | D77: =+D84 -> -47074 | E77: =+E84 -> -70611.1 | F77: =+F84 -> -70611.1
C78: Ծրագրի նպատակը`
C79: Նպաստել հանրակրթական ուսուցման համակարգում ընդգրկված երեխաների ֆիզիկական, հոգևոր և գեղագիտական զարգացմանը, բնապահպանական և կիրառական գիտելիքների ձեռքբերմանը
C80: Վերջնական արդյունքի նկարագրությունը`
C81: Ստեղծել պայմաններ սովորողների ազատ ժամանացի կազմակերպան միջոցով նրանց հետաքրքրությունների բացահայտման, ձևավորման և զարգացման համար
C82: Ծրագրի միջոցառումներ
B83: 11015 | C83: Միջոցառման անվանումը`
C84: Քո գիտությունը դպրոցում | D84: =+'Havelvats 2 '!G170 -> -47074 | E84: =+'Havelvats 2 '!H170 -> -70611.1 | F84: =+'Havelvats 2 '!I170 -> -70611.1
C85: Միջոցառման նկարագրությունը`
C86: Իրականացնել դպրոցականների գիտական մտածողության զարգացում, հարգանքի ու ակնածանքի ձևավորում դեպի գիտություն, գիտությունը որպես մեթոդաբանություն կիրառելու արվեստի զարգացում, ձևավորել սեր դեպի գիտական աշխատանք ու գիտություն
C87: Միջոցառման տեսակը
C88: Ծառայությունների մատուցում
A89: 1162 | C89: Ծրագրի անվանումը`
C90: Գիտական և գիտատեխնիկական հետազոտությունների ծրագիր | D90: =+D97 -> -7427.5 | E90: =+E97 -> -63840.8 | F90: =+F97 -> -203582.5
C91: Ծրագրի նպատակը`
C92: Գիտական և գիտատեխնիկական գործունեության հիմնարար, կիրառական և թեմատիկ հետազոտությունների իրականացում, ենթակառուցվածքի և ազգային արժեք ներկայացնող գիտական օբյեկտների պահպանում և զարգացում, գիտական ներուժի վերարտադրության ապահովում£
C93: Վերջնական արդյունքի նկարագրությունը`
C94: Գիտության և տեխնիկայի զարգացման գերակա ուղղությունների հետազոտությունների իրականացում, գիտական ներուժի զարգացում, ազգային արժեք ներկայացնող գիտական օբյեկտների պահպանում
C95: Ծրագրի միջոցառումներ
B96: 11005 | C96: Միջոցառման անվանումը`
C97: Գիտական և գիտատեխնիկական պայմանագրային (թեմատիկ) հետազոտություններ | D97: =+'Havelvats 2 '!G23 -> -7427.5 | E97: =+'Havelvats 2 '!H23 -> -63840.8 | F97: =+'Havelvats 2 '!I23 -> -203582.5
C98: Միջոցառման նկարագրությունը`
C99: Գիտական և գիտատեխնիկական գործունեության պայմանագրային (թեմատիկ) հետազոտություններ
C100: Միջոցառման տեսակը
C101: Ծառայությունների մատուցում
A102: 1163 | C102: Ծրագրի անվանումը`
...

Sheet Havelvats 2 
G1: Հավելված N 2
G2: ՀՀ կառավարության 2021 թվականի
G3: ______________ ի ___Ն որոշման
A5: ՀԱՅԱՍՏԱՆԻ ՀԱՆՐԱՊԵՏՈՒԹՅԱՆ ԿԱՌԱՎԱՐՈՒԹՅԱՆ 2020 ԹՎԱԿԱՆԻ ԴԵԿՏԵՄԲԵՐԻ 30-Ի N2215-Ն ՈՐՈՇՄԱՆ N 3 ԵՎ N 4 ՀԱՎԵԼՎԱԾՆԵՐՈՒՄ ԿԱՏԱՐՎՈՂ ՓՈՓՈԽՈՒԹՅՈՒՆՆԵՐԸ ԵՎ ԼՐԱՑՈՒՄՆԵՐԸ
H7: հազ. դրամներով
A8: Գործառական դասիչը | D8: Ծրագրային դասիչը | F8: Բյուջետային հատկացումների գլխավոր կարգադրիչների, ծրագրերի, միջոցառումների և միջոցառումները կատարող պետական մարմինների անվանումները | G8: Ցուցանիշների փոփոխությունը (ավելացումները նշված են դրական նշանով, իսկ նվազեցումները՝ փակագծերում)
A9: Բաժին | B9: Խումբ | C9: Դաս | D9: Ծրագիր | E9: Միջոցառում | G9: Առաջին կիսամյակ | H9: Ինն ամիս | I9: Տարի
F10: ԸՆԴԱՄԵՆԸ | G10: =+G12+G268 -> 0 | H10: =+H12+H268 -> 0 | I10: =+I12+I268 -> 0
F11: այդ թվում
F12: ՀՀ ԿՐԹՈՒԹՅԱՆ, ԳԻՏՈՒԹՅԱՆ, ՄՇԱԿՈՒՅԹԻ ԵՎ ՍՊՈՐՏԻ ՆԱԽԱՐԱՐՈՒԹՅՈՒՆ | G12: =+G13+G32+G110 -> 0 | H12: =+H13+H32+H110 -> 0 | I12: =+I13+I32+I110 -> 0
A13: 01 | E13: 11010 | F13: ԸՆԴՀԱՆՈՒՐ ԲՆՈՒՅԹԻ ՀԱՆՐԱՅԻՆ ԾԱՌԱՅՈՒԹՅՈՒՆՆԵՐ | G13: =+G15 -> -7427.5 | H13: =+H15 -> -63840.8 | I13: =+I15 -> -203582.5
F14: այդ թվում`
B15: 05 | F15: Ընդհանուր բնույթի հանրային ծառայությունների գծով հետազոտական և նախագծային աշխատանքներ | G15: =+G17 -> -7427.5 | H15: =+H17 -> -63840.8 | I15: =+I17 -> -203582.5
F16: այդ թվում`
C17: 01 | F17: Ընդհանուր բնույթի հանրային ծառայությունների գծով հետազոտական և նախագծային աշխատանքներ | G17: =+G19 -> -7427.5 | H17: =+H19 -> -63840.8 | I17: =+I19 -> -203582.5
F18: այդ թվում`
F19: ՀՀ կրթության, գիտության, մշակույթի և սպորտի նախարարություն | G19: =+G21 -> -7427.5 | H19: =+H21 -> -63840.8 | I19: =+I21 -> -203582.5
F20: այդ թվում`
D21: 1162 | E21: Գիտական և գիտատեխնիկական հետազոտությունների ծրագիր | G21: =+G23 -> -7427.5 | H21: =+H23 -> -63840.8 | I21: =+I23 -> -203582.5
E22: 11005 | F22: այդ թվում`
F23: Գիտական և գիտատեխնիկական պայմանագրային (թեմատիկ) հետազոտություններ | G23: =+G25 -> -7427.5 | H23: =+H25 -> -63840.8 | I23: =+I25 -> -203582.5
F24: այդ թվում` ըստ կատարողների
F25: ՀՀ կրթության, գիտության, մշակույթի և սպորտի նախարարության գիտության կոմիտե | G25: =+G27 -> -7427.5 | H25: =+H27 -> -63840.8 | I25: =+I27 -> -203582.5
F26: այդ թվում՝ բյուջետային ծախսերի տնտեսագիտական դասակարգման հոդվածներ
F27: ԸՆԴԱՄԵՆԸ ԾԱԽՍԵՐ | G27: =+G28 -> -7427.5 | H27: =+H28 -> -63840.8 | I27: =+I28 -> -203582.5
F28: ԸՆԹԱՑԻԿ ԾԱԽՍԵՐ | G28: =+G29 -> -7427.5 | H28: =+H29 -> -63840.8 | I28: =+I29 -> -203582.5
F29: ԴՐԱՄԱՇՆՈՐՀՆԵՐ | G29: =+G30 -> -7427.5 | H29: =+H30 -> -63840.8 | I29: =+I30 -> -203582.5
F30: Ընթացիկ դրամաշնորհներ պետական հատվածի այլ մակարդակներին | G30: =+G31 -> -7427.5 | H30: =+H31 -> -63840.8 | I30: =+I31 -> -203582.5
F31: - Այլ ընթացիկ դրամաշնորհներ | G31: -7427.5 | H31: -63840.8 | I31: -203582.5
A32: 08 | E32: 11010 | F32: ՀԱՆԳԻՍՏ, ՄՇԱԿՈՒՅԹ ԵՎ ԿՐՈՆ | G32: =+G34+G69 -> 150404.7 | H32: =+H34+H69 -> 131484.2 | I32: =+I34+I69 -> 96504.3
F33: այդ թվում`
B34: 01 | F34: Հանգստի և սպորտի ծառայություններ | G34: =+G36 -> -12596 | H34: =+H36 -> -31516.5 | I34: =+I36 -> -66496.4
F35: այդ թվում`
C36: 01 | F36: Հանգստի և սպորտի ծառայություններ | G36: =+G38 -> -12596 | H36: =+H38 -> -31516.5 | I36: =+I38 -> -66496.4
F37: այդ թվում`
F38: ՀՀ կրթության, գիտության, մշակույթի և սպորտի նախարարություն | G38: =+G40 -> -12596 | H38: =+H40 -> -31516.5 | I38: =+I40 -> -66496.4
F39: այդ թվում`
D40: 1163 | E40: Մասսայական սպորտ | G40: =+G42+G51+G60 -> -12596 | H40: =+H42+H51+H60 -> -31516.5 | I40: =+I42+I51+I60 -> -66496.4
E41: 11002 | F41: այդ թվում`
F42: «Լավագույն մարզական նախադպրոցական հաստատություն» մրցույթի անցկացում | G42: =+G44 -> 18920.5 | H42: =+H44 -> 0 | I42: =+I44 -> 0
F43: այդ թվում` ըստ կատարողների
F44: ՀՀ կրթության, գիտության, մշակույթի և սպորտի նախարարություն | G44: =+G46 -> 18920.5 | H44: =+H46 -> 0 | I44: =+I46 -> 0
F45: այդ թվում՝ բյուջետային ծախսերի տնտեսագիտական դասակարգման հոդվածներ
F46: ԸՆԴԱՄԵՆԸ ԾԱԽՍԵՐ | G46: =+G47 -> 18920.5 | H46: =+H47 -> 0 | I46: =+I47 -> 0
F47: ԸՆԹԱՑԻԿ ԾԱԽՍԵՐ | G47: =+G48 -> 18920.5 | H47: =+H48 -> 0 | I47: =+I48 -> 0
F48: ԾԱՌԱՅՈՒԹՅՈՒՆՆԵՐԻ ԵՎ ԱՊՐԱՆՔՆԵՐԻ ՁԵՌՔԲԵՐՈՒՄ | G48: =+G49 -> 18920.5 | H48: =+H49 -> 0 | I48: =+I49 -> 0
F49: Պայմանագրային այլ ծառայությունների ձեռքբերում | G49: =+G50 -> 18920.5 | H49: =+H50 -> 0 | I49: =+I50 -> 0
F50: - Ընդհանուր բնույթի այլ ծառայություններ | G50: 18920.5 | H50: 0 | I50: 0
E51: 11005 | F51: «Լավագույն մարզական նախադպրոցական հաստատություն» մրցույթի անցկացում | G51: =+G53 -> -18920.5 | H51: =+H53 -> -18920.5 | I51: =+I53 -> -18920.5
F52: այդ թվում` ըստ կատարողների
F53: ՀՀ կրթության, գիտության, մշակույթի և սպորտի նախարարություն | G53: =+G55 -> -18920.5 | H53: =+H55 -> -18920.5 | I53: =+I55 -> -18920.5
F54: այդ թվում՝ բյուջետային ծախսերի տնտեսագիտական դասակարգման հոդվածներ
F55: ԸՆԴԱՄԵՆԸ ԾԱԽՍԵՐ | G55: =+G56 -> -18920.5 | H55: =+H56 -> -18920.5 | I55: =+I56 -> -18920.5
F56: ԸՆԹԱՑԻԿ ԾԱԽՍԵՐ | G56: =+G57 -> -18920.5 | H56: =+H57 -> -18920.5 | I56: =+I57 -> -18920.5
F57: ԾԱՌԱՅՈՒԹՅՈՒՆՆԵՐԻ ԵՎ ԱՊՐԱՆՔՆԵՐԻ ՁԵՌՔԲԵՐՈՒՄ | G57: =+G58 -> -18920.5 | H57: =+H58 -> -18920.5 | I57: =+I58 -> -18920.5
F58: Պայմանագրային այլ ծառայությունների ձեռքբերում | G58: =+G59 -> -18920.5 | H58: =+H59 -> -18920.5 | I58: =+I59 -> -18920.5
F59: - Ընդհանուր բնույթի այլ ծառայություններ | G59: -18920.5 | H59: -18920.5 | I59: =+H59 -> -18920.5
E60: 11008 | F60: ՀՀ մարզերի, Երևան քաղաքի և ԱՀ հանրակրթական դպրոցների 8-12 դասարանների աշակերտների սպարտակիադայի անցկացում | G60: =+G62 -> -12596 | H60: =+H62 -> -12596 | I60: =+I62 -> -47575.9
F61: այդ թվում` ըստ կատարողների
F62: ՀՀ կրթության, գիտության, մշակույթի և սպորտի նախարարություն | G62: =+G64 -> -12596 | H62: =+H64 -> -12596 | I62: =+I64 -> -47575.9
F63: այդ թվում՝ բյուջետային ծախսերի տնտեսագիտական դասակարգման հոդվածներ
F64: ԸՆԴԱՄԵՆԸ ԾԱԽՍԵՐ | G64: =+G65 -> -12596 | H64: =+H65 -> -12596 | I64: =+I65 -> -47575.9
F65: ԸՆԹԱՑԻԿ ԾԱԽՍԵՐ | G65: =+G66 -> -12596 | H65: =+H66 -> -12596 | I65: =+I66 -> -47575.9
F66: ԾԱՌԱՅՈՒԹՅՈՒՆՆԵՐԻ ԵՎ ԱՊՐԱՆՔՆԵՐԻ ՁԵՌՔԲԵՐՈՒՄ | G66: =+G67 -> -12596 | H66: =+H67 -> -12596 | I66: =+I67 -> -47575.9
F67: Պայմանագրային այլ ծառայությունների ձեռքբերում | G67: =+G68 -> -12596 | H67: =+H68 -> -12596 | I67: =+I68 -> -47575.9
F68: - Ընդհանուր բնույթի այլ ծառայություններ | G68: -12596 | H68: =+G68 -> -12596 | I68: -47575.9
B69: 02 | F69: Մշակութային ծառայություններ | G69: =+G71+G86 -> 163000.7 | H69: =+H71+H86 -> 163000.7 | I69: =+I71+I86 -> 163000.7
F70: այդ թվում`
C71: 02 | F71: Թանգարաններ և ցուցասրահներ | G71: =+G73 -> 108499.7 | H71: =+H73 -> 108499.7 | I71: =+I73 -> 108499.7
F72: այդ թվում`
F73: ՀՀ կրթության, գիտության, մշակույթի և սպորտի նախարարություն | G73: =+G75 -> 108499.7 | H73: =+H75 -> 108499.7 | I73: =+I75 -> 108499.7
F74: այդ թվում`
D75: 1075 | E75: Մշակութային ժառանգության ծրագիր | G75: =+G77 -> 108499.7 | H75: =+H77 -> 108499.7 | I75: =+I77 -> 108499.7
E76: 32001 | F76: այդ թվում`
F77: Ներդրումներ թանգարանների և պատկերասրահների հիմնանորոգման համար | G77: =+G79 -> 108499.7 | H77: =+H79 -> 108499.7 | I77: =+I79 -> 108499.7
F78: այդ թվում` ըստ կատարողների
F79: ՀՀ կրթության, գիտության, մշակույթի և սպորտի նախարարություն | G79: =+G81 -> 108499.7 | H79: =+H81 -> 108499.7 | I79: =+I81 -> 108499.7
F80: այդ թվում՝ բյուջետային ծախսերի տնտեսագիտական դասակարգման հոդվածներ
F81: ԸՆԴԱՄԵՆԸ ԾԱԽՍԵՐ | G81: =+G82 -> 108499.7 | H81: =+H82 -> 108499.7 | I81: =+I82 -> 108499.7
F82: ՈՉ ՖԻՆԱՆՍԱԿԱՆ ԱԿՏԻՎՆԵՐԻ ԳԾՈՎ ԾԱԽՍԵՐ | G82: =+G83 -> 108499.7 | H82: =+H83 -> 108499.7 | I82: =+I83 -> 108499.7
F83: ՀԻՄՆԱԿԱՆ ՄԻՋՈՑՆԵՐ | G83: =+G84 -> 108499.7 | H83: =+H84 -> 108499.7 | I83: =+I84 -> 108499.7
F84: ՇԵՆՔԵՐ ԵՎ ՇԻՆՈՒԹՅՈՒՆՆԵՐ | G84: =+G85 -> 108499.7 | H84: =+H85 -> 108499.7 | I84: =+I85 -> 108499.7
F85: - Շենքերի և շինությունների կապիտալ վերանորոգում | G85: =+'Havelvats 4'!E34 -> 108499.7 | H85: =+'Havelvats 4'!F34 -> 108499.7 | I85: =+'Havelvats 4'!G34 -> 108499.7
C86: 05 | F86: Արվեստ | G86: =+G88 -> 54501 | H86: =+H88 -> 54501 | I86: =+I88 -> 54501
F87: այդ թվում`
F88: ՀՀ կրթության, գիտության, մշակույթի և սպորտի նախարարություն | G88: =+G90 -> 54501 | H88: =+H90 -> 54501 | I88: =+I90 -> 54501
F89: այդ թվում`
D90: 1168 | E90: Արվեստների ծրագիր | G90: =+G92+G101 -> 54501 | H90: =+H92+H101 -> 54501 | I90: =+I92+I101 -> 54501
E91: 11021 | F91: այդ թվում`
F92: Թատրոնների շենքերի ընթացիկ նորոգում | G92: =+G94 -> 4501 | H92: =+H94 -> 4501 | I92: =+I94 -> 4501
F93: այդ թվում` ըստ կատարողների
F94: ՀՀ կրթության, գիտության, մշակույթի և սպորտի նախարարություն | G94: =+G96 -> 4501 | H94: =+H96 -> 4501 | I94: =+I96 -> 4501
F95: այդ թվում՝ բյուջետային ծախսերի տնտեսագիտական դասակարգման հոդվածներ
F96: ԸՆԴԱՄԵՆԸ ԾԱԽՍԵՐ | G96: =+G97 -> 4501 | H96: =+H97 -> 4501 | I96: =+I97 -> 4501
F97: ԸՆԹԱՑԻԿ ԾԱԽՍԵՐ | G97: =+G98 -> 4501 | H97: =+H98 -> 4501 | I97: =+I98 -> 4501
F98: ԾԱՌԱՅՈՒԹՅՈՒՆՆԵՐԻ ԵՎ ԱՊՐԱՆՔՆԵՐԻ ՁԵՌՔ ԲԵՐՈՒՄ | G98: =+G99 -> 4501 | H98: =+H99 -> 4501 | I98: =+I99 -> 4501
F99: Ընթացիկ նորոգում և պահպանում (ծառայություններ և նյութեր) | G99: =+G100 -> 4501 | H99: =+H100 -> 4501 | I99: =+I100 -> 4501
F100: - Շենքերի և կառույցների ընթացիկ նորոգում և պահպանում | G100: 4501 | H100: 4501 | I100: 4501
E101: 32001 | F101: Ներդրումներ թատրոնների շենքերի կապիտալ վերանորոգման համար | G101: =+G103 -> 50000 | H101: =+H103 -> 50000 | I101: =+I103 -> 50000
F102: այդ թվում` ըստ կատարողների
...

Sheet Havelvats 3
F1: Հավելված N 3
F2: ՀՀ կառավարության 2021 թվականի
F3: ______________ ի ___Ն որոշման
A5: «ՀԱՅԱUՏԱՆԻ ՀԱՆՐԱՊԵՏՈՒԹՅԱՆ 2021 ԹՎԱԿԱՆԻ ՊԵՏԱԿԱՆ ԲՅՈՒՋԵԻ ՄԱUԻՆ» ՀԱՅԱUՏԱՆԻ ՀԱՆՐԱՊԵՏՈՒԹՅԱՆ OՐԵՆՔԻ N 1 ՀԱՎԵԼՎԱԾԻ N 3 ԱՂՅՈՒՍԱԿՈՒՄ ԿԱՏԱՐՎՈՂ ԼՐԱՑՈՒՄՆԵՐԸ
H8: հազ. դրամներով
A9: Ծրագրային դասիչ | C9: Բյուջետային գլխավոր կարգադրիչների, ծրագրերի, միջոցառումների և ուղղությունների անվանումները | D9: Ընդամենը, | E9: Ցուցանիշների փոփոխությունը (ավելացումները նշված են դրական նշանով)
A10: Ծրագիր | B10: Միջոցառում | E10: Կառուցման աշխատանքներ | F10: Վերակառուցման, վերանորոգման և վերականգնման աշխատանքներ | G10: Նախագծահե- տազոտական, գեոդեզիա- քարտեզագրա- կան աշխա- տանքներ | H10: Ոչ ֆինանսական այլ ակտիվների ձեռքբերում
C11: ԸՆԴԱՄԵՆԸ | D11: =SUM(E11:H11) -> 1072578 | E11: =+E13 -> 500462 | F11: =+F13 -> 476530.9 | G11: =+G13 -> 95585.1 | H11: =+H13 -> 0
C12: այդ թվում՝
C13: ՀՀ ԿՐԹՈՒԹՅԱՆ, ԳԻՏՈՒԹՅԱՆ, ՄՇԱԿՈՒՅԹԻ ԵՎ ՍՊՈՐՏԻ ՆԱԽԱՐԱՐՈՒԹՅՈՒՆ | D13: =SUM(E13:H13) -> 1072578 | E13: =+E15+E28+E32+E36+E42+E46+E82 -> 500462 | F13: =+F15+F28+F32+F36+F42+F46+F82 -> 476530.9 | G13: =+G15+G28+G32+G36+G42+G46+G82 -> 95585.1 | H13: =+H15+H28+H32+H36+H42+H46+H82 -> 0
C14: այդ թվում`
A15: 1045 | B15: 32001 | C15: Նախնական մասնագիտական (արհեստագործական) և միջին մասնագիտական ուսումնական հաստատությունների շենքային պայմանների բարելավում | D15: =+E15+F15+G15+H15 -> 117860.7 | E15: =+E17+E19+E22+E24+E26 -> 0 | F15: =+F17+F19+F22+F24+F26 -> 95860.7 | G15: =+G17+G19+G22+G24+G26 -> 22000 | H15: =+H17+H19+H22+H24+H26 -> 0
C16: այդ թվում`
C17: ՀՀ Արարատի մարզ | D17: =SUM(E17:H17) -> 16034.4 | E17: =+E18 -> 0 | F17: =+F18 -> 16034.4 | G17: =+G18 -> 0 | H17: =+H18 -> 0
C18: «Արարատի պետական բժշկական քոլեջ» ՊՈԱԿ | D18: =+E18+F18+G18+H18 -> 16034.4 | F18: 16034.4
C19: ՀՀ Լոռու մարզ | D19: =SUM(E19:H19) -> 62582.8 | E19: =+E20+E21 -> 0 | F19: =+F20+F21 -> 62582.8 | G19: =+G20+G21 -> 0 | H19: =+H20+H21 -> 0
C20: ք. Վանաձորի Միքայել Թավրիզյանի անվան արվեստի պետական քոլեջի վերակառուցում | D20: =+E20+F20+G20+H20 -> 57468.9 | F20: 57468.9
C21: «Ալավերդու պետական քոլեջ» ՊՈԱԿ | D21: =+E21+F21+G21+H21 -> 5113.9 | F21: =4671+442.9 -> 5113.9
C22: ՀՀ Կոտայքի մարզ | D22: =SUM(E22:H22) -> 1520.7 | E22: =+E23 -> 0 | F22: =+F23 -> 1520.7 | G22: =+G23 -> 0 | H22: =+H23 -> 0
C23: «Նոր Գեղիի ակադեմիկոս Գ. Աղաջանյանի անվան պետական գյուղատնտեսական քոլեջ» ՊՈԱԿ | D23: =+E23+F23+G23+H23 -> 1520.7 | F23: 1520.7 | G23: 0
C24: ՀՀ Սյունիքի մարզ | D24: =SUM(E24:H24) -> 15722.8 | E24: =+E25 -> 0 | F24: =+F25 -> 15722.8 | G24: =+G25 -> 0 | H24: =+H25 -> 0
C25: «Կապանի արվեստի պետական քոլեջ» ՊՈԱԿ | D25: =+E25+F25+G25+H25 -> 15722.8 | F25: 15722.8 | G25: 0
C26: ՀՀ Տավուշի մարզ | D26: =SUM(E26:H26) -> 22000 | E26: =+E27 -> 0 | F26: =+F27 -> 0 | G26: =+G27 -> 22000 | H26: =+H27 -> 0
C27: Նոյեմբերյանի պետական քոլեջ | D27: =+E27+F27+G27+H27 -> 22000 | G27: 22000
A28: 1075 | B28: 32001 | C28: Ներդրումներ թանգարանների և պատկերասրահների հիմնանորոգման համար | D28: =+E28+F28+G28+H28 -> 108499.7 | E28: =+E30 -> 0 | F28: =+F30 -> 108499.7 | G28: =+G30 -> 0 | H28: =+H30 -> 0
C29: այդ թվում`
C30: Երևան քաղաք | D30: =SUM(E30:H30) -> 108499.7 | E30: =+E31 -> 0 | F30: =+F31 -> 108499.7 | G30: =+G31 -> 0 | H30: =+H31 -> 0
C31: «Հայաստանի պատմության թանգարան» ՊՈԱԿ | D31: =+E31+F31+G31+H31 -> 108499.7 | E31: 0 | F31: 108499.7
A32: 1163 | B32: 12001 | C32: Աջակցություն համայնքներին մարզական հաստատությունների շենքային պայմանների բարելավման համար | D32: =+E32+F32+G32+H32 -> 500000 | E32: =+E34 -> 500000 | F32: =+F34 -> 0 | G32: =+G34 -> 0 | H32: =+H34 -> 0
C33: այդ թվում`
C34: ՀՀ Շիրակի մարզ | D34: =SUM(E34:H34) -> 500000 | E34: =+E35 -> 500000 | G34: =+G35 -> 0
C35: «Արթուր Ալեքսանյանի անվան հունահռոմեական ըմբշամարտի մանկապատանեկան դպրոց» նոր սպորտային համալիր | D35: =+E35+F35+G35+H35 -> 500000 | E35: 500000
A36: 1163 | B36: 32001 | C36: Մարզական օբյեկտների շինարարություն | D36: =+E36+F36+G36+H36 -> 4747.1 | E36: =+E38+E40 -> 462 | F36: =+F38+F40 -> 0 | G36: =+G38+G40 -> 4285.1 | H36: =+H38+H40 -> 0
C37: այդ թվում`
C38: Երևան քաղաք | D38: =SUM(E38:H38) -> 462 | E38: =+E39 -> 462 | F38: =+F39 -> 0 | G38: =+G39 -> 0 | H38: =+H39 -> 0
C39: Օլիմպիական հերթափոխի պետական մարզական քոլեջի հանրակացարանային նոր մասնաշենք | D39: =+E39+F39+G39+H39 -> 462 | E39: 462
C40: ՀՀ Արմավիրի մարզ | D40: =SUM(E40:H40) -> 4285.1 | E40: =+E41 -> 0 | F40: =+F41 -> 0 | G40: =+G41 -> 4285.1 | H40: =+H41 -> 0
C41: Ջրառատ համայնքում ծանրամարտի մարզադահլիճ | D41: =+E41+F41+G41+H41 -> 4285.1 | G41: 4285.1
A42: 1168 | B42: 32001 | C42: Ներդրումներ թատրոնների շենքերի կապիտալ վերանորոգման համար | D42: =+E42+F42+G42+H42 -> 50000 | E42: =+E44 -> 0 | F42: =+F44 -> 50000 | G42: =+G44 -> 0 | H42: =+H44 -> 0
C43: այդ թվում`
C44: Երևան քաղաք | D44: =SUM(E44:H44) -> 50000 | E44: =+E45 -> 0 | F44: =+F45 -> 50000 | G44: =+G45 -> 0 | H44: =+H45 -> 0
C45: Երևանի մնջախաղի պետական թատրոնի շենքի վերակառուցում | D45: =+E45+F45+G45+H45 -> 50000 | E45: 0 | F45: 50000
A46: 1183 | B46: 32001 | C46: Կրթական օբյեկտների շենքային պայմանների բարելավում | D46: =+E46+F46+G46+H46 -> 242983.2 | E46: =+E48+E64+E67+E69+E71+E73 -> 0 | F46: =+F48+F64+F67+F69+F71+F73 -> 173683.2 | G46: =+G48+G64+G67+G69+G71+G73 -> 69300 | H46: =+H48+H64+H67+H69+H71+H73 -> 0
C47: այդ թվում`
C48: Երևան քաղաք | D48: =SUM(E48:H48) -> 184589.1 | E48: =SUM(E49:E63) -> 0 | F48: =SUM(F49:F63) -> 163889.1 | G48: =SUM(G49:G63) -> 20700 | H48: =SUM(H49:H63) -> 0
C49: «Երևանի Լեոյի անվան հ. 65 ավագ դպրոց» ՊՈԱԿ | D49: =+E49+F49+G49+H49 -> 20700 | E49: 0 | G49: 20700
C50: թիվ 22 հիմնական դպրոց | D50: =+E50+F50+G50+H50 -> 136732.1 | F50: 136732.1
C51: Մ. Խորենացու անվան թիվ 143 հիմնական դպրոց | D51: =+E51+F51+G51+H51 -> 138.9 | F51: 138.9
C52: Երևանի թիվ 191 դպրոց | D52: =+E52+F52+G52+H52 -> 26013.1 | F52: 26013.1
C53: «Երևանի Հենրիկ Խաչատրյանի անվան հ. 199 հիմնական դպրոց» ՊՈԱԿ | D53: =+E53+F53+G53+H53 -> 123 | F53: 123
C54: «Երևանի Մ. Սարյանի անվան հ. 86 հիմնական դպրոց» ՊՈԱԿ | D54: =+E54+F54+G54+H54 -> 113 | F54: 113
C55: «Երևանի Ստեփան Շահումյանի անվան հ. 1 հիմնական դպրոց» ՊՈԱԿ | D55: =+E55+F55+G55+H55 -> 136 | F55: 136
C56: «Երևանի հ. 136 հիմնական դպրոց» ՊՈԱԿ | D56: =+E56+F56+G56+H56 -> 79 | F56: 79
C57: Երևանի «Սիլվա Կապուտիկյանի անվան հ. 145 հիմնական դպրոց» ՊՈԱԿ | D57: =+E57+F57+G57+H57 -> 96 | F57: 96
C58: «Երևանի Հ. Օշականի անվան հ. 172 հիմնական դպրոց» ՊՈԱԿ | D58: =+E58+F58+G58+H58 -> 94 | F58: 94
C59: «Երևանի Ղ. Աղայանի անվան հ. 63 հիմնական դպրոց» ՊՈԱԿ | D59: =+E59+F59+G59+H59 -> 65 | F59: 65
C60: «Երևանի Ռուբեն Սևակի անվան հ. 151 հիմնական դպրոց» ՊՈԱԿ | D60: =+E60+F60+G60+H60 -> 46 | F60: 46
C61: «Երևանի Վ.Վաղարշյանի անվան հ. 80 հիմնական դպրոց» ՊՈԱԿ | D61: =+E61+F61+G61+H61 -> 47 | F61: 47
... C63: «Երևանի հ. 156 հիմնական դպրոց» ՊՈԱԿ | D63: =+E63+F63+G63+H63 -> 125 | F63: 125
C64: ՀՀ Արարատի մարզ | D64: =SUM(E64:H64) -> 30225 | E64: =+E65+E66 -> 0 | F64: =+F65+F66 -> 0 | G64: =+G65+G66 -> 30225 | H64: =+H65+H66 -> 0
C65: «Վեդիի ավագ դպրոց» ՊՈԱԿ | D65: =+E65+F65+G65+H65 -> 18600 | G65: 18600
C66: «Բարձրաշենի միջնակարգ դպրոց» | D66: =+E66+F66+G66+H66 -> 11625 | G66: 11625
C67: ՀՀ Արմավիրի մարզ | D67: =SUM(E67:H67) -> 12525 | E67: =+E68 -> 0 | F67: =+F68 -> 0 | G67: =+G68 -> 12525 | H67: =+H68 -> 0
C68: «Վաղարշապատի Մովսես Խորենացու անվան N10 ավագ դպրոց» ՊՈԱԿ | D68: =+E68+F68+G68+H68 -> 12525 | G68: 12525
C69: ՀՀ Գեղարքունիքի մարզ | D69: =SUM(E69:H69) -> 5850 | E69: =+E70 -> 0 | F69: =+F70 -> 0 | G69: =+G70 -> 5850 | H69: =+H70 -> 0
C70: «Վարդենիսի Հ. Համբարձումյանի անվան ավագ դպրոց» ՊՈԱԿ | D70: =+E70+F70+G70+H70 -> 5850 | G70: 5850
C71: ՀՀ Լոռու մարզ | D71: =SUM(E71:H71) -> 83 | E71: =+E72 -> 0 | F71: =+F72 -> 83 | G71: =+G72 -> 0 | H71: =+H72 -> 0
C72: «Հայաստանի Հանրապետության Լոռու մարզի Սպիտակի Անանիա Շիրակացու անվան N 8 միջնակարգ դպրոց» ՊՈԱԿ | D72: =+E72+F72+G72+H72 -> 83 | F72: 83 | G72: 0
C73: ՀՀ Սյունիքի մարզ | D73: =SUM(E73:H73) -> 9711.1 | E73: =SUM(E74:E81) -> 0 | F73: =SUM(F74:F81) -> 9711.1 | G73: =SUM(G74:G81) -> 0 | H73: =SUM(H74:H81) -> 0
C74: «Քաջարանի թիվ 5 միջնակարգ դպրոց» ՊՈԱԿ | D74: =+E74+F74+G74+H74 -> 70 | F74: 70
C75: «Սպանդարյանի միջնակարգ դպրոց» ՊՈԱԿ | D75: =+E75+F75+G75+H75 -> 2176.2 | F75: 2176.2
C76: «Ա. Սարգսյանի անվան Տեղի N 1 միջնակարգ դպրոց» ՊՈԱԿ | D76: =+E76+F76+G76+H76 -> 628.7 | F76: 628.7
C77: «Հրանտ Ոսկանյանի անվան Կապանի թիվ 12 հիմնական դպրոց» ՊՈԱԿ | D77: =+E77+F77+G77+H77 -> 741.8 | F77: 741.8
C78: «Եղվարդի միջնակարգ դպրոց» ՊՈԱԿ | D78: =+E78+F78+G78+H78 -> 2908.7 | F78: 2908.7
C79: «Սիսիանի N 5 հիմնական դպրոց» ՊՈԱԿ | D79: =+E79+F79+G79+H79 -> 781.6 | F79: 781.6
C80: «Սիսիանի N 2 հիմնական դպրոց» ՊՈԱԿ | D80: =+E80+F80+G80+H80 -> 108 | F80: 108
C81: «Սիսիանի N 1 հիմնական դպրոց» ՊՈԱԿ | D81: =+E81+F81+G81+H81 -> 2296.1 | F81: 2296.1
A82: 1183 | B82: 32004 | C82: Ավագ մակարդակի կրթություն իրականացնող ուսումնական հաստատությունների շենքային պայմանների բարելավում | D82: =+E82+F82+G82+H82 -> 48487.3 | E82: =+E84+E86+E88+E91 -> 0 | F82: =+F84+F86+F88+F91 -> 48487.3 | G82: =+G84+G86+G88+G91 -> 0 | H82: =+H84+H86+H88+H91 -> 0
C83: այդ թվում`
C84: ՀՀ Լոռու մարզ | D84: =SUM(E84:H84) -> 18218.3 | E84: =+E85 -> 0 | F84: =+F85 -> 18218.3 | G84: =+G85 -> 0 | H84: =+H85 -> 0
C85: «Տաշիրի Արտակ Խաչատրյանի անվան ավագ դպրոց» ՊՈԱԿ | D85: =+E85+F85+G85+H85 -> 18218.3 | E85: 0 | F85: 18218.3 | G85: 0
C86: ՀՀ Կոտայքի մարզ | D86: =+E86+F86+G86+H86 -> 380 | E86: =+E87 -> 0 | F86: =+F87 -> 380 | G86: =+G87 -> 0 | H86: =+H87 -> 0
C87: «Եղվարդի N1 ավագ դպրոց» ՊՈԱԿ | D87: =+E87+F87+G87+H87 -> 380 | F87: 380
C88: ՀՀ Շիրակի մարզ | D88: =+E88+F88+G88+H88 -> 17689.6 | E88: =+E89+E90 -> 0 | F88: =+F89+F90 -> 17689.6 | G88: =+G89+G90 -> 0 | H88: =+H89+H90 -> 0
C89: «Գյումրու համար 26 ավագ դպրոց» ՊՈԱԿ | D89: =+E89+F89+G89+H89 -> 12186.4 | F89: 12186.4
C90: «Շիրակի Մ. Նալբանդյանի անվան պետական համալսարան» հիմնադրամի ավագ դպրոց | D90: =+E90+F90+G90+H90 -> 5503.2 | F90: 5503.2
C91: ՀՀ Տավուշի մարզ | D91: =+E91+F91+G91+H91 -> 12199.4 | E91: =+E92 -> 0 | F91: =+F92 -> 12199.4 | G91: =+G92 -> 0 | H91: =+H92 -> 0
C92: «Իջևանի Գառնիկ Անանյանի անվան ավագ դպրոց» ՊՈԱԿ | D92: =+E92+F92+G92+H92 -> 12199.4 | F92: 12199.4

Sheet Havelvats 4
E1: Հավելված N 4
E2: ՀՀ կառավարության 2021 թվականի
E3: ______________ ի ___Ն որոշման
B5: ՀԱՅԱՍՏԱՆԻ ՀԱՆՐԱՊԵՏՈՒԹՅԱՆ ԿԱՌԱՎԱՐՈՒԹՅԱՆ 2020 ԹՎԱԿԱՆԻ ԴԵԿՏԵՄԲԵՐԻ 30-Ի N 2215-Ն ՈՐՈՇՄԱՆ N 5 ՀԱՎԵԼՎԱԾԻ N 2 ԱՂՅՈՒՍԱԿՈՒՄ ԿԱՏԱՐՎՈՂ ԼՐԱՑՈՒՄՆԵՐԸ
G7: հազ. դրամներով
B8: Ծրագրային դասիչ | D8: Բյուջետային գլխավոր կարգադրիչների, ծրագրերի, միջոցառումների, միջոցառումները կատարող պետական մարմինների և ուղղությունների անվանումները | E8: Ցուցանիշների փոփոխությունը (ավելացումները նշված են դրական նշանով)
B9: Ծրագիր | C9: Միջոցառում | E9: Առաջին կիսամյակ | F9: Ինն ամիս | G9: Տարի
D11: ՀՀ ԿՐԹՈՒԹՅԱՆ, ԳԻՏՈՒԹՅԱՆ, ՄՇԱԿՈՒՅԹԻ ԵՎ ՍՊՈՐՏԻ ՆԱԽԱՐԱՐՈՒԹՅՈՒՆ | E11: =+E13+E32+E38+E44+E52+E58+E99 -> 675334.8 | F11: =+F13+F32+F38+F44+F52+F58+F99 -> 822578 | G11: =+G13+G32+G38+G44+G52+G58+G99 -> 1072578
D12: այդ թվում՝
B13: 1045 | C13: 32001 | D13: Նախնական մասնագիտական (արհեստագործական) և միջին մասնագիտական ուսումնական հաստատությունների շենքային պայմանների բարելավում | E13: =+E15+E23 -> 120617.5 | F13: =+F15+F23 -> 117860.7 | G13: =+G15+G23 -> 117860.7
D14: այդ թվում` ըստ կատարողների
D15: ՀՀ կրթության, գիտության, մշակույթի և սպորտի նախարարություն | E15: =+E17+E19+E21 -> 36871.1 | F15: =+F17+F19+F21 -> 36871.1 | G15: =+G17+G19+G21 -> 36871.1
D16: այդ թվում` ըստ ուղղությունների
D17: ՀՀ Արարատի մարզ | E17: =+E18 -> 16034.4 | F17: =+F18 -> 16034.4 | G17: =+G18 -> 16034.4
D18: «Արարատի պետական բժշկական քոլեջ» ՊՈԱԿ | E18: =+'Havelvats 3'!D18 -> 16034.4 | F18: =+E18 -> 16034.4 | G18: =+F18 -> 16034.4
D19: ՀՀ Լոռու մարզ | E19: =+E20 -> 5113.9 | F19: =+F20 -> 5113.9 | G19: =+G20 -> 5113.9
D20: «Ալավերդու պետական քոլեջ» ՊՈԱԿ | E20: =+'Havelvats 3'!D21 -> 5113.9 | F20: =+E20 -> 5113.9 | G20: =+F20 -> 5113.9
D21: ՀՀ Սյունիքի մարզ | E21: =+E22 -> 15722.8 | F21: =+F22 -> 15722.8 | G21: =+G22 -> 15722.8
D22: «Կապանի արվեստի պետական քոլեջ» ՊՈԱԿ | E22: =+'Havelvats 3'!D25 -> 15722.8 | F22: =+E22 -> 15722.8 | G22: =+F22 -> 15722.8
D23: ՀՀ քաղաքաշինության կոմիտե | E23: =+E25+E28+E30 -> 83746.4 | F23: =+F25+F28+F30 -> 80989.6 | G23: =+G25+G28+G30 -> 80989.6
D24: այդ թվում` ըստ ուղղությունների
D25: ՀՀ Լոռու մարզ | E25: =+E26+E27 -> 60225.7 | F25: =+F26+F27 -> 57468.9 | G25: =+G26+G27 -> 57468.9
D26: ք. Վանաձորի Միքայել Թավրիզյանի անվան արվեստի պետական քոլեջի վերակառուցում | E26: =+'Havelvats 3'!D20 -> 57468.9 | F26: =+E26 -> 57468.9 | G26: =+F26 -> 57468.9
D27: ք. Վանաձորի գյուղատնտեսական պետական քոլեջի վերակառուցում | E27: 2756.8
D28: ՀՀ Կոտայքի մարզ | E28: =+E29 -> 1520.7 | F28: =+F29 -> 1520.7 | G28: =+G29 -> 1520.7
D29: «Նոր Գեղիի ակադեմիկոս Գ. Աղաջանյանի անվան պետական գյուղատնտեսական քոլեջ» ՊՈԱԿ | E29: =+'Havelvats 3'!D23 -> 1520.7 | F29: =+E29 -> 1520.7 | G29: =+F29 -> 1520.7
D30: ՀՀ Տավուշի մարզ | E30: =+E31 -> 22000 | F30: =+F31 -> 22000 | G30: =+G31 -> 22000
D31: Նոյեմբերյանի պետական քոլեջ | E31: =+'Havelvats 3'!D27 -> 22000 | F31: =+E31 -> 22000 | G31: =+F31 -> 22000
B32: 1075 | C32: 32001 | D32: Ներդրումներ թանգարանների և պատկերասրահների հիմնանորոգման համար | E32: =+E34 -> 108499.7 | F32: =+F34 -> 108499.7 | G32: =+G34 -> 108499.7
D33: այդ թվում` ըստ կատարողների
D34: ՀՀ կրթության, գիտության, մշակույթի և սպորտի նախարարություն | E34: =+E36 -> 108499.7 | F34: =+F36 -> 108499.7 | G34: =+G36 -> 108499.7
D35: այդ թվում` ըստ ուղղությունների
D36: Երևան քաղաք | E36: =+E37 -> 108499.7 | F36: =+F37 -> 108499.7 | G36: =+G37 -> 108499.7
D37: «Հայաստանի պատմության թանգարան» ՊՈԱԿ | E37: =+'Havelvats 3'!D31 -> 108499.7 | F37: =+E37 -> 108499.7 | G37: =+F37 -> 108499.7
B38: 1163 | C38: 12001 | D38: Աջակցություն համայնքներին մարզական հաստատությունների շենքային պայմանների բարելավման համար | E38: =+E40 -> 100000 | F38: =+F40 -> 250000 | G38: =+G40 -> 500000
D39: այդ թվում` ըստ կատարողների
D40: ՀՀ քաղաքաշինության կոմիտե | E40: =+E42 -> 100000 | F40: =+F42 -> 250000 | G40: =+G42 -> 500000
D41: այդ թվում` ըստ ուղղությունների
D42: ՀՀ Շիրակի մարզ | E42: =+E43 -> 100000 | F42: =+F43 -> 250000 | G42: =+G43 -> 500000
D43: «Արթուր Ալեքսանյանի անվան հունահռոմեական ըմբշամարտի մանկապատանեկան դպրոց» նոր սպորտային համալիր | E43: 100000 | F43: 250000 | G43: 500000
B44: 1163 | C44: 32001 | D44: Մարզական օբյեկտների շինարարություն | E44: =+E46 -> 4747.1 | F44: =+F46 -> 4747.1 | G44: =+G46 -> 4747.1
D45: այդ թվում` ըստ կատարողների
D46: ՀՀ քաղաքաշինության կոմիտե | E46: =+E48+E50 -> 4747.1 | F46: =+F48+F50 -> 4747.1 | G46: =+G48+G50 -> 4747.1
D47: այդ թվում` ըստ ուղղությունների
D48: Երևան քաղաք | E48: =+E49 -> 462 | F48: =+F49 -> 462 | G48: =+G49 -> 462
D49: Օլիմպիական հերթափոխի պետական մարզական քոլեջի հանրակացարանային նոր մասնաշենք | E49: =+'Havelvats 3'!D39 -> 462 | F49: =+E49 -> 462 | G49: =+F49 -> 462
D50: ՀՀ Արմավիրի մարզ | E50: =+E51 -> 4285.1 | F50: =+F51 -> 4285.1 | G50: =+G51 -> 4285.1
D51: Ջրառատ համայնքում ծանրամարտի մարզադահլիճ | E51: =+'Havelvats 3'!D41 -> 4285.1 | F51: =+E51 -> 4285.1 | G51: =+F51 -> 4285.1
B52: 1168 | C52: 32001 | D52: Ներդրումներ թատրոնների շենքերի կապիտալ վերանորոգման համար | E52: =+E54 -> 50000 | F52: =+F54 -> 50000 | G52: =+G54 -> 50000
D53: այդ թվում` ըստ կատարողների
D54: ՀՀ քաղաքաշինության կոմիտե | E54: =+E56 -> 50000 | F54: =+F56 -> 50000 | G54: =+G56 -> 50000
D55: այդ թվում` ըստ ուղղությունների
D56: Երևան քաղաք | E56: =+E57 -> 50000 | F56: =+F57 -> 50000 | G56: =+G57 -> 50000
D57: Երևանի մնջախաղի պետական թատրոնի շենքի վերակառուցում | E57: =+'Havelvats 3'!D45 -> 50000 | F57: =+E57 -> 50000 | G57: =+F57 -> 50000
B58: 1183 | C58: 32001 | D58: Կրթական օբյեկտների շենքային պայմանների բարելավում | E58: =+E60+E85 -> 242983.2 | F58: =+F60+F85 -> 242983.2 | G58: =+G60+G85 -> 242983.2
D59: այդ թվում` ըստ կատարողների
D60: ՀՀ կրթության, գիտության, մշակույթի և սպորտի նախարարություն | E60: =+E62+E74+E76 -> 10799.1 | F60: =+F62+F74+F76 -> 10799.1 | G60: =+G62+G74+G76 -> 10799.1
D61: այդ թվում` ըստ ուղղությունների
D62: Երևան քաղաք | E62: =SUM(E63:E73) -> 1005 | F62: =SUM(F63:F73) -> 1005 | G62: =SUM(G63:G73) -> 1005
D63: «Երևանի Հենրիկ Խաչատրյանի անվան հ. 199 հիմնական դպրոց» ՊՈԱԿ | E63: =+'Havelvats 3'!D53 -> 123 | F63: =+E63 -> 123 | G63: =+F63 -> 123
D64: «Երևանի Մ. Սարյանի անվան հ. 86 հիմնական դպրոց» ՊՈԱԿ | E64: =+'Havelvats 3'!D54 -> 113 | F64: =+E64 -> 113 | G64: =+F64 -> 113
D65: «Երևանի Ստեփան Շահումյանի անվան հ. 1 հիմնական դպրոց» ՊՈԱԿ | E65: =+'Havelvats 3'!D55 -> 136 | F65: =+E65 -> 136 | G65: =+F65 -> 136
D66: «Երևանի հ. 136 հիմնական դպրոց» ՊՈԱԿ | E66: =+'Havelvats 3'!D56 -> 79 | F66: =+E66 -> 79 | G66: =+F66 -> 79
D67: Երևանի «Սիլվա Կապուտիկյանի անվան հ. 145 հիմնական դպրոց» ՊՈԱԿ | E67: =+'Havelvats 3'!D57 -> 96 | F67: =+E67 -> 96 | G67: =+F67 -> 96
D68: «Երևանի Հ. Օշականի անվան հ. 172 հիմնական դպրոց» ՊՈԱԿ | E68: =+'Havelvats 3'!D58 -> 94 | F68: =+E68 -> 94 | G68: =+F68 -> 94
D69: «Երևանի Ղ. Աղայանի անվան հ. 63 հիմնական դպրոց» ՊՈԱԿ | E69: =+'Havelvats 3'!D59 -> 65 | F69: =+E69 -> 65 | G69: =+F69 -> 65
D70: «Երևանի Ռուբեն Սևակի անվան հ. 151 հիմնական դպրոց» ՊՈԱԿ | E70: =+'Havelvats 3'!D60 -> 46 | F70: =+E70 -> 46 | G70: =+F70 -> 46
D71: «Երևանի Վ.Վաղարշյանի անվան հ. 80 հիմնական դպրոց» ՊՈԱԿ | E71: =+'Havelvats 3'!D61 -> 47 | F71: =+E71 -> 47 | G71: =+F71 -> 47
D72: «Երևանի հ. 163 հիմնական դպրոց» ՊՈԱԿ | E72: =+'Havelvats 3'!D62 -> 81 | F72: =+E72 -> 81 | G72: =+F72 -> 81
D73: «Երևանի հ. 156 հիմնական դպրոց» ՊՈԱԿ | E73: =+'Havelvats 3'!D63 -> 125 | F73: =+E73 -> 125 | G73: =+F73 -> 125
D74: ՀՀ Լոռու մարզ | E74: =+E75 -> 83 | F74: =+F75 -> 83 | G74: =+G75 -> 83
D75: «Հայաստանի Հանրապետության Լոռու մարզի Սպիտակի Անանիա Շիրակացու անվան N 8 միջնակարգ դպրոց» ՊՈԱԿ | E75: =+'Havelvats 3'!D72 -> 83 | F75: =+E75 -> 83 | G75: =+F75 -> 83
D76: ՀՀ Սյունիքի մարզ | E76: =SUM(E77:E84) -> 9711.1 | F76: =SUM(F77:F84) -> 9711.1 | G76: =SUM(G77:G84) -> 9711.1
D77: «Քաջարանի թիվ 5 միջնակարգ դպրոց» ՊՈԱԿ | E77: =+'Havelvats 3'!D74 -> 70 | F77: =+E77 -> 70 | G77: =+F77 -> 70
D78: «Սպանդարյանի միջնակարգ դպրոց» ՊՈԱԿ | E78: =+'Havelvats 3'!D75 -> 2176.2 | F78: =+E78 -> 2176.2 | G78: =+F78 -> 2176.2
D79: «Ա. Սարգսյանի անվան Տեղի N 1 միջնակարգ դպրոց» ՊՈԱԿ | E79: =+'Havelvats 3'!D76 -> 628.7 | F79: =+E79 -> 628.7 | G79: =+F79 -> 628.7
D80: «Հրանտ Ոսկանյանի անվան Կապանի թիվ 12 հիմնական դպրոց» ՊՈԱԿ | E80: =+'Havelvats 3'!D77 -> 741.8 | F80: =+E80 -> 741.8 | G80: =+F80 -> 741.8
D81: «Եղվարդի միջնակարգ դպրոց» ՊՈԱԿ | E81: =+'Havelvats 3'!D78 -> 2908.7 | F81: =+E81 -> 2908.7 | G81: =+F81 -> 2908.7
D82: «Սիսիանի N 5 հիմնական դպրոց» ՊՈԱԿ | E82: =+'Havelvats 3'!D79 -> 781.6 | F82: =+E82 -> 781.6 | G82: =+F82 -> 781.6
D83: «Սիսիանի N 2 հիմնական դպրոց» ՊՈԱԿ | E83: =+'Havelvats 3'!D80 -> 108 | F83: =+E83 -> 108 | G83: =+F83 -> 108
D84: «Սիսիանի N 1 հիմնական դպրոց» ՊՈԱԿ | E84: =+'Havelvats 3'!D81 -> 2296.1 | F84: =+E84 -> 2296.1 | G84: =+F84 -> 2296.1
D85: ՀՀ քաղաքաշինության կոմիտե | E85: =+E87+E92+E95+E97 -> 232184.1 | F85: =+F87+F92+F95+F97 -> 232184.1 | G85: =+G87+G92+G95+G97 -> 232184.1
D86: այդ թվում` ըստ ուղղությունների
D87: Երևան քաղաք | E87: =SUM(E88:E91) -> 183584.1 | F87: =SUM(F88:F91) -> 183584.1 | G87: =SUM(G88:G91) -> 183584.1
D88: «Երևանի Լեոյի անվան հ. 65 ավագ դպրոց» ՊՈԱԿ | E88: =+'Havelvats 3'!D49 -> 20700 | F88: =+E88 -> 20700 | G88: =+F88 -> 20700
D89: թիվ 22 հիմնական դպրոց | E89: =+'Havelvats 3'!D50 -> 136732.1 | F89: =+E89 -> 136732.1 | G89: =+F89 -> 136732.1
D90: Մ. Խորենացու անվան թիվ 143 հիմնական դպրոց | E90: =+'Havelvats 3'!D51 -> 138.9 | F90: =+E90 -> 138.9 | G90: =+F90 -> 138.9
D91: Երևանի թիվ 191 դպրոց | E91: =+'Havelvats 3'!D52 -> 26013.1 | F91: =+E91 -> 26013.1 | G91: =+F91 -> 26013.1
D92: ՀՀ Արարատի մարզ | E92: =+E93+E94 -> 30225 | F92: =+F93+F94 -> 30225 | G92: =+G93+G94 -> 30225
D93: «Վեդիի ավագ դպրոց» ՊՈԱԿ | E93: =+'Havelvats 3'!D65 -> 18600 | F93: =+E93 -> 18600 | G93: =+F93 -> 18600
D94: «Բարձրաշենի միջնակարգ դպրոց» | E94: =+'Havelvats 3'!D66 -> 11625 | F94: =+E94 -> 11625 | G94: =+F94 -> 11625
D95: ՀՀ Արմավիրի մարզ | E95: =+E96 -> 12525 | F95: =+F96 -> 12525 | G95: =+G96 -> 12525
D96: «Վաղարշապատի Մովսես Խորենացու անվան N10 ավագ դպրոց» ՊՈԱԿ | E96: =+'Havelvats 3'!D68 -> 12525 | F96: =+E96 -> 12525 | G96: =+F96 -> 12525
D97: ՀՀ Գեղարքունիքի մարզ | E97: =+E98 -> 5850 | F97: =+F98 -> 5850 | G97: =+G98 -> 5850
D98: «Վարդենիսի Հ. Համբարձումյանի անվան ավագ դպրոց» ՊՈԱԿ | E98: =+'Havelvats 3'!D70 -> 5850 | F98: =+E98 -> 5850 | G98: =+F98 -> 5850
B99: 1183 | C99: 32004 | D99: Ավագ մակարդակի կրթություն իրականացնող ուսումնական հաստատությունների շենքային պայմանների բարելավում | E99: =+E101 -> 48487.3 | F99: =+F101 -> 48487.3 | G99: =+G101 -> 48487.3
D100: այդ թվում` ըստ կատարողների
D101: ՀՀ կրթության, գիտության, մշակույթի և սպորտի նախարարություն | E101: =+E103+E105+E107+E110 -> 48487.3 | F101: =+F103+F105+F107+F110 -> 48487.3 | G101: =+G103+G105+G107+G110 -> 48487.3
D102: այդ թվում` ըստ ուղղությունների
D103: ՀՀ Լոռու մարզ | E103: =+E104 -> 18218.3 | F103: =+F104 -> 18218.3 | G103: =+G104 -> 18218.3
...

Sheet Havelvats 5
F1: Հավելված 5
F2: ՀՀ կառավարության 2021 թվականի
F3: ______________ ի ___Ն որոշման
A5: ՀԱՅԱՍՏԱՆԻ ՀԱՆՐԱՊԵՏՈՒԹՅԱՆ ԿԱՌԱՎԱՐՈՒԹՅԱՆ 2020 ԹՎԱԿԱՆԻ ԴԵԿՏԵՄԲԵՐԻ 30-Ի N 2215-Ն ՈՐՈՇՄԱՆ N 5 ՀԱՎԵԼՎԱԾԻ N 7 և N 7.1 ԱՂՅՈՒՍԱԿՆԵՐՈՒՄ ԿԱՏԱՐՎՈՂ ՓՈՓՈԽՈՒԹՅՈՒՆՆԵՐԸ
G6: հազար դրամ
A7: Ծրագրային դասիչը | C7: Բյուջետային հատկացումների գլխավոր կարգադրիչների, ծրագրերի, միջոցառումների և միջոցառումները կատարող պետական մարմինների անվանումները | F7: Միջոցառումները կատարող պետական մարմինների և դրամաշնորհ ստացող տնտեսվարող սուբյեկտների անվանումները | G7: Ցուցանիշների փոփոխությունը (նվազեցումները նշված են փակագծերում)
A8: Ծրագիր | B8: Միջոցառում | G8: Տարի
A9: ՀՀ կրթության, գիտության, մշակույթի և սպորտի նախարարություն | G9: =G10+G13+G17 -> -368193.6
A10: 1111 | B10: Բարձրագույն և հետբուհական մասնագիտական կրթության ծրագիր | G10: =+G11 -> -94000
B11: 12009 | C11: Աջակցություն արտասահմանում սովորող ուսանողներին | F11: ՀՀ կրթության, գիտության, մշակույթի և սպորտի նախարարություն | G11: =+G12 -> -94000
F12: «Իմ քայլը» հիմնադրամ | G12: =+'Havelvats 2 '!I215 -> -94000
A13: 1148 | B13: Արտադպրոցական դաստիարակության ծրագիր | G13: =+G14 -> -70611.1
B14: 11015 | C14: Քո գիտությունը դպրոցում | F14: ՀՀ կրթության, գիտության, մշակույթի և սպորտի նախարարություն | G14: =+G15 -> -70611.1
F15: «ԵՊՀ-ին առընթեր Ա. Շահինյանի անվան ֆիզիկամաթեմատիկական հատուկ դպրոց» ՊՈԱԿ | G15: =+'Havelvats 2 '!I178 -> -70611.1
A16: 1162 | B16: Գիտական և գիտատեխնիկական հետազոտությունների ծրագիր | G16: =+G17 -> -203582.5
B17: 11005 | C17: Գիտական և գիտատեխնիկական գործունեության պայմանագրային (թեմատիկ) հետազոտություններ | F17: ՀՀ կրթության, գիտության, մշակույթի և սպորտի նախարարության գիտության կոմիտե | G17: =+G18 -> -203582.5
E18: Պայմանագրային (թեմատիկ) հետազոտություններ | G18: =+G19 -> -203582.5
E19: Պայմանագրային (թեմատիկ) հետազոտությունների գիտական թեմաների ֆինանսավորում | F19: մրցույթով ընտրված գիտահետազոտական խմբեր | G19: =+'Havelvats 2 '!I23 -> -203582.5

Sheet Havelvats 6
D1: Հավելված N 6
D2: ՀՀ կառավարության 2021 թվականի
D3: ______________ ի ___Ն որոշման
B5: ՀԱՅԱՍՏԱՆԻ ՀԱՆՐԱՊԵՏՈՒԹՅԱՆ ԿԱՌԱՎԱՐՈՒԹՅԱՆ 2020 ԹՎԱԿԱՆԻ ԴԵԿՏԵՄԲԵՐԻ 30-Ի N 2215-Ն ՈՐՈՇՄԱՆ N 9 ՀԱՎԵԼՎԱԾԻ N 9.14 ԵՎ 9․47 ԱՂՅՈՒՍԱԿՆԵՐՈՒՄ ԿԱՏԱՐՎՈՂ ՓՈՓՈԽՈՒԹՅՈՒՆՆԵՐԸ ԵՎ ԼՐԱՑՈՒՄՆԵՐԸ
A7: Աղյուսակ 9․14
C8: ՀՀ կրթության, գիտության, մշակույթի և սպորտի նախարարություն
B9: ՄԱՍ 2. ՊԵՏԱԿԱՆ ՄԱՐՄՆԻ ԳԾՈՎ ԱՐԴՅՈՒՆՔԱՅԻՆ (ԿԱՏԱՐՈՂԱԿԱՆ) ՑՈՒՑԱՆԻՇՆԵՐԸ
B12: Ծրագրի դասիչը | C12: Ծրագրի անվանումը
B13: 1045 | C13: Նախնական (արհեստագործական) և միջին մասնագիտական կրթություն
B15: Ծրագրի միջոցառումները
B16: Ծրագրի դասիչը՝ | C16: 1045 | D16: Ցուցանիշների փոփոխությունը (նվազեցումները նշված են փակագծերում)
B17: Միջոցառման դասիչը՝ | C17: 12001 | D17: Առաջին կիսամյակ | E17: Ինն ամիս | F17: Տարի
B18: Միջոցառման անվանումը՝ | C18: Նախնական մասնագիտական (արհեստագործական) կրթություն ստացող ուսանողների կրթաթոշակ
B19: Նկարագրությունը՝ | C19: Նախնական մասնագիտական (արհեստագործական) կրթություն ստացող ուսանողներին կրթաթոշակի տրամադրում
B20: Միջոցառման տեսակը՝ | C20: Տրանսֆերտների տրամադրում
B21: Շահառուների ընտրության չափորոշիչները՛ | C21: Արհեստագործական ոլորտում կրթաթոշակ ստացող ուսանողներ
B22: Արդյունքի չափորոշիչներ
B23: Կրթաթոշակ ստացող ուսանողների թիվ, մարդ | D23: -896 | E23: -896 | F23: -896
B24: Միջոցառման վրա կատարվող ծախսը (հազար դրամ) | D24: ='Havelvats 2 '!G120 -> -45922.6 | E24: ='Havelvats 2 '!H120 -> -47294.9 | F24: ='Havelvats 2 '!I120 -> -50000
B26: Ծրագրի միջոցառումները
B27: Ծրագրի դասիչը՝ | C27: 1045 | D27: Ցուցանիշների փոփոխությունը (նվազեցումները նշված են փակագծերում)
B28: Միջոցառման դասիչը՝ | C28: 12002 | D28: Առաջին կիսամյակ | E28: Ինն ամիս | F28: Տարի
B29: Միջոցառման անվանումը՝ | C29: Միջին մասնագիտական կրթություն ստացող ուսանողների կրթաթոշակ
B30: Նկարագրությունը՝ | C30: Միջին մասնագիտական կրթություն ստացող ուսանողներին կրթաթոշակի տրամադրում
B31: Միջոցառման տեսակը՝ | C31: Տրանսֆերտների տրամադրում
B32: Շահառուների ընտրության չափորոշիչները՛ | C32: Միջին մասնագիտական կրթություն ստացող ուսանողներ
B33: Արդյունքի չափորոշիչներ
B34: Կրթաթոշակ ստացող ուսանողների թիվ, մարդ | D34: -2631 | E34: -2631 | F34: -2631
B35: Միջոցառման վրա կատարվող ծախսը (հազար դրամ) | D35: ='Havelvats 2 '!G144 -> -124426.7 | E35: ='Havelvats 2 '!H144 -> -124426.7 | F35: ='Havelvats 2 '!I144 -> -150000
B37: Ծրագրի միջոցառումները
B38: Ծրագրի դասիչը՝ | C38: 1045 | D38: Ցուցանիշների փոփոխությունը (նվազեցումները նշված են փակագծերում)
B39: Միջոցառման դասիչը՝ | C39: 12003 | D39: Առաջին կիսամյակ | E39: Ինն ամիս | F39: Տարի
B40: Միջոցառման անվանումը՝ | C40: Նախնական մասնագիտական (արհեստագործական) կրթության գծով ուսանողական նպաստների տրամադրում
B41: Նկարագրությունը՝ | C41: Նախնական մասնագիտական (արհեստագործական) կրթության գծով ուսանողական նպաստների տրամադրում
B42: Միջոցառման տեսակը՝ | C42: Տրանսֆերտների տրամադրում
B43: Շահառուների ընտրության չափորոշիչները՛ | C43: Նախնական մասնագիտական (արհեստագործական) կրթություն ստացող ուսանողներ
B44: Արդյունքի չափորոշիչներ
B45: Ուսանողական նպաստ ստացող ուսանողների թիվ, մարդ | D45: -163 | E45: -163 | F45: -163
B46: Միջոցառման վրա կատարվող ծախսը (հազար դրամ) | D46: ='Havelvats 2 '!G129 -> -50000 | E46: ='Havelvats 2 '!H129 -> -50000 | F46: ='Havelvats 2 '!I129 -> -50000
B48: Ծրագրի միջոցառումները
B49: Ծրագրի դասիչը՝ | C49: 1045 | D49: Ցուցանիշների փոփոխությունը (նվազեցումները նշված են փակագծերում)
B50: Միջոցառման դասիչը՝ | C50: 12004 | D50: Առաջին կիսամյակ | E50: Ինն ամիս | F50: Տարի
B51: Միջոցառման անվանումը՝ | C51: Միջին մասնագիտական կրթության գծով ուսանողական նպաստների տրամադրում
B52: Նկարագրությունը՝ | C52: Միջին մասնագիտական կրթության գծով ուսանողական նպաստների տրամադրում
B53: Միջոցառման տեսակը՝ | C53: Տրանսֆերտների տրամադրում
B54: Շահառուների ընտրության չափորոշիչները՛ | C54: Միջին մասնագիտական կրթություն ստացող ուսանողներ
B55: Արդյունքի չափորոշիչներ
B56: Ուսանողական նպաստ ստացող ուսանողների թիվ, մարդ | D56: -1157 | E56: -1157 | F56: -1157
B57: Միջոցառման վրա կատարվող ծախսը (հազար դրամ) | D57: ='Havelvats 2 '!G153 -> -392389 | E57: ='Havelvats 2 '!H153 -> -392389 | F57: ='Havelvats 2 '!I153 -> -392389
B59: Ծրագրի միջոցառումները
B60: Ծրագրի դասիչը՝ | C60: 1045 | D60: Ցուցանիշների փոփոխությունը (ավելացումները նշված են դրական նշանով)
B61: Միջոցառման դասիչը՝ | C61: 32001 | D61: Առաջին կիսամյակ | E61: Ինն ամիս | F61: Տարի
B62: Միջոցառման անվանումը՝ | C62: Նախնական մասնագիտական (արհեստագործական) և միջին մասնագիտական ուսումնական հաստատությունների շենքային պայմանների բարելավում
B63: Նկարագրությունը՝ | C63: ՆՄՄԿՈՒ հաստատությունների շենքերի հիմնանորոգման և նախագծման (շինարարական աշխատանքներ, ջեռուցման համակարգի ստեղծում, ներքին հարդարում, տարածքի բարեկարգում) աշխատանքների իրականացում
B64: Միջոցառման տեսակը՝ | C64: Այլ պետական կազմակերպությունների կողմից օգտագործվող ոչ ֆինանսական ակտիվների հետ գործառնություններ
B65: Ակտիվն օգտագործող կազմակերպությունների անվանումները | C65: Միջին մասնագիտական ուսումնական հաստատություններ
B66: Արդյունքի չափորոշիչներ
B67: Նախագծանախահաշվային փաստաթղթերի քանակ, հատ | D67: 1 | E67: 1 | F67: 1
B68: Հիմնանորոգվող միջին մասնագիտական ուսումնական հաստատությունների քանակ, հատ | D68: 4 | E68: 4 | F68: 4
B69: Միջոցառման վրա կատարվող ծախսը (հազար դրամ) | D69: ='Havelvats 2 '!G187 -> 120617.5 | E69: ='Havelvats 2 '!H187 -> 117860.7 | F69: ='Havelvats 2 '!I187 -> 117860.7
B71: Ծրագրի դասիչը | C71: Ծրագրի անվանումը
B72: 1075 | C72: Մշակութային ժառանգության ծրագիր
B74: Ծրագրի միջոցառումները
B75: Ծրագրի դասիչը՝ | C75: 1075 | D75: Ցուցանիշների փոփոխությունը (ավելացումները նշված են դրական նշանով)
B76: Միջոցառման դասիչը՝ | C76: 32001 | D76: Առաջին կիսամյակ | E76: Ինն ամիս | F76: Տարի
B77: Միջոցառման անվանումը՝ | C77: Ներդրումներ թանգարանների և պատկերասրահների հիմնանորոգման համար
B78: Նկարագրությունը՝ | C78: Թանգարանների և պատկերասրահների շենքերի՝ մասնաշենքերի հիմնանորոգում՝ համաշինարարական աշխատանքներ՝ ջեռուցման համակարգի իրականացում՝ ներքին հարդարում՝ տարածքի բարեկարգում և նախագծում
B79: Միջոցառման տեսակը՝ | C79: Այլ պետական կազմակերպությունների կողմից օգտագործվող ոչ ֆինանսական ակտիվների հետ գործառնություններ
B80: Ակտիվն օգտագործող կազմակերպությունների անվանումները | C80: Թանգարաններ և պատկերասրահներ
B81: Արդյունքի չափորոշիչներ
B82: Հիմնանորոգվող թանգարաններ և պատկերասրահներ քանակ, հատ | D82: 1 | E82: 1 | F82: 1
B83: Միջոցառման վրա կատարվող ծախսը (հազար դրամ) | D83: ='Havelvats 2 '!G77 -> 108499.7 | E83: ='Havelvats 2 '!H77 -> 108499.7 | F83: ='Havelvats 2 '!I77 -> 108499.7
B85: Ծրագրի դասիչը | C85: Ծրագրի անվանումը
B86: 1111 | C86: Բարձրագույն և հետբուհական մասնագիտական կրթության ծրագիր
B88: Ծրագրի միջոցառումները
B89: Ծրագրի դասիչը՝ | C89: 1111 | D89: Ցուցանիշների փոփոխությունը (նվազեցումները նշված են փակագծերում)
B90: Միջոցառման դասիչը՝ | C90: 12009 | D90: Առաջին կիսամյակ | E90: Ինն ամիս | F90: Տարի
B91: Միջոցառման անվանումը՝ | C91: Աջակցություն արտասահմանում սովորող ուսանողներին
B92: Նկարագրությունը՝ | C92: Աջակցություն միջազգային վարկանշավորման ցանկերում ընդգրկված ԲՈՒՀ-երում սովորող ուսանողներին
B93: Միջոցառման տեսակը՝ | C93: Տրանսֆերտների տրամադրում
B94: Շահառուների ընտրության չափորոշիչները՛ | C94: Համաձայն նվիրաբերության պայմանագրի
B95: Արդյունքի չափորոշիչներ
B96: Ուսանողների միջին տարեկան թիվ, մարդ | E96: -5 | F96: -10
B97: Միջոցառման վրա կատարվող ծախսը (հազար դրամ) | D97: ='Havelvats 2 '!G207 -> 0 | E97: ='Havelvats 2 '!H207 -> -47000 | F97: ='Havelvats 2 '!I207 -> -94000
B99: Ծրագրի դասիչը | C99: Ծրագրի անվանումը
B100: 1148 | C100: Արտադպրոցական դաստիարակության ծրագիր
B102: Ծրագրի միջոցառումները
B103: Ծրագրի դասիչը` | C103: 1148 | D103: Ցուցանիշների փոփոխությունը (նվազեցումները նշված են փակագծերում)
B104: Միջոցառման դասիչը` | C104: 11015 | D104: Առաջին կիսամյակ | E104: Ինն ամիս | F104: Տարի
B105: Միջոցառման անվանումը` | C105: Քո գիտությունը դպրոցում
B106: Նկարագրությունը` | C106: Իրականացնել դպրոցականների գիտական մտածողության զարգացում, հարգանքի ու ակնածանքի ձևավորում դեպի գիտություն, գիտությունը որպես մեթոդաբանություն կիրառելու արվեստի զարգացում, ձևավորել սեր դեպի գիտական աշխատանք ու գիտություն
B107: Միջոցառման տեսակը` | C107: Ծառայությունների մատուցում
B108: Ծառայությունը մատուցող կազմակերպության(ների) անվանում(ներ)ը՛ | C108: Մասնագիտացված կազմակերպություն
B109: Արդյունքի չափորոշիչներ
B110: Գիտնականների թիվը, մարդ | D110: -50 | E110: -50 | F110: -50
B111: Ուսումնական հաստատությունների թիվ, հատ | D111: -1500 | E111: -1500 | F111: -1500
B112: Միջոցառման վրա կատարվող ծախսը (հազար դրամ) | D112: =+'Havelvats 1'!D84 -> -47074 | E112: =+'Havelvats 1'!E84 -> -70611.1 | F112: =+'Havelvats 1'!F84 -> -70611.1
B114: Ծրագրի դասիչը | C114: Ծրագրի անվանումը
B115: 1162 | C115: Գիտական և գիտատեխնիկական հետազոտությունների ծրագիր
B117: Ծրագրի միջոցառումները
...

Sheet Havelvats 7
D1: Հավելված N 7
D2: ՀՀ կառավարության 2021 թվականի
D3: ______________ ի ___Ն որոշման
B5: ՀԱՅԱՍՏԱՆԻ ՀԱՆՐԱՊԵՏՈՒԹՅԱՆ ԿԱՌԱՎԱՐՈՒԹՅԱՆ 2020 ԹՎԱԿԱՆԻ ԴԵԿՏԵՄԲԵՐԻ 30-Ի N 2215-Ն ՈՐՈՇՄԱՆ N 9.1 ՀԱՎԵԼՎԱԾԻ N 9.1.14, 9.1.29, 9.1.42 ԵՎ 9․1.58 ԱՂՅՈՒՍԱԿՆԵՐՈՒՄ ԿԱՏԱՐՎՈՂ ՓՈՓՈԽՈՒԹՅՈՒՆՆԵՐԸ ԵՎ ԼՐԱՑՈՒՄՆԵՐԸ
A7: Աղյուսակ 9․1.14
C8: ՀՀ Կրթության, գիտության, մշակույթի և սպորտի նախարարություն
B9: ՄԱՍ 1. ՊԵՏԱԿԱՆ ՄԱՐՄՆԻ ԳԾՈՎ ԱՐԴՅՈՒՆՔԱՅԻՆ (ԿԱՏԱՐՈՂԱԿԱՆ) ՑՈՒՑԱՆԻՇՆԵՐԸ
B12: Ծրագրի դասիչը | C12: Ծրագրի անվանումը
B13: 1045 | C13: Նախնական (արհեստագործական) և միջին մասնագիտական կրթություն
B15: Ծրագրի միջոցառումները
B16: Ծրագրի դասիչը՝ | C16: 1045 | D16: Ցուցանիշների փոփոխությունը (նվազեցումները նշված են փակագծերում)
B17: Միջոցառման դասիչը՝ | C17: 12001 | D17: Առաջին կիսամյակ | E17: Ինն ամիս | F17: Տարի
B18: Միջոցառման անվանումը՝ | C18: Նախնական մասնագիտական (արհեստագործական) կրթություն ստացող ուսանողների կրթաթոշակ
B19: Նկարագրությունը՝ | C19: Նախնական մասնագիտական (արհեստագործական) կրթություն ստացող ուսանողներին կրթաթոշակի տրամադրում
B20: Միջոցառման տեսակը՝ | C20: Տրանսֆերտների տրամադրում
B21: Շահառուների ընտրության չափորոշիչները՛ | C21: Արհեստագործական ոլորտում կրթաթոշակ ստացող ուսանողներ
B22: Արդյունքի չափորոշիչներ
B23: Կրթաթոշակ ստացող ուսանողների թիվ, մարդ | D23: -896 | E23: -896 | F23: -896
B24: Միջոցառման վրա կատարվող ծախսը (հազար դրամ) | D24: ='Havelvats 2 '!G120 -> -45922.6 | E24: ='Havelvats 2 '!H120 -> -47294.9 | F24: ='Havelvats 2 '!I120 -> -50000
B26: Ծրագրի միջոցառումները
B27: Ծրագրի դասիչը՝ | C27: 1045 | D27: Ցուցանիշների փոփոխությունը (նվազեցումները նշված են փակագծերում)
B28: Միջոցառման դասիչը՝ | C28: 12002 | D28: Առաջին կիսամյակ | E28: Ինն ամիս | F28: Տարի
B29: Միջոցառման անվանումը՝ | C29: Միջին մասնագիտական կրթություն ստացող ուսանողների կրթաթոշակ
B30: Նկարագրությունը՝ | C30: Միջին մասնագիտական կրթություն ստացող ուսանողներին կրթաթոշակի տրամադրում
B31: Միջոցառման տեսակը՝ | C31: Տրանսֆերտների տրամադրում
B32: Շահառուների ընտրության չափորոշիչները՛ | C32: Միջին մասնագիտական կրթություն ստացող ուսանողներ
B33: Արդյունքի չափորոշիչներ
B34: Կրթաթոշակ ստացող ուսանողների թիվ, մարդ | D34: -2631 | E34: -2631 | F34: -2631
B35: Միջոցառման վրա կատարվող ծախսը (հազար դրամ) | D35: ='Havelvats 2 '!G144 -> -124426.7 | E35: ='Havelvats 2 '!H144 -> -124426.7 | F35: ='Havelvats 2 '!I144 -> -150000
B37: Ծրագրի միջոցառումները
B38: Ծրագրի դասիչը՝ | C38: 1045 | D38: Ցուցանիշների փոփոխությունը (նվազեցումները նշված են փակագծերում)
B39: Միջոցառման դասիչը՝ | C39: 12003 | D39: Առաջին կիսամյակ | E39: Ինն ամիս | F39: Տարի
B40: Միջոցառման անվանումը՝ | C40: Նախնական մասնագիտական (արհեստագործական) կրթության գծով ուսանողական նպաստների տրամադրում
B41: Նկարագրությունը՝ | C41: Նախնական մասնագիտական (արհեստագործական) կրթության գծով ուսանողական նպաստների տրամադրում
B42: Միջոցառման տեսակը՝ | C42: Տրանսֆերտների տրամադրում
B43: Շահառուների ընտրության չափորոշիչները՛ | C43: Նախնական մասնագիտական (արհեստագործական) կրթություն ստացող ուսանողներ
B44: Արդյունքի չափորոշիչներ
B45: Ուսանողական նպաստ ստացող ուսանողների թիվ, մարդ | D45: -163 | E45: -163 | F45: -163
B46: Միջոցառման վրա կատարվող ծախսը (հազար դրամ) | D46: ='Havelvats 2 '!G129 -> -50000 | E46: ='Havelvats 2 '!H129 -> -50000 | F46: ='Havelvats 2 '!I129 -> -50000
B48: Ծրագրի միջոցառումները
B49: Ծրագրի դասիչը՝ | C49: 1045 | D49: Ցուցանիշների փոփոխությունը (նվազեցումները նշված են փակագծերում)
B50: Միջոցառման դասիչը՝ | C50: 12004 | D50: Առաջին կիսամյակ | E50: Ինն ամիս | F50: Տարի
B51: Միջոցառման անվանումը՝ | C51: Միջին մասնագիտական կրթության գծով ուսանողական նպաստների տրամադրում
B52: Նկարագրությունը՝ | C52: Միջին մասնագիտական կրթության գծով ուսանողական նպաստների տրամադրում
B53: Միջոցառման տեսակը՝ | C53: Տրանսֆերտների տրամադրում
B54: Շահառուների ընտրության չափորոշիչները՛ | C54: Միջին մասնագիտական կրթություն ստացող ուսանողներ
B55: Արդյունքի չափորոշիչներ
B56: Ուսանողական նպաստ ստացող ուսանողների թիվ, մարդ | D56: -1157 | E56: -1157 | F56: -1157
B57: Միջոցառման վրա կատարվող ծախսը (հազար դրամ) | D57: ='Havelvats 2 '!G153 -> -392389 | E57: ='Havelvats 2 '!H153 -> -392389 | F57: ='Havelvats 2 '!I153 -> -392389
B59: Ծրագրի միջոցառումները
B60: Ծրագրի դասիչը՝ | C60: 1045 | D60: Ցուցանիշների փոփոխությունը (ավելացումները նշված են դրական նշանով)
B61: Միջոցառման դասիչը՝ | C61: 32001 | D61: Առաջին կիսամյակ | E61: Ինն ամիս | F61: Տարի
B62: Միջոցառման անվանումը՝ | C62: Նախնական մասնագիտական (արհեստագործական) և միջին մասնագիտական ուսումնական հաստատությունների շենքային պայմանների բարելավում
B63: Նկարագրությունը՝ | C63: ՆՄՄԿՈՒ հաստատությունների շենքերի հիմնանորոգման և նախագծման (շինարարական աշխատանքներ, ջեռուցման համակարգի ստեղծում, ներքին հարդարում, տարածքի բարեկարգում) աշխատանքների իրականացում
B64: Միջոցառման տեսակը՝ | C64: Այլ պետական կազմակերպությունների կողմից օգտագործվող ոչ ֆինանսական ակտիվների հետ գործառնություններ
B65: Ակտիվն օգտագործող կազմակերպությունների անվանումները | C65: Միջին մասնագիտական ուսումնական հաստատություններ
B66: Արդյունքի չափորոշիչներ
B67: Հիմնանորոգվող միջին մասնագիտական ուսումնական հաստատությունների քանակ, հատ | D67: 3 | E67: 3 | F67: 3
B68: Միջոցառման վրա կատարվող ծախսը (հազար դրամ) | D68: ='Havelvats 2 '!G189 -> 36871.1 | E68: ='Havelvats 2 '!H189 -> 36871.1 | F68: ='Havelvats 2 '!I189 -> 36871.1
B70: Ծրագրի դասիչը | C70: Ծրագրի անվանումը
B71: 1075 | C71: Մշակութային ժառանգության ծրագիր
B73: Ծրագրի միջոցառումները
B74: Ծրագրի դասիչը՝ | C74: 1075 | D74: Ցուցանիշների փոփոխությունը (ավելացումները նշված են դրական նշանով)
B75: Միջոցառման դասիչը՝ | C75: 32001 | D75: Առաջին կիսամյակ | E75: Ինն ամիս | F75: Տարի
B76: Միջոցառման անվանումը՝ | C76: Ներդրումներ թանգարանների և պատկերասրահների հիմնանորոգման համար
B77: Նկարագրությունը՝ | C77: Թանգարանների և պատկերասրահների շենքերի՝ մասնաշենքերի հիմնանորոգում՝ համաշինարարական աշխատանքներ՝ ջեռուցման համակարգի իրականացում՝ ներքին հարդարում՝ տարածքի բարեկարգում և նախագծում
B78: Միջոցառման տեսակը՝ | C78: Այլ պետական կազմակերպությունների կողմից օգտագործվող ոչ ֆինանսական ակտիվների հետ գործառնություններ
B79: Ակտիվն օգտագործող կազմակերպությունների անվանումները | C79: Թանգարաններ և պատկերասրահներ
B80: Արդյունքի չափորոշիչներ
B81: Հիմնանորոգվող թանգարաններ և պատկերասրահներ քանակ, հատ | D81: 1 | E81: 1 | F81: 1
B82: Միջոցառման վրա կատարվող ծախսը (հազար դրամ) | D82: ='Havelvats 2 '!G77 -> 108499.7 | E82: ='Havelvats 2 '!H77 -> 108499.7 | F82: ='Havelvats 2 '!I77 -> 108499.7
B84: Ծրագրի դասիչը | C84: Ծրագրի անվանումը
B85: 1111 | C85: Բարձրագույն և հետբուհական մասնագիտական կրթության ծրագիր
B86: Ծրագրի միջոցառումները
B87: Ծրագրի դասիչը՝ | C87: 1111 | D87: Ցուցանիշների փոփոխությունը (նվազեցումները նշված են փակագծերում)
B88: Միջոցառման դասիչը՝ | C88: 12009 | D88: Առաջին կիսամյակ | E88: Ինն ամիս | F88: Տարի
B89: Միջոցառման անվանումը՝ | C89: Աջակցություն արտասահմանում սովորող ուսանողներին
B90: Նկարագրությունը՝ | C90: Աջակցություն միջազգային վարկանշավորման ցանկերում ընդգրկված ԲՈՒՀ-երում սովորող ուսանողներին
B91: Միջոցառման տեսակը՝ | C91: Տրանսֆերտների տրամադրում
B92: Շահառուների ընտրության չափորոշիչները՛ | C92: Համաձայն նվիրաբերության պայմանագրի
B93: Արդյունքի չափորոշիչներ
B94: Ուսանողների միջին տարեկան թիվ, մարդ | E94: -5 | F94: -10
B95: Միջոցառման վրա կատարվող ծախսը (հազար դրամ) | D95: =+'Havelvats 1'!D71 -> 0 | E95: =+'Havelvats 1'!E71 -> -47000 | F95: =+'Havelvats 1'!F71 -> -94000
B97: Ծրագրի դասիչը | C97: Ծրագրի անվանումը
B98: 1148 | C98: Արտադպրոցական դաստիարակության ծրագիր
B99: Ծրագրի միջոցառումները
B100: Ծրագրի դասիչը` | C100: 1148 | D100: Ցուցանիշների փոփոխությունը (նվազեցումները նշված են փակագծերում)
B101: Միջոցառման դասիչը` | C101: 11015 | D101: Առաջին կիսամյակ | E101: Ինն ամիս | F101: Տարի
B102: Միջոցառման անվանումը` | C102: Քո գիտությունը դպրոցում
B103: Նկարագրությունը` | C103: Իրականացնել դպրոցականների գիտական մտածողության զարգացում, հարգանքի ու ակնածանքի ձևավորում դեպի գիտություն, գիտությունը որպես մեթոդաբանություն կիրառելու արվեստի զարգացում, ձևավորել սեր դեպի գիտական աշխատանք ու գիտություն
B104: Միջոցառման տեսակը` | C104: Ծառայությունների մատուցում
B105: Ծառայությունը մատուցող կազմակերպության(ների) անվանում(ներ)ը՛ | C105: Մասնագիտացված կազմակերպություն
B106: Արդյունքի չափորոշիչներ
B107: Գիտնականների թիվը, մարդ | D107: -50 | E107: -50 | F107: -50
B108: Ուսումնական հաստատությունների թիվ, հատ | D108: -1500 | E108: -1500 | F108: -1500
B109: Միջոցառման վրա կատարվող ծախսը (հազար դրամ) | D109: =+'Havelvats 1'!D84 -> -47074 | E109: =+'Havelvats 1'!E84 -> -70611.1 | F109: =+'Havelvats 1'!F84 -> -70611.1
B111: Ծրագրի դասիչը | C111: Ծրագրի անվանումը
B112: 1163 | C112: Մասսայական սպորտ
B114: Ծրագրի միջոցառումները
B115: Ծրագրի դասիչը` | C115: 1163 | D115: Ցուցանիշների փոփոխությունը (ավելացումները նշված են դրական նշանով)
...

Sheet Havelvats 8
H1: Հավելված N 8
H2: ՀՀ կառավարության 2021 թվականի
H3: ______________ ի ___Ն որոշման
A5: ՀԱՅԱՍՏԱՆԻ ՀԱՆՐԱՊԵՏՈՒԹՅԱՆ ԿԱՌԱՎԱՐՈՒԹՅԱՆ 2020 ԹՎԱԿԱՆԻ ԴԵԿՏԵՄԲԵՐԻ 30-Ի N 2215-Ն ՈՐՈՇՄԱՆ N 10 ՀԱՎԵԼՎԱԾՈՒՄ ԿԱՏԱՐՎՈՂ ՓՈՓՈԽՈՒԹՅՈՒՆՆԵՐԸ ԵՎ ԼՐԱՑՈՒՄՆԵՐԸ
A7: Կոդը | B7: Անվանումը | E7: Գնման ձևը | F7: Չափման միավորը | G7: Միավորի գինը | H7: Ցուցանիշների փոփոխությունը (ավելացումները նշված են դրական նշանով, իսկ նվազեցումները` փակագծերում)
H8: Քանակը | I8: Գումարը (հազար դրամ)
A9: 1 | B9: 2 | E9: 3 | F9: 4 | G9: 5 | H9: 6 | I9: 7
A10: ՀՀ կրթության, գիտության, մշակույթի և սպորտի նախարարություն | I10: =+I11+I18+I25+I29 -> 51618.233
A11: Բաժին N 08 | B11: Խումբ N 01 | C11: Դաս N 01 | D11: Հանգստի և սպորտի ծառայություններ | I11: =+I12+I15 -> -66496.4
A12: 1163-11005 | B12: «Լավագույն մարզական նախադպրոցական հաստատություն» մրցույթի անցկացում | I12: =+I13 -> -18920.5
B13: ՄԱՍ III. ԾԱՌԱՅՈՒԹՅՈՒՆՆԵՐ | I13: =+I14 -> -18920.5
A14: 92621110-1 | B14: սպորտային միջոցառումների կազմակերպման ծառայություններ | E14: գհ | F14: դրամ | G14: 18920500 | H14: -1 | I14: =-G14/1000 -> -18920.5
A15: 1163-11008 | B15: ՀՀ մարզերի, Երևան քաղաքի և ԱՀ հանրակրթական դպրոցների 8-12 դասարանների աշակերտների սպարտակիադայի անցկացում | I15: =+I16 -> -47575.9
B16: ՄԱՍ III. ԾԱՌԱՅՈՒԹՅՈՒՆՆԵՐ | I16: =+I17 -> -47575.9
A17: 92621110-1 | B17: սպորտային միջոցառումների կազմակերպման ծառայություններ | E17: գհ | F17: դրամ | G17: 47575900 | H17: -1 | I17: =-G17/1000 -> -47575.9
A18: Բաժին N 08 | B18: Խումբ N 02 | C18: Դաս N 02 | D18: Թանգարաններ և ցուցասրահներ | I18: =+I19 -> 108499.7
A19: 1075-32001 | B19: Ներդրումներ թանգարանների և պատկերասրահների հիմնանորոգման համար | I19: =+I20+I22 -> 108499.7
B20: ՄԱՍ II. ԱՇԽԱՏԱՆՔՆԵՐ | I20: =+I21 -> 107649.1
A21: 45331123 | B21: ջերմաստիճանի կարգավորման համակարգի տեղադրման աշխատանքներ | E21: ՀԲՄ | F21: դրամ | G21: 107649104 | H21: 1 | I21: 107649.1
B22: ՄԱՍ III. ԾԱՌԱՅՈՒԹՅՈՒՆՆԵՐ | I22: =SUM(I23:I24) -> 850.6
A23: 71351540 | B23: տեխնիկական հսկողության ծառայություններ | E23: ԳՀ | F23: դրամ | G23: 462000 | H23: 1 | I23: =+G23/1000 -> 462
A24: 98111140 | B24: հեղինակային հսկողության ծառայություններ | E24: ՄԱ | F24: դրամ | G24: 388640 | H24: 1 | I24: 388.6
A25: Բաժին N 08 | B25: Խումբ N 02 | C25: Դաս N 05 | D25: Արվեստ | I25: =+I26 -> 4501
A26: 1168-11021 | B26: Թատրոնների շենքերի ընթացիկ նորոգում | I26: =+I27 -> 4501
B27: ՄԱՍ II. ԱՇԽԱՏԱՆՔՆԵՐ | I27: =+I28 -> 4501
A28: 45461100 | B28: շենքերի, շինությունների ընթացիկ նորոգման աշխատանքներ | E28: ԳՀ | F28: դրամ | G28: 4501000 | H28: 1 | I28: =+G28/1000 -> 4501
A29: Բաժին N 09 | B29: Խումբ N 06 | C29: Դաս N 01 | D29: Կրթությանը տրամադրվող օժանդակ ծառայություններ | I29: =+I30 -> 5113.933
A30: 1045-32001 | B30: Նախնական մասնագիտական (արհեստագործական) և միջին մասնագիտական ուսումնական հաստատությունների շենքային պայմանների բարելավում | I30: =+I31+I33 -> 5113.933
B31: ՄԱՍ II. ԱՇԽԱՏԱՆՔՆԵՐ | I31: =SUM(I32:I32) -> 4871.883
A32: 45611100 | B32: կրթական օբյեկտների հիմնանորոգում | E32: ԳՀ | F32: դրամ | G32: =4428983+442900 -> 4871883 | H32: 1 | I32: =+G32/1000 -> 4871.883
B33: ՄԱՍ III. ԾԱՌԱՅՈՒԹՅՈՒՆՆԵՐ | I33: =SUM(I34:I35) -> 242.05
A34: 71351540 | B34: տեխնիկական հսկողության ծառայություններ | E34: ԳՀ | F34: դրամ | G34: 185000 | H34: 1 | I34: =+G34/1000 -> 185
A35: 98111140 | B35: հեղինակային հսկողության ծառայություններ | E35: ՄԱ | F35: դրամ | G35: 57050 | H35: 1 | I35: =+G35/1000 -> 57.05
A39: ՀՀ քաղաքաշինության կոմիտե | I39: =+I40+I47 -> 865109.85
A40: Բաժին N 08 | B40: Խումբ N 02 | C40: Դաս N 05 | D40: Արվեստ | I40: =+I41 -> 49945.9
A41: 1168-32001 | B41: Ներդրումներ թատրոնների շենքերի կապիտալ վերանորոգման համար | I41: =+I42+I44 -> 49945.9
B42: ՄԱՍ II. ԱՇԽԱՏԱՆՔՆԵՐ | I42: =+I43 -> 49186.2
A43: 45611200 | B43: մշակութային օբյեկտների հիմնանորոգում | E43: ԲՄ | F43: դրամ | G43: 49186200 | H43: 1 | I43: =+G43/1000 -> 49186.2
B44: ՄԱՍ III. ԾԱՌԱՅՈՒԹՅՈՒՆՆԵՐ | I44: =SUM(I45:I46) -> 759.7
A45: 71351540 | B45: տեխնիկական հսկողության ծառայություններ | E45: ԳՀ | F45: դրամ | G45: =559200-54124 -> 505076 | H45: 1 | I45: 505.1
A46: 98111140 | B46: հեղինակային հսկողության ծառայություններ | E46: ՄԱ | F46: դրամ | G46: 254600 | H46: 1 | I46: =+G46/1000 -> 254.6
A47: Բաժին N 09 | B47: Խումբ N 06 | C47: Դաս N 01 | D47: Կրթությանը տրամադրվող օժանդակ ծառայություններ | I47: =+I48+I58+I64+I70 -> 815163.95
A48: 1045-32001 | B48: Նախնական մասնագիտական (արհեստագործական) և միջին մասնագիտական ուսումնական հաստատությունների շենքային պայմանների բարելավում | I48: =+I49+I51 -> 78232.78
B49: ՄԱՍ II. ԱՇԽԱՏԱՆՔՆԵՐ | I49: =+I50 -> 56451.88
A50: 45611100 | B50: կրթական օբյեկտների հիմնանորոգում | E50: ԲՄ | F50: դրամ | G50: 56451880 | H50: 1 | I50: =+G50/1000 -> 56451.88
B51: ՄԱՍ III. ԾԱՌԱՅՈՒԹՅՈՒՆՆԵՐ | I51: =SUM(I52:I57) -> 21780.9
A52: 71351540 | B52: տեխնիկական հսկողության ծառայություններ | E52: ԳՀ | F52: դրամ | G52: 678000 | H52: 1 | I52: =+G52/1000 -> 678
A53: 98111140 | B53: հեղինակային հսկողության ծառայություններ | E53: ՄԱ | F53: դրամ | G53: 339000 | H53: 1 | I53: =+G53/1000 -> 339
A54: 71351540-2 | B54: տեխնիկական հսկողության ծառայություններ | E54: ԳՀ | F54: դրամ | G54: 950400 | H54: 1 | I54: =+G54/1000 -> 950.4
A55: 98111140-2 | B55: հեղինակային հսկողության ծառայություններ | E55: ՄԱ | F55: դրամ | G55: 570300 | H55: 1 | I55: =+G55/1000 -> 570.3
A56: 71241200 | B56: նախագծերի պատրաստում, ծախսերի գնահատում | E56: ԳՀ | F56: դրամ | G56: 22000000 | H56: 1 | I56: =+G56/1000 -> 22000
A57: 98111140-1 | B57: հեղինակային հսկողության ծառայություններ | E57: ՄԱ | F57: դրամ | I57: -2756.8
A58: 1163-12001 | B58: Աջակցություն համայնքներին մարզական հաստատությունների շենքային պայմանների բարելավման համար | I58: =+I59+I61 -> 500000
B59: ՄԱՍ II. ԱՇԽԱՏԱՆՔՆԵՐ | I59: =+I60 -> 487329.43
A60: 45211131-504 | B60: մարզական օբյեկտների շինարարական աշխատանքներ | E60: ՀԲՄ | F60: դրամ | G60: 487329430 | H60: 1 | I60: =+G60/1000 -> 487329.43
B61: ՄԱՍ III. ԾԱՌԱՅՈՒԹՅՈՒՆՆԵՐ | I61: =+I62+I63 -> 12670.57
A62: 71351540 | B62: տեխնիկական հսկողության ծառայություններ | E62: ԳՀ | F62: դրամ | G62: 9746570 | H62: 1 | I62: =+G62/1000 -> 9746.57
A63: 98111140 | B63: հեղինակային հսկողության ծառայություններ | E63: ՄԱ | F63: դրամ | G63: 2924000 | H63: 1 | I63: =+G63/1000 -> 2924
A64: 1163-32001 | B64: Մարզական օբյեկտների շինարարություն | I64: =+I65 -> 4747.1
B65: ՄԱՍ III. ԾԱՌԱՅՈՒԹՅՈՒՆՆԵՐ | I65: =SUM(I66:I69) -> 4747.1
A66: 71351540 | B66: տեխնիկական հսկողության ծառայություններ | E66: ԳՀ | F66: դրամ | G66: 77000 | H66: 1 | I66: =+G66/1000 -> 77
A67: 98111140 | B67: հեղինակային հսկողության ծառայություններ | E67: ՄԱ | F67: դրամ | G67: 385000 | H67: 1 | I67: =+G67/1000 -> 385
A68: 71241200 | B68: նախագծերի պատրաստում, ծախսերի գնահատում | E68: ԳՀ | F68: դրամ | G68: 3865100 | H68: 1 | I68: =+G68/1000 -> 3865.1
A69: 50531140 | B69: փորձաքննության ծառայություններ | E69: ԳՀ | F69: դրամ | G69: 420000 | H69: 1 | I69: =+G69/1000 -> 420
A70: 1183-32001 | B70: Կրթական օբյեկտների շենքային պայմանների բարելավում | I70: =+I71+I74 -> 232184.07
B71: ՄԱՍ II. ԱՇԽԱՏԱՆՔՆԵՐ | I71: =+I72+I73 -> 160088.41
A72: 45611100-1 | B72: կրթական օբյեկտների հիմնանորոգում | E72: ԲՄ | F72: դրամ | G72: 134566210 | H72: 1 | I72: =+G72/1000 -> 134566.21
A73: 45611100 | B73: կրթական օբյեկտների հիմնանորոգում | E73: ՀԲՄ | F73: դրամ | G73: 25522200 | H73: 1 | I73: =+G73/1000 -> 25522.2
B74: ՄԱՍ III. ԾԱՌԱՅՈՒԹՅՈՒՆՆԵՐ | I74: =SUM(I75:I87) -> 72095.66
A75: 71351540-1 | B75: տեխնիկական հսկողության ծառայություններ | E75: ԳՀ | F75: դրամ | G75: 244160 | H75: 1 | I75: =+G75/1000 -> 244.16
A76: 71351540-1 | B76: տեխնիկական հսկողության ծառայություններ | E76: ԳՀ | F76: դրամ | G76: 138900 | H76: 1 | I76: =+G76/1000 -> 138.9
A77: 98111140-1 | B77: հեղինակային հսկողության ծառայություններ | E77: ԳՀ | F77: դրամ | G77: 1921700 | H77: 1 | I77: =+G77/1000 -> 1921.7
A78: 71351540 | B78: տեխնիկական հսկողության ծառայություններ | E78: ԳՀ | F78: դրամ | G78: 70900 | H78: 1 | I78: =+G78/1000 -> 70.9
A79: 98111140 | B79: հեղինակային հսկողության ծառայություններ | E79: ԳՀ | F79: դրամ | G79: 420000 | H79: 1 | I79: =+G79/1000 -> 420
A80: 71241200 | B80: նախագծերի պատրաստում, ծախսերի գնահատում | E80: ԳՀ | F80: դրամ | G80: 20700000 | H80: 1 | I80: =+G80/1000 -> 20700
A81: 71241200 | B81: նախագծերի պատրաստում, ծախսերի գնահատում | E81: ԳՀ | F81: դրամ | G81: 5400000 | H81: 1 | I81: =+G81/1000 -> 5400
A82: 71241200 | B82: նախագծերի պատրաստում, ծախսերի գնահատում | E82: ԳՀ | F82: դրամ | G82: 11775000 | H82: 1 | I82: =+G82/1000 -> 11775
A83: 71241200 | B83: նախագծերի պատրաստում, ծախսերի գնահատում | E83: ԳՀ | F83: դրամ | G83: 18600000 | H83: 1 | I83: =+G83/1000 -> 18600
A84: 71241200 | B84: նախագծերի պատրաստում, ծախսերի գնահատում | E84: ԳՀ | F84: դրամ | G84: 10875000 | H84: 1 | I84: =+G84/1000 -> 10875
A85: 50531140 | B85: փորձաքննության ծառայություններ | E85: ԳՀ | F85: դրամ | G85: 450000 | H85: 1 | I85: =+G85/1000 -> 450
A86: 50531140 | B86: փորձաքննության ծառայություններ | E86: ԳՀ | F86: դրամ | G86: 750000 | H86: 1 | I86: =+G86/1000 -> 750
A87: 50531140 | B87: փորձաքննության ծառայություններ | E87: ԳՀ | F87: դրամ | G87: 750000 | H87: 1 | I87: =+G87/1000 -> 750

Sheet Havelvats 9
D1: Հավելված N 9
D2: ՀՀ կառավարության 2021 թվականի
D3: ______________ ի ___Ն որոշման
A6: «ՀԱՅԱUՏԱՆԻ ՀԱՆՐԱՊԵՏՈՒԹՅԱՆ 2021 ԹՎԱԿԱՆԻ ՊԵՏԱԿԱՆ ԲՅՈՒՋԵԻ ՄԱUԻՆ» ՀԱՅԱUՏԱՆԻ ՀԱՆՐԱՊԵՏՈՒԹՅԱՆ OՐԵՆՔԻ N 6 ՀԱՎԵԼՎԱԾԻ N 2 ԱՂՅՈՒՍԱԿՈՒՄ ԿԱՏԱՐՎՈՂ ՓՈՓՈԽՈՒԹՅՈՒՆՆԵՐԸ
C7: հազար դրամներով
A8: Ծրագրային դասիչ | C8: Բյուջետային գլխավոր կարգադրիչների, ծրագրերի, միջոցառումների և ուղղությունների անվանումները | D8: Ցուցանիշների փոփոխությունը (նվազեցումները նշված են փակագծերում)
A9: Ծրագիր | B9: Միջոցառում | D9: Ընդամենը
C10: ԸՆԴԱՄԵՆԸ | D10: =+D12 -> -1072578
C11: այդ թվում՝
C12: ՀՀ ԿՐԹՈՒԹՅԱՆ, ԳԻՏՈՒԹՅԱՆ, ՄՇԱԿՈՒՅԹԻ ԵՎ ՍՊՈՐՏԻ ՆԱԽԱՐԱՐՈՒԹՅՈՒՆ | D12: =SUM(D14:D19) -> -1072578
C13: այդ թվում`
A14: 1045 | B14: 32001 | C14: Նախնական մասնագիտական (արհեստագործական) և միջին մասնագիտական ուսումնական հաստատությունների շենքային պայմանների բարելավում | D14: =-'Havelvats 3'!D15 -> -117860.7
A15: 1075 | B15: 32001 | C15: Ներդրումներ թանգարանների և պատկերասրահների հիմնանորոգման համար | D15: =-'Havelvats 3'!D28 -> -108499.7
A16: 1163 | B16: 32001 | C16: Մարզական օբյեկտների շինարարություն | D16: =-('Havelvats 3'!D32+'Havelvats 3'!D36) -> -504747.1
A17: 1168 | B17: 32001 | C17: Ներդրումներ թատրոնների շենքերի կապիտալ վերանորոգման համար | D17: =-'Havelvats 3'!D42 -> -50000
A18: 1183 | B18: 32001 | C18: Կրթական օբյեկտների շենքային պայմանների բարելավում | D18: =-'Havelvats 3'!D46 -> -242983.2
A19: 1183 | B19: 32004 | C19: Ավագ մակարդակի կրթություն իրականացնող ուսումնական հաստատությունների շենքային պայմանների բարելավում | D19: =-'Havelvats 3'!D82 -> -48487.3

Sheet Havelvats 10
G1: Հավելված N 10
I2: ՀՀ կառավարության 2021 թվականի
I3: ______________ ի ___Ն որոշման
A6: ՀԱՅԱՍՏԱՆԻ ՀԱՆՐԱՊԵՏՈՒԹՅԱՆ 2021 ԹՎԱԿԱՆԻ ՊԵՏԱԿԱՆ ԲՅՈՒՋԵՈՎ ՆԱԽԱՏԵՍՎԱԾ՝ ՀԱՅԱՍՏԱՆԻ ՀԱՆՐԱՊԵՏՈՒԹՅԱՆ ԿԱՌԱՎԱՐՈՒԹՅԱՆ ՊԱՀՈՒՍՏԱՅԻՆ ՖՈՆԴԻՑ ՀԱՏԿԱՑՈՒՄՆԵՐ ԿԱՏԱՐԵԼՈՒ ՎԵՐԱԲԵՐՅԱԼ
H8: հազ. դրամներով
A9: Գործառական դասիչը | D9: Ծրագրային դասիչը | F9: Բյուջետային հատկացումների գլխավոր կարգադրիչների, ծրագրերի, միջոցառումների և միջոցառումները կատարող պետական մարմինների անվանումները | G9: Ցուցանիշների փոփոխությունը (ավելացումները նշված են դրական նշանով, իսկ նվազեցումները` փակագծերում)
A10: Բաժին | B10: Խումբ | C10: Դաս | D10: Ծրագիր | E10: Միջոցառում | G10: Առաջին կիսամյակ | H10: Ինն ամիս | I10: Տարի
F11: ԸՆԴԱՄԵՆԸ | G11: =+G13+G32 -> 0 | H11: =+H13+H32 -> 0 | I11: =+I13+I32 -> 0
F12: այդ թվում
F13: ՀՀ կառավարություն | G13: =+G14 -> -316235.1 | H13: =+H14 -> -466235.1 | I13: =+I14 -> -716235.1
A14: 11 | F14: ՀԻՄՆԱԿԱՆ ԲԱԺԻՆՆԵՐԻՆ ՉԴԱՍՎՈՂ ՊԱՀՈՒՍՏԱՅԻՆ ՖՈՆԴԵՐ | G14: =+G16 -> -316235.1 | H14: =+H16 -> -466235.1 | I14: =+I16 -> -716235.1
F15: այդ թվում`
B16: 01 | F16: ՀՀ կառավարության և համայնքների պահուստային ֆոնդ | G16: =+G18 -> -316235.1 | H16: =+H18 -> -466235.1 | I16: =+I18 -> -716235.1
F17: այդ թվում`
C18: 01 | F18: ՀՀ կառավարության պահուստային ֆոնդ | G18: =+G20 -> -316235.1 | H18: =+H20 -> -466235.1 | I18: =+I20 -> -716235.1
F19: այդ թվում`
F20: ՀՀ կառավարություն | G20: =+G22 -> -316235.1 | H20: =+H22 -> -466235.1 | I20: =+I22 -> -716235.1
F21: այդ թվում`
D22: 1139 | E22: ՀՀ կառավարության պահուստային ֆոնդ | F22: ՀՀ կառավարության պահուստային ֆոնդ | G22: =+G24 -> -316235.1 | H22: =+H24 -> -466235.1 | I22: =+I24 -> -716235.1
F23: այդ թվում`
E24: 11001 | F24: ՀՀ կառավարության պահուստային ֆոնդ | G24: =+G26 -> -316235.1 | H24: =+H26 -> -466235.1 | I24: =+I26 -> -716235.1
F25: այդ թվում` ըստ կատարողների
F26: ՀՀ կառավարություն | G26: =+G28 -> -316235.1 | H26: =+H28 -> -466235.1 | I26: =+I28 -> -716235.1
F27: այդ թվում՝ բյուջետային ծախսերի տնտեսագիտական դասակարգման հոդվածներ
F28: ԸՆԴԱՄԵՆԸ ԾԱԽՍԵՐ | G28: =+G29 -> -316235.1 | H28: =+H29 -> -466235.1 | I28: =+I29 -> -716235.1
F29: ԸՆԹԱՑԻԿ ԾԱԽՍԵՐ | G29: =+G30 -> -316235.1 | H29: =+H30 -> -466235.1 | I29: =+I30 -> -716235.1
F30: ԱՅԼ ԾԱԽՍԵՐ | G30: =+G31 -> -316235.1 | H30: =+H31 -> -466235.1 | I30: =+I31 -> -716235.1
F31: Պահուստային միջոցներ | G31: =+'Havelvats 2 '!G294 -> -316235.1 | H31: =+'Havelvats 2 '!H294 -> -466235.1 | I31: =+'Havelvats 2 '!I294 -> -716235.1
F32: ՀՀ կրթության, գիտության, մշակույթի և սպորտի նախարարություն | G32: =+G33+G76 -> 316235.1 | H32: =+H33+H76 -> 466235.1 | I32: =+I33+I76 -> 716235.1
A33: 08 | F33: ՀԱՆԳԻՍՏ, ՄՇԱԿՈՒՅԹ ԵՎ ԿՐՈՆ | G33: =+G35 -> 163000.7 | H33: =+H35 -> 163000.7 | I33: =+I35 -> 163000.7
F34: այդ թվում`
B35: 02 | F35: Մշակութային ծառայություններ | G35: =+G37+G52 -> 163000.7 | H35: =+H37+H52 -> 163000.7 | I35: =+I37+I52 -> 163000.7
F36: այդ թվում`
C37: 02 | F37: Թանգարաններ և ցուցասրահներ | G37: =+G39 -> 108499.7 | H37: =+H39 -> 108499.7 | I37: =+I39 -> 108499.7
F38: այդ թվում`
F39: ՀՀ կրթության, գիտության, մշակույթի և սպորտի նախարարություն | G39: =+G41 -> 108499.7 | H39: =+H41 -> 108499.7 | I39: =+I41 -> 108499.7
F40: այդ թվում`
D41: 1075 | E41: Մշակութային ժառանգության ծրագիր | G41: =+G43 -> 108499.7 | H41: =+H43 -> 108499.7 | I41: =+I43 -> 108499.7
E42: 32001 | F42: այդ թվում`
F43: Ներդրումներ թանգարանների և պատկերասրահների հիմնանորոգման համար | G43: =+G45 -> 108499.7 | H43: =+H45 -> 108499.7 | I43: =+I45 -> 108499.7
F44: այդ թվում` ըստ կատարողների
F45: ՀՀ կրթության, գիտության, մշակույթի և սպորտի նախարարություն | G45: =+G47 -> 108499.7 | H45: =+H47 -> 108499.7 | I45: =+I47 -> 108499.7
F46: այդ թվում՝ բյուջետային ծախսերի տնտեսագիտական դասակարգման հոդվածներ
F47: ԸՆԴԱՄԵՆԸ ԾԱԽՍԵՐ | G47: =+G48 -> 108499.7 | H47: =+H48 -> 108499.7 | I47: =+I48 -> 108499.7
F48: ՈՉ ՖԻՆԱՆՍԱԿԱՆ ԱԿՏԻՎՆԵՐԻ ԳԾՈՎ ԾԱԽՍԵՐ | G48: =+G49 -> 108499.7 | H48: =+H49 -> 108499.7 | I48: =+I49 -> 108499.7
F49: ՀԻՄՆԱԿԱՆ ՄԻՋՈՑՆԵՐ | G49: =+G50 -> 108499.7 | H49: =+H50 -> 108499.7 | I49: =+I50 -> 108499.7
F50: ՇԵՆՔԵՐ ԵՎ ՇԻՆՈՒԹՅՈՒՆՆԵՐ | G50: =+G51 -> 108499.7 | H50: =+H51 -> 108499.7 | I50: =+I51 -> 108499.7
F51: - Շենքերի և շինությունների կապիտալ վերանորոգում | G51: =+'Havelvats 2 '!G85 -> 108499.7 | H51: =+'Havelvats 2 '!H85 -> 108499.7 | I51: =+'Havelvats 2 '!I85 -> 108499.7
C52: 05 | F52: Արվեստ | G52: =+G54 -> 54501 | H52: =+H54 -> 54501 | I52: =+I54 -> 54501
F53: այդ թվում`
F54: ՀՀ կրթության, գիտության, մշակույթի և սպորտի նախարարություն | G54: =+G56 -> 54501 | H54: =+H56 -> 54501 | I54: =+I56 -> 54501
F55: այդ թվում`
D56: 1168 | E56: Արվեստների ծրագիր | G56: =+G58+G67 -> 54501 | H56: =+H58+H67 -> 54501 | I56: =+I58+I67 -> 54501
E57: 11021 | F57: այդ թվում`
F58: Թատրոնների շենքերի ընթացիկ նորոգում | G58: =+G60 -> 4501 | H58: =+H60 -> 4501 | I58: =+I60 -> 4501
F59: այդ թվում` ըստ կատարողների
F60: ՀՀ կրթության, գիտության, մշակույթի և սպորտի նախարարություն | G60: =+G62 -> 4501 | H60: =+H62 -> 4501 | I60: =+I62 -> 4501
F61: այդ թվում՝ բյուջետային ծախսերի տնտեսագիտական դասակարգման հոդվածներ
F62: ԸՆԴԱՄԵՆԸ ԾԱԽՍԵՐ | G62: =+G63 -> 4501 | H62: =+H63 -> 4501 | I62: =+I63 -> 4501
F63: ԸՆԹԱՑԻԿ ԾԱԽՍԵՐ | G63: =+G64 -> 4501 | H63: =+H64 -> 4501 | I63: =+I64 -> 4501
F64: ԾԱՌԱՅՈՒԹՅՈՒՆՆԵՐԻ ԵՎ ԱՊՐԱՆՔՆԵՐԻ ՁԵՌՔ ԲԵՐՈՒՄ | G64: =+G65 -> 4501 | H64: =+H65 -> 4501 | I64: =+I65 -> 4501
F65: Ընթացիկ նորոգում և պահպանում (ծառայություններ և նյութեր) | G65: =+G66 -> 4501 | H65: =+H66 -> 4501 | I65: =+I66 -> 4501
F66: - Շենքերի և կառույցների ընթացիկ նորոգում և պահպանում | G66: =+'Havelvats 2 '!G100 -> 4501 | H66: =+'Havelvats 2 '!H100 -> 4501 | I66: =+'Havelvats 2 '!I100 -> 4501
E67: 32001 | F67: Ներդրումներ թատրոնների շենքերի կապիտալ վերանորոգման համար | G67: =+G69 -> 50000 | H67: =+H69 -> 50000 | I67: =+I69 -> 50000
F68: այդ թվում` ըստ կատարողների
F69: ՀՀ քաղաքաշինության կոմիտե | G69: =+G71 -> 50000 | H69: =+H71 -> 50000 | I69: =+I71 -> 50000
F70: այդ թվում՝ բյուջետային ծախսերի տնտեսագիտական դասակարգման հոդվածներ
F71: ԸՆԴԱՄԵՆԸ ԾԱԽՍԵՐ | G71: =+G72 -> 50000 | H71: =+H72 -> 50000 | I71: =+I72 -> 50000
F72: ՈՉ ՖԻՆԱՆՍԱԿԱՆ ԱԿՏԻՎՆԵՐԻ ԳԾՈՎ ԾԱԽՍԵՐ | G72: =+G73 -> 50000 | H72: =+H73 -> 50000 | I72: =+I73 -> 50000
F73: ՀԻՄՆԱԿԱՆ ՄԻՋՈՑՆԵՐ | G73: =+G74 -> 50000 | H73: =+H74 -> 50000 | I73: =+I74 -> 50000
F74: ՇԵՆՔԵՐ ԵՎ ՇԻՆՈՒԹՅՈՒՆՆԵՐ | G74: =+G75 -> 50000 | H74: =+H75 -> 50000 | I74: =+I75 -> 50000
F75: - Շենքերի և շինությունների կապիտալ վերանորոգում | G75: =+'Havelvats 2 '!G109 -> 50000 | H75: =+'Havelvats 2 '!H109 -> 50000 | I75: =+'Havelvats 2 '!I109 -> 50000
A76: 09 | F76: ԿՐԹՈՒԹՅՈՒՆ | G76: =+G78 -> 153234.4 | H76: =+H78 -> 303234.4 | I76: =+I78 -> 553234.4
F77: այդ թվում`
B78: 06 | F78: Կրթությանը տրամադրվող օժանդակ ծառայություններ | G78: =+G80 -> 153234.4 | H78: =+H80 -> 303234.4 | I78: =+I80 -> 553234.4
F79: այդ թվում`
C80: 01 | F80: Կրթությանը տրամադրվող օժանդակ ծառայություններ | G80: =+G82 -> 153234.4 | H80: =+H82 -> 303234.4 | I80: =+I82 -> 553234.4
F81: այդ թվում`
F82: ՀՀ կրթության, գիտության, մշակույթի և սպորտի նախարարություն | G82: =+G84+G106 -> 153234.4 | H82: =+H84+H106 -> 303234.4 | I82: =+I84+I106 -> 553234.4
F83: այդ թվում՝
D84: 1163 | E84: Մասսայական սպորտ | G84: =+G86+G95 -> 104747.1 | H84: =+H86+H95 -> 254747.1 | I84: =+I86+I95 -> 504747.1
E85: 12001 | F85: այդ թվում`
F86: Աջակցություն համայնքներին մարզական հաստատությունների շենքային պայմանների բարելավման համար | G86: =G88 -> 100000 | H86: =H88 -> 250000 | I86: =I88 -> 500000
F87: այդ թվում` ըստ կատարողների
F88: ՀՀ քաղաքաշինության կոմիտե | G88: =G90 -> 100000 | H88: =H90 -> 250000 | I88: =I90 -> 500000
F89: այդ թվում՝ բյուջետային ծախսերի տնտեսագիտական դասակարգման հոդվածներ
F90: ԸՆԴԱՄԵՆԸ ԾԱԽՍԵՐ | G90: =G91 -> 100000 | H90: =H91 -> 250000 | I90: =I91 -> 500000
F91: ՈՉ ՖԻՆԱՆՍԱԿԱՆ ԱԿՏԻՎՆԵՐԻ ԳԾՈՎ ԾԱԽՍԵՐ | G91: =G92 -> 100000 | H91: =H92 -> 250000 | I91: =I92 -> 500000
F92: ՀԻՄՆԱԿԱՆ ՄԻՋՈՑՆԵՐ | G92: =G93 -> 100000 | H92: =H93 -> 250000 | I92: =I93 -> 500000
F93: ՇԵՆՔԵՐ ԵՎ ՇԻՆՈՒԹՅՈՒՆՆԵՐ | G93: =+G94 -> 100000 | H93: =+H94 -> 250000 | I93: =+I94 -> 500000
F94: -Շենքերի և շինությունների շինարարություն | G94: =+'Havelvats 2 '!G226 -> 100000 | H94: =+'Havelvats 2 '!H226 -> 250000 | I94: =+'Havelvats 2 '!I226 -> 500000
E95: 32001 | F95: Մարզական օբյեկտների շինարարություն | G95: =G97 -> 4747.1 | H95: =H97 -> 4747.1 | I95: =I97 -> 4747.1
F96: այդ թվում` ըստ կատարողների
F97: ՀՀ քաղաքաշինության կոմիտե | G97: =G99 -> 4747.1 | H97: =H99 -> 4747.1 | I97: =I99 -> 4747.1
F98: այդ թվում՝ բյուջետային ծախսերի տնտեսագիտական դասակարգման հոդվածներ
F99: ԸՆԴԱՄԵՆԸ ԾԱԽՍԵՐ | G99: =G100 -> 4747.1 | H99: =H100 -> 4747.1 | I99: =I100 -> 4747.1
F100: ՈՉ ՖԻՆԱՆՍԱԿԱՆ ԱԿՏԻՎՆԵՐԻ ԳԾՈՎ ԾԱԽՍԵՐ | G100: =G101 -> 4747.1 | H100: =H101 -> 4747.1 | I100: =I101 -> 4747.1
F101: ՀԻՄՆԱԿԱՆ ՄԻՋՈՑՆԵՐ | G101: =+G102+G104 -> 4747.1 | H101: =+H102+H104 -> 4747.1 | I101: =+I102+I104 -> 4747.1
F102: ՇԵՆՔԵՐ ԵՎ ՇԻՆՈՒԹՅՈՒՆՆԵՐ | G102: =+G103 -> 462 | H102: =+H103 -> 462 | I102: =+I103 -> 462
F103: -Շենքերի և շինությունների շինարարություն | G103: =+'Havelvats 2 '!G235 -> 462 | H103: =+'Havelvats 2 '!H235 -> 462 | I103: =+'Havelvats 2 '!I235 -> 462
...
