Workbook
Name AgencyCode: #REF!
Name AgencyCode: #REF!
Name AgencyCode: #REF!
Name AgencyCode: #REF!
Name AgencyCode: #REF!
Name AgencyName: #REF!
Name AgencyName: #REF!
Name AgencyName: #REF!
Name AgencyName: #REF!
Name davit: #REF!
Name davit: #REF!
Name davit: #REF!
Name Functional1: #REF!
Name Functional1: #REF!
Name Functional1: #REF!
Name Functional1: #REF!
Name ggg: #REF!
Name ggg: #REF!
Name ggg: #REF!
Name PANature: #REF!
Name PANature: #REF!
Name PANature: #REF!
Name PANature: #REF!
Name PAType: #REF!
Name PAType: #REF!
Name PAType: #REF!
Name PAType: #REF!
Name Performance2: #REF!
Name Performance2: #REF!
Name Performance2: #REF!
Name Performance2: #REF!
Name PerformanceType: #REF!
Name PerformanceType: #REF!
Name PerformanceType: #REF!
Name PerformanceType: #REF!
Name Հավելված: #REF!
Name Հավելված: #REF!
Name Հավելված: #REF!
Name Մաս: #REF!
Name Մաս: #REF!
Name Մաս: #REF!
Name շախմատիստ: #REF!
Name շախմատիստ: #REF!
Name շախմատիստ: #REF!

Sheet Havelvats 1
D1: Հավելված N 1
D2: ՀՀ կառավարության 2021 թվականի
D3: ______________ ի ___Ն որոշման
A5: «ՀԱՅԱUՏԱՆԻ ՀԱՆՐԱՊԵՏՈՒԹՅԱՆ 2021 ԹՎԱԿԱՆԻ ՊԵՏԱԿԱՆ ԲՅՈՒՋԵԻ ՄԱUԻՆ» ՀԱՅԱUՏԱՆԻ ՀԱՆՐԱՊԵՏՈՒԹՅԱՆ OՐԵՆՔԻ N 1 ՀԱՎԵԼՎԱԾԻ N 2 ԱՂՅՈՒՍԱԿՈՒՄ ԿԱՏԱՐՎՈՂ ՎԵՐԱԲԱՇԽՈՒՄԸ ԵՎ ՀԱՅԱՍՏԱՆԻ ՀԱՆՐԱՊԵՏՈՒԹՅԱՆ ԿԱՌԱՎԱՐՈՒԹՅԱՆ 2020 ԹՎԱԿԱՆԻ ԴԵԿՏԵՄԲԵՐԻ 30-Ի N 2215-Ն ՈՐՈՇՄԱՆ N 5 ՀԱՎԵԼՎԱԾԻ N 1 ԱՂՅՈՒՍԱԿՈՒՄ ԿԱՏԱՐՎՈՂ ՓՈՓՈԽՈՒԹՅՈՒՆՆԵՐԸ ԵՎ ԼՐԱՑՈՒՄՆԵՐԸ
E7: հազ. դրամներով
A8: Ծրագրային դասիչը | C8: Բյուջետային հատկացումների գլխավոր կարգադրիչների, ծրագրերի և միջոցառումների անվանումները | D8: Ցուցանիշների փոփոխությունը (ավելացումները նշված են դրական նշանով, իսկ նվազեցումները՝ փակագծերում)
A9: Ծրագիր | B9: Միջոցառում | D9: Առաջին կիսամյակ | E9: Ինն ամիս | F9: Տարի
A10: 1192 | C10: ԸՆԴԱՄԵՆԸ | D10: =+D12+D177 -> 0 | E10: =+E12+E177 -> 0 | F10: =+F12+F177 -> 0
C11: այդ թվում
B12: ՀՀ Կրթության, գիտության, մշակույթի և սպորտի նախարարություն | D12: =D14+D51+D64+D77+D90+D103+D140+D159 -> 0 | E12: =E14+E51+E64+E77+E90+E103+E140+E159 -> 0 | F12: =F14+F51+F64+F77+F90+F103+F140+F159 -> 0
A13: 1045 | C13: Ծրագրի անվանումը`
C14: Նախնական (արհեստագործական) և միջին մասնագիտական կրթություն | D14: =+D21+D27+D33+D39+D45 -> -492120.8 | E14: =+E21+E27+E33+E39+E45 -> -496249.9 | F14: =+F21+F27+F33+F39+F45 -> -524528.3
C15: Ծրագրի նպատակը`
C16: Աշխատաշուկայի արդի պահանջներին համապատասխան նախնական մասնագիտական (արհեստագործական) և միջին մասնագիտական կրթության որակավորում ունեցող մասնագետների պատրաստում, կրթության մատչելիության ապահովում:
C17: Վերջնական արդյունքի նկարագրությունը`
C18: Նախնական (արհեստագործական) և միջին մասնագիտական կրթության գրավչության բարձրացում, մատչելի և մրցունակ նախնական (արհեստագործական) և միջին մասնագիտական կրթության ապահովում
C19: Ծրագրի միջոցառումներ
B20: 12001 | C20: Միջոցառման անվանումը`
C21: Նախնական մասնագիտական (արհեստագործական) կրթություն ստացող ուսանողների կրթաթոշակ | D21: =+'Havelvats 2 '!G120 -> -45922.6 | E21: =+'Havelvats 2 '!H120 -> -47294.9 | F21: =+'Havelvats 2 '!I120 -> -50000
C22: Միջոցառման նկարագրությունը`
C23: Նախնական մասնագիտական (արհեստագործական) կրթություն ստացող ուսանողներին կրթաթոշակի տրամադրում
C24: Միջոցառման տեսակը
C25: Տրանսֆերտների տրամադրում
B26: 12002 | C26: Միջոցառման անվանումը`
C27: Միջին մասնագիտական կրթություն ստացող ուսանողների կրթաթոշակ | D27: =+'Havelvats 2 '!G144 -> -124426.7 | E27: =+'Havelvats 2 '!H144 -> -124426.7 | F27: =+'Havelvats 2 '!I144 -> -150000
C28: Միջոցառման նկարագրությունը`
C29: Միջին մասնագիտական կրթություն ստացող ուսանողներին կրթաթոշակի տրամադրում
C30: Միջոցառման տեսակը
C31: Տրանսֆերտների տրամադրում
B32: 12003 | C32: Միջոցառման անվանումը`
C33: Նախնական մասնագիտական (արհեստագործական) կրթության գծով ուսանողական նպաստների տրամադրում | D33: =+'Havelvats 2 '!G129 -> -50000 | E33: =+'Havelvats 2 '!H129 -> -50000 | F33: =+'Havelvats 2 '!I129 -> -50000
C34: Միջոցառման նկարագրությունը`
C35: Նախնական մասնագիտական (արհեստագործական) կրթության գծով ուսանողական նպաստների տրամադրում
C36: Միջոցառման տեսակը
C37: Տրանսֆերտների տրամադրում
B38: 12004 | C38: Միջոցառման անվանումը`
C39: Միջին մասնագիտական կրթության գծով ուսանողական նպաստների տրամադրում | D39: =+'Havelvats 2 '!G153 -> -392389 | E39: =+'Havelvats 2 '!H153 -> -392389 | F39: =+'Havelvats 2 '!I153 -> -392389
C40: Միջոցառման նկարագրությունը`
C41: Միջին մասնագիտական կրթության գծով ուսանողական նպաստների տրամադրում
C42: Միջոցառման տեսակը
...

Sheet Havelvats 2 
G1: Հավելված N 2
G2: ՀՀ կառավարության 2021 թվականի
G3: ______________ ի ___Ն որոշման
A5: ՀԱՅԱՍՏԱՆԻ ՀԱՆՐԱՊԵՏՈՒԹՅԱՆ ԿԱՌԱՎԱՐՈՒԹՅԱՆ 2020 ԹՎԱԿԱՆԻ ԴԵԿՏԵՄԲԵՐԻ 30-Ի N2215-Ն ՈՐՈՇՄԱՆ N 3 ԵՎ N 4 ՀԱՎԵԼՎԱԾՆԵՐՈՒՄ ԿԱՏԱՐՎՈՂ ՓՈՓՈԽՈՒԹՅՈՒՆՆԵՐԸ ԵՎ ԼՐԱՑՈՒՄՆԵՐԸ
H7: հազ. դրամներով
A8: Գործառական դասիչը | D8: Ծրագրային դասիչը | F8: Բյուջետային հատկացումների գլխավոր կարգադրիչների, ծրագրերի, միջոցառումների և միջոցառումները կատարող պետական մարմինների անվանումները | G8: Ցուցանիշների փոփոխությունը (ավելացումները նշված են դրական նշանով, իսկ նվազեցումները՝ փակագծերում)
A9: Բաժին | B9: Խումբ | C9: Դաս | D9: Ծրագիր | E9: Միջոցառում | G9: Առաջին կիսամյակ | H9: Ինն ամիս | I9: Տարի
F10: ԸՆԴԱՄԵՆԸ | G10: =+G12+G268 -> 0 | H10: =+H12+H268 -> 0 | I10: =+I12+I268 -> 0
F11: այդ թվում
F12: ՀՀ ԿՐԹՈՒԹՅԱՆ, ԳԻՏՈՒԹՅԱՆ, ՄՇԱԿՈՒՅԹԻ ԵՎ ՍՊՈՐՏԻ ՆԱԽԱՐԱՐՈՒԹՅՈՒՆ | G12: =+G13+G32+G110 -> 0 | H12: =+H13+H32+H110 -> 0 | I12: =+I13+I32+I110 -> 0
A13: 01 | E13: 11010 | F13: ԸՆԴՀԱՆՈՒՐ ԲՆՈՒՅԹԻ ՀԱՆՐԱՅԻՆ ԾԱՌԱՅՈՒԹՅՈՒՆՆԵՐ | G13: =+G15 -> -7427.5 | H13: =+H15 -> -63840.8 | I13: =+I15 -> -203582.5
F14: այդ թվում`
B15: 05 | F15: Ընդհանուր բնույթի հանրային ծառայությունների գծով հետազոտական և նախագծային աշխատանքներ | G15: =+G17 -> -7427.5 | H15: =+H17 -> -63840.8 | I15: =+I17 -> -203582.5
F16: այդ թվում`
C17: 01 | F17: Ընդհանուր բնույթի հանրային ծառայությունների գծով հետազոտական և նախագծային աշխատանքներ | G17: =+G19 -> -7427.5 | H17: =+H19 -> -63840.8 | I17: =+I19 -> -203582.5
F18: այդ թվում`
F19: ՀՀ կրթության, գիտության, մշակույթի և սպորտի նախարարություն | G19: =+G21 -> -7427.5 | H19: =+H21 -> -63840.8 | I19: =+I21 -> -203582.5
F20: այդ թվում`
D21: 1162 | E21: Գիտական և գիտատեխնիկական հետազոտությունների ծրագիր | G21: =+G23 -> -7427.5 | H21: =+H23 -> -63840.8 | I21: =+I23 -> -203582.5
E22: 11005 | F22: այդ թվում`
F23: Գիտական և գիտատեխնիկական պայմանագրային (թեմատիկ) հետազոտություններ | G23: =+G25 -> -7427.5 | H23: =+H25 -> -63840.8 | I23: =+I25 -> -203582.5
F24: այդ թվում` ըստ կատարողների
F25: ՀՀ կրթության, գիտության, մշակույթի և սպորտի նախարարության գիտության կոմիտե | G25: =+G27 -> -7427.5 | H25: =+H27 -> -63840.8 | I25: =+I27 -> -203582.5
F26: այդ թվում՝ բյուջետային ծախսերի տնտեսագիտական դասակարգման հոդվածներ
F27: ԸՆԴԱՄԵՆԸ ԾԱԽՍԵՐ | G27: =+G28 -> -7427.5 | H27: =+H28 -> -63840.8 | I27: =+I28 -> -203582.5
F28: ԸՆԹԱՑԻԿ ԾԱԽՍԵՐ | G28: =+G29 -> -7427.5 | H28: =+H29 -> -63840.8 | I28: =+I29 -> -203582.5
F29: ԴՐԱՄԱՇՆՈՐՀՆԵՐ | G29: =+G30 -> -7427.5 | H29: =+H30 -> -63840.8 | I29: =+I30 -> -203582.5
F30: Ընթացիկ դրամաշնորհներ պետական հատվածի այլ մակարդակներին | G30: =+G31 -> -7427.5 | H30: =+H31 -> -63840.8 | I30: =+I31 -> -203582.5
F31: - Այլ ընթացիկ դրամաշնորհներ | G31: -7427.5 | H31: -63840.8 | I31: -203582.5
A32: 08 | E32: 11010 | F32: ՀԱՆԳԻՍՏ, ՄՇԱԿՈՒՅԹ ԵՎ ԿՐՈՆ | G32: =+G34+G69 -> 150404.7 | H32: =+H34+H69 -> 131484.2 | I32: =+I34+I69 -> 96504.3
F33: այդ թվում`
B34: 01 | F34: Հանգստի և սպորտի ծառայություններ | G34: =+G36 -> -12596 | H34: =+H36 -> -31516.5 | I34: =+I36 -> -66496.4
F35: այդ թվում`
C36: 01 | F36: Հանգստի և սպորտի ծառայություններ | G36: =+G38 -> -12596 | H36: =+H38 -> -31516.5 | I36: =+I38 -> -66496.4
F37: այդ թվում`
F38: ՀՀ կրթության, գիտության, մշակույթի և սպորտի նախարարություն | G38: =+G40 -> -12596 | H38: =+H40 -> -31516.5 | I38: =+I40 -> -66496.4
F39: այդ թվում`
D40: 1163 | E40: Մասսայական սպորտ | G40: =+G42+G51+G60 -> -12596 | H40: =+H42+H51+H60 -> -31516.5 | I40: =+I42+I51+I60 -> -66496.4
E41: 11002 | F41: այդ թվում`
F42: «Լավագույն մարզական նախադպրոցական հաստատություն» մրցույթի անցկացում | G42: =+G44 -> 18920.5 | H42: =+H44 -> 0 | I42: =+I44 -> 0
...

Sheet Havelvats 3
F1: Հավելված N 3
F2: ՀՀ կառավարության 2021 թվականի
F3: ______________ ի ___Ն որոշման
A5: «ՀԱՅԱUՏԱՆԻ ՀԱՆՐԱՊԵՏՈՒԹՅԱՆ 2021 ԹՎԱԿԱՆԻ ՊԵՏԱԿԱՆ ԲՅՈՒՋԵԻ ՄԱUԻՆ» ՀԱՅԱUՏԱՆԻ ՀԱՆՐԱՊԵՏՈՒԹՅԱՆ OՐԵՆՔԻ N 1 ՀԱՎԵԼՎԱԾԻ N 3 ԱՂՅՈՒՍԱԿՈՒՄ ԿԱՏԱՐՎՈՂ ԼՐԱՑՈՒՄՆԵՐԸ
H8: հազ. դրամներով
A9: Ծրագրային դասիչ | C9: Բյուջետային գլխավոր կարգադրիչների, ծրագրերի, միջոցառումների և ուղղությունների անվանումները | D9: Ընդամենը, | E9: Ցուցանիշների փոփոխությունը (ավելացումները նշված են դրական նշանով)
A10: Ծրագիր | B10: Միջոցառում | E10: Կառուցման աշխատանքներ | F10: Վերակառուցման, վերանորոգման և վերականգնման աշխատանքներ | G10: Նախագծահե- տազոտական, գեոդեզիա- քարտեզագրա- կան աշխա- տանքներ | H10: Ոչ ֆինանսական այլ ակտիվների ձեռքբերում
C11: ԸՆԴԱՄԵՆԸ | D11: =SUM(E11:H11) -> 1072578 | E11: =+E13 -> 500462 | F11: =+F13 -> 476530.9 | G11: =+G13 -> 95585.1 | H11: =+H13 -> 0
C12: այդ թվում՝
C13: ՀՀ ԿՐԹՈՒԹՅԱՆ, ԳԻՏՈՒԹՅԱՆ, ՄՇԱԿՈՒՅԹԻ ԵՎ ՍՊՈՐՏԻ ՆԱԽԱՐԱՐՈՒԹՅՈՒՆ | D13: =SUM(E13:H13) -> 1072578 | E13: =+E15+E28+E32+E36+E42+E46+E82 -> 500462 | F13: =+F15+F28+F32+F36+F42+F46+F82 -> 476530.9 | G13: =+G15+G28+G32+G36+G42+G46+G82 -> 95585.1 | H13: =+H15+H28+H32+H36+H42+H46+H82 -> 0
C14: այդ թվում`
A15: 1045 | B15: 32001 | C15: Նախնական մասնագիտական (արհեստագործական) և միջին մասնագիտական ուսումնական հաստատությունների շենքային պայմանների բարելավում | D15: =+E15+F15+G15+H15 -> 117860.7 | E15: =+E17+E19+E22+E24+E26 -> 0 | F15: =+F17+F19+F22+F24+F26 -> 95860.7 | G15: =+G17+G19+G22+G24+G26 -> 22000 | H15: =+H17+H19+H22+H24+H26 -> 0
C16: այդ թվում`
C17: ՀՀ Արարատի մարզ | D17: =SUM(E17:H17) -> 16034.4 | E17: =+E18 -> 0 | F17: =+F18 -> 16034.4 | G17: =+G18 -> 0 | H17: =+H18 -> 0
C18: «Արարատի պետական բժշկական քոլեջ» ՊՈԱԿ | D18: =+E18+F18+G18+H18 -> 16034.4 | F18: 16034.4
C19: ՀՀ Լոռու մարզ | D19: =SUM(E19:H19) -> 62582.8 | E19: =+E20+E21 -> 0 | F19: =+F20+F21 -> 62582.8 | G19: =+G20+G21 -> 0 | H19: =+H20+H21 -> 0
C20: ք. Վանաձորի Միքայել Թավրիզյանի անվան արվեստի պետական քոլեջի վերակառուցում | D20: =+E20+F20+G20+H20 -> 57468.9 | F20: 57468.9
C21: «Ալավերդու պետական քոլեջ» ՊՈԱԿ | D21: =+E21+F21+G21+H21 -> 5113.9 | F21: =4671+442.9 -> 5113.9
C22: ՀՀ Կոտայքի մարզ | D22: =SUM(E22:H22) -> 1520.7 | E22: =+E23 -> 0 | F22: =+F23 -> 1520.7 | G22: =+G23 -> 0 | H22: =+H23 -> 0
C23: «Նոր Գեղիի ակադեմիկոս Գ. Աղաջանյանի անվան պետական գյուղատնտեսական քոլեջ» ՊՈԱԿ | D23: =+E23+F23+G23+H23 -> 1520.7 | F23: 1520.7 | G23: 0
C24: ՀՀ Սյունիքի մարզ | D24: =SUM(E24:H24) -> 15722.8 | E24: =+E25 -> 0 | F24: =+F25 -> 15722.8 | G24: =+G25 -> 0 | H24: =+H25 -> 0
C25: «Կապանի արվեստի պետական քոլեջ» ՊՈԱԿ | D25: =+E25+F25+G25+H25 -> 15722.8 | F25: 15722.8 | G25: 0
C26: ՀՀ Տավուշի մարզ | D26: =SUM(E26:H26) -> 22000 | E26: =+E27 -> 0 | F26: =+F27 -> 0 | G26: =+G27 -> 22000 | H26: =+H27 -> 0
C27: Նոյեմբերյանի պետական քոլեջ | D27: =+E27+F27+G27+H27 -> 22000 | G27: 22000
A28: 1075 | B28: 32001 | C28: Ներդրումներ թանգարանների և պատկերասրահների հիմնանորոգման համար | D28: =+E28+F28+G28+H28 -> 108499.7 | E28: =+E30 -> 0 | F28: =+F30 -> 108499.7 | G28: =+G30 -> 0 | H28: =+H30 -> 0
C29: այդ թվում`
C30: Երևան քաղաք | D30: =SUM(E30:H30) -> 108499.7 | E30: =+E31 -> 0 | F30: =+F31 -> 108499.7 | G30: =+G31 -> 0 | H30: =+H31 -> 0
C31: «Հայաստանի պատմության թանգարան» ՊՈԱԿ | D31: =+E31+F31+G31+H31 -> 108499.7 | E31: 0 | F31: 108499.7
A32: 1163 | B32: 12001 | C32: Աջակցություն համայնքներին մարզական հաստատությունների շենքային պայմանների բարելավման համար | D32: =+E32+F32+G32+H32 -> 500000 | E32: =+E34 -> 500000 | F32: =+F34 -> 0 | G32: =+G34 -> 0 | H32: =+H34 -> 0
C33: այդ թվում`
C34: ՀՀ Շիրակի մարզ | D34: =SUM(E34:H34) -> 500000 | E34: =+E35 -> 500000 | G34: =+G35 -> 0
C35: «Արթուր Ալեքսանյանի անվան հունահռոմեական ըմբշամարտի մանկապատանեկան դպրոց» նոր սպորտային համալիր | D35: =+E35+F35+G35+H35 -> 500000 | E35: 500000
A36: 1163 | B36: 32001 | C36: Մարզական օբյեկտների շինարարություն | D36: =+E36+F36+G36+H36 -> 4747.1 | E36: =+E38+E40 -> 462 | F36: =+F38+F40 -> 0 | G36: =+G38+G40 -> 4285.1 | H36: =+H38+H40 -> 0
C37: այդ թվում`
C38: Երևան քաղաք | D38: =SUM(E38:H38) -> 462 | E38: =+E39 -> 462 | F38: =+F39 -> 0 | G38: =+G39 -> 0 | H38: =+H39 -> 0
C39: Օլիմպիական հերթափոխի պետական մարզական քոլեջի հանրակացարանային նոր մասնաշենք | D39: =+E39+F39+G39+H39 -> 462 | E39: 462
C40: ՀՀ Արմավիրի մարզ | D40: =SUM(E40:H40) -> 4285.1 | E40: =+E41 -> 0 | F40: =+F41 -> 0 | G40: =+G41 -> 4285.1 | H40: =+H41 -> 0
C41: Ջրառատ համայնքում ծանրամարտի մարզադահլիճ | D41: =+E41+F41+G41+H41 -> 4285.1 | G41: 4285.1
A42: 1168 | B42: 32001 | C42: Ներդրումներ թատրոնների շենքերի կապիտալ վերանորոգման համար | D42: =+E42+F42+G42+H42 -> 50000 | E42: =+E44 -> 0 | F42: =+F44 -> 50000 | G42: =+G44 -> 0 | H42: =+H44 -> 0
C43: այդ թվում`
...

Sheet Havelvats 4
E1: Հավելված N 4
E2: ՀՀ կառավարության 2021 թվականի
E3: ______________ ի ___Ն որոշման
B5: ՀԱՅԱՍՏԱՆԻ ՀԱՆՐԱՊԵՏՈՒԹՅԱՆ ԿԱՌԱՎԱՐՈՒԹՅԱՆ 2020 ԹՎԱԿԱՆԻ ԴԵԿՏԵՄԲԵՐԻ 30-Ի N 2215-Ն ՈՐՈՇՄԱՆ N 5 ՀԱՎԵԼՎԱԾԻ N 2 ԱՂՅՈՒՍԱԿՈՒՄ ԿԱՏԱՐՎՈՂ ԼՐԱՑՈՒՄՆԵՐԸ
G7: հազ. դրամներով
B8: Ծրագրային դասիչ | D8: Բյուջետային գլխավոր կարգադրիչների, ծրագրերի, միջոցառումների, միջոցառումները կատարող պետական մարմինների և ուղղությունների անվանումները | E8: Ցուցանիշների փոփոխությունը (ավելացումները նշված են դրական նշանով)
B9: Ծրագիր | C9: Միջոցառում | E9: Առաջին կիսամյակ | F9: Ինն ամիս | G9: Տարի
D11: ՀՀ ԿՐԹՈՒԹՅԱՆ, ԳԻՏՈՒԹՅԱՆ, ՄՇԱԿՈՒՅԹԻ ԵՎ ՍՊՈՐՏԻ ՆԱԽԱՐԱՐՈՒԹՅՈՒՆ | E11: =+E13+E32+E38+E44+E52+E58+E99 -> 675334.8 | F11: =+F13+F32+F38+F44+F52+F58+F99 -> 822578 | G11: =+G13+G32+G38+G44+G52+G58+G99 -> 1072578
D12: այդ թվում՝
B13: 1045 | C13: 32001 | D13: Նախնական մասնագիտական (արհեստագործական) և միջին մասնագիտական ուսումնական հաստատությունների շենքային պայմանների բարելավում | E13: =+E15+E23 -> 120617.5 | F13: =+F15+F23 -> 117860.7 | G13: =+G15+G23 -> 117860.7
D14: այդ թվում` ըստ կատարողների
D15: ՀՀ կրթության, գիտության, մշակույթի և սպորտի նախարարություն | E15: =+E17+E19+E21 -> 36871.1 | F15: =+F17+F19+F21 -> 36871.1 | G15: =+G17+G19+G21 -> 36871.1
D16: այդ թվում` ըստ ուղղությունների
D17: ՀՀ Արարատի մարզ | E17: =+E18 -> 16034.4 | F17: =+F18 -> 16034.4 | G17: =+G18 -> 16034.4
D18: «Արարատի պետական բժշկական քոլեջ» ՊՈԱԿ | E18: =+'Havelvats 3'!D18 -> 16034.4 | F18: =+E18 -> 16034.4 | G18: =+F18 -> 16034.4
D19: ՀՀ Լոռու մարզ | E19: =+E20 -> 5113.9 | F19: =+F20 -> 5113.9 | G19: =+G20 -> 5113.9
D20: «Ալավերդու պետական քոլեջ» ՊՈԱԿ | E20: =+'Havelvats 3'!D21 -> 5113.9 | F20: =+E20 -> 5113.9 | G20: =+F20 -> 5113.9
D21: ՀՀ Սյունիքի մարզ | E21: =+E22 -> 15722.8 | F21: =+F22 -> 15722.8 | G21: =+G22 -> 15722.8
D22: «Կապանի արվեստի պետական քոլեջ» ՊՈԱԿ | E22: =+'Havelvats 3'!D25 -> 15722.8 | F22: =+E22 -> 15722.8 | G22: =+F22 -> 15722.8
D23: ՀՀ քաղաքաշինության կոմիտե | E23: =+E25+E28+E30 -> 83746.4 | F23: =+F25+F28+F30 -> 80989.6 | G23: =+G25+G28+G30 -> 80989.6
D24: այդ թվում` ըստ ուղղությունների
D25: ՀՀ Լոռու մարզ | E25: =+E26+E27 -> 60225.7 | F25: =+F26+F27 -> 57468.9 | G25: =+G26+G27 -> 57468.9
D26: ք. Վանաձորի Միքայել Թավրիզյանի անվան արվեստի պետական քոլեջի վերակառուցում | E26: =+'Havelvats 3'!D20 -> 57468.9 | F26: =+E26 -> 57468.9 | G26: =+F26 -> 57468.9
D27: ք. Վանաձորի գյուղատնտեսական պետական քոլեջի վերակառուցում | E27: 2756.8
D28: ՀՀ Կոտայքի մարզ | E28: =+E29 -> 1520.7 | F28: =+F29 -> 1520.7 | G28: =+G29 -> 1520.7
D29: «Նոր Գեղիի ակադեմիկոս Գ. Աղաջանյանի անվան պետական գյուղատնտեսական քոլեջ» ՊՈԱԿ | E29: =+'Havelvats 3'!D23 -> 1520.7 | F29: =+E29 -> 1520.7 | G29: =+F29 -> 1520.7
D30: ՀՀ Տավուշի մարզ | E30: =+E31 -> 22000 | F30: =+F31 -> 22000 | G30: =+G31 -> 22000
D31: Նոյեմբերյանի պետական քոլեջ | E31: =+'Havelvats 3'!D27 -> 22000 | F31: =+E31 -> 22000 | G31: =+F31 -> 22000
B32: 1075 | C32: 32001 | D32: Ներդրումներ թանգարանների և պատկերասրահների հիմնանորոգման համար | E32: =+E34 -> 108499.7 | F32: =+F34 -> 108499.7 | G32: =+G34 -> 108499.7
D33: այդ թվում` ըստ կատարողների
D34: ՀՀ կրթության, գիտության, մշակույթի և սպորտի նախարարություն | E34: =+E36 -> 108499.7 | F34: =+F36 -> 108499.7 | G34: =+G36 -> 108499.7
D35: այդ թվում` ըստ ուղղությունների
D36: Երևան քաղաք | E36: =+E37 -> 108499.7 | F36: =+F37 -> 108499.7 | G36: =+G37 -> 108499.7
D37: «Հայաստանի պատմության թանգարան» ՊՈԱԿ | E37: =+'Havelvats 3'!D31 -> 108499.7 | F37: =+E37 -> 108499.7 | G37: =+F37 -> 108499.7
B38: 1163 | C38: 12001 | D38: Աջակցություն համայնքներին մարզական հաստատությունների շենքային պայմանների բարելավման համար | E38: =+E40 -> 100000 | F38: =+F40 -> 250000 | G38: =+G40 -> 500000
D39: այդ թվում` ըստ կատարողների
D40: ՀՀ քաղաքաշինության կոմիտե | E40: =+E42 -> 100000 | F40: =+F42 -> 250000 | G40: =+G42 -> 500000
D41: այդ թվում` ըստ ուղղությունների
D42: ՀՀ Շիրակի մարզ | E42: =+E43 -> 100000 | F42: =+F43 -> 250000 | G42: =+G43 -> 500000
D43: «Արթուր Ալեքսանյանի անվան հունահռոմեական ըմբշամարտի մանկապատանեկան դպրոց» նոր սպորտային համալիր | E43: 100000 | F43: 250000 | G43: 500000
...

Sheet Havelvats 5
F1: Հավելված 5
F2: ՀՀ կառավարության 2021 թվականի
F3: ______________ ի ___Ն որոշման
A5: ՀԱՅԱՍՏԱՆԻ ՀԱՆՐԱՊԵՏՈՒԹՅԱՆ ԿԱՌԱՎԱՐՈՒԹՅԱՆ 2020 ԹՎԱԿԱՆԻ ԴԵԿՏԵՄԲԵՐԻ 30-Ի N 2215-Ն ՈՐՈՇՄԱՆ N 5 ՀԱՎԵԼՎԱԾԻ N 7 և N 7.1 ԱՂՅՈՒՍԱԿՆԵՐՈՒՄ ԿԱՏԱՐՎՈՂ ՓՈՓՈԽՈՒԹՅՈՒՆՆԵՐԸ
G6: հազար դրամ
A7: Ծրագրային դասիչը | C7: Բյուջետային հատկացումների գլխավոր կարգադրիչների, ծրագրերի, միջոցառումների և միջոցառումները կատարող պետական մարմինների անվանումները | F7: Միջոցառումները կատարող պետական մարմինների և դրամաշնորհ ստացող տնտեսվարող սուբյեկտների անվանումները | G7: Ցուցանիշների փոփոխությունը (նվազեցումները նշված են փակագծերում)
A8: Ծրագիր | B8: Միջոցառում | G8: Տարի
A9: ՀՀ կրթության, գիտության, մշակույթի և սպորտի նախարարություն | G9: =G10+G13+G17 -> -368193.6
A10: 1111 | B10: Բարձրագույն և հետբուհական մասնագիտական կրթության ծրագիր | G10: =+G11 -> -94000
B11: 12009 | C11: Աջակցություն արտասահմանում սովորող ուսանողներին | F11: ՀՀ կրթության, գիտության, մշակույթի և սպորտի նախարարություն | G11: =+G12 -> -94000
F12: «Իմ քայլը» հիմնադրամ | G12: =+'Havelvats 2 '!I215 -> -94000
A13: 1148 | B13: Արտադպրոցական դաստիարակության ծրագիր | G13: =+G14 -> -70611.1
B14: 11015 | C14: Քո գիտությունը դպրոցում | F14: ՀՀ կրթության, գիտության, մշակույթի և սպորտի նախարարություն | G14: =+G15 -> -70611.1
F15: «ԵՊՀ-ին առընթեր Ա. Շահինյանի անվան ֆիզիկամաթեմատիկական հատուկ դպրոց» ՊՈԱԿ | G15: =+'Havelvats 2 '!I178 -> -70611.1
A16: 1162 | B16: Գիտական և գիտատեխնիկական հետազոտությունների ծրագիր | G16: =+G17 -> -203582.5
B17: 11005 | C17: Գիտական և գիտատեխնիկական գործունեության պայմանագրային (թեմատիկ) հետազոտություններ | F17: ՀՀ կրթության, գիտության, մշակույթի և սպորտի նախարարության գիտության կոմիտե | G17: =+G18 -> -203582.5
E18: Պայմանագրային (թեմատիկ) հետազոտություններ | G18: =+G19 -> -203582.5
E19: Պայմանագրային (թեմատիկ) հետազոտությունների գիտական թեմաների ֆինանսավորում | F19: մրցույթով ընտրված գիտահետազոտական խմբեր | G19: =+'Havelvats 2 '!I23 -> -203582.5

Sheet Havelvats 6
D1: Հավելված N 6
D2: ՀՀ կառավարության 2021 թվականի
D3: ______________ ի ___Ն որոշման
B5: ՀԱՅԱՍՏԱՆԻ ՀԱՆՐԱՊԵՏՈՒԹՅԱՆ ԿԱՌԱՎԱՐՈՒԹՅԱՆ 2020 ԹՎԱԿԱՆԻ ԴԵԿՏԵՄԲԵՐԻ 30-Ի N 2215-Ն ՈՐՈՇՄԱՆ N 9 ՀԱՎԵԼՎԱԾԻ N 9.14 ԵՎ 9․47 ԱՂՅՈՒՍԱԿՆԵՐՈՒՄ ԿԱՏԱՐՎՈՂ ՓՈՓՈԽՈՒԹՅՈՒՆՆԵՐԸ ԵՎ ԼՐԱՑՈՒՄՆԵՐԸ
A7: Աղյուսակ 9․14
C8: ՀՀ կրթության, գիտության, մշակույթի և սպորտի նախարարություն
B9: ՄԱՍ 2. ՊԵՏԱԿԱՆ ՄԱՐՄՆԻ ԳԾՈՎ ԱՐԴՅՈՒՆՔԱՅԻՆ (ԿԱՏԱՐՈՂԱԿԱՆ) ՑՈՒՑԱՆԻՇՆԵՐԸ
B12: Ծրագրի դասիչը | C12: Ծրագրի անվանումը
B13: 1045 | C13: Նախնական (արհեստագործական) և միջին մասնագիտական կրթություն
B15: Ծրագրի միջոցառումները
B16: Ծրագրի դասիչը՝ | C16: 1045 | D16: Ցուցանիշների փոփոխությունը (նվազեցումները նշված են փակագծերում)
B17: Միջոցառման դասիչը՝ | C17: 12001 | D17: Առաջին կիսամյակ | E17: Ինն ամիս | F17: Տարի
B18: Միջոցառման անվանումը՝ | C18: Նախնական մասնագիտական (արհեստագործական) կրթություն ստացող ուսանողների կրթաթոշակ
B19: Նկարագրությունը՝ | C19: Նախնական մասնագիտական (արհեստագործական) կրթություն ստացող ուսանողներին կրթաթոշակի տրամադրում
B20: Միջոցառման տեսակը՝ | C20: Տրանսֆերտների տրամադրում
B21: Շահառուների ընտրության չափորոշիչները՛ | C21: Արհեստագործական ոլորտում կրթաթոշակ ստացող ուսանողներ
B22: Արդյունքի չափորոշիչներ
B23: Կրթաթոշակ ստացող ուսանողների թիվ, մարդ | D23: -896 | E23: -896 | F23: -896
B24: Միջոցառման վրա կատարվող ծախսը (հազար դրամ) | D24: ='Havelvats 2 '!G120 -> -45922.6 | E24: ='Havelvats 2 '!H120 -> -47294.9 | F24: ='Havelvats 2 '!I120 -> -50000
B26: Ծրագրի միջոցառումները
B27: Ծրագրի դասիչը՝ | C27: 1045 | D27: Ցուցանիշների փոփոխությունը (նվազեցումները նշված են փակագծերում)
B28: Միջոցառման դասիչը՝ | C28: 12002 | D28: Առաջին կիսամյակ | E28: Ինն ամիս | F28: Տարի
B29: Միջոցառման անվանումը՝ | C29: Միջին մասնագիտական կրթություն ստացող ուսանողների կրթաթոշակ
B30: Նկարագրությունը՝ | C30: Միջին մասնագիտական կրթություն ստացող ուսանողներին կրթաթոշակի տրամադրում
B31: Միջոցառման տեսակը՝ | C31: Տրանսֆերտների տրամադրում
B32: Շահառուների ընտրության չափորոշիչները՛ | C32: Միջին մասնագիտական կրթություն ստացող ուսանողներ
B33: Արդյունքի չափորոշիչներ
B34: Կրթաթոշակ ստացող ուսանողների թիվ, մարդ | D34: -2631 | E34: -2631 | F34: -2631
B35: Միջոցառման վրա կատարվող ծախսը (հազար դրամ) | D35: ='Havelvats 2 '!G144 -> -124426.7 | E35: ='Havelvats 2 '!H144 -> -124426.7 | F35: ='Havelvats 2 '!I144 -> -150000
B37: Ծրագրի միջոցառումները
B38: Ծրագրի դասիչը՝ | C38: 1045 | D38: Ցուցանիշների փոփոխությունը (նվազեցումները նշված են փակագծերում)
B39: Միջոցառման դասիչը՝ | C39: 12003 | D39: Առաջին կիսամյակ | E39: Ինն ամիս | F39: Տարի
B40: Միջոցառման անվանումը՝ | C40: Նախնական մասնագիտական (արհեստագործական) կրթության գծով ուսանողական նպաստների տրամադրում
B41: Նկարագրությունը՝ | C41: Նախնական մասնագիտական (արհեստագործական) կրթության գծով ուսանողական նպաստների տրամադրում
B42: Միջոցառման տեսակը՝ | C42: Տրանսֆերտների տրամադրում
B43: Շահառուների ընտրության չափորոշիչները՛ | C43: Նախնական մասնագիտական (արհեստագործական) կրթություն ստացող ուսանողներ
B44: Արդյունքի չափորոշիչներ
B45: Ուսանողական նպաստ ստացող ուսանողների թիվ, մարդ | D45: -163 | E45: -163 | F45: -163
B46: Միջոցառման վրա կատարվող ծախսը (հազար դրամ) | D46: ='Havelvats 2 '!G129 -> -50000 | E46: ='Havelvats 2 '!H129 -> -50000 | F46: ='Havelvats 2 '!I129 -> -50000
B48: Ծրագրի միջոցառումները
...

Sheet Havelvats 7
D1: Հավելված N 7
D2: ՀՀ կառավարության 2021 թվականի
D3: ______________ ի ___Ն որոշման
B5: ՀԱՅԱՍՏԱՆԻ ՀԱՆՐԱՊԵՏՈՒԹՅԱՆ ԿԱՌԱՎԱՐՈՒԹՅԱՆ 2020 ԹՎԱԿԱՆԻ ԴԵԿՏԵՄԲԵՐԻ 30-Ի N 2215-Ն ՈՐՈՇՄԱՆ N 9.1 ՀԱՎԵԼՎԱԾԻ N 9.1.14, 9.1.29, 9.1.42 ԵՎ 9․1.58 ԱՂՅՈՒՍԱԿՆԵՐՈՒՄ ԿԱՏԱՐՎՈՂ ՓՈՓՈԽՈՒԹՅՈՒՆՆԵՐԸ ԵՎ ԼՐԱՑՈՒՄՆԵՐԸ
A7: Աղյուսակ 9․1.14
C8: ՀՀ Կրթության, գիտության, մշակույթի և սպորտի նախարարություն
B9: ՄԱՍ 1. ՊԵՏԱԿԱՆ ՄԱՐՄՆԻ ԳԾՈՎ ԱՐԴՅՈՒՆՔԱՅԻՆ (ԿԱՏԱՐՈՂԱԿԱՆ) ՑՈՒՑԱՆԻՇՆԵՐԸ
B12: Ծրագրի դասիչը | C12: Ծրագրի անվանումը
B13: 1045 | C13: Նախնական (արհեստագործական) և միջին մասնագիտական կրթություն
B15: Ծրագրի միջոցառումները
B16: Ծրագրի դասիչը՝ | C16: 1045 | D16: Ցուցանիշների փոփոխությունը (նվազեցումները նշված են փակագծերում)
B17: Միջոցառման դասիչը՝ | C17: 12001 | D17: Առաջին կիսամյակ | E17: Ինն ամիս | F17: Տարի
B18: Միջոցառման անվանումը՝ | C18: Նախնական մասնագիտական (արհեստագործական) կրթություն ստացող ուսանողների կրթաթոշակ
B19: Նկարագրությունը՝ | C19: Նախնական մասնագիտական (արհեստագործական) կրթություն ստացող ուսանողներին կրթաթոշակի տրամադրում
B20: Միջոցառման տեսակը՝ | C20: Տրանսֆերտների տրամադրում
B21: Շահառուների ընտրության չափորոշիչները՛ | C21: Արհեստագործական ոլորտում կրթաթոշակ ստացող ուսանողներ
B22: Արդյունքի չափորոշիչներ
B23: Կրթաթոշակ ստացող ուսանողների թիվ, մարդ | D23: -896 | E23: -896 | F23: -896
B24: Միջոցառման վրա կատարվող ծախսը (հազար դրամ) | D24: ='Havelvats 2 '!G120 -> -45922.6 | E24: ='Havelvats 2 '!H120 -> -47294.9 | F24: ='Havelvats 2 '!I120 -> -50000
B26: Ծրագրի միջոցառումները
B27: Ծրագրի դասիչը՝ | C27: 1045 | D27: Ցուցանիշների փոփոխությունը (նվազեցումները նշված են փակագծերում)
B28: Միջոցառման դասիչը՝ | C28: 12002 | D28: Առաջին կիսամյակ | E28: Ինն ամիս | F28: Տարի
B29: Միջոցառման անվանումը՝ | C29: Միջին մասնագիտական կրթություն ստացող ուսանողների կրթաթոշակ
B30: Նկարագրությունը՝ | C30: Միջին մասնագիտական կրթություն ստացող ուսանողներին կրթաթոշակի տրամադրում
B31: Միջոցառման տեսակը՝ | C31: Տրանսֆերտների տրամադրում
B32: Շահառուների ընտրության չափորոշիչները՛ | C32: Միջին մասնագիտական կրթություն ստացող ուսանողներ
B33: Արդյունքի չափորոշիչներ
B34: Կրթաթոշակ ստացող ուսանողների թիվ, մարդ | D34: -2631 | E34: -2631 | F34: -2631
B35: Միջոցառման վրա կատարվող ծախսը (հազար դրամ) | D35: ='Havelvats 2 '!G144 -> -124426.7 | E35: ='Havelvats 2 '!H144 -> -124426.7 | F35: ='Havelvats 2 '!I144 -> -150000
B37: Ծրագրի միջոցառումները
B38: Ծրագրի դասիչը՝ | C38: 1045 | D38: Ցուցանիշների փոփոխությունը (նվազեցումները նշված են փակագծերում)
B39: Միջոցառման դասիչը՝ | C39: 12003 | D39: Առաջին կիսամյակ | E39: Ինն ամիս | F39: Տարի
B40: Միջոցառման անվանումը՝ | C40: Նախնական մասնագիտական (արհեստագործական) կրթության գծով ուսանողական նպաստների տրամադրում
B41: Նկարագրությունը՝ | C41: Նախնական մասնագիտական (արհեստագործական) կրթության գծով ուսանողական նպաստների տրամադրում
B42: Միջոցառման տեսակը՝ | C42: Տրանսֆերտների տրամադրում
B43: Շահառուների ընտրության չափորոշիչները՛ | C43: Նախնական մասնագիտական (արհեստագործական) կրթություն ստացող ուսանողներ
B44: Արդյունքի չափորոշիչներ
B45: Ուսանողական նպաստ ստացող ուսանողների թիվ, մարդ | D45: -163 | E45: -163 | F45: -163
B46: Միջոցառման վրա կատարվող ծախսը (հազար դրամ) | D46: ='Havelvats 2 '!G129 -> -50000 | E46: ='Havelvats 2 '!H129 -> -50000 | F46: ='Havelvats 2 '!I129 -> -50000
B48: Ծրագրի միջոցառումները
...

Sheet Havelvats 8
H1: Հավելված N 8
H2: ՀՀ կառավարության 2021 թվականի
H3: ______________ ի ___Ն որոշման
A5: ՀԱՅԱՍՏԱՆԻ ՀԱՆՐԱՊԵՏՈՒԹՅԱՆ ԿԱՌԱՎԱՐՈՒԹՅԱՆ 2020 ԹՎԱԿԱՆԻ ԴԵԿՏԵՄԲԵՐԻ 30-Ի N 2215-Ն ՈՐՈՇՄԱՆ N 10 ՀԱՎԵԼՎԱԾՈՒՄ ԿԱՏԱՐՎՈՂ ՓՈՓՈԽՈՒԹՅՈՒՆՆԵՐԸ ԵՎ ԼՐԱՑՈՒՄՆԵՐԸ
A7: Կոդը | B7: Անվանումը | E7: Գնման ձևը | F7: Չափման միավորը | G7: Միավորի գինը | H7: Ցուցանիշների փոփոխությունը (ավելացումները նշված են դրական նշանով, իսկ նվազեցումները` փակագծերում)
H8: Քանակը | I8: Գումարը (հազար դրամ)
A9: 1 | B9: 2 | E9: 3 | F9: 4 | G9: 5 | H9: 6 | I9: 7
A10: ՀՀ կրթության, գիտության, մշակույթի և սպորտի նախարարություն | I10: =+I11+I18+I25+I29 -> 51618.233
A11: Բաժին N 08 | B11: Խումբ N 01 | C11: Դաս N 01 | D11: Հանգստի և սպորտի ծառայություններ | I11: =+I12+I15 -> -66496.4
A12: 1163-11005 | B12: «Լավագույն մարզական նախադպրոցական հաստատություն» մրցույթի անցկացում | I12: =+I13 -> -18920.5
B13: ՄԱՍ III. ԾԱՌԱՅՈՒԹՅՈՒՆՆԵՐ | I13: =+I14 -> -18920.5
A14: 92621110-1 | B14: սպորտային միջոցառումների կազմակերպման ծառայություններ | E14: գհ | F14: դրամ | G14: 18920500 | H14: -1 | I14: =-G14/1000 -> -18920.5
A15: 1163-11008 | B15: ՀՀ մարզերի, Երևան քաղաքի և ԱՀ հանրակրթական դպրոցների 8-12 դասարանների աշակերտների սպարտակիադայի անցկացում | I15: =+I16 -> -47575.9
B16: ՄԱՍ III. ԾԱՌԱՅՈՒԹՅՈՒՆՆԵՐ | I16: =+I17 -> -47575.9
A17: 92621110-1 | B17: սպորտային միջոցառումների կազմակերպման ծառայություններ | E17: գհ | F17: դրամ | G17: 47575900 | H17: -1 | I17: =-G17/1000 -> -47575.9
A18: Բաժին N 08 | B18: Խումբ N 02 | C18: Դաս N 02 | D18: Թանգարաններ և ցուցասրահներ | I18: =+I19 -> 108499.7
A19: 1075-32001 | B19: Ներդրումներ թանգարանների և պատկերասրահների հիմնանորոգման համար | I19: =+I20+I22 -> 108499.7
B20: ՄԱՍ II. ԱՇԽԱՏԱՆՔՆԵՐ | I20: =+I21 -> 107649.1
A21: 45331123 | B21: ջերմաստիճանի կարգավորման համակարգի տեղադրման աշխատանքներ | E21: ՀԲՄ | F21: դրամ | G21: 107649104 | H21: 1 | I21: 107649.1
B22: ՄԱՍ III. ԾԱՌԱՅՈՒԹՅՈՒՆՆԵՐ | I22: =SUM(I23:I24) -> 850.6
A23: 71351540 | B23: տեխնիկական հսկողության ծառայություններ | E23: ԳՀ | F23: դրամ | G23: 462000 | H23: 1 | I23: =+G23/1000 -> 462
A24: 98111140 | B24: հեղինակային հսկողության ծառայություններ | E24: ՄԱ | F24: դրամ | G24: 388640 | H24: 1 | I24: 388.6
A25: Բաժին N 08 | B25: Խումբ N 02 | C25: Դաս N 05 | D25: Արվեստ | I25: =+I26 -> 4501
A26: 1168-11021 | B26: Թատրոնների շենքերի ընթացիկ նորոգում | I26: =+I27 -> 4501
B27: ՄԱՍ II. ԱՇԽԱՏԱՆՔՆԵՐ | I27: =+I28 -> 4501
A28: 45461100 | B28: շենքերի, շինությունների ընթացիկ նորոգման աշխատանքներ | E28: ԳՀ | F28: դրամ | G28: 4501000 | H28: 1 | I28: =+G28/1000 -> 4501
A29: Բաժին N 09 | B29: Խումբ N 06 | C29: Դաս N 01 | D29: Կրթությանը տրամադրվող օժանդակ ծառայություններ | I29: =+I30 -> 5113.933
A30: 1045-32001 | B30: Նախնական մասնագիտական (արհեստագործական) և միջին մասնագիտական ուսումնական հաստատությունների շենքային պայմանների բարելավում | I30: =+I31+I33 -> 5113.933
B31: ՄԱՍ II. ԱՇԽԱՏԱՆՔՆԵՐ | I31: =SUM(I32:I32) -> 4871.883
A32: 45611100 | B32: կրթական օբյեկտների հիմնանորոգում | E32: ԳՀ | F32: դրամ | G32: =4428983+442900 -> 4871883 | H32: 1 | I32: =+G32/1000 -> 4871.883
B33: ՄԱՍ III. ԾԱՌԱՅՈՒԹՅՈՒՆՆԵՐ | I33: =SUM(I34:I35) -> 242.05
A34: 71351540 | B34: տեխնիկական հսկողության ծառայություններ | E34: ԳՀ | F34: դրամ | G34: 185000 | H34: 1 | I34: =+G34/1000 -> 185
A35: 98111140 | B35: հեղինակային հսկողության ծառայություններ | E35: ՄԱ | F35: դրամ | G35: 57050 | H35: 1 | I35: =+G35/1000 -> 57.05
A39: ՀՀ քաղաքաշինության կոմիտե | I39: =+I40+I47 -> 865109.85
A40: Բաժին N 08 | B40: Խումբ N 02 | C40: Դաս N 05 | D40: Արվեստ | I40: =+I41 -> 49945.9
A41: 1168-32001 | B41: Ներդրումներ թատրոնների շենքերի կապիտալ վերանորոգման համար | I41: =+I42+I44 -> 49945.9
B42: ՄԱՍ II. ԱՇԽԱՏԱՆՔՆԵՐ | I42: =+I43 -> 49186.2
A43: 45611200 | B43: մշակութային օբյեկտների հիմնանորոգում | E43: ԲՄ | F43: դրամ | G43: 49186200 | H43: 1 | I43: =+G43/1000 -> 49186.2
B44: ՄԱՍ III. ԾԱՌԱՅՈՒԹՅՈՒՆՆԵՐ | I44: =SUM(I45:I46) -> 759.7
A45: 71351540 | B45: տեխնիկական հսկողության ծառայություններ | E45: ԳՀ | F45: դրամ | G45: =559200-54124 -> 505076 | H45: 1 | I45: 505.1
...

Sheet Havelvats 9
D1: Հավելված N 9
D2: ՀՀ կառավարության 2021 թվականի
D3: ______________ ի ___Ն որոշման
A6: «ՀԱՅԱUՏԱՆԻ ՀԱՆՐԱՊԵՏՈՒԹՅԱՆ 2021 ԹՎԱԿԱՆԻ ՊԵՏԱԿԱՆ ԲՅՈՒՋԵԻ ՄԱUԻՆ» ՀԱՅԱUՏԱՆԻ ՀԱՆՐԱՊԵՏՈՒԹՅԱՆ OՐԵՆՔԻ N 6 ՀԱՎԵԼՎԱԾԻ N 2 ԱՂՅՈՒՍԱԿՈՒՄ ԿԱՏԱՐՎՈՂ ՓՈՓՈԽՈՒԹՅՈՒՆՆԵՐԸ
C7: հազար դրամներով
A8: Ծրագրային դասիչ | C8: Բյուջետային գլխավոր կարգադրիչների, ծրագրերի, միջոցառումների և ուղղությունների անվանումները | D8: Ցուցանիշների փոփոխությունը (նվազեցումները նշված են փակագծերում)
A9: Ծրագիր | B9: Միջոցառում | D9: Ընդամենը
C10: ԸՆԴԱՄԵՆԸ | D10: =+D12 -> -1072578
C11: այդ թվում՝
C12: ՀՀ ԿՐԹՈՒԹՅԱՆ, ԳԻՏՈՒԹՅԱՆ, ՄՇԱԿՈՒՅԹԻ ԵՎ ՍՊՈՐՏԻ ՆԱԽԱՐԱՐՈՒԹՅՈՒՆ | D12: =SUM(D14:D19) -> -1072578
C13: այդ թվում`
A14: 1045 | B14: 32001 | C14: Նախնական մասնագիտական (արհեստագործական) և միջին մասնագիտական ուսումնական հաստատությունների շենքային պայմանների բարելավում | D14: =-'Havelvats 3'!D15 -> -117860.7
A15: 1075 | B15: 32001 | C15: Ներդրումներ թանգարանների և պատկերասրահների հիմնանորոգման համար | D15: =-'Havelvats 3'!D28 -> -108499.7
A16: 1163 | B16: 32001 | C16: Մարզական օբյեկտների շինարարություն | D16: =-('Havelvats 3'!D32+'Havelvats 3'!D36) -> -504747.1
A17: 1168 | B17: 32001 | C17: Ներդրումներ թատրոնների շենքերի կապիտալ վերանորոգման համար | D17: =-'Havelvats 3'!D42 -> -50000
A18: 1183 | B18: 32001 | C18: Կրթական օբյեկտների շենքային պայմանների բարելավում | D18: =-'Havelvats 3'!D46 -> -242983.2
A19: 1183 | B19: 32004 | C19: Ավագ մակարդակի կրթություն իրականացնող ուսումնական հաստատությունների շենքային պայմանների բարելավում | D19: =-'Havelvats 3'!D82 -> -48487.3

Sheet Havelvats 10
G1: Հավելված N 10
I2: ՀՀ կառավարության 2021 թվականի
I3: ______________ ի ___Ն որոշման
A6: ՀԱՅԱՍՏԱՆԻ ՀԱՆՐԱՊԵՏՈՒԹՅԱՆ 2021 ԹՎԱԿԱՆԻ ՊԵՏԱԿԱՆ ԲՅՈՒՋԵՈՎ ՆԱԽԱՏԵՍՎԱԾ՝ ՀԱՅԱՍՏԱՆԻ ՀԱՆՐԱՊԵՏՈՒԹՅԱՆ ԿԱՌԱՎԱՐՈՒԹՅԱՆ ՊԱՀՈՒՍՏԱՅԻՆ ՖՈՆԴԻՑ ՀԱՏԿԱՑՈՒՄՆԵՐ ԿԱՏԱՐԵԼՈՒ ՎԵՐԱԲԵՐՅԱԼ
H8: հազ. դրամներով
A9: Գործառական դասիչը | D9: Ծրագրային դասիչը | F9: Բյուջետային հատկացումների գլխավոր կարգադրիչների, ծրագրերի, միջոցառումների և միջոցառումները կատարող պետական մարմինների անվանումները | G9: Ցուցանիշների փոփոխությունը (ավելացումները նշված են դրական նշանով, իսկ նվազեցումները` փակագծերում)
A10: Բաժին | B10: Խումբ | C10: Դաս | D10: Ծրագիր | E10: Միջոցառում | G10: Առաջին կիսամյակ | H10: Ինն ամիս | I10: Տարի
F11: ԸՆԴԱՄԵՆԸ | G11: =+G13+G32 -> 0 | H11: =+H13+H32 -> 0 | I11: =+I13+I32 -> 0
F12: այդ թվում
F13: ՀՀ կառավարություն | G13: =+G14 -> -316235.1 | H13: =+H14 -> -466235.1 | I13: =+I14 -> -716235.1
A14: 11 | F14: ՀԻՄՆԱԿԱՆ ԲԱԺԻՆՆԵՐԻՆ ՉԴԱՍՎՈՂ ՊԱՀՈՒՍՏԱՅԻՆ ՖՈՆԴԵՐ | G14: =+G16 -> -316235.1 | H14: =+H16 -> -466235.1 | I14: =+I16 -> -716235.1
F15: այդ թվում`
B16: 01 | F16: ՀՀ կառավարության և համայնքների պահուստային ֆոնդ | G16: =+G18 -> -316235.1 | H16: =+H18 -> -466235.1 | I16: =+I18 -> -716235.1
F17: այդ թվում`
C18: 01 | F18: ՀՀ կառավարության պահուստային ֆոնդ | G18: =+G20 -> -316235.1 | H18: =+H20 -> -466235.1 | I18: =+I20 -> -716235.1
F19: այդ թվում`
F20: ՀՀ կառավարություն | G20: =+G22 -> -316235.1 | H20: =+H22 -> -466235.1 | I20: =+I22 -> -716235.1
F21: այդ թվում`
D22: 1139 | E22: ՀՀ կառավարության պահուստային ֆոնդ | F22: ՀՀ կառավարության պահուստային ֆոնդ | G22: =+G24 -> -316235.1 | H22: =+H24 -> -466235.1 | I22: =+I24 -> -716235.1
F23: այդ թվում`
E24: 11001 | F24: ՀՀ կառավարության պահուստային ֆոնդ | G24: =+G26 -> -316235.1 | H24: =+H26 -> -466235.1 | I24: =+I26 -> -716235.1
F25: այդ թվում` ըստ կատարողների
F26: ՀՀ կառավարություն | G26: =+G28 -> -316235.1 | H26: =+H28 -> -466235.1 | I26: =+I28 -> -716235.1
F27: այդ թվում՝ բյուջետային ծախսերի տնտեսագիտական դասակարգման հոդվածներ
F28: ԸՆԴԱՄԵՆԸ ԾԱԽՍԵՐ | G28: =+G29 -> -316235.1 | H28: =+H29 -> -466235.1 | I28: =+I29 -> -716235.1
F29: ԸՆԹԱՑԻԿ ԾԱԽՍԵՐ | G29: =+G30 -> -316235.1 | H29: =+H30 -> -466235.1 | I29: =+I30 -> -716235.1
F30: ԱՅԼ ԾԱԽՍԵՐ | G30: =+G31 -> -316235.1 | H30: =+H31 -> -466235.1 | I30: =+I31 -> -716235.1
F31: Պահուստային միջոցներ | G31: =+'Havelvats 2 '!G294 -> -316235.1 | H31: =+'Havelvats 2 '!H294 -> -466235.1 | I31: =+'Havelvats 2 '!I294 -> -716235.1
F32: ՀՀ կրթության, գիտության, մշակույթի և սպորտի նախարարություն | G32: =+G33+G76 -> 316235.1 | H32: =+H33+H76 -> 466235.1 | I32: =+I33+I76 -> 716235.1
A33: 08 | F33: ՀԱՆԳԻՍՏ, ՄՇԱԿՈՒՅԹ ԵՎ ԿՐՈՆ | G33: =+G35 -> 163000.7 | H33: =+H35 -> 163000.7 | I33: =+I35 -> 163000.7
F34: այդ թվում`
B35: 02 | F35: Մշակութային ծառայություններ | G35: =+G37+G52 -> 163000.7 | H35: =+H37+H52 -> 163000.7 | I35: =+I37+I52 -> 163000.7
F36: այդ թվում`
C37: 02 | F37: Թանգարաններ և ցուցասրահներ | G37: =+G39 -> 108499.7 | H37: =+H39 -> 108499.7 | I37: =+I39 -> 108499.7
F38: այդ թվում`
F39: ՀՀ կրթության, գիտության, մշակույթի և սպորտի նախարարություն | G39: =+G41 -> 108499.7 | H39: =+H41 -> 108499.7 | I39: =+I41 -> 108499.7
F40: այդ թվում`
D41: 1075 | E41: Մշակութային ժառանգության ծրագիր | G41: =+G43 -> 108499.7 | H41: =+H43 -> 108499.7 | I41: =+I43 -> 108499.7
E42: 32001 | F42: այդ թվում`
F43: Ներդրումներ թանգարանների և պատկերասրահների հիմնանորոգման համար | G43: =+G45 -> 108499.7 | H43: =+H45 -> 108499.7 | I43: =+I45 -> 108499.7
...
