Workbook
Name շախմատիստ: #REF!

Sheet Հավելված N 1
C1: Հավելված N 1
C2: ՀՀ կառավարության 2021 թվականի
C3: ______________ ի ___Ն որոշման
A4: «ՀԱՅԱՍՏԱՆԻ ՀԱՆՐԱՊԵՏՈՒԹՅԱՆ 2021 ԹՎԱԿԱՆԻ ՊԵՏԱԿԱՆ ԲՅՈՒՋԵԻ ՄԱՍԻՆ» ՕՐԵՆՔԻ N 1 ՀԱՎԵԼՎԱԾԻ N 2 ԱՂՅՈՒՍԱԿՈՒՄ ԿԱՏԱՐՎՈՂ ՎԵՐԱԲԱՇԽՈՒՄԸ ԵՎ ՀԱՅԱՍՏԱՆԻ ՀԱՆՐԱՊԵՏՈՒԹՅԱՆ ԿԱՌԱՎԱՐՈՒԹՅԱՆ 2020 ԹՎԱԿԱՆԻ ԴԵԿՏԵՄԲԵՐԻ 30-Ի N 2215-Ն ՈՐՈՇՄԱՆ N 5 ՀԱՎԵԼՎԱԾԻ N 1 ԱՂՅՈՒՍԱԿՈՒՄ ԿԱՏԱՐՎՈՂ ՓՈՓՈԽՈՒԹՅՈՒՆՆԵՐԸ
F5: հազ․ դրամ
A6: Ծրագրային դասիչը | C6: Բյուջետային հատկացումների գլխավոր կարգադրիչների, ծրագրերի և միջոցառումների անվանումները | D6: Ցուցանիշների փոփոխությունը (ավելացումները նշված են դրական նշանով, իսկ նվազեցումները՝ փակագծերում)
A7: ծրագիր | B7: միջոցառում | D7: Առաջին կիսամյակ | E7: Ինն ամիս | F7: Տարի
C8: ԸՆԴԱՄԵՆԸ | D8: =D10 -> 6.9121597e-11 | E8: =E10 -> 6.9121597e-11 | F8: =F10 -> 6.9121597e-11
C9: այդ թվում
A10: ՀՀ կրթության, գիտության, մշակույթի և սպորտի նախարարություն | D10: =D12+D25+D37+D50 -> 6.9121597e-11 | E10: =E12+E25+E37+E50 -> 6.9121597e-11 | F10: =F12+F25+F37+F50 -> 6.9121597e-11
A11: 1215 | C11: Ծրագրի անվանումը`
C12: Կրթության, մշակույթի և սպորտի ոլորտներում միջազգային և սփյուռքի հետ համագործակցության զարգացում | D12: =D19 -> -534000 | E12: =E19 -> -534000 | F12: =F19 -> -534000
C13: Ծրագրի նպատակը`
C14: Կրթության, մշակույթի և սպորտի ոլորտներում միջազգային համագործակցության ընդլայնում, սփյուռքում և օտարերկրյա պետություններում հայկական կրթական կարողությունների հզորացում
C15: Վերջնական արդյունքի նկարագրությունը`
C16: Սփյուռքի ուսուցիչների կարողությունների բարելավում, հայագիտական առարկաների դասավանդման հիմքերի ամրապնդում, համահայկական միջոցառումների կազմակերպում, միջազգային համաձայնագրերով և հուշագրերով անդամակցությունների գործընթացի ապահովում
A17: Ծրագրի միջոցառումներ
B18: 12009 | C18: Միջոցառման անվանումը`
C19: Հայաստանում «STARMUS» փառատոնի կազմակերպման և անցկացման մասնակցության վճար | D19: =-534000 -> -534000 | E19: =-534000 -> -534000 | F19: =-534000 -> -534000
C20: Միջոցառման նկարագրությունը`
C21: Հայաստանում «STARMUS» փառատոնի կազմակերպման և անցկացման մասնակցության վճար
C22: Միջոցառման տեսակը
C23: Տրանսֆերտների տրամադրում
A24: 1146 | C24: Ծրագրի անվանումը`
C25: Հանրակրթության ծրագիր | D25: =D31 -> -56440.6 | E25: =E31 -> -56440.6 | F25: =F31 -> -56440.6
C26: Ծրագրի նպատակը`
C27: Ապահովել անվճար և որակյալ հանրակրթություն
C28: Վերջնական արդյունքի նկարագրությունը`
C29: Մտավոր, հոգևոր, ֆիզիկական և սոցիալական ունակությունների համակողմանի ու ներդաշնակ զարգացմամբ, հայրենասիրության, պետականության և մարդասիրության ոգով դաստիրակված, պատշաճ վարքով և վարվելակերպով անձի ձևավորում
B30: 11012 | C30: Միջոցառման անվանումը`
C31: Միջնակարգ մասնագիտացված հանրակրթություն | D31: =-56440.6 -> -56440.6 | E31: =-56440.6 -> -56440.6 | F31: =-56440.6 -> -56440.6
C32: Միջոցառման նկարագրությունը`
C33: Միջնակարգ կրթության մակարդակում մասնագիտացված հանրակրթական ծառայությունների մատուցման միջոցով սովորողների ընդգրկվածության , համակողմանի զարգացման և գրագիտության ապահովում
C34: Միջոցառման տեսակը
C35: Ծառայությունների մատուցում
A36: 1111 | C36: Ծրագրի անվանումը`
C37: Բարձրագույն և հետբուհական մասնագիտական կրթության ծրագիր | D37: =D44 -> 570720.8 | E37: =E44 -> 570720.8 | F37: =F44 -> 570720.8
C38: Ծրագրի նպատակը`
C39: Ապահովել մատչելի, որակյալ և մրցունակ բարձրագույն և հետբուհական մասնագիտական կրթություն
C40: Վերջնական արդյունքի նկարագրությունը`
...

Sheet Հավելված N 2
F1: Հավելված N 2
F2: ՀՀ կառավարության 2021 թվականի
F3: ______________ ի ___Ն որոշման
A4: ՀԱՅԱՍՏԱՆԻ ՀԱՆՐԱՊԵՏՈՒԹՅԱՆ ԿԱՌԱՎԱՐՈՒԹՅԱՆ 2020 ԹՎԱԿԱՆԻ ԴԵԿՏԵՄԲԵՐԻ 30-Ի N 2215-Ն ՈՐՈՇՄԱՆ N 3 և N 4 ՀԱՎԵԼՎԱԾՆԵՐՈՒՄ ԿԱՏԱՐՎՈՂ ՓՈՓՈԽՈՒԹՅՈՒՆՆԵՐԸ
I5: հազ․ դրամ
A6: Գործառական դասիչը | D6: Ծրագրային դասիչը | F6: Բյուջետային ծախսերի գործառական դասակարգման բաժինների, խմբերի և դասերի, բյուջետային ծրագրերի միջոցառումների, բյուջետային հատկացումների գլխավոր կարգադրիչների անվանումները | G6: Ցուցանիշների փոփոխություն (ավելացումները նշված են դրական նշանով, իսկ նվազեցումները՝ փակագծերում )
A7: Բաժին | B7: Խումբ | C7: Դաս | D7: Ծրագիր | E7: Միջոցառում | G7: Առաջին կիսամյակ | H7: Ինն ամիս | I7: Տարի
F8: ԸՆԴԱՄԵՆԸ | G8: =G10 -> 6.9121597e-11 | H8: =H10 -> 6.9121597e-11 | I8: =I10 -> 6.9121597e-11
F9: այդ թվում`
A10: ՀՀ կրթության, գիտության, մշակույթի և սպորտի նախարարություն | G10: =G11 -> 6.9121597e-11 | H10: =H11 -> 6.9121597e-11 | I10: =I11 -> 6.9121597e-11
A11: 09 | F11: ԿՐԹՈՒԹՅՈՒՆ | G11: =G13+G28+G43+G58 -> 6.9121597e-11 | H11: =H13+H28+H43+H58 -> 6.9121597e-11 | I11: =I13+I28+I43+I58 -> 6.9121597e-11
F12: այդ թվում`
B13: 06 | F13: Կրթությանը տրամադրվող օժանդակ ծառայություններ | G13: =G15 -> -534000 | H13: =H15 -> -534000 | I13: =I15 -> -534000
F14: այդ թվում`
C15: 01 | F15: Կրթությանը տրամադրվող օժանդակ ծառայություններ | G15: =G19 -> -534000 | H15: =H19 -> -534000 | I15: =I19 -> -534000
F16: այդ թվում`
D17: 1215 | F17: Կրթության, մշակույթի և սպորտի ոլորտներում միջազգային և սփյուռքի հետ համագործակցության զարգացում
F18: այդ թվում`
E19: 12009 | F19: Հայաստանում «STARMUS» փառատոնի կազմակերպման և անցկացման մասնակցության վճար | G19: =G21 -> -534000 | H19: =H21 -> -534000 | I19: =I21 -> -534000
F20: այդ թվում` ըստ կատարողների
F21: ՀՀ կրթության , գիտության, մշակույթի և սպորտի նախարարություն | G21: =G23 -> -534000 | H21: =H23 -> -534000 | I21: =I23 -> -534000
F22: այդ թվում` բյուջետային ծախսերի տնտեսագիտական դասակարգման հոդվածներ
F23: ԸՆԴԱՄԵՆԸ ԾԱԽՍԵՐ | G23: =G24 -> -534000 | H23: =H24 -> -534000 | I23: =I24 -> -534000
F24: ԸՆԹԱՑԻԿ ԾԱԽՍԵՐ | G24: =G25 -> -534000 | H24: =H25 -> -534000 | I24: =I25 -> -534000
F25: ԴՐԱՄԱՇՆՈՐՀՆԵՐ | G25: =G26 -> -534000 | H25: =H26 -> -534000 | I25: =I26 -> -534000
F26: Դրամաշնորհներ միջազգային կազմակերպություններին | G26: =G27 -> -534000 | H26: =H27 -> -534000 | I26: =I27 -> -534000
F27: - Ընթացիկ դրամաշնորհներ միջազգային կազմակերպություններին | G27: ='Հավելված N 1'!D19 -> -534000 | H27: ='Հավելված N 1'!E19 -> -534000 | I27: ='Հավելված N 1'!F19 -> -534000
B28: 02 | F28: Միջնակարգ ընդհանուր կրթություն | G28: =G30 -> -56440.6 | H28: =H30 -> -56440.6 | I28: =I30 -> -56440.6
F29: այդ թվում`
C30: 02 | F30: Միջնակարգ (լրիվ) ընդհանուր կրթություն | G30: =G32 -> -56440.6 | H30: =H32 -> -56440.6 | I30: =I32 -> -56440.6
F31: այդ թվում`
D32: 1146 | F32: Հանրակրթության ծրագիր | G32: =G34 -> -56440.6 | H32: =H34 -> -56440.6 | I32: =I34 -> -56440.6
F33: այդ թվում`
E34: 11012 | F34: Միջնակարգ մասնագիտացված հանրակրթություն | G34: =G36 -> -56440.6 | H34: =H36 -> -56440.6 | I34: =I36 -> -56440.6
F35: այդ թվում` ըստ կատարողների
F36: ՀՀ կրթության , գիտության, մշակույթի և սպորտի նախարարություն | G36: =G38 -> -56440.6 | H36: =H38 -> -56440.6 | I36: =I38 -> -56440.6
F37: այդ թվում` բյուջետային ծախսերի տնտեսագիտական դասակարգման հոդվածներ
F38: ԸՆԴԱՄԵՆԸ ԾԱԽՍԵՐ | G38: =G39 -> -56440.6 | H38: =H39 -> -56440.6 | I38: =I39 -> -56440.6
F39: ԸՆԹԱՑԻԿ ԾԱԽՍԵՐ | G39: =G40 -> -56440.6 | H39: =H40 -> -56440.6 | I39: =I40 -> -56440.6
F40: ՍՈՒԲՍԻԴԻԱՆԵՐ | G40: =G41 -> -56440.6 | H40: =H41 -> -56440.6 | I40: =I41 -> -56440.6
...

Sheet Հավելված N3
B1: Հավելված N 3
B2: ՀՀ կառավարության 2021 թվականի
B3: ______________ ի ___Ն որոշման
A5: ՀԱՅԱՍՏԱՆԻ ՀԱՆՐԱՊԵՏՈՒԹՅԱՆ ԿԱՌԱՎԱՐՈՒԹՅԱՆ 2020 ԹՎԱԿԱՆԻ ԴԵԿՏԵՄԲԵՐԻ 30-Ի N 2215-Ն ՈՐՈՇՄԱՆ N 9 ԵՎ N 9.1 ՀԱՎԵԼՎԱԾՆԵՐԻ N 9.14, N 9.1.14 ԱՂՅՈՒՍԱԿՆԵՐՈՒՄ ԿԱՏԱՐՎՈՂ ՓՈՓՈԽՈՒԹՅՈՒՆՆԵՐԸ
E6: հազ․ դրամ
A7: ՀՀ կրթության, գիտության, մշակույթի և սպորտի նախարարություն
A8: ՄԱՍ 2. ՊԵՏԱԿԱՆ ՄԱՐՄՆԻ ԳԾՈՎ ԱՐԴՅՈՒՆՔԱՅԻՆ (ԿԱՏԱՐՈՂԱԿԱՆ) ՑՈՒՑԱՆԻՇՆԵՐԸ
A10: Ծրագրի դասիչը | B10: Ծրագրի անվանումը
A11: 1215 | B11: Կրթության, մշակույթի և սպորտի ոլորտներում միջազգային և սփյուռքի հետ համագործակցության զարգացում
A13: Ծրագրի միջոցառումները
A15: Ծրագրի դասիչը` | B15: 1215 | C15: Ցուցանիշների փոփոխություն (նվազեցումները նշված են փակագծերում)
A16: Միջոցառման դասիչը` | B16: 12009 | C16: Առաջին կիսամյակ | D16: Ինն ամիս | E16: Տարի
A17: Միջոցառման անվանումը` | B17: Հայաստանում «STARMUS» փառատոնի կազմակերպման և անցկացման մասնակցության վճար
A18: Նկարագրությունը` | B18: Հայաստանում «STARMUS» փառատոնի կազմակերպման և անցկացման մասնակցության վճար
A19: Միջոցառման տեսակը` | B19: Տրանսֆերտների տրամադրում
A20: Շահառուների ընտրության չափորոշիչը | B20: «STARMUS» Universe 2007 S.L.» կազմակերպություն
A21: Արդյունքի չափորոշիչներ
A22: Միջազգային կազմակերպությունների թիվը | C22: -1 | D22: -1 | E22: -1
A23: Միջոցառման վրա կատարվող ծախսը (հազար դրամ) | C23: ='Հավելված N 2'!G19 -> -534000 | D23: ='Հավելված N 2'!H19 -> -534000 | E23: ='Հավելված N 2'!I19 -> -534000
A25: Ծրագրի դասիչը | B25: Ծրագրի անվանումը
A26: 1146 | B26: Հանրակրթության ծրագիր
A28: Ծրագրի միջոցառումները
A30: Ծրագրի դասիչը` | B30: 1146 | C30: Ցուցանիշների փոփոխություն (նվազեցումները նշված են փակագծերում)
A31: Միջոցառման դասիչը` | B31: 11012 | C31: Առաջին կիսամյակ | D31: Ինն ամիս | E31: Տարի
A32: Միջոցառման անվանումը` | B32: Միջնակարգ մասնագիտացված հանրակրթություն
A33: Նկարագրությունը` | B33: Միջնակարգ կրթության մակարդակում մասնագիտացված հանրակրթական ծառայությունների մատուցման միջոցով սովորողների ընդգրկվածության , համակողմանի զարգացման և գրագիտության ապահովում
A34: Միջոցառման տեսակը` | B34: Ծառայությունների մատուցում
A35: Ծառայությունը մատուցող կազմակերպության(ների) անվանում(ներ)ը՛ | B35: Նախարարության ենթակայության մասնագիտացված հանրակրթական ուսումնական հաստատություններ
A36: Արդյունքի չափորոշիչներ
A37: Սովորողների միջին տարեկան թիվը /մարդ /, որից՛ | C37: -54.5 | D37: -54.5 | E37: -54.5
A38: Միջոցառման վրա կատարվող ծախսը (հազար դրամ) | C38: ='Հավելված N 2'!G42 -> -56440.6 | D38: ='Հավելված N 2'!H42 -> -56440.6 | E38: ='Հավելված N 2'!I42 -> -56440.6
A40: Ծրագրի դասիչը | B40: Ծրագրի անվանումը
A41: 1111 | B41: Բարձրագույն և հետբուհական մասնագիտական կրթության ծրագիր
A43: Ծրագրի միջոցառումները
A45: Ծրագրի դասիչը` | B45: 1111 | C45: Ցուցանիշների փոփոխություն (ավելացումները նշված են դրական նշանով )
A46: Միջոցառման դասիչը` | B46: 11004 | C46: Առաջին կիսամյակ | D46: Ինն ամիս | E46: Տարի
A47: Միջոցառման անվանումը` | B47: Ռազմական դրությամբ պայմանավորված բարձրագույն կրթական ծրագրեր իրականացնող ուսումնական հաստատությունների սովորողների ուսման վարձի փոխհատուցում
A48: Նկարագրությունը` | B48: 27.09.2020թ. սանձազերծված պատերազմի ընթացքում բարձրագույն ուսումնական հաստատությունների մարտական գործողությունների մասնակից ուսանողների, ուսանող երեխաների և ամուսինների՝ 2020/21 ուս. տարվա 1-ին կիսամյակի ուսման վարձի փոխհատուցում:
A49: Միջոցառման տեսակը` | B49: Տրանսֆերտների տրամադրում
A50: Շահառուների ընտրության չափորոշիչը | B50: Բարձրագույն և հետբուհական մասնագիտական կրթություն ստացող ուսանողներ
...
