Workbook
Name AgencyCode: #REF!
Name AgencyCode: #REF!
Name AgencyCode: #REF!
Name AgencyName: #REF!
Name AgencyName: #REF!
Name Functional1: #REF!
Name Functional1: #REF!
Name PANature: #REF!
Name PANature: #REF!
Name PAType: #REF!
Name PAType: #REF!
Name Performance2: #REF!
Name Performance2: #REF!
Name PerformanceType: #REF!
Name PerformanceType: #REF!

Sheet 1
H1: Հավելված N1
H2: ՀՀ կառավարության 2021 թվականի
H3: ______________ ի ___Ն որոշման
A4: «ՀԱՅԱՍՏԱՆԻ ՀԱՆՐԱՊԵՏՈՒԹՅԱՆ 2021 ԹՎԱԿԱՆԻ ՊԵՏԱԿԱՆ ԲՅՈՒՋԵԻ ՄԱՍԻՆ» ՀԱՅԱՍՏԱՆԻ ՀԱՆՐԱՊԵՏՈՒԹՅԱՆ ՕՐԵՆՔԻ N 1 ՀԱՎԵԼՎԱԾԻ N 3 ԱՂՅՈՒՍԱԿՈՒՄ ԿԱՏԱՐՎՈՂ ՓՈՓՈԽՈՒԹՅՈՒՆՆԵՐԸ ԵՎ ԼՐԱՑՈՒՄՆԵՐԸ
G5: հազար դրամներով
A6: Ծրագրային դասիչ | C6: Բյուջետային գլխավոր կարգադրիչների, ծրագրերի, միջոցառումների և ուղղությունների անվանումները | D6: Ցուցանիշների փոփոխությունը (ավելացումները նշված են դրական նշանով, իսկ նվազեցումները` փակագծերում)
D7: Ընդամենը, | E7: այդ թվում՝
A8: Ծրագիր | B8: Միջոցառում | E8: Կառուցման աշխատանքներ | F8: Վերակառուցման, վերանորոգման և վերականգնման աշխատանքներ | G8: Նախագծահե- տազոտական, գեոդեզիա- քարտեզագրա- կան աշխա- տանքներ | H8: Ոչ ֆինանսական այլ ակտիվների ձեռքբերում
C9: ԸՆԴԱՄԵՆԸ | D9: =+E9+F9+G9+H9 -> 0 | E9: =E11 -> 0 | F9: =F11 -> -44636 | G9: =G11 -> 44636 | H9: =H11 -> 0
C10: այդ թվում՝
C11: ՀՀ ՏԱՐԱԾՔԱՅԻՆ ԿԱՌԱՎԱՐՄԱՆ ԵՎ ԵՆԹԱԿԱՌՈՒՑՎԱԾՔՆԵՐԻ ՆԱԽԱՐԱՐՈՒԹՅՈՒՆ | D11: =+E11+F11+G11+H11 -> 0 | E11: =+E13 -> 0 | F11: =+F13 -> -44636 | G11: =+G13 -> 44636 | H11: =+H13 -> 0
C12: այդ թվում`
A13: 1049 | B13: 21001 | C13: Պետական նշանակության ավտոճանապարհների հիմնանորոգում | D13: =+E13+F13+G13+H13 -> 0 | E13: =+E15+E39+E63 -> 0 | F13: -44636 | G13: =+G15+G39+G63 -> 44636 | H13: =+H15+H39+H63 -> 0
C14: այդ թվում`
B15: 1 | C15: Միջպետական նշանակության ավտոճանապարհներ, այդ թվում | D15: =+E15+F15+G15+H15 -> 13605.4 | E15: =+E16+E31+E26+E33+E18 -> 0 | F15: =+F16+F31+F26+F33+F18 -> 0 | G15: =+G35+G37+G16+G31+G26+G33+G18+G29 -> 13605.4 | H15: =+H16+H31+H26+H33+H18 -> 0
C16: Մ-1, Երևան-Գյումրի-Վրաստանի սահման | D16: =+E16+F16+G16+H16 -> 609 | E16: =SUM(E17:E17) -> 0 | F16: =SUM(F17:F17) -> 0 | G16: =+G17 -> 609 | H16: =SUM(H17:H17) -> 0
C17: կմ 152+600-կմ 156+700 հատվածի հիմնանորոգում | D17: =+E17+F17+G17+H17 -> 609 | G17: =+'3'!G19 -> 609
C18: Մ-2, Երևան-Երասխ-Գորիս-Մեղրի-Իրանի սահման | D18: =+E18+F18+G18+H18 -> 8089.7 | E18: =SUM(E19:E25) -> 0 | F18: =SUM(F19:F25) -> 0 | G18: =+G19+G20+G21+G22+G23+G24+G25 -> 8089.7 | H18: =SUM(H19:H25) -> 0
C19: կմ 53+150 -կմ 65+350 հատվածի հիմնանորոգում | D19: =+E19+F19+G19+H19 -> 1207.7 | G19: =+'3'!G21 -> 1207.7
C20: կմ98+000 - կմ101+400 հատվածի հիմնանորոգում | D20: =+E20+F20+G20+H20 -> 504.9 | G20: =+'3'!G22 -> 504.9
C21: կմ108+400 - կմ126+100 հատվածի հիմնանորոգում | D21: =+E21+F21+G21+H21 -> 1593 | G21: =+'3'!G23 -> 1593
C22: կմ150+700 - կմ167+600 հատվածի հիմնանորոգում | D22: =+E22+F22+G22+H22 -> 1673 | G22: =+'3'!G24 -> 1673
C23: կմ196+000- կմ202+200 հատվածի հիմնանորոգում | D23: =+E23+F23+G23+H23 -> 818.4 | G23: =+'3'!G25 -> 818.4
C24: կմ254+000 - կմ265+000 հատվածի հիմնանորոգում | D24: =+E24+F24+G24+H24 -> 1103.1 | G24: =+'3'!G26 -> 1103.1
C25: կմ374+000 - կմ384+300 հատվածի հիմնանորոգում | D25: =+E25+F25+G25+H25 -> 1189.6 | G25: =+'3'!G27 -> 1189.6
C26: Մ- 3, Թուրքիայի սահման-Մարգարա-Վանաձոր-Տաշիր-Վրաստանի սահման | D26: =+E26+F26+G26+H26 -> 1835 | E26: =SUM(E27:E27) -> 0 | F26: =SUM(F27:F27) -> 0 | G26: =+G27+G28 -> 1835 | H26: =SUM(H27:H27) -> 0
C27: կմ2+000 - կմ 10+500 հատվածի հիմնանորոգում | D27: =+E27+F27+G27+H27 -> 1122 | G27: =+'3'!G29 -> 1122
C28: կմ130+400-կմ135+200 հատվածի հիմնանորոգում | D28: =+E28+F28+G28+H28 -> 713 | G28: =+'3'!G30 -> 713
C29: Մ-4, Երևան-Սևան-Իջևան-Ադրբեջանի սահման | D29: =+E29+F29+G29+H29 -> 110 | E29: =SUM(E30:E32) -> 0 | F29: =SUM(F30:F32) -> 0 | G29: =+G30 -> 110 | H29: =SUM(H30:H32) -> 0
C30: կմ67+500 փլուզված հատվածի վերականգնում | D30: =+E30+F30+G30+H30 -> 110 | G30: =+'3'!G32 -> 110
C31: Մ-7, Մ-3-Սպիտակ-Գյումրի-Թուրքիայի սահման | D31: =+E31+F31+G31+H31 -> 594 | E31: =SUM(E32:E34) -> 0 | F31: =SUM(F32:F34) -> 0 | G31: =+G32 -> 594 | H31: =SUM(H32:H34) -> 0
C32: կմ48+000 - կմ52+000 հատվածի հիմնանորոգում | D32: =+E32+F32+G32+H32 -> 594 | G32: =+'3'!G34 -> 594
C33: Մ10, Սևան-Մարտունի-Գետափ | D33: =+E33+F33+G33+H33 -> 110 | E33: =SUM(E34:E34) -> 0 | F33: =SUM(F34:F34) -> 0 | G33: =+G34 -> 110 | H33: =SUM(H34:H34) -> 0
C34: կմ 122+000 - կմ 124+000 հատվածում հողային պաստառի փլուզված հատվածների, պաշտպանիչ հենապատերի և կառուցվածքների վերակագնում | D34: =+E34+F34+G34+H34 -> 110 | G34: =+'3'!G36 -> 110
C35: Մ-11, Մարտունի - Վարդենիս - ԼՂՀ սահման | D35: =+E35+F35+G35+H35 -> 760.7 | E35: =+E36 -> 0 | F35: =+F36 -> 0 | G35: =+G36 -> 760.7 | H35: =+H36 -> 0
C36: կմ0+000-կմ5+900 հատվածի հիմնանորոգում | D36: =+E36+F36+G36+H36 -> 760.7 | G36: =+'3'!G38 -> 760.7
C37: Մ-14, Մ-4-Շորժա-Վարդենիս | D37: =+E37+G37+F37+H37 -> 1497 | E37: =+E38 -> 0 | F37: =+F38 -> 0 | G37: =+G38 -> 1497 | H37: =+H38 -> 0
C38: կմ39+400 - կմ60+300 հատվածի հիմնանորոգում | D38: =+E38+G38+F38+H38 -> 1497 | G38: =+'3'!G40 -> 1497
B39: 2 | C39: Հանրապետական նշանակության ավտոճանապարհներ, այդ թվում | D39: =+E39+F39+G39+H39 -> 22128.8 | E39: =SUM(E40:E62) -> 0 | F39: =SUM(F40:F62) -> 0 | G39: =SUM(G40:G62) -> 22128.8 | H39: =SUM(H40:H62) -> 0
C40: Հ-3, Երևան (Ջրաշխարհ, Մ-4-ի հետ հատման տեղ) - Գառնի -Գեղարդի վանք հանրապետական նշանակության ավտոճանապարհի կմ27+500-կմ33+500 հատվածի հիմնանորոգում | D40: =+E40+G40+F40+H40 -> 773.6 | G40: =+'3'!G42 -> 773.6
...

Sheet 2
A1: Հավելված N2
A2: ՀՀ կառավարության 2021 թվականի
A3: ______________ ի ___Ն որոշման
A5: ՀԱՅԱՍՏԱՆԻ ՀԱՆՐԱՊԵՏՈՒԹՅԱՆ ԿԱՌԱՎԱՐՈՒԹՅԱՆ 2020 ԹՎԱԿԱՆԻ ԴԵԿՏԵՄԲԵՐԻ 30-Ի N 2215-Ն ՈՐՈՇՄԱՆ N 3 ԵՎ N 4 ՀԱՎԵԼՎԱԾՆԵՐՈՒՄ ԿԱՏԱՐՎՈՂ ՓՈՓՈԽՈՒԹՅՈՒՆՆԵՐԸ ԵՎ ԼՐԱՑՈՒՄՆԵՐԸ
I7: հազար դրամներով
A8: Գործառական դասիչը | D8: Ծրագրային դասիչը | F8: Բյուջետային ծախսերի գործառական դասակարգման բաժինների, խմբերի և դասերի, բյուջետային հատկացումների գլխավոր կարգադրիչների, ծրագրերի, միջոցառումների և միջոցառումները կատարող պետական մարմինների անվանումները | G8: Ցուցանիշների փոփոխությունը (ավելացումները նշված են դրական նշանով, իսկ նվազեցումները` փակագծերում)
A9: Բաժին | B9: Խումբ | C9: Դաս | D9: Ծրագիր | E9: Միջոցա ռում | G9: Առաջին եռամսյակ | H9: Առաջին կիսամյակ | I9: Ինն ամիս | J9: Տարի
F10: ԸՆԴԱՄԵՆԸ ԾԱԽՍԵՐ | G10: =G12 -> 0 | H10: =H12 -> 0 | I10: =I12 -> 0 | J10: =J12 -> 0
F11: այդ թվում`
A12: 04 | F12: ՏՆՏԵՍԱԿԱՆ ՀԱՐԱԲԵՐՈՒԹՅՈՒՆՆԵՐ | G12: =G14 -> 0 | H12: =H14 -> 0 | I12: =I14 -> 0 | J12: =J14 -> 0
F13: այդ թվում`
B14: 05 | F14: Տրանսպորտ | G14: =G16 -> 0 | H14: =H16 -> 0 | I14: =I16 -> 0 | J14: =J16 -> 0
F15: այդ թվում`
C16: 01 | F16: Ճանապարհային տրանսպորտ | G16: =G18 -> 0 | H16: =H18 -> 0 | I16: =I18 -> 0 | J16: =J18 -> 0
F17: այդ թվում`
F18: ՀՀ ՏԱՐԱԾՔԱՅԻՆ ԿԱՌԱՎԱՐՄԱՆ ԵՎ ԵՆԹԱԿԱՌՈՒՑՎԱԾՔՆԵՐԻ ՆԱԽԱՐԱՐՈՒԹՅՈՒՆ | G18: =+G20 -> 0 | H18: =+H20 -> 0 | I18: =+I20 -> 0 | J18: =+J20 -> 0
F19: այդ թվում`
D20: 1049 | F20: Ճանապարհային ցանցի բարելավում | G20: =+G22 -> 0 | H20: =+H22 -> 0 | I20: =+I22 -> 0 | J20: =+J22 -> 0
F21: այդ թվում`
E22: 21001 | F22: Պետական նշանակության ավտոճանապարհների հիմնանորոգում | G22: =+G24+G31 -> 0 | H22: =+H24+H31 -> 0 | I22: =+I24+I31 -> 0 | J22: =+J24+J31 -> 0
F23: այդ թվում` ըստ կատարողների
F24: ՀՀ կառավարություն | G24: =+G26 -> 0 | H24: =+H26 -> -44636 | I24: =+I26 -> -44636 | J24: =+J26 -> -44636
F25: այդ թվում` բյուջետային ծախսերի տնտեսագիտական դասակարգման հոդվածների
F26: ԸՆԴԱՄԵՆԸ ԾԱԽՍԵՐ | G26: =+G27 -> 0 | H26: =+H27 -> -44636 | I26: =+I27 -> -44636 | J26: =+J27 -> -44636
F27: ՈՉ ՖԻՆԱՆՍԱԿԱՆ ԱԿՏԻՎՆԵՐԻ ԳԾՈՎ ԾԱԽՍԵՐ | G27: =+G28 -> 0 | H27: =+H28 -> -44636 | I27: =+I28 -> -44636 | J27: =+J28 -> -44636
F28: ՀԻՄՆԱԿԱՆ ՄԻՋՈՑՆԵՐ | G28: =+G29 -> 0 | H28: =+H29 -> -44636 | I28: =+I29 -> -44636 | J28: =+J29 -> -44636
F29: ՇԵՆՔԵՐ ԵՎ ՇԻՆՈՒԹՅՈՒՆՆԵՐ | G29: =+G30 -> 0 | H29: =+H30 -> -44636 | I29: =+I30 -> -44636 | J29: =+J30 -> -44636
F30: - Շենքերի և շինությունների կապիտալ վերանորոգում | G30: =-G37 -> 0 | H30: =-H37 -> -44636 | I30: =-I37 -> -44636 | J30: =-J37 -> -44636
F31: ՀՀ տարածքային կառավարման և ենթակառուցվածքների նախարարություն | G31: =+G33 -> 0 | H31: =+H33 -> 44636 | I31: =+I33 -> 44636 | J31: =+J33 -> 44636
F32: այդ թվում` բյուջետային ծախսերի տնտեսագիտական դասակարգման հոդվածների
F33: ԸՆԴԱՄԵՆԸ ԾԱԽՍԵՐ | G33: =+G34 -> 0 | H33: =+H34 -> 44636 | I33: =+I34 -> 44636 | J33: =+J34 -> 44636
F34: ՈՉ ՖԻՆԱՆՍԱԿԱՆ ԱԿՏԻՎՆԵՐԻ ԳԾՈՎ ԾԱԽՍԵՐ | G34: =+G35 -> 0 | H34: =+H35 -> 44636 | I34: =+I35 -> 44636 | J34: =+J35 -> 44636
F35: ՀԻՄՆԱԿԱՆ ՄԻՋՈՑՆԵՐ | G35: =+G36 -> 0 | H35: =+H36 -> 44636 | I35: =+I36 -> 44636 | J35: =+J36 -> 44636
F36: ԱՅԼ ՀԻՄՆԱԿԱՆ ՄԻՋՈՑՆԵՐ | G36: =+G37 -> 0 | H36: =+H37 -> 44636 | I36: =+I37 -> 44636 | J36: =+J37 -> 44636
F37: - Նախագծահետազոտական ծախսեր | G37: =+'3'!D15 -> 0 | H37: =+'3'!E15 -> 44636 | I37: =+'3'!F15 -> 44636 | J37: =+'3'!G15 -> 44636

Sheet 3
A1: Հավելված N3
A2: ՀՀ կառավարության 2021 թվականի
A3: ______________ ի ___Ն որոշման
A5: ՀԱՅԱՍՏԱՆԻ ՀԱՆՐԱՊԵՏՈՒԹՅԱՆ ԿԱՌԱՎԱՐՈՒԹՅԱՆ 2020 ԹՎԱԿԱՆԻ ԴԵԿՏԵՄԲԵՐԻ 30-Ի N 2215-Ն ՈՐՈՇՄԱՆ N 5 ՀԱՎԵԼՎԱԾԻ N 2 ԱՂՅՈՒՍԱԿՈՒՄ ԿԱՏԱՐՎՈՂ ՓՈՓՈԽՈՒԹՅՈՒՆՆԵՐԸ ԵՎ ԼՐԱՑՈՒՄՆԵՐԸ
F6: հազար դրամներով
A7: Ծրագրային դասիչ | C7: Բյուջետային գլխավոր կարգադրիչների, ծրագրերի, միջոցառումների և ուղղությունների անվանումները | D7: Ցուցանիշների փոփոխությունը (ավելացումները նշված են դրական նշանով, իսկ նվազեցումները` փակագծերում)
A8: Ծրագիր | B8: Միջոցառում | D8: Առաջին եռամսյակ | E8: Առաջին կիսամյակ | F8: Ինն ամիս | G8: Տարի
C9: ԸՆԴԱՄԵՆԸ | D9: =D11 -> 0 | E9: =E11 -> 0 | F9: =F11 -> 0 | G9: =G11 -> 0
C10: այդ թվում՝
C11: ՀՀ ՏԱՐԱԾՔԱՅԻՆ ԿԱՌԱՎԱՐՄԱՆ ԵՎ ԵՆԹԱԿԱՌՈՒՑՎԱԾՔՆԵՐԻ ՆԱԽԱՐԱՐՈՒԹՅՈՒՆ | D11: =+D13 -> 0 | E11: =+E13 -> 0 | F11: =+F13 -> 0 | G11: =+G13 -> 0
C12: այդ թվում`
A13: 1049 | B13: 21001 | C13: Պետական նշանակության ավտոճանապարհների հիմնանորոգում | D13: =+D15+D84 -> 0 | E13: =+E15+E84 -> 0 | F13: =+F15+F84 -> 0 | G13: =+G15+G84 -> 0
C14: այդ թվում` ըստ կատարողների
C15: ՀՀ տարածքային կառավարման և ենթակառուցվածքների նախարարություն | D15: =+D17+D41+D65 -> 0 | E15: =+E17+E41+E65 -> 44636 | F15: =+F17+F41+F65 -> 44636 | G15: =+G17+G41+G65 -> 44636
C16: այդ թվում՝ ըստ ուղղությունների
B17: 1 | C17: Միջպետական նշանակության ավտոճանապարհներ, այդ թվում | D17: =+D18+D20+D28+D31+D33+D35+D37+D39 -> 0 | E17: =+E18+E20+E28+E31+E33+E35+E37+E39 -> 13605.4 | F17: =+F18+F20+F28+F31+F33+F35+F37+F39 -> 13605.4 | G17: =+G18+G20+G28+G31+G33+G35+G37+G39 -> 13605.4
C18: Մ-1, Երևան-Գյումրի-Վրաստանի սահման | D18: =+D19 -> 0 | E18: =+E19 -> 609 | F18: =+F19 -> 609 | G18: =+G19 -> 609
C19: կմ 152+600-կմ 156+700 հատվածի հիմնանորոգում | D19: 0 | E19: 609 | F19: =+E19 -> 609 | G19: =+F19 -> 609
C20: Մ-2, Երևան-Երասխ-Գորիս-Մեղրի-Իրանի սահման | D20: =SUM(D21:D27) -> 0 | E20: =SUM(E21:E27) -> 8089.7 | F20: =SUM(F21:F27) -> 8089.7 | G20: =SUM(G21:G27) -> 8089.7
C21: կմ 53+150 -կմ 65+350 հատվածի հիմնանորոգում | D21: 0 | E21: 1207.7 | F21: =+E21 -> 1207.7 | G21: =+F21 -> 1207.7
C22: կմ98+000 - կմ101+400 հատվածի հիմնանորոգում | D22: 0 | E22: 504.9 | F22: =+E22 -> 504.9 | G22: =+F22 -> 504.9
C23: կմ108+400 - կմ126+100 հատվածի հիմնանորոգում | D23: 0 | E23: 1593 | F23: =+E23 -> 1593 | G23: =+F23 -> 1593
C24: կմ150+700 - կմ167+600 հատվածի հիմնանորոգում | D24: 0 | E24: 1673 | F24: =+E24 -> 1673 | G24: =+F24 -> 1673
C25: կմ196+000- կմ202+200 հատվածի հիմնանորոգում | D25: 0 | E25: 818.4 | F25: =+E25 -> 818.4 | G25: =+F25 -> 818.4
C26: կմ254+000 - կմ265+000 հատվածի հիմնանորոգում | D26: 0 | E26: 1103.1 | F26: =+E26 -> 1103.1 | G26: =+F26 -> 1103.1
C27: կմ374+000 - կմ384+300 հատվածի հիմնանորոգում | D27: 0 | E27: 1189.6 | F27: =+E27 -> 1189.6 | G27: =+F27 -> 1189.6
C28: Մ- 3, Թուրքիայի սահման-Մարգարա-Վանաձոր-Տաշիր-Վրաստանի սահման | D28: =+D29+D30 -> 0 | E28: =+E29+E30 -> 1835 | F28: =+F29+F30 -> 1835 | G28: =+G29+G30 -> 1835
C29: կմ2+000 - կմ 10+500 հատվածի հիմնանորոգում | D29: 0 | E29: 1122 | F29: =+E29 -> 1122 | G29: =+F29 -> 1122
C30: կմ130+400-կմ135+200 հատվածի հիմնանորոգում | D30: 0 | E30: 713 | F30: =+E30 -> 713 | G30: =+F30 -> 713
C31: Մ-4, Երևան-Սևան-Իջևան-Ադրբեջանի սահման | D31: =+D32 -> 0 | E31: =+E32 -> 110 | F31: =+F32 -> 110 | G31: =+G32 -> 110
C32: կմ67+500 փլուզված հատվածի վերականգնում | D32: 0 | E32: 110 | F32: =+E32 -> 110 | G32: =+F32 -> 110
C33: Մ-7, Մ-3-Սպիտակ-Գյումրի-Թուրքիայի սահման | D33: =+D34 -> 0 | E33: =+E34 -> 594 | F33: =+F34 -> 594 | G33: =+G34 -> 594
C34: կմ48+000 - կմ52+000 հատվածի հիմնանորոգում | E34: 594 | F34: =+E34 -> 594 | G34: =+F34 -> 594
C35: Մ10, Սևան-Մարտունի-Գետափ | D35: =+D36 -> 0 | E35: =+E36 -> 110 | F35: =+F36 -> 110 | G35: =+G36 -> 110
C36: կմ 122+000 - կմ 124+000 հատվածում հողային պաստառի փլուզված հատվածների, պաշտպանիչ հենապատերի և կառուցվածքների վերակագնում | D36: 0 | E36: 110 | F36: =+E36 -> 110 | G36: =+F36 -> 110
C37: Մ-11, Մարտունի - Վարդենիս - ԼՂՀ սահման | D37: =+D38 -> 0 | E37: =+E38 -> 760.7 | F37: =+F38 -> 760.7 | G37: =+G38 -> 760.7
C38: կմ0+000-կմ5+900 հատվածի հիմնանորոգում | D38: 0 | E38: 760.7 | F38: =+E38 -> 760.7 | G38: =+F38 -> 760.7
C39: Մ-14, Մ-4-Շորժա-Վարդենիս | D39: =+D40 -> 0 | E39: =+E40 -> 1497 | F39: =+F40 -> 1497 | G39: =+G40 -> 1497
C40: կմ39+400 - կմ60+300 հատվածի հիմնանորոգում | D40: 0 | E40: 1497 | F40: =+E40 -> 1497 | G40: =+F40 -> 1497
B41: 2 | C41: Հանրապետական նշանակության ավտոճանապարհներ, այդ թվում | D41: =SUM(D42:D64) -> 0 | E41: =SUM(E42:E64) -> 22128.8 | F41: =SUM(F42:F64) -> 22128.8 | G41: =SUM(G42:G64) -> 22128.8
...

Sheet 4
F1: Հավելված N4
A2: ՀՀ կառավարության 2021 թվականի
A3: ______________ ի ___Ն որոշման
A5: ՀԱՅԱՍՏԱՆԻ ՀԱՆՐԱՊԵՏՈՒԹՅԱՆ ԿԱՌԱՎԱՐՈՒԹՅԱՆ 2020 ԹՎԱԿԱՆԻ ԴԵԿՏԵՄԲԵՐԻ 30-Ի N 2215-Ն ՈՐՈՇՄԱՆ N 9 ՀԱՎԵԼՎԱԾԻ N 9.8 ԱՂՅՈՒՍԱԿՈՒՄ ԿԱՏԱՐՎՈՂ ՓՈՓՈԽՈՒԹՅՈՒՆՆԵՐԸ ԵՎ ԼՐԱՑՈՒՄՆԵՐԸ
A7: ՀՀ ՏԱՐԱԾՔԱՅԻՆ ԿԱՌԱՎԱՐՄԱՆ ԵՎ ԵՆԹԱԿԱՌՈՒՑՎԱԾՔՆԵՐԻ ՆԱԽԱՐԱՐՈՒԹՅՈՒՆ
A8: ՄԱՍ 2. ՊԵՏԱԿԱՆ ՄԱՐՄՆԻ ԳԾՈՎ ԱՐԴՅՈՒՆՔԱՅԻՆ (ԿԱՏԱՐՈՂԱԿԱՆ) ՑՈՒՑԱՆԻՇՆԵՐԸ
A10: Ծրագրի դասիչը | B10: Ծրագրի անվանումը
A11: 1049 | B11: Ճանապարհային ցանցի բարելավում
A13: Ծրագրի միջոցառումները
A15: Ծրագրի դասիչը` | B15: 1049 | C15: Ցուցանիշների փոփոխությունը (ավելացումները նշված են դրական նշանով, իսկ նվազեցումները` փակագծերում)
A16: Միջոցառման դասիչը` | B16: 21001 | C16: Առաջին եռամսյակ | D16: Առաջին կիսամյակ | E16: Ինն ամիս | F16: Տարի
A17: Միջոցառման անվանումը` | B17: Պետական նշանակության ավտոճանապարհների հիմնանորոգում
A18: Նկարագրությունը` | B18: Միջպետական՝ հանրապետական և մարզային նշանակության ավտոճանապարհների քայքայված ծածկի վերանորոգում՝ մաշված ծածկի փոխարինում
A19: Միջոցառման տեսակը` | B19: Հանրության կողմից անմիջականորեն օգտագործվող ակտիվների հետ կապված միջոցառումներ
A20: Արդյունքի չափորոշիչներ
A21: Հիմնանորոգվող ավտոճանապարհների երկարությունը/կիլոմետր/ այդ թվում՛
A22: Միջպետական նշանակության ավտոճանապարհներ
A23: Հանրապետական նշանակության ավտոճանապարհներ
A24: Մարզային նշանակության ավտոճանապարհներ
A25: Բավարար վիճակում ճանապարհների և հատվածների երկարության հարաբերությունը այդ կարգի ճանապարհների ողջ երկարությանը, %
A26: Աշխատանքների ավարտվածության աստիճան, %
A27: Պայմանագրերի թիվ, հատ | C27: 0 | D27: 2 | E27: 2 | F27: 2
A28: Միջոցառման վրա կատարվող ծախսը (հազար դրամ) | C28: 0 | D28: 0 | E28: 0 | F28: 0

Sheet 5
F1: Հավելված N5
A2: ՀՀ կառավարության 2021 թվականի
A3: ______________ ի ___Ն որոշման
A4: ՀԱՅԱՍՏԱՆԻ ՀԱՆՐԱՊԵՏՈՒԹՅԱՆ ԿԱՌԱՎԱՐՈՒԹՅԱՆ 2020 ԹՎԱԿԱՆԻ ԴԵԿՏԵՄԲԵՐԻ 30-Ի N 2215-Ն ՈՐՈՇՄԱՆ N 9.1 ՀԱՎԵԼՎԱԾԻ NN 9.1.8 և 9.1.58 ԱՂՅՈՒՍԱԿՆԵՐՈՒՄ ԿԱՏԱՐՎՈՂ ՓՈՓՈԽՈՒԹՅՈՒՆՆԵՐԸ ԵՎ ԼՐԱՑՈՒՄՆԵՐԸ
F5: Աղյուսակ 1.
A6: ՀՀ ՏԱՐԱԾՔԱՅԻՆ ԿԱՌԱՎԱՐՄԱՆ ԵՎ ԵՆԹԱԿԱՌՈՒՑՎԱԾՔՆԵՐԻ ՆԱԽԱՐԱՐՈՒԹՅՈՒՆ
A7: ՄԱՍ 1. ՊԵՏԱԿԱՆ ՄԱՐՄՆԻ ԳԾՈՎ ԱՐԴՅՈՒՆՔԱՅԻՆ (ԿԱՏԱՐՈՂԱԿԱՆ) ՑՈՒՑԱՆԻՇՆԵՐԸ
A8: Ծրագրի դասիչը | B8: Ծրագրի անվանումը
A9: 1049 | B9: Ճանապարհային ցանցի բարելավում
A11: Ծրագրի միջոցառումները
A13: Ծրագրի դասիչը` | B13: 1049 | C13: Ցուցանիշների փոփոխությունը (ավելացումները նշված են դրական նշանով)
A14: Միջոցառման դասիչը` | B14: 21001 | C14: Առաջին եռամսյակ | D14: Առաջին կիսամյակ | E14: Ինն ամիս | F14: Տարի
A15: Միջոցառման անվանումը` | B15: Պետական նշանակության ավտոճանապարհների հիմնանորոգում
A16: Նկարագրությունը` | B16: Միջպետական՝ հանրապետական և մարզային նշանակության ավտոճանապարհների քայքայված ծածկի վերանորոգում՝ մաշված ծածկի փոխարինում_x000D_
A17: Միջոցառման տեսակը` | B17: Հանրության կողմից անմիջականորեն օգտագործվող ակտիվների հետ կապված միջոցառումներ
A18: Արդյունքի չափորոշիչներ
A19: Հիմնանորոգվող ավտոճանապարհների երկարությունը/կիլոմետր/ այդ թվում՛
A20: Միջպետական նշանակության ավտոճանապարհներ
A21: Հանրապետական նշանակության ավտոճանապարհներ
A22: Մարզային նշանակության ավտոճանապարհներ
A23: Բավարար վիճակում ճանապարհների և հատվածների երկարության հարաբերությունը այդ կարգի ճանապարհների ողջ երկարությանը, %
A24: Աշխատանքների ավարտվածության աստիճան, %
A25: Պայմանագրերի թիվ, հատ | C25: 0 | D25: 2 | E25: 2 | F25: 2
A26: Միջոցառման վրա կատարվող ծախսը (հազար դրամ) | C26: =-C47 -> 0 | D26: =-D47 -> 44636 | E26: =-E47 -> 44636 | F26: =-F47 -> 44636
F28: Աղյուսակ 2
A29: ՀՀ ԿԱՌԱՎԱՐՈՒԹՅՈՒՆ
A30: ՄԱՍ 1. ՊԵՏԱԿԱՆ ՄԱՐՄՆԻ ԳԾՈՎ ԱՐԴՅՈՒՆՔԱՅԻՆ (ԿԱՏԱՐՈՂԱԿԱՆ) ՑՈՒՑԱՆԻՇՆԵՐԸ
A31: Ծրագրի դասիչը | B31: Ծրագրի անվանումը
A32: 1049 | B32: Ճանապարհային ցանցի բարելավում
A34: Ծրագրի միջոցառումները
A36: Ծրագրի դասիչը` | B36: 1049 | C36: Ցուցանիշների փոփոխությունը (նվազեցումները` փակագծերում)
A37: Միջոցառման դասիչը` | B37: 21001 | C37: Առաջին եռամսյակ | D37: Առաջին կիսամյակ | E37: Ինն ամիս | F37: Տարի
A38: Միջոցառման անվանումը` | B38: Պետական նշանակության ավտոճանապարհների հիմնանորոգում
A39: Նկարագրությունը` | B39: Միջպետական՝ հանրապետական և մարզային նշանակության ավտոճանապարհների քայքայված ծածկի վերանորոգում՝ մաշված ծածկի փոխարինում_x000D_
A40: Միջոցառման տեսակը` | B40: Հանրության կողմից անմիջականորեն օգտագործվող ակտիվների հետ կապված միջոցառումներ
A41: Արդյունքի չափորոշիչներ
A42: Հիմնանորոգվող ավտոճանապարհների երկարությունը/կիլոմետր/ այդ թվում՛
A43: Միջպետական նշանակության ավտոճանապարհներ
A44: Հանրապետական նշանակության ավտոճանապարհներ
A45: Մարզային նշանակության ավտոճանապարհներ
...

Sheet 6
A1: Հավելված N6
A2: ՀՀ կառավարության 2021 թվականի
A3: ______________ ի ___Ն որոշման
A5: ՀԱՅԱՍՏԱՆԻ ՀԱՆՐԱՊԵՏՈՒԹՅԱՆ ԿԱՌԱՎԱՐՈՒԹՅԱՆ 2020 ԹՎԱԿԱՆԻ ԴԵԿՏԵՄԲԵՐԻ 30-Ի N 2215-Ն ՈՐՈՇՄԱՆ N 10 ՀԱՎԵԼՎԱԾՈՒՄ ԿԱՏԱՐՎՈՂ ԼՐԱՑՈՒՄՆԵՐԸ
A6: Կոդը | B6: Անվանումը | C6: Գնման ձևը | D6: Չափման միավորը | E6: Միավորի գինը | F6: Ցուցանիշների փոփոխությունը (ավելացումները նշված են դրական նշանով)
F7: Քանակը | G7: Գումարը (հազար դրամով)
A8: ՀՀ տարածքային կառավարման և ենթակառուցվածքների նախարարություն | G8: =+G9 -> 44636
A9: Բաժին N 04 | B9: Խումբ N 05 | C9: Դաս N 01 | D9: Ճանապարհային տրանսպորտ | G9: =+G10 -> 44636
A10: 1049 21001 | B10: Պետական նշանակության ավտոճանապարհների հիմնանորոգում | G10: =+G11+G14 -> 44636
A11: ՄԱՍ II. ԱՇԽԱՏԱՆՔՆԵՐ | G11: =+G13+G12 -> 0
C12: ԲՄ | D12: դրամ | G12: =+F12*E12/1000 -> 0
C13: ԲՄ | D13: դրամ | G13: =+F13*E13/1000 -> 0
A14: ՄԱՍ III. ԾԱՌԱՅՈՒԹՅՈՒՆՆԵՐ | G14: =SUM(G15:G18) -> 44636
A15: 50531140/501 | B15: փորձաքննության ծառայություններ | C15: ԳՀ | D15: դրամ | E15: 9492000 | F15: 1 | G15: =+F15*E15/1000 -> 9492
A16: 50531140/502 | B16: փորձաքննության ծառայություններ | C16: ԳՀ | D16: դրամ | E16: 11213000 | F16: 1 | G16: =+F16*E16/1000 -> 11213
A17: 50531140/503 | B17: փորձաքննության ծառայություններ | C17: ԳՀ | D17: դրամ | E17: 11827000 | F17: 1 | G17: =+F17*E17/1000 -> 11827
A18: 50531140/504 | B18: փորձաքննության ծառայություններ | C18: ԳՀ | D18: դրամ | E18: 12104000 | F18: 1 | G18: =+F18*E18/1000 -> 12104
