Workbook

Sheet Հավելված 1
G1: Հավելված N 1
A2: «ՀԱՅԱՍՏԱՆԻ ՀԱՆՐԱՊԵՏՈՒԹՅԱՆ 2021 ԹՎԱԿԱՆԻ ՊԵՏԱԿԱՆ ԲՅՈՒՋԵԻ ՄԱՍԻՆ» ՀԱՅԱՍՏԱՆԻ ՀԱՆՐԱՊԵՏՈՒԹՅԱՆ ՕՐԵՆՔԻ N 1 ՀԱՎԵԼՎԱԾԻ N 2 ԱՂՅՈՒՍԱԿՈՒՄ ՎԵՐԱԲԱՇԽՈՒՄ ԵՎ ՀԱՅԱՍՏԱՆԻ ՀԱՆՐԱՊԵՏՈՒԹՅԱՆ ԿԱՌԱՎԱՐՈՒԹՅԱՆ 2020 ԹՎԱԿԱՆԻ ԴԵԿՏԵՄԲԵՐԻ 30-Ի N 2215-Ն ՈՐՈՇՄԱՆ N 5 ՀԱՎԵԼՎԱԾԻ N 1 ԱՂՅՈՒՍԱԿՈՒՄ ԿԱՏԱՐՎՈՂ ՓՈՓՈԽՈՒԹՅՈՒՆՆԵՐԸ
G3: հազար դրամներով
A4: Ծրագրային դասիչը | C4: Բյուջետային հատկացումների գլխավոր կարգադրիչների, ծրագրերի և միջոցառումների անվանումները | D4: Ցուցանիշների փոփոխությունը (ավելացումները նշված են դրական նշանով, իսկ նվազեցումները՝ փակագծերում)
A5: Ծրագիր | B5: Միջոցառում | D5: Առաջին եռամսյակ | E5: Առաջին կիսամյակ | F5: Ինն ամիս | G5: Տարի
C6: ԸՆԴԱՄԵՆԸ | D6: =D7 -> 0 | E6: =E7 -> 0 | F6: =F7 -> 0 | G6: =G7 -> 0
C7: ՀՀ պետական եկամուտների կոմիտե | D7: =D8 -> 0 | E7: =E8 -> 0 | F7: =F8 -> 0 | G7: =G8 -> 0
A8: 1023 | C8: Ծրագրի անվանումը՝ | D8: =D15+D21+D27+D33+D39 -> 0 | E8: =E15+E21+E27+E33+E39 -> 0 | F8: =F15+F21+F27+F33+F39 -> 0 | G8: =G15+G21+G27+G33+G39 -> 0
C9: Հարկային և մաքսային ծառայություններ
C10: Ծրագրի նպատակը՝
C11: Հարկային և մաքսային միասնական պետական քաղաքականության իրականացում, հարկային և մաքսային օրենսդրության ամբողջական և համահավասար կիրառում
C12: Վերջնական արդյունքի նկարագրությունը՝
C13: Արդյունավետ հարկային և մաքսային հսկողության իրականացում, պետական բյուջեի եկամուտների ապահովում
A14: Ծրագրի միջոցառումներ
B15: 11001 | C15: Միջոցառման անվանումը` | D15: ='Հավելված 3'!G26+'Հավելված 3'!G27+'Հավելված 3'!G29 -> 0 | E15: ='Հավելված 3'!H26+'Հավելված 3'!H27+'Հավելված 3'!H29 -> -30000 | F15: ='Հավելված 3'!I26+'Հավելված 3'!I27+'Հավելված 3'!I29 -> -95000 | G15: ='Հավելված 3'!J26+'Հավելված 3'!J27+'Հավելված 3'!J29 -> -185000
C16: Հարկային և մաքսային ծառայություններ
C17: Միջոցառման նկարագրությունը`
C18: Հարկային և մաքսային քաղաքականության մշակման, պլանավորման, մոնիտորինգի, ծրագրերի համակարգման, գանձման, վերահսկողության և աջակցության ծառայություններ
C19: Միջոցառման տեսակը
C20: Ծառայությունների մատուցում
B21: 11002 | C21: Միջոցառման անվանումը` | D21: ='Հավելված 3'!G37 -> 0 | E21: ='Հավելված 3'!H37 -> -478800 | F21: ='Հավելված 3'!I37 -> -478800 | G21: ='Հավելված 3'!J37 -> -478800
C22: Ակցիզային դրոշմանիշերի ձեռքբերում
C23: Միջոցառման նկարագրությունը`
C24: ՀՀ-ում արտադրվող և ներմուծվող ալկոհոլային խմիչքների, ծխախոտի արտադրանքի դրոշմավորման համար ակցիզային դրոշմանիշերի ձեռքբերում
C25: Միջոցառման տեսակը
C26: Ծառայությունների մատուցում
B27: 11003 | C27: Միջոցառման անվանումը` | D27: ='Հավելված 3'!G74 -> 0 | E27: ='Հավելված 3'!H74 -> -5000 | F27: ='Հավելված 3'!I74 -> -10000 | G27: ='Հավելված 3'!J74 -> -15000
C28: Հարկային և մաքսային ծառայողների վերապատրաստում
C29: Միջոցառման նկարագրությունը`
C30: Հարկային և մաքսային ծառայողների վերապատրաստման մեթոդիկայի մշակման, պլանավորման, ծրագրերի իրականացման և աջակցության ծառայություններ
C31: Միջոցառման տեսակը
C32: Ծառայությունների մատուցում
B33: 11004 | C33: Միջոցառման անվանումը` | D33: ='Հավելված 3'!G45 -> 0 | E33: ='Հավելված 3'!H45 -> -432200 | F33: ='Հավելված 3'!I45 -> -432200 | G33: ='Հավելված 3'!J45 -> -432200
C34: Դրոշմապիտակների ձեռքբերում
C35: Միջոցառման նկարագրությունը`
C36: ՀՀ-ում արտադրվող և ներմուծվող որոշակի ապրանքների համար դրոշմապիտակների ձեռքբերում
C37: Միջոցառման տեսակը
C38: Ծառայությունների մատուցում
B39: 31001 | C39: Միջոցառման անվանումը` | D39: ='Հավելված 3'!G54+'Հավելված 3'!G56 -> 0 | E39: ='Հավելված 3'!H54+'Հավելված 3'!H56 -> 946000 | F39: ='Հավելված 3'!I54+'Հավելված 3'!I56 -> 1016000 | G39: ='Հավելված 3'!J54+'Հավելված 3'!J56 -> 1111000
C40: ՀՀ պետական եկամուտների կոմիտեի տեխնիկական հագեցվածության բարելավում
C41: Միջոցառման նկարագրությունը`
C42: ՀՀ պետական եկամուտների կոմիտեի տեխնիկական հագեցվածության բարելավում
C43: Միջոցառման տեսակը
C44: Պետական մարմինների կողմից օգտագործվող ոչ ֆինանսական ակտիվների հետ գործառնություններ

Sheet Հավելված 2
H1: Հավելված N 2
A2: «ՀԱՅԱՍՏԱՆԻ ՀԱՆՐԱՊԵՏՈՒԹՅԱՆ 2021 ԹՎԱԿԱՆԻ ՊԵՏԱԿԱՆ ԲՅՈՒՋԵԻ ՄԱՍԻՆ» ՀԱՅԱՍՏԱՆԻ ՀԱՆՐԱՊԵՏՈՒԹՅԱՆ ՕՐԵՆՔԻ N 1 ՀԱՎԵԼՎԱԾԻ N 3 ԱՂՅՈՒՍԱԿՈՒՄ ԿԱՏԱՐՎՈՂ ՓՈՓՈԽՈՒԹՅՈՒՆՆԵՐԸ
H3: հազար դրամներով
A4: Ծրագրային դասիչ | C4: Բյուջետային գլխավոր կարգադրիչների, ծրագրերի, միջոցառումների և ուղղությունների անվանումները | D4: Ցուցանիշների փոփոխությունը (ավելացումները նշված են դրական նշանով)
D5: Ընդամենը | E5: այդ թվում՝
E6: Կառուցման աշխատանքներ | F6: Վերակառուցման, վերանորոգման և վերականգնման աշխատանքներ | G6: Նախագծահետազոտական, գեոդեզա-քարտեզագրական աշխատանքներ | H6: Ոչ ֆինանսական այլ ակտիվների ձեռքբերում
A7: Ծրագիր | B7: Միջոցառում
C8: ԸՆԴԱՄԵՆԸ | D8: =D10 -> 1111000 | E8: =E10 -> 0 | F8: =F10 -> 0 | G8: =G10 -> 0 | H8: =H10 -> 1111000
C9: այդ թվում՝
C10: ՀՀ ՊԵՏԱԿԱՆ ԵԿԱՄՈՒՏՆԵՐԻ ԿՈՄԻՏԵ | D10: =D12 -> 1111000 | E10: =E12 -> 0 | F10: =F12 -> 0 | G10: =G12 -> 0 | H10: =H12 -> 1111000
C11: այդ թվում`
A12: 1023 | B12: 31001 | C12: ՀՀ պետական եկամուտների կոմիտեի տեխնիկական հագեցվածության բարելավում | D12: =E12+F12+G12+H12 -> 1111000 | H12: ='Հավելված 3'!J54+'Հավելված 3'!J56 -> 1111000

Sheet Հավելված 3
J1: Հավելված N 3
A2: ՀԱՅԱՍՏԱՆԻ ՀԱՆՐԱՊԵՏՈՒԹՅԱՆ ԿԱՌԱՎԱՐՈՒԹՅԱՆ 2020 ԹՎԱԿԱՆԻ ԴԵԿՏԵՄԲԵՐԻ 30-Ի N 2215-Ն ՈՐՈՇՄԱՆ NN 3 ԵՎ 4 ՀԱՎԵԼՎԱԾՆԵՐԻ ԱՂՅՈՒՍԱԿՆԵՐՈՒՄ ԿԱՏԱՐՎՈՂ ՓՈՓՈԽՈՒԹՅՈՒՆՆԵՐԸ
J4: հազար դրամներով
A5: Գործառնական դասիչը | D5: Ծրագրային դասիչը | F5: Բյուջետային ծախսերի գործառնական դասակարգման բաժինների, խմբերի և դասերի, բյուջետային ծրագրերի միջոցառումների, բյուջետային հատկացումների գլխավոր կարգադրիչների անվանումները | G5: Ցուցանիշների փոփոխությունը (ավելացումները նշված են դրական նշանով, իսկ նվազեցումները՝ փակագծերում)
A6: բաժին | B6: խումբ | C6: դաս | D6: ծրագիր | E6: միջոցառում | G6: Առաջին եռամսյակ | H6: Առաջին կիսամյակ | I6: Ինն ամիս | J6: Տարի
F7: ԸՆԴԱՄԵՆԸ ԾԱԽՍԵՐ | G7: =G9+G57 -> 0 | H7: =H9+H57 -> 0 | I7: =I9+I57 -> 0 | J7: =J9+J57 -> 0
F8: այդ թվում՝
A9: 01 | F9: ԸՆԴՀԱՆՈՒՐ ԲՆՈՒՅԹԻ ՀԱՆՐԱՅԻՆ ԾԱՌԱՅՈՒԹՅՈՒՆՆԵՐ | G9: =G11 -> 0 | H9: =H11 -> 5000 | I9: =I11 -> 10000 | J9: =J11 -> 15000
F10: այդ թվում՝
B11: 01 | F11: Օրենսդիր և գործադիր մարմիններ, պետական կառավարում, ֆինանսական և հարկաբյուջետային հարաբերություններ, արտաքին հարաբերություններ | G11: =G13 -> 0 | H11: =H13 -> 5000 | I11: =I13 -> 10000 | J11: =J13 -> 15000
F12: այդ թվում՝
C13: 02 | F13: Ֆինանսական և հարկաբյուջետային հարաբերություններ | G13: =G15 -> 0 | H13: =H15 -> 5000 | I13: =I15 -> 10000 | J13: =J15 -> 15000
F14: այդ թվում՝
F15: ՀՀ պետական եկամուտների կոմիտե | G15: =G16 -> 0 | H15: =H16 -> 5000 | I15: =I16 -> 10000 | J15: =J16 -> 15000
D16: 1023 | F16: Հարկային և մաքսային ծառայություններ | G16: =G18+G30+G38+G46 -> 0 | H16: =H18+H30+H38+H46 -> 5000 | I16: =I18+I30+I38+I46 -> 10000 | J16: =J18+J30+J38+J46 -> 15000
F17: այդ թվում՝
E18: 11001 | F18: Հարկային և մաքսային ծառայություններ | G18: =G20 -> 0 | H18: =H20 -> -30000 | I18: =I20 -> -95000 | J18: =J20 -> -185000
F19: այդ թվում` ըստ կատարողների
F20: ՀՀ պետական եկամուտների կոմիտե | G20: =G22 -> 0 | H20: =H22 -> -30000 | I20: =I22 -> -95000 | J20: =J22 -> -185000
F21: այդ թվում` բյուջետային ծախսերի տնտեսագիտական դասակարգման հոդվածներ
F22: ԸՆԴԱՄԵՆԸ ԾԱԽՍԵՐ | G22: =G23 -> 0 | H22: =H23 -> -30000 | I22: =I23 -> -95000 | J22: =J23 -> -185000
F23: ԸՆԹԱՑԻԿ ԾԱԽՍԵՐ | G23: =G24 -> 0 | H23: =H24 -> -30000 | I23: =I24 -> -95000 | J23: =J24 -> -185000
F24: ԾԱՌԱՅՈՒԹՅՈՒՆՆԵՐԻ ԵՎ ԱՊՐԱՆՔՆԵՐԻ ՁԵՌՔԲԵՐՈՒՄ | G24: =G25+G28 -> 0 | H24: =H25+H28 -> -30000 | I24: =I25+I28 -> -95000 | J24: =J25+J28 -> -185000
F25: Շարունակական ծախսեր | G25: =G26+G27 -> 0 | H25: =H26+H27 -> -10000 | I25: =I26+I27 -> -25000 | J25: =J26+J27 -> -35000
F26: - Գույքի և սարքավորումների վարձակալություն | G26: 0 | H26: -5000 | I26: -10000 | J26: -15000
F27: - Արտագերատեսչական ծախսեր | G27: 0 | H27: -5000 | I27: -15000 | J27: -20000
F28: Նյութեր (Ապրանքներ) | G28: =G29 -> 0 | H28: =H29 -> -20000 | I28: =I29 -> -70000 | J28: =J29 -> -150000
F29: - Գրասենյակային նյութեր և հագուստ | G29: 0 | H29: -20000 | I29: -70000 | J29: -150000
E30: 11002 | F30: Ակցիզային դրոշմանիշերի ձեռքբերում | G30: =G32 -> 0 | H30: =H32 -> -478800 | I30: =I32 -> -478800 | J30: =J32 -> -478800
F31: այդ թվում` ըստ կատարողների
F32: ՀՀ պետական եկամուտների կոմիտե | G32: =G34 -> 0 | H32: =H34 -> -478800 | I32: =I34 -> -478800 | J32: =J34 -> -478800
F33: այդ թվում` բյուջետային ծախսերի տնտեսագիտական դասակարգման հոդվածներ
F34: ԸՆԴԱՄԵՆԸ ԾԱԽՍԵՐ | G34: =G35 -> 0 | H34: =H35 -> -478800 | I34: =I35 -> -478800 | J34: =J35 -> -478800
F35: ԸՆԹԱՑԻԿ ԾԱԽՍԵՐ | G35: =G36 -> 0 | H35: =H36 -> -478800 | I35: =I36 -> -478800 | J35: =J36 -> -478800
F36: ԱՅԼ ԾԱԽՍԵՐ | G36: =G37 -> 0 | H36: =H37 -> -478800 | I36: =I37 -> -478800 | J36: =J37 -> -478800
F37: - Այլ ծախսեր | G37: 0 | H37: -478800 | I37: -478800 | J37: -478800
E38: 11004 | F38: Դրոշմապիտակների ձեռքբերում | G38: =G40 -> 0 | H38: =H40 -> -432200 | I38: =I40 -> -432200 | J38: =J40 -> -432200
F39: այդ թվում` ըստ կատարողների
F40: ՀՀ պետական եկամուտների կոմիտե | G40: =G42 -> 0 | H40: =H42 -> -432200 | I40: =I42 -> -432200 | J40: =J42 -> -432200
F41: այդ թվում` բյուջետային ծախսերի տնտեսագիտական դասակարգման հոդվածներ
F42: ԸՆԴԱՄԵՆԸ ԾԱԽՍԵՐ | G42: =G43 -> 0 | H42: =H43 -> -432200 | I42: =I43 -> -432200 | J42: =J43 -> -432200
F43: ԸՆԹԱՑԻԿ ԾԱԽՍԵՐ | G43: =G44 -> 0 | H43: =H44 -> -432200 | I43: =I44 -> -432200 | J43: =J44 -> -432200
F44: ԱՅԼ ԾԱԽՍԵՐ | G44: =G45 -> 0 | H44: =H45 -> -432200 | I44: =I45 -> -432200 | J44: =J45 -> -432200
F45: - Այլ ծախսեր | G45: 0 | H45: -432200 | I45: -432200 | J45: -432200
E46: 31001 | F46: ՀՀ պետական եկամուտների կոմիտեի տեխնիկական հագեցվածության բարելավում | G46: =G48 -> 0 | H46: =H48 -> 946000 | I46: =I48 -> 1016000 | J46: =J48 -> 1111000
F47: այդ թվում` ըստ կատարողների
F48: ՀՀ պետական եկամուտների կոմիտե | G48: =G50 -> 0 | H48: =H50 -> 946000 | I48: =I50 -> 1016000 | J48: =J50 -> 1111000
F49: այդ թվում՝ բյուջետային ծախսերի տնտեսագիտական դասակարգման հոդվածներ
F50: ԸՆԴԱՄԵՆԸ ԾԱԽՍԵՐ | G50: =G51 -> 0 | H50: =H51 -> 946000 | I50: =I51 -> 1016000 | J50: =J51 -> 1111000
F51: ՈՉ ՖԻՆԱՆՍԱԿԱՆ ԱԿՏԻՎՆԵՐԻ ԳԾՈՎ ԾԱԽՍԵՐ | G51: =G52 -> 0 | H51: =H52 -> 946000 | I51: =I52 -> 1016000 | J51: =J52 -> 1111000
F52: ՀԻՄՆԱԿԱՆ ՄԻՋՈՑՆԵՐ | G52: =G53+G55 -> 0 | H52: =H53+H55 -> 946000 | I52: =I53+I55 -> 1016000 | J52: =J53+J55 -> 1111000
F53: ՄԵՔԵՆԱՆԵՐ ԵՎ ՍԱՐՔԱՎՈՐՈՒՄՆԵՐ | G53: =G54 -> 0 | H53: =H54 -> -10000 | I53: =I54 -> -90000 | J53: =J54 -> -165000
F54: - Այլ մեքենաներ և սարքավորումներ | G54: 0 | H54: -10000 | I54: -90000 | J54: -165000
F55: ԱՅԼ ՀԻՄՆԱԿԱՆ ՄԻՋՈՑՆԵՐ | G55: =G56 -> 0 | H55: =H56 -> 956000 | I55: =I56 -> 1106000 | J55: =J56 -> 1276000
F56: - Ոչ նյութական հիմնական միջոցներ | G56: =-(G54+G45+G74+G37+G29+G27+G26) -> 0 | H56: =-(H54+H45+H74+H37+H29+H27+H26) -> 956000 | I56: =-(I54+I45+I74+I37+I29+I27+I26) -> 1106000 | J56: =-(J54+J45+J74+J37+J29+J27+J26) -> 1276000
A57: 09 | F57: ԿՐԹՈՒԹՅՈՒՆ | G57: =G59 -> 0 | H57: =H59 -> -5000 | I57: =I59 -> -10000 | J57: =J59 -> -15000
F58: այդ թվում՝
B59: 05 | F59: Ըստ մակարդակների չդասակարգվող կրթություն | G59: =G61 -> 0 | H59: =H61 -> -5000 | I59: =I61 -> -10000 | J59: =J61 -> -15000
F60: այդ թվում՝
C61: 02 | F61: Լրացուցիչ կրթություն | G61: =G63 -> 0 | H61: =H63 -> -5000 | I61: =I63 -> -10000 | J61: =J63 -> -15000
F62: այդ թվում՝
F63: ՀՀ պետական եկամուտների կոմիտե | G63: =G64 -> 0 | H63: =H64 -> -5000 | I63: =I64 -> -10000 | J63: =J64 -> -15000
D64: 1023 | F64: Հարկային և մաքսային ծառայություններ | G64: =G66 -> 0 | H64: =H66 -> -5000 | I64: =I66 -> -10000 | J64: =J66 -> -15000
F65: այդ թվում՝
E66: 11003 | F66: Հարկային և մաքսային ծառայողների վերապատրաստում | G66: =G70 -> 0 | H66: =H70 -> -5000 | I66: =I70 -> -10000 | J66: =J70 -> -15000
F67: այդ թվում` ըստ կատարողների
F68: ՀՀ պետական եկամուտների կոմիտե | G68: =G70 -> 0 | H68: =H70 -> -5000 | I68: =I70 -> -10000 | J68: =J70 -> -15000
F69: այդ թվում` բյուջետային ծախսերի տնտեսագիտական դասակարգման հոդվածներ
F70: ԸՆԴԱՄԵՆԸ ԾԱԽՍԵՐ | G70: =G71 -> 0 | H70: =H71 -> -5000 | I70: =I71 -> -10000 | J70: =J71 -> -15000
F71: ԸՆԹԱՑԻԿ ԾԱԽՍԵՐ | G71: =G72 -> 0 | H71: =H72 -> -5000 | I71: =I72 -> -10000 | J71: =J72 -> -15000
F72: ԴՐԱՄԱՇՆՈՐՀՆԵՐ | G72: =G73 -> 0 | H72: =H73 -> -5000 | I72: =I73 -> -10000 | J72: =J73 -> -15000
F73: Ընթացիկ դրամաշնորհներ պետական հատվածի այլ մակարդակներին | G73: =G74 -> 0 | H73: =H74 -> -5000 | I73: =I74 -> -10000 | J73: =J74 -> -15000
F74: - Ընթացիկ դրամաշնորհներ պետական և համայնքային ոչ առևտրային կազմակերպություններին | G74: 0 | H74: -5000 | I74: -10000 | J74: -15000

Sheet Հավելված 4
G1: Հավելված N 4
A2: ՀԱՅԱՍՏԱՆԻ ՀԱՆՐԱՊԵՏՈՒԹՅԱՆ ԿԱՌԱՎԱՐՈՒԹՅԱՆ 2020 ԹՎԱԿԱՆԻ ԴԵԿՏԵՄԲԵՐԻ 30-Ի N 2215-Ն ՈՐՈՇՄԱՆ N 5 ՀԱՎԵԼՎԱԾԻ N 2 ԱՂՅՈՒՍԱԿՈՒՄ ԿԱՏԱՐՎՈՂ ՓՈՓՈԽՈՒԹՅՈՒՆՆԵՐԸ
G3: հազար դրամներով
A4: Ծրագրային դասիչը | C4: Բյուջետային գլխավոր կարգադրիչների, ծրագրերի, միջոցառումների, միջոցառումները կատարող պետական մարմինների և ուղղությունների անվանումները | D4: Ցուցանիշների փոփոխությունը (ավելացումները նշված են դրական նշանով)
A5: Ծրագիրը | B5: Միջոցառումը | D5: Առաջին եռամսյակ | E5: Առաջին կիսամյակ | F5: Ինն ամիս | G5: Տարի
C6: ԸՆԴԱՄԵՆԸ | D6: =D8 -> 0 | E6: =E8 -> 946000 | F6: =F8 -> 1016000 | G6: =G8 -> 1111000
C7: այդ թվում՝
C8: ՀՀ ՊԵՏԱԿԱՆ ԵԿԱՄՈՒՏՆԵՐԻ ԿՈՄԻՏԵ | D8: =D10 -> 0 | E8: =E10 -> 946000 | F8: =F10 -> 1016000 | G8: =G10 -> 1111000
C9: այդ թվում`
A10: 1023 | B10: 31001 | C10: ՀՀ պետական եկամուտների կոմիտեի տեխնիկական հագեցվածության բարելավում | D10: =D12 -> 0 | E10: =E12 -> 946000 | F10: =F12 -> 1016000 | G10: =G12 -> 1111000
C11: այդ թվում` ըստ կատարողների
C12: ՀՀ պետական եկամուտների կոմիտե | D12: ='Հավելված 3'!G54+'Հավելված 3'!G56 -> 0 | E12: ='Հավելված 3'!H54+'Հավելված 3'!H56 -> 946000 | F12: ='Հավելված 3'!I54+'Հավելված 3'!I56 -> 1016000 | G12: ='Հավելված 3'!J54+'Հավելված 3'!J56 -> 1111000

Sheet Հավելված 5
G1: Հավելված N 5
A2: ՀԱՅԱՍՏԱՆԻ ՀԱՆՐԱՊԵՏՈՒԹՅԱՆ ԿԱՌԱՎԱՐՈՒԹՅԱՆ 2020 ԹՎԱԿԱՆԻ ԴԵԿՏԵՄԲԵՐԻ 30-Ի N 2215-Ն ՈՐՈՇՄԱՆ N 5 ՀԱՎԵԼՎԱԾԻ N 7 ԱՂՅՈՒՍԱԿՈՒՄ ԿԱՏԱՐՎՈՂ ՓՈՓՈԽՈՒԹՅՈՒՆՆԵՐԸ
G4: հազար դրամներով
A5: Ծրագրային դասիչ | C5: Բյուջետային հատկացումների գլխավոր կարգադրիչների, ծրագրերի, միջոցառումների, ծախսային ուղղությունների անվանումները | F5: Միջոցառումները կատարող պետական մարմինների և դրամաշնորհ ստացող տնտեսվարող սուբյեկտների անվանումները | G5: Ցուցանիշների փոփոխությունը (նվազեցումները նշված են փակագծերում)
A6: Ծրագիր | B6: Միջոցառում | G6: Տարի
A7: 1 | B7: 2 | C7: 3 | F7: 4 | G7: 5
A8: ՀՀ պետական եկամուտների կոմիտե | G8: =G9 -> -15000
A9: 1023 | B9: Հարկային և մաքսային ծառայություններ | G9: =G10 -> -15000
B10: 11003 | C10: Հարկային և մաքսային ծառայողների վերապատրաստում | F10: ՀՀ պետական եկամուտների կոմիտե | G10: =G11 -> -15000
F11: ՀՀ ՊԵԿ «Ուսումնական կենտրոն» ՊՈԱԿ | G11: ='Հավելված 3'!J74 -> -15000

Sheet Հավելված 6 աղյուսակներ 1,2
F1: Հավելված N 6
F2: Աղյուսակ N 1
A3: ՀԱՅԱՍՏԱՆԻ ՀԱՆՐԱՊԵՏՈՒԹՅԱՆ ԿԱՌԱՎԱՐՈՒԹՅԱՆ 2020 ԹՎԱԿԱՆԻ ԴԵԿՏԵՄԲԵՐԻ 30-Ի N 2215-Ն ՈՐՈՇՄԱՆ N 9 ՀԱՎԵԼՎԱԾԻ N 9.26 ԱՂՅՈՒՍԱԿՈՒՄ ԿԱՏԱՐՎՈՂ ՓՈՓՈԽՈՒԹՅՈՒՆՆԵՐԸ
A5: ՀՀ պետական եկամուտների կոմիտե
A7: ՄԱՍ 2. ՊԵՏԱԿԱՆ ՄԱՐՄՆԻ ԳԾՈՎ ԱՐԴՅՈՒՆՔԱՅԻՆ (ԿԱՏԱՐՈՂԱԿԱՆ) ՑՈՒՑԱՆԻՇՆԵՐԸ
A9: Ծրագրի դասիչը | B9: Ծրագրի անվանումը
A10: 1023 | B10: Հարկային և մաքսային ծառայություններ
A12: Ծրագրի միջոցառումները
A14: Ծրագրի դասիչը՝ | B14: 1023 | C14: Ցուցանիշների փոփոխությունը (նվազեցումները նշված են փակագծերում)
A15: Միջոցառման դասիչը՝ | B15: 11001 | C15: Առաջին եռամսյակ | D15: Առաջին կիսամյակ | E15: Ինն ամիս | F15: Տարի
A16: Միջոցառման անվանումը՝ | B16: Հարկային և մաքսային ծառայություններ
A17: Նկարագրությունը՝ | B17: Հարկային և մաքսային քաղաքականության մշակման, պլանավորման, մոնիտորինգի, ծրագրերի համակարգման, գանձման, վերահսկողության և աջակցության ծառայություններ
A18: Միջոցառման տեսակը՝ | B18: Ծառայությունների մատուցում
A19: Ծառայությունը մատուցող կազմակերպության անվանումը | B19: ՀՀ պետական եկամուտների կոմիտե
B20: Արդյունքի չափորոշիչներ
A21: Միջոցառման վրա կատարվող ծախսը (հազար դրամ) | C21: ='Հավելված 3'!G26+'Հավելված 3'!G27+'Հավելված 3'!G29 -> 0 | D21: ='Հավելված 3'!H26+'Հավելված 3'!H27+'Հավելված 3'!H29 -> -30000 | E21: ='Հավելված 3'!I26+'Հավելված 3'!I27+'Հավելված 3'!I29 -> -95000 | F21: ='Հավելված 3'!J26+'Հավելված 3'!J27+'Հավելված 3'!J29 -> -185000
A23: Ծրագրի դասիչը` | B23: 1023 | C23: Ցուցանիշների փոփոխությունը (նվազեցումները նշված են փակագծերում)
A24: Միջոցառման դասիչը` | B24: 11002 | C24: Առաջին եռամսյակ | D24: Առաջին կիսամյակ | E24: Ինն ամիս | F24: Տարի
A25: Միջոցառման անվանումը` | B25: Ակցիզային դրոշմանիշերի ձեռքբերում
A26: Նկարագրությունը` | B26: ՀՀ-ում արտադրվող և ներմուծվող ալկոհոլային խմիչքների, ծխախոտի արտադրանքի դրոշմավորման համար ակցիզային դրոշմանիշերի ձեռքբերում
A27: Միջոցառման տեսակը` | B27: Ծառայությունների մատուցում
A28: Ծառայությունը մատուցող կազմակերպության(ների) անվանում(ներ)ը | B28: ՀՀ պետական եկամուտների կոմիտե
B29: Արդյունքի չափորոշիչներ
A30: Ալկոհոլային խմիչքների ակցիզային դրոշմանիշերի ձեռքբերումների քանակ (հազար հատ) | D30: -5000 | E30: -5000 | F30: -5000
A31: Ծխախոտի արտադրանքի դրոշմանիշերի ձեռքբերումների քանակ (հազար հատ) | D31: -120000 | E31: -120000 | F31: -120000
A32: Միջոցառման վրա կատարվող ծախսը (հազար դրամ) | C32: ='Հավելված 3'!G37 -> 0 | D32: ='Հավելված 3'!H37 -> -478800 | E32: ='Հավելված 3'!I37 -> -478800 | F32: ='Հավելված 3'!J37 -> -478800
A34: Ծրագրի դասիչը` | B34: 1023 | C34: Ցուցանիշների փոփոխությունը (նվազեցումները նշված են փակագծերում)
A35: Միջոցառման դասիչը` | B35: 11003 | C35: Առաջին եռամսյակ | D35: Առաջին կիսամյակ | E35: Ինն ամիս | F35: Տարի
A36: Միջոցառման անվանումը` | B36: Հարկային և մաքսային ծառայողների վերապատրաստում
A37: Նկարագրությունը` | B37: Հարկային և մաքսային ծառայողների վերապատրաստման մեթոդիկայի մշակման, պլանավորման, ծրագրերի իրականացման և աջակցության ծառայություններ
A38: Միջոցառման տեսակը` | B38: Ծառայությունների մատուցում
A39: Ծառայությունը մատուցող կազմակերպության(ների) անվանում(ներ)ը? | B39: Մասնագիտացված կազմակերպություն
B40: Արդյունքի չափորոշիչներ
A41: Միջոցառման վրա կատարվող ծախսը (հազար դրամ) | C41: ='Հավելված 3'!G74 -> 0 | D41: ='Հավելված 3'!H74 -> -5000 | E41: ='Հավելված 3'!I74 -> -10000 | F41: ='Հավելված 3'!J74 -> -15000
A43: Ծրագրի դասիչը՝ | B43: 1023 | C43: Ցուցանիշների փոփոխությունը (նվազեցումները նշված են փակագծերում)
A44: Միջոցառման դասիչը՝ | B44: 11004 | C44: Առաջին եռամսյակ | D44: Առաջին կիսամյակ | E44: Ինն ամիս | F44: Տարի
A45: Միջոցառման անվանումը՝ | B45: Դրոշմապիտակների ձեռքբերում
A46: Նկարագրությունը՝ | B46: ՀՀ-ում արտադրվող և ներմուծվող որոշակի ապրանքների համար դրոշմապիտակների ձեռքբերում
A47: Միջոցառման տեսակը՝ | B47: Ծառայությունների մատուցում
A48: Ծառայությունը մատուցող կազմակերպության(ների) անվանում(ներ)ը | B48: ՀՀ պետական եկամուտների կոմիտե
B49: Արդյունքի չափորոշիչներ
A50: Ձեռքբերված դրոշմապիտակների քանակ, (հազար հատ) | D50: =-114338.6 -> -114338.6 | E50: =-114338.6 -> -114338.6 | F50: =-114338.6 -> -114338.6
A51: Միջոցառման վրա կատարվող ծախսը (հազար դրամ) | C51: ='Հավելված 3'!G45 -> 0 | D51: ='Հավելված 3'!H45 -> -432200 | E51: ='Հավելված 3'!I45 -> -432200 | F51: ='Հավելված 3'!J45 -> -432200
A53: Ծրագրի դասիչը` | B53: 1023 | C53: Ցուցանիշների փոփոխությունը (ավելացումները նշված են դրական նշաններով)
A54: Միջոցառման դասիչը` | B54: 31001 | C54: Առաջին եռամսյակ | D54: Առաջին կիսամյակ | E54: Ինն ամիս | F54: Տարի
A55: Միջոցառման անվանումը` | B55: ՀՀ պետական եկամուտների կոմիտեի տեխնիկական հագեցվածության բարելավում
A56: Նկարագրությունը` | B56: ՀՀ պետական եկամուտների կոմիտեի տեխնիկական հագեցվածության բարելավում
A57: Միջոցառման տեսակը` | B57: Պետական մարմինների կողմից օգտագործվող ոչ ֆինանսական ակտիվների հետ գործառնություններ
A58: Ակտիվն օգտագործող կազմակերպության անվանումը | B58: ՀՀ պետական եկամուտների կոմիտե
B59: Արդյունքի չափորոշիչներ
A60: Էլեկտրոնային հաշվառման համակարգերի ներդրում, հատ | D60: 9 | E60: 11 | F60: 13
A61: Միջոցառման վրա կատարվող ծախսը (հազար դրամ) | C61: ='Հավելված 3'!G54+'Հավելված 3'!G56 -> 0 | D61: ='Հավելված 3'!H54+'Հավելված 3'!H56 -> 946000 | E61: ='Հավելված 3'!I54+'Հավելված 3'!I56 -> 1016000 | F61: ='Հավելված 3'!J54+'Հավելված 3'!J56 -> 1111000
F64: Աղյուսակ N 2
A65: ՀԱՅԱՍՏԱՆԻ ՀԱՆՐԱՊԵՏՈՒԹՅԱՆ ԿԱՌԱՎԱՐՈՒԹՅԱՆ 2020 ԹՎԱԿԱՆԻ ԴԵԿՏԵՄԲԵՐԻ 30-Ի N 2215-Ն ՈՐՈՇՄԱՆ N 9.1 ՀԱՎԵԼՎԱԾԻ N 9.1.28 ԱՂՅՈՒՍԱԿՈՒՄ ԿԱՏԱՐՎՈՂ ՓՈՓՈԽՈՒԹՅՈՒՆՆԵՐԸ
A67: ՀՀ պետական եկամուտների կոմիտե
A69: ՄԱՍ 1. ՊԵՏԱԿԱՆ ՄԱՐՄՆԻ ԳԾՈՎ ԱՐԴՅՈՒՆՔԱՅԻՆ (ԿԱՏԱՐՈՂԱԿԱՆ) ՑՈՒՑԱՆԻՇՆԵՐԸ
A71: Ծրագրի դասիչը | B71: Ծրագրի անվանումը
A72: 1023 | B72: Հարկային և մաքսային ծառայություններ
A74: Ծրագրի միջոցառումները
A76: Ծրագրի դասիչը՝ | B76: 1023 | C76: Ցուցանիշների փոփոխությունը (նվազեցումները նշված են փակագծերում)
A77: Միջոցառման դասիչը՝ | B77: 11001 | C77: Առաջին եռամսյակ | D77: Առաջին կիսամյակ | E77: Ինն ամիս | F77: Տարի
A78: Միջոցառման անվանումը՝ | B78: Հարկային և մաքսային ծառայություններ
A79: Նկարագրությունը՝ | B79: Հարկային և մաքսային քաղաքականության մշակման, պլանավորման, մոնիտորինգի, ծրագրերի համակարգման, գանձման, վերահսկողության և աջակցության ծառայություններ
A80: Միջոցառման տեսակը՝ | B80: Ծառայությունների մատուցում
A81: Ծառայությունը մատուցող կազմակերպության անվանումը | B81: ՀՀ պետական եկամուտների կոմիտե
B82: Արդյունքի չափորոշիչներ
A83: Միջոցառման վրա կատարվող ծախսը (հազար դրամ) | C83: ='Հավելված 3'!G26+'Հավելված 3'!G27+'Հավելված 3'!G29 -> 0 | D83: ='Հավելված 3'!H26+'Հավելված 3'!H27+'Հավելված 3'!H29 -> -30000 | E83: ='Հավելված 3'!I26+'Հավելված 3'!I27+'Հավելված 3'!I29 -> -95000 | F83: ='Հավելված 3'!J26+'Հավելված 3'!J27+'Հավելված 3'!J29 -> -185000
A85: Ծրագրի դասիչը` | B85: 1023 | C85: Ցուցանիշների փոփոխությունը (նվազեցումները նշված են փակագծերում)
A86: Միջոցառման դասիչը` | B86: 11002 | C86: Առաջին եռամսյակ | D86: Առաջին կիսամյակ | E86: Ինն ամիս | F86: Տարի
A87: Միջոցառման անվանումը` | B87: Ակցիզային դրոշմանիշերի ձեռքբերում
A88: Նկարագրությունը` | B88: ՀՀ-ում արտադրվող և ներմուծվող ալկոհոլային խմիչքների, ծխախոտի արտադրանքի դրոշմավորման համար ակցիզային դրոշմանիշերի ձեռքբերում
A89: Միջոցառման տեսակը` | B89: Ծառայությունների մատուցում
A90: Ծառայությունը մատուցող կազմակերպության(ների) անվանում(ներ)ը | B90: ՀՀ պետական եկամուտների կոմիտե
B91: Արդյունքի չափորոշիչներ
A92: Ալկոհոլային խմիչքների ակցիզային դրոշմանիշերի ձեռքբերումների քանակ (հազար հատ) | D92: -5000 | E92: -5000 | F92: -5000
A93: Ծխախոտի արտադրանքի դրոշմանիշերի ձեռքբերումների քանակ (հազար հատ) | D93: -120000 | E93: -120000 | F93: -120000
A94: Միջոցառման վրա կատարվող ծախսը (հազար դրամ) | C94: ='Հավելված 3'!G37 -> 0 | D94: ='Հավելված 3'!H37 -> -478800 | E94: ='Հավելված 3'!I37 -> -478800 | F94: ='Հավելված 3'!J37 -> -478800
A96: Ծրագրի դասիչը` | B96: 1023 | C96: Ցուցանիշների փոփոխությունը (նվազեցումները նշված են փակագծերում)
A97: Միջոցառման դասիչը` | B97: 11003 | C97: Առաջին եռամսյակ | D97: Առաջին կիսամյակ | E97: Ինն ամիս | F97: Տարի
A98: Միջոցառման անվանումը` | B98: Հարկային և մաքսային ծառայողների վերապատրաստում
A99: Նկարագրությունը` | B99: Հարկային և մաքսային ծառայողների վերապատրաստման մեթոդիկայի մշակման, պլանավորման, ծրագրերի իրականացման և աջակցության ծառայություններ
A100: Միջոցառման տեսակը` | B100: Ծառայությունների մատուցում
A101: Ծառայությունը մատուցող կազմակերպության(ների) անվանում(ներ)ը | B101: Մասնագիտացված կազմակերպություն
B102: Արդյունքի չափորոշիչներ
A103: Միջոցառման վրա կատարվող ծախսը (հազար դրամ) | C103: ='Հավելված 3'!G74 -> 0 | D103: ='Հավելված 3'!H74 -> -5000 | E103: ='Հավելված 3'!I74 -> -10000 | F103: ='Հավելված 3'!J74 -> -15000
A104: Ծրագրի դասիչը՝ | B104: 1023 | C104: Ցուցանիշների փոփոխությունը (նվազեցումները նշված են փակագծերում)
A105: Միջոցառման դասիչը՝ | B105: 11004 | C105: Առաջին եռամսյակ | D105: Առաջին կիսամյակ | E105: Ինն ամիս | F105: Տարի
A106: Միջոցառման անվանումը՝ | B106: Դրոշմապիտակների ձեռքբերում
A107: Նկարագրությունը՝ | B107: ՀՀ-ում արտադրվող և ներմուծվող որոշակի ապրանքների համար դրոշմապիտակների ձեռքբերում
A108: Միջոցառման տեսակը՝ | B108: Ծառայությունների մատուցում
A109: Ծառայությունը մատուցող կազմակերպության(ների) անվանում(ներ)ը | B109: ՀՀ պետական եկամուտների կոմիտե
B110: Արդյունքի չափորոշիչներ
A111: Ձեռքբերված դրոշմապիտակների քանակ, (հազար հատ) | D111: =-114338.6 -> -114338.6 | E111: =-114338.6 -> -114338.6 | F111: =-114338.6 -> -114338.6
A112: Միջոցառման վրա կատարվող ծախսը (հազար դրամ) | C112: ='Հավելված 3'!G45 -> 0 | D112: ='Հավելված 3'!H45 -> -432200 | E112: ='Հավելված 3'!I45 -> -432200 | F112: ='Հավելված 3'!J45 -> -432200
A114: Ծրագրի դասիչը` | B114: 1023 | C114: Ցուցանիշների փոփոխությունը (ավելացումները նշված են դրական նշաններով)
A115: Միջոցառման դասիչը` | B115: 31001 | C115: Առաջին եռամսյակ | D115: Առաջին կիսամյակ | E115: Ինն ամիս | F115: Տարի
A116: Միջոցառման անվանումը` | B116: ՀՀ պետական եկամուտների կոմիտեի տեխնիկական հագեցվածության բարելավում
A117: Նկարագրությունը` | B117: ՀՀ պետական եկամուտների կոմիտեի տեխնիկական հագեցվածության բարելավում
A118: Միջոցառման տեսակը` | B118: Պետական մարմինների կողմից օգտագործվող ոչ ֆինանսական ակտիվների հետ գործառնություններ
A119: Ակտիվն օգտագործող կազմակերպության անվանումը | B119: ՀՀ պետական եկամուտների կոմիտե
...

Sheet Հավելված 7
G1: Հավելված N 7
A3: ՀԱՅԱՍՏԱՆԻ ՀԱՆՐԱՊԵՏՈՒԹՅԱՆ ԿԱՌԱՎԱՐՈՒԹՅԱՆ 2020 ԹՎԱԿԱՆԻ ԴԵԿՏԵՄԲԵՐԻ 30-Ի N 2215-Ն ՈՐՈՇՄԱՆ N 10 ՀԱՎԵԼՎԱԾԻ ԱՂՅՈՒՍԱԿՈՒՄ ԿԱՏԱՐՎՈՂ ՓՈՓՈԽՈՒԹՅՈՒՆՆԵՐԸ
A5: Գնման առարկայի | F5: Ցուցանիշների փոփոխությունը (ավելացումները նշված են դրական նշանով, իսկ նվազեցումները՝ փակագծերում)
A6: կոդը | B6: անվանումը | C6: գնման ձևը | D6: չափի միավորը | E6: միավորի գինը | F6: քանակը | G6: Գումարը (հազար դրամ)
A8: ՀՀ պետական եկամուտների կոմիտե | G8: =G9 -> 15000.03
A9: Բաժին N 01 | B9: Խումբ N 01 | C9: Դաս N 02 | D9: Ֆինանսական և հարկաբյուջետային հարաբերություններ | G9: =G10+G19+G23+G26 -> 15000.03
A10: 1023 11001 | B10: Հարկային և մաքսային ծառայություններ | G10: =G11+G16 -> -184999.97
B11: ՄԱՍ I. ԱՊՐԱՆՔՆԵՐ | G11: =G12+G13+G14+G15 -> -149999.97
A12: 30197622-1 | B12: թուղթ, A4 ֆորմատի | C12: ԳՀ | D12: կգ | E12: 625 | F12: -47997 | G12: =E12*F12/1000 -> -29998.125
A13: 18111100-1 | B13: արտադրական հատուկ հագուստ | C13: ԳՀ | D13: հատ | E13: 40000 | F13: -247 | G13: =E13*F13/1000 -> -9880
A14: 35811170-1 | B14: համազգեստ | C14: ԲՄ | D14: լրակազմ | E14: 162901.4 | F14: -676 | G14: =E14*F14/1000 -> -110121.35
A15: 39241210-1 | B15: մկրատ, գրասենյակային | C15: ԳՀ | D15: հատ | E15: 500 | F15: -1 | G15: =E15*F15/1000 -> -0.5
B16: ՄԱՍ III. ԾԱՌԱՅՈՒԹՅՈՒՆՆԵՐ | G16: =G17+G18 -> -35000
A17: 98341140-1 | B17: շենքի պահպանման ծառայություններ | C17: ԲՄ | D17: դրամ | G17: -20000
A18: 70311200-1 | B18: տարածքների վարձակալության ծառայություններ | C18: ՄԱ | D18: դրամ | G18: -15000
A19: 1023 11002 | B19: Ակցիզային դրոշմանիշերի ձեռքբերում | G19: =G20 -> -478800
B20: ՄԱՍ III. ԾԱՌԱՅՈՒԹՅՈՒՆՆԵՐ | G20: =G21+G22 -> -478800
A21: 79821200-2 | B21: այլ պոլիգրաֆիական արտադրանքի տպագրման ծառայություն | C21: ԲՄ | D21: հատ | E21: 3.6 | F21: -120000000 | G21: =E21*F21/1000 -> -432000
A22: 79821200-1 | B22: այլ պոլիգրաֆիական արտադրանքի տպագրման ծառայություն | C22: ԲՄ | D22: հատ | E22: 9.36 | F22: -5000000 | G22: =E22*F22/1000 -> -46800
A23: 1023 11004 | B23: Դրոշմապիտակների ձեռքբերում | G23: =G24 -> -432200
B24: ՄԱՍ III. ԾԱՌԱՅՈՒԹՅՈՒՆՆԵՐ | G24: =G25 -> -432200
A25: 79821200-1 | B25: այլ պոլիգրաֆիական արտադրանքի տպագրման ծառայություն | C25: ԲՄ | D25: հատ | E25: 3.78 | F25: -114338624 | G25: =F25*E25/1000 -> -432200
A26: 1023 31001 | B26: ՀՀ պետական եկամուտների կոմիտեի տեխնիկական հագեցվածության բարելավում | G26: =G27 -> 1111000
B27: ՄԱՍ III. ԾԱՌԱՅՈՒԹՅՈՒՆՆԵՐ | G27: =G28+G29+G30+G31+G32+G33+G34+G35+G36+G37+G38+G39+G40+G41+G42 -> 1111000
A28: 50421300-4 | B28: ռենտգեն սարքերի վերանորոգման ― պահպանման ծառայություններ | C28: ԲՄ | D28: դրամ | E28: 100000000 | F28: -1 | G28: =F28*E28/1000 -> -100000
A29: 50421300-2 | B29: ռենտգեն սարքերի վերանորոգման ― պահպանման ծառայություններ | C29: ԲՄ | D29: դրամ | G29: =-65000 -> -65000
A30: 72261110-501 | B30: ծրագրային ապահովման մշակման ծառայություններ | C30: ԳՀ | D30: դրամ | E30: 60000000 | F30: 1 | G30: =E30*F30/1000 -> 60000
A31: 72261110 | B31: ծրագրային ապահովման մշակման ծառայություններ | C31: ԲՄ | D31: դրամ | E31: 90000000 | F31: 1 | G31: =E31*F31/1000 -> 90000
A32: 72261110 | B32: ծրագրային ապահովման մշակման ծառայություններ | C32: ԲՄ | D32: դրամ | E32: 100000000 | F32: 1 | G32: =E32*F32/1000 -> 100000
A33: 72261110 | B33: ծրագրային ապահովման մշակման ծառայություններ | C33: ԲՄ | D33: դրամ | E33: 200000000 | F33: 1 | G33: =E33*F33/1000 -> 200000
A34: 72261110 | B34: ծրագրային ապահովման մշակման ծառայություններ | C34: ԲՄ | D34: դրամ | E34: 500000000 | F34: 1 | G34: =E34*F34/1000 -> 500000
A35: 72261110 | B35: ծրագրային ապահովման մշակման ծառայություններ | C35: ԳՀ | D35: դրամ | E35: 30000000 | F35: 1 | G35: =E35*F35/1000 -> 30000
A36: 72261110 | B36: ծրագրային ապահովման մշակման ծառայություններ | C36: ԲՄ | D36: դրամ | E36: 100000000 | F36: 1 | G36: =E36*F36/1000 -> 100000
A37: 72261110 | B37: ծրագրային ապահովման մշակման ծառայություններ | C37: ԳՀ | D37: դրամ | E37: 60000000 | F37: 1 | G37: =E37*F37/1000 -> 60000
A38: 72261110 | B38: ծրագրային ապահովման մշակման ծառայություններ | C38: ԳՀ | D38: դրամ | E38: 30000000 | F38: 1 | G38: =E38*F38/1000 -> 30000
A39: 72261110 | B39: ծրագրային ապահովման մշակման ծառայություններ | C39: ԳՀ | D39: դրամ | E39: 5000000 | F39: 1 | G39: =E39*F39/1000 -> 5000
A40: 72261110 | B40: ծրագրային ապահովման մշակման ծառայություններ | C40: ԳՀ | D40: դրամ | E40: 35000000 | F40: 1 | G40: =E40*F40/1000 -> 35000
A41: 72261110 | B41: ծրագրային ապահովման մշակման ծառայություններ | C41: ԳՀ | D41: դրամ | E41: 24000000 | F41: 1 | G41: =E41*F41/1000 -> 24000
A42: 72261110 | B42: ծրագրային ապահովման մշակման ծառայություններ | C42: ԳՀ | D42: դրամ | E42: 42000000 | F42: 1 | G42: =E42*F42/1000 -> 42000
