Workbook

Sheet Հավելված 1
G1: Հավելված N 1
A2: «ՀԱՅԱՍՏԱՆԻ ՀԱՆՐԱՊԵՏՈՒԹՅԱՆ 2021 ԹՎԱԿԱՆԻ ՊԵՏԱԿԱՆ ԲՅՈՒՋԵԻ ՄԱՍԻՆ» ՀԱՅԱՍՏԱՆԻ ՀԱՆՐԱՊԵՏՈՒԹՅԱՆ ՕՐԵՆՔԻ N 1 ՀԱՎԵԼՎԱԾԻ N 2 ԱՂՅՈՒՍԱԿՈՒՄ ԿԱՏԱՐՎՈՂ ՎԵՐԱԲԱՇԽՈՒՄԸ ԵՎ ՀԱՅԱՍՏԱՆԻ ՀԱՆՐԱՊԵՏՈՒԹՅԱՆ ԿԱՌԱՎԱՐՈՒԹՅԱՆ 2020 ԹՎԱԿԱՆԻ ԴԵԿՏԵՄԲԵՐԻ 30-Ի N 2215-Ն ՈՐՈՇՄԱՆ N 5 ՀԱՎԵԼՎԱԾԻ N 1 ԱՂՅՈՒՍԱԿՈՒՄ ԿԱՏԱՐՎՈՂ ՓՈՓՈԽՈՒԹՅՈՒՆՆԵՐԸ
G3: հազար դրամներով
A4: Ծրագրային դասիչը | C4: Բյուջետային հատկացումների գլխավոր կարգադրիչների, ծրագրերի և միջոցառումների անվանումները | D4: Ցուցանիշների փոփոխությունը (ավելացումները նշված են դրական նշանով, իսկ նվազեցումները՝ փակագծերում)
A5: Ծրագիր | B5: Միջոցառում | D5: Առաջին եռամսյակ | E5: Առաջին կիսամյակ | F5: Ինն ամիս | G5: Տարի
C6: ԸՆԴԱՄԵՆԸ | D6: =D7 -> 0 | E6: =E7 -> 0 | F6: =F7 -> 0 | G6: =G7 -> 0
C7: ՀՀ պետական եկամուտների կոմիտե | D7: =D8 -> 0 | E7: =E8 -> 0 | F7: =F8 -> 0 | G7: =G8 -> 0
A8: 1023 | C8: Ծրագրի անվանումը՝ | D8: =D15+D21+D27+D33 -> 0 | E8: =E15+E21+E27+E33 -> 0 | F8: =F15+F21+F27+F33 -> 0 | G8: =G15+G21+G27+G33 -> 0
C9: Հարկային և մաքսային ծառայություններ
C10: Ծրագրի նպատակը՝
C11: Հարկային և մաքսային միասնական պետական քաղաքականության իրականացում, հարկային և մաքսային օրենսդրության ամբողջական և համահավասար կիրառում
C12: Վերջնական արդյունքի նկարագրությունը՝
C13: Արդյունավետ հարկային և մաքսային հսկողության իրականացում, պետական բյուջեի եկամուտների ապահովում
A14: Ծրագրի միջոցառումներ
B15: 11001 | C15: Միջոցառման անվանումը՝ | D15: ='Հավելված 3'!G27 -> 0 | E15: ='Հավելված 3'!H27 -> -93425 | F15: ='Հավելված 3'!I27 -> -148375 | G15: ='Հավելված 3'!J27 -> -249125
C16: Հարկային և մաքսային ծառայություններ
C17: Միջոցառման նկարագրությունը՝
C18: Հարկային և մաքսային քաղաքականության մշակման, պլանավորման, մոնիթորինգի, ծրագրերի համակարգման, գանձման, վերահսկողության և աջակցության ծառայություններ
C19: Միջոցառման տեսակը՝
C20: Ծառայության մատուցում
B21: 31001 | C21: Միջոցառման անվանումը՝ | D21: ='Հավելված 3'!G36+'Հավելված 3'!G38 -> 0 | E21: ='Հավելված 3'!H36+'Հավելված 3'!H38 -> 83750 | F21: ='Հավելված 3'!I36+'Հավելված 3'!I38 -> 133750 | G21: ='Հավելված 3'!J36+'Հավելված 3'!J38 -> 234500
C22: ՀՀ պետական եկամուտների կոմիտեի տեխնիկական հագեցվածության բարելավում
C23: Միջոցառման նկարագրությունը`
C24: ՀՀ պետական եկամուտների կոմիտեի տեխնիկական հագեցվածության բարելավում
C25: Միջոցառման տեսակը
C26: Պետական մարմինների կողմից օգտագործվող ոչ ֆինանսական ակտիվների հետ գործառնություններ
B27: 31003 | C27: Միջոցառման անվանումը` | D27: ='Հավելված 3'!G47 -> 0 | E27: ='Հավելված 3'!H47 -> 9675 | F27: ='Հավելված 3'!I47 -> 9675 | G27: ='Հավելված 3'!J47 -> 9675
C28: ՀՀ պետական եկամուտների կոմիտեի շենքային ապահովվածության բարելավում_x000D_
C29: Միջոցառման նկարագրությունը`
C30: ՀՀ պետական եկամուտների կոմիտեի նոր շենքերի և շինությունների շինարարություն, նախագծային աշխատանքների ձեռքբերում
C31: Միջոցառման տեսակը
C32: Պետական մարմինների կողմից օգտագործվող ոչ ֆինանսական ակտիվների հետ գործառնություններ
B33: 31004 | C33: Միջոցառման անվանումը` | D33: ='Հավելված 3'!G56 -> 0 | E33: ='Հավելված 3'!H56 -> 0 | F33: ='Հավելված 3'!I56 -> 4950 | G33: ='Հավելված 3'!J56 -> 4950
C34: ՀՀ պետական եկամուտների կոմիտեի շենքային պայմանների բարելավում
C35: Միջոցառման նկարագրությունը`
C36: ՀՀ պետական եկամուտների կոմիտեի շենքերի և շինությունների կապիտալ վերանորոգում, նախագծային աշխատանքների ձեռքբերում
C37: Միջոցառման տեսակը
C38: Պետական մարմինների կողմից օգտագործվող ոչ ֆինանսական ակտիվների հետ գործառնություններ

Sheet Հավելված 2
H1: Հավելված N 2
A2: «ՀԱՅԱՍՏԱՆԻ ՀԱՆՐԱՊԵՏՈՒԹՅԱՆ 2021 ԹՎԱԿԱՆԻ ՊԵՏԱԿԱՆ ԲՅՈՒՋԵԻ ՄԱՍԻՆ» ՀԱՅԱՍՏԱՆԻ ՀԱՆՐԱՊԵՏՈՒԹՅԱՆ ՕՐԵՆՔԻ N 1 ՀԱՎԵԼՎԱԾԻ N 3 ԱՂՅՈՒՍԱԿՈՒՄ ԿԱՏԱՐՎՈՂ ՓՈՓՈԽՈՒԹՅՈՒՆՆԵՐԸ ԵՎ ԼՐԱՑՈՒՄՆԵՐԸ
H3: հազար դրամներով
A4: Ծրագրային դասիչ | C4: Բյուջետային գլխավոր կարգադրիչների, ծրագրերի, միջոցառումների և ուղղությունների անվանումները | D4: Ցուցանիշների փոփոխությունը (ավելացումները նշված են դրական նշանով)
D5: Ընդամենը | E5: այդ թվում՝
E6: Կառուցման աշխատանքներ | F6: Վերակառուցման, վերանորոգման և վերականգնման աշխատանքներ | G6: Նախագծահետազոտական, գեոդեզա-քարտեզագրական աշխատանքներ | H6: Ոչ ֆինանսական այլ ակտիվների ձեռքբերում
A7: Ծրագիր | B7: Միջոցառում
C8: ԸՆԴԱՄԵՆԸ | D8: =+D10 -> 249125 | E8: =+E10 -> 0 | F8: =+F10 -> 0 | G8: =+G10 -> 14625 | H8: =+H10 -> 234500
C9: այդ թվում՝
C10: ՀՀ ՊԵՏԱԿԱՆ ԵԿԱՄՈՒՏՆԵՐԻ ԿՈՄԻՏԵ | D10: =D12+D13+D16 -> 249125 | E10: =E12+E13+E16 -> 0 | F10: =F12+F13+F16 -> 0 | G10: =G12+G13+G16 -> 14625 | H10: =H12+H13+H16 -> 234500
C11: այդ թվում`
A12: 1023 | B12: 31001 | C12: ՀՀ պետական եկամուտների կոմիտեի տեխնիկական հագեցվածության բարելավում | D12: =E12+F12+G12+H12 -> 234500 | H12: ='Հավելված 3'!J36+'Հավելված 3'!J38 -> 234500
A13: 1023 | B13: 31003 | C13: ՀՀ պետական եկամուտների կոմիտեի շենքային ապահովվածության բարելավում | D13: =E13+F13+G13+H13 -> 9675 | E13: =E14 -> 0 | F13: =F14 -> 0 | G13: =G14+G15 -> 9675 | H13: =H14 -> 0
C14: Գյումրի քաղաքում արտաքին տնտեսական գործունեության կենտրոնի կառուցման նախագծանախահաշվային փաստաթղթերի կազմում | D14: =E14+F14+G14+H14 -> 8700 | G14: ='Հավելված 4'!G17 -> 8700
C15: Ք. Երևան Կոմիտաս 35 հասցեում գտնվող կիսանկուղային հարկում տարածքի ճաշարանի վերակառուցում նախագծանախահաշվային փաստաթղթերի կազմման աշխատանքներ | D15: =E15+F15+G15+H15 -> 975 | G15: ='Հավելված 4'!G18 -> 975
A16: 1023 | B16: 31004 | C16: ՀՀ պետական եկամուտների կոմիտեի շենքային պայմանների բարելավում | D16: =D17 -> 4950 | E16: =E17 -> 0 | F16: =F17 -> 0 | G16: =G17 -> 4950 | H16: =H17 -> 0
C17: Ք. Երևան Դեղատան 3 հասցեում գտնվող վարչական շենքի վերանորոգման նախագծանախահաշվային փաստաթղթերի կազմման աշխատանքներ | D17: =E17+F17+G17+H17 -> 4950 | G17: ='Հավելված 4'!G23 -> 4950

Sheet Հավելված 3
J1: Հավելված N 3
A3: ՀԱՅԱՍՏԱՆԻ ՀԱՆՐԱՊԵՏՈՒԹՅԱՆ ԿԱՌԱՎԱՐՈՒԹՅԱՆ 2020 ԹՎԱԿԱՆԻ ԴԵԿՏԵՄԲԵՐԻ 30-Ի N 2215-Ն ՈՐՈՇՄԱՆ NN 3 ԵՎ 4 ՀԱՎԵԼՎԱԾՆԵՐԻ ԱՂՅՈՒՍԱԿՆԵՐՈՒՄ ԿԱՏԱՐՎՈՂ ՓՈՓՈԽՈՒԹՅՈՒՆՆԵՐԸ ԵՎ ԼՐԱՑՈՒՄՆԵՐԸ
J5: հազար դրամներով
A6: Գործառնական դասիչը | D6: Ծրագրային դասիչը | F6: Բյուջետային ծախսերի գործառնական դասակարգման բաժինների, խմբերի և դասերի, բյուջետային ծրագրերի միջոցառումների, բյուջետային հատկացումների գլխավոր կարգադրիչների անվանումները | G6: Ցուցանիշների փոփոխությունը (ավելացումները նշված են դրական նշանով, իսկ նվազեցումները՝ փակագծերում)
A7: բաժին | B7: խումբ | C7: դաս | D7: ծրագիր | E7: միջոցառում | G7: Առաջին եռամսյակ | H7: Առաջին կիսամյակ | I7: Ինն ամիս | J7: Տարի
F8: ԸՆԴԱՄԵՆԸ ԾԱԽՍԵՐ | G8: =G10 -> 0 | H8: =H10 -> 0 | I8: =I10 -> 0 | J8: =J10 -> 0
F9: այդ թվում՝
A10: 01 | F10: ԸՆԴՀԱՆՈՒՐ ԲՆՈՒՅԹԻ ՀԱՆՐԱՅԻՆ ԾԱՌԱՅՈՒԹՅՈՒՆՆԵՐ | G10: =G12 -> 0 | H10: =H12 -> 0 | I10: =I12 -> 0 | J10: =J12 -> 0
F11: այդ թվում՝
B12: 01 | F12: Օրենսդիր և գործադիր մարմիններ, պետական կառավարում, ֆինանսական և հարկաբյուջետային հարաբերություններ, արտաքին հարաբերություններ | G12: =G14 -> 0 | H12: =H14 -> 0 | I12: =I14 -> 0 | J12: =J14 -> 0
F13: այդ թվում՝
C14: 02 | F14: Ֆինանսական և հարկաբյուջետային հարաբերություններ | G14: =G16 -> 0 | H14: =H16 -> 0 | I14: =I16 -> 0 | J14: =J16 -> 0
F15: այդ թվում՝
F16: ՀՀ պետական եկամուտների կոմիտե | G16: =G17 -> 0 | H16: =H17 -> 0 | I16: =I17 -> 0 | J16: =J17 -> 0
D17: 1023 | F17: Հարկային և մաքսային ծառայություններ | G17: =G19+G28+G39+G48 -> 0 | H17: =H19+H28+H39+H48 -> 0 | I17: =I19+I28+I39+I48 -> 0 | J17: =J19+J28+J39+J48 -> 0
F18: այդ թվում՝
E19: 11001 | F19: Հարկային և մաքսային ծառայություններ | G19: =G21 -> 0 | H19: =H21 -> -93425 | I19: =I21 -> -148375 | J19: =J21 -> -249125
F20: այդ թվում՝ ըստ կատարողների
F21: ՀՀ պետական եկամուտների կոմիտե | G21: =G23 -> 0 | H21: =H23 -> -93425 | I21: =I23 -> -148375 | J21: =J23 -> -249125
F22: այդ թվում՝ բյուջետային ծախսերի տնտեսագիտական դասակարգման հոդվածներ
F23: ԸՆԴԱՄԵՆԸ ԾԱԽՍԵՐ | G23: =G24 -> 0 | H23: =H24 -> -93425 | I23: =I24 -> -148375 | J23: =J24 -> -249125
F24: ԸՆԹԱՑԻԿ ԾԱԽՍԵՐ | G24: =G25 -> 0 | H24: =H25 -> -93425 | I24: =I25 -> -148375 | J24: =J25 -> -249125
F25: ԾԱՌԱՅՈՒԹՅՈՒՆՆԵՐԻ ԵՎ ԱՊՐԱՆՔՆԵՐԻ ՁԵՌՔԲԵՐՈՒՄ | G25: =G26 -> 0 | H25: =H26 -> -93425 | I25: =I26 -> -148375 | J25: =J26 -> -249125
F26: Շարունակական ծախսեր | G26: =G27 -> 0 | H26: =H27 -> -93425 | I26: =I27 -> -148375 | J26: =J27 -> -249125
F27: - Արտագերատեսչական ծախսեր | G27: =-G28-G39-G48 -> 0 | H27: =-H28-H39-H48 -> -93425 | I27: =-I28-I39-I48 -> -148375 | J27: =-J28-J39-J48 -> -249125
E28: 31001 | F28: ՀՀ պետական եկամուտների կոմիտեի տեխնիկական հագեցվածության բարելավում | G28: =-G36+G38+G47 -> 0 | H28: =H30 -> 83750 | I28: =I30 -> 133750 | J28: =J30 -> 234500
F29: այդ թվում` ըստ կատարողների
F30: ՀՀ պետական եկամուտների կոմիտե | G30: =G32 -> 0 | H30: =H32 -> 83750 | I30: =I32 -> 133750 | J30: =J32 -> 234500
F31: այդ թվում` բյուջետային ծախսերի տնտեսագիտական դասակարգման հոդվածներ
F32: ԸՆԴԱՄԵՆԸ ԾԱԽՍԵՐ | G32: =G33 -> 0 | H32: =H33 -> 83750 | I32: =I33 -> 133750 | J32: =J33 -> 234500
F33: ՈՉ ՖԻՆԱՆՍԱԿԱՆ ԱԿՏԻՎՆԵՐԻ ԳԾՈՎ ԾԱԽՍԵՐ | G33: =G34 -> 0 | H33: =H34 -> 83750 | I33: =I34 -> 133750 | J33: =J34 -> 234500
F34: ՀԻՄՆԱԿԱՆ ՄԻՋՈՑՆԵՐ | G34: =G35+G37 -> 0 | H34: =H35+H37 -> 83750 | I34: =I35+I37 -> 133750 | J34: =J35+J37 -> 234500
F35: ՄԵՔԵՆԱՆԵՐ ԵՎ ՍԱՐՔԱՎՈՐՈՒՄՆԵՐ | G35: =G36 -> 0 | H35: =H36 -> 83750 | I35: =I36 -> 83750 | J35: =J36 -> 134500
F36: - Վարչական սարքավորումներ | H36: 83750 | I36: 83750 | J36: 134500
F37: ԱՅԼ ՀԻՄՆԱԿԱՆ ՄԻՋՈՑՆԵՐ | G37: =G38 -> 0 | H37: =H38 -> 0 | I37: =I38 -> 50000 | J37: =J38 -> 100000
F38: - Ոչ նյութական հիմնական միջոցներ | H38: 0 | I38: 50000 | J38: 100000
E39: 31003 | F39: ՀՀ պետական եկամուտների կոմիտեի շենքային ապահովվածության բարելավում | G39: =G41 -> 0 | H39: =H41 -> 9675 | I39: =I41 -> 9675 | J39: =J41 -> 9675
F40: այդ թվում` ըստ կատարողների
F41: ՀՀ պետական եկամուտների կոմիտե | G41: =G43 -> 0 | H41: =H43 -> 9675 | I41: =I43 -> 9675 | J41: =J43 -> 9675
F42: այդ թվում` բյուջետային ծախսերի տնտեսագիտական դասակարգման հոդվածներ
F43: ԸՆԴԱՄԵՆԸ ԾԱԽՍԵՐ | G43: =G44 -> 0 | H43: =H44 -> 9675 | I43: =I44 -> 9675 | J43: =J44 -> 9675
F44: ՈՉ ՖԻՆԱՆՍԱԿԱՆ ԱԿՏԻՎՆԵՐԻ ԳԾՈՎ ԾԱԽՍԵՐ | G44: =G45 -> 0 | H44: =H45 -> 9675 | I44: =I45 -> 9675 | J44: =J45 -> 9675
F45: ՀԻՄՆԱԿԱՆ ՄԻՋՈՑՆԵՐ | G45: =G47 -> 0 | H45: =H47 -> 9675 | I45: =I47 -> 9675 | J45: =J47 -> 9675
F46: ԱՅԼ ՀԻՄՆԱԿԱՆ ՄԻՋՈՑՆԵՐ | G46: =G47 -> 0 | H46: =H47 -> 9675 | I46: =I47 -> 9675 | J46: =J47 -> 9675
F47: - Նախագծահետազոտական ծախսեր | H47: =8700+975 -> 9675 | I47: =8700+975 -> 9675 | J47: =8700+975 -> 9675
E48: 31004 | F48: ՀՀ պետական եկամուտների կոմիտեի շենքային պայմանների բարելավում | G48: =G50 -> 0 | H48: =H50 -> 0 | I48: =I50 -> 4950 | J48: =J50 -> 4950
F49: այդ թվում` ըստ կատարողների
F50: ՀՀ պետական եկամուտների կոմիտե | G50: =G52 -> 0 | H50: =H52 -> 0 | I50: =I52 -> 4950 | J50: =J52 -> 4950
F51: այդ թվում` բյուջետային ծախսերի տնտեսագիտական դասակարգման հոդվածներ
F52: ԸՆԴԱՄԵՆԸ ԾԱԽՍԵՐ | G52: =G53 -> 0 | H52: =H53 -> 0 | I52: =I53 -> 4950 | J52: =J53 -> 4950
F53: ՈՉ ՖԻՆԱՆՍԱԿԱՆ ԱԿՏԻՎՆԵՐԻ ԳԾՈՎ ԾԱԽՍԵՐ | G53: =G54 -> 0 | H53: =H54 -> 0 | I53: =I54 -> 4950 | J53: =J54 -> 4950
F54: ՀԻՄՆԱԿԱՆ ՄԻՋՈՑՆԵՐ | G54: =G56 -> 0 | H54: =H56 -> 0 | I54: =I56 -> 4950 | J54: =J56 -> 4950
F55: ԱՅԼ ՀԻՄՆԱԿԱՆ ՄԻՋՈՑՆԵՐ | G55: =G56 -> 0 | H55: =H56 -> 0 | I55: =I56 -> 4950 | J55: =J56 -> 4950
F56: - Նախագծահետազոտական ծախսեր | I56: 4950 | J56: 4950

Sheet Հավելված 4
G1: Հավելված N 4
A2: ՀԱՅԱՍՏԱՆԻ ՀԱՆՐԱՊԵՏՈՒԹՅԱՆ ԿԱՌԱՎԱՐՈՒԹՅԱՆ 2020 ԹՎԱԿԱՆԻ ԴԵԿՏԵՄԲԵՐԻ 30-Ի N 2215-Ն ՈՐՈՇՄԱՆ N 5 ՀԱՎԵԼՎԱԾԻ N 2 ԱՂՅՈՒՍԱԿՈՒՄ ԿԱՏԱՐՎՈՂ ՓՈՓՈԽՈՒԹՅՈՒՆՆԵՐԸ ԵՎ ԼՐԱՑՈՒՄՆԵՐԸ
G3: հազար դրամներով
A4: Ծրագրային դասիչը | C4: Բյուջետային գլխավոր կարգադրիչների, ծրագրերի, միջոցառումների, միջոցառումները կատարող պետական մարմինների և ուղղությունների անվանումները | D4: Ցուցանիշների փոփոխությունը (ավելացումները նշված են դրական նշանով)
A5: Ծրագիրը | B5: Միջոցառումը | D5: Առաջին եռամսյակ | E5: Առաջին կիսամյակ | F5: Ինն ամիս | G5: Տարի
C6: ԸՆԴԱՄԵՆԸ | D6: =D8 -> 0 | E6: =E8 -> 93425 | F6: =F8 -> 148375 | G6: =G8 -> 249125
C7: այդ թվում՝
C8: ՀՀ ՊԵՏԱԿԱՆ ԵԿԱՄՈՒՏՆԵՐԻ ԿՈՄԻՏԵ | D8: =D10+D13+D19 -> 0 | E8: =E10+E13+E19 -> 93425 | F8: =F10+F13+F19 -> 148375 | G8: =G10+G13+G19 -> 249125
C9: այդ թվում`
A10: 1023 | B10: 31001 | C10: ՀՀ պետական եկամուտների կոմիտեի տեխնիկական հագեցվածության բարելավում | D10: =D12 -> 0 | E10: =E12 -> 83750 | F10: =F12 -> 133750 | G10: =G12 -> 234500
C11: այդ թվում` ըստ կատարողների
C12: ՀՀ պետական եկամուտների կոմիտե | D12: ='Հավելված 3'!G38+'Հավելված 3'!G36 -> 0 | E12: ='Հավելված 3'!H38+'Հավելված 3'!H36 -> 83750 | F12: ='Հավելված 3'!I38+'Հավելված 3'!I36 -> 133750 | G12: ='Հավելված 3'!J38+'Հավելված 3'!J36 -> 234500
A13: 1023 | B13: 31003 | C13: ՀՀ պետական եկամուտների կոմիտեի շենքային ապահովվածության բարելավում | D13: =D15 -> 0 | E13: =E15 -> 9675 | F13: =F15 -> 9675 | G13: =G15 -> 9675
C14: այդ թվում` ըստ կատարողների
C15: ՀՀ պետական եկամուտների կոմիտե | D15: =D17+D18 -> 0 | E15: =E17+E18 -> 9675 | F15: =F17+F18 -> 9675 | G15: =G17+G18 -> 9675
C16: այդ թվում` ըստ ուղղությունների
C17: Գյումրի քաղաքում արտաքին տնտեսական գործունեության կենտրոնի կառուցման նախագծանախահաշվային փաստաթղթերի կազմում | D17: ='Հավելված 3'!G47 -> 0 | E17: 8700 | F17: 8700 | G17: 8700
C18: Երևան քաղաքի Կոմիտաս 35 hասցեում գտնվող կիսանկուղային հարկում տարածքի ճաշարանի վերակառուցում նախագծանախահաշվային փաստաթղթերի կազմման աշխատանքներ | D18: 0 | E18: 975 | F18: 975 | G18: 975
A19: 1023 | B19: 31004 | C19: ՀՀ պետական եկամուտների կոմիտեի շենքային ապահովվածության բարելավում | D19: =D21 -> 0 | E19: =E21 -> 0 | F19: =F21 -> 4950 | G19: =G21 -> 4950
C20: այդ թվում` ըստ կատարողների
C21: ՀՀ պետական եկամուտների կոմիտե | D21: =D23 -> 0 | E21: =E23 -> 0 | F21: =F23 -> 4950 | G21: =G23 -> 4950
C22: այդ թվում` ըստ ուղղությունների
C23: Երևան քաղաքի Դեղատան 3 հասցեում գտնվող վարչական շենքի վերանորոգման նախագծանախահաշվային փաստաթղթերի կազմման աշխատանքներ | D23: 0 | E23: 0 | F23: 4950 | G23: 4950

Sheet Հավելված 5 աղյուսակներ 1,2
F1: Հավելված N 5
F2: Աղյուսակ N 1
A3: ՀԱՅԱՍՏԱՆԻ ՀԱՆՐԱՊԵՏՈՒԹՅԱՆ ԿԱՌԱՎԱՐՈՒԹՅԱՆ 2020 ԹՎԱԿԱՆԻ ԴԵԿՏԵՄԲԵՐԻ 30-Ի N 2215-Ն ՈՐՈՇՄԱՆ N 9 ՀԱՎԵԼՎԱԾԻ N 9.26 ԱՂՅՈՒՍԱԿՈՒՄ ԿԱՏԱՐՎՈՂ ՓՈՓՈԽՈՒԹՅՈՒՆՆԵՐԸ ԵՎ ԼՐԱՑՈՒՄՆԵՐԸ
A5: ՀՀ պետական եկամուտների կոմիտե
A7: ՄԱՍ 2. ՊԵՏԱԿԱՆ ՄԱՐՄՆԻ ԳԾՈՎ ԱՐԴՅՈՒՆՔԱՅԻՆ (ԿԱՏԱՐՈՂԱԿԱՆ) ՑՈՒՑԱՆԻՇՆԵՐԸ
A9: Ծրագրի դասիչը | B9: Ծրագրի անվանումը
A10: 1023 | B10: Հարկային և մաքսային ծառայություններ
A12: Ծրագրի միջոցառումները
A14: Ծրագրի դասիչը՝ | B14: 1023 | C14: Ցուցանիշների փոփոխությունը (նվազեցումները նշված են փակագծերում)
A15: Միջոցառման դասիչը՝ | B15: 11001 | C15: Առաջին եռամսյակ | D15: Առաջին կիսամյակ | E15: Ինն ամիս | F15: Տարի
A16: Միջոցառման անվանումը՝ | B16: Հարկային և մաքսային ծառայություններ
A17: Նկարագրությունը՝ | B17: Հարկային և մաքսային քաղաքականության մշակման, պլանավորման, մոնիտորինգի, ծրագրերի համակարգման, գանձման, վերահսկողության և աջակցության ծառայություններ
A18: Միջոցառման տեսակը՝ | B18: Ծառայությունների մատուցում
A19: Ծառայությունը մատուցող կազմակերպության անվանումը | B19: ՀՀ պետական եկամուտների կոմիտե
B20: Արդյունքի չափորոշիչներ
A21: Միջոցառման վրա կատարվող ծախսը (հազար դրամ) | C21: ='Հավելված 3'!G27 -> 0 | D21: ='Հավելված 3'!H27 -> -93425 | E21: ='Հավելված 3'!I27 -> -148375 | F21: ='Հավելված 3'!J27 -> -249125
A23: Ծրագրի դասիչը` | B23: 1023 | C23: Ցուցանիշների փոփոխությունը (ավելացումները նշված են դրական նշանով)
A24: Միջոցառման դասիչը` | B24: 31001 | C24: Առաջին եռամսյակ | D24: Առաջին կիսամյակ | E24: Ինն ամիս | F24: Տարի
A25: Միջոցառման անվանումը` | B25: ՀՀ պետական եկամուտների կոմիտեի տեխնիկական հագեցվածության բարելավում
A26: Նկարագրությունը` | B26: ՀՀ պետական եկամուտների կոմիտեի տեխնիկական հագեցվածության բարելավում_x000D_
A27: Միջոցառման տեսակը` | B27: Պետական մարմինների կողմից օգտագործվող ոչ ֆինանսական ակտիվների հետ գործառնություններ
A28: Ակտիվն օգտագործող կազմակերպության անվանումը | B28: ՀՀ պետական եկամուտների կոմիտե
B29: Արդյունքի չափորոշիչներ
A30: Համակարգչային սարքավորումների քանակ, հատ | D30: 250 | E30: 250 | F30: 250
A31: Այլ սարքավորումների քանակ, հատ | D31: 1 | E31: 1 | F31: 1
A32: Հիպոթեքային վարկի սպասարկման համար վճարվող տոկոսների գումարների վերադարձի էլեկտրոնային հարթակի, հատ | E32: 1 | F32: 1
A33: Միջոցառման վրա կատարվող ծախսը (հազար դրամ) | C33: ='Հավելված 3'!G36+'Հավելված 3'!G38 -> 0 | D33: ='Հավելված 3'!H36+'Հավելված 3'!H38 -> 83750 | E33: ='Հավելված 3'!I36+'Հավելված 3'!I38 -> 133750 | F33: ='Հավելված 3'!J36+'Հավելված 3'!J38 -> 234500
A35: Ծրագրի դասիչը` | B35: 1023 | C35: Ցուցանիշների փոփոխությունը (ավելացումները նշված են դրական նշանով)
A36: Միջոցառման դասիչը` | B36: 31003 | C36: Առաջին եռամսյակ | D36: Առաջին կիսամյակ | E36: Ինն ամիս | F36: Տարի
A37: Միջոցառման անվանումը` | B37: ՀՀ պետական եկամուտների կոմիտեի շենքային ապահովվածության բարելավում
A38: Նկարագրությունը` | B38: ՀՀ պետական եկամուտների կոմիտեի նոր շենքերի և շինությունների շինարարություն, նախագծային աշխատանքների ձեռքբերում
A39: Միջոցառման տեսակը` | B39: Պետական մարմինների կողմից օգտագործվող ոչ ֆինանսական ակտիվների հետ գործառնություններ
A40: Միջոցառումն իրականացնողի անվանումը | B40: ՀՀ պետական եկամուտների կոմիտե
B41: Արդյունքի չափորոշիչներ
A42: Նախագծվող մակերես, քմ | D42: =130+2160 -> 2290 | E42: =130+2160 -> 2290 | F42: =130+2160 -> 2290
A43: Նախագծվող աշխատանքների ավարտվածության աստիճանը, տոկոս | D43: 100 | E43: 100 | F43: 100
A44: Նախագծահետազոտական փաստաթղթերի թիվ, հատ | D44: 2 | E44: 2 | F44: 2
A45: Միջոցառման վրա կատարվող ծախսը (հազար դրամ) | C45: ='Հավելված 3'!G47 -> 0 | D45: ='Հավելված 3'!H47 -> 9675 | E45: ='Հավելված 3'!I47 -> 9675 | F45: ='Հավելված 3'!J47 -> 9675
A47: Ծրագրի դասիչը` | B47: 1023 | C47: Ցուցանիշների փոփոխությունը (ավելացումները նշված են դրական նշանով)
A48: Միջոցառման դասիչը` | B48: 31004 | C48: Առաջին եռամսյակ | D48: Առաջին կիսամյակ | E48: Ինն ամիս | F48: Տարի
A49: Միջոցառման անվանումը` | B49: ՀՀ պետական եկամուտների կոմիտեի շենքային պայմանների բարելավում
A50: Նկարագրությունը` | B50: ՀՀ պետական եկամուտների կոմիտեի շենքերի և շինությունների կապիտալ վերանորոգում, նախագծային աշխատանքների ձեռքբերում
A51: Միջոցառման տեսակը` | B51: Պետական մարմինների կողմից օգտագործվող ոչ ֆինանսական ակտիվների հետ գործառնություններ
A52: Միջոցառումն իրականացնողի անվանումը | B52: ՀՀ պետական եկամուտների կոմիտե
B53: Արդյունքի չափորոշիչներ
A54: Նախագծվող մակերես, քմ | D54: 2628.7 | E54: 2628.7 | F54: 2628.7
A55: Նախագծվող աշխատանքների ավարտվածության աստիճանը, տոկոս | D55: 100 | E55: 100 | F55: 100
A56: Նախագծահետազոտական փաստաթղթերի թիվ, հատ | D56: 1 | E56: 1 | F56: 1
A57: Միջոցառման վրա կատարվող ծախսը (հազար դրամ) | C57: ='Հավելված 3'!G56 -> 0 | D57: ='Հավելված 3'!H56 -> 0 | E57: ='Հավելված 3'!I56 -> 4950 | F57: ='Հավելված 3'!J56 -> 4950
F58: Աղյուսակ N 2
A59: ՀԱՅԱՍՏԱՆԻ ՀԱՆՐԱՊԵՏՈՒԹՅԱՆ ԿԱՌԱՎԱՐՈՒԹՅԱՆ 2019 ԹՎԱԿԱՆԻ ԴԵԿՏԵՄԲԵՐԻ 30-Ի N 2215-Ն ՈՐՈՇՄԱՆ N 9.1 ՀԱՎԵԼՎԱԾԻ N 9.1.28 ԱՂՅՈՒՍԱԿՈՒՄ ԿԱՏԱՐՎՈՂ ՓՈՓՈԽՈՒԹՅՈՒՆՆԵՐԸ ԵՎ ԼՐԱՑՈՒՄՆԵՐԸ
A61: ՀՀ պետական եկամուտների կոմիտե
A63: ՄԱՍ 1. ՊԵՏԱԿԱՆ ՄԱՐՄՆԻ ԳԾՈՎ ԱՐԴՅՈՒՆՔԱՅԻՆ (ԿԱՏԱՐՈՂԱԿԱՆ) ՑՈՒՑԱՆԻՇՆԵՐԸ
A65: Ծրագրի դասիչը | B65: Ծրագրի անվանումը
A66: 1023 | B66: Հարկային և մաքսային ծառայություններ
A68: Ծրագրի միջոցառումները
A70: Ծրագրի դասիչը՝ | B70: 1023 | C70: Ցուցանիշների փոփոխությունը (նվազեցումները նշված են փակագծերում)
A71: Միջոցառման դասիչը՝ | B71: 11001 | C71: Առաջին եռամսյակ | D71: Առաջին կիսամյակ | E71: Ինն ամիս | F71: Տարի
A72: Միջոցառման անվանումը՝ | B72: Հարկային և մաքսային ծառայություններ
A73: Նկարագրությունը՝ | B73: Հարկային և մաքսային քաղաքականության մշակման, պլանավորման, մոնիտորինգի, ծրագրերի համակարգման, գանձման, վերահսկողության և աջակցության ծառայություններ
A74: Միջոցառման տեսակը՝ | B74: Ծառայությունների մատուցում
A75: Ծառայությունը մատուցող կազմակերպության անվանումը | B75: ՀՀ պետական եկամուտների կոմիտե
B76: Արդյունքի չափորոշիչներ
A77: Միջոցառման վրա կատարվող ծախսը (հազար դրամ) | C77: ='Հավելված 3'!G27 -> 0 | D77: ='Հավելված 3'!H27 -> -93425 | E77: ='Հավելված 3'!I27 -> -148375 | F77: ='Հավելված 3'!J27 -> -249125
A79: Ծրագրի դասիչը` | B79: 1023 | C79: Ցուցանիշների փոփոխությունը (ավելացումները նշված են դրական նշանով)
A80: Միջոցառման դասիչը` | B80: 31001 | C80: Առաջին եռամսյակ | D80: Առաջին կիսամյակ | E80: Ինն ամիս | F80: Տարի
A81: Միջոցառման անվանումը` | B81: ՀՀ պետական եկամուտների կոմիտեի տեխնիկական հագեցվածության բարելավում
A82: Նկարագրությունը` | B82: ՀՀ պետական եկամուտների կոմիտեի տեխնիկական հագեցվածության բարելավում_x000D_
A83: Միջոցառման տեսակը` | B83: Պետական մարմինների կողմից օգտագործվող ոչ ֆինանսական ակտիվների հետ գործառնություններ
A84: Ակտիվն օգտագործող կազմակերպության անվանումը | B84: ՀՀ պետական եկամուտների կոմիտե
B85: Արդյունքի չափորոշիչներ
A86: Համակարգչային սարքավորումների քանակ, հատ | D86: 250 | E86: 250 | F86: 250
A87: Այլ սարքավորումների քանակ, հատ | D87: 1 | E87: 1 | F87: 1
A88: Հիպոթեքային վարկի սպասարկման համար վճարվող տոկոսների գումարների վերադարձի էլեկտրոնային հարթակի, հատ | E88: 1 | F88: 1
A89: Միջոցառման վրա կատարվող ծախսը (հազար դրամ) | C89: ='Հավելված 3'!G36+'Հավելված 3'!G38 -> 0 | D89: ='Հավելված 3'!H36+'Հավելված 3'!H38 -> 83750 | E89: ='Հավելված 3'!I36+'Հավելված 3'!I38 -> 133750 | F89: ='Հավելված 3'!J36+'Հավելված 3'!J38 -> 234500
A91: Ծրագրի դասիչը` | B91: 1023 | C91: Ցուցանիշների փոփոխությունը (ավելացումները նշված են դրական նշանով)
A92: Միջոցառման դասիչը` | B92: 31003 | C92: Առաջին եռամսյակ | D92: Առաջին կիսամյակ | E92: Ինն ամիս | F92: Տարի
A93: Միջոցառման անվանումը` | B93: ՀՀ պետական եկամուտների կոմիտեի շենքային ապահովվածության բարելավում
A94: Նկարագրությունը` | B94: ՀՀ պետական եկամուտների կոմիտեի նոր շենքերի և շինությունների շինարարություն, նախագծային աշխատանքների ձեռքբերում
A95: Միջոցառման տեսակը` | B95: Պետական մարմինների կողմից օգտագործվող ոչ ֆինանսական ակտիվների հետ գործառնություններ
A96: Միջոցառումն իրականացնողի անվանումը | B96: ՀՀ պետական եկամուտների կոմիտե
B97: Արդյունքի չափորոշիչներ
A98: Նախագծվող մակերես, քմ | D98: =130+2160 -> 2290 | E98: =130+2160 -> 2290 | F98: =130+2160 -> 2290
A99: Նախագծվող աշխատանքների ավարտվածության աստիճանը, տոկոս | D99: 100 | E99: 100 | F99: 100
A100: Նախագծահետազոտական փաստաթղթերի թիվ, հատ | D100: 2 | E100: 2 | F100: 2
A101: Միջոցառման վրա կատարվող ծախսը (հազար դրամ) | C101: ='Հավելված 3'!G47 -> 0 | D101: ='Հավելված 3'!H47 -> 9675 | E101: ='Հավելված 3'!I47 -> 9675 | F101: ='Հավելված 3'!J47 -> 9675
A103: Ծրագրի դասիչը` | B103: 1023 | C103: Ցուցանիշների փոփոխությունը (ավելացումները նշված են դրական նշանով)
A104: Միջոցառման դասիչը` | B104: 31004 | C104: Առաջին եռամսյակ | D104: Առաջին կիսամյակ | E104: Ինն ամիս | F104: Տարի
A105: Միջոցառման անվանումը` | B105: ՀՀ պետական եկամուտների կոմիտեի շենքային պայմանների բարելավում
A106: Նկարագրությունը` | B106: ՀՀ պետական եկամուտների կոմիտեի շենքերի և շինությունների կապիտալ վերանորոգում, նախագծային աշխատանքների ձեռքբերում
A107: Միջոցառման տեսակը` | B107: Պետական մարմինների կողմից օգտագործվող ոչ ֆինանսական ակտիվների հետ գործառնություններ
A108: Միջոցառումն իրականացնողի անվանումը | B108: ՀՀ պետական եկամուտների կոմիտե
B109: Արդյունքի չափորոշիչներ
A110: Նախագծվող մակերես, քմ | D110: 2628.7 | E110: 2628.7 | F110: 2628.7
A111: Նախագծվող աշխատանքների ավարտվածության աստիճանը, տոկոս | D111: 100 | E111: 100 | F111: 100
A112: Նախագծահետազոտական փաստաթղթերի թիվ, հատ | D112: 1 | E112: 1 | F112: 1
A113: Միջոցառման վրա կատարվող ծախսը (հազար դրամ) | C113: ='Հավելված 3'!G56 -> 0 | D113: ='Հավելված 3'!H56 -> 0 | E113: ='Հավելված 3'!I56 -> 4950 | F113: ='Հավելված 3'!J56 -> 4950

Sheet Հավելված 6
G1: Հավելված N 6
A3: ՀԱՅԱՍՏԱՆԻ ՀԱՆՐԱՊԵՏՈՒԹՅԱՆ ԿԱՌԱՎԱՐՈՒԹՅԱՆ 2020 ԹՎԱԿԱՆԻ ԴԵԿՏԵՄԲԵՐԻ 30-Ի N 2215-Ն ՈՐՈՇՄԱՆ N 10 ՀԱՎԵԼՎԱԾՈՒՄ ԿԱՏԱՐՎՈՂ ՓՈՓՈԽՈՒԹՅՈՒՆՆԵՐԸ ՈՒ ԼՐԱՑՈՒՄՆԵՐԸ
A5: Գնման առարկայի | G5: Ցուցանիշների փոփոխությունը (ավելացումները նշված են դրական նշանով, իսկ նվազեցումները՝ փակագծում
A6: կոդը | B6: անվանումը | C6: գնման ձևը | D6: չափի միավորը | E6: միավորի գինը | F6: քանակը | G6: Գումարը (հազար դրամ)
A8: ՀՀ պետական եկամուտների կոմիտե | G8: =G9 -> -83750
A9: Բաժին N 01 | B9: Խումբ N 01 | C9: Դաս N 02 | D9: Ֆինանսական և հարկաբյուջետային հարաբերություններ | G9: =G10+G13+G18+G22 -> -83750
A10: 1023 11001 | B10: Հարկային և մաքսային ծառայություններ | G10: =G11 -> -249125
B11: ՄԱՍ III. ԾԱՌԱՅՈՒԹՅՈՒՆՆԵՐ | G11: =G12 -> -249125
A12: 98341140-1 | B12: շենքի պահպանման ծառայություններ | C12: ԲՄ | D12: դրամ | G12: -249125
A13: 1023 31001 | B13: ՀՀ պետական եկամուտների կոմիտեի տեխնիկական հագեցվածության բարելավում | G13: =G14+G16 -> 150750
B14: ՄԱՍ I. ԱՊՐԱՆՔՆԵՐ | G14: =G15 -> 50750
A15: 32411160-501 | B15: ցանցային երթուղագծիչներ | C15: ԳՀ | D15: դրամ | E15: 50750000 | F15: 1 | G15: =E15*F15/1000 -> 50750
B16: ՄԱՍ III. ԾԱՌԱՅՈՒԹՅՈՒՆՆԵՐ | G16: =G17 -> 100000
A17: 72261110-504 | B17: ծրագրային ապահովման մշակման ծառայություններ | C17: ԲՄ | D17: դրամ | E17: 100000000 | F17: 1 | G17: =E17*F17/1000 -> 100000
A18: 1023 31003 | B18: ՀՀ պետական եկամուտների կոմիտեի շենքային ապահովվածության բարելավում | G18: =G19 -> 9675
B19: ՄԱՍ III. ԾԱՌԱՅՈՒԹՅՈՒՆՆԵՐ | G19: =G20+G21 -> 9675
A20: 71241200-501 | B20: նախագծերի պատրաստում, ծախսերի գնահատում | C20: ԳՀ | D20: դրամ | E20: 8700000 | F20: 1 | G20: =E20*F20/1000 -> 8700
A21: 71241200-502 | B21: նախագծերի պատրաստում, ծախսերի գնահատում | C21: ԳՀ | D21: դրամ | E21: 975000 | F21: 1 | G21: =E21*F21/1000 -> 975
A22: 1023 31004 | B22: ՀՀ պետական եկամուտների կոմիտեի շենքային պայմանների բարելավում | G22: =G23 -> 4950
B23: ՄԱՍ III. ԾԱՌԱՅՈՒԹՅՈՒՆՆԵՐ | G23: =G24 -> 4950
A24: 71241200-503 | B24: նախագծերի պատրաստում, ծախսերի գնահատում | C24: ԲՄ | D24: դրամ | E24: 4950000 | F24: 1 | G24: =E24*F24/1000 -> 4950
