Workbook
Name _tab10: #REF!
Name _tab10: #REF!
Name _tab10: #REF!
Name _tab10: #REF!
Name _tab10: #REF!
Name _tab11: #REF!
Name _tab11: #REF!
Name _tab11: #REF!
Name _tab11: #REF!
Name _tab11: #REF!
Name _tab12: #REF!
Name _tab12: #REF!
Name _tab12: #REF!
Name _tab12: #REF!
Name _tab12: #REF!
Name _tab13: #REF!
Name _tab13: #REF!
Name _tab13: #REF!
Name _tab13: #REF!
Name _tab13: #REF!
Name _tab14: #REF!
Name _tab14: #REF!
Name _tab14: #REF!
Name _tab14: #REF!
Name _tab14: #REF!
Name _tab15: #REF!
Name _tab15: #REF!
Name _tab15: #REF!
Name _tab15: #REF!
Name _tab15: #REF!
Name _tab16: #REF!
Name _tab16: #REF!
Name _tab16: #REF!
Name _tab16: #REF!
Name _tab16: #REF!
Name _tab17: #REF!
Name _tab17: #REF!
Name _tab17: #REF!
Name _tab17: #REF!
Name _tab17: #REF!
Name _tab18: #REF!
Name _tab18: #REF!
Name _tab18: #REF!
Name _tab18: #REF!
Name _tab18: #REF!
Name _tab19: #REF!
Name _tab19: #REF!
Name _tab19: #REF!
Name _tab19: #REF!
Name _tab19: #REF!
Name _tab20: #REF!
Name _tab20: #REF!
Name _tab20: #REF!
Name _tab20: #REF!
Name _tab20: #REF!
Name _tab21: #REF!
Name _tab21: #REF!
Name _tab21: #REF!
Name _tab21: #REF!
Name _tab21: #REF!

Sheet 1
A1: Հավելված № 1
A2: ՀՀ կառավարության 2021 թվականի ----------
A3: № ---------- որոշման
A5: ՀԱՅԱՍՏԱՆԻ ՀԱՆՐԱՊԵՏՈՒԹՅԱՆ 2021 ԹՎԱԿԱՆԻ ՊԵՏԱԿԱՆ ԲՅՈՒՋԵԻ ՄԱՍԻՆ» ՀԱՅԱՍՏԱՆԻ ՀԱՆՐԱՊԵՏՈՒԹՅԱՆ ՕՐԵՆՔԻ N 1 ՀԱՎԵԼՎԱԾԻ N 1 ԱՂՅՈՒՍԱԿՈՒՄ ԿԱՏԱՐՎՈՂ ՓՈՓՈԽՈՒԹՅՈՒՆՆԵՐԸ
A6: Ծրագրային դասիչը | B6: Ծրագրի անվանումը | C6: Ցուցանիշների փոփոխությունները (ավելացումը նշված է դրական նշանով, իսկ նվազեցումը` փակագծերում)
C7: Տարի
A8: Ընդամենը | C8: =C9+C10+C11+C12+C13+C14+C15 -> -1.1823431e-11
A9: 1003 | B9: Հանրային առողջության պահպանում | C9: ='2'!H13 -> 1389915
A10: 1099 | B10: Առողջության առաջնային պահպանում | C10: ='2'!H44 -> -501185.9
A11: 1142 | B11: Դատաբժշկական և ախտաբանաանատոմիական ծառայություններ | C11: ='2'!H69 -> -12916
A12: 1191 | B12: Խորհրդատվական, մասնագիտական աջակցություն և հետազոտություններ | C12: ='2'!H82 -> -30000
A13: 1200 | B13: Մոր և մանկան առողջության պահպանում | C13: ='2'!H95 -> -417183.3
A14: 1207 | B14: Սոցիալապես անապահով և առանձին խմբերի անձանց բժշկական օգնություն | C14: ='2'!H127 -> -425000
A15: 1208 | B15: Վարակիչ հիվանդությունների կանխարգելման ծրագիր | C15: ='2'!H146 -> -3629.8

Sheet 2
H2: Հավելված № 2
D3: ՀՀ կառավարության 2021 թվականի
H4: № ------------ -Ն որոշման
B6: ՀԱՅԱՍՏԱՆԻ ՀԱՆՐԱՊԵՏՈՒԹՅԱՆ 2021 ԹՎԱԿԱՆԻ ՊԵՏԱԿԱՆ ԲՅՈՒՋԵԻ ՄԱՍԻՆ» ՀԱՅԱՍՏԱՆԻ ՀԱՆՐԱՊԵՏՈՒԹՅԱՆ ՕՐԵՆՔԻ N 1 ՀԱՎԵԼՎԱԾԻ N 2 ԱՂՅՈՒՍԱԿՈՒՄ ԿԱՏԱՐՎՈՂ ՎԵՐԱԲԱՇԽՈՒՄԸ ԵՎ ՀԱՅԱՍՏԱՆԻ ՀԱՆՐԱՊԵՏՈՒԹՅԱՆ ԿԱՌԱՎԱՐՈՒԹՅԱՆ 2020 ԹՎԱԿԱՆԻ ԴԵԿՏԵՄԲԵՐԻ 30-Ի № 2215-Ն ՈՐՈՇՄԱՆ № 5 ՀԱՎԵԼՎԱԾԻ № 1 ԱՂՅՈՒՍԱԿՈՒՄ ԿԱՏԱՐՎՈՂ ՓՈՓՈԽՈՒԹՅՈՒՆՆԵՐԸ
B8: Ծրագրային դասիչը | D8: Բյուջետային հատկացումների գլխավոր կարգադրիչների, ծրագրերի և միջոցառումների անվանումները | E8: Ցուցանիշների փոփոխությունները (ավելացումները նշված են դրական նշանով, իսկ նվազեցումները` փակագծերում)
B9: Ծրագիր | C9: Միջոցառում | E9: Առաջին եռամսյակ | F9: Առաջին կիսամյակ | G9: Ինը ամիս | H9: Տարի
D10: ԸՆԴԱՄԵՆԸ | E10: =E11 -> 0 | F10: =F11 -> 1.0459189e-10 | G10: =G11 -> -1.1823431e-11 | H10: =H11 -> -1.1823431e-11
D11: ՀՀ առողջապահության նախարարություն | E11: =E13+E44+E69+E82+E95+E127+E146+E114 -> 0 | F11: =F13+F44+F69+F82+F95+F127+F146+F114 -> 1.0459189e-10 | G11: =G13+G44+G69+G82+G95+G127+G146+G114 -> -1.1823431e-11 | H11: =H13+H44+H69+H82+H95+H127+H146+H114 -> -1.1823431e-11
B12: 1003 | D12: Ծրագրի անվանումը
D13: Հանրային առողջության պահպանում | E13: =E20+E26+E38+E32 -> 1485938.7 | F13: =F20+F26+F38+F32 -> 1389915 | G13: =G20+G26+G38+G32 -> 1389915 | H13: =H20+H26+H38+H32 -> 1389915
D14: Ծրագրի նպատակը
D15: Մարդու օրգանիզմի վրա շրջակա միջավայրի վնասակար և վտանգավոր գործոնների ազդեցության բացառում և նվազեցում, կառավարելի վարակիչ հիվանդությունների դեմ պայքար
D16: Վերջնական արդյունքի նկարագրությունը
D17: Բնակչության սանիտարահամաճարակային անվտանգության և վարակիչ հիվանդությունների նկատմամբ բնակչության անընկալության ապահովում: Հանրապետությունում արյան` արյան բաղադրամասերի և արյան պատրաստուկների անհրաժեշտ քանակության ապահովում
B18: Ծրագրի միջոցառումներ
C19: 11001 | D19: Միջոցառման անվանումը
D20: Բնակչության սանիտարահամաճարակային անվտանգության ապահովման և հանրային առողջապահության ծառայություններ | E20: -133976.3 | F20: -200000 | G20: -200000 | H20: -200000
D21: Միջոցառման նկարագրությունը
D22: Հիվանդությունների վերահսկման և կանխարգելման, ընթացիկ հակահամաճարակային և սանիտարահիգիենիկ նշանակության հետազոտություններ, վարակների օջախների համաճարակաբանական հետազոտություններ, իմունականխարգելման հիգիենիկ ուսուցման և քարոզչության ծառայություններ
D23: Միջոցառման տեսակը
D24: Ծառայությունների մատուցում
C25: 11005 | D25: Միջոցառման անվանումը
D26: Առողջ ապրելակերպի խթանման և ծխելու դեմ պայքարի միջոցառումներ | E26: -10000 | F26: -40000 | G26: -40000 | H26: -40000
D27: Միջոցառման նկարագրությունը
D28: Առողջ ապրելակերպի և ծխելու դեմ պայքարի հանրային իրազեկման, ծխելը թողնելուն օժանդակության թեժ գծի ծառայության ներդնում, բուժաշխատողների շրջանում կրթական միջոցառումների իրականացում և այլն
D29: Միջոցառման տեսակը
D30: Ծառայությունների մատուցում
C31: 11008 | D31: Միջոցառման անվանումը
D32: Հայաստանի Հանրապետությունում կորոնավիրուսային վարակի (COVID) կանխարգելմանն ուղղված` պատվաստանյութի ձեռքբերման միջոցառումներ | E32: 309000 | F32: 309000 | G32: 309000 | H32: 309000
D33: Միջոցառման նկարագրությունը
D34: Հայաստանի Հանրապետությունում կորոնավիրուսային վարակի (COVID) կանխարգելմանն ուղղված` պատվաստանյութի ձեռքբերման միջոցառումների ապահովում
D35: Միջոցառման տեսակը
D36: Ծառայությունների մատուցում
C37: 11006 | D37: Միջոցառման անվանումը
D38: Հայաստանի Հանրապետությանում կորոնավիրուսային վարակի (COVID-19) կանխարգելման, վերահսկման, բուժման և այլ համալիր միջոցառումների իրականացում | E38: 1320915 | F38: 1320915 | G38: 1320915 | H38: 1320915
D39: Միջոցառման նկարագրությունը
D40: ՀՀ կորոնավիրուսային վարակի (COVID-19) արագ կանխարգելման, վերահսկման, բուժման և հաղթահարման ապահովման նպատակով իրականացված միջոցառուների ծախսերի իրականացում
D41: Միջոցառման տեսակը
D42: Ծառայությունների մատուցում
B43: 1099 | D43: Ծրագրի անվանումը
...

Sheet 3
H1: Հավելված № 3
F2: ՀՀ կառավարության 2021 թվականի
G3: № ------------ -Ն որոշման
A5: ՀԱՅԱՍՏԱՆԻ ՀԱՆՐԱՊԵՏՈՒԹՅԱՆ ԿԱՌԱՎԱՐՈՒԹՅԱՆ 2020 ԹՎԱԿԱՆԻ ԴԵԿՏԵՄԲԵՐԻ 30-Ի № 2215-Ն ՈՐՈՇՄԱՆ NN 3 և 4 ՀԱՎԵԼՎԱԾՆԵՐՈՒՄ ԿԱՏԱՐՎՈՂ ՓՈՓՈԽՈՒԹՅՈՒՆՆԵՐԸ
A7: Գործառական դասիչը | D7: Ծրագրային դասիչը | F7: Բյուջետային հատկացումների գլխավոր կարգադրիչների, ծրագրերի, միջոցառումների և միջոցառումները կատարող պետական մարմինների անվանումները | G7: Ցուցանիշների փոփոխությունները (ավելացումները նշված են դրական նշանով, իսկ նվազեցումները` փակագծերում)
A8: բաժին | B8: խումբ | C8: դաս | D8: Ծրագիր | E8: Միջոցառում | G8: Առաջին եռամսյակ | H8: Առաջին կիսամյակ | I8: Ինը ամիս | J8: Տարի
A9: ԸՆԴԱՄԵՆԸ | G9: =G10 -> 0 | H9: =H10 -> 0 | I9: =I10 -> 0 | J9: =J10 -> 0
A10: 07 | F10: ԱՌՈՂՋԱՊԱՀՈՒԹՅՈՒՆ | G10: =G12+G105+G137+G181 -> 0 | H10: =H12+H105+H137+H181 -> 0 | I10: =I12+I105+I137+I181 -> 0 | J10: =J12+J105+J137+J181 -> 0
F11: այդ թվում՝
B12: 02 | F12: Արտահիվանդանոցային ծառայություններ | G12: =G14+G29+G75+G90 -> -1085938.7 | H12: =H14+H29+H75 -> -546999 | I12: =I14+I29+I75 -> -546999 | J12: =J14+J29+J75 -> -546999
F13: այդ թվում՝
C14: 01 | F14: Ընդհանուր բնույթի բժշկական ծառայություններ | G14: =G18 -> -599151 | H14: =H18 -> -435247.3 | I14: =I18 -> -417304.4 | J14: =J18 -> -400000
F15: այդ թվում`
F16: ՀՀ առողջապահության նախարարություն | G16: =G14 -> -599151 | H16: =H14 -> -435247.3 | I16: =I14 -> -417304.4 | J16: =J14 -> -400000
F17: այդ թվում՝
D18: 1099 | F18: Առողջության առաջնային պահպանում | G18: =G20 -> -599151 | H18: =H20 -> -435247.3 | I18: =I20 -> -417304.4 | J18: =J20 -> -400000
F19: այդ թվում՝
E20: 11001 | F20: Ամբուլատոր-պոլիկլինիկական բժշկական օգնության ծառայություններ | G20: =G22 -> -599151 | H20: =H22 -> -435247.3 | I20: =I22 -> -417304.4 | J20: =J22 -> -400000
F21: այդ թվում` ըստ կատարողների
F22: ՀՀ առողջապահության նախարարություն | G22: =G24 -> -599151 | H22: =H24 -> -435247.3 | I22: =I24 -> -417304.4 | J22: =J24 -> -400000
F23: այդ թվում` բյուջետային ծախսերի տնտեսագիտական դասակարգման հոդվածներ
F24: ԸՆԴԱՄԵՆԸ ԾԱԽՍԵՐ | G24: =G25 -> -599151 | H24: =H25 -> -435247.3 | I24: =I25 -> -417304.4 | J24: =J25 -> -400000
F25: ԸՆԹԱՑԻԿ ԾԱԽՍԵՐ | G25: =G26 -> -599151 | H25: =H26 -> -435247.3 | I25: =I26 -> -417304.4 | J25: =J26 -> -400000
F26: ԾԱՌԱՅՈՒԹՅՈՒՆՆԵՐԻ ԵՎ ԱՊՐԱՆՔՆԵՐԻ ՁԵՌՔԲԵՐՈՒՄ | G26: =G27 -> -599151 | H26: =H27 -> -435247.3 | I26: =I27 -> -417304.4 | J26: =J27 -> -400000
F27: Պայմանագրային այլ ծառայությունների ձեռքբերում | G27: =G28 -> -599151 | H27: =H28 -> -435247.3 | I27: =I28 -> -417304.4 | J27: =J28 -> -400000
F28: - Ընդհանուր բնույթի այլ ծառայություններ | G28: ='2'!E51 -> -599151 | H28: ='2'!F51 -> -435247.3 | I28: ='2'!G51 -> -417304.4 | J28: ='2'!H51 -> -400000
C29: 02 | F29: Մասնագիտացված բժշկական ծառայություններ | G29: =G33+G53+G64 -> -28614.4 | H29: =H33+H53+H64 -> -86751.7 | I29: =I33+I53+I64 -> -104694.6 | J29: =J33+J53+J64 -> -121999
F30: այդ թվում`
F31: ՀՀ առողջապահության նախարարություն | G31: =G29 -> -28614.4 | H31: =H29 -> -86751.7 | I31: =I29 -> -104694.6 | J31: =J29 -> -121999
F32: այդ թվում՝
D33: 1099 | F33: Առողջության առաջնային պահպանում | G33: =G35+G44 -> -7801.3 | H33: =H35+H44 -> -65938.6 | I33: =I35+I44 -> -83881.5 | J33: =J35+J44 -> -101185.9
F34: այդ թվում՝
E35: 11004 | F35: Ախտորոշման ճշտման նպատակով լաբորատոր-գործիքային ախտորոշիչ հետազոտություններ նեղ մասնագիտացված կենտրոններում և շարունակական հսկողություն պահանջող և առանձին հիվանդությունների բուժման ծառայություններ | G35: =G37 -> 0 | H35: =H37 -> -33173.3 | I35: =I37 -> -33173.3 | J35: =J37 -> -33173.3
F36: այդ թվում` ըստ կատարողների
F37: ՀՀ առողջապահության նախարարություն | G37: =G39 -> 0 | H37: =H39 -> -33173.3 | I37: =I39 -> -33173.3 | J37: =J39 -> -33173.3
F38: այդ թվում` բյուջետային ծախսերի տնտեսագիտական դասակարգման հոդվածներ
F39: ԸՆԴԱՄԵՆԸ ԾԱԽՍԵՐ | G39: =G40 -> 0 | H39: =H40 -> -33173.3 | I39: =I40 -> -33173.3 | J39: =J40 -> -33173.3
F40: ԸՆԹԱՑԻԿ ԾԱԽՍԵՐ | G40: =G41 -> 0 | H40: =H41 -> -33173.3 | I40: =I41 -> -33173.3 | J40: =J41 -> -33173.3
F41: ԾԱՌԱՅՈՒԹՅՈՒՆՆԵՐԻ ԵՎ ԱՊՐԱՆՔՆԵՐԻ ՁԵՌՔԲԵՐՈՒՄ | G41: =G42 -> 0 | H41: =H42 -> -33173.3 | I41: =I42 -> -33173.3 | J41: =J42 -> -33173.3
F42: Պայմանագրային այլ ծառայությունների ձեռքբերում | G42: =G43 -> 0 | H42: =H43 -> -33173.3 | I42: =I43 -> -33173.3 | J42: =J43 -> -33173.3
...

Sheet 4
D1: Հավելված № 4
A2: ՀՀ կառավարության 2021 թվականի
C3: № ------------ -Ն որոշման
A5: ՀԱՅԱՍՏԱՆԻ ՀԱՆՐԱՊԵՏՈՒԹՅԱՆ ԿԱՌԱՎԱՐՈՒԹՅԱՆ 2020 ԹՎԱԿԱՆԻ ԴԵԿՏԵՄԲԵՐԻ 30-Ի № 2215-Ն ՈՐՈՇՄԱՆ N 5 ՀԱՎԵԼՎԱԾԻ N 7 ԱՂՅՈՒՍԱԿՈՒՄ ԿԱՏԱՐՎՈՂ ՓՈՓՈԽՈՒԹՅՈՒՆՆԵՐԸ
A6: Ծրագրային դասիչը | C6: Բյուջետային հատկացումների գլխավոր կարգադրիչների, ծրագրերի, միջոցառումների, ծախսային ուղղությունների անվանումները | D6: Միջոցառումները կատարող պետական մարմինների և դրամաշնորհ ստացող տնտեսվարող սուբյեկտների անվանումները | E6: Տարի
A7: ծրագիրը | B7: միջոցառումը | E7: Ցուցանիշների փոփոխությունը (նվազեցումները նշված են փակագծերում)
A8: ՀՀ առողջապահության նախարարություն
A9: 1003 | B9: Հանրային առողջության պահպանում
B10: 11001 | C10: Բնակչության սանիտարահամաճարակային անվտանգության ապահովման և հանրային առողջապահության ծառայություններ | D10: ՀՀ առողջապահության նախարարություն | E10: =E11 -> -200000
D11: «Հիվանդությունների վերահսկման և կանխարգելման ազգային կենտրոն» ՊՈԱԿ | E11: ='5'!F26 -> -200000

Sheet 5
G1: Հավելված № 5
B2: ՀՀ կառավարության 2021 թվականի
F3: № ------------ -Ն որոշման
A5: ՀԱՅԱՍՏԱՆԻ ՀԱՆՐԱՊԵՏՈՒԹՅԱՆ ԿԱՌԱՎԱՐՈՒԹՅԱՆ 2020 ԹՎԱԿԱՆԻ ԴԵԿՏԵՄԲԵՐԻ 30-Ի N 2215-Ն ՈՐՈՇՄԱՆ N 9 ՀԱՎԵԼՎԱԾԻ 9.9 ԱՂՅՈՒՍԱԿՈՒՄ ԿԱՏԱՐՎՈՂ ՓՈՓՈԽՈՒԹՅՈՒՆՆԵՐԸ
A6: ՀՀ Առողջապահության նախարարություն
A7: ՄԱՍ 2. ՊԵՏԱԿԱՆ ՄԱՐՄՆԻ ԳԾՈՎ ԱՐԴՅՈՒՆՔԱՅԻՆ (ԿԱՏԱՐՈՂԱԿԱՆ) ՑՈՒՑԱՆԻՇՆԵՐԸ
A8: Ծրագրի դասիչը | B8: Ծրագրի անվանումը
A9: 1003 | B9: Հանրային առողջության պահպանում
A11: Ծրագրի միջոցառումները
A12: Ծրագրի դասիչը` | B12: 1003 | C12: Ցուցանիշների փոփոխությունը (նվազեցումը նշված է փակագծերում)
A13: Միջոցառման դասիչը` | B13: 11001 | C13: Առաջին եռամսյակ | D13: Առաջին կիսամյակ | E13: Ինը ամիս | F13: Տարի
A14: Միջոցառման անվանումը` | B14: Բնակչության սանիտարահամաճարակային անվտանգության ապահովման և հանրային առողջապահության ծառայություններ
A15: Նկարագրությունը` | B15: Հիվանդությունների վերահսկման և կանխարգելման, ընթացիկ հակահամաճարակային և սանիտարահիգիենիկ նշանակության հետազոտություններ, վարակների օջախների համաճարակաբանական հետազոտություններ, իմունականխարգելման հիգիենիկ ուսուցման և քարոզչության ծառայություններ
A16: Միջոցառման տեսակը` | B16: Ծառայությունների մատուցում
A17: Ծառայությունը մատուցող կազմակերպության(ների) անվանում(ներ)ը | B17: Մասնագիտացված կազմակերպություն
A18: Արդյունքի չափորոշիչներ
A19: Իրականացված հետազոտությունների թիվ, հատ
A20: Պատվաստանյութերի արդյունավետ կառավարում` ընդամենը ստացված պատվաստանյութերի դեղաչափի թիվ, հատ
A21: Վարակիչ օջախների ախտահանման ծառայությունների քանակ, հատ
A22: ՀՀ բժշկական օգնություն և սպասարկում իրականացնող կազմակերպություններում վարակի հսկողության առանձին բաղադրիչների գնահատում, տոկոս
A23: Համաճարակաբանական հետազոտության ենթակա վարակիչ, մակաբուծային, սննդային և քիմիական թունավորումների օջախների ընդգրկվածություն, տոկոս
A24: Հետազոտված ջրականգերի մասնաբաժին, տոկոս
A25: Օջախների ախտահանման ենթակա վարակիչ հիվանդությունների օջախների ախտահանման առավելագույն ժամկետ, ժամ
A26: Միջոցառման վրա կատարվող ծախսը (հազար դրամ) | C26: ='2'!E20 -> -133976.3 | D26: ='2'!F20 -> -200000 | E26: ='2'!G20 -> -200000 | F26: ='2'!H20 -> -200000
A28: Ծրագրի դասիչը` | B28: 1003 | C28: Ցուցանիշների փոփոխությունը (նվազեցումը նշված է փակագծերում)
A29: Միջոցառման դասիչը` | B29: 11005 | C29: Առաջին եռամսյակ | D29: Առաջին կիսամյակ | E29: Ինն ամիս | F29: Տարի
A30: Միջոցառման անվանումը` | B30: Առողջ ապրելակերպի խթանման և ծխելու դեմ պայքարի միջոցառումներ
A31: Նկարագրությունը` | B31: Առողջ ապրելակերպի և ծխելու դեմ պայքարի հանրային իրազեկման, ծխելը թողնելուն օժանդակության թեժ գծի ծառայության ներդնում, բուժաշխատողների շրջանում կրթական միջոցառումների իրականացում և այլն
A32: Միջոցառման տեսակը` | B32: Ծառայությունների մատուցում
A33: Ծառայությունը մատուցող կազմակերպության(ների) անվանում(ներ)ը | B33: ՀՀ գնումների մասին օրենսդրությանը համապատասխան ընտրված կազմակերպություններ
A34: Արդյունքի չափորոշիչներ
A35: Միջոցառումների քանակը, հատ
A36: Միջոցառման վրա կատարվող ծախսը (հազար դրամ) | C36: ='2'!E26 -> -10000 | D36: ='2'!F26 -> -40000 | E36: ='2'!G26 -> -40000 | F36: ='2'!H26 -> -40000
A38: Ծրագրի դասիչը` | B38: 1003 | C38: Ցուցանիշների փոփոխությունը (ավելացումը նշված է դրական նշանով)
A39: Միջոցառման դասիչը` | B39: 11008 | C39: Առաջին եռամսյակ | D39: Առաջին կիսամյակ | E39: Ինն ամիս | F39: Տարի
A40: Միջոցառման անվանումը` | B40: Հայաստանի Հանրապետությունում կորոնավիրուսային վարակի (COVID) կանխարգելմանն ուղղված` պատվաստանյութի ձեռքբերման միջոցառումներ
A41: Նկարագրությունը` | B41: Հայաստանի Հանրապետությունում կորոնավիրուսային վարակի (COVID) կանխարգելմանն ուղղված` պատվաստանյութի ձեռքբերման միջոցառումների ապահովում
A42: Միջոցառման տեսակը` | B42: Ծառայությունների մատուցում
A43: Ծառայությունը մատուցող կազմակերպության(ների) անվանում(ներ)ը | B43: ՀՀ գնումների մասին օրենսդրությանը համապատասխան ընտրված կազմակերպություններ
A44: Արդյունքի չափորոշիչներ
...

Sheet 6
G1: Հավելված № 6
B2: ՀՀ կառավարության 2021 թվականի
F3: № ------------ -Ն որոշման
A5: ՀԱՅԱՍՏԱՆԻ ՀԱՆՐԱՊԵՏՈՒԹՅԱՆ ԿԱՌԱՎԱՐՈՒԹՅԱՆ 2020 ԹՎԱԿԱՆԻ ԴԵԿՏԵՄԲԵՐԻ 30-Ի N 2215-Ն ՈՐՈՇՄԱՆ N 9.1 ՀԱՎԵԼՎԱԾԻ 9.1.9 ԱՂՅՈՒՍԱԿՈՒՄ ԿԱՏԱՐՎՈՂ ՓՈՓՈԽՈՒԹՅՈՒՆՆԵՐԸ
A6: ՀՀ Առողջապահության նախարարություն
A7: ՄԱՍ 1. ՊԵՏԱԿԱՆ ՄԱՐՄՆԻ ԳԾՈՎ ԱՐԴՅՈՒՆՔԱՅԻՆ (ԿԱՏԱՐՈՂԱԿԱՆ) ՑՈՒՑԱՆԻՇՆԵՐԸ
A8: Ծրագրի դասիչը | B8: Ծրագրի անվանումը
A9: 1003 | B9: Հանրային առողջության պահպանում
A11: Ծրագրի միջոցառումները
A12: Ծրագրի դասիչը` | B12: 1003 | C12: Ցուցանիշների փոփոխությունը (նվազեցումը նշված է փակագծերում)
A13: Միջոցառման դասիչը` | B13: 11001 | C13: Առաջին եռամսյակ | D13: Առաջին կիսամյակ | E13: Ինը ամիս | F13: Տարի
A14: Միջոցառման անվանումը` | B14: Բնակչության սանիտարահամաճարակային անվտանգության ապահովման և հանրային առողջապահության ծառայություններ
A15: Նկարագրությունը` | B15: Հիվանդությունների վերահսկման և կանխարգելման, ընթացիկ հակահամաճարակային և սանիտարահիգիենիկ նշանակության հետազոտություններ, վարակների օջախների համաճարակաբանական հետազոտություններ, իմունականխարգելման հիգիենիկ ուսուցման և քարոզչության ծառայություններ
A16: Միջոցառման տեսակը` | B16: Ծառայությունների մատուցում
A17: Ծառայությունը մատուցող կազմակերպության(ների) անվանում(ներ)ը | B17: Մասնագիտացված կազմակերպություն
A18: Արդյունքի չափորոշիչներ
A19: Իրականացված հետազոտությունների թիվ, հատ
A20: Պատվաստանյութերի արդյունավետ կառավարում` ընդամենը ստացված պատվաստանյութերի դեղաչափի թիվ, հատ
A21: Վարակիչ օջախների ախտահանման ծառայությունների քանակ, հատ
A22: ՀՀ բժշկական օգնություն և սպասարկում իրականացնող կազմակերպություններում վարակի հսկողության առանձին բաղադրիչների գնահատում, տոկոս
A23: Համաճարակաբանական հետազոտության ենթակա վարակիչ, մակաբուծային, սննդային և քիմիական թունավորումների օջախների ընդգրկվածություն, տոկոս
A24: Հետազոտված ջրականգերի մասնաբաժին, տոկոս
A25: Օջախների ախտահանման ենթակա վարակիչ հիվանդությունների օջախների ախտահանման առավելագույն ժամկետ, ժամ
A26: Միջոցառման վրա կատարվող ծախսը (հազար դրամ) | C26: ='2'!E20 -> -133976.3 | D26: ='2'!F20 -> -200000 | E26: ='2'!G20 -> -200000 | F26: ='2'!H20 -> -200000
A28: Ծրագրի դասիչը` | B28: 1003 | C28: Ցուցանիշների փոփոխությունը (նվազեցումը նշված է փակագծերում)
A29: Միջոցառման դասիչը` | B29: 11005 | C29: Առաջին եռամսյակ | D29: Առաջին կիսամյակ | E29: Ինն ամիս | F29: Տարի
A30: Միջոցառման անվանումը` | B30: Առողջ ապրելակերպի խթանման և ծխելու դեմ պայքարի միջոցառումներ
A31: Նկարագրությունը` | B31: Առողջ ապրելակերպի և ծխելու դեմ պայքարի հանրային իրազեկման, ծխելը թողնելուն օժանդակության թեժ գծի ծառայության ներդնում, բուժաշխատողների շրջանում կրթական միջոցառումների իրականացում և այլն
A32: Միջոցառման տեսակը` | B32: Ծառայությունների մատուցում
A33: Ծառայությունը մատուցող կազմակերպության(ների) անվանում(ներ)ը | B33: ՀՀ գնումների մասին օրենսդրությանը համապատասխան ընտրված կազմակերպություններ
A34: Արդյունքի չափորոշիչներ
A35: Միջոցառումների քանակը, հատ
A36: Միջոցառման վրա կատարվող ծախսը (հազար դրամ) | C36: ='2'!E26 -> -10000 | D36: ='2'!F26 -> -40000 | E36: ='2'!G26 -> -40000 | F36: ='2'!H26 -> -40000
A38: Ծրագրի դասիչը` | B38: 1003 | C38: Ցուցանիշների փոփոխությունը (ավելացումը նշված է դրական նշանով)
A39: Միջոցառման դասիչը` | B39: 11008 | C39: Առաջին եռամսյակ | D39: Առաջին կիսամյակ | E39: Ինն ամիս | F39: Տարի
A40: Միջոցառման անվանումը` | B40: Հայաստանի Հանրապետությունում կորոնավիրուսային վարակի (COVID) կանխարգելմանն ուղղված` պատվաստանյութի ձեռքբերման միջոցառումներ
A41: Նկարագրությունը` | B41: Հայաստանի Հանրապետությունում կորոնավիրուսային վարակի (COVID) կանխարգելմանն ուղղված` պատվաստանյութի ձեռքբերման միջոցառումների ապահովում
A42: Միջոցառման տեսակը` | B42: Ծառայությունների մատուցում
A43: Ծառայությունը մատուցող կազմակերպության(ների) անվանում(ներ)ը | B43: ՀՀ գնումների մասին օրենսդրությանը համապատասխան ընտրված կազմակերպություններ
A44: Արդյունքի չափորոշիչներ
...

Sheet 7
G1: Հավելված № 7
D2: ՀՀ կառավարության 2021 թվականի
E3: № ------------ -Ն որոշման
A5: ՀԱՅԱՍՏԱՆԻ ՀԱՆՐԱՊԵՏՈՒԹՅԱՆ ԿԱՌԱՎԱՐՈՒԹՅԱՆ 2020 ԹՎԱԿԱՆԻ ԴԵԿՏԵՄԲԵՐԻ 30-Ի N 2215-Ն ՈՐՈՇՄԱՆ N 10 ՀԱՎԵԼՎԱԾԻ ԿԱՏԱՐՎՈՂ ՓՈՓՈԽՈՒԹՅՈՒՆՆԵՐԸ
A6: ՀՀ առողջապահության նախարարություն
A7: Գնման առարկայի | E7: Գնման ձևը (ընթացակարգը) | F7: Չափի միավորը | G7: Միավորի գինը (ՀՀ դրամ) | H7: Ցուցանիշների փոփոխությունները (նվազեցումները նշված են փակագծերում, ավելացումները` դրական նշանով)
A8: Միջանցիկ կոդը` ըստ CPV դասակարգման | B8: անվանումը
H9: Քանակը | I9: Գումարը (հազար դրամով)
A10: Բաժին N 07 | B10: Խումբ N 02 | C10: Դաս N 01 | D10: Ընդհանուր բնույթի բժշկական ծառայություններ | I10: =+I11 -> -400000
A11: 1099 11001 | B11: Ամբուլատոր-պոլիկլինիկական բժշկական օգնության ծառայություններ | I11: =I13 -> -400000
B12: ՄԱՍ III. ԾԱՌԱՅՈՒԹՅՈՒՆՆԵՐ
A13: 85121120-1 | B13: ամբուլատոր-բժշկական ծառայություններ | E13: ՄԱ | F13: դրամ | I13: ='3'!J28 -> -400000
A14: Բաժին N 07 | B14: Խումբ N 02 | C14: Դաս N 02 | D14: Մասնագիտացված բժշկական ծառայություններ | I14: =+I15+I18+I21+I24 -> -121999
A15: 1200 11004 | B15: Մտավոր, հոգեկան (վարքագծային), լսողական, ֆիզիկական (շարժողական) և զարգացման այլ խանգարումներով երեխաների գնահատման և վերականգնողական բուժման ծառայություններ | I15: =I17 -> -17183.3
B16: ՄԱՍ III. ԾԱՌԱՅՈՒԹՅՈՒՆՆԵՐ
A17: 85121100-1 | B17: բժշկական ծառայություններ | E17: ՄԱ | F17: դրամ | I17: ='3'!J63 -> -17183.3
A18: 1208 11001 | B18: ՄԻԱՎ/ՁԻԱՀ-ի կանխարգելման և բուժօգնության ծառայություններ | I18: =I20 -> -3629.8
B19: ՄԱՍ III. ԾԱՌԱՅՈՒԹՅՈՒՆՆԵՐ
A20: 85121120-1 | B20: ամբուլատոր-բժշկական ծառայություններ | E20: ՄԱ | F20: դրամ | I20: ='3'!J66 -> -3629.8
A21: 1099 11004 | B21: Ախտորոշման ճշտման նպատակով լաբորատոր-գործիքային ախտորոշիչ հետազոտություններ նեղ մասնագիտացված կենտրոններում և շարունակական հսկողություն պահանջող և առանձին հիվանդությունների բուժման ծառայություններ | I21: =I23 -> -33173.3
B22: ՄԱՍ III. ԾԱՌԱՅՈՒԹՅՈՒՆՆԵՐ
A23: 85121120-1 | B23: ամբուլատոր-բժշկական ծառայություններ | E23: ՄԱ | F23: դրամ | I23: ='3'!J43 -> -33173.3
A24: 1099 11007 | B24: Սպորտային բժշկության ծառայություններ | I24: =I26 -> -68012.6
B25: ՄԱՍ III. ԾԱՌԱՅՈՒԹՅՈՒՆՆԵՐ
A26: 85121120-1 | B26: ամբուլատոր-բժշկական ծառայություններ | E26: ՄԱ | F26: դրամ | I26: ='3'!J52 -> -68012.6
A27: Բաժին N 07 | B27: Խումբ N 02 | C27: Դաս N 03 | D27: Ստոմատոլոգիական ծառայություններ | I27: =+I28 -> -25000
A28: 1207 11002 | B28: Ստոմատոլոգիական բժշկական օգնության ծառայություններ | I28: =I30 -> -25000
B29: ՄԱՍ III. ԾԱՌԱՅՈՒԹՅՈՒՆՆԵՐ
A30: 85131100-1 | B30: ատամնաբուժական ծառայություններ | E30: ՄԱ | F30: դրամ | I30: ='3'!J89 -> -25000
A31: Բաժին 07 | B31: Խումբ 03 | C31: Դաս 01 | D31: Ընդհանուր բնույթի հիվանդանոցային ծառայություններ | I31: =+I32 -> -400000
A32: 1207 11001 | B32: Սոցիալապես անապահով և հատուկ խմբերում ընդգրկվածներին բժշկական օգնության ծառայություններ | I32: =I34 -> -400000
B33: ՄԱՍ III. ԾԱՌԱՅՈՒԹՅՈՒՆՆԵՐ
A34: 85111100-1 | B34: հիվանդանոցային ծառայություններ | E34: ՄԱ | F34: դրամ | I34: ='6'!F195 -> -400000
A35: Բաժին N 07 | B35: Խումբ N 03 | C35: Դաս N 03 | D35: Մոր և մանկան բժշկական ծառայություններ | I35: =+I36 -> -400000
A36: 1200 11003 | B36: Երեխաներին բժշկական օգնության ծառայություններ | I36: =I38 -> -400000
B37: ՄԱՍ III. ԾԱՌԱՅՈՒԹՅՈՒՆՆԵՐ
A38: 85111120-1 | B38: հիվանդանոցների կողմից մատուցվող բժշկական ծառայություններ | E38: ՄԱ | F38: դրամ | I38: ='6'!F150 -> -400000
A39: Բաժին 07 | B39: Խումբ 04 | C39: Դաս 01 | D39: Հանրային առողջապահական ծառայություններ | I39: =+I40+I43 -> 269000
A40: 1003 11008 | B40: Հայաստանի Հանրապետությունում կորոնավիրուսային վարակի (COVID) կանխարգելմանն ուղղված` պատվաստանյութի ձեռքբերման միջոցառումներ | I40: =I42 -> 309000
B41: ՄԱՍ I. ԱՊՐԱՆՔՆԵՐ
...
