Workbook
Name _tab10: #REF!
Name _tab10: #REF!
Name _tab10: #REF!
Name _tab10: #REF!
Name _tab10: #REF!
Name _tab11: #REF!
Name _tab11: #REF!
Name _tab11: #REF!
Name _tab11: #REF!
Name _tab11: #REF!
Name _tab12: #REF!
Name _tab12: #REF!
Name _tab12: #REF!
Name _tab12: #REF!
Name _tab12: #REF!
Name _tab13: #REF!
Name _tab13: #REF!
Name _tab13: #REF!
Name _tab13: #REF!
Name _tab13: #REF!
Name _tab14: #REF!
Name _tab14: #REF!
Name _tab14: #REF!
Name _tab14: #REF!
Name _tab14: #REF!
Name _tab15: #REF!
Name _tab15: #REF!
Name _tab15: #REF!
Name _tab15: #REF!
Name _tab15: #REF!
Name _tab16: #REF!
Name _tab16: #REF!
Name _tab16: #REF!
Name _tab16: #REF!
Name _tab16: #REF!
Name _tab17: #REF!
Name _tab17: #REF!
Name _tab17: #REF!
Name _tab17: #REF!
Name _tab17: #REF!
Name _tab18: #REF!
Name _tab18: #REF!
Name _tab18: #REF!
Name _tab18: #REF!
Name _tab18: #REF!
Name _tab19: #REF!
Name _tab19: #REF!
Name _tab19: #REF!
Name _tab19: #REF!
Name _tab19: #REF!
Name _tab20: #REF!
Name _tab20: #REF!
Name _tab20: #REF!
Name _tab20: #REF!
Name _tab20: #REF!
Name _tab21: #REF!
Name _tab21: #REF!
Name _tab21: #REF!
Name _tab21: #REF!
Name _tab21: #REF!

Sheet 1
A1: Հավելված № 1
A2: ՀՀ կառավարության 2021 թվականի ----------
A3: № ---------- որոշման
A5: ՀԱՅԱՍՏԱՆԻ ՀԱՆՐԱՊԵՏՈՒԹՅԱՆ 2021 ԹՎԱԿԱՆԻ ՊԵՏԱԿԱՆ ԲՅՈՒՋԵԻ ՄԱՍԻՆ» ՀԱՅԱՍՏԱՆԻ ՀԱՆՐԱՊԵՏՈՒԹՅԱՆ ՕՐԵՆՔԻ N 1 ՀԱՎԵԼՎԱԾԻ N 1 ԱՂՅՈՒՍԱԿՈՒՄ ԿԱՏԱՐՎՈՂ ՓՈՓՈԽՈՒԹՅՈՒՆՆԵՐԸ
A6: Ծրագրային դասիչը | B6: Ծրագրի անվանումը | C6: Ցուցանիշների փոփոխությունները (ավելացումը նշված է դրական նշանով, իսկ նվազեցումը` փակագծերում)
C7: Տարի
A8: Ընդամենը | C8: =C9+C10+C11+C12+C13+C14+C15 -> -1.1823431e-11
A9: 1003 | B9: Հանրային առողջության պահպանում | C9: ='2'!H13 -> 1389915
A10: 1099 | B10: Առողջության առաջնային պահպանում | C10: ='2'!H44 -> -501185.9
A11: 1142 | B11: Դատաբժշկական և ախտաբանաանատոմիական ծառայություններ | C11: ='2'!H69 -> -12916
A12: 1191 | B12: Խորհրդատվական, մասնագիտական աջակցություն և հետազոտություններ | C12: ='2'!H82 -> -30000
A13: 1200 | B13: Մոր և մանկան առողջության պահպանում | C13: ='2'!H95 -> -417183.3
A14: 1207 | B14: Սոցիալապես անապահով և առանձին խմբերի անձանց բժշկական օգնություն | C14: ='2'!H127 -> -425000
A15: 1208 | B15: Վարակիչ հիվանդությունների կանխարգելման ծրագիր | C15: ='2'!H146 -> -3629.8

Sheet 2
H2: Հավելված № 2
D3: ՀՀ կառավարության 2021 թվականի
H4: № ------------ -Ն որոշման
B6: ՀԱՅԱՍՏԱՆԻ ՀԱՆՐԱՊԵՏՈՒԹՅԱՆ 2021 ԹՎԱԿԱՆԻ ՊԵՏԱԿԱՆ ԲՅՈՒՋԵԻ ՄԱՍԻՆ» ՀԱՅԱՍՏԱՆԻ ՀԱՆՐԱՊԵՏՈՒԹՅԱՆ ՕՐԵՆՔԻ N 1 ՀԱՎԵԼՎԱԾԻ N 2 ԱՂՅՈՒՍԱԿՈՒՄ ԿԱՏԱՐՎՈՂ ՎԵՐԱԲԱՇԽՈՒՄԸ ԵՎ ՀԱՅԱՍՏԱՆԻ ՀԱՆՐԱՊԵՏՈՒԹՅԱՆ ԿԱՌԱՎԱՐՈՒԹՅԱՆ 2020 ԹՎԱԿԱՆԻ ԴԵԿՏԵՄԲԵՐԻ 30-Ի № 2215-Ն ՈՐՈՇՄԱՆ № 5 ՀԱՎԵԼՎԱԾԻ № 1 ԱՂՅՈՒՍԱԿՈՒՄ ԿԱՏԱՐՎՈՂ ՓՈՓՈԽՈՒԹՅՈՒՆՆԵՐԸ
B8: Ծրագրային դասիչը | D8: Բյուջետային հատկացումների գլխավոր կարգադրիչների, ծրագրերի և միջոցառումների անվանումները | E8: Ցուցանիշների փոփոխությունները (ավելացումները նշված են դրական նշանով, իսկ նվազեցումները` փակագծերում)
B9: Ծրագիր | C9: Միջոցառում | E9: Առաջին եռամսյակ | F9: Առաջին կիսամյակ | G9: Ինը ամիս | H9: Տարի
D10: ԸՆԴԱՄԵՆԸ | E10: =E11 -> 0 | F10: =F11 -> 1.0459189e-10 | G10: =G11 -> -1.1823431e-11 | H10: =H11 -> -1.1823431e-11
D11: ՀՀ առողջապահության նախարարություն | E11: =E13+E44+E69+E82+E95+E127+E146+E114 -> 0 | F11: =F13+F44+F69+F82+F95+F127+F146+F114 -> 1.0459189e-10 | G11: =G13+G44+G69+G82+G95+G127+G146+G114 -> -1.1823431e-11 | H11: =H13+H44+H69+H82+H95+H127+H146+H114 -> -1.1823431e-11
B12: 1003 | D12: Ծրագրի անվանումը
D13: Հանրային առողջության պահպանում | E13: =E20+E26+E38+E32 -> 1485938.7 | F13: =F20+F26+F38+F32 -> 1389915 | G13: =G20+G26+G38+G32 -> 1389915 | H13: =H20+H26+H38+H32 -> 1389915
D14: Ծրագրի նպատակը
D15: Մարդու օրգանիզմի վրա շրջակա միջավայրի վնասակար և վտանգավոր գործոնների ազդեցության բացառում և նվազեցում, կառավարելի վարակիչ հիվանդությունների դեմ պայքար
D16: Վերջնական արդյունքի նկարագրությունը
D17: Բնակչության սանիտարահամաճարակային անվտանգության և վարակիչ հիվանդությունների նկատմամբ բնակչության անընկալության ապահովում: Հանրապետությունում արյան` արյան բաղադրամասերի և արյան պատրաստուկների անհրաժեշտ քանակության ապահովում
B18: Ծրագրի միջոցառումներ
C19: 11001 | D19: Միջոցառման անվանումը
D20: Բնակչության սանիտարահամաճարակային անվտանգության ապահովման և հանրային առողջապահության ծառայություններ | E20: -133976.3 | F20: -200000 | G20: -200000 | H20: -200000
D21: Միջոցառման նկարագրությունը
D22: Հիվանդությունների վերահսկման և կանխարգելման, ընթացիկ հակահամաճարակային և սանիտարահիգիենիկ նշանակության հետազոտություններ, վարակների օջախների համաճարակաբանական հետազոտություններ, իմունականխարգելման հիգիենիկ ուսուցման և քարոզչության ծառայություններ
D23: Միջոցառման տեսակը
D24: Ծառայությունների մատուցում
C25: 11005 | D25: Միջոցառման անվանումը
D26: Առողջ ապրելակերպի խթանման և ծխելու դեմ պայքարի միջոցառումներ | E26: -10000 | F26: -40000 | G26: -40000 | H26: -40000
D27: Միջոցառման նկարագրությունը
D28: Առողջ ապրելակերպի և ծխելու դեմ պայքարի հանրային իրազեկման, ծխելը թողնելուն օժանդակության թեժ գծի ծառայության ներդնում, բուժաշխատողների շրջանում կրթական միջոցառումների իրականացում և այլն
D29: Միջոցառման տեսակը
D30: Ծառայությունների մատուցում
C31: 11008 | D31: Միջոցառման անվանումը
D32: Հայաստանի Հանրապետությունում կորոնավիրուսային վարակի (COVID) կանխարգելմանն ուղղված` պատվաստանյութի ձեռքբերման միջոցառումներ | E32: 309000 | F32: 309000 | G32: 309000 | H32: 309000
D33: Միջոցառման նկարագրությունը
D34: Հայաստանի Հանրապետությունում կորոնավիրուսային վարակի (COVID) կանխարգելմանն ուղղված` պատվաստանյութի ձեռքբերման միջոցառումների ապահովում
D35: Միջոցառման տեսակը
D36: Ծառայությունների մատուցում
C37: 11006 | D37: Միջոցառման անվանումը
D38: Հայաստանի Հանրապետությանում կորոնավիրուսային վարակի (COVID-19) կանխարգելման, վերահսկման, բուժման և այլ համալիր միջոցառումների իրականացում | E38: 1320915 | F38: 1320915 | G38: 1320915 | H38: 1320915
D39: Միջոցառման նկարագրությունը
D40: ՀՀ կորոնավիրուսային վարակի (COVID-19) արագ կանխարգելման, վերահսկման, բուժման և հաղթահարման ապահովման նպատակով իրականացված միջոցառուների ծախսերի իրականացում
D41: Միջոցառման տեսակը
D42: Ծառայությունների մատուցում
B43: 1099 | D43: Ծրագրի անվանումը
D44: Առողջության առաջնային պահպանում | E44: =E51+E57+E63 -> -606952.3 | F44: =F51+F57+F63 -> -501185.9 | G44: =G51+G57+G63 -> -501185.9 | H44: =H51+H57+H63 -> -501185.9
D45: Ծրագրի նպատակը
D46: Բնակչությանը մատչելի և որակյալ առաջնային բժշկական օգնության և սպասարկման տրամադրում, առողջության վատթարացման ռիսկի գործոնների վերհանում և դրանց հնարավոր անբարենպաստ ազդեցության կանխարգելում
D47: Վերջնական արդյունքի նկարագրությունը`
D48: Առողջության առաջնային պահպանման օղակում ցուցաբերվող բժշկական օգնության որակի, հիվանդությունների վաղ հայտնաբերման և կանխարգելման մակարդակի բարելավում, առողջապահական ծառայությունների վերաբերյալ իրազեկվածության և դրանց նկատմամբ պահանջարկի ավելացում
B49: Ծրագրի միջոցառումներ
C50: 11001 | D50: Միջոցառման անվանումը
D51: Ամբուլատոր-պոլիկլինիկական բժշկական օգնության ծառայություններ | E51: -599151 | F51: -435247.3 | G51: -417304.4 | H51: -400000
D52: Միջոցառման նկարագրությունը
D53: Ամբուլատոր-պոլիկլինիկական բժշկական օգնության ծառայություններ
D54: Միջոցառման տեսակը
D55: Ծառայությունների մատուցում
C56: 11004 | D56: Միջոցառման անվանումը
D57: Ախտորոշման ճշտման նպատակով լաբորատոր-գործիքային ախտորոշիչ հետազոտություններ նեղ մասնագիտացված կենտրոններում և շարունակական հսկողություն պահանջող և առանձին հիվանդությունների բուժման ծառայություններ | E57: 0 | F57: -33173.3 | G57: -33173.3 | H57: -33173.3
D58: Միջոցառման նկարագրությունը
D59: Ախտորոշման ճշտման նպատակով հետազոտությունների, քրոնիկ հիվանդությունների շարունակական բժշկական օգնության իրականացում նեղ մասնագիտացված կենտրոններում
D60: Միջոցառման տեսակը
D61: Ծառայությունների մատուցում
C62: 11007 | D62: Միջոցառման անվանումը
D63: Սպորտային բժշկության ծառայություններ | E63: -7801.3 | F63: -32765.3 | G63: -50708.2 | H63: -68012.6
D64: Միջոցառման նկարագրությունը
D65: ՀՀ հավաքական թիմերի մարզիկների բժշկական հսկողություն, հիվանդությունների և վնասվածքների ախտորոշում,ամբուլատոր բուժում, դեղորայքով ապահովում
D66: Միջոցառման տեսակը
D67: Ծառայությունների մատուցում
B68: 1142 | D68: Ծրագրի անվանումը
D69: Դատաբժշկական և ախտաբանաանատոմիական ծառայություններ | E69: =E76 -> 0 | F69: =F76 -> -12916 | G69: =G76 -> -12916 | H69: =H76 -> -12916
D70: Ծրագրի նպատակը
D71: Պաթանատոմիական կանխորոշումների հիման վրա ախտորոշման և բուժման արդյունավետության բարձրացում
D72: Վերջնական արդյունքի նկարագրությունը
D73: Մահերի պատճառների բացահայտում
B74: Ծրագրի միջոցառումներ
C75: 11002 | D75: Միջոցառման անվանումը
D76: Ախտաբանաանատոմիական հետազոտություններ | E76: 0 | F76: -12916 | G76: -12916 | H76: -12916
D77: Միջոցառման նկարագրությունը
D78: Մանկական մահերի հիվանդությունների պատճառների բացահայտում` մանկամահացության մակարդակը նվազեցնելու նպատակով
D79: Միջոցառման տեսակը
D80: Ծառայությունների մատուցում
B81: 1191 | D81: Ծրագրի անվանումը
D82: Խորհրդատվական, մասնագիտական աջակցություն և հետազոտություններ | E82: =E89 -> 0 | F82: =F89 -> -30000 | G82: =G89 -> -30000 | H82: =H89 -> -30000
D83: Ծրագրի նպատակը
D84: Բժշկական օգնության կազմակերպման ու որակի բարձրացման կարգավորման մասնագիտական, խորհրդատվական, կազմակերպամեթոդական ապահովում, համակարգի գործունեության արդյունքների գնահատում
D85: Վերջնական արդյունքի նկարագրությունը
D86: Առողջապահական վիճակագրության և նորմատիվային համակարգի բարելավում: Առողջապահական համակարգի գործունեության արդյունքների և կենսաբժշկական ոլորտի տեղեկատվությամբ ապաhովում
B87: Ծրագրի միջոցառումներ
C88: 11001 | D88: Միջոցառման անվանումը
D89: Խորհրդատվական, մասնագիտական աջակցություն և հետազոտություններ | E89: 0 | F89: -30000 | G89: -30000 | H89: -30000
D90: Միջոցառման նկարագրությունը
D91: Կազմմեթոդական օգնության ծառայություններ, կլինիկական ու բժշկատնտեսագիտական ստանդարտների մշակման, առողջապահության ոլորտի նորմատիվային բազայի բարելավման ծառայություններ: Առողջապահության ոլորտի կազմակերպման մեթոդական հարցերի, ձեռնարկների մշակում, տպագրում
D92: Միջոցառման տեսակը
D93: Ծառայությունների մատուցում
B94: 1200 | D94: Ծրագրի անվանումը`
D95: Մոր և մանկան առողջության պահպանում | E95: =E102+E108 -> -17183.3 | F95: =F102+F108 -> -417183.3 | G95: =G102+G108 -> -417183.3 | H95: =H102+H108 -> -417183.3
D96: Ծրագրի նպատակը`
D97: Մոր և մանկան առողջության պահպանում, կանանց և երեխաներին մատուցվող բժշկական ծառայությունների մատչելիության և որակի բարելավում
D98: Վերջնական արդյունքի նկարագրությունը`
D99: Մանկական և մայրական մահացության և հիվանդացության կրճատում, կանանց վերարտադրողական առողջության բարելավում
B100: Ծրագրի միջոցառումներ
C101: 11003 | D101: Միջոցառման անվանումը
D102: Երեխաներին բժշկական օգնության ծառայություններ | E102: 0 | F102: =-400000 -> -400000 | G102: =-400000 -> -400000 | H102: =-400000 -> -400000
D103: Միջոցառման նկարագրությունը
...

Sheet 3
H1: Հավելված № 3
F2: ՀՀ կառավարության 2021 թվականի
G3: № ------------ -Ն որոշման
A5: ՀԱՅԱՍՏԱՆԻ ՀԱՆՐԱՊԵՏՈՒԹՅԱՆ ԿԱՌԱՎԱՐՈՒԹՅԱՆ 2020 ԹՎԱԿԱՆԻ ԴԵԿՏԵՄԲԵՐԻ 30-Ի № 2215-Ն ՈՐՈՇՄԱՆ NN 3 և 4 ՀԱՎԵԼՎԱԾՆԵՐՈՒՄ ԿԱՏԱՐՎՈՂ ՓՈՓՈԽՈՒԹՅՈՒՆՆԵՐԸ
A7: Գործառական դասիչը | D7: Ծրագրային դասիչը | F7: Բյուջետային հատկացումների գլխավոր կարգադրիչների, ծրագրերի, միջոցառումների և միջոցառումները կատարող պետական մարմինների անվանումները | G7: Ցուցանիշների փոփոխությունները (ավելացումները նշված են դրական նշանով, իսկ նվազեցումները` փակագծերում)
A8: բաժին | B8: խումբ | C8: դաս | D8: Ծրագիր | E8: Միջոցառում | G8: Առաջին եռամսյակ | H8: Առաջին կիսամյակ | I8: Ինը ամիս | J8: Տարի
A9: ԸՆԴԱՄԵՆԸ | G9: =G10 -> 0 | H9: =H10 -> 0 | I9: =I10 -> 0 | J9: =J10 -> 0
A10: 07 | F10: ԱՌՈՂՋԱՊԱՀՈՒԹՅՈՒՆ | G10: =G12+G105+G137+G181 -> 0 | H10: =H12+H105+H137+H181 -> 0 | I10: =I12+I105+I137+I181 -> 0 | J10: =J12+J105+J137+J181 -> 0
F11: այդ թվում՝
B12: 02 | F12: Արտահիվանդանոցային ծառայություններ | G12: =G14+G29+G75+G90 -> -1085938.7 | H12: =H14+H29+H75 -> -546999 | I12: =I14+I29+I75 -> -546999 | J12: =J14+J29+J75 -> -546999
F13: այդ թվում՝
C14: 01 | F14: Ընդհանուր բնույթի բժշկական ծառայություններ | G14: =G18 -> -599151 | H14: =H18 -> -435247.3 | I14: =I18 -> -417304.4 | J14: =J18 -> -400000
F15: այդ թվում`
F16: ՀՀ առողջապահության նախարարություն | G16: =G14 -> -599151 | H16: =H14 -> -435247.3 | I16: =I14 -> -417304.4 | J16: =J14 -> -400000
F17: այդ թվում՝
D18: 1099 | F18: Առողջության առաջնային պահպանում | G18: =G20 -> -599151 | H18: =H20 -> -435247.3 | I18: =I20 -> -417304.4 | J18: =J20 -> -400000
F19: այդ թվում՝
E20: 11001 | F20: Ամբուլատոր-պոլիկլինիկական բժշկական օգնության ծառայություններ | G20: =G22 -> -599151 | H20: =H22 -> -435247.3 | I20: =I22 -> -417304.4 | J20: =J22 -> -400000
F21: այդ թվում` ըստ կատարողների
F22: ՀՀ առողջապահության նախարարություն | G22: =G24 -> -599151 | H22: =H24 -> -435247.3 | I22: =I24 -> -417304.4 | J22: =J24 -> -400000
F23: այդ թվում` բյուջետային ծախսերի տնտեսագիտական դասակարգման հոդվածներ
F24: ԸՆԴԱՄԵՆԸ ԾԱԽՍԵՐ | G24: =G25 -> -599151 | H24: =H25 -> -435247.3 | I24: =I25 -> -417304.4 | J24: =J25 -> -400000
F25: ԸՆԹԱՑԻԿ ԾԱԽՍԵՐ | G25: =G26 -> -599151 | H25: =H26 -> -435247.3 | I25: =I26 -> -417304.4 | J25: =J26 -> -400000
F26: ԾԱՌԱՅՈՒԹՅՈՒՆՆԵՐԻ ԵՎ ԱՊՐԱՆՔՆԵՐԻ ՁԵՌՔԲԵՐՈՒՄ | G26: =G27 -> -599151 | H26: =H27 -> -435247.3 | I26: =I27 -> -417304.4 | J26: =J27 -> -400000
F27: Պայմանագրային այլ ծառայությունների ձեռքբերում | G27: =G28 -> -599151 | H27: =H28 -> -435247.3 | I27: =I28 -> -417304.4 | J27: =J28 -> -400000
F28: - Ընդհանուր բնույթի այլ ծառայություններ | G28: ='2'!E51 -> -599151 | H28: ='2'!F51 -> -435247.3 | I28: ='2'!G51 -> -417304.4 | J28: ='2'!H51 -> -400000
C29: 02 | F29: Մասնագիտացված բժշկական ծառայություններ | G29: =G33+G53+G64 -> -28614.4 | H29: =H33+H53+H64 -> -86751.7 | I29: =I33+I53+I64 -> -104694.6 | J29: =J33+J53+J64 -> -121999
F30: այդ թվում`
F31: ՀՀ առողջապահության նախարարություն | G31: =G29 -> -28614.4 | H31: =H29 -> -86751.7 | I31: =I29 -> -104694.6 | J31: =J29 -> -121999
F32: այդ թվում՝
D33: 1099 | F33: Առողջության առաջնային պահպանում | G33: =G35+G44 -> -7801.3 | H33: =H35+H44 -> -65938.6 | I33: =I35+I44 -> -83881.5 | J33: =J35+J44 -> -101185.9
F34: այդ թվում՝
E35: 11004 | F35: Ախտորոշման ճշտման նպատակով լաբորատոր-գործիքային ախտորոշիչ հետազոտություններ նեղ մասնագիտացված կենտրոններում և շարունակական հսկողություն պահանջող և առանձին հիվանդությունների բուժման ծառայություններ | G35: =G37 -> 0 | H35: =H37 -> -33173.3 | I35: =I37 -> -33173.3 | J35: =J37 -> -33173.3
F36: այդ թվում` ըստ կատարողների
F37: ՀՀ առողջապահության նախարարություն | G37: =G39 -> 0 | H37: =H39 -> -33173.3 | I37: =I39 -> -33173.3 | J37: =J39 -> -33173.3
F38: այդ թվում` բյուջետային ծախսերի տնտեսագիտական դասակարգման հոդվածներ
F39: ԸՆԴԱՄԵՆԸ ԾԱԽՍԵՐ | G39: =G40 -> 0 | H39: =H40 -> -33173.3 | I39: =I40 -> -33173.3 | J39: =J40 -> -33173.3
F40: ԸՆԹԱՑԻԿ ԾԱԽՍԵՐ | G40: =G41 -> 0 | H40: =H41 -> -33173.3 | I40: =I41 -> -33173.3 | J40: =J41 -> -33173.3
F41: ԾԱՌԱՅՈՒԹՅՈՒՆՆԵՐԻ ԵՎ ԱՊՐԱՆՔՆԵՐԻ ՁԵՌՔԲԵՐՈՒՄ | G41: =G42 -> 0 | H41: =H42 -> -33173.3 | I41: =I42 -> -33173.3 | J41: =J42 -> -33173.3
F42: Պայմանագրային այլ ծառայությունների ձեռքբերում | G42: =G43 -> 0 | H42: =H43 -> -33173.3 | I42: =I43 -> -33173.3 | J42: =J43 -> -33173.3
F43: - Ընդհանուր բնույթի այլ ծառայություններ | G43: ='2'!E57 -> 0 | H43: ='2'!F57 -> -33173.3 | I43: ='2'!G57 -> -33173.3 | J43: ='2'!H57 -> -33173.3
E44: 11007 | F44: Սպորտային բժշկության ծառայություններ | G44: =G46 -> -7801.3 | H44: =H46 -> -32765.3 | I44: =I46 -> -50708.2 | J44: =J46 -> -68012.6
F45: այդ թվում` ըստ կատարողների
F46: ՀՀ առողջապահության նախարարություն | G46: =G48 -> -7801.3 | H46: =H48 -> -32765.3 | I46: =I48 -> -50708.2 | J46: =J48 -> -68012.6
F47: այդ թվում` բյուջետային ծախսերի տնտեսագիտական դասակարգման հոդվածներ
F48: ԸՆԴԱՄԵՆԸ ԾԱԽՍԵՐ | G48: =G49 -> -7801.3 | H48: =H49 -> -32765.3 | I48: =I49 -> -50708.2 | J48: =J49 -> -68012.6
F49: ԸՆԹԱՑԻԿ ԾԱԽՍԵՐ | G49: =G50 -> -7801.3 | H49: =H50 -> -32765.3 | I49: =I50 -> -50708.2 | J49: =J50 -> -68012.6
F50: ԾԱՌԱՅՈՒԹՅՈՒՆՆԵՐԻ ԵՎ ԱՊՐԱՆՔՆԵՐԻ ՁԵՌՔԲԵՐՈՒՄ | G50: =G51 -> -7801.3 | H50: =H51 -> -32765.3 | I50: =I51 -> -50708.2 | J50: =J51 -> -68012.6
F51: Պայմանագրային այլ ծառայությունների ձեռքբերում | G51: =G52 -> -7801.3 | H51: =H52 -> -32765.3 | I51: =I52 -> -50708.2 | J51: =J52 -> -68012.6
F52: - Ընդհանուր բնույթի այլ ծառայություններ | G52: ='2'!E63 -> -7801.3 | H52: ='2'!F63 -> -32765.3 | I52: ='2'!G63 -> -50708.2 | J52: ='2'!H63 -> -68012.6
D53: 1200 | F53: Մոր և մանկան առողջության պահպանում | G53: =G55 -> -17183.3 | H53: =H55 -> -17183.3 | I53: =I55 -> -17183.3 | J53: =J55 -> -17183.3
F54: այդ թվում՝
E55: 11004 | F55: Մտավոր, հոգեկան (վարքագծային), լսողական, ֆիզիկական (շարժողական) և զարգացման այլ խանգարումներով երեխաների գնահատման և վերականգնողական բուժման ծառայություններ | G55: =G57 -> -17183.3 | H55: =H57 -> -17183.3 | I55: =I57 -> -17183.3 | J55: =J57 -> -17183.3
F56: այդ թվում` ըստ կատարողների
F57: ՀՀ առողջապահության նախարարություն | G57: =G59 -> -17183.3 | H57: =H59 -> -17183.3 | I57: =I59 -> -17183.3 | J57: =J59 -> -17183.3
F58: այդ թվում` բյուջետային ծախսերի տնտեսագիտական դասակարգման հոդվածներ
F59: ԸՆԴԱՄԵՆԸ ԾԱԽՍԵՐ | G59: =G60 -> -17183.3 | H59: =H60 -> -17183.3 | I59: =I60 -> -17183.3 | J59: =J60 -> -17183.3
F60: ԸՆԹԱՑԻԿ ԾԱԽՍԵՐ | G60: =G61 -> -17183.3 | H60: =H61 -> -17183.3 | I60: =I61 -> -17183.3 | J60: =J61 -> -17183.3
F61: ԾԱՌԱՅՈՒԹՅՈՒՆՆԵՐԻ ԵՎ ԱՊՐԱՆՔՆԵՐԻ ՁԵՌՔԲԵՐՈՒՄ | G61: =G62 -> -17183.3 | H61: =H62 -> -17183.3 | I61: =I62 -> -17183.3 | J61: =J62 -> -17183.3
F62: Պայմանագրային այլ ծառայությունների ձեռքբերում | G62: =G63 -> -17183.3 | H62: =H63 -> -17183.3 | I62: =I63 -> -17183.3 | J62: =J63 -> -17183.3
F63: - Ընդհանուր բնույթի այլ ծառայություններ | G63: ='2'!E108 -> -17183.3 | H63: ='2'!F108 -> -17183.3 | I63: ='2'!G108 -> -17183.3 | J63: ='2'!H108 -> -17183.3
D64: 1208 | F64: Վարակիչ հիվանդությունների կանխարգելման ծրագիր | G64: =G66 -> -3629.8 | H64: =H66 -> -3629.8 | I64: =I66 -> -3629.8 | J64: =J66 -> -3629.8
F65: այդ թվում՝
E66: 11001 | F66: ՄԻԱՎ/ՁԻԱՀ-ի կանխարգելման և բուժօգնության ծառայություններ | G66: =G68 -> -3629.8 | H66: =H68 -> -3629.8 | I66: =I68 -> -3629.8 | J66: =J68 -> -3629.8
F67: այդ թվում` ըստ կատարողների
F68: ՀՀ առողջապահության նախարարություն | G68: =G70 -> -3629.8 | H68: =H70 -> -3629.8 | I68: =I70 -> -3629.8 | J68: =J70 -> -3629.8
F69: այդ թվում` բյուջետային ծախսերի տնտեսագիտական դասակարգման հոդվածներ
F70: ԸՆԴԱՄԵՆԸ ԾԱԽՍԵՐ | G70: =G71 -> -3629.8 | H70: =H71 -> -3629.8 | I70: =I71 -> -3629.8 | J70: =J71 -> -3629.8
F71: ԸՆԹԱՑԻԿ ԾԱԽՍԵՐ | G71: =G72 -> -3629.8 | H71: =H72 -> -3629.8 | I71: =I72 -> -3629.8 | J71: =J72 -> -3629.8
F72: ԾԱՌԱՅՈՒԹՅՈՒՆՆԵՐԻ ԵՎ ԱՊՐԱՆՔՆԵՐԻ ՁԵՌՔԲԵՐՈՒՄ | G72: =G73 -> -3629.8 | H72: =H73 -> -3629.8 | I72: =I73 -> -3629.8 | J72: =J73 -> -3629.8
F73: Պայմանագրային այլ ծառայությունների ձեռքբերում | G73: =G74 -> -3629.8 | H73: =H74 -> -3629.8 | I73: =I74 -> -3629.8 | J73: =J74 -> -3629.8
F74: - Ընդհանուր բնույթի այլ ծառայություններ | G74: ='2'!E153 -> -3629.8 | H74: ='2'!F153 -> -3629.8 | I74: ='2'!G153 -> -3629.8 | J74: ='2'!H153 -> -3629.8
C75: 03 | F75: Ստոմատոլոգիական ծառայություններ | G75: =G79 -> -25000 | H75: =H79 -> -25000 | I75: =I79 -> -25000 | J75: =J79 -> -25000
F76: այդ թվում՝
F77: ՀՀ առողջապահության նախարարություն | G77: =G75 -> -25000 | H77: =H75 -> -25000 | I77: =I75 -> -25000 | J77: =J75 -> -25000
F78: այդ թվում՝
D79: 1207 | F79: Սոցիալապես անապահով և առանձին խմբերի անձանց բժշկական օգնություն | G79: =G81 -> -25000 | H79: =H81 -> -25000 | I79: =I81 -> -25000 | J79: =J81 -> -25000
F80: այդ թվում՝
E81: 11002 | F81: Ստոմատոլոգիական բժշկական օգնության ծառայություններ | G81: =G83 -> -25000 | H81: =H83 -> -25000 | I81: =I83 -> -25000 | J81: =J83 -> -25000
F82: այդ թվում` ըստ կատարողների
F83: ՀՀ առողջապահության նախարարություն | G83: =G85 -> -25000 | H83: =H85 -> -25000 | I83: =I85 -> -25000 | J83: =J85 -> -25000
F84: այդ թվում` բյուջետային ծախսերի տնտեսագիտական դասակարգման հոդվածներ
F85: ԸՆԴԱՄԵՆԸ ԾԱԽՍԵՐ | G85: =G86 -> -25000 | H85: =H86 -> -25000 | I85: =I86 -> -25000 | J85: =J86 -> -25000
F86: ԸՆԹԱՑԻԿ ԾԱԽՍԵՐ | G86: =G87 -> -25000 | H86: =H87 -> -25000 | I86: =I87 -> -25000 | J86: =J87 -> -25000
F87: ԾԱՌԱՅՈՒԹՅՈՒՆՆԵՐԻ ԵՎ ԱՊՐԱՆՔՆԵՐԻ ՁԵՌՔԲԵՐՈՒՄ | G87: =G88 -> -25000 | H87: =H88 -> -25000 | I87: =I88 -> -25000 | J87: =J88 -> -25000
F88: Պայմանագրային այլ ծառայությունների ձեռքբերում | G88: =G89 -> -25000 | H88: =H89 -> -25000 | I88: =I89 -> -25000 | J88: =J89 -> -25000
F89: - Ընդհանուր բնույթի այլ ծառայություններ | G89: ='2'!E140 -> -25000 | H89: ='2'!F140 -> -25000 | I89: ='2'!G140 -> -25000 | J89: ='2'!H140 -> -25000
C90: 04 | F90: Պարաբժշկական ծառայություններ | G90: =G94 -> -433173.3 | H90: =H94 -> 0 | I90: =I94 -> 0 | J90: =J94 -> 0
F91: այդ թվում՝
F92: ՀՀ առողջապահության նախարարություն | G92: =G90 -> -433173.3 | H92: =H90 -> 0 | I92: =I90 -> 0 | J92: =J90 -> 0
F93: այդ թվում՝
D94: 1201 | F94: Շտապ բժշկական օգնություն | G94: =G96 -> -433173.3 | H94: =H96 -> 0 | I94: =I96 -> 0 | J94: =J96 -> 0
F95: այդ թվում՝
E96: 11001 | F96: Շտապ բժշկական օգնության ծառայություններ | G96: =G98 -> -433173.3 | H96: =H98 -> 0 | I96: =I98 -> 0 | J96: =J98 -> 0
F97: այդ թվում` ըստ կատարողների
F98: ՀՀ առողջապահության նախարարություն | G98: =G100 -> -433173.3 | H98: =H100 -> 0 | I98: =I100 -> 0 | J98: =J100 -> 0
F99: այդ թվում` բյուջետային ծախսերի տնտեսագիտական դասակարգման հոդվածներ
F100: ԸՆԴԱՄԵՆԸ ԾԱԽՍԵՐ | G100: =G101 -> -433173.3 | H100: =H101 -> 0 | I100: =I101 -> 0 | J100: =J101 -> 0
F101: ԸՆԹԱՑԻԿ ԾԱԽՍԵՐ | G101: =G102 -> -433173.3 | H101: =H102 -> 0 | I101: =I102 -> 0 | J101: =J102 -> 0
F102: ԾԱՌԱՅՈՒԹՅՈՒՆՆԵՐԻ ԵՎ ԱՊՐԱՆՔՆԵՐԻ ՁԵՌՔԲԵՐՈՒՄ | G102: =G103 -> -433173.3 | H102: =H103 -> 0 | I102: =I103 -> 0 | J102: =J103 -> 0
...

Sheet 4
D1: Հավելված № 4
A2: ՀՀ կառավարության 2021 թվականի
C3: № ------------ -Ն որոշման
A5: ՀԱՅԱՍՏԱՆԻ ՀԱՆՐԱՊԵՏՈՒԹՅԱՆ ԿԱՌԱՎԱՐՈՒԹՅԱՆ 2020 ԹՎԱԿԱՆԻ ԴԵԿՏԵՄԲԵՐԻ 30-Ի № 2215-Ն ՈՐՈՇՄԱՆ N 5 ՀԱՎԵԼՎԱԾԻ N 7 ԱՂՅՈՒՍԱԿՈՒՄ ԿԱՏԱՐՎՈՂ ՓՈՓՈԽՈՒԹՅՈՒՆՆԵՐԸ
A6: Ծրագրային դասիչը | C6: Բյուջետային հատկացումների գլխավոր կարգադրիչների, ծրագրերի, միջոցառումների, ծախսային ուղղությունների անվանումները | D6: Միջոցառումները կատարող պետական մարմինների և դրամաշնորհ ստացող տնտեսվարող սուբյեկտների անվանումները | E6: Տարի
A7: ծրագիրը | B7: միջոցառումը | E7: Ցուցանիշների փոփոխությունը (նվազեցումները նշված են փակագծերում)
A8: ՀՀ առողջապահության նախարարություն
A9: 1003 | B9: Հանրային առողջության պահպանում
B10: 11001 | C10: Բնակչության սանիտարահամաճարակային անվտանգության ապահովման և հանրային առողջապահության ծառայություններ | D10: ՀՀ առողջապահության նախարարություն | E10: =E11 -> -200000
D11: «Հիվանդությունների վերահսկման և կանխարգելման ազգային կենտրոն» ՊՈԱԿ | E11: ='5'!F26 -> -200000

Sheet 5
G1: Հավելված № 5
B2: ՀՀ կառավարության 2021 թվականի
F3: № ------------ -Ն որոշման
A5: ՀԱՅԱՍՏԱՆԻ ՀԱՆՐԱՊԵՏՈՒԹՅԱՆ ԿԱՌԱՎԱՐՈՒԹՅԱՆ 2020 ԹՎԱԿԱՆԻ ԴԵԿՏԵՄԲԵՐԻ 30-Ի N 2215-Ն ՈՐՈՇՄԱՆ N 9 ՀԱՎԵԼՎԱԾԻ 9.9 ԱՂՅՈՒՍԱԿՈՒՄ ԿԱՏԱՐՎՈՂ ՓՈՓՈԽՈՒԹՅՈՒՆՆԵՐԸ
A6: ՀՀ Առողջապահության նախարարություն
A7: ՄԱՍ 2. ՊԵՏԱԿԱՆ ՄԱՐՄՆԻ ԳԾՈՎ ԱՐԴՅՈՒՆՔԱՅԻՆ (ԿԱՏԱՐՈՂԱԿԱՆ) ՑՈՒՑԱՆԻՇՆԵՐԸ
A8: Ծրագրի դասիչը | B8: Ծրագրի անվանումը
A9: 1003 | B9: Հանրային առողջության պահպանում
A11: Ծրագրի միջոցառումները
A12: Ծրագրի դասիչը` | B12: 1003 | C12: Ցուցանիշների փոփոխությունը (նվազեցումը նշված է փակագծերում)
A13: Միջոցառման դասիչը` | B13: 11001 | C13: Առաջին եռամսյակ | D13: Առաջին կիսամյակ | E13: Ինը ամիս | F13: Տարի
A14: Միջոցառման անվանումը` | B14: Բնակչության սանիտարահամաճարակային անվտանգության ապահովման և հանրային առողջապահության ծառայություններ
A15: Նկարագրությունը` | B15: Հիվանդությունների վերահսկման և կանխարգելման, ընթացիկ հակահամաճարակային և սանիտարահիգիենիկ նշանակության հետազոտություններ, վարակների օջախների համաճարակաբանական հետազոտություններ, իմունականխարգելման հիգիենիկ ուսուցման և քարոզչության ծառայություններ
A16: Միջոցառման տեսակը` | B16: Ծառայությունների մատուցում
A17: Ծառայությունը մատուցող կազմակերպության(ների) անվանում(ներ)ը | B17: Մասնագիտացված կազմակերպություն
A18: Արդյունքի չափորոշիչներ
A19: Իրականացված հետազոտությունների թիվ, հատ
A20: Պատվաստանյութերի արդյունավետ կառավարում` ընդամենը ստացված պատվաստանյութերի դեղաչափի թիվ, հատ
A21: Վարակիչ օջախների ախտահանման ծառայությունների քանակ, հատ
A22: ՀՀ բժշկական օգնություն և սպասարկում իրականացնող կազմակերպություններում վարակի հսկողության առանձին բաղադրիչների գնահատում, տոկոս
A23: Համաճարակաբանական հետազոտության ենթակա վարակիչ, մակաբուծային, սննդային և քիմիական թունավորումների օջախների ընդգրկվածություն, տոկոս
A24: Հետազոտված ջրականգերի մասնաբաժին, տոկոս
A25: Օջախների ախտահանման ենթակա վարակիչ հիվանդությունների օջախների ախտահանման առավելագույն ժամկետ, ժամ
A26: Միջոցառման վրա կատարվող ծախսը (հազար դրամ) | C26: ='2'!E20 -> -133976.3 | D26: ='2'!F20 -> -200000 | E26: ='2'!G20 -> -200000 | F26: ='2'!H20 -> -200000
A28: Ծրագրի դասիչը` | B28: 1003 | C28: Ցուցանիշների փոփոխությունը (նվազեցումը նշված է փակագծերում)
A29: Միջոցառման դասիչը` | B29: 11005 | C29: Առաջին եռամսյակ | D29: Առաջին կիսամյակ | E29: Ինն ամիս | F29: Տարի
A30: Միջոցառման անվանումը` | B30: Առողջ ապրելակերպի խթանման և ծխելու դեմ պայքարի միջոցառումներ
A31: Նկարագրությունը` | B31: Առողջ ապրելակերպի և ծխելու դեմ պայքարի հանրային իրազեկման, ծխելը թողնելուն օժանդակության թեժ գծի ծառայության ներդնում, բուժաշխատողների շրջանում կրթական միջոցառումների իրականացում և այլն
A32: Միջոցառման տեսակը` | B32: Ծառայությունների մատուցում
A33: Ծառայությունը մատուցող կազմակերպության(ների) անվանում(ներ)ը | B33: ՀՀ գնումների մասին օրենսդրությանը համապատասխան ընտրված կազմակերպություններ
A34: Արդյունքի չափորոշիչներ
A35: Միջոցառումների քանակը, հատ
A36: Միջոցառման վրա կատարվող ծախսը (հազար դրամ) | C36: ='2'!E26 -> -10000 | D36: ='2'!F26 -> -40000 | E36: ='2'!G26 -> -40000 | F36: ='2'!H26 -> -40000
A38: Ծրագրի դասիչը` | B38: 1003 | C38: Ցուցանիշների փոփոխությունը (ավելացումը նշված է դրական նշանով)
A39: Միջոցառման դասիչը` | B39: 11008 | C39: Առաջին եռամսյակ | D39: Առաջին կիսամյակ | E39: Ինն ամիս | F39: Տարի
A40: Միջոցառման անվանումը` | B40: Հայաստանի Հանրապետությունում կորոնավիրուսային վարակի (COVID) կանխարգելմանն ուղղված` պատվաստանյութի ձեռքբերման միջոցառումներ
A41: Նկարագրությունը` | B41: Հայաստանի Հանրապետությունում կորոնավիրուսային վարակի (COVID) կանխարգելմանն ուղղված` պատվաստանյութի ձեռքբերման միջոցառումների ապահովում
A42: Միջոցառման տեսակը` | B42: Ծառայությունների մատուցում
A43: Ծառայությունը մատուցող կազմակերպության(ների) անվանում(ներ)ը | B43: ՀՀ գնումների մասին օրենսդրությանը համապատասխան ընտրված կազմակերպություններ
A44: Արդյունքի չափորոշիչներ
A45: Ձեռքբերվող պատվաստանյութի չափաբաժինների քանակը | C45: 124800 | D45: 124800 | E45: 124800 | F45: 124800
A46: Բնակչության ընդհանուր թվում պատվաստանյութ ստացողների տեսակարար կշիռը (%)
A47: Միջոցառման վրա կատարվող ծախսը (հազար դրամ) | C47: ='2'!E32 -> 309000 | D47: ='2'!F32 -> 309000 | E47: ='2'!G32 -> 309000 | F47: ='2'!H32 -> 309000
A49: Ծրագրի դասիչը` | B49: 1003 | C49: Ցուցանիշների փոփոխությունը (ավելացումը նշված է դրական նշանով)
A50: Միջոցառման դասիչը` | B50: 11006 | C50: Առաջին եռամսյակ | D50: Առաջին կիսամյակ | E50: Ինը ամիս | F50: Տարի
A51: Միջոցառման անվանումը` | B51: Հայաստանի Հանրապետությանում կորոնավիրուսային վարակի (COVID-19) կանխարգելման, վերահսկման, բուժման և այլ համալիր միջոցառումների իրականացում
A52: Նկարագրությունը` | B52: ՀՀ-ում կորոնավիրուսային վարակի (COVID-19) արագ կանխարգելման, վերահսկման, բուժման և հաղթահարման ապահովման նպատակով իրականացված միջոցառուների ծախսերի իրականացում
A53: Միջոցառման տեսակը` | B53: Ծառայությունների մատուցում
A54: Միջոցառումն իրականացնողի անվանումը | B54: ՀՀ առողջապահության նախարարություն
A55: Արդյունքի չափորոշիչներ
A56: Միջոցառումն իրականացնողներ, հատ
A57: Միջոցառման վրա կատարվող ծախսը (հազար դրամ) | C57: ='2'!E38 -> 1320915 | D57: ='2'!F38 -> 1320915 | E57: ='2'!G38 -> 1320915 | F57: ='2'!H38 -> 1320915
A59: Ծրագրի դասիչը | B59: Ծրագրի անվանումը
A60: 1099 | B60: Առողջության առաջնային պահպանում
A62: Ծրագրի միջոցառումները
A64: Ծրագրի դասիչը` | B64: 1099 | C64: Ցուցանիշների փոփոխությունը (նվազեցումը նշված է փակագծերում)
A65: Միջոցառման դասիչը` | B65: 11001 | C65: Առաջին եռամսյակ | D65: Առաջին կիսամյակ | E65: Ինը ամիս | F65: Տարի
A66: Միջոցառման անվանումը` | B66: Ամբուլատոր-պոլիկլինիկական բժշկական օգնության ծառայություններ
A67: Նկարագրությունը` | B67: Ամբուլատոր-պոլիկլինիկական բժշկական օգնության ծառայություններ
A68: Միջոցառման տեսակը` | B68: Ծառայությունների մատուցում
A69: Ծառայությունը մատուցող կազմակերպության(ների) անվանում(ներ)ը | B69: ՀՀ գնումների մասին օրենսդրությանը համապատասխան ընտրված կազմակերպություններ
A70: Արդյունքի չափորոշիչներ
A71: Բնակչության առողջության առաջնային պահպանման գծով կազմակերպություններում գրանցված բնակչության թիվ, մարդ
A72: Տեղամասային թերապևտի, ընտանեկան բժշկի կողմից կազմակերպություններում գրանցված բնակչության թիվ` 18 և ավելի բարձր տարիքի անձինք, մարդ
A73: Տեղամասային մանկաբույժի, ընտանեկան բժշկի կողմից կազմակերպություններում գրանցված բնակչության թիվ` մինչև 18տ. երեխաներ, մարդ
A74: Դպրոցում բժշկական օգնություն և սպասարկում ստացող աշակերտների թիվ, մարդ
A75: Անվճար և արտոնյալ պայմաններով դեղեր ստանալու իրավունք ունեցող անձանց ընդամենը թիվ, մարդ
A76: Հղիների նախածննդյան և հետծննդյան հսկողության ընթացքում իրականացվող լաբորատոր-գործիքային ախտորոշիչ հետազոտությունների թիվ, հատ
A77: Միջոցառման վրա կատարվող ծախսը (հազար դրամ) | C77: ='2'!E51 -> -599151 | D77: ='2'!F51 -> -435247.3 | E77: ='2'!G51 -> -417304.4 | F77: ='2'!H51 -> -400000
A79: Ծրագրի դասիչը` | B79: 1099 | C79: Ցուցանիշների փոփոխությունը (նվազեցումը նշված է փակագծերում)
A80: Միջոցառման դասիչը` | B80: 11004 | C80: Առաջին եռամսյակ | D80: Առաջին կիսամյակ | E80: Ինը ամիս | F80: Տարի
A81: Միջոցառման անվանումը` | B81: Ախտորոշման ճշտման նպատակով լաբորատոր-գործիքային ախտորոշիչ հետազոտություններ նեղ մասնագիտացված կենտրոններում և շարունակական հսկողություն պահանջող և առանձին հիվանդությունների բուժման ծառայություններ
A82: Նկարագրությունը` | B82: Ախտորոշման ճշտման նպատակով հետազոտությունների, քրոնիկ հիվանդությունների շարունակական բժշկական օգնության իրականացում նեղ մասնագիտացված կենտրոններում
A83: Միջոցառման տեսակը` | B83: Ծառայությունների մատուցում
A84: Ծառայությունը մատուցող կազմակերպության(ների) անվանում(ներ)ը | B84: ՀՀ գնումների մասին օրենսդրությանը համապատասխան ընտրված կազմակերպություններ
A85: Արդյունքի չափորոշիչներ
A86: Հետազոտությունների քանակ, հատ | C86: 0 | D86: -1000 | E86: -1000 | F86: -1000
A87: Միջոցառման վրա կատարվող ծախսը (հազար դրամ) | C87: ='2'!E57 -> 0 | D87: ='2'!F57 -> -33173.3 | E87: ='2'!G57 -> -33173.3 | F87: ='2'!H57 -> -33173.3
A89: Ծրագրի դասիչը` | B89: 1099 | C89: Ցուցանիշների փոփոխությունը (նվազեցումը նշված է փակագծերում)
A90: Միջոցառման դասիչը` | B90: 11007 | C90: Առաջին եռամսյակ | D90: Առաջին կիսամյակ | E90: Ինը ամիս | F90: Տարի
A91: Միջոցառման անվանումը` | B91: Սպորտային բժշկության ծառայություններ
A92: Նկարագրությունը` | B92: ՀՀ հավաքական թիմերի մարզիկների բժշկական հսկողություն, հիվանդությունների և վնասվածքների ախտորոշում,ամբուլատոր բուժում, դեղորայքով ապահովում
A93: Միջոցառման տեսակը` | B93: Ծառայությունների մատուցում
A94: Ծառայությունը մատուցող կազմակերպության(ների) անվանում(ներ)ը | B94: Մասնագիտացված կազմակերպություն
A95: Արդյունքի չափորոշիչներ
A96: Սպորտային բժշկության ծառայություններից օգտվողների թիվ, մարդ | C96: -6700 | D96: -6700 | E96: -6700 | F96: -6700
A97: Միջոցառման վրա կատարվող ծախսը (հազար դրամ) | C97: ='2'!E63 -> -7801.3 | D97: ='2'!F63 -> -32765.3 | E97: ='2'!G63 -> -50708.2 | F97: ='2'!H63 -> -68012.6
A99: Ծրագրի դասիչը | B99: Ծրագրի անվանումը
A100: 1142 | B100: Դատաբժշկական և ախտաբանաանատոմիական ծառայություններ
A102: Ծրագրի միջոցառումները
A104: Ծրագրի դասիչը` | B104: 1142 | C104: Ցուցանիշների փոփոխությունը (նվազեցումը նշված է փակագծերում)
A105: Միջոցառման դասիչը` | B105: 11002 | C105: Առաջին եռամսյակ | D105: Առաջին կիսամյակ | E105: Ինը ամիս | F105: Տարի
A106: Միջոցառման անվանումը` | B106: Ախտաբանաանատոմիական հետազոտություններ
A107: Նկարագրությունը` | B107: Մանկական մահերի հիվանդությունների պատճառների բացահայտում` մանկամահացության մակարդակը նվազեցնելու նպատակով
A108: Միջոցառման տեսակը` | B108: Ծառայությունների մատուցում
A109: Ծառայությունը մատուցող կազմակերպության(ների) անվանում(ներ)ը | B109: ՀՀ գնումների մասին օրենսդրությանը համապատասխան ընտրված կազմակերպություններ
A110: Արդյունքի չափորոշիչներ
A111: Ախտաբանաանատոմիական դիահերձումների թիվ, հատ | D111: -100 | E111: -100 | F111: -100
A112: Վիրահատական և բիոպսիոն նյութերի հետազոտությունների թիվ, հատ | D112: -500 | E112: -500 | F112: -500
A113: Միջոցառման վրա կատարվող ծախսը (հազար դրամ) | C113: ='2'!E76 -> 0 | D113: ='2'!F76 -> -12916 | E113: ='2'!G76 -> -12916 | F113: ='2'!H76 -> -12916
...

Sheet 6
G1: Հավելված № 6
B2: ՀՀ կառավարության 2021 թվականի
F3: № ------------ -Ն որոշման
A5: ՀԱՅԱՍՏԱՆԻ ՀԱՆՐԱՊԵՏՈՒԹՅԱՆ ԿԱՌԱՎԱՐՈՒԹՅԱՆ 2020 ԹՎԱԿԱՆԻ ԴԵԿՏԵՄԲԵՐԻ 30-Ի N 2215-Ն ՈՐՈՇՄԱՆ N 9.1 ՀԱՎԵԼՎԱԾԻ 9.1.9 ԱՂՅՈՒՍԱԿՈՒՄ ԿԱՏԱՐՎՈՂ ՓՈՓՈԽՈՒԹՅՈՒՆՆԵՐԸ
A6: ՀՀ Առողջապահության նախարարություն
A7: ՄԱՍ 1. ՊԵՏԱԿԱՆ ՄԱՐՄՆԻ ԳԾՈՎ ԱՐԴՅՈՒՆՔԱՅԻՆ (ԿԱՏԱՐՈՂԱԿԱՆ) ՑՈՒՑԱՆԻՇՆԵՐԸ
A8: Ծրագրի դասիչը | B8: Ծրագրի անվանումը
A9: 1003 | B9: Հանրային առողջության պահպանում
A11: Ծրագրի միջոցառումները
A12: Ծրագրի դասիչը` | B12: 1003 | C12: Ցուցանիշների փոփոխությունը (նվազեցումը նշված է փակագծերում)
A13: Միջոցառման դասիչը` | B13: 11001 | C13: Առաջին եռամսյակ | D13: Առաջին կիսամյակ | E13: Ինը ամիս | F13: Տարի
A14: Միջոցառման անվանումը` | B14: Բնակչության սանիտարահամաճարակային անվտանգության ապահովման և հանրային առողջապահության ծառայություններ
A15: Նկարագրությունը` | B15: Հիվանդությունների վերահսկման և կանխարգելման, ընթացիկ հակահամաճարակային և սանիտարահիգիենիկ նշանակության հետազոտություններ, վարակների օջախների համաճարակաբանական հետազոտություններ, իմունականխարգելման հիգիենիկ ուսուցման և քարոզչության ծառայություններ
A16: Միջոցառման տեսակը` | B16: Ծառայությունների մատուցում
A17: Ծառայությունը մատուցող կազմակերպության(ների) անվանում(ներ)ը | B17: Մասնագիտացված կազմակերպություն
A18: Արդյունքի չափորոշիչներ
A19: Իրականացված հետազոտությունների թիվ, հատ
A20: Պատվաստանյութերի արդյունավետ կառավարում` ընդամենը ստացված պատվաստանյութերի դեղաչափի թիվ, հատ
A21: Վարակիչ օջախների ախտահանման ծառայությունների քանակ, հատ
A22: ՀՀ բժշկական օգնություն և սպասարկում իրականացնող կազմակերպություններում վարակի հսկողության առանձին բաղադրիչների գնահատում, տոկոս
A23: Համաճարակաբանական հետազոտության ենթակա վարակիչ, մակաբուծային, սննդային և քիմիական թունավորումների օջախների ընդգրկվածություն, տոկոս
A24: Հետազոտված ջրականգերի մասնաբաժին, տոկոս
A25: Օջախների ախտահանման ենթակա վարակիչ հիվանդությունների օջախների ախտահանման առավելագույն ժամկետ, ժամ
A26: Միջոցառման վրա կատարվող ծախսը (հազար դրամ) | C26: ='2'!E20 -> -133976.3 | D26: ='2'!F20 -> -200000 | E26: ='2'!G20 -> -200000 | F26: ='2'!H20 -> -200000
A28: Ծրագրի դասիչը` | B28: 1003 | C28: Ցուցանիշների փոփոխությունը (նվազեցումը նշված է փակագծերում)
A29: Միջոցառման դասիչը` | B29: 11005 | C29: Առաջին եռամսյակ | D29: Առաջին կիսամյակ | E29: Ինն ամիս | F29: Տարի
A30: Միջոցառման անվանումը` | B30: Առողջ ապրելակերպի խթանման և ծխելու դեմ պայքարի միջոցառումներ
A31: Նկարագրությունը` | B31: Առողջ ապրելակերպի և ծխելու դեմ պայքարի հանրային իրազեկման, ծխելը թողնելուն օժանդակության թեժ գծի ծառայության ներդնում, բուժաշխատողների շրջանում կրթական միջոցառումների իրականացում և այլն
A32: Միջոցառման տեսակը` | B32: Ծառայությունների մատուցում
A33: Ծառայությունը մատուցող կազմակերպության(ների) անվանում(ներ)ը | B33: ՀՀ գնումների մասին օրենսդրությանը համապատասխան ընտրված կազմակերպություններ
A34: Արդյունքի չափորոշիչներ
A35: Միջոցառումների քանակը, հատ
A36: Միջոցառման վրա կատարվող ծախսը (հազար դրամ) | C36: ='2'!E26 -> -10000 | D36: ='2'!F26 -> -40000 | E36: ='2'!G26 -> -40000 | F36: ='2'!H26 -> -40000
A38: Ծրագրի դասիչը` | B38: 1003 | C38: Ցուցանիշների փոփոխությունը (ավելացումը նշված է դրական նշանով)
A39: Միջոցառման դասիչը` | B39: 11008 | C39: Առաջին եռամսյակ | D39: Առաջին կիսամյակ | E39: Ինն ամիս | F39: Տարի
A40: Միջոցառման անվանումը` | B40: Հայաստանի Հանրապետությունում կորոնավիրուսային վարակի (COVID) կանխարգելմանն ուղղված` պատվաստանյութի ձեռքբերման միջոցառումներ
A41: Նկարագրությունը` | B41: Հայաստանի Հանրապետությունում կորոնավիրուսային վարակի (COVID) կանխարգելմանն ուղղված` պատվաստանյութի ձեռքբերման միջոցառումների ապահովում
A42: Միջոցառման տեսակը` | B42: Ծառայությունների մատուցում
A43: Ծառայությունը մատուցող կազմակերպության(ների) անվանում(ներ)ը | B43: ՀՀ գնումների մասին օրենսդրությանը համապատասխան ընտրված կազմակերպություններ
A44: Արդյունքի չափորոշիչներ
A45: Ձեռքբերվող պատվաստանյութի չափաբաժինների քանակը | C45: 124800 | D45: 124800 | E45: 124800 | F45: 124800
A46: Բնակչության ընդհանուր թվում պատվաստանյութ ստացողների տեսակարար կշիռը (%)
A47: Միջոցառման վրա կատարվող ծախսը (հազար դրամ) | C47: ='2'!E32 -> 309000 | D47: ='2'!F32 -> 309000 | E47: ='2'!G32 -> 309000 | F47: ='2'!H32 -> 309000
A49: Ծրագրի դասիչը` | B49: 1003 | C49: Ցուցանիշների փոփոխությունը (ավելացումը նշված է դրական նշանով)
A50: Միջոցառման դասիչը` | B50: 11006 | C50: Առաջին եռամսյակ | D50: Առաջին կիսամյակ | E50: Ինը ամիս | F50: Տարի
A51: Միջոցառման անվանումը` | B51: Հայաստանի Հանրապետությանում կորոնավիրուսային վարակի (COVID-19) կանխարգելման, վերահսկման, բուժման և այլ համալիր միջոցառումների իրականացում
A52: Նկարագրությունը` | B52: ՀՀ-ում կորոնավիրուսային վարակի (COVID-19) արագ կանխարգելման, վերահսկման, բուժման և հաղթահարման ապահովման նպատակով իրականացված միջոցառուների ծախսերի իրականացում
A53: Միջոցառման տեսակը` | B53: Ծառայությունների մատուցում
A54: Միջոցառումն իրականացնողի անվանումը | B54: ՀՀ առողջապահության նախարարություն
A55: Արդյունքի չափորոշիչներ
A56: Միջոցառումն իրականացնողներ, հատ
A57: Միջոցառման վրա կատարվող ծախսը (հազար դրամ) | C57: ='2'!E38 -> 1320915 | D57: ='2'!F38 -> 1320915 | E57: ='2'!G38 -> 1320915 | F57: ='2'!H38 -> 1320915
A59: Ծրագրի դասիչը | B59: Ծրագրի անվանումը
A60: 1099 | B60: Առողջության առաջնային պահպանում
A62: Ծրագրի միջոցառումները
A64: Ծրագրի դասիչը` | B64: 1099 | C64: Ցուցանիշների փոփոխությունը (նվազեցումը նշված է փակագծերում)
A65: Միջոցառման դասիչը` | B65: 11001 | C65: Առաջին եռամսյակ | D65: Առաջին կիսամյակ | E65: Ինը ամիս | F65: Տարի
A66: Միջոցառման անվանումը` | B66: Ամբուլատոր-պոլիկլինիկական բժշկական օգնության ծառայություններ
A67: Նկարագրությունը` | B67: Ամբուլատոր-պոլիկլինիկական բժշկական օգնության ծառայություններ
A68: Միջոցառման տեսակը` | B68: Ծառայությունների մատուցում
A69: Ծառայությունը մատուցող կազմակերպության(ների) անվանում(ներ)ը | B69: ՀՀ գնումների մասին օրենսդրությանը համապատասխան ընտրված կազմակերպություններ
A70: Արդյունքի չափորոշիչներ
A71: Բնակչության առողջության առաջնային պահպանման գծով կազմակերպություններում գրանցված բնակչության թիվ, մարդ
A72: Տեղամասային թերապևտի, ընտանեկան բժշկի կողմից կազմակերպություններում գրանցված բնակչության թիվ` 18 և ավելի բարձր տարիքի անձինք, մարդ
A73: Տեղամասային մանկաբույժի, ընտանեկան բժշկի կողմից կազմակերպություններում գրանցված բնակչության թիվ` մինչև 18տ. երեխաներ, մարդ
A74: Դպրոցում բժշկական օգնություն և սպասարկում ստացող աշակերտների թիվ, մարդ
A75: Անվճար և արտոնյալ պայմաններով դեղեր ստանալու իրավունք ունեցող անձանց ընդամենը թիվ, մարդ
A76: Հղիների նախածննդյան և հետծննդյան հսկողության ընթացքում իրականացվող լաբորատոր-գործիքային ախտորոշիչ հետազոտությունների թիվ, հատ
A77: Միջոցառման վրա կատարվող ծախսը (հազար դրամ) | C77: ='2'!E51 -> -599151 | D77: ='2'!F51 -> -435247.3 | E77: ='2'!G51 -> -417304.4 | F77: ='2'!H51 -> -400000
A79: Ծրագրի դասիչը` | B79: 1099 | C79: Ցուցանիշների փոփոխությունը (նվազեցումը նշված է փակագծերում)
A80: Միջոցառման դասիչը` | B80: 11004 | C80: Առաջին եռամսյակ | D80: Առաջին կիսամյակ | E80: Ինը ամիս | F80: Տարի
A81: Միջոցառման անվանումը` | B81: Ախտորոշման ճշտման նպատակով լաբորատոր-գործիքային ախտորոշիչ հետազոտություններ նեղ մասնագիտացված կենտրոններում և շարունակական հսկողություն պահանջող և առանձին հիվանդությունների բուժման ծառայություններ
A82: Նկարագրությունը` | B82: Ախտորոշման ճշտման նպատակով հետազոտությունների, քրոնիկ հիվանդությունների շարունակական բժշկական օգնության իրականացում նեղ մասնագիտացված կենտրոններում
A83: Միջոցառման տեսակը` | B83: Ծառայությունների մատուցում
A84: Ծառայությունը մատուցող կազմակերպության(ների) անվանում(ներ)ը | B84: ՀՀ գնումների մասին օրենսդրությանը համապատասխան ընտրված կազմակերպություններ
A85: Արդյունքի չափորոշիչներ
A86: Հետազոտությունների քանակ, հատ | C86: 0 | D86: -1000 | E86: -1000 | F86: -1000
A87: Միջոցառման վրա կատարվող ծախսը (հազար դրամ) | C87: ='2'!E57 -> 0 | D87: ='2'!F57 -> -33173.3 | E87: ='2'!G57 -> -33173.3 | F87: ='2'!H57 -> -33173.3
A89: Ծրագրի դասիչը` | B89: 1099 | C89: Ցուցանիշների փոփոխությունը (նվազեցումը նշված է փակագծերում)
A90: Միջոցառման դասիչը` | B90: 11007 | C90: Առաջին եռամսյակ | D90: Առաջին կիսամյակ | E90: Ինը ամիս | F90: Տարի
A91: Միջոցառման անվանումը` | B91: Սպորտային բժշկության ծառայություններ
A92: Նկարագրությունը` | B92: ՀՀ հավաքական թիմերի մարզիկների բժշկական հսկողություն, հիվանդությունների և վնասվածքների ախտորոշում,ամբուլատոր բուժում, դեղորայքով ապահովում
A93: Միջոցառման տեսակը` | B93: Ծառայությունների մատուցում
A94: Ծառայությունը մատուցող կազմակերպության(ների) անվանում(ներ)ը | B94: Մասնագիտացված կազմակերպություն
A95: Արդյունքի չափորոշիչներ
A96: Սպորտային բժշկության ծառայություններից օգտվողների թիվ, մարդ | C96: -6700 | D96: -6700 | E96: -6700 | F96: -6700
A97: Միջոցառման վրա կատարվող ծախսը (հազար դրամ) | C97: ='2'!E63 -> -7801.3 | D97: ='2'!F63 -> -32765.3 | E97: ='2'!G63 -> -50708.2 | F97: ='2'!H63 -> -68012.6
A99: Ծրագրի դասիչը | B99: Ծրագրի անվանումը
A100: 1142 | B100: Դատաբժշկական և ախտաբանաանատոմիական ծառայություններ
A102: Ծրագրի միջոցառումները
A104: Ծրագրի դասիչը` | B104: 1142 | C104: Ցուցանիշների փոփոխությունը (նվազեցումը նշված է փակագծերում)
A105: Միջոցառման դասիչը` | B105: 11002 | C105: Առաջին եռամսյակ | D105: Առաջին կիսամյակ | E105: Ինը ամիս | F105: Տարի
A106: Միջոցառման անվանումը` | B106: Ախտաբանաանատոմիական հետազոտություններ
A107: Նկարագրությունը` | B107: Մանկական մահերի հիվանդությունների պատճառների բացահայտում` մանկամահացության մակարդակը նվազեցնելու նպատակով
A108: Միջոցառման տեսակը` | B108: Ծառայությունների մատուցում
A109: Ծառայությունը մատուցող կազմակերպության(ների) անվանում(ներ)ը | B109: ՀՀ գնումների մասին օրենսդրությանը համապատասխան ընտրված կազմակերպություններ
A110: Արդյունքի չափորոշիչներ
A111: Ախտաբանաանատոմիական դիահերձումների թիվ, հատ | D111: -100 | E111: -100 | F111: -100
A112: Վիրահատական և բիոպսիոն նյութերի հետազոտությունների թիվ, հատ | D112: -500 | E112: -500 | F112: -500
A113: Միջոցառման վրա կատարվող ծախսը (հազար դրամ) | C113: ='2'!E76 -> 0 | D113: ='2'!F76 -> -12916 | E113: ='2'!G76 -> -12916 | F113: ='2'!H76 -> -12916
...

Sheet 7
G1: Հավելված № 7
D2: ՀՀ կառավարության 2021 թվականի
E3: № ------------ -Ն որոշման
A5: ՀԱՅԱՍՏԱՆԻ ՀԱՆՐԱՊԵՏՈՒԹՅԱՆ ԿԱՌԱՎԱՐՈՒԹՅԱՆ 2020 ԹՎԱԿԱՆԻ ԴԵԿՏԵՄԲԵՐԻ 30-Ի N 2215-Ն ՈՐՈՇՄԱՆ N 10 ՀԱՎԵԼՎԱԾԻ ԿԱՏԱՐՎՈՂ ՓՈՓՈԽՈՒԹՅՈՒՆՆԵՐԸ
A6: ՀՀ առողջապահության նախարարություն
A7: Գնման առարկայի | E7: Գնման ձևը (ընթացակարգը) | F7: Չափի միավորը | G7: Միավորի գինը (ՀՀ դրամ) | H7: Ցուցանիշների փոփոխությունները (նվազեցումները նշված են փակագծերում, ավելացումները` դրական նշանով)
A8: Միջանցիկ կոդը` ըստ CPV դասակարգման | B8: անվանումը
H9: Քանակը | I9: Գումարը (հազար դրամով)
A10: Բաժին N 07 | B10: Խումբ N 02 | C10: Դաս N 01 | D10: Ընդհանուր բնույթի բժշկական ծառայություններ | I10: =+I11 -> -400000
A11: 1099 11001 | B11: Ամբուլատոր-պոլիկլինիկական բժշկական օգնության ծառայություններ | I11: =I13 -> -400000
B12: ՄԱՍ III. ԾԱՌԱՅՈՒԹՅՈՒՆՆԵՐ
A13: 85121120-1 | B13: ամբուլատոր-բժշկական ծառայություններ | E13: ՄԱ | F13: դրամ | I13: ='3'!J28 -> -400000
A14: Բաժին N 07 | B14: Խումբ N 02 | C14: Դաս N 02 | D14: Մասնագիտացված բժշկական ծառայություններ | I14: =+I15+I18+I21+I24 -> -121999
A15: 1200 11004 | B15: Մտավոր, հոգեկան (վարքագծային), լսողական, ֆիզիկական (շարժողական) և զարգացման այլ խանգարումներով երեխաների գնահատման և վերականգնողական բուժման ծառայություններ | I15: =I17 -> -17183.3
B16: ՄԱՍ III. ԾԱՌԱՅՈՒԹՅՈՒՆՆԵՐ
A17: 85121100-1 | B17: բժշկական ծառայություններ | E17: ՄԱ | F17: դրամ | I17: ='3'!J63 -> -17183.3
A18: 1208 11001 | B18: ՄԻԱՎ/ՁԻԱՀ-ի կանխարգելման և բուժօգնության ծառայություններ | I18: =I20 -> -3629.8
B19: ՄԱՍ III. ԾԱՌԱՅՈՒԹՅՈՒՆՆԵՐ
A20: 85121120-1 | B20: ամբուլատոր-բժշկական ծառայություններ | E20: ՄԱ | F20: դրամ | I20: ='3'!J66 -> -3629.8
A21: 1099 11004 | B21: Ախտորոշման ճշտման նպատակով լաբորատոր-գործիքային ախտորոշիչ հետազոտություններ նեղ մասնագիտացված կենտրոններում և շարունակական հսկողություն պահանջող և առանձին հիվանդությունների բուժման ծառայություններ | I21: =I23 -> -33173.3
B22: ՄԱՍ III. ԾԱՌԱՅՈՒԹՅՈՒՆՆԵՐ
A23: 85121120-1 | B23: ամբուլատոր-բժշկական ծառայություններ | E23: ՄԱ | F23: դրամ | I23: ='3'!J43 -> -33173.3
A24: 1099 11007 | B24: Սպորտային բժշկության ծառայություններ | I24: =I26 -> -68012.6
B25: ՄԱՍ III. ԾԱՌԱՅՈՒԹՅՈՒՆՆԵՐ
A26: 85121120-1 | B26: ամբուլատոր-բժշկական ծառայություններ | E26: ՄԱ | F26: դրամ | I26: ='3'!J52 -> -68012.6
A27: Բաժին N 07 | B27: Խումբ N 02 | C27: Դաս N 03 | D27: Ստոմատոլոգիական ծառայություններ | I27: =+I28 -> -25000
A28: 1207 11002 | B28: Ստոմատոլոգիական բժշկական օգնության ծառայություններ | I28: =I30 -> -25000
B29: ՄԱՍ III. ԾԱՌԱՅՈՒԹՅՈՒՆՆԵՐ
A30: 85131100-1 | B30: ատամնաբուժական ծառայություններ | E30: ՄԱ | F30: դրամ | I30: ='3'!J89 -> -25000
A31: Բաժին 07 | B31: Խումբ 03 | C31: Դաս 01 | D31: Ընդհանուր բնույթի հիվանդանոցային ծառայություններ | I31: =+I32 -> -400000
A32: 1207 11001 | B32: Սոցիալապես անապահով և հատուկ խմբերում ընդգրկվածներին բժշկական օգնության ծառայություններ | I32: =I34 -> -400000
B33: ՄԱՍ III. ԾԱՌԱՅՈՒԹՅՈՒՆՆԵՐ
A34: 85111100-1 | B34: հիվանդանոցային ծառայություններ | E34: ՄԱ | F34: դրամ | I34: ='6'!F195 -> -400000
A35: Բաժին N 07 | B35: Խումբ N 03 | C35: Դաս N 03 | D35: Մոր և մանկան բժշկական ծառայություններ | I35: =+I36 -> -400000
A36: 1200 11003 | B36: Երեխաներին բժշկական օգնության ծառայություններ | I36: =I38 -> -400000
B37: ՄԱՍ III. ԾԱՌԱՅՈՒԹՅՈՒՆՆԵՐ
A38: 85111120-1 | B38: հիվանդանոցների կողմից մատուցվող բժշկական ծառայություններ | E38: ՄԱ | F38: դրամ | I38: ='6'!F150 -> -400000
A39: Բաժին 07 | B39: Խումբ 04 | C39: Դաս 01 | D39: Հանրային առողջապահական ծառայություններ | I39: =+I40+I43 -> 269000
A40: 1003 11008 | B40: Հայաստանի Հանրապետությունում կորոնավիրուսային վարակի (COVID) կանխարգելմանն ուղղված` պատվաստանյութի ձեռքբերման միջոցառումներ | I40: =I42 -> 309000
B41: ՄԱՍ I. ԱՊՐԱՆՔՆԵՐ
A42: 33691176-1 | B42: այլ դեղորայք | E42: ՀՄԱ | F42: հատ | G42: 124800 | H42: =I42/G42*1000 -> 2475.9615 | I42: 309000
A43: 1003 11005 | B43: Առողջ ապրելակերպի խթանման և ծխելու դեմ պայքարի միջոցառումներ | I43: =I45+I46 -> -40000
B44: ՄԱՍ III. ԾԱՌԱՅՈՒԹՅՈՒՆՆԵՐ
A45: 79821180-1 | B45: տպագրական և բաշխման ծառայություններ | E45: գհ | F45: դրամ | I45: ='3'!J162 -> -10000
A46: 79951100-1 | B46: միջոցառումների հետ կապված ծառայություններ | E46: գհ | F46: դրամ | I46: ='3'!J163 -> -30000
A47: Բաժին N 07 | B47: Խումբ N 06 | C47: Դաս N 01 | D47: Առողջապահական հարակից ծառայություններ և ծրագրեր | I47: =+I48+I51 -> -42916
A48: 1142 11002 | B48: Ախտաբանաանատոմիական հետազոտություններ | I48: =I50 -> -12916
B49: ՄԱՍ III. ԾԱՌԱՅՈՒԹՅՈՒՆՆԵՐ
A50: 85121120-1 | B50: ամբուլատոր-բժշկական ծառայություններ | E50: ՄԱ | F50: դրամ | I50: ='3'!J197 -> -12916
A51: 1191 11001 | B51: Խորհրդատվական, մասնագիտական աջակցություն և հետազոտություններ | I51: =I53 -> -30000
B52: ՄԱՍ III. ԾԱՌԱՅՈՒԹՅՈՒՆՆԵՐ
A53: 85141290-1 | B53: բժշկական վերլուծության ծառայություններ | E53: ՄԱ | F53: դրամ | I53: ='3'!J208 -> -30000
