Workbook
Name AgencyCode: #REF!
Name AgencyCode: #REF!
Name AgencyCode: #REF!
Name AgencyName: #REF!
Name AgencyName: #REF!
Name AgencyName: #REF!
Name åû: #REF!
Name åû: #REF!
Name åû: #REF!
Name Functional1: #REF!
Name Functional1: #REF!
Name Functional1: #REF!
Name mas: #REF!
Name mas: #REF!
Name mas: #REF!
Name mass: #REF!
Name mass: #REF!
Name mass: #REF!
Name PANature: #REF!
Name PANature: #REF!
Name PANature: #REF!
Name PAType: #REF!
Name PAType: #REF!
Name PAType: #REF!
Name Performance2: #REF!
Name Performance2: #REF!
Name Performance2: #REF!
Name PerformanceType: #REF!
Name PerformanceType: #REF!
Name PerformanceType: #REF!
Name x: #REF!
Name x: #REF!
Name x: #REF!

Sheet Hav_1
F1: Հավելված 1
F2: ՀՀ կառավարության 2021 թվականի
F3: ______________ ի ___Ն որոշման
A5: «ՀԱՅԱUՏԱՆԻ ՀԱՆՐԱՊԵՏՈՒԹՅԱՆ 2021 ԹՎԱԿԱՆԻ ՊԵՏԱԿԱՆ ԲՅՈՒՋԵԻ ՄԱUԻՆ» ՀԱՅԱUՏԱՆԻ ՀԱՆՐԱՊԵՏՈՒԹՅԱՆ OՐԵՆՔԻ N 1 ՀԱՎԵԼՎԱԾԻ N 2 ԱՂՅՈՒՍԱԿՈՒՄ ԿԱՏԱՐՎՈՂ ՎԵՐԱԲԱՇԽՈՒՄԸ ԵՎ ՀԱՅԱՍՏԱՆԻ ՀԱՆՐԱՊԵՏՈՒԹՅԱՆ ԿԱՌԱՎԱՐՈՒԹՅԱՆ 2020 ԹՎԱԿԱՆԻ ԴԵԿՏԵՄԲԵՐԻ 30-Ի N 2215-Ն ՈՐՈՇՄԱՆ N 5 ՀԱՎԵԼՎԱԾԻ N 1 ԱՂՅՈՒՍԱԿՈՒՄ ԿԱՏԱՐՎՈՂ ՓՈՓՈԽՈՒԹՅՈՒՆՆԵՐԸ ԵՎ ԼՐԱՑՈՒՄՆԵՐԸ
F6: (հազ. դրամ)
A7: Ծրագրային դասիչը | C7: Բյուջետային հատկացումների գլխավոր կարգադրիչների, ծրագրերի և միջոցառումների անվանումները | D7: Ցուցանիշների փոփոխությունը (ավելացումները նշված են դրական նշանով, իսկ նվազեցումները` փակագծերում)
A8: Ծրագիրը | B8: Միջոցառումը | D8: առաջին եռամսյակ | E8: առաջին կիսամյակ | F8: ինն ամիս | G8: տարի
C9: ԸՆԴԱՄԵՆԸ | D9: =D10+D25 -> 0 | E9: =E10+E25 -> 0 | F9: =F10+F25 -> 0 | G9: =G10+G25 -> 0
B10: ՀՀ կառավարություն | D10: =+D18 -> 0 | E10: =+E18 -> -173169.4 | F10: =+F18 -> -234228 | G10: =+G18 -> -234228
A11: 1139 | C11: Ծրագրի անվանումը
C12: ՀՀ կառավարության պահուստային ֆոնդ
C13: Ծրագրի նպատակը
C14: ՀՀ պետական բյուջեում չկանխատեսված, ինչպես նաեւ բյուջետային երաշխիքների ապահովման ծախսերի ֆինանսավորման ապահովում
C15: Վերջնական արդյունքի նկարագրությունը
C16: Պահուստային ֆոնդի կառավարման արդյունավետության և թափանցիկության ապահովում
C17: Ծրագրի միջոցառումներ
B18: 11001 | C18: Միջոցառման անվանումը | D18: 0 | E18: -173169.4 | F18: -234228 | G18: -234228
C19: ՀՀ կառավարության պահուստային ֆոնդ
C20: Միջոցառման նկարագրությունը
C21: ՀՀ պետական բյուջեում նախատեսված ելքերի լրացուցիչ ֆինանսավորման՝ պետական բյուջեում չկանխատեսված ելքերի՝ ինչպես նաև բյուջետային երաշխիքների ապահովման ելքերի ֆինանսավորման ապահովում
C22: Միջոցառման տեսակը
C23: Ծառայությունների մատուցում
B24: ՀՀ տարածքային կառավարման և ենթակառուցվածքների նախարարություն
A25: 1212 | C25: Ծրագրի անվանումը | D25: =D32+D38 -> 0 | E25: =E32+E38 -> 173169.4 | F25: =F32+F38 -> 234228 | G25: =G32+G38 -> 234228
C26: Տարածքային զարգացում
C27: Ծրագրի նպատակը
C28: Տարածքային համաչափ զարգացման խթանում
C29: Վերջնական արդյունքի նկարագրությունը
C30: ՀՀ համայնքների կառավարման արդյունավետության բարձրացում և տնտեսական գործունեության խթանում
C31: Ծրագրի միջոցառումներ
B32: 12013 | C32: Միջոցառման անվանումը | D32: 0 | E32: 122000 | F32: 161652 | G32: 161652
C33: Հրետակոծության հետևանքով հասցված վնասների փոխհատուցում
C34: Միջոցառման նկարագրությունը
C35: Հրետակոծության հետևանքով ՀՀ Տավուշի մարզի սահմանամերձ համայնքներին (բնակիչներին) հասցված վնասների փոխհատուցում
C36: Միջոցառման տեսակը
C37: Տրանսֆերտների տրամադրում
B38: 21001 | C38: Միջոցառման անվանումը | D38: 0 | E38: 51169.4 | F38: 72576 | G38: 72576
C39: Հրետակոծության հետևանքով հասցված վնասների վերականգնման աշխատանքներ
C40: Միջոցառման նկարագրությունը
C41: Հրետակոծությունից տուժած ՀՀ սահմանամերձ համայնքների բնակիչների բնակելի տների, շենք-շինությունների կենցաղային պայմանների բարելավում, աշակերտների համար ուսումնական պրոցեսի պայմանների բարելավում, կյանքի անվտանգության ապահովում, բնակելի տան և մանկական պուրակի կառուցում
...

Sheet Hav_2
I1: Հավելված 2
I2: ՀՀ կառավարության 2021 թվականի
I3: ______________ ի ___Ն որոշման
A5: ՀԱՅԱՍՏԱՆԻ ՀԱՆՐԱՊԵՏՈՒԹՅԱՆ ԿԱՌԱՎԱՐՈՒԹՅԱՆ 2020 ԹՎԱԿԱՆԻ ԴԵԿՏԵՄԲԵՐԻ 30-Ի N 2215-Ն ՈՐՈՇՄԱՆ N 3 ԵՎ N 4 ՀԱՎԵԼՎԱԾՆԵՐՈՒՄ ԿԱՏԱՐՎՈՂ ՓՈՓՈԽՈՒԹՅՈՒՆՆԵՐԸ ԵՎ ԼՐԱՑՈՒՄՆԵՐԸ
I6: (հազ. դրամ)
A7: Գործառական դասիչը | D7: Ծրագրային դասիչը | F7: Բյուջետային հատկացումների գլխավոր կարգադրիչների, ծրագրերի, միջոցառումների և միջոցառումները կատարող պետական մարմինների անվանումները | G7: Ցուցանիշների փոփոխությունը (ավելացումները նշված են դրական նշանով, իսկ նվազեցումները` փակագծերում)
A8: Բաժինը | B8: Խումբը | C8: Դասը | D8: Ծրագիրը | E8: Միջոցառումը | G8: առաջին եռամսյակ | H8: առաջին կիսամյակ | I8: ինն ամիս | J8: տարի
F9: ԸՆԴԱՄԵՆԸ | G9: =+G10+G25 -> 0 | H9: =+H10+H25 -> 0 | I9: =+I10+I25 -> 0 | J9: =+J10+J25 -> 0
A10: 11 | F10: ՀԻՄՆԱԿԱՆ ԲԱԺԻՆՆԵՐԻՆ ՉԴԱՍՎՈՂ ՊԱՀՈՒՍՏԱՅԻՆ ՖՈՆԴԵՐ | G10: =+G12 -> 0 | H10: =+H12 -> -173169.4 | I10: =+I12 -> -234228 | J10: =+J12 -> -234228
F11: այդ թվում`
B12: 01 | F12: ՀՀ կառավարության և համայնքների պահուստային ֆոնդ | G12: =+G14 -> 0 | H12: =+H14 -> -173169.4 | I12: =+I14 -> -234228 | J12: =+J14 -> -234228
F13: այդ թվում`
C14: 01 | F14: ՀՀ կառավարության պահուստային ֆոնդ | G14: =+G16 -> 0 | H14: =+H16 -> -173169.4 | I14: =+I16 -> -234228 | J14: =+J16 -> -234228
F15: այդ թվում`
F16: ՀՀ կառավարություն | G16: =+G17 -> 0 | H16: =+H17 -> -173169.4 | I16: =+I17 -> -234228 | J16: =+J17 -> -234228
D17: 1139 | E17: 11001 | F17: ՀՀ կառավարության պահուստային ֆոնդ | G17: =+G19 -> 0 | H17: =+H19 -> -173169.4 | I17: =+I19 -> -234228 | J17: =+J19 -> -234228
F18: այդ թվում` ըստ կատարողների
F19: ՀՀ կառավարություն | G19: =+G21 -> 0 | H19: =+H21 -> -173169.4 | I19: =+I21 -> -234228 | J19: =+J21 -> -234228
F20: այդ թվում` բյուջետային ծախսերի տնտեսագիտական դասակարգման հոդվածներ
F21: ԸՆԴԱՄԵՆԸ ԾԱԽՍԵՐ | G21: =+G22 -> 0 | H21: =+H22 -> -173169.4 | I21: =+I22 -> -234228 | J21: =+J22 -> -234228
F22: ԸՆԹԱՑԻԿ ԾԱԽՍԵՐ | G22: =+G23 -> 0 | H22: =+H23 -> -173169.4 | I22: =+I23 -> -234228 | J22: =+J23 -> -234228
F23: ԱՅԼ ԾԱԽՍԵՐ | G23: =+G24 -> 0 | H23: =+H24 -> -173169.4 | I23: =+I24 -> -234228 | J23: =+J24 -> -234228
F24: Պահուստային միջոցներ | G24: =-G25 -> 0 | H24: =-H25 -> -173169.4 | I24: =-I25 -> -234228 | J24: =-J25 -> -234228
A25: 01 | F25: ԸՆԴՀԱՆՈՒՐ ԲՆՈՒՅԹԻ ՀԱՆՐԱՅԻՆ ԾԱՌԱՅՈՒԹՅՈՒՆՆԵՐ | G25: =+G27 -> 0 | H25: =+H27 -> 173169.4 | I25: =+I27 -> 234228 | J25: =+J27 -> 234228
F26: այդ թվում`
B27: 08 | F27: Կառավարության տարբեր մակարդակների միջև իրականացվող ընդհանուր բնույթի տրանսֆերտներ | G27: =+G29 -> 0 | H27: =+H29 -> 173169.4 | I27: =+I29 -> 234228 | J27: =+J29 -> 234228
F28: այդ թվում`
C29: 01 | F29: Կառավարության տարբեր մակարդակների միջև իրականացվող ընդհանուր բնույթի տրանսֆերտներ | G29: =+G32 -> 0 | H29: =+H32 -> 173169.4 | I29: =+I32 -> 234228 | J29: =+J32 -> 234228
F30: այդ թվում`
F31: ՀՀ տարածքային կառավարման և ենթակառուցվածքների նախարարություն | G31: =G32 -> 0 | H31: =H32 -> 173169.4 | I31: =I32 -> 234228 | J31: =J32 -> 234228
D32: 1212 | F32: Տարածքային զարգացում | G32: =+G33+G42 -> 0 | H32: =+H33+H42 -> 173169.4 | I32: =+I33+I42 -> 234228 | J32: =+J33+J42 -> 234228
E33: 12013 | F33: Հրետակոծության հետևանքով հասցված վնասների փոխհատուցում | G33: =+G35 -> 0 | H33: =+H35 -> 122000 | I33: =+I35 -> 161652 | J33: =+J35 -> 161652
F34: այդ թվում` ըստ կատարողների
F35: ՀՀ Տավուշի մարզպետարան | G35: =+G37 -> 0 | H35: =+H37 -> 122000 | I35: =+I37 -> 161652 | J35: =+J37 -> 161652
F36: այդ թվում` բյուջետային ծախսերի տնտեսագիտական դասակարգման հոդվածներ
F37: ԸՆԴԱՄԵՆԸ՝ ԾԱԽՍԵՐ | G37: =+G38 -> 0 | H37: =+H38 -> 122000 | I37: =+I38 -> 161652 | J37: =+J38 -> 161652
F38: ԸՆԹԱՑԻԿ ԾԱԽՍԵՐ | G38: =+G40 -> 0 | H38: =+H40 -> 122000 | I38: =+I40 -> 161652 | J38: =+J40 -> 161652
F39: ԾԱՌԱՅՈՒԹՅՈՒՆՆԵՐԻ ԵՎ ԱՊՐԱՆՔՆԵՐԻ ՁԵՌՔ ԲԵՐՈՒՄ | G39: =G40 -> 0 | H39: =H40 -> 122000 | I39: =I40 -> 161652 | J39: =J40 -> 161652
F40: ԸՆԹԱՑԻԿ ՆՈՐՈԳՈՒՄ ԵՎ ՊԱՀՊԱՆՈՒՄ (ծառայություններ և նյութեր) | G40: =+G41 -> 0 | H40: =+H41 -> 122000 | I40: =+I41 -> 161652 | J40: =+J41 -> 161652
F41: - Շենքերի և կառույցների ընթացիկ նորոգում և պահպանում | G41: 0 | H41: 122000 | I41: 161652 | J41: 161652
...

Sheet Hav_3
H1: Հավելված 3
H2: ՀՀ կառավարության 2021 թվականի
H3: ______________ ի ___Ն որոշման
A4: «ՀԱՅԱՍՏԱՆԻ ՀԱՆՐԱՊԵՏՈՒԹՅԱՆ 2021 ԹՎԱԿԱՆԻ ՊԵՏԱԿԱՆ ԲՅՈՒՋԵԻ ՄԱՍԻՆ» ՀԱՅԱՍՏԱՆԻ ՀԱՆՐԱՊԵՏՈՒԹՅԱՆ ՕՐԵՆՔԻ N 1 ՀԱՎԵԼՎԱԾԻ N 3 ԱՂՅՈՒՍԱԿՈՒՄ ԿԱՏԱՐՎՈՂ ԼՐԱՑՈՒՄՆԵՐԸ
G5: (հազ. դրամ)
A6: Ծրագրային դասիչ | C6: Բյուջետային գլխավոր կարգադրիչների, ծրագրերի, միջոցառումների և ուղղությունների անվանումները | D6: Ցուցանիշների փոփոխությունը (ավելացումները նշված են դրական նշանով)
D7: Ընդամենը | E7: այդ թվում՝
A8: Ծրագիրը | B8: Միջոցառումը | E8: Կառուցման աշխատանքներ | F8: Վերակառուցման, վերանորոգման և վերականգնման աշխատանքներ | G8: Նախագծահե- տազոտական, գեոդեզիա- քարտեզագրա- կան աշխա- տանքներ | H8: Ոչ ֆինանսական այլ ակտիվների ձեռքբերում
C9: ԸՆԴԱՄԵՆԸ | D9: =+E9+F9+G9+H9 -> 72576 | E9: =E11 -> 72576 | F9: =F11 -> 0 | G9: =G11 -> 0 | H9: =H11 -> 0
C10: այդ թվում՝
C11: ՀՀ ՏԱՐԱԾՔԱՅԻՆ ԿԱՌԱՎԱՐՄԱՆ ԵՎ ԵՆԹԱԿԱՌՈՒՑՎԱԾՔՆԵՐԻ ՆԱԽԱՐԱՐՈՒԹՅՈՒՆ | D11: =+E11+F11+G11+H11 -> 72576 | E11: =+E13 -> 72576 | F11: =+F13 -> 0 | G11: =+G13 -> 0 | H11: =+H13 -> 0
C12: այդ թվում`
A13: 1212 | B13: 21001 | C13: Հրետակոծության հետևանքով հասցված վնասների վերականգնման աշխատանքներ | D13: =+E13+F13+G13+H13 -> 72576 | E13: =+E14+E15 -> 72576 | F13: =+F14+F15 -> 0 | G13: =+G14+G15 -> 0 | H13: =+H14+H15 -> 0
C14: «ՄԱՅՐԻԿ» մանկական պուրակ ՀՀ Տավուշի մարզի Ներքին Կարմիրաղբյուր գյուղում | D14: =+E14+F14+G14+H14 -> 42813.2 | E14: 42813.2 | F14: 0 | G14: 0 | H14: 0
C15: ՀՀ Տավուշի մարզի Բերդ համայնքի Չինարի գյուղում բնակելի տան, օժանդակ շինությունների կառուցման և տարածքի բարեկարգման աշխատանքներ | D15: =+E15+F15+G15+H15 -> 29762.8 | E15: 29762.8 | F15: 0 | G15: 0 | H15: 0

Sheet Hav_4
G1: Հավելված 4
G2: ՀՀ կառավարության 2021 թվականի
G3: ______________ ի ___Ն որոշման
A5: ՀԱՅԱՍՏԱՆԻ ՀԱՆՐԱՊԵՏՈՒԹՅԱՆ ԿԱՌԱՎԱՐՈՒԹՅԱՆ 2020 ԹՎԱԿԱՆԻ ԴԵԿՏԵՄԲԵՐԻ 30-Ի N 2215-Ն ՈՐՈՇՄԱՆ N 5 ՀԱՎԵԼՎԱԾԻ N 2 ԱՂՅՈՒՍԱԿՈՒՄ ԿԱՏԱՐՎՈՂ ԼՐԱՑՈՒՄՆԵՐԸ
F6: (հազ. դրամ)
A7: Ծրագրային դասիչը | C7: Բյուջետային գլխավոր կարգադրիչների, ծրագրերի, միջոցառումների և ուղղությունների անվանումները | D7: Ցուցանիշների փոփոխությունը (ավելացումները նշված են դրական նշանով)
A8: Ծրագիրը | B8: Միջոցառումը | D8: առաջին եռամսյակ | E8: առաջին կիսամյակ | F8: ինն ամիս | G8: տարի
C9: ԸՆԴԱՄԵՆԸ | D9: =D11 -> 0 | E9: =E11 -> 51169.4 | F9: =F11 -> 72576 | G9: =G11 -> 72576
C10: այդ թվում՝
C11: ՀՀ ՏԱՐԱԾՔԱՅԻՆ ԿԱՌԱՎԱՐՄԱՆ ԵՎ ԵՆԹԱԿԱՌՈՒՑՎԱԾՔՆԵՐԻ ՆԱԽԱՐԱՐՈՒԹՅՈՒՆ | D11: =+D13 -> 0 | E11: =+E13 -> 51169.4 | F11: =+F13 -> 72576 | G11: =+G13 -> 72576
C12: այդ թվում`
A13: 1212 | B13: 21001 | C13: Հրետակոծության հետևանքով հասցված վնասների վերականգնման աշխատանքներ | D13: =+D15 -> 0 | E13: =+E15 -> 51169.4 | F13: =+F15 -> 72576 | G13: =+G15 -> 72576
C14: այդ թվում` ըստ կատարողների
C15: ՀՀ Տավուշի մարզպետարան | D15: =+D17+D18 -> 0 | E15: =+E17+E18 -> 51169.4 | F15: =+F17+F18 -> 72576 | G15: =+G17+G18 -> 72576
C16: այդ թվում՝ ըստ ուղղությունների
C17: «ՄԱՅՐԻԿ» մանկական պուրակ ՀՀ Տավուշի մարզի Ներքին Կարմիրաղբյուր գյուղում | D17: 0 | E17: 21406.6 | F17: 42813.2 | G17: 42813.2
C18: ՀՀ Տավուշի մարզի Բերդ համայնքի Չինարի գյուղում բնակելի տան, օժանդակ շինությունների կառուցման և տարածքի բարեկարգման աշխատանքներ | D18: 0 | E18: 29762.8 | F18: 29762.8 | G18: 29762.8

Sheet Hav_5
F1: Հավելված 5
C2: ՀՀ կառավարության 2021 թվականի
F3: ______________ ի ___Ն որոշման
A7: ՀԱՅԱՍՏԱՆԻ ՀԱՆՐԱՊԵՏՈՒԹՅԱՆ ԿԱՌԱՎԱՐՈՒԹՅԱՆ 2020 ԹՎԱԿԱՆԻ ԴԵԿՏԵՄԲԵՐԻ 30-Ի N 2215-Ն ՈՐՈՇՄԱՆ N9 ՀԱՎԵԼՎԱԾԻ N 9.47 ԱՂՅՈՒՍԱԿՈՒՄ ԿԱՏԱՐՎՈՂ ՓՈՓՈԽՈՒԹՅՈՒՆՆԵՐԸ
A9: ՀՀ կառավարություն
A11: ՄԱՍ 2. ՊԵՏԱԿԱՆ ՄԱՐՄՆԻ ԳԾՈՎ ԱՐԴՅՈՒՆՔԱՅԻՆ (ԿԱՏԱՐՈՂԱԿԱՆ) ՑՈՒՑԱՆԻՇՆԵՐԸ
A13: Ծրագրի դասիչը | B13: Ծրագրի անվանումը
A14: 1139 | B14: ՀՀ կառավարության պահուստային ֆոնդ
A16: Ծրագրի միջոցառումները
A18: Ծրագրի դասիչը | B18: 1139 | C18: Ցուցանիշների փոփոխությունը (նվազեցումները նշված են փակագծերում)
A19: Միջոցառման դասիչը | B19: 11001 | C19: առաջին եռամսյակ | D19: առաջին կիսամյակ | E19: ինն ամիս | F19: տարի
A20: Միջոցառման անվանումը | B20: ՀՀ կառավարության պահուստային ֆոնդ
A21: Նկարագրությունը | B21: ՀՀ պետական բյուջեում նախատեսված ելքերի լրացուցիչ ֆինանսավորման՝ ՀՀ պետական բյուջեում չկանխատեսված ելքերի, ինչպես նաև բյուջետային երաշխիքների ապահովման ելքերի ֆինանսավորման ապահովում
A22: Միջոցառման տեսակը | B22: Ծառայությունների մատուցում
A23: Միջոցառումն իրականացնողի անվանումը | B23: ՀՀ կառավարություն
B24: Արդյունքի չափորոշիչներ
A25: Միջոցառման վրա կատարվող ծախսը (հազ. դրամ) | C25: 0 | D25: -173169.4 | E25: -234228 | F25: -234228
A27: ՀԱՅԱՍՏԱՆԻ ՀԱՆՐԱՊԵՏՈՒԹՅԱՆ ԿԱՌԱՎԱՐՈՒԹՅԱՆ 2020 ԹՎԱԿԱՆԻ ԴԵԿՏԵՄԲԵՐԻ 30-Ի N 2215-Ն ՈՐՈՇՄԱՆ N 9 ՀԱՎԵԼՎԱԾԻ N 9.8 ԱՂՅՈՒՍԱԿՈՒՄ ԿԱՏԱՐՎՈՂ ԼՐԱՑՈՒՄՆԵՐԸ
A29: ՀՀ տարածքային կառավարման և ենթակառուցվածքների նախարարություն
A31: ՄԱՍ 2. ՊԵՏԱԿԱՆ ՄԱՐՄՆԻ ԳԾՈՎ ԱՐԴՅՈՒՆՔԱՅԻՆ (ԿԱՏԱՐՈՂԱԿԱՆ) ՑՈՒՑԱՆԻՇՆԵՐԸ
A33: Ծրագրի դասիչը | B33: Ծրագրի անվանումը
A34: 1212 | B34: Տարածքային զարգացում
A36: Ծրագրի միջոցառումները
A38: Ծրագրի դասիչը | B38: 1212 | C38: Ցուցանիշների փոփոխությունը (ավելացումները նշված են դրական նշանով)
A39: Միջոցառման դասիչը | B39: 12013 | C39: առաջին եռամսյակ | D39: առաջին կիսամյակ | E39: ինն ամիս | F39: տարի
A40: Միջոցառման անվանումը | B40: Հրետակոծության հետևանքով հասցված վնասների փոխհատուցում
A41: Նկարագրությունը | B41: Հրետակոծության հետևանքով ՀՀ Տավուշի մարզի սահմանամերձ համայնքներին (բնակիչներին) հասցված վնասների փոխհատուցում
A42: Միջոցառման տեսակը | B42: Տրանսֆերտների տրամադրում
A43: Շահառուների ընտրության չափանիշները | B43: Հրետակոծության հետևանքով տուժած ՀՀ համայնքներ /բնակիչներ/
A44: Արդյունքի չափորոշիչներ
A45: Բնակավայրերի քանակ, հատ | D45: 3 | E45: 3 | F45: 3
A46: Վերականգնվող տների թիվը, հատ | D46: 89 | E46: 89 | F46: 89
A47: Միջոցառման վրա կատարվող ծախսը (հազ. դրամ) | C47: 0 | D47: 122000 | E47: 161652 | F47: 161652
A49: Ծրագրի դասիչը | B49: 1212 | C49: Ցուցանիշների փոփոխությունը (ավելացումները նշված են դրական նշանով)
A50: Միջոցառման դասիչը | B50: 21001 | C50: առաջին եռամսյակ | D50: առաջին կիսամյակ | E50: ինն ամիս | F50: տարի
A51: Միջոցառման անվանումը | B51: Հրետակոծության հետևանքով հասցված վնասների վերականգնման աշխատանքներ
A52: Նկարագրությունը | B52: Հրետակոծությունից տուժած ՀՀ սահմանամերձ համայնքների բնակիչների բնակելի տների, շենք-շինությունների կենցաղային պայմանների բարելավում, աշակերտների համար ուսումնական պրոցեսի պայմանների բարելավում, կյանքի անվտանգության ապահովում, բնակելի տան և մանկական պուրակի կառուցում
A53: Միջոցառման տեսակը | B53: Հանրության կողմից անմիջականորեն օգտագործվող ակտիվների հետ կապված միջոցառումներ
A54: Շահառուների ընտրության չափանիշները | B54: Հրետակոծության հետևանքով տուժած ՀՀ համայնքներ /բնակիչներ/
A55: Արդյունքի չափորոշիչներ
...

Sheet Hav_6
F2: Հավելված 6
F3: ՀՀ կառավարության 2021 թվականի
C4: ______________ ի ___Ն որոշման
A6: ՀԱՅԱՍՏԱՆԻ ՀԱՆՐԱՊԵՏՈՒԹՅԱՆ ԿԱՌԱՎԱՐՈՒԹՅԱՆ 2020 ԹՎԱԿԱՆԻ ԴԵԿՏԵՄԲԵՐԻ 30-Ի N 2215-Ն ՈՐՈՇՄԱՆ N9.1 ՀԱՎԵԼՎԱԾԻ 9.1.58 ԱՂՅՈՒՍԱԿՈՒՄ ԿԱՏԱՐՎՈՂ ՓՈՓՈԽՈՒԹՅՈՒՆՆԵՐԸ
A8: ՀՀ կառավարություն
A10: ՄԱՍ 1. ՊԵՏԱԿԱՆ ՄԱՐՄՆԻ ԳԾՈՎ ԱՐԴՅՈՒՆՔԱՅԻՆ (ԿԱՏԱՐՈՂԱԿԱՆ) ՑՈՒՑԱՆԻՇՆԵՐԸ
A13: Ծրագրի դասիչը | B13: Ծրագրի անվանումը
A14: 1139 | B14: ՀՀ կառավարության պահուստային ֆոնդ
A16: Ծրագրի միջոցառումները
A18: Ծրագրի դասիչը | B18: 1139 | C18: Ցուցանիշների փոփոխությունը (նվազեցումները նշված են փակագծերում)
A19: Միջոցառման դասիչը | B19: 11001 | C19: առաջին եռամսյակ | D19: առաջին կիսամյակ | E19: ինն ամիս | F19: տարի
A20: Միջոցառման անվանումը | B20: ՀՀ կառավարության պահուստային ֆոնդ
A21: Նկարագրությունը | B21: ՀՀ պետական բյուջեում նախատեսված ելքերի լրացուցիչ ֆինանսավորման՝ ՀՀ պետական բյուջեում չկանխատեսված ելքերի՝ ինչպես նաև բյուջետային երաշխիքների ապահովման ելքերի ֆինանսավորման ապահովում
A22: Միջոցառման տեսակը | B22: Ծառայությունների մատուցում
A23: Միջոցառումն իրականացնողի անվանումը | B23: ՀՀ կառավարություն
B24: Արդյունքի չափորոշիչներ
A25: Միջոցառման վրա կատարվող ծախսը (հազ. դրամ) | C25: 0 | D25: -173169.4 | E25: -234228 | F25: -234228
A28: ՀԱՅԱՍՏԱՆԻ ՀԱՆՐԱՊԵՏՈՒԹՅԱՆ ԿԱՌԱՎԱՐՈՒԹՅԱՆ 2020 ԹՎԱԿԱՆԻ ԴԵԿՏԵՄԲԵՐԻ 30-Ի N 2215-Ն ՈՐՈՇՄԱՆ N 9.1 ՀԱՎԵԼՎԱԾԻ N 9.1.57 ԱՂՅՈՒՍԱԿՈՒՄ ԿԱՏԱՐՎՈՂ ԼՐԱՑՈՒՄՆԵՐԸ
A30: ՀՀ Տավուշի մարզպետարան
A32: ՄԱՍ 1. ՊԵՏԱԿԱՆ ՄԱՐՄՆԻ ԳԾՈՎ ԱՐԴՅՈՒՆՔԱՅԻՆ (ԿԱՏԱՐՈՂԱԿԱՆ) ՑՈՒՑԱՆԻՇՆԵՐԸ
A34: Ծրագրի դասիչը | B34: Ծրագրի անվանումը
A35: 1212 | B35: Տարածքային զարգացում
A37: Ծրագրի միջոցառումները
A39: Ծրագրի դասիչը | B39: 1212 | C39: Ցուցանիշների փոփոխությունը (ավելացումները նշված են դրական նշանով)
A40: Միջոցառման դասիչը | B40: 12013 | C40: առաջին եռամսյակ | D40: առաջին կիսամյակ | E40: ինն ամիս | F40: տարի
A41: Միջոցառման անվանումը | B41: Հրետակոծության հետևանքով հասցված վնասների փոխհատուցում
A42: Նկարագրությունը | B42: Հրետակոծության հետևանքով ՀՀ Տավուշի մարզի սահմանամերձ համայնքներին (բնակիչներին) հասցված վնասների փոխհատուցում
A43: Միջոցառման տեսակը | B43: Տրանսֆերտների տրամադրում
A44: Շահառուների ընտրության չափանիշները | B44: Հրետակոծության հետևանքով տուժած ՀՀ համայնքներ /բնակիչներ/
A45: Արդյունքի չափորոշիչներ
A46: Բնակավայրերի քանակ, հատ | D46: 3 | E46: 3 | F46: 3
A47: Վերականգնվող տների թիվը, հատ | D47: 89 | E47: 89 | F47: 89
A48: Միջոցառման վրա կատարվող ծախսը (հազար դրամ) | C48: =+Hav_5!C47 -> 0 | D48: =+Hav_5!D47 -> 122000 | E48: =+Hav_5!E47 -> 161652 | F48: =+Hav_5!F47 -> 161652
A49: Ծրագրի դասիչը` | B49: 1212 | C49: Ցուցանիշների փոփոխությունը (ավելացումները նշված են դրական նշանով)
A50: Միջոցառման դասիչը` | B50: 21001 | C50: առաջին եռամսյակ | D50: առաջին կիսամյակ | E50: ինն ամիս | F50: տարի
A51: Միջոցառման անվանումը` | B51: Հրետակոծության հետևանքով հասցված վնասների վերականգնման աշխատանքներ
A52: Նկարագրությունը` | B52: Հրետակոծությունից տուժած ՀՀ սահմանամերձ համայնքների բնակիչների բնակելի տների, շենք-շինությունների կենցաղային պայմանների բարելավում, աշակերտների համար ուսումնական պրոցեսի պայմանների բարելավում, կյանքի անվտանգության ապահովում, բնակելի տան և մանկական պուրակի կառուցում
A53: Միջոցառման տեսակը` | B53: Հանրության կողմից անմիջականորեն օգտագործվող ակտիվների հետ կապված միջոցառումներ
A54: Շահառուների ընտրության չափանիշները` | B54: Հրետակոծության հետևանքով տուժած ՀՀ համայնքներ /բնակիչներ/
A55: Արդյունքի չափորոշիչներ
...
