Workbook

Sheet 1
G1: Հավելված N 1
C2: ՀՀ կառավարության 2021 թվականի
C3: -ի N -Ն որոշման
A5: «ՀԱՅԱՍՏԱՆԻ ՀԱՆՐԱՊԵՏՈՒԹՅԱՆ 2021 ԹՎԱԿԱՆԻ ՊԵՏԱԿԱՆ ԲՅՈՒՋԵԻ ՄԱՍԻՆ» ՀՀ ՕՐԵՆՔԻ N 1 ՀԱՎԵԼՎԱԾԻ N 2 ԱՂՅՈՒՍԱԿՈՒՄ ԿԱՏԱՐՎՈՂ ՎԵՐԱԲԱՇԽՈՒՄԸ ԵՎ ՀԱՅԱՍՏԱՆԻ ՀԱՆՐԱՊԵՏՈՒԹՅԱՆ ԿԱՌԱՎԱՐՈՒԹՅԱՆ 2020 ԹՎԱԿԱՆԻ ԴԵԿՏԵՄԲԵՐԻ 30-Ի N 2215-Ն ՈՐՈՇՄԱՆ N 5 ՀԱՎԵԼՎԱԾԻ N 1 ԱՂՅՈՒՍԱԿՈՒՄ ԿԱՏԱՐՎՈՂ ՓՈՓՈԽՈՒԹՅՈՒՆՆԵՐԸ
G6: հազար դրամներով
A7: Ծրագրային դասիչը | C7: Բյուջետային գլխավոր կարգադրիչների, ծրագրերի և միջոցառումների անվանումները | D7: Ցուցանիշների փոփոխությունը (ավելացումները նշված են դրական նշանով, իսկ նվազեցումները` փակագծերում)
A8: Ծրագիր | B8: Միջոցա ռում | D8: Առաջին եռամսյակ | E8: Առաջին կիսամյակ | F8: Ինն ամիս | G8: Տարի
C9: ԸՆԴԱՄԵՆԸ | D9: =+D10 -> 0 | E9: =+E10 -> 0 | F9: =+F10 -> 0 | G9: =+G10 -> 0
C10: ՀՀ տարածքային կառավարման և ենթակառուցվածքների նախարարություն | D10: =+D11+D24 -> 0 | E10: =+E11+E24 -> 0 | F10: =+F11+F24 -> 0 | G10: =+G11+G24 -> 0
A11: 1019 | C11: Ծրագրի անվանումը` | D11: =+D18 -> 361381 | E11: =+E18 -> 361381 | F11: =+F18 -> 361381 | G11: =+G18 -> 361381
C12: Սոցիալական ներդրումների և տեղական զարգացման ծրագիր
C13: Ծրագրի նպատակը`
C14: Նպաստել տարածքներում բնակչության նյութական և ոչ նյութական բարեկեցության աճին
C15: Վերջնական արդյունքի նկարագրությունը`
C16: Համայնքային և միջհամայնքային ենթակառուցվածքների և որակի հասանելիության բարելավում, ինստիտուցիոնալ և ֆինանասական կարողությունների հզորացում
A17: Ծրագրի միջոցառումներ | C17: Ծրագրի միջոցառումներ
B18: 12001 | C18: Միջոցառման անվանումը` | D18: =+'3'!M17 -> 361381 | E18: =D18 -> 361381 | F18: =E18 -> 361381 | G18: =F18 -> 361381
C19: Համաշխարհային բանկի աջակցությամբ իրականացվող Տարածքային զարգացման հիմնադրամի ծրագրի շրջանակներում ՀՀ տարածքներում ջրագծերի, առողջապահության, կրթության, մշակույթի, հատուկ խնամքի և ենթակառուցվածքների ոլորտի վերականգնման և շինարարության աշխատանքներ
C20: Միջոցառման նկարագրությունը`
C21: Տարածքային զարգացման հիմնադրամի ծրագրով նախատեսված ՀՀ տարածքներում ջրագծերի, առողջապահության, կրթության օբյեկտների, մշակույթային տների, ծերանոցների, մանկատների, հատուկ դպրոցների, մանկապարտեզների և կոյուղու օբյեկտների հիմնանորոգում և շինարարություն
C22: Միջոցառման տեսակը
C23: Տրանսֆերտների տրամադրում
A24: 1189 | C24: Ծրագրի անվանումը` | D24: =D31 -> -361381 | E24: =D24 -> -361381 | F24: =E24 -> -361381 | G24: =F24 -> -361381
C25: Դպրոցների սեյսմիկ անվտանգության մակարդակի բարձրացման ծրագիր
C26: Ծրագրի նպատակը`
C27: Նպաստել երկրի սեյսմակայունության ապահովմանը« անհատական և հասարակական անվտանգության մակարդակի բարձրացմանը
C28: Վերջնական արդյունքի նկարագրությունը`
C29: Դպրոցական շենքերի սեյսմակայունության մակարդակի բարձրացում
A30: Ծրագրի միջոցառումներ
B31: 12001 | C31: Միջոցառման անվանումը՝ | D31: =+'3'!M25 -> -361381 | E31: =D31 -> -361381 | F31: =E31 -> -361381 | G31: =F31 -> -361381
C32: Ասիական զարգացման բանկի աջակցությամբ իրականացվող դպրոցների սեյսմիկ պաշտպանության ծրագրի շրջանակներում ՀՀ դպրոցների սեյսմիկ անվտանգության բարելավմանն ուղղված միջոցառումներ
C33: Միջոցառման նկարագրությունը`
C34: Դպրոցների շենքերի ամրացման շինարարական աշխատանքներ, շինարարական ստանդարտների արդիականացում, արտակարգ իրավիճակներին արձագանքման ծրագրի մշակում, սեյսմիկ մոնիտորինգի դիտակետերի սարքավորումների արդիականացում:
C35: Միջոցառման տեսակը՝
C36: Տրանսֆերտների տրամադրում

Sheet 2
J1: Հավելված N 2
F2: ՀՀ կառավարության 2021 թվականի
F3: -ի N -Ն որոշման
A5: ՀԱՅԱՍՏԱՆԻ ՀԱՆՐԱՊԵՏՈՒԹՅԱՆ ԿԱՌԱՎԱՐՈՒԹՅԱՆ 2020 ԹՎԱԿԱՆԻ ԴԵԿՏԵՄԲԵՐԻ 30-Ի N 2215-Ն ՈՐՈՇՄԱՆ N 3 ԵՎ N 4 ՀԱՎԵԼՎԱԾՆԵՐՈՒՄ ԿԱՏԱՐՎՈՂ ՓՈՓՈԽՈՒԹՅՈՒՆՆԵՐԸ
J7: հազար դրամներով
A8: Գործառական դասիչը | D8: Ծրագրային դասիչը | F8: Բյուջետային ծախսերի գործառական դասակարգման բաժինների, խմբերի և դասերի, բյուջետային ծրագրերի միջոցառումների, բյուջետային հատկացումների գլխավոր կարգադրիչների անվանումները | G8: Ցուցանիշների փոփոխությունը (ավելացումները նշված են դրական նշանով, իսկ նվազեցումները` փակագծերում)
A9: Բաժին | B9: Խումբ | C9: Դաս | D9: Ծրագիր | E9: Միջոցա ռում | G9: Առաջին եռամսյակ | H9: Առաջին կիսամյակ | I9: Ինն ամիս | J9: Տարի
F10: ԸՆԴԱՄԵՆԸ | G10: =+G12+G35 -> 0
F11: այդ թվում`
A12: 04 | F12: ՏՆՏԵՍԱԿԱՆ ՀԱՐԱԲԵՐՈՒԹՅՈՒՆՆԵՐ | G12: =+G14 -> 361381 | H12: =+H14 -> 361381 | I12: =+I14 -> 361381 | J12: =+J14 -> 361381
F13: այդ թվում`
B14: 09 | F14: Տնտեսական հարաբերություններ (այլ դասերին չպատկանող) | G14: =+G16 -> 361381 | H14: =+H16 -> 361381 | I14: =+I16 -> 361381 | J14: =+J16 -> 361381
F15: այդ թվում`
C16: 01 | F16: Տնտեսական հարաբերություններ (այլ դասերին չպատկանող) | G16: =+G18 -> 361381 | H16: =+H18 -> 361381 | I16: =+I18 -> 361381 | J16: =+J18 -> 361381
F17: այդ թվում`
D18: 1019 | F18: Սոցիալական ներդրումների և տեղական զարգացման ծրագիր | G18: =+G20 -> 361381 | H18: =+H20 -> 361381 | I18: =+I20 -> 361381 | J18: =+J20 -> 361381
F19: այդ թվում`
E20: 12001 | F20: Համաշխարհային բանկի աջակցությամբ իրականացվող Տարածքային զարգացման հիմնադրամի ծրագրի շրջանակներում ՀՀ տարածքներում ջրագծերի, առողջապահության, կրթության, մշակույթի, հատուկ խնամքի և ենթակառուցվածքների ոլորտի վերականգնման և շինարարության աշխատանքներ | G20: =+G22 -> 361381 | H20: =+H22 -> 361381 | I20: =+I22 -> 361381 | J20: =+J22 -> 361381
F21: այդ թվում` ըստ կատարողների
F22: ՀՀ տարածքային կառավարման և ենթակառուցվածքների նախարարություն | G22: =+G24 -> 361381 | H22: =+H24 -> 361381 | I22: =+I24 -> 361381 | J22: =+J24 -> 361381
F23: այդ թվում` բյուջետային ծախսերի տնտեսագիտական դասակարգման հոդվածներ
F24: ԸՆԴԱՄԵՆԸ ԾԱԽՍԵՐ | G24: =+G25 -> 361381 | H24: =+H25 -> 361381 | I24: =+I25 -> 361381 | J24: =+J25 -> 361381
F25: ՈՉ ՖԻՆԱՆՍԱԿԱՆ ԱԿՏԻՎՆԵՐԻ ԳԾՈՎ ԾԱԽՍԵՐ | G25: =+G26 -> 361381 | H25: =+H26 -> 361381 | I25: =+I26 -> 361381 | J25: =+J26 -> 361381
F26: ՀԻՄՆԱԿԱՆ ՄԻՋՈՑՆԵՐ | G26: =G27 -> 361381 | H26: =H27 -> 361381 | I26: =I27 -> 361381 | J26: =J27 -> 361381
F27: ՄԵՔԵՆԱՆԵՐ ԵՎ ՍԱՐՔԱՎՈՐՈՒՄՆԵՐ | G27: =+G28 -> 361381 | H27: =+H28 -> 361381 | I27: =+I28 -> 361381 | J27: =+J28 -> 361381
F28: - Վարչական սարքավորումներ | G28: =+'3'!M22 -> 361381 | H28: =G28 -> 361381 | I28: =H28 -> 361381 | J28: =I28 -> 361381
A29: 09 | F29: ԿՐԹՈՒԹՅՈՒՆ | G29: =+G31 -> -361381 | H29: =+H31 -> -361381 | I29: =+I31 -> -361381 | J29: =+J31 -> -361381
F30: այդ թվում`
B31: 06 | F31: Կրթությանը տրամադրվող օժանդակ ծառայություններ | G31: =+G33 -> -361381 | H31: =+H33 -> -361381 | I31: =+I33 -> -361381 | J31: =+J33 -> -361381
F32: այդ թվում`
C33: 01 | F33: Կրթությանը տրամադրվող օժանդակ ծառայություններ | G33: =+G35 -> -361381 | H33: =+H35 -> -361381 | I33: =+I35 -> -361381 | J33: =+J35 -> -361381
F34: այդ թվում`
D35: 1189 | F35: ='3'!C23 -> Դպրոցների սեյսմիկ անվտանգության մակարդակի բարձրացման ծրագիր | G35: =+G37 -> -361381 | H35: =+H37 -> -361381 | I35: =+I37 -> -361381 | J35: =+J37 -> -361381
F36: այդ թվում`
E37: 12001 | F37: ='3'!C25 -> Ասիական զարգացման բանկի աջակցությամբ իրականացվող դպրոցների սեյսմիկ պաշտպանության ծրագրի շրջանակներում ՀՀ դպրոցների սեյսմիկ անվտանգության բարելավմանն ուղղված միջոցառումներ | G37: =G39 -> -361381 | H37: =H39 -> -361381 | I37: =I39 -> -361381 | J37: =J39 -> -361381
F38: այդ թվում` ըստ կատարողների
F39: ՀՀ տարածքային կառավարման և ենթակառուցվածքների նախարարություն | G39: =G43 -> -361381 | H39: =H43 -> -361381 | I39: =I43 -> -361381 | J39: =J43 -> -361381
F40: այդ թվում` բյուջետային ծախսերի տնտեսագիտական դասակարգման հոդվածներ
F41: ՈՉ ՖԻՆԱՆՍԱԿԱՆ ԱԿՏԻՎՆԵՐԻ ԳԾՈՎ ԾԱԽՍԵՐ | G41: =+G42 -> -361381 | H41: =+H42 -> -361381 | I41: =+I42 -> -361381 | J41: =+J42 -> -361381
F42: ՀԻՄՆԱԿԱՆ ՄԻՋՈՑՆԵՐ | G42: =+G43 -> -361381 | H42: =+H43 -> -361381 | I42: =+I43 -> -361381 | J42: =+J43 -> -361381
...

Sheet 3
O1: Հավելված 3
O2: ՀՀ կառավարության 2021 թվականի
O3: ______________ ի ___Ն որոշման
A5: «ՀԱՅԱՍՏԱՆԻ ՀԱՆՐԱՊԵՏՈՒԹՅԱՆ 2021 ԹՎԱԿԱՆԻ ՊԵՏԱԿԱՆ ԲՅՈՒՋԵԻ ՄԱՍԻՆ» ՀԱՅԱՍՏԱՆԻ ՀԱՆՐԱՊԵՏՈՒԹՅԱՆ ՕՐԵՆՔԻ N 1 ՀԱՎԵԼՎԱԾԻ N 4 ԱՂՅՈՒՍԱԿՈՒՄ ԵՎ ՀԱՅԱՍՏԱՆԻ ՀԱՆՐԱՊԵՏՈՒԹՅԱՆ ԿԱՌԱՎԱՐՈՒԹՅԱՆ 2020 ԹՎԱԿԱՆԻ ԴԵԿՏԵՄԲԵՐԻ 30-Ի N 2215-Ն ՈՐՈՇՄԱՆ N5 ՀԱՎԵԼՎԱԾԻ N 3 ԱՂՅՈՒՍԱԿՈՒՄ ԿԱՏԱՐՎՈՂ ՓՈՓՈԽՈՒԹՅՈՒՆՆԵՐԸ
O7: հազար դրամներով
A8: Ծրագրային դասիչը | C8: Բյուջետային հատկացումների գլխավոր կարգադրիչների, ծրագրերի, միջոցառումների և միջոցառումները կատարող պետական մարմինների անվանումները | D8: Ցուցանիշների փոփոխությունը (ավելացումները նշված են դրական նշանով, իսկ նվազեցումները` փակագծերում)
D9: Առաջին եռամսյակ | G9: Առաջին կիսամյակ | J9: Ինն ամիս | M9: Տարի
A10: ծրագիրը | B10: միջոցառումը | D10: ընդամենը | E10: այդ թվում՝ | G10: ընդամենը | H10: այդ թվում՝ | J10: ընդամենը | K10: այդ թվում՝ | M10: ընդամենը | N10: այդ թվում՝
E11: վարկային միջոցներ | F11: համաֆինան_x000D_ սավորում | H11: վարկային միջոցներ | I11: համաֆինան_x000D_ սավորում | K11: վարկային միջոցներ | L11: համաֆինան_x000D_ սավորում | N11: վարկային միջոցներ | O11: համաֆինան_x000D_ սավորում
C12: ԸՆԴԱՄԵՆԸ այդ թվում` | D12: =+D14 -> 0 | E12: =+E14 -> 0 | F12: =+F14 -> 0 | G12: =+G14 -> 0 | H12: =+H14 -> 0 | I12: =+I14 -> 0 | J12: =+J14 -> 0 | K12: =+K14 -> 0 | ... O12: =+O14 -> 0
C13: - ՈՉ ՖԻՆԱՆՍԱԿԱՆ ԱԿՏԻՎՆԵՐԻ ԳԾՈՎ ԾԱԽՍԵՐ | D13: =D21+D29 -> 0 | E13: =E21+E29 -> 0 | F13: =F21+F29 -> 0 | G13: =G21+G29 -> 0 | H13: =H21+H29 -> 0 | I13: =I21+I29 -> 0 | J13: =J21+J29 -> 0 | K13: =K21+K29 -> 0 | ... O13: =O21+O29 -> 0
C14: ՀՀ ՏԱՐԱԾՔԱՅԻՆ ԿԱՌԱՎԱՐՄԱՆ ԵՎ ԵՆԹԱԿԱՌՈՒՑՎԱԾՔՆԵՐԻ ՆԱԽԱՐԱՐՈՒԹՅՈՒՆ այդ թվում` | D14: =D15+D23 -> 0 | E14: =E15+E23 -> 0 | F14: =F15+F23 -> 0 | G14: =G15+G23 -> 0 | H14: =H15+H23 -> 0 | I14: =I15+I23 -> 0 | J14: =J15+J23 -> 0 | K14: =K15+K23 -> 0 | ... O14: =O15+O23 -> 0
A15: 1019 | C15: Սոցիալական ներդրումների և տեղական զարգացման ծրագիր | D15: =D17 -> 361381 | E15: =E17 -> 285219 | F15: =F17 -> 76162 | G15: =G17 -> 361381 | H15: =H17 -> 285219 | I15: =I17 -> 76162 | J15: =J17 -> 361381 | K15: =K17 -> 285219 | ... O15: =O17 -> 76162
C16: այդ թվում`
B17: 12001 | C17: Համաշխարհային բանկի աջակցությամբ իրականացվող Տարածքային զարգացման հիմնադրամի ծրագրի շրջանակներում ՀՀ տարածքներում ջրագծերի, առողջապահության, կրթության, մշակույթի, հատուկ խնամքի և ենթակառուցվածքների ոլորտի վերականգնման և շինարարության_x000D_ աշխատանքներ | D17: =D21 -> 361381 | E17: =E21 -> 285219 | F17: =F21 -> 76162 | G17: =G21 -> 361381 | H17: =H21 -> 285219 | I17: =I21 -> 76162 | J17: =J21 -> 361381 | K17: =K21 -> 285219 | ... O17: =O21 -> 76162
C18: այդ թվում` ըստ կատարողների
C19: ՀՀ տարածքային կառավարման և ենթակառուցվածքների նախարարություն | D19: =D17 -> 361381 | E19: =E17 -> 285219 | F19: =F17 -> 76162 | G19: =G17 -> 361381 | H19: =H17 -> 285219 | I19: =I17 -> 76162 | J19: =J17 -> 361381 | K19: =K17 -> 285219 | ... O19: =O17 -> 76162
C20: այդ թվում` բյուջետային ծախսերի տնտեսագիտական դասակարգման հոդվածներ
C21: ՈՉ ՖԻՆԱՆՍԱԿԱՆ ԱԿՏԻՎՆԵՐԻ ԳԾՈՎ ԾԱԽՍԵՐ | D21: =E21+F21 -> 361381 | E21: =E22 -> 285219 | F21: =F22 -> 76162 | G21: =H21+I21 -> 361381 | H21: =H22 -> 285219 | I21: =I22 -> 76162 | J21: =K21+L21 -> 361381 | K21: =K22 -> 285219 | L21: =L22 -> 76162 | M21: =N21+O21 -> 361381 | N21: =N22 -> 285219 | O21: =O22 -> 76162
C22: - Վարչական սարքավորումներ | D22: =E22+F22 -> 361381 | E22: =-E30 -> 285219 | F22: =-F30 -> 76162 | G22: =H22+I22 -> 361381 | H22: =-H30 -> 285219 | I22: =-I30 -> 76162 | J22: =K22+L22 -> 361381 | K22: =-K30 -> 285219 | L22: =-L30 -> 76162 | M22: =N22+O22 -> 361381 | N22: =-N30 -> 285219 | O22: =-O30 -> 76162
A23: 1189 | C23: Դպրոցների սեյսմիկ անվտանգության մակարդակի բարձրացման ծրագիր | D23: =D25 -> -361381 | E23: =E25 -> -285219 | F23: =F25 -> -76162 | G23: =G25 -> -361381 | H23: =H25 -> -285219 | I23: =I25 -> -76162 | J23: =J25 -> -361381 | K23: =K25 -> -285219 | ... O23: =O25 -> -76162
C24: այդ թվում`
B25: 12001 | C25: Ասիական զարգացման բանկի աջակցությամբ իրականացվող դպրոցների սեյսմիկ պաշտպանության ծրագրի շրջանակներում ՀՀ դպրոցների սեյսմիկ անվտանգության բարելավմանն ուղղված միջոցառումներ | D25: =+E25+F25 -> -361381 | E25: =+E29 -> -285219 | F25: =+F29 -> -76162 | G25: =+H25+I25 -> -361381 | H25: =+H29 -> -285219 | I25: =+I29 -> -76162 | J25: =+K25+L25 -> -361381 | K25: =+K29 -> -285219 | L25: =+L29 -> -76162 | M25: =+N25+O25 -> -361381 | N25: =+N29 -> -285219 | O25: =+O29 -> -76162
C26: այդ թվում` ըստ կատարողների
C27: ՀՀ տարածքային կառավարման և ենթակառուցվածքների նախարարություն | D27: =E27+F27 -> -361381 | E27: =E25 -> -285219 | F27: =F25 -> -76162 | G27: =H27+I27 -> -361381 | H27: =H25 -> -285219 | I27: =I25 -> -76162 | J27: =K27+L27 -> -361381 | K27: =K25 -> -285219 | L27: =L25 -> -76162 | M27: =N27+O27 -> -361381 | N27: =N25 -> -285219 | O27: =O25 -> -76162
C28: այդ թվում` բյուջետային ծախսերի տնտեսագիտական դասակարգման հոդվածներ
C29: ՈՉ ՖԻՆԱՆՍԱԿԱՆ ԱԿՏԻՎՆԵՐԻ ԳԾՈՎ ԾԱԽՍԵՐ | D29: =E29+F29 -> -361381 | E29: =+E30 -> -285219 | F29: =+F30 -> -76162 | G29: =H29+I29 -> -361381 | H29: =+H30 -> -285219 | I29: =+I30 -> -76162 | J29: =K29+L29 -> -361381 | K29: =+K30 -> -285219 | L29: =+L30 -> -76162 | M29: =N29+O29 -> -361381 | N29: =+N30 -> -285219 | O29: =+O30 -> -76162
C30: - Շենքերի և շինությունների շինարարություն | D30: =+E30+F30 -> -361381 | E30: -285219 | F30: -76162 | G30: =+H30+I30 -> -361381 | H30: -285219 | I30: -76162 | J30: =+K30+L30 -> -361381 | K30: -285219 | L30: -76162 | M30: =+N30+O30 -> -361381 | N30: -285219 | O30: -76162

Sheet 4-1
F1: Հավելված N 4
F2: Աղյուսակ N 1
E3: ՀՀ կառավարության 2021 թվականի
E4: -ի N -Ն որոշման
A6: ՀԱՅԱՍՏԱՆԻ ՀԱՆՐԱՊԵՏՈՒԹՅԱՆ ԿԱՌԱՎԱՐՈՒԹՅԱՆ 2020 ԹՎԱԿԱՆԻ ԴԵԿՏԵՄԲԵՐԻ 30-Ի N 2215-Ն ՈՐՈՇՄԱՆ N 9 ՀԱՎԵԼՎԱԾԻ N 9.8 ԱՂՅՈՒՍԱԿՈՒՄ ԿԱՏԱՐՎՈՂ ՓՈՓՈԽՈՒԹՅՈՒՆՆԵՐԸ
F8: Աղյուսակ 9.8
A9: ՀՀ տարածքային կառավարման և ենթակառուցվածքների նախարարություն
A10: ՄԱՍ 2. ՊԵՏԱԿԱՆ ՄԱՐՄՆԻ ԳԾՈՎ ԱՐԴՅՈՒՆՔԱՅԻՆ (ԿԱՏԱՐՈՂԱԿԱՆ) ՑՈՒՑԱՆԻՇՆԵՐԸ
A11: Ծրագրի դասիչը | B11: Ծրագրի անվանումը
A12: 1019 | B12: Սոցիալական ներդրումների և տեղական զարգացման ծրագիր
A14: Ծրագրի միջոցառումները
A15: Ծրագրի դասիչը | B15: 1019 | C15: Ցուցանիշների փոփոխությունը (ավելացումները նշված են դրական նշանով, իսկ նվազեցումները` փակագծերում)
A16: Միջոցառման դասիչը` | B16: 12001 | C16: Առաջին եռամսյակ | D16: Առաջին կիսամյակ | E16: Ինն ամիս | F16: Տարի
A17: Միջոցառման անվանումը` | B17: Համաշխարհային բանկի աջակցությամբ իրականացվող Տարածքային զարգացման հիմնադրամի ծրագրի շրջանակներում ՀՀ տարածքներում ջրագծերի, առողջապահության, կրթության, մշակույթի, հատուկ խնամքի և ենթակառուցվածքների ոլորտի վերականգնման և շինարարության աշխատանքներ
A18: Նկարագրությունը` | B18: Տարածքային զարգացման հիմնադրամի ծրագրով նախատեսված ՀՀ տարածքներում ջրագծերի, առողջապահության, կրթության օբյեկտների, մշակույթային տների, ծերանոցների, մանկատների, հատուկ դպրոցների, մանկապարտեզների և կոյուղու օբյեկտների հիմնանորոգում և շինարարություն
A19: Միջոցառման տեսակը` | B19: Տրանսֆերտների տրամադրում
A20: Շահառուների ընտրության չափանիշները | B20: Համաձայն ՏԶՀ Ղեկավար ձեռնարկի, որը ֆինանսավորման համաձայնագրի մաս է կազմում
A21: Արդյունքի չափորոշիչներ
A22: Խմելու ջրի ջրամատակարարման ենթածրագրերի թիվը
A23: Ոռոգման համակարգի ենթածրագրերի թիվը
A24: Դպրոցների և մանկապարտեզների թիվը, որոնց կահույք է տրամադրվել
A25: Համայնքների թիվը, որոնց տրամադրվել են սարքավորումներ և տեխնիկա | C25: 8 | D25: 8 | E25: 8 | F25: 8
A26: Համայնքների թիվը, որտեղ տեղադրվելու են արևային կայաններ
A27: Հիմնանորոգված և նոր կառուցված ջրագծերի, առողջապահության, կրթության, մշակույթի, հատուկ խնամքի և ենթակառուցվածքների ոլորտի օբյեկտներից օգտվող համայնքներ, համայնքների թիվ, հատ
A28: Հիմնանորոգված և նոր կառուցված ջրագծերից և ոռոգման համակարգերից օգտվող համայնքներ, համայնքների թիվ, հատ
A29: Հիմնանորոգված և նոր կառուցված ջրագծերից և ոռոգման համակարգերի քանակ, թիվ
A30: Ավարտման ենթակա միկրոծրագրերի թիվ, հատ
A31: Ծրագրի շահառուների թիվ
A32: Միջոցառման վրա կատարվող ծախսը (հազար դրամ) | C32: =+'3'!M17 -> 361381 | D32: =C32 -> 361381 | E32: =D32 -> 361381 | F32: =E32 -> 361381
A34: Ծրագրի դասիչը | B34: Ծրագրի անվանումը
A35: 1189 | B35: Դպրոցների սեյսմիկ անվտանգության մակարդակի բարձրացման ծրագիր
A37: Ծրագրի միջոցառումները
A38: Ծրագրի դասիչը` | B38: 1189 | C38: Ցուցանիշների փոփոխությունը (ավելացումները նշված են դրական նշանով, իսկ նվազեցումները` փակագծերում)
A39: Միջոցառման դասիչը` | B39: 12001 | C39: Առաջին եռամսյակ | D39: Առաջին կիսամյակ | E39: Ինն ամիս | F39: Տարի
A40: Միջոցառման անվանումը` | B40: ='4-2'!B42 -> Ասիական զարգացման բանկի աջակցությամբ իրականացվող դպրոցների սեյսմիկ պաշտպանության ծրագրի շրջանակներում ՀՀ դպրոցների սեյսմիկ անվտանգության բարելավմանն ուղղված միջոցառումներ
A41: Նկարագրությունը` | B41: ='1'!C32 -> Ասիական զարգացման բանկի աջակցությամբ իրականացվող դպրոցների սեյսմիկ պաշտպանության ծրագրի շրջանակներում ՀՀ դպրոցների սեյսմիկ անվտանգության բարելավմանն ուղղված միջոցառումներ
A42: Միջոցառման տեսակը` | B42: Ծառայությունների մատուցում
A43: Միջոցառումն իրականացնողի անվանումը | B43: Մասնագիտացված միավոր
A44: Արդյունքի չափորոշիչներ
A45: Շինարարական աշխատանքների տեխնիկական, հեղինակային հսկողության թիվը, հատ/դպրոց | E45: -1 | F45: -1
...

Sheet 4-2
F1: Հավելված N 4
F2: Աղյուսակ N 2
E3: ՀՀ կառավարության 2021 թվականի
E4: -ի N -Ն որոշման
A6: ՀԱՅԱՍՏԱՆԻ ՀԱՆՐԱՊԵՏՈՒԹՅԱՆ ԿԱՌԱՎԱՐՈՒԹՅԱՆ 2020 ԹՎԱԿԱՆԻ ԴԵԿՏԵՄԲԵՐԻ 30-Ի N 2215-Ն ՈՐՈՇՄԱՆ N 9.1 ՀԱՎԵԼՎԱԾԻ N 9.1.8 ԱՂՅՈՒՍԱԿՈՒՄ ԿԱՏԱՐՎՈՂ ՓՈՓՈԽՈՒԹՅՈՒՆՆԵՐԸ
F8: Աղյուսակ 9.1.8
A9: ՀՀ տարածքային կառավարման և ենթակառուցվածքների նախարարություն
A10: ՄԱՍ 1. ՊԵՏԱԿԱՆ ՄԱՐՄՆԻ ԳԾՈՎ ԱՐԴՅՈՒՆՔԱՅԻՆ (ԿԱՏԱՐՈՂԱԿԱՆ) ՑՈՒՑԱՆԻՇՆԵՐԸ
A12: Ծրագրի դասիչը | B12: Ծրագրի անվանումը
A13: 1019 | B13: Սոցիալական ներդրումների և տեղական զարգացման ծրագիր
A15: Ծրագրի միջոցառումները
A16: Ծրագրի դասիչը | B16: 1019 | C16: Ցուցանիշների փոփոխությունը (ավելացումները նշված են դրական նշանով, իսկ նվազեցումները` փակագծերում)
A17: Միջոցառման դասիչը` | B17: 12001 | C17: Առաջին եռամսյակ | D17: Առաջին կիսամյակ | E17: Ինն ամիս | F17: Տարի
A18: Միջոցառման անվանումը` | B18: Համաշխարհային բանկի աջակցությամբ իրականացվող Տարածքային զարգացման հիմնադրամի ծրագրի շրջանակներում ՀՀ տարածքներում ջրագծերի, առողջապահության, կրթության, մշակույթի, հատուկ խնամքի և ենթակառուցվածքների ոլորտի վերականգնման և շինարարության աշխատանքներ
A19: Նկարագրությունը` | B19: Տարածքային զարգացման հիմնադրամի ծրագրով նախատեսված ՀՀ տարածքներում ջրագծերի, առողջապահության, կրթության օբյեկտների, մշակույթային տների, ծերանոցների, մանկատների, հատուկ դպրոցների, մանկապարտեզների և կոյուղու օբյեկտների հիմնանորոգում և շինարարություն
A20: Միջոցառման տեսակը` | B20: Տրանսֆերտների տրամադրում
A21: Շահառուների ընտրության չափանիշները | B21: Համաձայն ՏԶՀ Ղեկավար ձեռնարկի, որը ֆինանսավորման համաձայնագրի մաս է կազմում
A22: Արդյունքի չափորոշիչներ
A23: Խմելու ջրի ջրամատակարարման ենթածրագրերի թիվը
A24: Ոռոգման համակարգի ենթածրագրերի թիվը
A25: Դպրոցների և մանկապարտեզների թիվը, որոնց կահույք է տրամադրվել
A26: Համայնքների թիվը, որոնց տրամադրվել են սարքավորումներ և տեխնիկա | C26: 8 | D26: 8 | E26: 8 | F26: 8
A27: Համայնքների թիվը, որտեղ տեղադրվելու են արևային կայաններ
A28: Հիմնանորոգված և նոր կառուցված ջրագծերի, առողջապահության, կրթության, մշակույթի, հատուկ խնամքի և ենթակառուցվածքների ոլորտի օբյեկտներից օգտվող համայնքներ, համայնքների թիվ, հատ
A29: Հիմնանորոգված և նոր կառուցված ջրագծերից և ոռոգման համակարգերից օգտվող համայնքներ, համայնքների թիվ, հատ
A30: Հիմնանորոգված և նոր կառուցված ջրագծերից և ոռոգման համակարգերի քանակ, թիվ
A31: Ավարտման ենթակա միկրոծրագրերի թիվ, հատ
A32: Ծրագրի շահառուների թիվ
A33: Միջոցառման վրա կատարվող ծախսը (հազար դրամ) | C33: =+'3'!M17 -> 361381 | D33: =C33 -> 361381 | E33: =D33 -> 361381 | F33: =E33 -> 361381
A36: Ծրագրի դասիչը | B36: Ծրագրի անվանումը
A37: ='1'!A24 -> 1189 | B37: ='1'!C25 -> Դպրոցների սեյսմիկ անվտանգության մակարդակի բարձրացման ծրագիր
A39: Ծրագրի միջոցառումները
A40: Ծրագրի դասիչը` | B40: 1189 | C40: Ցուցանիշների փոփոխությունը (ավելացումները նշված են դրական նշանով, իսկ նվազեցումները` փակագծերում)
A41: Միջոցառման դասիչը` | B41: 12001 | C41: Առաջին եռամսյակ | D41: Առաջին կիսամյակ | E41: Ինն ամիս | F41: Տարի
A42: Միջոցառման անվանումը` | B42: ='1'!C32 -> Ասիական զարգացման բանկի աջակցությամբ իրականացվող դպրոցների սեյսմիկ պաշտպանության ծրագրի շրջանակներում ՀՀ դպրոցների սեյսմիկ անվտանգության բարելավմանն ուղղված միջոցառումներ
A43: Նկարագրությունը` | B43: ='1'!C34 -> Դպրոցների շենքերի ամրացման շինարարական աշխատանքներ, շինարարական ստանդարտների արդիականացում, արտակարգ իրավիճակներին արձագանքման ծրագրի մշակում, սեյսմիկ մոնիտորինգի դիտակետերի սարքավորումների արդիականացում:
A44: Միջոցառման տեսակը` | B44: Ծառայությունների մատուցում
A45: Միջոցառումն իրականացնողի անվանումը | B45: Մասնագիտացված միավոր
A46: Արդյունքի չափորոշիչներ
A47: Շինարարական աշխատանքների տեխնիկական, հեղինակային հսկողության թիվը, հատ/դպրոց | E47: -1 | F47: -1
...
