Workbook

Sheet 1
C1: Հավելված N 1
A2: ՀՀ կառավարության 2021 թվականի
A3: -ի N -Ն որոշման
A5: «ՀԱՅԱՍՏԱՆԻ ՀԱՆՐԱՊԵՏՈՒԹՅԱՆ 2021 ԹՎԱԿԱՆԻ ՊԵՏԱԿԱՆ ԲՅՈՒՋԵԻ ՄԱՍԻՆ» ՀՀ ՕՐԵՆՔԻ N 1 ՀԱՎԵԼՎԱԾԻ N 2 ԱՂՅՈՒՍԱԿՈՒՄ ԿԱՏԱՐՎՈՂ ՎԵՐԱԲԱՇԽՈՒՄԸ ԵՎ ՀԱՅԱՍՏԱՆԻ ՀԱՆՐԱՊԵՏՈՒԹՅԱՆ ԿԱՌԱՎԱՐՈՒԹՅԱՆ 2020 ԹՎԱԿԱՆԻ ԴԵԿՏԵՄԲԵՐԻ 30-Ի N 2215-Ն ՈՐՈՇՄԱՆ N 5 ՀԱՎԵԼՎԱԾԻ N 1 ԱՂՅՈՒՍԱԿՈՒՄ ԿԱՏԱՐՎՈՂ ՓՈՓՈԽՈՒԹՅՈՒՆՆԵՐԸ ԵՎ ԼՐԱՑՈՒՄՆԵՐԸ
E6: հազար դրամներով
A7: Ծրագրային դասիչը | C7: Բյուջետային գլխավոր կարգադրիչների, ծրագրերի և միջոցառումների անվանումները | D7: Ցուցանիշներ
D8: Ցուցանիշների փոփոխությունը (ավելացումները նշված են դրական նշանով, իսկ նվազեցումները` փակագծերում)
D9: Առաջին եռամսյակ | E9: Առաջին կիսամյակ | F9: Ինն ամիս | G9: Տարի
C10: ԸՆԴԱՄԵՆԸ | D10: =D11+D56 -> 0 | E10: =E11+E56 -> 0 | F10: =F11+F56 -> 0 | G10: =G11+G56 -> 0
C11: ՀՀ տարածքային կառավարման և ենթակառուցվածքների նախարարություն | D11: =D12+D43 -> 0 | E11: =E12+E43 -> 0 | F11: =F12+F43 -> 0 | G11: =G12+G43 -> 0
A12: 1004 | C12: Ծրագրի անվանումը` | D12: =D19+D31+D37+D25 -> -21509.6 | E12: =E19+E31+E37 -> -21509.6 | F12: =F19+F31+F37 -> -21509.6 | G12: =G19+G31+G37 -> -21509.6
C13: Ոռոգման համակարգի առողջացում
C14: Ծրագրի նպատակը`
C15: Ոռոգման ծառայությունների հասանելիության և մատչելիության ապահովում
C16: Վերջնական արդյունքի նկարագրությունը`
C17: Ոռոգման ջրի մատակարարման արդյունավետության և հասանելիության բարելավում՝ կորուստների կրճատում
A18: Ծրագրի միջոցառումներ
B19: 31002 | C19: Միջոցառման անվանումը` | D19: 74378.7 | E19: 197937.1 | F19: 197937.1 | G19: 197937.1
C20: Ոռոգման համակարգերի հիմնանորոգում
C21: Միջոցառման նկարագրությունը`
C22: Ոռոգման համակարգերի հիմնանորոգում
C23: Միջոցառման տեսակը
C24: Պետական մարմինների կողմից օգտագործվող ոչ ֆինանսական ակտիվների հետ գործառնություններ
B25: 31007 | C25: Միջոցառման անվանումը` | D25: -21509.6 | E25: 0 | F25: 0 | G25: 0
C26: Ջրային տնտեսության հիդրոտեխնիկական սարքավորումների տեղադրման աշխատանքներ
C27: Միջոցառման նկարագրությունը`
C28: Ոռոգման համակարգերի ջրանցքների բաժանարար կետերը SCADA համակարգով հագեցած ջրաչափական սարքավորումներով կահավորում
C29: Միջոցառման տեսակը
C30: Պետական մարմինների կողմից օգտագործվող ոչ ֆինանսական ակտիվների հետ գործառնություններ
B31: 31010 | C31: Միջոցառման անվանումը` | D31: =-(D19+D37) -> -89999.96 | E31: =-(E19+E37+E50) -> -235067.96 | F31: =-(F19+F37+F50) -> -235067.96 | G31: =-(G19+G37+G50) -> -235067.96
C32: Հեր-Հերի ջրամբարից ինքնահոս ջրատարի կառուցում
C33: Միջոցառման նկարագրությունը`
C34: Հեր-Հերի ջրամբարից ինքնահոս ջրատարի կառուցման համար նախագծերի և աշխատանքների ձեռքբերում
C35: Միջոցառման տեսակը
C36: Պետական մարմինների կողմից օգտագործվող ոչ ֆինանսական ակտիվների հետ գործառնություններ
B37: 31012 | C37: Միջոցառման անվանումը` | D37: 15621.26 | E37: 15621.26 | F37: 15621.26 | G37: 15621.26
C38: Գետերի և հեղեղատարների տեղամասերի ամրացման և մաքրման աշխատանքներ
C39: Միջոցառման նկարագրությունը`
C40: Գետերի և հեղեղատարների տեղամասերի ամրացման և մաքրման համար նախագծերի և աշխատանքների ձեռքբերում
C41: Միջոցառման տեսակը
C42: Պետական մարմինների կողմից ոչ ֆինանսական ակտիվների հետ գործառնություններ
A43: 1072 | C43: Ծրագրի անվանումը` | D43: =D50 -> 21509.6 | E43: =E50 -> 21509.6 | F43: =F50 -> 21509.6 | G43: =G50 -> 21509.6
C44: Ջրամատակարարման և ջրահեռացման բարելավում
C45: Ծրագրի նպատակը`
C46: Ջրամատակարարման ծառայությունների հասանելիության և մատչելիության ապահովում
C47: Վերջնական արդյունքի նկարագրությունը`
C48: Խմելու ջրի մատակարարման և ջրահեռացման համակարգի բարելավում՝ կորուստների կրճատում
A49: Ծրագրի միջոցառումներ
B50: 31010 | C50: Միջոցառման անվանումը` | D50: 21509.6 | E50: 21509.6 | F50: 21509.6 | G50: 21509.6
C51: Ջրամատակարարման և ջրահեռացման համակարգերի հիմնանորոգում
C52: Միջոցառման նկարագրությունը`
C53: Ջրամատակարարման և ջրահեռացման համակարգերի հիմնանորոգման նախագծերի և աշխատանքների ձեռքբերում
C54: Միջոցառման տեսակը
C55: Պետական մարմինների կողմից օգտագործվող ոչ ֆինանսական ակտիվների հետ գործառնություններ
C56: ՀՀ կառավարություն | D56: =D57 -> 0 | E56: =E57 -> 0 | F56: =F57 -> 0 | G56: =G57 -> 0
A57: 1139 | C57: Ծրագրի անվանումը` | D57: =D64+D70 -> 0 | E57: =E64+E70 -> 0 | F57: =F64+F70 -> 0 | G57: =G64+G70 -> 0
C58: ՀՀ կառավարության պահուստային ֆոնդ
C59: Ծրագրի նպատակը`
C60: Պետական բյուջեում չկանխատեսված՝ ինչպես նաեւ բյուջետային երաշխիքների ապահովման ծախսերի ֆինանսավորման ապահովում
C61: Վերջնական արդյունքի նկարագրությունը`
C62: Պահուստային ֆոնդի կառավարման արդյունավետության և թափանցիկության ապահովում
A63: Ծրագրի միջոցառումներ
B64: 11001 | C64: Միջոցառման անվանումը` | D64: =-D70 -> -111509.56 | E64: =-E70 -> -235067.96 | F64: =E64 -> -235067.96 | G64: =F64 -> -235067.96
C65: ՀՀ կառավարության պահուստային ֆոնդ
C66: Միջոցառման նկարագրությունը`
C67: ՀՀ պետական բյուջեում նախատեսված ելքերի լրացուցիչ ֆինանսավորման՝ պետական բյուջեում չկանխատեսված ելքերի՝ ինչպես նաև բյուջետային երաշխիքների ապահովման ելքերի ֆինանսավորման ապահովում
C68: Միջոցառման տեսակը
C69: Ծառայությունների մատուցում
B70: 11001 | C70: Միջոցառման անվանումը` | D70: =-D31-D25 -> 111509.56 | E70: =-E31-E25 -> 235067.96 | F70: =-F31-F25 -> 235067.96 | G70: =-G31-G25 -> 235067.96
C71: ՀՀ կառավարության պահուստային ֆոնդ
C72: Միջոցառման նկարագրությունը`
C73: ՀՀ պետական բյուջեում նախատեսված ելքերի լրացուցիչ ֆինանսավորման՝ պետական բյուջեում չկանխատեսված ելքերի՝ ինչպես նաև բյուջետային երաշխիքների ապահովման ելքերի ֆինանսավորման ապահովում
C74: Միջոցառման տեսակը
C75: Ծառայությունների մատուցում

Sheet 2
A1: Հավելված N 2
A2: ՀՀ կառավարության 2021 թվականի
A3: -ի N -Ն որոշման
A4: «ՀԱՅԱՍՏԱՆԻ ՀԱՆՐԱՊԵՏՈՒԹՅԱՆ 2021 ԹՎԱԿԱՆԻ ՊԵՏԱԿԱՆ ԲՅՈՒՋԵԻ ՄԱՍԻՆ» ՀՀ ՕՐԵՆՔԻ N 1 ՀԱՎԵԼՎԱԾԻ N 3 ԱՂՅՈՒՍԱԿՈՒՄ ԿԱՏԱՐՎՈՂ ՓՈՓՈԽՈՒԹՅՈՒՆՆԵՐԸ ԵՎ ԼՐԱՑՈՒՄՆԵՐԸ
G5: հազար դրամներով
A6: Ծրագրային դասիչ | C6: Բյուջետային գլխավոր կարգադրիչների, ծրագրերի, միջոցառումների և ուղղությունների անվանումները | D6: Ցուցանիշների փոփոխությունը (ավելացումները նշված են դրական նշանով, նվազեցումները՝ փակագծերում)
D7: Ընդամենը, | E7: այդ թվում՝
A8: Ծրագիր | B8: Միջոցառում | E8: Կառուցման աշխատանքներ | F8: Վերակառուցման, վերանորոգման և վերականգնման աշխատանքներ | G8: Նախագծահե- տազոտական, գեոդեզիա- քարտեզագրա- կան աշխա- տանքներ | H8: Ոչ ֆինանսական այլ ակտիվների ձեռքբերում
C9: ԸՆԴԱՄԵՆԸ | D9: =SUM(E9:H9) -> 0.04 | E9: =E11 -> -37130.86 | F9: =F11 -> 37130.9 | G9: =G11 -> 0 | H9: =H11 -> 0
C10: այդ թվում՝
C11: ՀՀ ՏԱՐԱԾՔԱՅԻՆ ԿԱՌԱՎԱՐՄԱՆ ԵՎ ԵՆԹԱԿԱՌՈՒՑՎԱԾՔՆԵՐԻ ՆԱԽԱՐԱՐՈՒԹՅՈՒՆ | D11: =SUM(E11:H11) -> 0.04 | E11: =E17+E13+E18+E21 -> -37130.86 | F11: =F17+F13+F18+F21 -> 37130.9 | G11: =G17+G13+G18+G21 -> 0 | H11: =H17+H13+H18+H21 -> 0
C12: այդ թվում`
A13: 1004 | B13: 31002 | C13: Ոռոգման համակարգերի հիմնանորոգում | D13: =SUM(E13:H13) -> 197937.1 | E13: =E15+E16 -> 197937.1
C14: այդ թվում`
C15: ՀՀ Կոտայքի մարզիԳեղարդալճի ինքնահոս համակարգի չավարտված աշխատանքների իրականացում | D15: =SUM(E15:H15) -> 89331.3 | E15: 89331.3
C16: Երևան քաղաքի Եղվարդի խճուղու միջնամասից մինչև Հալաբյան փողոցի վերջնամասը 1954 մ երկարությամբ և 525 մմ տրամագծով ոռոգման ջրագծի կառուցում | D16: =SUM(E16:H16) -> 108605.8 | E16: 108605.8
A17: 1004 | B17: 31010 | C17: Հեր-Հերի ջրամբարից ինքնահոս ջրատարի կառուցում | D17: =SUM(E17:H17) -> -235067.96 | E17: ='1'!G31 -> -235067.96
A18: 1004 | B18: 31012 | C18: Գետերի և հեղեղատարների տեղամասերի ամրացման և մաքրման աշխատանքներ | D18: =SUM(E18:H18) -> 15621.3 | F18: =F20 -> 15621.3
C19: այդ թվում`
C20: Արաքս գետի ափի ամրացում 11/1 և 11/3 սահմանային նշանների մոտ | D20: =SUM(E20:H20) -> 15621.3 | F20: 15621.3
A21: 1072 | B21: 31010 | C21: Ջրամատակարարման և ջրահեռացման համակարգի հիմնանորոգում | D21: =SUM(E21:H21) -> 21509.6 | F21: 21509.6
C22: այդ թվում`
C23: ՀՀ Գեղարքունիքի մարզի Սևան քաղաքի կոյուղատարի կոլեկտորի Վարսեր-Գեղամավան վթարային հատվածի ժամանակավոր վերակառուցում | D23: =SUM(E23:H23) -> 21509.6 | F23: 21509.6

Sheet 3
I1: Հավելված N 3
A2: ՀՀ կառավարության 2021 թվականի
A3: -ի N -Ն որոշման
A4: ՀԱՅԱՍՏԱՆԻ ՀԱՆՐԱՊԵՏՈՒԹՅԱՆ ԿԱՌԱՎԱՐՈՒԹՅԱՆ 2020 ԹՎԱԿԱՆԻ ԴԵԿՏԵՄԲԵՐԻ 30-Ի N 2215-Ն ՈՐՈՇՄԱՆ N 3 և N 4 ՀԱՎԵԼՎԱԾՆԵՐՈՒՄ ԿԱՏԱՐՎՈՂ ՓՈՓՈԽՈՒԹՅՈՒՆՆԵՐԸ ԵՎ ԼՐԱՑՈՒՄՆԵՐԸ
J6: հազար դրամներով
A7: Գործառական դասիչը | D7: Ծրագրային դասիչը | F7: Բյուջետային ծախսերի գործառական դասակարգման բաժինների, խմբերի և դասերի, բյուջետային ծրագրերի միջոցառումների, բյուջետային հատկացումների գլխավոր կարգադրիչների անվանումները | G7: Ցուցանիշների փոփոխությունը (ավելացումները նշված են դրական նշանով, իսկ նվազեցումները` փակագծերում)
G8: Առաջին եռամսյակ | H8: Առաջին կիսամյակ | I8: Ինն ամիս | J8: Տարի
A9: Բաժին | B9: Խումբ | C9: Դաս | D9: Ծրագիր | E9: Միջոցա ռում
F10: ԸՆԴԱՄԵՆԸ ԾԱԽՍԵՐ | G10: =G12+G77+G58 -> 0 | H10: =H12+H77+H58 -> 0 | I10: =I12+I77+I58 -> 0 | J10: =J12+J77+J58 -> 0
F11: այդ թվում`
A12: 04 | F12: ՏՆՏԵՍԱԿԱՆ ՀԱՐԱԲԵՐՈՒԹՅՈՒՆՆԵՐ | G12: =G14 -> -21509.6 | H12: =H14 -> -21509.6 | I12: =I14 -> -21509.6 | J12: =J14 -> -21509.6
F13: այդ թվում`
B14: 02 | F14: Գյուղատնտեսություն, անտառային տնտեսություն, ձկնորսություն և որսորդություն | G14: =G16 -> -21509.6 | H14: =H16 -> -21509.6 | I14: =I16 -> -21509.6 | J14: =J16 -> -21509.6
F15: այդ թվում`
C16: 04 | F16: Ոռոգում | G16: =G18 -> -21509.6 | H16: =H18 -> -21509.6 | I16: =I18 -> -21509.6 | J16: =J18 -> -21509.6
F17: այդ թվում`
F18: ՀՀ տարածքային կառավարման և ենթակառուցվածքների նախարարություն | G18: =G20 -> -21509.6 | H18: =H20 -> -21509.6 | I18: =I20 -> -21509.6 | J18: =J20 -> -21509.6
F19: այդ թվում`
D20: 1004 | F20: Ոռոգման համակարգի առողջացում | G20: =G22+G40+G49+G31 -> -21509.6 | H20: =H22+H40+H49+H31 -> -21509.6 | I20: =I22+I40+I49+I31 -> -21509.6 | J20: =J22+J40+J49+J31 -> -21509.6
F21: այդ թվում`
E22: 31002 | F22: Ոռոգման համակարգերի հիմնանորոգում | G22: =G26 -> 74378.7 | H22: =H26 -> 197937.1 | I22: =I26 -> 197937.1 | J22: =J26 -> 197937.1
F23: այդ թվում` ըստ կատարողների
F24: ՀՀ տարածքային կառավարման և ենթակառուցվածքների նախարարության ջրային կոմիտե | G24: =G26 -> 74378.7 | H24: =H26 -> 197937.1 | I24: =I26 -> 197937.1 | J24: =J26 -> 197937.1
F25: այդ թվում` բյուջետային ծախսերի տնտեսագիտական դասակարգման հոդվածներ
F26: ԸՆԴԱՄԵՆԸ ԾԱԽՍԵՐ | G26: =G27 -> 74378.7 | H26: =H27 -> 197937.1 | I26: =I27 -> 197937.1 | J26: =J27 -> 197937.1
F27: ՈՉ ՖԻՆԱՆՍԱԿԱՆ ԱԿՏԻՎՆԵՐԻ ԳԾՈՎ ԾԱԽՍԵՐ | G27: =G28+G78 -> 74378.7 | H27: =H28+H78 -> 197937.1 | I27: =I28+I78 -> 197937.1 | J27: =J28+J78 -> 197937.1
F28: ՀԻՄՆԱԿԱՆ ՄԻՋՈՑՆԵՐ | G28: =G29 -> 74378.7 | H28: =H29 -> 197937.1 | I28: =I29 -> 197937.1 | J28: =J29 -> 197937.1
F29: ՇԵՆՔԵՐ ԵՎ ՇԻՆՈՒԹՅՈՒՆՆԵՐ | G29: =G30 -> 74378.7 | H29: =H30 -> 197937.1 | I29: =I30 -> 197937.1 | J29: =J30 -> 197937.1
F30: - Շենքերի և շինությունների շինարարություն | G30: ='1'!D19 -> 74378.7 | H30: ='1'!E19 -> 197937.1 | I30: ='1'!F19 -> 197937.1 | J30: ='1'!G19 -> 197937.1
E31: 31007 | F31: Ջրային տնտեսության հիդրոտեխնիկական սարքավորումների տեղադրման աշխատանքներ | G31: -21509.6 | H31: 0 | I31: 0 | J31: 0
F32: այդ թվում` ըստ կատարողների
F33: ՀՀ տարածքային կառավարման և ենթակառուցվածքների նախարարության ջրային կոմիտե | G33: -21509.6 | H33: 0 | I33: 0 | J33: 0
F34: այդ թվում` բյուջետային ծախսերի տնտեսագիտական դասակարգման հոդվածներ
F35: ԸՆԴԱՄԵՆԸ ԾԱԽՍԵՐ | G35: -21509.6 | H35: 0 | I35: 0 | J35: 0
F36: ՈՉ ՖԻՆԱՆՍԱԿԱՆ ԱԿՏԻՎՆԵՐԻ ԳԾՈՎ ԾԱԽՍԵՐ | G36: -21509.6 | H36: 0 | I36: 0 | J36: 0
F37: ՀԻՄՆԱԿԱՆ ՄԻՋՈՑՆԵՐ | G37: -21509.6 | H37: 0 | I37: 0 | J37: 0
F38: ՇԵՆՔԵՐ ԵՎ ՇԻՆՈՒԹՅՈՒՆՆԵՐ | G38: -21509.6 | H38: 0 | I38: 0 | J38: 0
F39: - Շենքերի և շինությունների շինարարություն | G39: -21509.6 | H39: 0 | I39: 0 | J39: 0
E40: 31010 | F40: ='1'!C32 -> Հեր-Հերի ջրամբարից ինքնահոս ջրատարի կառուցում | G40: =G44 -> -89999.96 | H40: =H44 -> -235067.96 | I40: =I44 -> -235067.96 | J40: =J44 -> -235067.96
F41: այդ թվում` ըստ կատարողների
F42: ՀՀ տարածքային կառավարման և ենթակառուցվածքների նախարարության ջրային կոմիտե | G42: =G44 -> -89999.96 | H42: =H44 -> -235067.96 | I42: =I44 -> -235067.96 | J42: =J44 -> -235067.96
F43: այդ թվում` բյուջետային ծախսերի տնտեսագիտական դասակարգման հոդվածներ
F44: ԸՆԴԱՄԵՆԸ ԾԱԽՍԵՐ | G44: =G45 -> -89999.96 | H44: =H45 -> -235067.96 | I44: =I45 -> -235067.96 | J44: =J45 -> -235067.96
F45: ՈՉ ՖԻՆԱՆՍԱԿԱՆ ԱԿՏԻՎՆԵՐԻ ԳԾՈՎ ԾԱԽՍԵՐ | G45: =G46 -> -89999.96 | H45: =H46 -> -235067.96 | I45: =I46 -> -235067.96 | J45: =J46 -> -235067.96
F46: ՀԻՄՆԱԿԱՆ ՄԻՋՈՑՆԵՐ | G46: =G47 -> -89999.96 | H46: =H47 -> -235067.96 | I46: =I47 -> -235067.96 | J46: =J47 -> -235067.96
F47: ՇԵՆՔԵՐ ԵՎ ՇԻՆՈՒԹՅՈՒՆՆԵՐ | G47: =G48 -> -89999.96 | H47: =H48 -> -235067.96 | I47: =I48 -> -235067.96 | J47: =J48 -> -235067.96
F48: - Շենքերի և շինությունների շինարարություն | G48: ='1'!D31 -> -89999.96 | H48: ='1'!E31 -> -235067.96 | I48: ='1'!F31 -> -235067.96 | J48: ='1'!G31 -> -235067.96
E49: 31012 | F49: Գետերի և հեղեղատարների տեղամասերի ամրացման և մաքրման աշխատանքներ | G49: =G53 -> 15621.26 | H49: =H53 -> 15621.26 | I49: =I53 -> 15621.26 | J49: =J53 -> 15621.26
F50: այդ թվում` ըստ կատարողների
F51: ՀՀ տարածքային կառավարման և ենթակառուցվածքների նախարարության ջրային կոմիտե | G51: =G53 -> 15621.26 | H51: =H53 -> 15621.26 | I51: =I53 -> 15621.26 | J51: =J53 -> 15621.26
F52: այդ թվում` բյուջետային ծախսերի տնտեսագիտական դասակարգման հոդվածներ
F53: ԸՆԴԱՄԵՆԸ ԾԱԽՍԵՐ | G53: =G54 -> 15621.26 | H53: =H54 -> 15621.26 | I53: =I54 -> 15621.26 | J53: =J54 -> 15621.26
F54: ՈՉ ՖԻՆԱՆՍԱԿԱՆ ԱԿՏԻՎՆԵՐԻ ԳԾՈՎ ԾԱԽՍԵՐ | G54: =G55 -> 15621.26 | H54: =H55 -> 15621.26 | I54: =I55 -> 15621.26 | J54: =J55 -> 15621.26
F55: ՀԻՄՆԱԿԱՆ ՄԻՋՈՑՆԵՐ | G55: =G56 -> 15621.26 | H55: =H56 -> 15621.26 | I55: =I56 -> 15621.26 | J55: =J56 -> 15621.26
F56: ՇԵՆՔԵՐ ԵՎ ՇԻՆՈՒԹՅՈՒՆՆԵՐ | G56: =G57 -> 15621.26 | H56: =H57 -> 15621.26 | I56: =I57 -> 15621.26 | J56: =J57 -> 15621.26
F57: - Շենքերի և շինությունների կապիտալ վերանորոգում | G57: ='1'!D37 -> 15621.26 | H57: ='1'!E37 -> 15621.26 | I57: ='1'!F37 -> 15621.26 | J57: ='1'!G37 -> 15621.26
A58: 06 | F58: ԲՆԱԿԱՐԱՆԱՅԻՆ ՇԻՆԱՐԱՐՈՒԹՅՈՒՆ ԵՎ ԿՈՄՈՒՆԱԼ ԾԱՌԱՅՈՒԹՅՈՒՆՆԵՐ | G58: 21509.6 | H58: 21509.6 | I58: 21509.6 | J58: 21509.6
F59: այդ թվում`
B60: 03 | F60: Ջրամատակարարում | G60: 21509.6 | H60: 21509.6 | I60: 21509.6 | J60: 21509.6
F61: այդ թվում`
C62: 01 | F62: Ջրամատակարարում | G62: 21509.6 | H62: 21509.6 | I62: 21509.6 | J62: 21509.6
F63: այդ թվում`
F64: ՀՀ տարածքային կառավարման և ենթակառուցվածքների նախարարություն | G64: 21509.6 | H64: 21509.6 | I64: 21509.6 | J64: 21509.6
F65: այդ թվում`
D66: 1072 | F66: Ջրամատակարարաման և ջրահեռացման բարելավում | G66: 21509.6 | H66: 21509.6 | I66: 21509.6 | J66: 21509.6
F67: այդ թվում`
E68: 31010 | F68: Ջրամատակարարման և ջրահեռացման համակարգերի հիմնանորոգում | G68: 21509.6 | H68: 21509.6 | I68: 21509.6 | J68: 21509.6
F69: այդ թվում` ըստ կատարողների
F70: ՀՀ տարածքային կառավարման և ենթակառուցվածքների նախարարության ջրային կոմիտե | G70: 21509.6 | H70: 21509.6 | I70: 21509.6 | J70: 21509.6
F71: այդ թվում` բյուջետային ծախսերի տնտեսագիտական դասակարգման հոդվածներ
F72: ԸՆԴԱՄԵՆԸ ԾԱԽՍԵՐ | G72: 21509.6 | H72: 21509.6 | I72: 21509.6 | J72: 21509.6
F73: ՈՉ ՖԻՆԱՆՍԱԿԱՆ ԱԿՏԻՎՆԵՐԻ ԳԾՈՎ ԾԱԽՍԵՐ | G73: 21509.6 | H73: 21509.6 | I73: 21509.6 | J73: 21509.6
F74: ՀԻՄՆԱԿԱՆ ՄԻՋՈՑՆԵՐ | G74: 21509.6 | H74: 21509.6 | I74: 21509.6 | J74: 21509.6
F75: ՇԵՆՔԵՐ ԵՎ ՇԻՆՈՒԹՅՈՒՆՆԵՐ | G75: 21509.6 | H75: 21509.6 | I75: 21509.6 | J75: 21509.6
F76: - Շենքերի և շինությունների կապիտալ վերանորոգում | G76: 21509.6 | H76: 21509.6 | I76: 21509.6 | J76: 21509.6
A77: 11 | F77: ՀԻՄՆԱԿԱՆ ԲԱԺԻՆՆԵՐԻՆ ՉԴԱՍՎՈՂ ՊԱՀՈՒՍՏԱՅԻՆ ՖՈՆԴԵՐ | G77: =G79 -> 0 | H77: =H79 -> 0 | I77: =I79 -> 0
F78: այդ թվում`
B79: 01 | F79: ՀՀ կառավարության և համայնքների պահուստային ֆոնդ | G79: =G81 -> 0 | H79: =H81 -> 0 | I79: =I81 -> 0
F80: այդ թվում`
C81: 01 | F81: ՀՀ կառավարության պահուստային ֆոնդ | G81: =G83 -> 0 | H81: =H83 -> 0 | I81: =I83 -> 0 | J81: =J83 -> 0
F82: այդ թվում`
F83: ՀՀ կառավարություն | G83: =G85 -> 0 | H83: =H85 -> 0 | I83: =I85 -> 0 | J83: =J85 -> 0
F84: այդ թվում`
D85: 1139 | F85: ՀՀ կառավարության պահուստային ֆոնդ | G85: =G87+G95 -> 0 | H85: =H87+H95 -> 0 | I85: =I87+I95 -> 0 | J85: =J87+J95 -> 0
F86: այդ թվում`
E87: 11001 | F87: ՀՀ կառավարության պահուստային ֆոնդ | G87: =G89 -> -111509.56 | H87: =H89 -> -235067.96 | I87: =I89 -> -235067.96 | J87: =J89 -> -235067.96
F88: այդ թվում` ըստ կատարողների
F89: ՀՀ կառավարություն | G89: =G94 -> -111509.56 | H89: =H94 -> -235067.96 | I89: =I94 -> -235067.96 | J89: =J94 -> -235067.96
F90: այդ թվում` բյուջետային ծախսերի տնտեսագիտական դասակարգման հոդվածներ | G90: =G91 -> -111509.56 | H90: =H91 -> -235067.96 | I90: =I91 -> -235067.96 | J90: =J91 -> -235067.96
F91: ԸՆԴԱՄԵՆԸ ԾԱԽՍԵՐ | G91: =G92 -> -111509.56 | H91: =H92 -> -235067.96 | I91: =I92 -> -235067.96 | J91: =J92 -> -235067.96
F92: ԸՆԹԱՑԻԿ ԾԱԽՍԵՐ | G92: =G93 -> -111509.56 | H92: =H93 -> -235067.96 | I92: =I93 -> -235067.96 | J92: =J93 -> -235067.96
F93: ԱՅԼ ԾԱԽՍԵՐ | G93: =G94 -> -111509.56 | H93: =H94 -> -235067.96 | I93: =I94 -> -235067.96 | J93: =J94 -> -235067.96
F94: Պահուստային միջոցներ | G94: ='1'!D64 -> -111509.56 | H94: ='1'!E64 -> -235067.96 | I94: ='1'!F64 -> -235067.96 | J94: ='1'!G64 -> -235067.96
E95: 11001 | F95: ՀՀ կառավարության պահուստային ֆոնդ | G95: =G97 -> 111509.56 | H95: =H97 -> 235067.96 | I95: =I97 -> 235067.96 | J95: =J97 -> 235067.96
F96: այդ թվում` ըստ կատարողների
F97: ՀՀ կառավարություն | G97: =G102 -> 111509.56 | H97: =H102 -> 235067.96 | I97: =I102 -> 235067.96 | J97: =I97 -> 235067.96
F98: այդ թվում` բյուջետային ծախսերի տնտեսագիտական դասակարգման հոդվածներ | G98: =G99 -> 111509.56 | H98: =H99 -> 235067.96 | I98: =I99 -> 235067.96 | J98: =I98 -> 235067.96
F99: ԸՆԴԱՄԵՆԸ ԾԱԽՍԵՐ | G99: =G100 -> 111509.56 | H99: =H100 -> 235067.96 | I99: =I100 -> 235067.96 | J99: =I99 -> 235067.96
F100: ԸՆԹԱՑԻԿ ԾԱԽՍԵՐ | G100: =G101 -> 111509.56 | H100: =H101 -> 235067.96 | I100: =I101 -> 235067.96 | J100: =I100 -> 235067.96
F101: ԱՅԼ ԾԱԽՍԵՐ | G101: =G102 -> 111509.56 | H101: =H102 -> 235067.96 | I101: =I102 -> 235067.96 | J101: =I101 -> 235067.96
...

Sheet 4
A1: Հավելված N 4
A2: ՀՀ կառավարության 2021 թվականի
A3: -ի N -Ն որոշման
A4: ՀԱՅԱՍՏԱՆԻ ՀԱՆՐԱՊԵՏՈՒԹՅԱՆ ԿԱՌԱՎԱՐՈՒԹՅԱՆ 2020 ԹՎԱԿԱՆԻ ԴԵԿՏԵՄԲԵՐԻ 30-Ի N 2215-Ն ՈՐՈՇՄԱՆ N 5 ՀԱՎԵԼՎԱԾԻ N 2 ԱՂՅՈՒՍԱԿՈՒՄ ԿԱՏԱՐՎՈՂ ՓՈՓՈԽՈՒԹՅՈՒՆՆԵՐԸ ԵՎ ԼՐԱՑՈՒՄՆԵՐԸ
F5: հազար դրամներով
A6: Ծրագրային դասիչ | C6: Բյուջետային գլխավոր կարգադրիչների, ծրագրերի, միջոցառումների, միջոցառումները կատարող պետական մարմինների և ուղղությունների անվանումները | D6: Ցուցանիշների փոփոխությունը (ավելացումները նշված են դրական նշանով, իսկ նվազեցումները` փակագծերում)
D7: Առաջին եռամսյակ | E7: Առաջին կիսամյակ | F7: Ինն ամիս | G7: Տարի
A8: Ծրագիր | B8: Միջոցառում
C9: ԸՆԴԱՄԵՆԸ | D9: =D11 -> 0.04 | E9: =E11 -> 0.04 | F9: =F11 -> 0.04 | G9: =G11 -> 0.04
C10: այդ թվում՝
C11: ՀՀ ՏԱՐԱԾՔԱՅԻՆ ԿԱՌԱՎԱՐՄԱՆ ԵՎ ԵՆԹԱԿԱՌՈՒՑՎԱԾՔՆԵՐԻ ՆԱԽԱՐԱՐՈՒԹՅՈՒՆ | D11: =D13+D26+D23+D32+D20 -> 0.04 | E11: =E13+E26+E23+E32+E20 -> 0.04 | F11: =F13+F26+F23+F32+F20 -> 0.04 | G11: =G13+G26+G23+G32+G20 -> 0.04
C12: այդ թվում`
A13: 1004 | B13: 31002 | C13: Ոռոգման համակարգերի հիմնանորոգում | D13: =D15 -> 74378.7 | E13: =E15 -> 197937.1 | F13: =F15 -> 197937.1 | G13: =G15 -> 197937.1
C14: այդ թվում` ըստ կատարողների
C15: ՀՀ տարածքային կառավարման և ենթակառուցվածքների նախարարության ջրային կոմիտե | D15: =SUM(D17:D18) -> 74378.7 | E15: =SUM(E17:E18) -> 197937.1 | F15: =SUM(F17:F18) -> 197937.1 | G15: =SUM(G17:G18) -> 197937.1
C16: այդ թվում` ըստ ուղղությունների
C17: ՀՀ Կոտայքի մարզիԳեղարդալճի ինքնահոս համակարգի չավարտված աշխատանքների իրականացում | D17: 0 | E17: 89331.3 | F17: 89331.3 | G17: 89331.3
C18: Երևան քաղաքի Եղվարդի խճուղու միջնամասից մինչև Հալաբյան փողոցի վերջնամասը 1954 մ երկարությամբ և 525 մմ տրամագծով ոռոգման ջրագծի կառուցում | D18: 74378.7 | E18: 108605.8 | F18: 108605.8 | G18: 108605.8
C19: այդ թվում`
A20: 1004 | B20: 31007 | C20: Ջրային տնտեսության հիդրոտեխնիկական սարքավորումների տեղադրման աշխատանքներ | D20: -21509.6 | E20: 0 | F20: 0 | G20: 0
C21: այդ թվում` ըստ կատարողների
C22: ՀՀ տարածքային կառավարման և ենթակառուցվածքների նախարարության ջրային կոմիտե | D22: -21509.6 | E22: 0 | F22: 0 | G22: 0
A23: 1004 | B23: 31010 | C23: ='2'!C17 -> Հեր-Հերի ջրամբարից ինքնահոս ջրատարի կառուցում | D23: =D25 -> -89999.96 | E23: =E25 -> -235067.96 | F23: =F25 -> -235067.96 | G23: =G25 -> -235067.96
C24: այդ թվում` ըստ կատարողների
C25: ՀՀ տարածքային կառավարման և ենթակառուցվածքների նախարարության ջրային կոմիտե | D25: ='1'!D31 -> -89999.96 | E25: ='1'!E31 -> -235067.96 | F25: ='1'!F31 -> -235067.96 | G25: ='1'!G31 -> -235067.96
A26: 1004 | B26: 31012 | C26: Գետերի և հեղեղատարների տեղամասերի ամրացման և մաքրման աշխատանքներ | D26: =D28 -> 15621.3 | E26: =E28 -> 15621.3 | F26: =F28 -> 15621.3 | G26: =G28 -> 15621.3
C27: այդ թվում` ըստ կատարողների
C28: ՀՀ տարածքային կառավարման և ենթակառուցվածքների նախարարության ջրային կոմիտե | D28: =SUM(D30:D30) -> 15621.3 | E28: =SUM(E30:E30) -> 15621.3 | F28: =SUM(F30:F30) -> 15621.3 | G28: =SUM(G30:G30) -> 15621.3
C29: այդ թվում` ըստ ուղղությունների
C30: Արաքս գետի ափի ամրացում 11/1 և 11/3 սահմանային նշանների մոտ | D30: 15621.3 | E30: =D30 -> 15621.3 | F30: =E30 -> 15621.3 | G30: =F30 -> 15621.3
C31: այդ թվում`
A32: 1072 | B32: 31010 | C32: Ջրամատակարարման և ջրահեռացման համակարգի հիմնանորոգում | D32: 21509.6 | E32: 21509.6 | F32: 21509.6 | G32: 21509.6
C33: այդ թվում` ըստ կատարողների
C34: ՀՀ տարածքային կառավարման և ենթակառուցվածքների նախարարության ջրային կոմիտե | D34: 21509.6 | E34: 21509.6 | F34: 21509.6 | G34: 21509.6
C35: այդ թվում` ըստ ուղղությունների
C36: ՀՀ Գեղարքունիքի մարզի Սևան քաղաքի կոյուղատարի կոլեկտորի Վարսեր-Գեղամավան վթարային հատվածի ժամանակավոր վերակառուցում | D36: 21509.6 | E36: 21509.6 | F36: 21509.6 | G36: 21509.6

Sheet 5
D1: Հավելված N 5
D2: ՀՀ կառավարության 2021 թվականի
D3: -ի N -Ն որոշման
A5: «ՀԱՅԱՍՏԱՆԻ ՀԱՆՐԱՊԵՏՈՒԹՅԱՆ 2021 ԹՎԱԿԱՆԻ ՊԵՏԱԿԱՆ ԲՅՈՒՋԵԻ ՄԱՍԻՆ» ՀՀ ՕՐԵՆՔԻ N 6 ՀԱՎԵԼՎԱԾԻ N 2 ԱՂՅՈՒՍԱԿՈՒՄ ԿԱՏԱՐՎՈՂ ՓՈՓՈԽՈՒԹՅՈՒՆՆԵՐԸ
C6: հազար դրամներով
A8: Ծրագրային դասիչ | C8: Բյուջետային գլխավոր կարգադրիչների, ծրագրերի, միջոցառումների և ուղղությունների անվանումները | D8: Ցուցանիշների փոփոխությունը (նվազեցումները նշված են փակագծերում)
A9: Ծրագիր | B9: Միջոցառում
C10: ԸՆԴԱՄԵՆԸ | D10: =D12 -> -213558.4
C11: այդ թվում՝
C12: ՀՀ ՏԱՐԱԾՔԱՅԻՆ ԿԱՌԱՎԱՐՄԱՆ ԵՎ ԵՆԹԱԿԱՌՈՒՑՎԱԾՔՆԵՐԻ ՆԱԽԱՐԱՐՈՒԹՅՈՒՆ | D12: =SUM(D14:D15) -> -213558.4
C13: այդ թվում`
A14: 1004 | B14: 31002 | C14: Ոռոգման համակարգերի հիմնանորոգում | D14: -197937.1
A15: 1004 | B15: 31012 | C15: Գետերի և հեղեղատարների տեղամասերի ամրացման և մաքրման աշխատանքներ | D15: -15621.3

Sheet 6-1
A1: Հավելված N 6
A2: ՀՀ կառավարության 2021 թվականի
A3: -ի N -Ն որոշման
A5: Աղյուսակ N 1
A6: ՀԱՅԱՍՏԱՆԻ ՀԱՆՐԱՊԵՏՈՒԹՅԱՆ ԿԱՌԱՎԱՐՈՒԹՅԱՆ 2020 ԹՎԱԿԱՆԻ ԴԵԿՏԵՄԲԵՐԻ 30-Ի N 2215-Ն ՈՐՈՇՄԱՆ N 9 ՀԱՎԵԼՎԱԾԻ N 9.8 և N 9.47 ԱՂՅՈՒՍԱԿՆԵՐՈՒՄ ԿԱՏԱՐՎՈՂ ՓՈՓՈԽՈՒԹՅՈՒՆՆԵՐԸ ԵՎ ԼՐԱՑՈՒՄՆԵՐԸ
A9: ՀՀ տարածքային կառավարման և ենթակառուցվածքների նախարարություն
A10: ՄԱՍ 2. ՊԵՏԱԿԱՆ ՄԱՐՄՆԻ ԳԾՈՎ ԱՐԴՅՈՒՆՔԱՅԻՆ (ԿԱՏԱՐՈՂԱԿԱՆ) ՑՈՒՑԱՆԻՇՆԵՐԸ
F11: 9.8
A12: Ծրագրի դասիչը | B12: Ծրագրի անվանումը
A13: 1004 | B13: Ոռոգման համակարգի առողջացում
A15: Ծրագրի միջոցառումները
A16: Ծրագրի դասիչը` | B16: 1004 | C16: Ցուցանիշներ
C17: Ցուցանիշների փոփոխությունը (ավելացումները նշված են դրական նշանով, իսկ նվազեցումները` փակագծերում)
A18: Միջոցառման դասիչը` | B18: 31002 | C18: Առաջին եռամսյակ | D18: Առաջին կիսամյակ | E18: Ինն ամիս | F18: Տարի
A19: Միջոցառման անվանումը` | B19: Ոռոգման համակարգերի հիմնանորոգում
A20: Նկարագրությունը` | B20: Ոռոգման համակարգերի հիմնանորոգում
A21: Միջոցառման տեսակը` | B21: Պետական մարմինների կողմից օգտագործվող ոչ ֆինանսական ակտիվների հետ գործառնություններ
A22: Ակտիվն օգտագործող կազմակերպության(ների) անվանում(ները)՛ | B22: ՀՀ ՏԿԵՆ ջրային կոմիտե
A23: Արդյունքի չափորոշիչներ
A24: Կառուցվող ջրագիծ,մ | C24: 700 | D24: 2927 | E24: 2927 | F24: 2927
A25: Միջոցառման վրա կատարվող ծախսը (հազար դրամ) | C25: ='1'!D19 -> 74378.7 | D25: ='1'!E19 -> 197937.1 | E25: ='1'!F19 -> 197937.1 | F25: ='1'!G19 -> 197937.1
A27: Ծրագրի դասիչը` | B27: 1004 | C27: Ցուցանիշներ
C28: Ցուցանիշների փոփոխությունը (ավելացումները նշված են դրական նշանով, իսկ նվազեցումները` փակագծերում)
A29: Միջոցառման դասիչը` | B29: 31007 | C29: Առաջին եռամսյակ | D29: Առաջին կիսամյակ | E29: Ինն ամիս | F29: Տարի
A30: Միջոցառման անվանումը` | B30: Ջրային տնտեսության հիդրոտեխնիկական սարքավորումների տեղադրման աշխատանքներ
A31: Նկարագրությունը` | B31: Ոռոգման համակարգերի ջրանցքների բաժանարար կետերը SCADA համակարգով հագեցած ջրաչափական սարքավորումներով կահավորում
A32: Միջոցառման տեսակը` | B32: Պետական մարմինների կողմից օգտագործվող ոչ ֆինանսական ակտիվների հետ գործառնություններ
A33: Ակտիվն օգտագործող կազմակերպության(ների) անվանում(ները)՛ | B33: ՀՀ ՏԿԵՆ ջրային կոմիտե
A34: Արդյունքի չափորոշիչներ
A35: Ջրաչափական սարքավորումների քանակը, հատ | C35: -30 | D35: 0 | E35: 0 | F35: 0
A36: Միջոցառման վրա կատարվող ծախսը (հազար դրամ) | C36: ='1'!D25 -> -21509.6 | D36: ='1'!E25 -> 0 | E36: ='1'!F25 -> 0 | F36: ='1'!G25 -> 0
A38: Ծրագրի դասիչը` | B38: 1004 | C38: Ցուցանիշներ
C39: Ցուցանիշների փոփոխությունը (ավելացումները նշված են դրական նշանով, իսկ նվազեցումները` փակագծերում)
A40: Միջոցառման դասիչը` | B40: 31010 | C40: Առաջին եռամսյակ | D40: Առաջին կիսամյակ | E40: Ինն ամիս | F40: Տարի
A41: Միջոցառման անվանումը` | B41: ='1'!C32 -> Հեր-Հերի ջրամբարից ինքնահոս ջրատարի կառուցում
A42: Նկարագրությունը` | B42: ='1'!C34 -> Հեր-Հերի ջրամբարից ինքնահոս ջրատարի կառուցման համար նախագծերի և աշխատանքների ձեռքբերում
A43: Միջոցառման տեսակը` | B43: Պետական մարմինների կողմից օգտագործվող ոչ ֆինանսական ակտիվների հետ գործառնություններ
A44: Ակտիվն օգտագործող կազմակերպության(ների) անվանում(ները)՛ | B44: ՀՀ ՏԿԵՆ ջրային կոմիտե
A45: Արդյունքի չափորոշիչներ
A46: Կառուցվող ջրատար, կմ | C46: -0.5 | D46: -0.8 | E46: -0.8 | F46: -0.8
A47: Միջոցառման վրա կատարվող ծախսը (հազար դրամ) | C47: ='1'!D31 -> -89999.96 | D47: ='1'!E31 -> -235067.96 | E47: ='1'!F31 -> -235067.96 | F47: ='1'!G31 -> -235067.96
A49: Ծրագրի դասիչը` | B49: 1004 | C49: Ցուցանիշներ
C50: Ցուցանիշների փոփոխությունը (ավելացումները նշված են դրական նշանով, իսկ նվազեցումները` փակագծերում)
A51: Միջոցառման դասիչը` | B51: 31012 | C51: Առաջին եռամսյակ | D51: Առաջին կիսամյակ | E51: Ինն ամիս | F51: Տարի
A52: Միջոցառման անվանումը` | B52: Գետերի և հեղեղատարների տեղամասերի ամրացման և մաքրման աշխատանքներ
A53: Նկարագրությունը` | B53: Գետերի և հեղեղատարների տեղամասերի ամրացման և մաքրման համար նախագծերի և աշխատանքների ձեռքբերում
A54: Միջոցառման տեսակը` | B54: Պետական մարմինների կողմից օգտագործվող ոչ ֆինանսական ակտիվների հետ գործառնություններ
A55: Ակտիվն օգտագործող կազմակերպության(ների) անվանում(ները)՛ | B55: ՀՀ ՏԿԵՆ ջրային կոմիտե
A56: Արդյունքի չափորոշիչներ
A57: Գետի ափի ամրացում, մ | C57: 77 | D57: 77 | E57: 77 | F57: 77
A58: Միջոցառման վրա կատարվող ծախսը (հազար դրամ) | C58: ='1'!D37 -> 15621.26 | D58: ='1'!E37 -> 15621.26 | E58: ='1'!F37 -> 15621.26 | F58: ='1'!G37 -> 15621.26
A61: Ծրագրի դասիչը | B61: Ծրագրի անվանումը
A62: 1072 | B62: Ջրամատակարարման և ջրահեռացման բարելավում
A63: Ծրագրի միջոցառումները
A64: Ծրագրի դասիչը` | B64: 1072 | C64: Ցուցանիշներ
C65: Ցուցանիշների փոփոխությունը (ավելացումները նշված են դրական նշանով, իսկ նվազեցումները` փակագծերում)
A66: Միջոցառման դասիչը` | B66: 31010 | C66: Առաջին եռամսյակ | D66: Առաջին կիսամյակ | E66: Ինն ամիս | F66: Տարի
A67: Միջոցառման անվանումը` | B67: Ջրամատակարարման և ջրահեռացման համակարգերի հիմնանորոգում
A68: Նկարագրությունը` | B68: Ջրամատակարարման և ջրահեռացման համակարգերի հիմնանորոգման նախագծերի և աշխատանքների ձեռքբերում
A69: Միջոցառման տեսակը` | B69: Պետական մարմինների կողմից օգտագործվող ոչ ֆինանսական ակտիվների հետ գործառնություններ
A70: Ակտիվն օգտագործող կազմակերպության(ների) անվանում(ները)՛ | B70: ՀՀ ՏԿԵՆ ջրային կոմիտե
A71: Արդյունքի չափորոշիչներ
A72: Խողովակաշարի վերակառուցում 500 մմ տրամագծով , մ | C72: 310 | D72: 310 | E72: 310 | F72: 310
A73: Միջոցառման վրա կատարվող ծախսը (հազար դրամ) | C73: 21509.6 | D73: 21509.6 | E73: 21509.6 | F73: 21509.6
F75: 9.47
A76: ՀՀ կառավարություն
A77: ՄԱՍ 2. ՊԵՏԱԿԱՆ ՄԱՐՄՆԻ ԳԾՈՎ ԱՐԴՅՈՒՆՔԱՅԻՆ (ԿԱՏԱՐՈՂԱԿԱՆ) ՑՈՒՑԱՆԻՇՆԵՐԸ
A79: Ծրագրի դասիչը | B79: Ծրագրի անվանումը
A80: 1139 | B80: ՀՀ կառավարության պահուստային ֆոնդ
A82: Ծրագրի միջոցառումները
C83: Ցուցանիշներ
A84: Ծրագրի դասիչը` | B84: 1139 | C84: Ցուցանիշների փոփոխությունը (ավելացումները նշված են դրական նշանով, իսկ նվազեցումները` փակագծերում)
A85: Միջոցառման դասիչը` | B85: 11001 | C85: Առաջին եռամսյակ | D85: Առաջին կիսամյակ | E85: Ինն ամիս | F85: Տարի
A86: Միջոցառման անվանումը` | B86: ՀՀ կառավարության պահուստային ֆոնդ
A87: Նկարագրությունը` | B87: ՀՀ պետական բյուջեում նախատեսված ելքերի լրացուցիչ ֆինանսավորման՝ պետական բյուջեում չկանխատեսված ելքերի՝ ինչպես նաև բյուջետային երաշխիքների ապահովման ելքերի ֆինանսավորման ապահովում
A88: Միջոցառման տեսակը` | B88: Ծառայությունների մատուցում
A89: Միջոցառումն իրականացնողի անվանումը | B89: ՀՀ կառավարություն
A90: Արդյունքի չափորոշիչներ
A91: Միջոցառման վրա կատարվող ծախսը (հազար դրամ) | C91: ='1'!D64 -> -111509.56 | D91: ='1'!E64 -> -235067.96 | E91: ='1'!F64 -> -235067.96 | F91: ='1'!G64 -> -235067.96
A94: Ծրագրի դասիչը | B94: Ծրագրի անվանումը
A95: 1139 | B95: ՀՀ կառավարության պահուստային ֆոնդ
A97: Ծրագրի միջոցառումները
C98: Ցուցանիշներ
A99: Ծրագրի դասիչը` | B99: 1139 | C99: Ցուցանիշների փոփոխությունը (ավելացումները նշված են դրական նշանով, իսկ նվազեցումները` փակագծերում)
A100: Միջոցառման դասիչը` | B100: 11001 | C100: Առաջին եռամսյակ | D100: Առաջին կիսամյակ | E100: Ինն ամիս | F100: Տարի
A101: Միջոցառման անվանումը` | B101: ՀՀ կառավարության պահուստային ֆոնդ
A102: Նկարագրությունը` | B102: ՀՀ պետական բյուջեում նախատեսված ելքերի լրացուցիչ ֆինանսավորման՝ պետական բյուջեում չկանխատեսված ելքերի՝ ինչպես նաև բյուջետային երաշխիքների ապահովման ելքերի ֆինանսավորման ապահովում
A103: Միջոցառման տեսակը` | B103: Ծառայությունների մատուցում
A104: Միջոցառումն իրականացնողի անվանումը | B104: ՀՀ կառավարություն
A105: Արդյունքի չափորոշիչներ
A106: Միջոցառման վրա կատարվող ծախսը (հազար դրամ) | C106: ='1'!D70 -> 111509.56 | D106: ='1'!E70 -> 235067.96 | E106: ='1'!F70 -> 235067.96 | F106: ='1'!G70 -> 235067.96

Sheet 6-2
A2: Աղյուսակ N 2
A3: ՀԱՅԱՍՏԱՆԻ ՀԱՆՐԱՊԵՏՈՒԹՅԱՆ ԿԱՌԱՎԱՐՈՒԹՅԱՆ 2020 ԹՎԱԿԱՆԻ ԴԵԿՏԵՄԲԵՐԻ 30-Ի N 2215-Ն ՈՐՈՇՄԱՆ N 9.1 ՀԱՎԵԼՎԱԾԻ N 9.1.26 և N 9.1.58 ԱՂՅՈՒՍԱԿՆԵՐՈՒՄ ԿԱՏԱՐՎՈՂ ՓՈՓՈԽՈՒԹՅՈՒՆՆԵՐԸ ԵՎ ԼՐԱՑՈՒՄՆԵՐԸ
F6: Աղյուսակ 9.1.26
A7: ՀՀ տարածքային կառավարման և ենթակառուցվածքների նախարարության ջրային կոմիտե
A9: Ծրագրի դասիչը | B9: Ծրագրի անվանումը
A10: 1004 | B10: Ոռոգման համակարգի առողջացում
A12: Ծրագրի միջոցառումները
A13: Ծրագրի դասիչը` | B13: 1004 | C13: Ցուցանիշներ
C14: Ցուցանիշների փոփոխությունը (ավելացումները նշված են դրական նշանով, իսկ նվազեցումները` փակագծերում)
A15: Միջոցառման դասիչը` | B15: 31002 | C15: Առաջին եռամսյակ | D15: Առաջին կիսամյակ | E15: Ինն ամիս | F15: Տարի
A16: Միջոցառման անվանումը` | B16: Ոռոգման համակարգերի հիմնանորոգում
A17: Նկարագրությունը` | B17: Ոռոգման համակարգերի հիմնանորոգում
A18: Միջոցառման տեսակը` | B18: Պետական մարմինների կողմից օգտագործվող ոչ ֆինանսական ակտիվների հետ գործառնություններ
A19: Ակտիվն օգտագործող կազմակերպության(ների) անվանում(ները)՛ | B19: ՀՀ ՏԿԵՆ ջրային կոմիտե
A20: Արդյունքի չափորոշիչներ
A21: Կառուցվող ջրագիծ,մ | C21: ='6-1'!C24 -> 700 | D21: ='6-1'!D24 -> 2927 | E21: ='6-1'!E24 -> 2927 | F21: ='6-1'!F24 -> 2927
A22: Միջոցառման վրա կատարվող ծախսը (հազար դրամ) | C22: ='1'!D19 -> 74378.7 | D22: ='1'!E19 -> 197937.1 | E22: ='1'!F19 -> 197937.1 | F22: ='1'!G19 -> 197937.1
A24: Ծրագրի դասիչը` | B24: 1004 | C24: Ցուցանիշներ
C25: Ցուցանիշների փոփոխությունը (ավելացումները նշված են դրական նշանով, իսկ նվազեցումները` փակագծերում)
A26: Միջոցառման դասիչը` | B26: 31007 | C26: Առաջին եռամսյակ | D26: Առաջին կիսամյակ | E26: Ինն ամիս | F26: Տարի
A27: Միջոցառման անվանումը` | B27: Ջրային տնտեսության հիդրոտեխնիկական սարքավորումների տեղադրման աշխատանքներ
A28: Նկարագրությունը` | B28: Ոռոգման համակարգերի ջրանցքների բաժանարար կետերը SCADA համակարգով հագեցած ջրաչափական սարքավորումներով կահավորում
A29: Միջոցառման տեսակը` | B29: Պետական մարմինների կողմից օգտագործվող ոչ ֆինանսական ակտիվների հետ գործառնություններ
A30: Ակտիվն օգտագործող կազմակերպության(ների) անվանում(ները)՛ | B30: ՀՀ ՏԿԵՆ ջրային կոմիտե
A31: Արդյունքի չափորոշիչներ
A32: Ջրաչափական սարքավորումների քանակը, հատ | C32: ='6-1'!C35 -> -30 | D32: ='6-1'!D35 -> 0 | E32: ='6-1'!E35 -> 0 | F32: ='6-1'!F35 -> 0
A33: Միջոցառման վրա կատարվող ծախսը (հազար դրամ) | C33: ='6-1'!C36 -> -21509.6 | D33: ='6-1'!D36 -> 0 | E33: ='6-1'!E36 -> 0 | F33: ='6-1'!F36 -> 0
A35: Ծրագրի դասիչը` | B35: 1004 | C35: Ցուցանիշներ
C36: Ցուցանիշների փոփոխությունը (ավելացումները նշված են դրական նշանով, իսկ նվազեցումները` փակագծերում)
A37: Միջոցառման դասիչը` | B37: 31010 | C37: Առաջին եռամսյակ | D37: Առաջին կիսամյակ | E37: Ինն ամիս | F37: Տարի
A38: Միջոցառման անվանումը` | B38: ='6-1'!B41 -> Հեր-Հերի ջրամբարից ինքնահոս ջրատարի կառուցում
A39: Նկարագրությունը` | B39: ='6-1'!B42 -> Հեր-Հերի ջրամբարից ինքնահոս ջրատարի կառուցման համար նախագծերի և աշխատանքների ձեռքբերում
A40: Միջոցառման տեսակը` | B40: Պետական մարմինների կողմից օգտագործվող ոչ ֆինանսական ակտիվների հետ գործառնություններ
A41: Ակտիվն օգտագործող կազմակերպության(ների) անվանում(ները)՛ | B41: ՀՀ ՏԿԵՆ ջրային կոմիտե
A42: Արդյունքի չափորոշիչներ
A43: ='6-1'!A46:B46 -> Կառուցվող ջրատար, կմ | C43: ='6-1'!C46 -> -0.5 | D43: ='6-1'!D46 -> -0.8 | E43: ='6-1'!E46 -> -0.8 | F43: ='6-1'!F46 -> -0.8
A44: Միջոցառման վրա կատարվող ծախսը (հազար դրամ) | C44: ='1'!D31 -> -89999.96 | D44: ='1'!E31 -> -235067.96 | E44: ='1'!F31 -> -235067.96 | F44: ='1'!G31 -> -235067.96
A46: Ծրագրի դասիչը` | B46: 1004 | C46: Ցուցանիշներ
C47: Ցուցանիշների փոփոխությունը (ավելացումները նշված են դրական նշանով, իսկ նվազեցումները` փակագծերում)
A48: Միջոցառման դասիչը` | B48: 31012 | C48: Առաջին եռամսյակ | D48: Առաջին կիսամյակ | E48: Ինն ամիս | F48: Տարի
A49: Միջոցառման անվանումը` | B49: Գետերի և հեղեղատարների տեղամասերի ամրացման և մաքրման աշխատանքներ
A50: Նկարագրությունը` | B50: Գետերի և հեղեղատարների տեղամասերի ամրացման և մաքրման համար նախագծերի և աշխատանքների ձեռքբերում
A51: Միջոցառման տեսակը` | B51: Պետական մարմինների կողմից օգտագործվող ոչ ֆինանսական ակտիվների հետ գործառնություններ
A52: Ակտիվն օգտագործող կազմակերպության(ների) անվանում(ները)՛ | B52: ՀՀ ՏԿԵՆ ջրային կոմիտե
A53: Արդյունքի չափորոշիչներ
A54: Գետի ափի ամրացում, մ | C54: 77 | D54: 77 | E54: 77 | F54: 77
A55: Միջոցառման վրա կատարվող ծախսը (հազար դրամ) | C55: ='1'!D37 -> 15621.26 | D55: ='1'!E37 -> 15621.26 | E55: ='1'!F37 -> 15621.26 | F55: ='1'!G37 -> 15621.26
A57: Ծրագրի դասիչը | B57: Ծրագրի անվանումը
A58: 1072 | B58: Ջրամատակարարման և ջրահեռացման բարելավում
A59: Ծրագրի միջոցառումները
A60: Ծրագրի դասիչը` | B60: 1072 | C60: Ցուցանիշներ
C61: Ցուցանիշների փոփոխությունը (ավելացումները նշված են դրական նշանով, իսկ նվազեցումները` փակագծերում)
A62: Միջոցառման դասիչը` | B62: 31010 | C62: Առաջին եռամսյակ | D62: Առաջին կիսամյակ | E62: Ինն ամիս | F62: Տարի
A63: Միջոցառման անվանումը` | B63: Ջրամատակարարման և ջրահեռացման համակարգերի հիմնանորոգում
A64: Նկարագրությունը` | B64: Ջրամատակարարման և ջրահեռացման համակարգերի հիմնանորոգման նախագծերի և աշխատանքների ձեռքբերում
A65: Միջոցառման տեսակը` | B65: Պետական մարմինների կողմից օգտագործվող ոչ ֆինանսական ակտիվների հետ գործառնություններ
A66: Ակտիվն օգտագործող կազմակերպության(ների) անվանում(ները)՛ | B66: ՀՀ ՏԿԵՆ ջրային կոմիտե
A67: Արդյունքի չափորոշիչներ
A68: Խողովակաշարի վերակառուցում 500 մմ տրամագծով , մ | C68: 310 | D68: 310 | E68: 310 | F68: 310
A69: Միջոցառման վրա կատարվող ծախսը (հազար դրամ) | C69: 21509.6 | D69: 21509.6 | E69: 21509.6 | F69: 21509.6
F71: Աղյուսակ 9.1.58
A72: ՀՀ կառավարություն
A73: ՄԱՍ 2. ՊԵՏԱԿԱՆ ՄԱՐՄՆԻ ԳԾՈՎ ԱՐԴՅՈՒՆՔԱՅԻՆ (ԿԱՏԱՐՈՂԱԿԱՆ) ՑՈՒՑԱՆԻՇՆԵՐԸ
A75: Ծրագրի դասիչը | B75: Ծրագրի անվանումը
A76: 1139 | B76: ՀՀ կառավարության պահուստային ֆոնդ
A78: Ծրագրի միջոցառումները
C79: Ցուցանիշներ
A80: Ծրագրի դասիչը` | B80: 1139 | C80: Ցուցանիշների փոփոխությունը (ավելացումները նշված են դրական նշանով, իսկ նվազեցումները` փակագծերում)
A81: Միջոցառման դասիչը` | B81: 11001 | C81: Առաջին եռամսյակ | D81: Առաջին կիսամյակ | E81: Ինն ամիս | F81: Տարի
A82: Միջոցառման անվանումը` | B82: ՀՀ կառավարության պահուստային ֆոնդ
A83: Նկարագրությունը` | B83: ՀՀ պետական բյուջեում նախատեսված ելքերի լրացուցիչ ֆինանսավորման՝ պետական բյուջեում չկանխատեսված ելքերի՝ ինչպես նաև բյուջետային երաշխիքների ապահովման ելքերի ֆինանսավորման ապահովում
A84: Միջոցառման տեսակը` | B84: Ծառայությունների մատուցում
A85: Միջոցառումն իրականացնողի անվանումը | B85: ՀՀ կառավարություն
A86: Արդյունքի չափորոշիչներ
A87: Միջոցառման վրա կատարվող ծախսը (հազար դրամ) | C87: ='6-1'!C91 -> -111509.56 | D87: ='6-1'!D91 -> -235067.96 | E87: ='6-1'!E91 -> -235067.96 | F87: ='6-1'!F91 -> -235067.96
A90: Ծրագրի դասիչը | B90: Ծրագրի անվանումը
A91: 1139 | B91: ՀՀ կառավարության պահուստային ֆոնդ
A93: Ծրագրի միջոցառումները
C94: Ցուցանիշներ
A95: Ծրագրի դասիչը` | B95: 1139 | C95: Ցուցանիշների փոփոխությունը (ավելացումները նշված են դրական նշանով, իսկ նվազեցումները` փակագծերում)
A96: Միջոցառման դասիչը` | B96: 11001 | C96: Առաջին եռամսյակ | D96: Առաջին կիսամյակ | E96: Ինն ամիս | F96: Տարի
A97: Միջոցառման անվանումը` | B97: ՀՀ կառավարության պահուստային ֆոնդ
A98: Նկարագրությունը` | B98: ՀՀ պետական բյուջեում նախատեսված ելքերի լրացուցիչ ֆինանսավորման՝ պետական բյուջեում չկանխատեսված ելքերի՝ ինչպես նաև բյուջետային երաշխիքների ապահովման ելքերի ֆինանսավորման ապահովում
A99: Միջոցառման տեսակը` | B99: Ծառայությունների մատուցում
A100: Միջոցառումն իրականացնողի անվանումը | B100: ՀՀ կառավարություն
A101: Արդյունքի չափորոշիչներ
A102: Միջոցառման վրա կատարվող ծախսը (հազար դրամ) | C102: ='6-1'!C106 -> 111509.56 | D102: ='6-1'!D106 -> 235067.96 | E102: ='6-1'!E106 -> 235067.96 | F102: ='6-1'!F106 -> 235067.96

Sheet 7
A2: Հավելված N 7
A3: ՀՀ կառավարության 2021 թվականի
A4: -ի N -Ն որոշման
A6: ՀԱՅԱՍՏԱՆԻ ՀԱՆՐԱՊԵՏՈՒԹՅԱՆ ԿԱՌԱՎԱՐՈՒԹՅԱՆ 2020 ԹՎԱԿԱՆԻ ԴԵԿՏԵՄԲԵՐԻ 30-Ի N 2215-Ն ՈՐՈՇՄԱՆ N 10 ՀԱՎԵԼՎԱԾՈՒՄ ԿԱՏԱՐՎՈՂ ՓՈՓՈԽՈՒԹՅՈՒՆՆԵՐԸ ԵՎ ԼՐԱՑՈՒՄՆԵՐԸ
A8: Կոդը | B8: Անվանումը | C8: Գնման ձևը | D8: Չափի միավորը | E8: Միավորի գինը | F8: Ցուցանիշների փոփոխությունը (ավելացումները նշված են դրական նշանով)
F9: քանակը | G9: գումարը (հազ. դրամ)
A10: ՀՀ տարածքային կառավարման և ենթակառուցվածքների նախարարության ջրային կոմիտե | G10: =G11+G14+G23+G29 -> 0.04
A11: Ծրագիր <<Ոռոգման համակարգի առողջացում>> Միջոցառում <<Հեր-Հերի ջրամբարից ինքնահոս ջրատարի կառուցում>> Բաժին N 04, Խումբ N 02, Դաս N 04 Ոռոգում Ծրագիր 1004 Միջոցառում 31010 | G11: =G12 -> -235067.96
B12: ՄԱՍ II ԱՇԽԱՏԱՆՔՆԵՐ | G12: =G13 -> -235067.96
A13: 45241170/1 | B13: ջրամատակարարման համակարգերի կառուցում | C13: ԲՄ | D13: դրամ | G13: ='1'!G31 -> -235067.96
A14: Ծրագիր <<Ոռոգման համակարգի առողջացում>> Միջոցառում <<Ոռոգման համակարգերի հիմնանորոգում>> Բաժին N 04, Խումբ N 02, Դաս N 04 Ոռոգում Ծրագիր 1004 Միջոցառում 31002 | G14: =G15+G18 -> 197937.1
B15: ՄԱՍ II ԱՇԽԱՏԱՆՔՆԵՐ | G15: =G16+G17 -> 192694.8
A16: 45231126/ | B16: ոռոգման խողովակաշարերի կառուցման աշխատանքներ | C16: ՀԲՄ | D16: դրամ | E16: 86533000 | F16: 1 | G16: =E16*F16/1000 -> 86533
A17: 45231126/ | B17: ոռոգման խողովակաշարերի կառուցման աշխատանքներ | C17: ՀԲՄ | D17: դրամ | E17: 106161800 | F17: 1 | G17: =E17*F17/1000 -> 106161.8
B18: ՄԱՍ III ԾԱՌԱՅՈՒԹՅՈՒՆՆԵՐ | G18: =G19+G20+G21+G22 -> 5242.3
A19: 71351540/ | B19: Տեխնիկական հսկողության ծառայություններ | C19: ԳՀ | D19: դրամ | E19: 2200000 | F19: 1 | G19: =E19*F19/1000 -> 2200
A20: 71351540/ | B20: Տեխնիկական հսկողության ծառայություններ | C20: ԳՀ | D20: դրամ | E20: 1380400 | F20: 1 | G20: =E20*F20/1000 -> 1380.4
A21: 98111140/ | B21: Հեղինակային հսկողության ծառայություններ | C21: ՄԱ | D21: դրամ | E21: 598300 | F21: 1 | G21: =E21*F21/1000 -> 598.3
A22: 98111140/ | B22: Հեղինակային հսկողության ծառայություններ | C22: ՄԱ | D22: դրամ | E22: 1063600 | F22: 1 | G22: =E22*F22/1000 -> 1063.6
A23: Ծրագիր <<Ոռոգման համակարգի առողջացում>> Միջոցառում <<Գետերի և հեղեղատարների տեղամասերի ամրացման և մաքրման աշխատանքներ>> Բաժին N 04, Խումբ N 02, Դաս N 04 Ոռոգում Ծրագիր 1004 Միջոցառում 31012 | G23: =G24+G26 -> 15621.3
B24: ՄԱՍ II ԱՇԽԱՏԱՆՔՆԵՐ | G24: =G25 -> 15255.2
A25: 45241133/ | B25: Գետերի ափերի պաշտպանության աշխատանքներ | C25: ԳՀ | D25: դրամ | E25: 15255200 | F25: 1 | G25: =E25*F25/1000 -> 15255.2
B26: ՄԱՍ III ԾԱՌԱՅՈՒԹՅՈՒՆՆԵՐ | G26: =G27+G28 -> 366.1
A27: 71351540/ | B27: Տեխնիկական հսկողության ծառայություններ | C27: ԳՀ | D27: դրամ | E27: 305100 | F27: 1 | G27: =E27*F27/1000 -> 305.1
A28: 98111140/ | B28: Հեղինակային հսկողության ծառայություններ | C28: ՄԱ | D28: դրամ | E28: 61000 | F28: 1 | G28: =E28*F28/1000 -> 61
A29: Ծրագիր <<Ջրամատակարարման և ջրահեռացման բարելավում>> Միջոցառում <<Ջրամատակարարման և ջրահեռացման համակարգերի հիմնանորոգում>> Բաժին N 06, Խումբ N 03, Դաս N 01 Ջրամատակարարում Ծրագիր 1072 Միջոցառում 31010 | G29: =G30+G32 -> 21509.6
B30: ՄԱՍ II ԱՇԽԱՏԱՆՔՆԵՐ | G30: =G31 -> 20964.5
A31: 45231119/ | B31: շինարարական աշխատանքներ ջրային և կոյուղիների խողովակաշարարերի համար | C31: ՀՄԱ | D31: դրամ | E31: 20964500 | F31: 1 | G31: =E31*F31/1000 -> 20964.5
B32: ՄԱՍ III ԾԱՌԱՅՈՒԹՅՈՒՆՆԵՐ | G32: =G33+G34 -> 545.1
A33: 71351540/ | B33: Տեխնիկական հսկողության ծառայություններ | C33: ՀՄԱ | D33: դրամ | E33: 419300 | F33: 1 | G33: =E33*F33/1000 -> 419.3
A34: 98111140/ | B34: Հեղինակային հսկողության ծառայություններ | C34: ՄԱ | D34: դրամ | E34: 125800 | F34: 1 | G34: =E34*F34/1000 -> 125.8
