Workbook
Name AgencyCode: #REF!
Name AgencyCode: #REF!
Name AgencyCode: #REF!
Name AgencyCode: #REF!
Name AgencyName: #REF!
Name AgencyName: #REF!
Name AgencyName: #REF!
Name Functional1: #REF!
Name Functional1: #REF!
Name Functional1: #REF!
Name PANature: #REF!
Name PANature: #REF!
Name PANature: #REF!
Name PAType: #REF!
Name PAType: #REF!
Name PAType: #REF!
Name Performance2: #REF!
Name Performance2: #REF!
Name Performance2: #REF!
Name PerformanceType: #REF!
Name PerformanceType: #REF!
Name PerformanceType: #REF!

Sheet 1
A1: Հավելված N1
A2: ՀՀ կառավարության 2021 թվականի
A3: ______________ ի ___Ն որոշման
B5: «ՀԱՅԱՍՏԱՆԻ ՀԱՆՐԱՊԵՏՈՒԹՅԱՆ 2021 ԹՎԱԿԱՆԻ ՊԵՏԱԿԱՆ ԲՅՈՒՋԵԻ ՄԱՍԻՆ» ՕՐԵՆՔԻ N 1 ՀԱՎԵԼՎԱԾԻ N 2 ԱՂՅՈՒՍԱԿՈՒՄ ԿԱՏԱՐՎՈՂ ՎԵՐԱԲԱՇԽՈՒՄԸ ԵՎ ՀԱՅԱՍՏԱՆԻ ՀԱՆՐԱՊԵՏՈՒԹՅԱՆ ԿԱՌԱՎԱՐՈՒԹՅԱՆ 2020 ԹՎԱԿԱՆԻ ԴԵԿՏԵՄԲԵՐԻ 30-Ի N 2215-Ն ՈՐՈՇՄԱՆ N 5 ՀԱՎԵԼՎԱԾԻ N 1 ԱՂՅՈՒՍԱԿՈՒՄ ԿԱՏԱՐՎՈՂ ՓՈՓՈԽՈՒԹՅՈՒՆՆԵՐԸ ԵՎ ԼՐԱՑՈՒՄՆԵՐԸ
G7: հազար դրամներով
B8: Ծրագրային դասիչը | D8: Բյուջետային ծախսերի գործառական դասակարգման բաժինների, խմբերի և դասերի, բյուջետային հատկացումների գլխավոր կարգադրիչների, ծրագրերի, միջոցառումների և միջոցառումները կատարող պետական մարմինների անվանումները | E8: Ցուցանիշների փոփոխությունը (ավելացումները նշված են դրական նշանով, իսկ նվազեցումները` փակագծերում)
B9: Ծրագիր | C9: Միջոցա ռում | E9: Առաջին եռամսյակ | F9: Առաջին կիսամյակ | G9: Ինն ամիս | H9: Տարի
D10: ԸՆԴԱՄԵՆԸ ԾԱԽՍԵՐ | E10: =+E12 -> 0 | F10: =+F12 -> 0 | G10: =+G12 -> 0 | H10: =+H12 -> 0
D11: այդ թվում`
D12: ՀՀ տարածքային կառավարման և ենթակառուցվածքների նախարարություն | E12: =+E13 -> 0 | F12: =+F13 -> 0 | G12: =+G13 -> 0 | H12: =+H13 -> 0
B13: 1049 | D13: Ծրագրի անվանումը` | E13: =+E20+E26 -> 0 | F13: =+F20+F26 -> 0 | G13: =+G20+G26 -> 0 | H13: =+H20+H26 -> 0
D14: Ճանապարհային ցանցի բարելավում
D15: Ծրագրի նպատակը`
D16: Ճանապարհային ցանցի բարելավում և անվտանգ երթևեկության ապահովում
D17: Վերջնական արդյունքի նկարագրությունը`
D18: Ճանապարհների ծածկի որակի և փոխադրումների արդյունավետության բարելավում, ճանապարհների վիճակով պայմանավորված պատահարների նվազում
B19: Ծրագրի միջոցառումներ
C20: 21001 | D20: Միջոցառման անվանումը` | E20: =-E26 -> 25200 | F20: =-F26 -> 25200 | G20: =-G26 -> 25200 | H20: =-H26 -> 25200
D21: Պետական նշանակության ավտոճանապարհների հիմնանորոգում
D22: Միջոցառման նկարագրությունը`
D23: Միջպետական, հանրապետական և մարզային նշանակության ավտոճանապարհների քայքայված ծածկի վերանորոգում, մաշված ծածկի փոխարինում_x000D_
D24: Միջոցառման տեսակը
D25: Հանրության կողմից անմիջականորեն օգտագործվող ակտիվների հետ կապված միջոցառումներ
C26: 11001 | D26: Միջոցառման անվանումը` | E26: -25200 | F26: -25200 | G26: -25200 | H26: -25200
D27: Միջպետական և հանրապետական նշանակության ավտոճանապարհների պահպանման և անվտանգ երթևեկության ծառայություններ
D28: Միջոցառման նկարագրությունը`
D29: Հողային պաստառի, երթևեկելի մասի, արհեստական կառույցների և կահավորման տարրերի նորմատիվ մակարդակում պահպանում և շահագործում
D30: Միջոցառման տեսակը
D31: Ծառայությունների մատուցում

Sheet 2
H1: Հավելված N2
H2: ՀՀ կառավարության 2021 թվականի
H3: ______________ ի ___Ն որոշման
A4: «ՀԱՅԱՍՏԱՆԻ ՀԱՆՐԱՊԵՏՈՒԹՅԱՆ 2021 ԹՎԱԿԱՆԻ ՊԵՏԱԿԱՆ ԲՅՈՒՋԵԻ ՄԱՍԻՆ» ՕՐԵՆՔԻ N 1 ՀԱՎԵԼՎԱԾԻ N 3 ԱՂՅՈՒՍԱԿՈՒՄ ԿԱՏԱՐՎՈՂ ՓՈՓՈԽՈՒԹՅՈՒՆՆԵՐԸ ԵՎ ԼՐԱՑՈՒՄՆԵՐԸ
G5: հազար դրամներով
A6: Ծրագրային դասիչ | C6: Բյուջետային գլխավոր կարգադրիչների, ծրագրերի, միջոցառումների և ուղղությունների անվանումները | D6: Ցուցանիշների փոփոխությունը (ավելացումները նշված են դրական նշանով, իսկ նվազեցումները` փակագծերում)
D7: Ընդամենը, | E7: այդ թվում՝
A8: Ծրագիր | B8: Միջոցառում | E8: Կառուցման աշխատանքներ | F8: Վերակառուցման, վերանորոգման և վերականգնման աշխատանքներ | G8: Նախագծահե- տազոտական, գեոդեզիա- քարտեզագրա- կան աշխա- տանքներ | H8: Ոչ ֆինանսական այլ ակտիվների ձեռքբերում
C9: ԸՆԴԱՄԵՆԸ | D9: =+E9+F9+G9+H9 -> 25200 | E9: =E11 -> 0 | F9: =F11 -> -443573 | G9: =G11 -> 468773 | H9: =H11 -> 0
C10: այդ թվում՝
C11: ՀՀ ՏԱՐԱԾՔԱՅԻՆ ԿԱՌԱՎԱՐՄԱՆ ԵՎ ԵՆԹԱԿԱՌՈՒՑՎԱԾՔՆԵՐԻ ՆԱԽԱՐԱՐՈՒԹՅՈՒՆ | D11: =+E11+F11+G11+H11 -> 25200 | E11: =+E13 -> 0 | F11: =+F13 -> -443573 | G11: =+G13 -> 468773 | H11: =+H13 -> 0
C12: այդ թվում`
A13: 1049 | B13: 21001 | C13: Պետական նշանակության ավտոճանապարհների հիմնանորոգում | D13: =+E13+F13+G13+H13 -> 25200 | E13: =+E15+E39+E63 -> 0 | F13: -443573 | G13: =+G15+G39+G63 -> 468773 | H13: =+H15+H39+H63 -> 0
C14: այդ թվում`
B15: 1 | C15: Միջպետական նշանակության ավտոճանապարհներ, այդ թվում | D15: =+E15+F15+G15+H15 -> 146372.4 | E15: =+E16+E31+E26+E33+E18 -> 0 | F15: =+F16+F31+F26+F33+F18 -> 0 | G15: =+G35+G37+G16+G31+G26+G33+G18+G29 -> 146372.4 | H15: =+H16+H31+H26+H33+H18 -> 0
C16: Մ-1, Երևան-Գյումրի-Վրաստանի սահման | D16: =+E16+F16+G16+H16 -> 5319.9 | E16: =SUM(E17:E17) -> 0 | F16: =SUM(F17:F17) -> 0 | G16: =+G17 -> 5319.9 | H16: =SUM(H17:H17) -> 0
C17: կմ 152+600-կմ 156+700 հատվածի հիմնանորոգում | D17: =+E17+F17+G17+H17 -> 5319.9 | G17: 5319.9
C18: Մ-2, Երևան-Երասխ-Գորիս-Մեղրի-Իրանի սահման | D18: =+E18+F18+G18+H18 -> 69338.7 | E18: =SUM(E19:E25) -> 0 | F18: =SUM(F19:F25) -> 0 | G18: =+G19+G20+G21+G22+G23+G24+G25 -> 69338.7 | H18: =SUM(H19:H25) -> 0
C19: կմ 53+150 -կմ 65+350 հատվածի հիմնանորոգում | D19: =+E19+F19+G19+H19 -> 6029.2 | G19: 6029.2
C20: կմ98+000 - կմ101+400 հատվածի հիմնանորոգում | D20: =+E20+F20+G20+H20 -> 1680.3 | G20: 1680.3
C21: կմ108+400 - կմ126+100 հատվածի հիմնանորոգում | D21: =+E21+F21+G21+H21 -> 8388.4 | G21: 8388.4
C22: կմ150+700 - կմ167+600 հատվածի հիմնանորոգում | D22: =+E22+F22+G22+H22 -> 27016.6 | G22: 27016.6
C23: կմ196+000- կմ202+200 հատվածի հիմնանորոգում | D23: =+E23+F23+G23+H23 -> 3063.9 | G23: 3063.9
C24: կմ254+000 - կմ265+000 հատվածի հիմնանորոգում | D24: =+E24+F24+G24+H24 -> 18070.4 | G24: 18070.4
C25: կմ374+000 - կմ384+300 հատվածի հիմնանորոգում | D25: =+E25+F25+G25+H25 -> 5089.9 | G25: 5089.9
C26: Մ- 3, Թուրքիայի սահման-Մարգարա-Վանաձոր-Տաշիր-Վրաստանի սահման | D26: =+E26+F26+G26+H26 -> 20464.2 | E26: =SUM(E27:E27) -> 0 | F26: =SUM(F27:F27) -> 0 | G26: =+G27+G28 -> 20464.2 | H26: =SUM(H27:H27) -> 0
C27: կմ2+000 - կմ 10+500 հատվածի հիմնանորոգում | D27: =+E27+F27+G27+H27 -> 13588.2 | G27: 13588.2
C28: կմ130+400-կմ135+200 հատվածի հիմնանորոգում | D28: =+E28+F28+G28+H28 -> 6876 | G28: 6876
C29: Մ-4, Երևան-Սևան-Իջևան-Ադրբեջանի սահման | D29: =+E29+F29+G29+H29 -> 968.9 | E29: =SUM(E30:E32) -> 0 | F29: =SUM(F30:F32) -> 0 | G29: =+G30 -> 968.9 | H29: =SUM(H30:H32) -> 0
C30: կմ67+500 փլուզված հատվածի վերականգնում | D30: =+E30+F30+G30+H30 -> 968.9 | G30: 968.9
C31: Մ-7, Մ-3-Սպիտակ-Գյումրի-Թուրքիայի սահման | D31: =+E31+F31+G31+H31 -> 5190 | E31: =SUM(E32:E34) -> 0 | F31: =SUM(F32:F34) -> 0 | G31: =+G32 -> 5190 | H31: =SUM(H32:H34) -> 0
C32: կմ48+000 - կմ52+000 հատվածի հիմնանորոգում | D32: =+E32+F32+G32+H32 -> 5190 | G32: 5190
C33: Մ10, Սևան-Մարտունի-Գետափ | D33: =+E33+F33+G33+H33 -> 968.8 | E33: =SUM(E34:E34) -> 0 | F33: =SUM(F34:F34) -> 0 | G33: =+G34 -> 968.8 | H33: =SUM(H34:H34) -> 0
C34: կմ 122+000 - կմ 124+000 հատվածում հողային պաստառի փլուզված հատվածների, պաշտպանիչ հենապատերի և կառուցվածքների վերակագնում | D34: =+E34+F34+G34+H34 -> 968.8 | G34: 968.8
C35: Մ-11, Մարտունի - Վարդենիս - ԼՂՀ սահման | D35: =+E35+F35+G35+H35 -> 9713.4 | E35: =+E36 -> 0 | F35: =+F36 -> 0 | G35: =+G36 -> 9713.4 | H35: =+H36 -> 0
C36: կմ0+000-կմ5+900 հատվածի հիմնանորոգում | D36: =+E36+F36+G36+H36 -> 9713.4 | G36: 9713.4
C37: Մ-14, Մ-4-Շորժա-Վարդենիս | D37: =+E37+G37+F37+H37 -> 34408.5 | E37: =+E38 -> 0 | F37: =+F38 -> 0 | G37: =+G38 -> 34408.5 | H37: =+H38 -> 0
C38: կմ39+400 - կմ60+300 հատվածի հիմնանորոգում | D38: =+E38+G38+F38+H38 -> 34408.5 | G38: 34408.5
B39: 2 | C39: Հանրապետական նշանակության ավտոճանապարհներ, այդ թվում | D39: =+E39+F39+G39+H39 -> 262327.3 | E39: =SUM(E40:E62) -> 0 | F39: =SUM(F40:F62) -> 0 | G39: =SUM(G40:G62) -> 262327.3 | H39: =SUM(H40:H62) -> 0
C40: Հ-3, Երևան (Ջրաշխարհ, Մ-4-ի հետ հատման տեղ) - Գառնի -Գեղարդի վանք հանրապետական նշանակության ավտոճանապարհի կմ27+500-կմ33+500 հատվածի հիմնանորոգում | D40: =+E40+G40+F40+H40 -> 9878.1 | G40: 9878.1
C41: Հ-5, /Հ-6/-Նոր Գեղի-Արգել-Արզական-Հրազդան հանրապետական նշանակության ավտոճանապարհի կմ 0+000 - կմ10+000 հատվածի հիմնանորոգում | D41: =+E41+F41+G41+H41 -> 15986.1 | G41: 15986.1
C42: Հ-5, /Հ-6/-Նոր Գեղի-Արգել-Արզական-Հրազդան հանրապետական նշանակության ավտոճանապարհի կմ 25+200 - կմ36+000 հատվածի հիմնանորոգում | D42: =+E42+F42+G42+H42 -> 4372 | G42: 4372
C43: Հ-8, /Մ-2/-Այնթապ-Մխչյան-Արտաշատ-Այգևան-/Մ-2/ հանրապետական նշանակության ավտոճանապարհի կմ21+200-կմ 26+400 և կմ30+000-կմ33+500 հատվածների հիմնանորոգում | D43: =+E43+G43+F43+H43 -> 14336.9 | G43: 14336.9
C44: Հ-11, Մոտեցում Խոր Վիրապին հանրապետական նշանակության ավտոճանապարհի կմ0+000 - կմ1+700 հատվածի հիմնանորոգում | D44: =+E44+F44+G44+H44 -> 2717.6 | G44: 2717.6
C45: Հ-12, Մասիսի տրանսպորտային հանգույց - Մասիս - Ռանչպար - Արաքս - Ջրառատ - /Մ-3/ հանրապետական նշանակության ավտոճանապարհի կմ0+000 - կմ9+500 հատվածի հիմնանորոգում | D45: =+E45+F45+G45+H45 -> 15186.8 | G45: 15186.8
C46: Հ-13, /Մ-3/ (Վաղարշապատ) - Մասիս - /Մ-2/ հանրապետական նշանակության ավտոճանապարհի կմ10+300 - կմ15+300 հատվածի հիմնանորոգում | D46: =+E46+F46+G46+H46 -> 8213.8 | G46: 8213.8
C47: Հ-21, /Հ-75/ - Հոռոմ-Արթիկ-Ալագյազ հանրապետական նշանակության ավտոճանապարհի կմ19+000 - կմ23+900 հատվածի հիմնանորոգում | D47: =+E47+F47+G47+H47 -> 6357.8 | G47: 6357.8
C48: Հ-30,Մոտեցում Գոշավանքին հանրապետական նշանակության ավտոճանապարհի կմ 0+000-կմ 3+900 հատվածի հիմնանորոգում | D48: =+E48+F48+G48+H48 -> 6234.6 | G48: 6234.6
C49: Հ-30, /Մ-4/ - Ճամբարակ - /Մ-14/ հանրապետական նշանակության ավտոճանապարհի կմ 0+000-կմ 11+000 հատվածի հիմնանորոգում | D49: =+E49+F49+G49+H49 -> 17584.7 | G49: 17584.7
C50: Ա/Ճ Հ-30, Մ4-Ճամբարակ-Դրախտիկ-Մ14 հարկադիր քարաթափման աշխատանքներ (Ձորավանք-Մարտունի համայնքների տարածք) | D50: =+E50+F50+G50+H50 -> 290.6 | G50: 290.6
C51: Հ-32, /Մ-1/ (Գյումրի) - Կապս - Ամասիա - /Մ-1/ հանրապետական նշանակության ավտոճանապարհի կմ 20+900-կմ 22+700 և կմ 23+000-կմ 31+200 հատվածների հիմնանորոգում | D51: =+E51+F51+G51+H51 -> 4344.3 | G51: 4344.3
C52: Հ-41, /Մ-2/ - Նորավանքի պատմական հուշարձան հանրապետական նշանակության ավտոճանապարհի կմ0+000-կմ8+100 հատվածի հիմնանորոգում | D52: =+E52+F52+G52+H52 -> 4003 | G52: 4003
C53: Հ-45, /Մ-2/-Շաքի-Սիսան-Դաստակերտ-Ցողունի հանրապետական նշանակության ավտոճանապարհի կմ14+590-կմ25+900 հատվածի հիմնանորոգում | D53: =+E53+F53+G53+H53 -> 18579.6 | G53: 18579.6
C54: Հ-46, /Մ-2/-Տաթև-Աղվանի-/Մ-2/(Սյունիք) հանրապետական նշանակության ավտոճանապարհի կմ37+500-կմ55+000 հատվածի հիմնանորոգում | D54: =+E54+F54+G54+H54 -> 28838.6 | G54: 28838.6
C55: Հ-49, /Մ-17/-Նռնաձոր-ԱՀ սահման հանրապետական նշանակության ավտոճանապարհի կմ0+000 - կմ8+600 հատվածի հիմնանորոգում | D55: =+E55+F55+G55+H55 -> 4249.9 | G55: 4249.9
... C58: Հ-70, Մ-6 - Մարց - Աթան հանրապետական նշանակության ավտոճանապարհի կմ0+000 - կմ27+500 հատվածի հիմնանորոգում | D58: =+E58+F58+G58+H58 -> 32231.4 | G58: 32231.4
C59: Հ-75, Մ-9-Իսահակյան-Գյումրի-Մ-7 հանրապետական նշանակության ավտոճանապարհի կմ23+250 - կմ37+500 և կմ45+300 - կմ60+200 հատվածների հիմնանորոգում | D59: =+E59+G59+F59+H59 -> 48008.3 | G59: 48008.3
C60: Հ-75, Մ-9-Իսահակյան-Գյումրի-Մ-7 հանրապետական նշանակության ավտոճանապարհի կմ68+300 - կմ70+800 հատվածի հիմնանորոգում | D60: =+E60+F60+G60+H60 -> 1086.1 | G60: 1086.1
C61: Հ-83, /Հ-21/ (Արթիկ)–Պեմզաշեն- /Մ-1/ հանրապետական նշանակության ավտոճանապարհի կմ0+000-կմ8+900 հատվածի հիմնանորոգում | D61: =+E61+F61+G61+H61 -> 11547.8 | G61: 11547.8
C62: Հ-93, /Հ-75/ - Երերույքի տաճար հանրապետական նշանակության ավտոճանապարհի կմ 0+000-կմ 2+700 հատվածի հիմնանորոգում | D62: =+E62+F62+G62+H62 -> 2866.3 | G62: 2866.3
B63: 3 | C63: Մարզային նշանակության ավտոճանապարհներ, այդ թվում | D63: =+E63+F63+G63+H63 -> 60073.3 | E63: =SUM(E64:E77) -> 0 | F63: =SUM(F64:F77) -> 0 | G63: =SUM(G64:G81) -> 60073.3 | H63: =SUM(H64:H77) -> 0
C64: Տ-1-24 /Մ-3/ Մելիքգյուղ ավտոճանապարհի կմ0+000-կմ6+000 հատվածի հիմնանորոգում | D64: =+E64+F64+G64+H64 -> 2156.5 | G64: 2156.5
C65: Տ-2-31, /Տ-2-30/ - Բերդիկ - /Հ-9/ (Այգեստան) ավտոճանապարհի կմ0+000-կմ2+100 հատվածի հիմնանորոգում | D65: =+E65+F65+G65+H65 -> 3136.2 | G65: 3136.2
C66: Տ-2-62, /Հ-8/ (Այգավան) - /Հ-11/ (Եղեգնավան) ավտոճանապարհի կմ0+100 - կմ3+000 հատվածի հիմնանորոգում | D66: =+E66+F66+G66+H66 -> 4344.5 | G66: 4344.5
C67: Տ-5-69, /Հ-70/ - Ահնիձոր ավտոճանապարհի կմ0+000 - կմ4+000 հատվածի հիմնանորոգում | D67: =+E67+F67+G67+H67 -> 5209.2 | G67: 5209.2
C68: Տ-5-82, /Հ-70/ – Լորուտ ավտոճանապարհի կմ0+000 - կմ1+600 հատվածի հիմնանորոգում | D68: =+E68+F68+G68+H68 -> 2083.6 | G68: 2083.6
C69: Տ-5-93, /Հ-70/ - Մարց ավտոճանապարհի կմ0+000 - կմ0+800 հատվածի հիմնանորոգում | D69: =+E69+F69+G69+H69 -> 1041.8 | G69: 1041.8
C70: Տ-7-42, /Մ-7/ (Գյումրի) – Հացիկ – Կարմրաքար (Տ-7-45) ավտոճանապարհի կմ0+000-կմ 4+000 հատվածի հիմնանորոգում | D70: =+E70+F70+G70+H70 -> 4718.2 | G70: 4718.2
C71: Տ-7-48, Գյումրի (Տ-7-58) - Արևիկ – Այգեբաց - Վարդաքար - /Հ-21/ ավտոճանապարհի կմ10+900 - կմ16+200 հատվածի հիմնանորոգում | D71: =+E71+F71+G71+H71 -> 2093.2 | G71: 2093.2
C72: Տ-7-52, /Հ-21/ (Արթիկ) – Անուշավան – Փանիկ (Տ-7-53) ավտոճանապարհի կմ0+000 - կմ3+000 հատվածի հիմնանորոգում | D72: =+E72+G72+F72+H72 -> 4491.7 | G72: 4491.7
C73: Տ-8-86 Հ-49-Նռնաձոր կմ0+000-կմ2+200 հատվածի հիմնանորոգում | D73: =+E73+F73+G73+H73 -> 988.3 | G73: 988.3
C74: Տ-9-19, /Մ-2/ - Հերհեր -Կարմրաշեն ավտոճանապարհի կմ10+000 - կմ18+700 հատվածի հիմնանորոգում | D74: =+E74+F74+G74+H74 -> 11379.2 | G74: 11379.2
C75: /Հ-70/ – Քարինջ ավտոճանապարհի կմ0+000 - կմ3+500 հատվածի հիմնանորոգում | D75: =+E75+F75+G75+H75 -> 4558 | G75: 4558
C76: Մարտունի քաղաքի Սայաթ Նովա փողոցի (Մ-10-ի շրջանց) ավտոճանապարհի հիմնանորոգում | D76: =+E76+F76+G76+H76 -> 4359.9 | G76: 4359.9
C77: Իջևան քաղաքի Սարիբեկ-Օհանյան փողոցի կմ0+000-կմ1+145 հատվածի հիմնանորոգում | D77: =+E77+F77+G77+H77 -> 1287.5 | G77: 1287.5
C78: Հրազդան քաղաքի հարավային թաղամաս 1069 գծ.մ (Նոյեմբերյան փողոց 627 գծ.մ, Մյասնիկյան փողոց 442 գծ.մ) հատվածների հիմնանորոգում | D78: =+E78+F78+G78+H78 -> 1202.1 | G78: 1202.1
C79: Հրազդան քաղաքի Ջրառատ թաղամասեր 2572 գծ.մ (դեպի Հրազդանի Ջեկ 1264 գծ.մ, 3-րդ փողոց 670 գծ.մ, Պուրակյան փողոց 638 գծ.մ) հատվածների հիմնանորոգում | D79: =+E79+F79+G79+H79 -> 2892.1 | G79: 2892.1
C80: Հրազդան քաղաքի Վանատուր թաղամասի միջթաղամասային փողոցների 3384 գծ.մ (626 գծ.մ, 310 գծ.մ, 176 գծ.մ, 1235 գծ.մ, 950 գծ.մ և 87 գծ.մ) հատվածների հիմնանորոգում | D80: =+E80+F80+G80+H80 -> 3805.2 | G80: 3805.2
C81: Հրազդան քաղաքի Տիգրան Մեծ փողոցի 290 գծ.մ հատվածի հիմնանորոգում | D81: =+E81+F81+G81+H81 -> 326.1 | G81: 326.1

Sheet 3
A1: Հավելված N3
A2: ՀՀ կառավարության 2021 թվականի
A3: ______________ ի ___Ն որոշման
A5: ՀԱՅԱՍՏԱՆԻ ՀԱՆՐԱՊԵՏՈՒԹՅԱՆ ԿԱՌԱՎԱՐՈՒԹՅԱՆ 2020 ԹՎԱԿԱՆԻ ԴԵԿՏԵՄԲԵՐԻ 30-Ի N 2215-Ն ՈՐՈՇՄԱՆ N 3 ԵՎ N 4 ՀԱՎԵԼՎԱԾՆԵՐՈՒՄ ԿԱՏԱՐՎՈՂ ՓՈՓՈԽՈՒԹՅՈՒՆՆԵՐԸ ԵՎ ԼՐԱՑՈՒՄՆԵՐԸ
I7: հազար դրամներով
A8: Գործառական դասիչը | D8: Ծրագրային դասիչը | F8: Բյուջետային ծախսերի գործառական դասակարգման բաժինների, խմբերի և դասերի, բյուջետային հատկացումների գլխավոր կարգադրիչների, ծրագրերի, միջոցառումների և միջոցառումները կատարող պետական մարմինների անվանումները | G8: Ցուցանիշների փոփոխությունը (ավելացումները նշված են դրական նշանով, իսկ նվազեցումները` փակագծերում)
A9: Բաժին | B9: Խումբ | C9: Դաս | D9: Ծրագիր | E9: Միջոցա ռում | G9: Առաջին եռամսյակ | H9: Առաջին կիսամյակ | I9: Ինն ամիս | J9: Տարի
F10: ԸՆԴԱՄԵՆԸ ԾԱԽՍԵՐ | G10: =G12 -> 0 | H10: =H12 -> 0 | I10: =I12 -> 0 | J10: =J12 -> 0
F11: այդ թվում`
A12: 04 | F12: ՏՆՏԵՍԱԿԱՆ ՀԱՐԱԲԵՐՈՒԹՅՈՒՆՆԵՐ | G12: =G14 -> 0 | H12: =H14 -> 0 | I12: =I14 -> 0 | J12: =J14 -> 0
F13: այդ թվում`
B14: 05 | F14: Տրանսպորտ | G14: =G16 -> 0 | H14: =H16 -> 0 | I14: =I16 -> 0 | J14: =J16 -> 0
F15: այդ թվում`
C16: 01 | F16: Ճանապարհային տրանսպորտ | G16: =G18 -> 0 | H16: =H18 -> 0 | I16: =I18 -> 0 | J16: =J18 -> 0
F17: այդ թվում`
F18: ՀՀ ՏԱՐԱԾՔԱՅԻՆ ԿԱՌԱՎԱՐՄԱՆ ԵՎ ԵՆԹԱԿԱՌՈՒՑՎԱԾՔՆԵՐԻ ՆԱԽԱՐԱՐՈՒԹՅՈՒՆ | G18: =+G20 -> 0 | H18: =+H20 -> 0 | I18: =+I20 -> 0 | J18: =+J20 -> 0
F19: այդ թվում`
D20: 1049 | F20: Ճանապարհային ցանցի բարելավում | G20: =+G22+G38 -> 0 | H20: =+H22+H38 -> 0 | I20: =+I22+I38 -> 0 | J20: =+J22+J38 -> 0
F21: այդ թվում`
E22: 21001 | F22: Պետական նշանակության ավտոճանապարհների հիմնանորոգում | G22: =+G24+G31 -> 25200 | H22: =+H24+H31 -> 25200 | I22: =+I24+I31 -> 25200 | J22: =+J24+J31 -> 25200
F23: այդ թվում` ըստ կատարողների
F24: ՀՀ կառավարություն | G24: =+G26 -> 0 | H24: =+H26 -> -443573 | I24: =+I26 -> -443573 | J24: =+J26 -> -443573
F25: այդ թվում` բյուջետային ծախսերի տնտեսագիտական դասակարգման հոդվածների
F26: ԸՆԴԱՄԵՆԸ ԾԱԽՍԵՐ | G26: =+G27 -> 0 | H26: =+H27 -> -443573 | I26: =+I27 -> -443573 | J26: =+J27 -> -443573
F27: ՈՉ ՖԻՆԱՆՍԱԿԱՆ ԱԿՏԻՎՆԵՐԻ ԳԾՈՎ ԾԱԽՍԵՐ | G27: =+G28 -> 0 | H27: =+H28 -> -443573 | I27: =+I28 -> -443573 | J27: =+J28 -> -443573
F28: ՀԻՄՆԱԿԱՆ ՄԻՋՈՑՆԵՐ | G28: =+G29 -> 0 | H28: =+H29 -> -443573 | I28: =+I29 -> -443573 | J28: =+J29 -> -443573
F29: ՇԵՆՔԵՐ ԵՎ ՇԻՆՈՒԹՅՈՒՆՆԵՐ | G29: =+G30 -> 0 | H29: =+H30 -> -443573 | I29: =+I30 -> -443573 | J29: =+J30 -> -443573
F30: - Շենքերի և շինությունների կապիտալ վերանորոգում | G30: 0 | H30: =-468773-H38 -> -443573 | I30: =-468773-I38 -> -443573 | J30: =-468773-J38 -> -443573
F31: ՀՀ տարածքային կառավարման և ենթակառուցվածքների նախարարություն | G31: =+G33 -> 25200 | H31: =+H33 -> 468773 | I31: =+I33 -> 468773 | J31: =+J33 -> 468773
F32: այդ թվում` բյուջետային ծախսերի տնտեսագիտական դասակարգման հոդվածների
F33: ԸՆԴԱՄԵՆԸ ԾԱԽՍԵՐ | G33: =+G34 -> 25200 | H33: =+H34 -> 468773 | I33: =+I34 -> 468773 | J33: =+J34 -> 468773
F34: ՈՉ ՖԻՆԱՆՍԱԿԱՆ ԱԿՏԻՎՆԵՐԻ ԳԾՈՎ ԾԱԽՍԵՐ | G34: =+G35 -> 25200 | H34: =+H35 -> 468773 | I34: =+I35 -> 468773 | J34: =+J35 -> 468773
F35: ՀԻՄՆԱԿԱՆ ՄԻՋՈՑՆԵՐ | G35: =+G36 -> 25200 | H35: =+H36 -> 468773 | I35: =+I36 -> 468773 | J35: =+J36 -> 468773
F36: ԱՅԼ ՀԻՄՆԱԿԱՆ ՄԻՋՈՑՆԵՐ | G36: =+G37 -> 25200 | H36: =+H37 -> 468773 | I36: =+I37 -> 468773 | J36: =+J37 -> 468773
F37: - Նախագծահետազոտական ծախսեր | G37: 25200 | H37: 468773 | I37: 468773 | J37: 468773
E38: 11001 | F38: Միջպետական և հանրապետական նշանակության ավտոճանապարհների պահպանման և անվտանգ երթևեկության ծառայություններ | G38: =+G40 -> -25200 | H38: =+H40 -> -25200 | I38: =+I40 -> -25200 | J38: =+J40 -> -25200
F39: այդ թվում` ըստ կատարողների
F40: ՀՀ տարածքային կառավարման և ենթակառուցվածքների նախարարություն | G40: =+G42 -> -25200 | H40: =+H42 -> -25200 | I40: =+I42 -> -25200 | J40: =+J42 -> -25200
F41: այդ թվում` բյուջետային ծախսերի տնտեսագիտական դասակարգման հոդվածներ
F42: ԸՆԴԱՄԵՆԸ ԾԱԽՍԵՐ | G42: =+G43 -> -25200 | H42: =+H43 -> -25200 | I42: =+I43 -> -25200 | J42: =+J43 -> -25200
F43: ԸՆԹԱՑԻԿ ԾԱԽՍԵՐ | G43: =+G44 -> -25200 | H43: =+H44 -> -25200 | I43: =+I44 -> -25200 | J43: =+J44 -> -25200
F44: ԾԱՌԱՅՈՒԹՅՈՒՆՆԵՐԻ ԵՎ ԱՊՐԱՆՔՆԵՐԻ ՁԵՌՔԲԵՐՈՒՄ | G44: =+G45 -> -25200 | H44: =+H45 -> -25200 | I44: =+I45 -> -25200 | J44: =+J45 -> -25200
F45: Ընթացիկ նորոգում և պահպանում (ծառայություններ և նյութեր) | G45: =+G46 -> -25200 | H45: =+H46 -> -25200 | I45: =+I46 -> -25200 | J45: =+J46 -> -25200
F46: - Շենքերի և կառույցների ընթացիկ նորոգում և պահպանում | G46: -25200 | H46: -25200 | I46: -25200 | J46: -25200

Sheet 4
A1: Հավելված N4
A2: ՀՀ կառավարության 2021 թվականի
A3: ______________ ի ___Ն որոշման
A5: ՀԱՅԱՍՏԱՆԻ ՀԱՆՐԱՊԵՏՈՒԹՅԱՆ ԿԱՌԱՎԱՐՈՒԹՅԱՆ 2020 ԹՎԱԿԱՆԻ ԴԵԿՏԵՄԲԵՐԻ 30-Ի N 2215-Ն ՈՐՈՇՄԱՆ N 5 ՀԱՎԵԼՎԱԾԻ N 2 ԱՂՅՈՒՍԱԿՈՒՄ ԿԱՏԱՐՎՈՂ ՓՈՓՈԽՈՒԹՅՈՒՆՆԵՐԸ ԵՎ ԼՐԱՑՈՒՄՆԵՐԸ
F6: հազար դրամներով
A7: Ծրագրային դասիչ | C7: Բյուջետային գլխավոր կարգադրիչների, ծրագրերի, միջոցառումների և ուղղությունների անվանումները | D7: Ցուցանիշների փոփոխությունը (ավելացումները նշված են դրական նշանով, իսկ նվազեցումները` փակագծերում)
A8: Ծրագիր | B8: Միջոցառում | D8: Առաջին եռամսյակ | E8: Առաջին կիսամյակ | F8: Ինն ամիս | G8: Տարի
C9: ԸՆԴԱՄԵՆԸ | D9: =D11 -> 25200 | E9: =E11 -> 25200 | F9: =F11 -> 25200 | G9: =G11 -> 25200
C10: այդ թվում՝
C11: ՀՀ ՏԱՐԱԾՔԱՅԻՆ ԿԱՌԱՎԱՐՄԱՆ ԵՎ ԵՆԹԱԿԱՌՈՒՑՎԱԾՔՆԵՐԻ ՆԱԽԱՐԱՐՈՒԹՅՈՒՆ | D11: =+D13 -> 25200 | E11: =+E13 -> 25200 | F11: =+F13 -> 25200 | G11: =+G13 -> 25200
C12: այդ թվում`
A13: 1049 | B13: 21001 | C13: Պետական նշանակության ավտոճանապարհների հիմնանորոգում | D13: =+D15+D84 -> 25200 | E13: =+E15+E84 -> 25200 | F13: =+F15+F84 -> 25200 | G13: =+G15+G84 -> 25200
C14: այդ թվում` ըստ կատարողների
C15: ՀՀ տարածքային կառավարման և ենթակառուցվածքների նախարարություն | D15: =+D17+D41+D65 -> 25200 | E15: =+E17+E41+E65 -> 468773 | F15: =+F17+F41+F65 -> 468773 | G15: =+G17+G41+G65 -> 468773
C16: այդ թվում՝ ըստ ուղղությունների
B17: 1 | C17: Միջպետական նշանակության ավտոճանապարհներ, այդ թվում | D17: =+D18+D20+D28+D31+D33+D35+D37+D39 -> 7356.9 | E17: =+E18+E20+E28+E31+E33+E35+E37+E39 -> 146372.4 | F17: =+F18+F20+F28+F31+F33+F35+F37+F39 -> 146372.4 | G17: =+G18+G20+G28+G31+G33+G35+G37+G39 -> 146372.4
C18: Մ-1, Երևան-Գյումրի-Վրաստանի սահման | D18: =+D19 -> 3723.9 | E18: =+E19 -> 5319.9 | F18: =+F19 -> 5319.9 | G18: =+G19 -> 5319.9
C19: կմ 152+600-կմ 156+700 հատվածի հիմնանորոգում | D19: 3723.9 | E19: 5319.9 | F19: 5319.9 | G19: 5319.9
C20: Մ-2, Երևան-Երասխ-Գորիս-Մեղրի-Իրանի սահման | D20: =SUM(D21:D27) -> 0 | E20: =SUM(E21:E27) -> 69338.7 | F20: =SUM(F21:F27) -> 69338.7 | G20: =SUM(G21:G27) -> 69338.7
C21: կմ 53+150 -կմ 65+350 հատվածի հիմնանորոգում | D21: 0 | E21: 6029.2 | F21: 6029.2 | G21: 6029.2
C22: կմ98+000 - կմ101+400 հատվածի հիմնանորոգում | D22: 0 | E22: 1680.3 | F22: 1680.3 | G22: 1680.3
C23: կմ108+400 - կմ126+100 հատվածի հիմնանորոգում | D23: 0 | E23: 8388.4 | F23: 8388.4 | G23: 8388.4
C24: կմ150+700 - կմ167+600 հատվածի հիմնանորոգում | D24: 0 | E24: 27016.6 | F24: 27016.6 | G24: 27016.6
C25: կմ196+000- կմ202+200 հատվածի հիմնանորոգում | D25: 0 | E25: 3063.9 | F25: 3063.9 | G25: 3063.9
C26: կմ254+000 - կմ265+000 հատվածի հիմնանորոգում | D26: 0 | E26: 18070.4 | F26: 18070.4 | G26: 18070.4
C27: կմ374+000 - կմ384+300 հատվածի հիմնանորոգում | D27: 0 | E27: 5089.9 | F27: 5089.9 | G27: 5089.9
C28: Մ- 3, Թուրքիայի սահման-Մարգարա-Վանաձոր-Տաշիր-Վրաստանի սահման | D28: =+D29+D30 -> 0 | E28: =+E29+E30 -> 20464.2 | F28: =+F29+F30 -> 20464.2 | G28: =+G29+G30 -> 20464.2
C29: կմ2+000 - կմ 10+500 հատվածի հիմնանորոգում | D29: 0 | E29: 13588.2 | F29: 13588.2 | G29: 13588.2
C30: կմ130+400-կմ135+200 հատվածի հիմնանորոգում | D30: 0 | E30: 6876 | F30: 6876 | G30: 6876
C31: Մ-4, Երևան-Սևան-Իջևան-Ադրբեջանի սահման | D31: =+D32 -> 0 | E31: =+E32 -> 968.9 | F31: =+F32 -> 968.9 | G31: =+G32 -> 968.9
C32: կմ67+500 փլուզված հատվածի վերականգնում | D32: 0 | E32: 968.9 | F32: 968.9 | G32: 968.9
C33: Մ-7, Մ-3-Սպիտակ-Գյումրի-Թուրքիայի սահման | D33: =+D34 -> 3633 | E33: =+E34 -> 5190 | F33: =+F34 -> 5190 | G33: =+G34 -> 5190
C34: կմ48+000 - կմ52+000 հատվածի հիմնանորոգում | D34: 3633 | E34: 5190 | F34: 5190 | G34: 5190
C35: Մ10, Սևան-Մարտունի-Գետափ | D35: =+D36 -> 0 | E35: =+E36 -> 968.8 | F35: =+F36 -> 968.8 | G35: =+G36 -> 968.8
C36: կմ 122+000 - կմ 124+000 հատվածում հողային պաստառի փլուզված հատվածների, պաշտպանիչ հենապատերի և կառուցվածքների վերակագնում | D36: 0 | E36: 968.8 | F36: 968.8 | G36: 968.8
C37: Մ-11, Մարտունի - Վարդենիս - ԼՂՀ սահման | D37: =+D38 -> 0 | E37: =+E38 -> 9713.4 | F37: =+F38 -> 9713.4 | G37: =+G38 -> 9713.4
C38: կմ0+000-կմ5+900 հատվածի հիմնանորոգում | D38: 0 | E38: 9713.4 | F38: 9713.4 | G38: 9713.4
C39: Մ-14, Մ-4-Շորժա-Վարդենիս | D39: =+D40 -> 0 | E39: =+E40 -> 34408.5 | F39: =+F40 -> 34408.5 | G39: =+G40 -> 34408.5
C40: կմ39+400 - կմ60+300 հատվածի հիմնանորոգում | D40: 0 | E40: 34408.5 | F40: 34408.5 | G40: 34408.5
B41: 2 | C41: Հանրապետական նշանակության ավտոճանապարհներ, այդ թվում | D41: =SUM(D42:D64) -> 14540.4 | E41: =SUM(E42:E64) -> 262327.3 | F41: =SUM(F42:F64) -> 262327.3 | G41: =SUM(G42:G64) -> 262327.3
C42: Հ-3, Երևան (Ջրաշխարհ, Մ-4-ի հետ հատման տեղ) - Գառնի -Գեղարդի վանք հանրապետական նշանակության ավտոճանապարհի կմ27+500-կմ33+500 հատվածի հիմնանորոգում | D42: 0 | E42: 9878.1 | F42: 9878.1 | G42: 9878.1
C43: Հ-5, /Հ-6/-Նոր Գեղի-Արգել-Արզական-Հրազդան հանրապետական նշանակության ավտոճանապարհի կմ 0+000 - կմ10+000 հատվածի հիմնանորոգում | D43: 0 | E43: 15986.1 | F43: 15986.1 | G43: 15986.1
C44: Հ-5, /Հ-6/-Նոր Գեղի-Արգել-Արզական-Հրազդան հանրապետական նշանակության ավտոճանապարհի կմ 25+200 - կմ36+000 հատվածի հիմնանորոգում | D44: 0 | E44: 4372 | F44: 4372 | G44: 4372
C45: Հ-8, /Մ-2/-Այնթապ-Մխչյան-Արտաշատ-Այգևան-/Մ-2/ հանրապետական նշանակության ավտոճանապարհի կմ21+200-կմ 26+400 և կմ30+000-կմ33+500 հատվածների հիմնանորոգում | D45: 0 | E45: 14336.9 | F45: 14336.9 | G45: 14336.9
C46: Հ-11, Մոտեցում Խոր Վիրապին հանրապետական նշանակության ավտոճանապարհի կմ0+000 - կմ1+700 հատվածի հիմնանորոգում | D46: 0 | E46: 2717.6 | F46: 2717.6 | G46: 2717.6
C47: Հ-12, Մասիսի տրանսպորտային հանգույց - Մասիս - Ռանչպար - Արաքս - Ջրառատ - /Մ-3/ հանրապետական նշանակության ավտոճանապարհի կմ0+000 - կմ9+500 հատվածի հիմնանորոգում | D47: 0 | E47: 15186.8 | F47: 15186.8 | G47: 15186.8
C48: Հ-13, /Մ-3/ (Վաղարշապատ) - Մասիս - /Մ-2/ հանրապետական նշանակության ավտոճանապարհի կմ10+300 - կմ15+300 հատվածի հիմնանորոգում | D48: 0 | E48: 8213.8 | F48: 8213.8 | G48: 8213.8
C49: Հ-21, /Հ-75/ - Հոռոմ-Արթիկ-Ալագյազ հանրապետական նշանակության ավտոճանապարհի կմ19+000 - կմ23+900 հատվածի հիմնանորոգում | D49: 4450.5 | E49: 6357.8 | F49: 6357.8 | G49: 6357.8
C50: Հ-30,Մոտեցում Գոշավանքին հանրապետական նշանակության ավտոճանապարհի կմ 0+000-կմ 3+900 հատվածի հիմնանորոգում | D50: 0 | E50: 6234.6 | F50: 6234.6 | G50: 6234.6
C51: Հ-30, /Մ-4/ - Ճամբարակ - /Մ-14/ հանրապետական նշանակության ավտոճանապարհի կմ 0+000-կմ 11+000 հատվածի հիմնանորոգում | D51: 0 | E51: 17584.7 | F51: 17584.7 | G51: 17584.7
C52: Ա/Ճ Հ-30, Մ4-Ճամբարակ-Դրախտիկ-Մ14 հարկադիր քարաթափման աշխատանքներ (Ձորավանք-Մարտունի համայնքների տարածք) | D52: 0 | E52: 290.6 | F52: 290.6 | G52: 290.6
C53: Հ-32, /Մ-1/ (Գյումրի) - Կապս - Ամասիա - /Մ-1/ հանրապետական նշանակության ավտոճանապարհի կմ 20+900-կմ 22+700 և կմ 23+000-կմ 31+200 հատվածների հիմնանորոգում | D53: 0 | E53: 4344.3 | F53: 4344.3 | G53: 4344.3
... C64: Հ-93, /Հ-75/ - Երերույքի տաճար հանրապետական նշանակության ավտոճանապարհի կմ 0+000-կմ 2+700 հատվածի հիմնանորոգում | D64: 2006.4 | E64: 2866.3 | F64: 2866.3 | G64: 2866.3
B65: 3 | C65: Մարզային նշանակության ավտոճանապարհներ, այդ թվում | D65: =SUM(D66:D83) -> 3302.7 | E65: =SUM(E66:E83) -> 60073.3 | F65: =SUM(F66:F83) -> 60073.3 | G65: =SUM(G66:G83) -> 60073.3
C66: Տ-1-24 /Մ-3/ Մելիքգյուղ ավտոճանապարհի կմ0+000-կմ6+000 հատվածի հիմնանորոգում | D66: 0 | E66: 2156.5 | F66: 2156.5 | G66: 2156.5
C67: Տ-2-31, /Տ-2-30/ - Բերդիկ - /Հ-9/ (Այգեստան) ավտոճանապարհի կմ0+000-կմ2+100 հատվածի հիմնանորոգում | D67: 0 | E67: 3136.2 | F67: 3136.2 | G67: 3136.2
C68: Տ-2-62, /Հ-8/ (Այգավան) - /Հ-11/ (Եղեգնավան) ավտոճանապարհի կմ0+100 - կմ3+000 հատվածի հիմնանորոգում | D68: 0 | E68: 4344.5 | F68: 4344.5 | G68: 4344.5
C69: Տ-5-69, /Հ-70/ - Ահնիձոր ավտոճանապարհի կմ0+000 - կմ4+000 հատվածի հիմնանորոգում | D69: 0 | E69: 5209.2 | F69: 5209.2 | G69: 5209.2
C70: Տ-5-82, /Հ-70/ – Լորուտ ավտոճանապարհի կմ0+000 - կմ1+600 հատվածի հիմնանորոգում | D70: 0 | E70: 2083.6 | F70: 2083.6 | G70: 2083.6
C71: Տ-5-93, /Հ-70/ - Մարց ավտոճանապարհի կմ0+000 - կմ0+800 հատվածի հիմնանորոգում | D71: 0 | E71: 1041.8 | F71: 1041.8 | G71: 1041.8
C72: Տ-7-42, /Մ-7/ (Գյումրի) – Հացիկ – Կարմրաքար (Տ-7-45) ավտոճանապարհի կմ0+000-կմ 4+000 հատվածի հիմնանորոգում | D72: 3302.7 | E72: 4718.2 | F72: 4718.2 | G72: 4718.2
C73: Տ-7-48, Գյումրի (Տ-7-58) - Արևիկ – Այգեբաց - Վարդաքար - /Հ-21/ ավտոճանապարհի կմ10+900 - կմ16+200 հատվածի հիմնանորոգում | D73: 0 | E73: 2093.2 | F73: 2093.2 | G73: 2093.2
C74: Տ-7-52, /Հ-21/ (Արթիկ) – Անուշավան – Փանիկ (Տ-7-53) ավտոճանապարհի կմ0+000 - կմ3+000 հատվածի հիմնանորոգում | D74: 0 | E74: 4491.7 | F74: 4491.7 | G74: 4491.7
C75: Տ-8-86 Հ-49-Նռնաձոր կմ0+000-կմ2+200 հատվածի հիմնանորոգում | D75: 0 | E75: 988.3 | F75: 988.3 | G75: 988.3
C76: Տ-9-19, /Մ-2/ - Հերհեր -Կարմրաշեն ավտոճանապարհի կմ10+000 - կմ18+700 հատվածի հիմնանորոգում | D76: 0 | E76: 11379.2 | F76: 11379.2 | G76: 11379.2
C77: /Հ-70/ – Քարինջ ավտոճանապարհի կմ0+000 - կմ3+500 հատվածի հիմնանորոգում | D77: 0 | E77: 4558 | F77: 4558 | G77: 4558
... C83: Հրազդան քաղաքի Տիգրան Մեծ փողոցի 290 գծ.մ հատվածի հիմնանորոգում | D83: 0 | E83: 326.1 | F83: 326.1 | G83: 326.1
C84: Պետական նշանակության ավտոճանապարհների հիմնանորոգում | D84: =+D86 -> 0 | E84: =+E86 -> -443573 | F84: =+F86 -> -443573 | G84: =+G86 -> -443573
C85: այդ թվում` ըստ կատարողների
C86: ՀՀ կառավարություն | D86: =+'3'!G30 -> 0 | E86: =+'3'!H30 -> -443573 | F86: =+'3'!I30 -> -443573 | G86: =+'3'!J30 -> -443573

Sheet 5
G1: Հավելված N5
A2: ՀՀ կառավարության 2021 թվականի
A3: ______________ ի ___Ն որոշման
A5: «ՀԱՅԱՍՏԱՆԻ ՀԱՆՐԱՊԵՏՈՒԹՅԱՆ 2021 ԹՎԱԿԱՆԻ ՊԵՏԱԿԱՆ ԲՅՈՒՋԵԻ ՄԱՍԻՆ» ՕՐԵՆՔԻ N 1 ՀԱՎԵԼՎԱԾԻ N 6 ԱՂՅՈՒՍԱԿՈՒՄ ԵՎ ՀԱՅԱՍՏԱՆԻ ՀԱՆՐԱՊԵՏՈՒԹՅԱՆ ԿԱՌԱՎԱՐՈՒԹՅԱՆ 2020 ԹՎԱԿԱՆԻ ԴԵԿՏԵՄԲԵՐԻ 30-Ի N 2215-Ն ՈՐՈՇՄԱՆ N 5 ՀԱՎԵԼՎԱԾԻ N 5 ԱՂՅՈՒՍԱԿՈՒՄ ԿԱՏԱՐՎՈՂ ՓՈՓՈԽՈՒԹՅՈՒՆՆԵՐԸ
F6: հազար դրամներով
A7: Ծրագրային դասիչը | C7: Բյուջետային ծրագրերի, միջոցառումների և աշխատանքների անվանումները | D7: Առաջին եռամսյակ | E7: Առաջին կիսամյակ | F7: Ինն ամիս | G7: Տարի
A8: Ծրագիր | B8: Միջոցառում
A9: 1049 | C9: Ճանապարհային ցանցի բարելավում
B10: 11001 | C10: Միջպետական և հանրապետական նշանակության ավտոճանապարհների պահպանման և անվտանգ երթևեկության ծառայություններ¸ այդ թվում՝ | D10: =D11+D16 -> -25200 | E10: =E11+E16 -> -25200 | F10: =F11+F16 -> -25200 | G10: =+G11+G16 -> -25200
C11: 1. Ավտոճանապարհների ձմեռային և ընթացիկ պահպանում, այդ թվում` | D11: =D12+D14+D15+D13 -> 11201.6 | E11: =E12+E14+E15+E13 -> 27434.5 | F11: =F12+F14+F15+F13 -> 43668.7 | G11: =G12+G14+G15+G13 -> 39727.4
C12: 1.1 Միջպետական և հանրապետական նշանակության ավտոճանապարհների ձմեռային և ընթացիկ պահպանում | D12: -50888.9 | E12: -745551.1 | F12: -1099502.4 | G12: -1914487.5
C13: 1.2 Պարբերական պահպանում (միջին նորոգում) | D13: -111196.2 | E13: 820730.5 | F13: 1246824.9 | G13: 2065261
C14: 1.3 Միջպետական և հանրապետական նշանակության ավտոճանապարհների նշագծում | D14: 0 | E14: -464.6 | F14: -1973.3 | G14: -1973.3
C15: 1.4 Մետաղական արգելափակոցների պահպանում և վնասված հատվածների վերականգնում | D15: 173286.7 | E15: -47280.3 | F15: -101680.5 | G15: -109072.8
C16: 2. Արհեստական կառույցների պահպանում և շահագործում, այդ թվում` | D16: =SUM(D17:D24) -> -36401.6 | E16: =SUM(E17:E24) -> -52634.5 | F16: =SUM(F17:F24) -> -68868.7 | G16: =SUM(G17:G24) -> -64927.4
C17: 2.1 Պուշկինի թունել Լոռու մարզ | D17: -8960 | E17: -14900.4 | F17: -20842.6 | G17: -23761
C18: 2.2 Դիլիջանի թունել Գեղարքունիքի և Տավուշի մարզեր | D18: -13259.5 | E18: -18232.5 | F18: -23204.8 | G18: -19888.1
C19: 2.3 Նալբանդի թունել Լոռու մարզ | D19: -4273.2 | E19: -5876.8 | F19: -7480.5 | G19: -6414.5
C20: 2.4 Արաքս գետի վրայի Մեղրիի կամուրջ Սյունիքի մարզ | D20: -1338.6 | E20: -1840.3 | F20: -2342 | G20: -2006.8
C21: 2.5 Հ-6 Աբովյան-Եղվարդ-Աշտարակ ա/ճ-ի Հրազդան գետի վրայի կամուրջ Կոտայքի մարզ | D21: -2110 | E21: -2900 | F21: -3690 | G21: -3160
C22: 2.6 Մ-1 Երևան-Գյումրի-Վրաստանի սահման ա/ճ-ի Քասախ գետի վրայի կամուրջ Արագածոտնի մարզ | D22: -2307.5 | E22: -3175 | F22: -4042.5 | G22: -3470
C23: 2.7 Մ-3 Մարգարա-Վանաձոր-Տաշիր-Վրաստանի սահման ա/ճ-ի Ձորագետ գետի վրայի կամուրջ Լոռու մարզ (ք. Ստեփանավան) | D23: -2170.3 | E23: -2984.5 | F23: -3798.8 | G23: -3257
C24: 2.8 Ջերմուկ քաղաքի կամուրջ Վայոց Ձորի մարզ | D24: -1982.5 | E24: -2725 | F24: -3467.5 | G24: -2970

Sheet 6
F1: Հավելված N6
A2: ՀՀ կառավարության 2021 թվականի
A3: ______________ ի ___Ն որոշման
A5: ՀԱՅԱՍՏԱՆԻ ՀԱՆՐԱՊԵՏՈՒԹՅԱՆ ԿԱՌԱՎԱՐՈՒԹՅԱՆ 2020 ԹՎԱԿԱՆԻ ԴԵԿՏԵՄԲԵՐԻ 30-Ի N 2215-Ն ՈՐՈՇՄԱՆ N 9 ՀԱՎԵԼՎԱԾԻ N 9.8 ԱՂՅՈՒՍԱԿՈՒՄ ԿԱՏԱՐՎՈՂ ՓՈՓՈԽՈՒԹՅՈՒՆՆԵՐԸ ԵՎ ԼՐԱՑՈՒՄՆԵՐԸ
A7: ՀՀ ՏԱՐԱԾՔԱՅԻՆ ԿԱՌԱՎԱՐՄԱՆ ԵՎ ԵՆԹԱԿԱՌՈՒՑՎԱԾՔՆԵՐԻ ՆԱԽԱՐԱՐՈՒԹՅՈՒՆ
A8: ՄԱՍ 2. ՊԵՏԱԿԱՆ ՄԱՐՄՆԻ ԳԾՈՎ ԱՐԴՅՈՒՆՔԱՅԻՆ (ԿԱՏԱՐՈՂԱԿԱՆ) ՑՈՒՑԱՆԻՇՆԵՐԸ
A10: Ծրագրի դասիչը | B10: Ծրագրի անվանումը
A11: 1049 | B11: Ճանապարհային ցանցի բարելավում
A13: Ծրագրի միջոցառումները
A15: Ծրագրի դասիչը` | B15: 1049 | C15: Ցուցանիշների փոփոխությունը (ավելացումները նշված են դրական նշանով, իսկ նվազեցումները` փակագծերում)
A16: Միջոցառման դասիչը` | B16: 21001 | C16: Առաջին եռամսյակ | D16: Առաջին կիսամյակ | E16: Ինն ամիս | F16: Տարի
A17: Միջոցառման անվանումը` | B17: Պետական նշանակության ավտոճանապարհների հիմնանորոգում
A18: Նկարագրությունը` | B18: Միջպետական՝ հանրապետական և մարզային նշանակության ավտոճանապարհների քայքայված ծածկի վերանորոգում՝ մաշված ծածկի փոխարինում
A19: Միջոցառման տեսակը` | B19: Հանրության կողմից անմիջականորեն օգտագործվող ակտիվների հետ կապված միջոցառումներ
A20: Արդյունքի չափորոշիչներ
A21: Հիմնանորոգվող ավտոճանապարհների երկարությունը/կիլոմետր/ այդ թվում՛
A22: Միջպետական նշանակության ավտոճանապարհներ
A23: Հանրապետական նշանակության ավտոճանապարհներ
A24: Մարզային նշանակության ավտոճանապարհներ
A25: Բավարար վիճակում ճանապարհների և հատվածների երկարության հարաբերությունը այդ կարգի ճանապարհների ողջ երկարությանը, %
A26: Աշխատանքների ավարտվածության աստիճան, %
A27: Պայմանագրերի թիվ, հատ | C27: 1 | D27: 12 | E27: 12 | F27: 12
A28: Միջոցառման վրա կատարվող ծախսը (հազար դրամ) | C28: =-C46 -> 25200 | D28: =-D46 -> 25200 | E28: =-E46 -> 25200 | F28: =-F46 -> 25200
A30: Ծրագրի դասիչը` | B30: 1049 | C30: Ցուցանիշների փոփոխությունը (ավելացումները նշված են դրական նշանով, իսկ նվազեցումները` փակագծերում)
A31: Միջոցառման դասիչը` | B31: 11001 | C31: Առաջին եռամսյակ | D31: Առաջին կիսամյակ | E31: Ինն ամիս | F31: Տարի
A32: Միջոցառման անվանումը` | B32: Միջպետական և հանրապետական նշանակության ավտոճանապարհների պահպանման և անվտանգ երթևեկության ծառայություններ
A33: Նկարագրությունը` | B33: Հողային պաստառի, երթևեկելի մասի, արհեստական կառույցների և կահավորման տարրերի նորմատիվ մակարդակում պահպանում և շահագործում
A34: Միջոցառման տեսակը` | B34: Ծառայությունների մատուցում
A35: Միջոցառումն իրականացնողի անվանումը` | B35: ՀՀ տարածքային կառավարման և ենթակառուցվածքների նախարարություն, մրցութային կարգով ընտրված կազմակերպություններ
A36: Արդյունքի չափորոշիչներ
A37: Պարբերական պահպանման/ միջին նորոգման ենթակա ճանապարհների երկարությունը, կիլոմետր
A38: Ամառային պահպանման ենթակա ավտոճանապարհների ընդհանուր երկարությունը (ոչ կուտակային ցուցանիշ), կիլոմետր
A39: Ձմեռային պահպանման ենթակա ավտոճանապարհների ընդհանուր երկարությունը (ոչ կուտակային ցուցանիշ), կիլոմետր
A40: Մետաղական արգելափակոցների պահպանման և վնասված հատվածների վերականգնման ընդհանուր երկարությունը (ոչ կուտակային ցուցանիշ), կիլոմետր,
A41: Ընդհանուր օգտագործման ավտոմոբիլային ճանապարհների վրա գտնվող և առանձին պահպանման հանձնվող տրանսպորտային օբյեկտների ընթացիկ պահպանում (ոչ կուտակային ցուցանիշ), հատ, այդ թվում՛
A42: Կամուրջներ
A43: Թունելներ
A44: Բավարար պահպանության մակարդակով ճանապարհների տեսակարար կշիռը տվյալ կարգի ճանապարհների նկատմամբ (ոչ կուտակային ցուցանիշ), տոկոս
A45: Սպասարկման միջին կշռված տոկոսը (ոչ կուտակային ցուցանիշ), տոկոս
A46: Միջոցառման վրա կատարվող ծախսը (հազար դրամ) | C46: =+'1'!E26 -> -25200 | D46: =+'1'!F26 -> -25200 | E46: =+'1'!G26 -> -25200 | F46: =+'1'!H26 -> -25200

Sheet 7
F1: Հավելված N7
A2: ՀՀ կառավարության 2021 թվականի
A3: ______________ ի ___Ն որոշման
A4: ՀԱՅԱՍՏԱՆԻ ՀԱՆՐԱՊԵՏՈՒԹՅԱՆ ԿԱՌԱՎԱՐՈՒԹՅԱՆ 2020 ԹՎԱԿԱՆԻ ԴԵԿՏԵՄԲԵՐԻ 30-Ի N 2215-Ն ՈՐՈՇՄԱՆ N 9.1 ՀԱՎԵԼՎԱԾԻ NN 9.1.8 և 9.1.58 ԱՂՅՈՒՍԱԿՆԵՐՈՒՄ ԿԱՏԱՐՎՈՂ ՓՈՓՈԽՈՒԹՅՈՒՆՆԵՐԸ ԵՎ ԼՐԱՑՈՒՄՆԵՐԸ
F5: Աղյուսակ 1.
A6: ՀՀ ՏԱՐԱԾՔԱՅԻՆ ԿԱՌԱՎԱՐՄԱՆ ԵՎ ԵՆԹԱԿԱՌՈՒՑՎԱԾՔՆԵՐԻ ՆԱԽԱՐԱՐՈՒԹՅՈՒՆ
A7: ՄԱՍ 1. ՊԵՏԱԿԱՆ ՄԱՐՄՆԻ ԳԾՈՎ ԱՐԴՅՈՒՆՔԱՅԻՆ (ԿԱՏԱՐՈՂԱԿԱՆ) ՑՈՒՑԱՆԻՇՆԵՐԸ
A8: Ծրագրի դասիչը | B8: Ծրագրի անվանումը
A9: 1049 | B9: Ճանապարհային ցանցի բարելավում
A11: Ծրագրի միջոցառումները
A13: Ծրագրի դասիչը` | B13: 1049 | C13: Ցուցանիշների փոփոխությունը (ավելացումները նշված են դրական նշանով, իսկ նվազեցումները` փակագծերում)
A14: Միջոցառման դասիչը` | B14: 21001 | C14: Առաջին եռամսյակ | D14: Առաջին կիսամյակ | E14: Ինն ամիս | F14: Տարի
A15: Միջոցառման անվանումը` | B15: Պետական նշանակության ավտոճանապարհների հիմնանորոգում
A16: Նկարագրությունը` | B16: Միջպետական՝ հանրապետական և մարզային նշանակության ավտոճանապարհների քայքայված ծածկի վերանորոգում՝ մաշված ծածկի փոխարինում_x000D_
A17: Միջոցառման տեսակը` | B17: Հանրության կողմից անմիջականորեն օգտագործվող ակտիվների հետ կապված միջոցառումներ
A18: Միջոցառումն իրականացնողի անվանումը` | B18: Մրցութային կարգով ընտրված կազմակերպություն
A19: Արդյունքի չափորոշիչներ
A20: Հիմնանորոգվող ավտոճանապարհների երկարությունը/կիլոմետր/ այդ թվում՛
A21: Միջպետական նշանակության ավտոճանապարհներ
A22: Հանրապետական նշանակության ավտոճանապարհներ
A23: Մարզային նշանակության ավտոճանապարհներ
A24: Բավարար վիճակում ճանապարհների և հատվածների երկարության հարաբերությունը այդ կարգի ճանապարհների ողջ երկարությանը, %
A25: Աշխատանքների ավարտվածության աստիճան, %
A26: Պայմանագրերի թիվ, հատ | C26: 1 | D26: 12 | E26: 12 | F26: 12
A27: Միջոցառման վրա կատարվող ծախսը (հազար դրամ) | C27: =-C46-C67 -> 25200 | D27: =-D46-D67 -> 468773 | E27: =-E46-E67 -> 468773 | F27: =-F46-F67 -> 468773
A29: Ծրագրի դասիչը` | B29: 1049 | C29: Ցուցանիշների փոփոխությունը (ավելացումները նշված են դրական նշանով, իսկ նվազեցումները` փակագծերում)
A30: Միջոցառման դասիչը` | B30: 11001 | C30: Առաջին եռամսյակ | D30: Առաջին կիսամյակ | E30: Ինն ամիս | F30: Տարի
A31: Միջոցառման անվանումը` | B31: Միջպետական և հանրապետական նշանակության ավտոճանապարհների պահպանման և անվտանգ երթևեկության ծառայություններ
A32: Նկարագրությունը` | B32: Հողային պաստառի, երթևեկելի մասի, արհեստական կառույցների և կահավորման տարրերի նորմատիվ մակարդակում պահպանում և շահագործում
A33: Միջոցառման տեսակը` | B33: Ծառայությունների մատուցում
A34: Միջոցառումն իրականացնողի անվանումը` | B34: ՀՀ տարածքային կառավարման և ենթակառուցվածքների նախարարություն, մրցութային կարգով ընտրված կազմակերպություններ
A35: Արդյունքի չափորոշիչներ
A36: Պարբերական պահպանման/ միջին նորոգման ենթակա ճանապարհների երկարությունը, կիլոմետր
A37: Ամառային պահպանման ենթակա ավտոճանապարհների ընդհանուր երկարությունը (ոչ կուտակային ցուցանիշ), կիլոմետր
A38: Ձմեռային պահպանման ենթակա ավտոճանապարհների ընդհանուր երկարությունը (ոչ կուտակային ցուցանիշ), կիլոմետր
A39: Մետաղական արգելափակոցների պահպանման և վնասված հատվածների վերականգնման ընդհանուր երկարությունը (ոչ կուտակային ցուցանիշ), կիլոմետր,
A40: Ընդհանուր օգտագործման ավտոմոբիլային ճանապարհների վրա գտնվող և առանձին պահպանման հանձնվող տրանսպորտային օբյեկտների ընթացիկ պահպանում (ոչ կուտակային ցուցանիշ), հատ, այդ թվում՛
A41: Կամուրջներ
A42: Թունելներ
A43: Բավարար պահպանության մակարդակով ճանապարհների տեսակարար կշիռը տվյալ կարգի ճանապարհների նկատմամբ (ոչ կուտակային ցուցանիշ), տոկոս
A44: Սպասարկման միջին կշռված տոկոսը (ոչ կուտակային ցուցանիշ), տոկոս
A45: Պայմանագրերի թիվ, հատ
A46: Միջոցառման վրա կատարվող ծախսը (հազար դրամ) | C46: =+'3'!G38 -> -25200 | D46: =+'3'!H38 -> -25200 | E46: =+'3'!I38 -> -25200 | F46: =+'3'!J38 -> -25200
F48: Աղյուսակ 2
A49: ՀՀ ԿԱՌԱՎԱՐՈՒԹՅՈՒՆ
A50: ՄԱՍ 1. ՊԵՏԱԿԱՆ ՄԱՐՄՆԻ ԳԾՈՎ ԱՐԴՅՈՒՆՔԱՅԻՆ (ԿԱՏԱՐՈՂԱԿԱՆ) ՑՈՒՑԱՆԻՇՆԵՐԸ
A51: Ծրագրի դասիչը | B51: Ծրագրի անվանումը
A52: 1049 | B52: Ճանապարհային ցանցի բարելավում
A54: Ծրագրի միջոցառումները
A56: Ծրագրի դասիչը` | B56: 1049 | C56: Ցուցանիշների փոփոխությունը (ավելացումները նշված են դրական նշանով, իսկ նվազեցումները` փակագծերում)
A57: Միջոցառման դասիչը` | B57: 21001 | C57: Առաջին եռամսյակ | D57: Առաջին կիսամյակ | E57: Ինն ամիս | F57: Տարի
A58: Միջոցառման անվանումը` | B58: Պետական նշանակության ավտոճանապարհների հիմնանորոգում
A59: Նկարագրությունը` | B59: Միջպետական՝ հանրապետական և մարզային նշանակության ավտոճանապարհների քայքայված ծածկի վերանորոգում՝ մաշված ծածկի փոխարինում_x000D_
A60: Միջոցառման տեսակը` | B60: Հանրության կողմից անմիջականորեն օգտագործվող ակտիվների հետ կապված միջոցառումներ
A61: Արդյունքի չափորոշիչներ
A62: Հիմնանորոգվող ավտոճանապարհների երկարությունը/կիլոմետր/ այդ թվում՛
A63: Միջպետական նշանակության ավտոճանապարհներ
A64: Հանրապետական նշանակության ավտոճանապարհներ
A65: Մարզային նշանակության ավտոճանապարհներ
A66: Աշխատանքների ավարտվածության աստիճան, %
A67: Միջոցառման վրա կատարվող ծախսը (հազար դրամ) | C67: =+'3'!G30 -> 0 | D67: =+'3'!H30 -> -443573 | E67: =+'3'!I30 -> -443573 | F67: =+'3'!J30 -> -443573

Sheet 8
A1: Հավելված N8
A2: ՀՀ կառավարության 2021 թվականի
A3: ______________ ի ___Ն որոշման
A5: ՀԱՅԱՍՏԱՆԻ ՀԱՆՐԱՊԵՏՈՒԹՅԱՆ ԿԱՌԱՎԱՐՈՒԹՅԱՆ 2020 ԹՎԱԿԱՆԻ ԴԵԿՏԵՄԲԵՐԻ 30-Ի N 2215-Ն ՈՐՈՇՄԱՆ N 10 ՀԱՎԵԼՎԱԾՈՒՄ ԿԱՏԱՐՎՈՂ ԼՐԱՑՈՒՄՆԵՐԸ
A6: Կոդը | B6: Անվանումը | C6: Գնման ձևը | D6: Չափման միավորը | E6: Միավորի գինը | F6: Ցուցանիշների փոփոխությունը (ավելացումները նշված են դրական նշանով, իսկ նվազեցումները` փակագծերում)
F7: Քանակը | G7: Գումարը (հազար դրամով)
A8: ՀՀ տարածքային կառավարման և ենթակառուցվածքների նախարարություն | G8: =+G9 -> 443573
A9: Բաժին N 04 | B9: Խումբ N 05 | C9: Դաս N 01 | D9: Ճանապարհային տրանսպորտ | G9: =+G10 -> 443573
A10: 1049 21001 | B10: Պետական նշանակության ավտոճանապարհների հիմնանորոգում | G10: =+G11+G14 -> 443573
A11: ՄԱՍ II. ԱՇԽԱՏԱՆՔՆԵՐ | G11: =+G13+G12 -> 0
C12: ԲՄ | D12: դրամ | G12: =+F12*E12/1000 -> 0
C13: ԲՄ | D13: դրամ | G13: =+F13*E13/1000 -> 0
A14: ՄԱՍ III. ԾԱՌԱՅՈՒԹՅՈՒՆՆԵՐ | G14: =SUM(G15:G26) -> 443573
A15: 71241200/512 | B15: Նախագծերի պատրաստում, ծախսերի գնահատման ծառայություններ | C15: ՀԲՄ | D15: դրամ | E15: 52000000 | F15: 1 | G15: 52000
A16: 71241200 | B16: Նախագծերի պատրաստում, ծախսերի գնահատման ծառայություններ | C16: ՀԲՄ | D16: դրամ | E16: 15912000 | F16: 1 | G16: 15912
A17: 71241200/516 | B17: Նախագծերի պատրաստում, ծախսերի գնահատման ծառայություններ | C17: ՀԲՄ | D17: դրամ | E17: 60000000 | F17: 1 | G17: 60000
A18: 71241200/517 | B18: Նախագծերի պատրաստում, ծախսերի գնահատման ծառայություններ | C18: ՀԲՄ | D18: դրամ | E18: 56500000 | F18: 1 | G18: 56500
A19: 71241200 | B19: Նախագծերի պատրաստում, ծախսերի գնահատման ծառայություններ | C19: ՀԲՄ | D19: դրամ | E19: 19080000 | F19: 1 | G19: 19080
A20: 71241200 | B20: Նախագծերի պատրաստում, ծախսերի գնահատման ծառայություններ | C20: ՀԲՄ | D20: դրամ | E20: 10800000 | F20: 1 | G20: 10800
A21: 71241200 | B21: Նախագծերի պատրաստում, ծախսերի գնահատման ծառայություններ | C21: ՀԲՄ | D21: դրամ | E21: 13869000 | F21: 1 | G21: 13869
A22: 71241200 | B22: Նախագծերի պատրաստում, ծախսերի գնահատման ծառայություններ | C22: ՀԲՄ | D22: դրամ | E22: 13392000 | F22: 1 | G22: 13392
A23: 71241200/524 | B23: Նախագծերի պատրաստում, ծախսերի գնահատման ծառայություններ | C23: ՀԲՄ | D23: դրամ | E23: 48000000 | F23: 1 | G23: 48000
A24: 71241200/525 | B24: Նախագծերի պատրաստում, ծախսերի գնահատման ծառայություններ | C24: ՀԲՄ | D24: դրամ | E24: 47520000 | F24: 1 | G24: 47520
A25: 71241200/531 | B25: Նախագծերի պատրաստում, ծախսերի գնահատման ծառայություններ | C25: ՀԲՄ | D25: դրամ | E25: 54000000 | F25: 1 | G25: 54000
A26: 71241200/536 | B26: Նախագծերի պատրաստում, ծախսերի գնահատման ծառայություններ | C26: ՀԲՄ | D26: դրամ | E26: 52500000 | F26: 1 | G26: 52500
A27: 45231176/1 | B27: ճանապարհների պահպանման աշխատանքներ | C27: ԲՄ | D27: դրամ | G27: -25200
