Workbook
Name AgencyCode: #REF!
Name AgencyCode: #REF!
Name AgencyCode: #REF!
Name AgencyCode: #REF!
Name AgencyName: #REF!
Name AgencyName: #REF!
Name AgencyName: #REF!
Name AgencyName: #REF!
Name Functional1: #REF!
Name Functional1: #REF!
Name Functional1: #REF!
Name Functional1: #REF!
Name havelvac: #REF!
Name havelvac: #REF!
Name havelvac: #REF!
Name PANature: #REF!
Name PANature: #REF!
Name PANature: #REF!
Name PANature: #REF!
Name PAType: #REF!
Name PAType: #REF!
Name PAType: #REF!
Name PAType: #REF!
Name Performance2: #REF!
Name Performance2: #REF!
Name Performance2: #REF!
Name Performance2: #REF!
Name PerformanceType: #REF!
Name PerformanceType: #REF!
Name PerformanceType: #REF!
Name PerformanceType: #REF!

Sheet 1
G1: Հավելված N 1
G2: ՀՀ կառավարության 2021 թվականի
G3: ___________ ___-ի N _______ -Ն որոշման
A6: «ՀԱՅԱUՏԱՆԻ ՀԱՆՐԱՊԵՏՈՒԹՅԱՆ 2021 ԹՎԱԿԱՆԻ ՊԵՏԱԿԱՆ ԲՅՈՒՋԵԻ ՄԱUԻՆ» ՀԱՅԱUՏԱՆԻ ՀԱՆՐԱՊԵՏՈՒԹՅԱՆ OՐԵՆՔԻ N 1 ՀԱՎԵԼՎԱԾԻ N 2 ԱՂՅՈՒՍԱԿՈՒՄ ԿԱՏԱՐՎՈՂ ՎԵՐԱԲԱՇԽՈՒՄԸ ԵՎ ՀԱՅԱՍՏԱՆԻ ՀԱՆՐԱՊԵՏՈՒԹՅԱՆ ԿԱՌԱՎԱՐՈՒԹՅԱՆ 2020 ԹՎԱԿԱՆԻ ԴԵԿՏԵՄԲԵՐԻ 30-Ի N 2215-Ն ՈՐՈՇՄԱՆ N 5 ՀԱՎԵԼՎԱԾԻ N 1 ԱՂՅՈՒՍԱԿՈՒՄ ԿԱՏԱՐՎՈՂ ՓՈՓՈԽՈՒԹՅՈՒՆՆԵՐԸ ԵՎ ԼՐԱՑՈՒՄՆԵՐԸ
F8: հազար դրամներով
A9: Ծրագրային դասիչը | C9: Բյուջետային հատկացումների գլխավոր կարգադրիչների, ծրագրերի և միջոցառումների անվանումները | D9: Ցուցանիշների փոփոխությունները (ավելացումները նշված են դրական նշանով իսկ նվազեցումները` փակագծերում)
A10: Ծրագիր | B10: Միջոցառում | D10: Առաջին եռամսյակ | E10: Առաջին կիսամյակ | F10: Ինն ամիս | G10: Տարի
B11: ՀՀ աշխատանքի և սեցիալական հարցերի նախարարություն | D11: =D13 -> 0 | E11: =E13 -> 0 | F11: =F13 -> 0 | G11: =G13 -> 0
A12: 1088 | C12: Ծրագրի անվանումը
C13: Զμաղվածության ծրագիր | D13: =D20+D27+D34 -> 0 | E13: =E20+E27+E34 -> 0 | F13: =F20+F27+F34 -> 0 | G13: =G20+G27+G34 -> 0
C14: Ծրագրի նպատակը`
C15: Բնակչության կայուն և ժամանակավոր զμաղվածության ապահովմանը միտված պայմանների ստեղծում ստեղծում
C16: Վերջնական արդյունքի նկարագրությունը`
C17: Կայուն և ժամանակավոր զμաղվածների թվաքանակի աճ
C18: Ծրագրի միջոցառումներ՝
B20: 12005 | C20: Միջոցառման անվանումը՝ | D20: ='3'!C26 -> -38100 | E20: ='3'!D26 -> -71000 | F20: ='3'!E26 -> -80000 | G20: ='3'!F26 -> -80000
C21: Աշխատաշուկայում անմրցունակ անձանց աշխատանքի տեղավորման դեպքում գործատուին միանվագ փոխհատուցման տրամադրում
C22: Միջոցառման նկարագրությունը`
C23: Աշխատաշուկայում անմրցունակ անձանց աշխատանքային ունակությունների և կարողութ.`աշխատանքի վայրում ձեռքբերման հնարավորութ. ընձեռում և հաշմանդամություն ունեցող անձանց համար աշխատատեղի հարմարեցում՝ ապահովելով հավասար հնարավորություն. կանանց և տղամարդկանց համար
C24: Միջոցառման տեսակը
C25: Տրանսֆերտների տրամադրում
B27: 12014 | C27: Միջոցառման անվանումը` | D27: ='3'!C38 -> 30000 | E27: ='3'!D38 -> 46000 | F27: ='3'!E38 -> 52000 | G27: ='3'!F38 -> 52000
C28: Ռազմական դրությամբ պայմանավորված՝ վարձատրվող հասարակակական աշխ. կազմակերպ. միջոցով՝ Ադրբեջանի կողմից 2020 թ. սեպտ. 27-ին սանձազերծված պատերազմի հետևանքով տեղահանված և փաստ. Հ Հ գտնվող Արցախի Հանր. գործազուրկ քաղաքացիների ժամանակավոր զբաղվածութ. ապահովում
C29: Միջոցառման նկարագրությունը`
C30: վարձատրվող հասարակական աշխատանքների կազմակերպման միջոցով Արցախի Հանրապետության գործազուրկ քաղաքացիների ժամանակավոր զբաղվածության ապահովում
C31: Միջոցառման տեսակը`
C32: Տրանսֆերտների տրամադրում
B34: 12015 | C34: Միջոցառման անվանումը` | D34: ='3'!C52 -> 8100 | E34: ='3'!D52 -> 25000 | F34: ='3'!E52 -> 28000 | G34: ='3'!F52 -> 28000
C35: Ռազմական դրությամբ պայմանավորված՝ Ադրբեջանի կողմից 2020թ. սեպտեմբերի 27-ին սանձազերծված պատերազմի հետևանքով տեղահանված և փաստացի ՀՀ-ում գտնվող Արցախի Հանրապետության գործազուրկ քաղաքացիների աշխատանքային փորձ ձեռք բերելու համար աջակցության տրամադրում
C36: Միջոցառման նկարագրությունը`
C37: Արցախի Հանրապետության գործազուրկ քաղաքացիների աշխատանքային փորձ ձեռք բերելու համար աջակցության տրամադրում
C38: Միջոցառման տեսակը`
C39: Տրանսֆերտների տրամադրում
C41: ՀՀ կառավարություն | D41: =D42 -> 0 | E41: =E42 -> 0 | F41: =F42 -> 0 | G41: =G42 -> 0
A42: 1139 | C42: Ծրագրի անվանումը` | D42: =D55+D49 -> 0 | E42: =E55+E49 -> 0 | F42: =F55+F49 -> 0 | G42: =G55+G49 -> 0
C43: ՀՀ կառավարության պահուստային ֆոնդ
C44: Ծրագրի նպատակը`
C45: Պետական բյուջեում չկանխատեսված, ինչպես նաեւ բյուջետային երաշխիքների ապահովման ծախսերի ֆինանսավորման ապահովում
C46: Վերջնական արդյունքի նկարագրությունը`
C47: Պահուստային ֆոնդի կառավարման արդյունավետության և թափանցիկության ապահովում
...

Sheet 2
G1: Հավելված N 2
F2: ՀՀ կառավարության 2021 թվականի
F3: ___________ ___-ի N _______ -Ն որոշման
A5: ՀԱՅԱՍՏԱՆԻ ՀԱՆՐԱՊԵՏՈՒԹՅԱՆ ԿԱՌԱՎԱՐՈՒԹՅԱՆ 2020 ԹՎԱԿԱՆԻ ԴԵԿՏԵՄԲԵՐԻ 30-Ի N 2215-Ն ՈՐՈՇՄԱՆ N 3 ԵՎ N 4 ՀԱՎԵԼՎԱԾՆԵՐՈՒՄ ԿԱՏԱՐՎՈՂ ՓՈՓՈԽՈՒԹՅՈՒՆՆԵՐԸ ԵՎ ԼՐԱՑՈՒՄՆԵՐԸ
G6: հազար դրամներով
A7: Գործառական դասիչը | D7: Ծրագրային դասիչը | F7: Բյուջետային ծախսերի գործառական դասակարգման բաժինների, խմբերի և դասերի, բյուջետային հատկացումների գլխավոր կարգադրիչների, ծրագրերի, միջոցառումների և միջոցառումները կատարող պետական մարմինների անվանումները | G7: Ցուցանիշների փոփոխությունները (ավելացումները նշված են դրական նշանով իսկ նվազեցումները` փակագծերում)
A8: Բաժին | B8: Խումբ | C8: Դաս | D8: Ծրագիր | E8: Միջոցառում | G8: Առաջին եռամսյակ | H8: Առաջին կիսամյակ | I8: Ինն ամիս | J8: Տարի
F9: ԸՆԴԱՄԵՆԸ | G9: =G11+G38 -> 0 | H9: =H11+H38 -> 0 | I9: =I11+I38 -> 0 | J9: =J11+J38 -> 0
F10: այդ թվում՝
A11: 10 | F11: ՍՈՑԻԱԼԱԿԱՆ ՊԱՇՏՊԱՆՈՒԹՅՈՒՆ | G11: =G13 -> 0 | H11: =H13 -> 0 | I11: =I13 -> 0 | J11: =J13 -> 0
F12: այդ թվում`
B13: 05 | F13: Գործազրկություն | G13: =+G15 -> 0 | H13: =+H15 -> 0 | I13: =+I15 -> 0 | J13: =+J15 -> 0
F14: այդ թվում`
C15: 01 | F15: Գործազրկություն | G15: =G17 -> 0 | H15: =H17 -> 0 | I15: =I17 -> 0 | J15: =J17 -> 0
F16: այդ թվում
D17: 1088 | F17: Զբաղվածության ծրագիր | G17: =G20+G26+G32 -> 0 | H17: =H20+H26+H32 -> 0 | I17: =I20+I26+I32 -> 0 | J17: =J20+J26+J32 -> 0
F18: այդ թվում`
E20: 12005 | F20: Աշխատաշուկայում անմրցունակ անձանց աշխատանքի տեղավորման դեպքում գործատուին միանվագ փոխհատուցման տրամադրում | G20: =G22 -> -38100 | H20: =H22 -> -71000 | I20: =I22 -> -80000 | J20: =J22 -> -80000
F21: այդ թվում` ըստ կատարողների
F22: ՀՀ աշխատանքի և սոցիալական հարցերի նախարարություն | G22: =G24 -> -38100 | H22: =H24 -> -71000 | I22: =I24 -> -80000 | J22: =J24 -> -80000
F23: այդ թվում` բյուջետային ծախսերի տնտեսագիտական դասակարգման հոդվածներ
F24: - Այլ ընթացիկ դրամաշնորհներ | G24: ='3'!C26 -> -38100 | H24: ='3'!D26 -> -71000 | I24: ='3'!E26 -> -80000 | J24: ='3'!F26 -> -80000
E26: 12014 | F26: Ռազմական դրությամբ պայմանավորված՝ վարձատրվող հասարակակական աշխ. կազմակերպ. միջոցով՝ Ադրբեջանի կողմից 2020 թ. սեպտ. 27-ին սանձազերծված պատերազմի հետևանքով տեղահանված և փաստ. Հ Հ գտնվող Արցախի Հանր. գործազուրկ քաղաքացիների ժամանակավոր զբաղվածութ. ապահովում | G26: =G28 -> 30000 | H26: =H28 -> 46000 | I26: =I28 -> 52000 | J26: =J28 -> 52000
F27: այդ թվում` ըստ կատարողների
F28: ՀՀ աշխատանքի և սոցիալական հարցերի նախարարություն | G28: =G30 -> 30000 | H28: =H30 -> 46000 | I28: =I30 -> 52000 | J28: =J30 -> 52000
F29: այդ թվում` բյուջետային ծախսերի տնտեսագիտական դասակարգման հոդվածներ
F30: - Ընթացիկ սուբվենցիաներ համայնքներին | G30: ='3'!C38 -> 30000 | H30: ='3'!D38 -> 46000 | I30: ='3'!E38 -> 52000 | J30: ='3'!F38 -> 52000
E32: 12015 | F32: Ռազմական դրությամբ պայմանավորված՝ Ադրբեջանի կողմից 2020թ. սեպտեմբերի 27-ին սանձազերծված պատերազմի հետևանքով տեղահանված և փաստացի ՀՀ-ում գտնվող Արցախի Հանրապետության գործազուրկ քաղաքացիների աշխատանքային փորձ ձեռք բերելու համար աջակցության տրամադրում | G32: =G34 -> 8100 | H32: =H34 -> 25000 | I32: =I34 -> 28000 | J32: =J34 -> 28000
F33: այդ թվում` ըստ կատարողների
F34: ՀՀ աշխատանքի և սոցիալական հարցերի նախարարություն | G34: =G36 -> 8100 | H34: =H36 -> 25000 | I34: =I36 -> 28000 | J34: =J36 -> 28000
F35: այդ թվում` բյուջետային ծախսերի տնտեսագիտական դասակարգման հոդվածներ
F36: - Այլ ընթացիկ դրամաշնորհներ | G36: ='3'!C52 -> 8100 | H36: ='3'!D52 -> 25000 | I36: ='3'!E52 -> 28000 | J36: ='3'!F52 -> 28000
A38: 11 | F38: ՀԻՄՆԱԿԱՆ ԲԱԺԻՆՆԵՐԻՆ ՉԴԱՍՎՈՂ ՊԱՀՈՒՍՏԱՅԻՆ ՖՈՆԴԵՐ | G38: =G40 -> 0 | H38: =H40 -> 0 | I38: =I40 -> 0 | J38: =J40 -> 0
F39: այդ թվում`
B40: 01 | F40: ՀՀ կառավարության և համայնքների պահուստային ֆոնդ | G40: =G42 -> 0 | H40: =H42 -> 0 | I40: =I42 -> 0 | J40: =J42 -> 0
F41: այդ թվում`
C42: 01 | F42: ՀՀ կառավարության պահուստային ֆոնդ | G42: =G44:J44 -> 0 | H42: =H44:K44 -> 0 | I42: =I44:L44 -> 0 | J42: =J44:M44 -> 0
F43: այդ թվում`
D44: 1139
E45: 11001 | F45: ՀՀ կառավարության պահուստային ֆոնդ | G45: 38100 | H45: 71000 | I45: 80000 | J45: 80000
...

Sheet 3
B2: Հավելված N 3
B3: ՀՀ կառավարության 2021 թվականի
B4: ___________ ___-ի N _______ -Ն որոշման
A6: ՀԱՅԱՍՏԱՆԻ ՀԱՆՐԱՊԵՏՈՒԹՅԱՆ ԿԱՌԱՎԱՐՈՒԹՅԱՆ 2020 ԹՎԱԿԱՆԻ ԴԵԿՏԵՄԲԵՐԻ 30-Ի N 2215-Ն ՈՐՈՇՄԱՆ N 9 ՀԱՎԵԼՎԱԾԻ N 9.16 ԵՎ 9.47 ԱՂՅՈՒՍԱԿՆԵՐՈՒՄ ԿԱՏԱՐՎՈՂ _x000D_ՓՈՓՈԽՈՒԹՅՈՒՆՆԵՐԸ ԵՎ ԼՐԱՑՈՒՄՆԵՐԸ
A8: ՀՀ աշխատանքի և սոցիալական հարցերի նախարարություն
A9: ՄԱՍ 2. ՊԵՏԱԿԱՆ ՄԱՐՄՆԻ ԳԾՈՎ ԱՐԴՅՈՒՆՔԱՅԻՆ (ԿԱՏԱՐՈՂԱԿԱՆ) ՑՈՒՑԱՆԻՇՆԵՐԸ
A11: Ծրագրի դասիչը | B11: Ծրագրի անվանումը
A12: 1088 | B12: Զբաղվածության ծրագիր
A13: Ծրագրի միջոցառումները
A14: Ծրագրի դասիչը` | B14: 1088 | C14: Ցուցանիշների փոփոխությունները (ավելացումները նշված են դրական նշանով իսկ նվազեցումները` փակագծերում)
A15: Ծրագրի միջոցառումները
A16: Միջոցառման դասիչը` | B16: 12005 | C16: Առաջին եռամսյակ | D16: Առաջին կիսամյակ | E16: Ինն ամիս | F16: Տարի
A17: Միջոցառման անվանումը` | B17: Աշխատաշուկայում անմրցունակ անձանց աշխատանքի տեղավորման դեպքում գործատուին միանվագ փոխհատուցման տրամադրում
A18: Նկարագրությունը` | B18: Աշխատաշուկայում անմրցունակ անձանց աշխատանքային ունակությունների և կարողութ.`աշխատանքի վայրում ձեռքբերման հնարավորութ. ընձեռում և հաշմանդամություն ունեցող անձանց համար աշխատատեղի հարմարեցում՝ ապահովելով հավասար հնարավորություն. կանանց և տղամարդկանց համար
A19: Միջոցառման տեսակը` | B19: Տրանսֆերտների տրամադրում
A20: Շահառուների ընտրության չափանիշները | B20: Զբաղվածության տարածքային կենտրոններում հաշվառված աշխատաշուկայում անմրցունակ անձինք
A21: Արդյունքի չափորոշիչներ
A22: Քանակական | B22: Աշխատաշուկայում անմրցունակ անձանց թիվը, որոնք գործատուի մոտ աշխատանքային ունակություններ և կարողություններ են ձեռք բերում, այդ թվում | C22: -186 | D22: -343 | E22: -400 | F22: -400
A23: Քանակական | B23: Կին | C23: -148 | D23: -274 | E23: -320 | F23: -320
A24: Քանակական | B24: Տղամարդ | C24: -38 | D24: -69 | E24: -80 | F24: -80
A25: Քանակական | B25: Հաշմանդամություն ունեցող անձանց թիվը, որոնց համար իրականացվել է աշխատատեղի հարմարեցում | C25: -3 | D25: -8 | E25: -5
A26: Միջոցառման վրա կատարվող ծախսը (հազար դրամ) | C26: -38100 | D26: -71000 | E26: -80000 | F26: -80000
A28: Միջոցառման դասիչը` | B28: 12014 | C28: Առաջին եռամսյակ | D28: Առաջին կիսամյակ | E28: Ինն ամիս | F28: Տարի
A29: Միջոցառման անվանումը` | B29: Ռազմական դրությամբ պայմանավորված՝ վարձատրվող հասարակակական աշխ. կազմակերպ. միջոցով՝ Ադրբեջանի կողմից 2020 թ. սեպտ. 27-ին սանձազերծված պատերազմի հետևանքով տեղահանված և փաստ. Հ Հ գտնվող Արցախի Հանր. գործազուրկ քաղաքացիների ժամանակավոր զբաղվածութ. ապահովում
A30: Նկարագրությունը` | B30: վարձատրվող հասարակական աշխատանքների կազմակերպման միջոցով Արցախի Հանրապետության գործազուրկ քաղաքացիների ժամանակավոր զբաղվածության ապահովում
A31: Միջոցառման տեսակը` | B31: Տրանսֆերտների տրամադրում
A32: Շահառուների ընտրության չափանիշները | B32: Զբաղվածության տարածքային կենտրոնում հաշվառված և գործազուրկի կարգավիճակ ստացած Արցախի Հանապետության քաղաքացիներ
A33: Արդյունքի չափորոշիչներ
A34: Քանակական | B34: Ծրագրերի թիվ, հատ | C34: 23 | D34: 26 | E34: 26 | F34: 26
A35: Քանակական | B35: Ծրագրերիում ընդգրկված անձանց թիվ, հատ, այդ թվում՝ | C35: 138 | D35: 160 | E35: 160 | F35: 160
A36: Քանակական | B36: Կին | C36: 14 | D36: 16 | E36: 16 | F36: 16
A37: Քանակական | B37: Տղամարդ | C37: 124 | D37: 144 | E37: 144 | F37: 144
A38: Միջոցառման վրա կատարվող ծախսը (հազար դրամ) | C38: 30000 | D38: 46000 | E38: 52000 | F38: 52000
A40: Միջոցառման դասիչը` | B40: 12015 | C40: Առաջին եռամսյակ | D40: Առաջին կիսամյակ | E40: Ինն ամիս | F40: Տարի
A41: Միջոցառման անվանումը` | B41: Ռազմական դրությամբ պայմանավորված՝ Ադրբեջանի կողմից 2020թ. սեպտեմբերի 27-ին սանձազերծված պատերազմի հետևանքով տեղահանված և փաստացի ՀՀ-ում գտնվող Արցախի Հանրապետության գործազուրկ քաղաքացիների աշխատանքային փորձ ձեռք բերելու համար աջակցության տրամադրում
A42: Նկարագրությունը` | B42: Արցախի Հանրապետության գործազուրկ քաղաքացիների աշխատանքային փորձ ձեռք բերելու համար աջակցության տրամադրում
A43: Միջոցառման տեսակը` | B43: Տրանսֆերտների տրամադրում
A44: Շահառուների ընտրության չափանիշները | B44: Զբաղվածության տարածքային կենտրոնում հաշվառված և գործազուրկի կարգավիճակ ստացած Արցախի Հանապետության քաղաքացիներ
A45: Արդյունքի չափորոշիչներ
A46: Քանակական | B46: Գործատուի մոտ աշխատանքային պրակտիկա անցած գործազուրկների թիվ, մարդ, այդ թվում՝ | C46: 30 | D46: 52 | E46: 52 | F46: 52
...

Sheet 4
C2: Հավելված N 4
F3: ՀՀ կառավարության 2021 թվականի
C4: ___________ ___-ի N _______ -Ն որոշման
A6: ՀԱՅԱՍՏԱՆԻ ՀԱՆՐԱՊԵՏՈՒԹՅԱՆ ԿԱՌԱՎԱՐՈՒԹՅԱՆ 2020 ԹՎԱԿԱՆԻ ԴԵԿՏԵՄԲԵՐԻ 30-Ի N 2215-Ն ՈՐՈՇՄԱՆ N 9.1 ՀԱՎԵԼՎԱԾԻ 9.1.16 ԵՎ 9.1.58 ԱՂՅՈՒՍԱԿՆԵՐՈՒՄ ԿԱՏԱՐՎՈՂ ՓՈՓՈԽՈՒԹՅՈՒՆՆԵՐԸ ԵՎ ԼՐԱՑՈՒՄՆԵՐԸ
A8: ՀՀ աշխատանքի և սոցիալական հարցերի նախարարություն
A9: ՄԱՍ 1. ՊԵՏԱԿԱՆ ՄԱՐՄՆԻ ԳԾՈՎ ԱՐԴՅՈՒՆՔԱՅԻՆ (ԿԱՏԱՐՈՂԱԿԱՆ) ՑՈՒՑԱՆԻՇՆԵՐԸ
A11: Ծրագրի դասիչը | B11: Ծրագրի անվանումը
A12: 1088 | B12: Զբաղվածության ծրագիր
A13: Ծրագրի միջոցառումները
A14: Ծրագրի դասիչը` | B14: 1088 | C14: Ցուցանիշների փոփոխությունները (ավելացումները նշված են դրական նշանով իսկ նվազեցումները` փակագծերում)
A15: Ծրագրի միջոցառումները
A16: Միջոցառման դասիչը` | B16: 12005 | C16: Առաջին եռամսյակ | D16: Առաջին կիսամյակ | E16: Ինն ամիս | F16: Տարի
A17: Միջոցառման անվանումը` | B17: Աշխատաշուկայում անմրցունակ անձանց աշխատանքի տեղավորման դեպքում գործատուին միանվագ փոխհատուցման տրամադրում
A18: Նկարագրությունը` | B18: Աշխատաշուկայում անմրցունակ անձանց աշխատանքային ունակությունների և կարողութ.`աշխատանքի վայրում ձեռքբերման հնարավորութ. ընձեռում և հաշմանդամություն ունեցող անձանց համար աշխատատեղի հարմարեցում՝ ապահովելով հավասար հնարավորություն. կանանց և տղամարդկանց համար
A19: Միջոցառման տեսակը` | B19: Տրանսֆերտների տրամադրում
A20: Շահառուների ընտրության չափանիշները | B20: Զբաղվածության տարածքային կենտրոններում հաշվառված աշխատաշուկայում անմրցունակ անձինք
A21: Արդյունքի չափորոշիչներ
A22: Քանակական | B22: Աշխատաշուկայում անմրցունակ անձանց թիվը, որոնք գործատուի մոտ աշխատանքային ունակություններ և կարողություններ են ձեռք բերում, այդ թվում | C22: -186 | D22: -343 | E22: -400 | F22: -400
A23: Քանակական | B23: Կին | C23: -148 | D23: -274 | E23: -320 | F23: -320
A24: Քանակական | B24: Տղամարդ | C24: -38 | D24: -69 | E24: -80 | F24: -80
A25: Քանակական | B25: Հաշմանդամություն ունեցող անձանց թիվը, որոնց համար իրականացվել է աշխատատեղի հարմարեցում | C25: -3 | D25: -8 | E25: -5
A26: Միջոցառման վրա կատարվող ծախսը (հազար դրամ) | C26: -38100 | D26: -71000 | E26: -80000 | F26: -80000
A28: Միջոցառման դասիչը` | B28: 12014 | C28: Առաջին եռամսյակ | D28: Առաջին կիսամյակ | E28: Ինն ամիս | F28: Տարի
A29: Միջոցառման անվանումը` | B29: Ռազմական դրությամբ պայմանավորված՝ վարձատրվող հասարակակական աշխ. կազմակերպ. միջոցով՝ Ադրբեջանի կողմից 2020 թ. սեպտ. 27-ին սանձազերծված պատերազմի հետևանքով տեղահանված և փաստ. Հ Հ գտնվող Արցախի Հանր. գործազուրկ քաղաքացիների ժամանակավոր զբաղվածութ. ապահովում
A30: Նկարագրությունը` | B30: վարձատրվող հասարակական աշխատանքների կազմակերպման միջոցով Արցախի Հանրապետության գործազուրկ քաղաքացիների ժամանակավոր զբաղվածության ապահովում
A31: Միջոցառման տեսակը` | B31: Տրանսֆերտների տրամադրում
A32: Շահառուների ընտրության չափանիշները | B32: Զբաղվածության տարածքային կենտրոնում հաշվառված և գործազուրկի կարգավիճակ ստացած Արցախի Հանապետության քաղաքացիներ
A33: Արդյունքի չափորոշիչներ
A34: Քանակական | B34: Ծրագրերի թիվ, հատ | C34: 23 | D34: 26 | E34: 26 | F34: 26
A35: Քանակական | B35: Ծրագրերիում ընդգրկված անձանց թիվ, հատ, այդ թվում՝ | C35: 138 | D35: 160 | E35: 160 | F35: 160
A36: Քանակական | B36: Կին | C36: 14 | D36: 16 | E36: 16 | F36: 16
A37: Քանակական | B37: Տղամարդ | C37: 124 | D37: 144 | E37: 144 | F37: 144
A38: Միջոցառման վրա կատարվող ծախսը (հազար դրամ) | C38: 30000 | D38: 46000 | E38: 52000 | F38: 52000
A40: Միջոցառման դասիչը` | B40: 12015 | C40: Առաջին եռամսյակ | D40: Առաջին կիսամյակ | E40: Ինն ամիս | F40: Տարի
A41: Միջոցառման անվանումը` | B41: Ռազմական դրությամբ պայմանավորված՝ Ադրբեջանի կողմից 2020թ. սեպտեմբերի 27-ին սանձազերծված պատերազմի հետևանքով տեղահանված և փաստացի ՀՀ-ում գտնվող Արցախի Հանրապետության գործազուրկ քաղաքացիների աշխատանքային փորձ ձեռք բերելու համար աջակցության տրամադրում
A42: Նկարագրությունը` | B42: Արցախի Հանրապետության գործազուրկ քաղաքացիների աշխատանքային փորձ ձեռք բերելու համար աջակցության տրամադրում
A43: Միջոցառման տեսակը` | B43: Տրանսֆերտների տրամադրում
A44: Շահառուների ընտրության չափանիշները | B44: Զբաղվածության տարածքային կենտրոնում հաշվառված և գործազուրկի կարգավիճակ ստացած Արցախի Հանապետության քաղաքացիներ
A45: Արդյունքի չափորոշիչներ
A46: Քանակական | B46: Գործատուի մոտ աշխատանքային պրակտիկա անցած գործազուրկների թիվ, մարդ, այդ թվում՝ | C46: 30 | D46: 52 | E46: 52 | F46: 52
...

Sheet 5
D2: Հավելված N 5
D3: ՀՀ կառավարության 2021 թվականի
D4: ______________ ի ___Ն որոշման
A6: ՀԱՅԱՍՏԱՆԻ ՀԱՆՐԱՊԵՏՈՒԹՅԱՆ ԿԱՌԱՎԱՐՈՒԹՅԱՆ 2020 ԹՎԱԿԱՆԻ ԴԵԿՏԵՄԲԵՐԻ 30-Ի N 2215-Ն ՈՐՈՇՄԱՆ N 5 ՀԱՎԵԼՎԱԾԻ 6-ՐԴ ԱՂՅՈՒՍԱԿՈՒՄ ԿԱՏԱՐՎՈՂ ԼՐԱՑՈՒՄԸ
G8: հազար դրամ
A9: Ծրագրային դասիչը | C9: Հատկացումների տրամադրման նպատակները և բյուջետային գլխավոր կարգադրիչների, ծրագրերի, միջոցառումների և կատարող պետական մարմնի անվանումները | D9: Ցուցանիշների փոփոխությունները (ավելացումները նշված են դրական նշանով)
A10: Ծրագիր | B10: Միջոցառում | D10: Առաջին եռամսյակ | E10: Առաջին կիսամյակ | F10: Ինն ամիս | G10: Տարի
C11: Ընդամենը | D11: =D13 -> 30000 | E11: =E13 -> 46000 | F11: =F13 -> 52000 | G11: =G13 -> 52000
A12: այդ թվում`
A13: Ընթացիկ սուբվենցիաներ համայնքներին | D13: =D14 -> 30000 | E13: =E14 -> 46000 | F13: =F14 -> 52000 | G13: =G14 -> 52000
A14: ՀՀ աշխատանքի և սոցիալական հարցերի նախարարություն | D14: =D15 -> 30000 | E14: =E15 -> 46000 | F14: =F15 -> 52000 | G14: =G15 -> 52000
A15: 1088 | C15: Զբաղվածության ծրագիր | D15: =D17 -> 30000 | E15: =E17 -> 46000 | F15: =F17 -> 52000 | G15: =G17 -> 52000
C16: այդ թվում`
B17: 12014 | C17: Ռազմական դրությամբ պայմանավորված՝ վարձատրվող հասարակակական աշխ. կազմակերպ. միջոցով՝ Ադրբեջանի կողմից 2020 թ. սեպտ. 27-ին սանձազերծված պատերազմի հետևանքով տեղահանված և փաստ. Հ Հ գտնվող Արցախի Հանր. գործազուրկ քաղաքացիների ժամանակավոր զբաղվածութ. ապահովում | D17: =D19 -> 30000 | E17: =E19 -> 46000 | F17: =F19 -> 52000 | G17: =G19 -> 52000
C18: այդ թվում` ըստ կատարողների
C19: ՀՀ աշխատանքի և սոցիալական հարցերի նախարարություն | D19: ='3'!C38 -> 30000 | E19: ='3'!D38 -> 46000 | F19: ='3'!E38 -> 52000 | G19: ='3'!F38 -> 52000

Sheet 6
G1: Հավելված N 6
G2: ՀՀ կառավարության 2021 թվականի
G3: ______________ ի ___Ն որոշման
A5: ՀԱՅԱՍՏԱՆԻ ՀԱՆՐԱՊԵՏՈՒԹՅԱՆ ԿԱՌԱՎԱՐՈՒԹՅԱՆ 2020 ԹՎԱԿԱՆԻ ԴԵԿՏԵՄԲԵՐԻ 30-Ի N 2215-Ն ՈՐՈՇՄԱՆ N 5 ՀԱՎԵԼՎԱԾԻ 7-ՐԴ ԱՂՅՈՒՍԱԿՈՒՄ ԿԱՏԱՐՎՈՂ ՓՈՓՈԽՈՒԹՅՈՒՆՆԵՐԸ ԵՎ ԼՐԱՑՈՒՄՆԵՐԸ
H7: հազար դրամներով
A8: Ծրագրային դասիչ | C8: Բյուջետային հատկացումների գլխավոր կարգադրիչների, ծրագրերի, միջոցառումների, ծախսային ուղղությունների անվանումները | G8: Միջոցառումները կատարող պետական մարմինների և դրամաշնորհ ստացող տնտեսվարող սուբյեկտների անվանումները | H8: Ցուցանիշների փոփոխությունը (նվազեցումները նշված են փակագծերում)
A9: Ծրագիր | B9: Միջոցառում | H9: Տարի
A10: 1 | B10: 2 | C10: 3 | G10: 4 | H10: 5
A11: 1088 | B11: Զբաղվածության ծրագիր | H11: =H12+H14+H16 -> 0
B12: 12005 | C12: Աշխատաշուկայում անմրցունակ անձանց աշխատանքի տեղավորման դեպքում գործատուին միանվագ փոխհատուցման տրամադրում | G12: ՀՀ աշխատանքի և սոցիալական հարցերի նախարարություն | H12: =+H13 -> -80000
G13: Աշխատաշուկայում անմրցունակ անձանց օրենսդրությամբ սահմանված կարգով աշխատանքով ապահովող կազմակերպություններ | H13: ='3'!F26 -> -80000
B14: 12014 | C14: Ռազմական դրությամբ պայմանավորված՝ վարձատրվող հասարակակական աշխ. կազմակերպ. միջոցով՝ Ադրբեջանի կողմից 2020 թ. սեպտ. 27-ին սանձազերծված պատերազմի հետևանքով տեղահանված և փաստ. Հ Հ գտնվող Արցախի Հանր. գործազուրկ քաղաքացիների ժամանակավոր զբաղվածութ. ապահովում | G14: ՀՀ աշխատանքի և սոցիալական հարցերի նախարարություն | H14: =+H15 -> 52000
G15: Օրենսդրությամբ սահմանված կարգով պատվիրատու հանդիսացող համայնքներ | H15: ='3'!F38 -> 52000
B16: 12015 | C16: Ռազմական դրությամբ պայմանավորված՝ Ադրբեջանի կողմից 2020թ. սեպտեմբերի 27-ին սանձազերծված պատերազմի հետևանքով տեղահանված և փաստացի ՀՀ-ում գտնվող Արցախի Հանրապետության գործազուրկ քաղաքացիների աշխատանքային փորձ ձեռք բերելու համար աջակցության տրամադրում | G16: ՀՀ աշխատանքի և սոցիալական հարցերի նախարարություն | H16: =+H17 -> 28000
G17: Արցախի Հանրապետության գործազուրկ քաղաքացիների աշխատանքային փորձի ձեռք բերելումն՝ օրենսդրությամբ սահմանված կարգով, ապահովող կազմակերպություններ | H17: ='3'!F52 -> 28000
