Workbook
Name \A: #REF!
Name \A: #REF!
Name \A: #REF!
Name Armata: #REF!
Name Armata: #REF!
Name Armata: #REF!
Name BOP: #REF!
Name BOP: #REF!
Name BOPfoot: #REF!
Name BOPfoot: #REF!
Name DebtCG: '[1]Fis-Debt'!#REF!
Name DebtCG: '[1]Fis-Debt'!#REF!
Name DebtCG: '[1]Fis-Debt'!#REF!
Name DebtGG: #REF!
Name DebtGG: #REF!
Name DebtGG: #REF!
Name MonExo: #REF!
Name MonExo: #REF!
Name MonExo: #REF!
Name MonGrow: [2]BM!#REF!
Name MonGrow: [2]BM!#REF!
Name MonGrow: [2]BM!#REF!
Name RealExo: #REF!
Name RealExo: #REF!
Name RealExo: #REF!
Name RealPercent: #REF!
Name RealPercent: #REF!
Name RealPercent: #REF!
Name Table_2._Turkey__Exogenous_assumptions: #REF!
Name Table_2._Turkey__Exogenous_assumptions: #REF!
Name Table_2._Turkey__Exogenous_assumptions: #REF!
Name է: [2]BM!#REF!
Name է: [2]BM!#REF!
Name է: [2]BM!#REF!
Name ՀՀՀՀՀ: #REF!
Name ՀՀՀՀՀ: #REF!
Name ՀՀՀՀՀ: #REF!
Name շախմատիստ: #REF!
Name շախմատիստ: #REF!
Name շախմատիստ: #REF!
Name շախմատիստ: #REF!

Sheet N 1
C1: Հավելված 1 ՀՀ կառավարության 2020 թվականի____________ի N _____-Ն որոշման
A2: «ՀԱՅԱՍՏԱՆԻ ՀԱՆՐԱՊԵՏՈՒԹՅԱՆ 2020 ԹՎԱԿԱՆԻ ՊԵՏԱԿԱՆ ԲՅՈՒՋԵԻ ՄԱՍԻՆ» ՀԱՅԱՍՏԱՆԻ ՀԱՆՐԱՊԵՏՈՒԹՅԱՆ ՕՐԵՆՔԻ N 1 ՀԱՎԵԼՎԱԾԻ N 2 ԱՂՅՈՒՍԱԿՈՒՄ ԿԱՏԱՐՎՈՂ ՎԵՐԱԲԱՇԽՈՒՄԸ ԵՎ ՀԱՅԱՍՏԱՆԻ ՀԱՆՐԱՊԵՏՈՒԹՅԱՆ ԿԱՌԱՎԱՐՈՒԹՅԱՆ 2019 ԹՎԱԿԱՆԻ ԴԵԿՏԵՄԲԵՐԻ 26-Ի N 1919-Ն ՈՐՈՇՄԱՆ N 5 ՀԱՎԵԼՎԱԾԻ N 1 ԱՂՅՈՒՍԱԿՈՒՄ ԿԱՏԱՐՎՈՂ ՓՈՓՈԽՈՒԹՅՈՒՆՆԵՐԸ
D3: (հազար դրամներով)
A4: Ծրագրային դասիչը | C4: Բյուջետային հատկացումների գլխավոր կարգադրիչների, ծրագրերի և միջոցառումների | D4: Ցուցանիշների փոփոխությունը (ավելացումները նշված են դրական նշանով, իսկ նվազեցումները` փակագծերում)
A5: ծրագիրը | B5: միջոցառումը | C5: անվանումները | D5: Տարի
C6: ԸՆԴԱՄԵՆԸ այդ թվում` | D6: =D7+D21 -> 0
C7: ՀՀ պաշտպանության նախարարություն | D7: =D8 -> 12172
A8: 1169 | C8: Ծրագրի անվանումը` | D8: =D16 -> 12172
C9: ՀՀ պաշտպանության ապահովում
C10: Ծրագրի նպատակը`
C11: ՀՀ ԶՈւ ռազմավարական ծավալումն ապահովող մարտական պատրաստականության պահպանում, արտաքին թշնամուց ՀՀ պետական սահմանների պաշտպանության ապահովում_x000D_
C12: Վերջնական արդյունքի նկարագրությունը`
C13: ՀՀ ԶՈւ ռազմավարական ծավալումն ապահովող մարտական պատրաստականության պահպանում_x000D_
C14: Ծրագրի միջոցառումներ
B15: 11002 | C15: Միջոցառման անվանումը`
C16: ՀՀ օդանավակայաններում ՌԴ զորամիավորումների օդանավերի սպասարկման ծառայություններ | D16: =-D21 -> 12172
C17: Միջոցառման նկարագրությունը`
C18: ՀՀ օդանավակայաններում ՌԴ զորամիավորումների օդանավերի սպասարկման և ծառայությունների ծախսերի փոխհատուցում
C19: Միջոցառման տեսակը
C20: Ծառայությունների մատուցում
C21: ՀՀ շրջակա միջավայրի նախարարություն | D21: =D22+D34 -> -12172
A22: 1016 | C22: Ծրագրի անվանումը` | D22: =D29 -> -3172
C23: Շրջակա միջավայրի վրա ազդեցության գնահատում և մոնիթորինգ
C24: Ծրագրի նպատակը`
C25: Նպաստել շրջակա միջավայրի և բնական ռեսուրսների (բացառությամբ օգտակար հանածոների) պահպանությանը
C26: Վերջնական արդյունքի նկարագրությունը`
C27: Շրջակա միջավայրի վերաբերյալ ամբողջական տեղեկատվության հրապարակում
C28: Ծրագրի միջոցառումներ
B29: 11004 | C29: Հիդրոօդերևութաբանություն, շրջակա միջավայրի մոնիթորիգ և տեղեկատվության ապահովում | D29: -3172
C30: Միջոցառման նկարագրությունը`
C31: Հիդրոօդերևութաբանություն, շրջակա միջավայրի մոնիթորիգի տեղեկատվության տրամադրման աշխատանքներ
C32: Միջոցառման տեսակը
C33: Ծառայությունների մատուցում
A34: 1155 | C34: Ծրագրի անվանումը` | D34: =D41+D47 -> -9000
C35: Բնական պաշարների և բնության հատուկ պահպանվող տարածքների կառավարում և պահպանում
C36: Ծրագրի նպատակը`
C37: Բնական պաշարների և կենսաբազմազանության արդյունավետ կառավարում և պահպանություն
C38: Վերջնական արդյունքի նկարագրությունը`
C39: Բնական պաշարների և կենսաբազմազանության վերարտադրության աճի ապահովում
C40: Ծրագրի միջոցառումներ
B41: 11006 | C41: Միջոցառման անվանումը` | D41: -6000
C42: Արգելոցապարկային համալիր ԲՀՊ տարածքների պահպանության, գիտական ուսումնասիրությունների, անտառատնտեսական աշխատանքների կատարում
C43: Միջոցառման նկարագրությունը`
C44: ԲՀՊ տարածքներում պահպանության, գիտական ուսումնասիրությունների, անտառատնտեսական աշխատանքների իրականացում_x000D_
C45: Միջոցառման տեսակը
C46: Ծառայությունների մատուցում
B47: 11010 | C47: Միջոցառման անվանումը` | D47: -3000
C48: Զանգեզուր կենսոլորտային համալիր ԲՀՊ տարածքների պահպանության, գիտական ուսումնասիրությունների, անտառատնտեսական աշխատանքների կատարում
C49: Միջոցառման նկարագրությունը`
C50: ԲՀՊ տարածքներում պահպանության, գիտական ուսումնասիրությունների, անտառատնտեսական աշխատանքների կատարում _x000D_
C51: Միջոցառման տեսակը
C52: Ծառայությունների մատուցում

Sheet N 2
F1: Հավելված 2 ՀՀ կառավարության 2020 թվականի____________ի N _____-Ն որոշման
A3: ՀԱՅԱՍՏԱՆԻ ՀԱՆՐԱՊԵՏՈՒԹՅԱՆ ԿԱՌԱՎԱՐՈՒԹՅԱՆ 2019 ԹՎԱԿԱՆԻ ԴԵԿՏԵՄԲԵՐԻ 26-Ի N 1919-Ն ՈՐՈՇՄԱՆ N3 ԵՎ N4 ՀԱՎԵԼՎԱԾՆԵՐՈՒՄ ԿԱՏԱՐՎՈՂ ՓՈՓՈԽՈՒԹՅՈՒՆՆԵՐԸ
G4: (հազար դրամներով)
A5: Բաժին | B5: Խումբ | C5: Դաս | D5: Ծրագրային դասիչը | F5: Բյուջետային հատկացումների գլխավոր կարգադրիչների, ծրագրերի, միջոցառումների և միջոցառումները կատարող պետական մարմինների անվանումները | G5: Ցուցանիշների փոփոխությունը (ավելացումները նշված են դրական նշանով, իսկ նվազեցումները` փակագծերում)
D6: Ծրագիր | E6: Միջոցառում | G6: Տարի
F7: ԸՆԴԱՄԵՆԸ այդ թվում` | G7: =G29+G43+G57 -> 0
A8: 10 | F8: ՍՈՑԻԱԼԱԿԱՆ ՊԱՇՏՊԱՆՈՒԹՅՈՒՆ այդ թվում` | G8: =G9 -> #REF!
B9: 09 | F9: Սոցիալական պաշտպանություն (այլ դասերին չպատկանող) այդ թվում` | G9: =G10 -> #REF!
C10: 02 | F10: Սոցիալական պաշտպանությանը տրամադրվող օժանդակ ծառայություններ (այլ դասերին չպատկանող) այդ թվում` | G10: =G12 -> #REF!
F11: ՀՀ աշխատանքի և սոցիալական հարցերի նախարարություն
D12: 1225 | F12: Ճգնաժամերի հակազդման և արտակարգ իրավիճակների հետևանքների նվազեցման և վերացման նպատակով՝ առանձին սոցիալական խմբերին տրվող սոցիալական աջակցություն այդ թվում` | G12: =G13+G21 -> #REF!
E13: 12002 | F13: Կորոնավիրուսի (COVID-19) հետևանքով ճգնաժամերի հակազդման և արտակարգ իրավիճակների հետևանքների նվազեցման և վերացման նպատակով՝ առանձին սոցիալական խմբերին տրվող սոցիալական աջակցություն | G13: =G15 -> -200000
F14: այդ թվում` ըստ կատարողների
F15: ՀՀ աշխատանքի և սոցիալական հարցերի նախարարության սոցիալական ապահովության ծառայություն | G15: =G17 -> -200000
F16: այդ թվում` բյուջետային ծախսերի տնտեսագիտական դասակարգման հոդվածներ
F17: ԸՆԴԱՄԵՆԸ ԾԱԽՍԵՐ | G17: =G18 -> -200000
F18: ԸՆԹԱՑԻԿ ԾԱԽՍԵՐ | G18: =G19 -> -200000
F19: ՍՈՑԻԱԼԱԿԱՆ ՆՊԱՍՏՆԵՐ ԵՎ ԿԵՆՍԱԹՈՇԱԿՆԵՐ | G19: =G20 -> -200000
F20: - Այլ նպաստներ բյուջեից | G20: =-200000 -> -200000
E21: ='N 1'!#REF! -> #REF! | F21: Կորոնավիրուսի տնտեսական հետևանքների չեզոքացման տասնհինգերորդ միջոցառման շրջանակներում գետերի առափնյա հատվածներում ծառատնկում | G21: =G23 -> #REF!
F22: այդ թվում` ըստ կատարողների
F23: ՀՀ շրջակա միջավայրի նախարարության անտառային կոմիտե | G23: =G25 -> #REF!
F24: այդ թվում` բյուջետային ծախսերի տնտեսագիտական դասակարգման հոդվածներ
F25: ԸՆԹԱՑԻԿ ԾԱԽՍԵՐ | G25: =G26 -> #REF!
F26: ԴՐԱՄԱՇՆՈՐՀՆԵՐ | G26: =G27 -> #REF!
F27: Ընթացիկ դրամաշնորհներ պետական հատվածի այլ մակարդակներին | G27: =G28 -> #REF!
F28: - Այլ ընթացիկ դրամաշնորհներ | G28: =-#REF! -> #REF!
A29: 04 | F29: ՏՆՏԵՍԱԿԱՆ ՀԱՐԱԲԵՐՈՒԹՅՈՒՆՆԵՐ այդ թվում` | G29: =G30 -> 12172
B30: 05 | F30: Տրանսպորտ այդ թվում` | G30: =G31 -> 12172
C31: 04 | F31: Օդային տրանսպորտ այդ թվում` | G31: =G32 -> 12172
F32: ՀՀ պաշտպանության նախարարություն այդ թվում` | G32: =G33 -> 12172
D33: 1169 | F33: ՀՀ պաշտպանության ապահովում այդ թվում` | G33: =G34 -> 12172
E34: 11002 | F34: ՀՀ օդանավակայաններում ՌԴ զորամիավորումների օդանավերի սպասարկման ծառայություններ | G34: =G36 -> 12172
F35: այդ թվում` ըստ կատարողների
F36: ՀՀ պաշտպանության նախարարություն | G36: =G38 -> 12172
F37: այդ թվում` բյուջետային ծախսերի տնտեսագիտական դասակարգման հոդվածներ
F38: ԸՆԴԱՄԵՆԸ ԾԱԽՍԵՐ | G38: =G39 -> 12172
F39: ԸՆԹԱՑԻԿ ԾԱԽՍԵՐ | G39: =G40 -> 12172
F40: ԾԱՌԱՅՈՒԹՅՈՒՆՆԵՐԻ ԵՎ ԱՊՐԱՆՔՆԵՐԻ ՁԵՌՔԲԵՐՈՒՄ | G40: =G41 -> 12172
F41: Պայմանագրային այլ ծառայությունների ձեռքբերում | G41: =G42 -> 12172
F42: - Ընդհանուր բնույթի այլ ծառայություններ | G42: =-G43+-G57 -> 12172
A43: 05 | F43: ՇՐՋԱԿԱ ՄԻՋԱՎԱՅՐԻ ՊԱՇՏՊԱՆՈՒԹՅՈՒՆ այդ թվում` | G43: =G44 -> -3172
B44: 06 | F44: Շրջակա միջավայրի պաշտպանություն (այլ դասերին չպատկանող) այդ թվում` | G44: =G45 -> -3172
C45: 01 | F45: Շրջակա միջավայրի պաշտպանություն (այլ դասերին չպատկանող) այդ թվում` | G45: =G46 -> -3172
F46: ՀՀ շրջակա միջավայրի նախարարություն այդ թվում` | G46: =G47 -> -3172
D47: 1016 | F47: Շրջակա միջավայրի վրա ազդեցության գնահատում և մոնիթորինգ այդ թվում` | G47: =G48 -> -3172
E48: 11004 | F48: Հիդրոօդերևութաբանություն, շրջակա միջավայրի մոնիթորիգ և տեղեկատվության ապահովում | G48: =G50 -> -3172
F49: այդ թվում` ըստ կատարողների
F50: ՀՀ շրջակա միջավայրի նախարարություն | G50: =G52 -> -3172
F51: այդ թվում` բյուջետային ծախսերի տնտեսագիտական դասակարգման հոդվածներ
F52: ԸՆԴԱՄԵՆԸ ԾԱԽՍԵՐ | G52: =G53 -> -3172
F53: ԸՆԹԱՑԻԿ ԾԱԽՍԵՐ | G53: =G54 -> -3172
F54: ԴՐԱՄԱՇՆՈՐՀՆԵՐ | G54: =G55 -> -3172
F55: Ընթացիկ դրամաշնորհներ պետական հատվածի այլ մակարդակներին | G55: =G56 -> -3172
F56: - Ընթացիկ դրամաշնորհներ պետական և համայնքային ոչ առևտրային կազմակերպություններին | G56: -3172
A57: 05 | F57: ՇՐՋԱԿԱ ՄԻՋԱՎԱՅՐԻ ՊԱՇՏՊԱՆՈՒԹՅՈՒՆ այդ թվում` | G57: =G58 -> -9000
B58: 04 | F58: Կենսաբազմազանության և բնության պաշտպանություն այդ թվում` | G58: =G59 -> -9000
C59: 01 | F59: Կենսաբազմազանության և բնության պաշտպանություն այդ թվում` | G59: =G60 -> -9000
F60: ՀՀ շրջակա միջավայրի նախարարություն այդ թվում` | G60: =G61 -> -9000
D61: 1155 | F61: Բնական պաշարների և բնության հատուկ պահպանվող տարածքների կառավարում և պահպանում այդ թվում` | G61: =G62+G71 -> -9000
E62: 11006 | F62: Արգելոցապարկային համալիր ԲՀՊ տարածքների պահպանության, գիտական ուսումնասիրությունների, անտառատնտեսական աշխատանքների կատարում | G62: =G64 -> -6000
F63: այդ թվում` ըստ կատարողների
F64: ՀՀ շրջակա միջավայրի նախարարություն | G64: =G66 -> -6000
F65: այդ թվում` բյուջետային ծախսերի տնտեսագիտական դասակարգման հոդվածներ
F66: ԸՆԴԱՄԵՆԸ ԾԱԽՍԵՐ | G66: =G67 -> -6000
F67: ԸՆԹԱՑԻԿ ԾԱԽՍԵՐ | G67: =G68 -> -6000
F68: ԴՐԱՄԱՇՆՈՐՀՆԵՐ | G68: =G69 -> -6000
F69: Ընթացիկ դրամաշնորհներ պետական հատվածի այլ մակարդակներին | G69: =G70 -> -6000
F70: - Ընթացիկ դրամաշնորհներ պետական և համայնքային ոչ առևտրային կազմակերպություններին | G70: ='N 1'!D41 -> -6000
E71: 11010 | F71: Զանգեզուր կենսոլորտային համալիր ԲՀՊ տարածքների պահպանության, գիտական ուսումնասիրությունների, անտառատնտեսական աշխատանքների կատարում | G71: =G72 -> -3000
F72: այդ թվում` ըստ կատարողների | G72: =G74 -> -3000
F73: ՀՀ շրջակա միջավայրի նախարարություն
F74: այդ թվում` բյուջետային ծախսերի տնտեսագիտական դասակարգման հոդվածներ | G74: =G76 -> -3000
F75: ԸՆԴԱՄԵՆԸ ԾԱԽՍԵՐ
F76: ԸՆԹԱՑԻԿ ԾԱԽՍԵՐ | G76: =G77 -> -3000
F77: ԴՐԱՄԱՇՆՈՐՀՆԵՐ | G77: =G78 -> -3000
F78: Ընթացիկ դրամաշնորհներ պետական հատվածի այլ մակարդակներին | G78: =G79 -> -3000
F79: - Ընթացիկ դրամաշնորհներ պետական և համայնքային ոչ առևտրային կազմակերպություններին | G79: ='N 1'!D47 -> -3000

Sheet  N 3_9
B1: Հավելված 3 ՀՀ կառավարության 2020 թվականի____________ի N _____-Ն որոշման
A2: ՀԱՅԱՍՏԱՆԻ ՀԱՆՐԱՊԵՏՈՒԹՅԱՆ ԿԱՌԱՎԱՐՈՒԹՅԱՆ 2019 ԹՎԱԿԱՆԻ ԴԵԿՏԵՄԲԵՐԻ 26-Ի N 1919-Ն ՈՐՈՇՄԱՆ N 9 ՀԱՎԵԼՎԱԾԻ N 9.15 ԱՂՅՈՒՍԱԿՈՒՄ ԿԱՏԱՐՎՈՂ ՓՈՓՈԽՈՒԹՅՈՒՆՆԵՐԸ
A3: ՀՀ պաշտպանության նախարարություն
A5: ՄԱՍ 2. ՊԵՏԱԿԱՆ ՄԱՐՄՆԻ ԳԾՈՎ ԱՐԴՅՈՒՆՔԱՅԻՆ (ԿԱՏԱՐՈՂԱԿԱՆ) ՑՈՒՑԱՆԻՇՆԵՐԸ
A7: Ծրագրի դասիչը | B7: Ծրագրի անվանումը
A8: 1169 | B8: ՀՀ պաշտպանության ապահովում
A10: Ծրագրի միջոցառումները
A11: Ծրագրի դասիչը` | B11: 1169 | C11: Ցուցանիշների փոփոխությունը (ավելացումները նշված են դրական նշանով)
A12: Միջոցառման դասիչը` | B12: 11002 | C12: Տարի
A13: Միջոցառման անվանումը` | B13: ՀՀ օդանավակայաններում ՌԴ զորամիավորումների օդանավերի սպասարկման ծառայություններ
A14: Նկարագրությունը` | B14: ՀՀ օդանավակայաններում ՌԴ զորամիավորումների օդանավերի սպասարկման և ծառայությունների ծախսերի փոխհատուցում
A15: Միջոցառման տեսակը` | B15: Ծառայությունների մատուցում
A16: Միջոցառումն իրականացնողի անվանումը՛ | B16: ՀՀ պաշտպանության նախարարություն, մասնագիտացված կազմակերպություն
A17: Արդյունքի չափորոշիչներ
A18: Միջոցառման վրա կատարվող ծախսը (հազար դրամ) | C18: =-C36+-C50+-C59 -> 12172
A20: ՀԱՅԱՍՏԱՆԻ ՀԱՆՐԱՊԵՏՈՒԹՅԱՆ ԿԱՌԱՎԱՐՈՒԹՅԱՆ 2019 ԹՎԱԿԱՆԻ ԴԵԿՏԵՄԲԵՐԻ 26-Ի N 1919-Ն ՈՐՈՇՄԱՆ N 9 ՀԱՎԵԼՎԱԾԻ N 9.13 ԱՂՅՈՒՍԱԿՈՒՄ ԿԱՏԱՐՎՈՂ ՓՈՓՈԽՈՒԹՅՈՒՆՆԵՐԸ
A21: ՀՀ շրջակա միջավայրի նախարարություն
A23: ՄԱՍ 2. ՊԵՏԱԿԱՆ ՄԱՐՄՆԻ ԳԾՈՎ ԱՐԴՅՈՒՆՔԱՅԻՆ (ԿԱՏԱՐՈՂԱԿԱՆ) ՑՈՒՑԱՆԻՇՆԵՐԸ
A25: Ծրագրի դասիչը | B25: Ծրագրի անվանումը
A26: 1016 | B26: Շրջակա միջավայրի վրա ազդեցության գնահատում և մոնիթորինգ
A28: Ծրագրի միջոցառումները
A29: Ծրագրի դասիչը` | B29: 1016 | C29: Ցուցանիշների փոփոխությունը (ավելացումները նշված են դրական նշանով)
A30: Միջոցառման դասիչը` | B30: 11004 | C30: Տարի
A31: Միջոցառման անվանումը` | B31: Հիդրոօդերևութաբանություն, շրջակա միջավայրի մոնիթորիգ և տեղեկատվության ապահովում
A32: Նկարագրությունը` | B32: Հիդրոօդերևութաբանություն, շրջակա միջավայրի մոնիթորիգի տեղեկատվության տրամադրման աշխատանքներ
A33: Միջոցառման տեսակը` | B33: Ծառայությունների մատուցում
A34: Միջոցառումն իրականացնողի անվանումը՛ | B34: Մասնագիտացված կազմակերպություններ
A35: Արդյունքի չափորոշիչներ
A36: Միջոցառման վրա կատարվող ծախսը (հազար դրամ) | C36: ='N 2'!G56 -> -3172
A39: Ծրագրի դասիչը | B39: Ծրագրի անվանումը
A40: 1155 | B40: Բնական պաշարների և բնության հատուկ պահպանվող տարածքների կառավարում և պահպանում
A43: Ծրագրի դասիչը` | B43: 1155 | C43: Ցուցանիշների փոփոխությունը (նվազեցումները նշված են փակագծերում)
A44: Միջոցառման դասիչը` | B44: 11006 | C44: Տարի
A45: Միջոցառման անվանումը` | B45: Արգելոցապարկային համալիր ԲՀՊ տարածքների պահպանության, գիտական ուսումնասիրությունների, անտառատնտեսական աշխատանքների կատարում
A46: Նկարագրությունը` | B46: ԲՀՊ տարածքներում պահպանության, գիտական ուսումնասիրությունների, անտառատնտեսական աշխատանքների իրականացում_x000D_
A47: Միջոցառման տեսակը` | B47: Ծառայությունների մատուցում
A48: Շահառուների ընտրության չափանիշները՝ | B48: Մասնագիտացված կազմակերպություններ
A49: Արդյունքի չափորոշիչներ
A50: Միջոցառման վրա կատարվող ծախսը (հազար դրամ) | C50: ='N 2'!G70 -> -6000
A52: Ծրագրի դասիչը` | B52: 1155 | C52: Ցուցանիշների փոփոխությունը (նվազեցումները նշված են փակագծերում)
A53: Միջոցառման դասիչը` | B53: 11010 | C53: Տարի
A54: Միջոցառման անվանումը` | B54: Զանգեզուր կենսոլորտային համալիր ԲՀՊ տարածքների պահպանության, գիտական ուսումնասիրությունների, անտառատնտեսական աշխատանքների կատարում
A55: Նկարագրությունը` | B55: ԲՀՊ տարածքներում պահպանության, գիտական ուսումնասիրությունների, անտառատնտեսական աշխատանքների կատարում _x000D_
A56: Միջոցառման տեսակը` | B56: Ծառայությունների մատուցում
A57: Շահառուների ընտրության չափանիշները՝ | B57: Մասնագիտացված կազմակերպություններ
A58: Արդյունքի չափորոշիչներ
A59: Միջոցառման վրա կատարվող ծախսը (հազար դրամ) | C59: ='N 2'!G79 -> -3000

Sheet  N 4_9.1
A1: Հավելված 4 ՀՀ կառավարության 2020 թվականի____________ի N _____-Ն որոշման
A3: ՀԱՅԱՍՏԱՆԻ ՀԱՆՐԱՊԵՏՈՒԹՅԱՆ ԿԱՌԱՎԱՐՈՒԹՅԱՆ 2019 ԹՎԱԿԱՆԻ ԴԵԿՏԵՄԲԵՐԻ 26-Ի N 1919-Ն ՈՐՈՇՄԱՆ N 9.1 ՀԱՎԵԼՎԱԾԻ N 9.1.15 ԱՂՅՈՒՍԱԿՈՒՄ ԿԱՏԱՐՎՈՂ ՓՈՓՈԽՈՒԹՅՈՒՆՆԵՐԸ
A4: ՀՀ պաշտպանության նախարարություն
A6: ՄԱՍ 2. ՊԵՏԱԿԱՆ ՄԱՐՄՆԻ ԳԾՈՎ ԱՐԴՅՈՒՆՔԱՅԻՆ (ԿԱՏԱՐՈՂԱԿԱՆ) ՑՈՒՑԱՆԻՇՆԵՐԸ
A8: Ծրագրի դասիչը | B8: Ծրագրի անվանումը
A9: 1169 | B9: ՀՀ պաշտպանության ապահովում
A11: Ծրագրի միջոցառումները
A12: Ծրագրի դասիչը` | B12: 1169 | C12: Ցուցանիշների փոփոխությունը (ավելացումները նշված են դրական նշանով)
A13: Միջոցառման դասիչը` | B13: 11002 | C13: Տարի
A14: Միջոցառման անվանումը` | B14: ՀՀ օդանավակայաններում ՌԴ զորամիավորումների օդանավերի սպասարկման ծառայություններ
A15: Նկարագրությունը` | B15: ՀՀ օդանավակայաններում ՌԴ զորամիավորումների օդանավերի սպասարկման և ծառայությունների ծախսերի փոխհատուցում
A16: Միջոցառման տեսակը` | B16: Ծառայությունների մատուցում
A17: Միջոցառումն իրականացնողի անվանումը՛ | B17: ՀՀ պաշտպանության նախարարություն, մասնագիտացված կազմակերպություն
A18: Արդյունքի չափորոշիչներ
A19: Միջոցառման վրա կատարվող ծախսը (հազար դրամ) | C19: =-C38+-C53+-C62 -> 12172
A21: ՀԱՅԱՍՏԱՆԻ ՀԱՆՐԱՊԵՏՈՒԹՅԱՆ ԿԱՌԱՎԱՐՈՒԹՅԱՆ 2019 ԹՎԱԿԱՆԻ ԴԵԿՏԵՄԲԵՐԻ 26-Ի N 1919-Ն ՈՐՈՇՄԱՆ N 9.1 ՀԱՎԵԼՎԱԾԻ N 9.1.13 ԱՂՅՈՒՍԱԿՈՒՄ ԿԱՏԱՐՎՈՂ ՓՈՓՈԽՈՒԹՅՈՒՆՆԵՐԸ
A22: ՀՀ շրջակա միջավայրի նախարարություն
A24: ՄԱՍ 1. ՊԵՏԱԿԱՆ ՄԱՐՄՆԻ ԳԾՈՎ ԱՐԴՅՈՒՆՔԱՅԻՆ (ԿԱՏԱՐՈՂԱԿԱՆ) ՑՈՒՑԱՆԻՇՆԵՐԸ
A26: Ծրագրի դասիչը | B26: Ծրագրի անվանումը
A27: 1016 | B27: Շրջակա միջավայրի վրա ազդեցության գնահատում և մոնիթորինգ
A29: Ծրագրի միջոցառումները
A31: Ծրագրի դասիչը` | B31: 1016 | C31: Ցուցանիշների փոփոխությունը (ավելացումները նշված են դրական նշանով)
A32: Միջոցառման դասիչը` | B32: 11004 | C32: Տարի
A33: Միջոցառման անվանումը` | B33: Հիդրոօդերևութաբանություն, շրջակա միջավայրի մոնիթորիգ և տեղեկատվության ապահովում
A34: Նկարագրությունը` | B34: Հիդրոօդերևութաբանություն, շրջակա միջավայրի մոնիթորիգի տեղեկատվության տրամադրման աշխատանքներ
A35: Միջոցառման տեսակը` | B35: Ծառայությունների մատուցում
A36: Միջոցառումն իրականացնողի անվանումը՛ | B36: Մասնագիտացված կազմակերպություններ
A37: Արդյունքի չափորոշիչներ
A38: Միջոցառման վրա կատարվող ծախսը (հազար դրամ) | C38: =' N 3_9'!C36 -> -3172
A42: Ծրագրի դասիչը | B42: Ծրագրի անվանումը
A43: 1155 | B43: Բնական պաշարների և բնության հատուկ պահպանվող տարածքների կառավարում և պահպանում
A46: Ծրագրի դասիչը` | B46: 1155 | C46: Ցուցանիշների փոփոխությունը (նվազեցումները նշված են փակագծերում)
A47: Միջոցառման դասիչը` | B47: 11006 | C47: Տարի
A48: Միջոցառման անվանումը` | B48: Արգելոցապարկային համալիր ԲՀՊ տարածքների պահպանության, գիտական ուսումնասիրությունների, անտառատնտեսական աշխատանքների կատարում
A49: Նկարագրությունը` | B49: ԲՀՊ տարածքներում պահպանության, գիտական ուսումնասիրությունների, անտառատնտեսական աշխատանքների իրականացում_x000D_
A50: Միջոցառման տեսակը` | B50: Ծառայությունների մատուցում
A51: Շահառուների ընտրության չափանիշները՝ | B51: Մասնագիտացված կազմակերպություններ
A52: Արդյունքի չափորոշիչներ
A53: Միջոցառման վրա կատարվող ծախսը (հազար դրամ) | C53: =' N 3_9'!C50 -> -6000
A55: Ծրագրի դասիչը` | B55: 1155 | C55: Ցուցանիշների փոփոխությունը (նվազեցումները նշված են փակագծերում)
A56: Միջոցառման դասիչը` | B56: 11010 | C56: Տարի
A57: Միջոցառման անվանումը` | B57: Զանգեզուր կենսոլորտային համալիր ԲՀՊ տարածքների պահպանության, գիտական ուսումնասիրությունների, անտառատնտեսական աշխատանքների կատարում
A58: Նկարագրությունը` | B58: ԲՀՊ տարածքներում պահպանության, գիտական ուսումնասիրությունների, անտառատնտեսական աշխատանքների կատարում _x000D_
A59: Միջոցառման տեսակը` | B59: Ծառայությունների մատուցում
A60: Շահառուների ընտրության չափանիշները՝ | B60: Մասնագիտացված կազմակերպություններ
A61: Արդյունքի չափորոշիչներ
A62: Միջոցառման վրա կատարվող ծախսը (հազար դրամ) | C62: =' N 3_9'!C59 -> -3000

Sheet N5 
G1: Հավելված 5 ՀՀ կառավարության 2020 թվականի____________ի N _____-Ն որոշման
B3: ՀԱՅԱՍՏԱՆԻ ՀԱՆՐԱՊԵՏՈՒԹՅԱՆ ԿԱՌԱՎԱՐՈՒԹՅԱՆ 2019 ԹՎԱԿԱՆԻ ԴԵԿՏԵՄԲԵՐԻ 26-Ի N 1919-Ն ՈՐՈՇՄԱՆ N 5 ՀԱՎԵԼՎԱԾԻ N 7 ԱՂՅՈՒՍԱԿՈՒՄ ԿԱՏԱՐՎՈՂ ՓՈՓՈԽՈՒԹՅՈՒՆՆԵՐԸ
H4: հազար դրամներով
B5: Ծրագրային դասիչ | D5: Բյուջետային հատկացումների գլխավոր կարգադրիչների, ծրագրերի, միջոցառումների, ծախսային ուղղությունների անվանումները | G5: Միջոցառումները կատարող պետական մարմինների և դրամաշնորհ ստացող տնտեսվարող սուբյեկտների անվանումները | H5: Ցուցանիշների փոփոխությունը (նվազեցումները նշված են փակագծերում)
H6: Տարի
B7: Ծրագիր | C7: Միջոցառում
B8: 1 | C8: 2 | D8: 3 | G8: 4 | H8: 5
B9: ՀՀ շրջակա միջավայրի նախարարություն | H9: =H10+H13 -> -12172
B10: 1016 | C10: Շրջակա միջավայրի վրա ազդեցության գնահատում և մոնիթորինգ | H10: =H11 -> -3172
C11: 11004 | D11: Հիդրոօդերևութաբանություն, շրջակա միջավայրի մոնիթորիգ և տեղեկատվության ապահովում | G11: ՀՀ շրջակա միջավայրի նախարարություն | H11: =H12 -> -3172 | I11: ='N 1'!#REF! -> #REF! | J11: Պայմանագրով հատկացված | K11: Ձեռնարկատիրական գործունեությունից
G12: «Հիդրոօդերևութաբանության և մոնիթորինգի կենտրոն» ՊՈԱԿ | H12: -3172
B13: 1155 | C13: Բնական պաշարների և բնության հատուկ պահպանվող տարածքների կառավարում և պահպանում | H13: =H14+H16 -> -9000
C14: 11006 | D14: Արգելոցապարկային համալիր ԲՀՊ տարածքների պահպանության, գիտական ուսումնասիրությունների, անտառտնտեսական աշխատանքների կատարում | G14: ՀՀ շրջակա միջավայրի նախարարություն | H14: =H15 -> -6000
G15: «Արգելոցապարկային համալիր» ՊՈԱԿ | H15: =' N 4_9.1'!C53 -> -6000
C16: 11010 | D16: Զանգեզուր կենսոլորտային համալիր ԲՀՊ տարածքների պահպանության, գիտական ուսումնասիրությունների, անտառտնտեսական աշխատանքների կատարում | G16: ՀՀ շրջակա միջավայրի նախարարություն | H16: =H17 -> -3000
G17: «Զանգեզուր» կենսոլորտային համալիր» ՊՈԱԿ | H17: =' N 4_9.1'!C62 -> -3000

Sheet N6
D1: Հավելված 6 ՀՀ կառավարության 2020 թվականի____________ի N _____-Ն որոշման
A3: ՀԱՅԱՍՏԱՆԻ ՀԱՆՐԱՊԵՏՈՒԹՅԱՆ ԿԱՌԱՎԱՐՈՒԹՅԱՆ 2019 ԹՎԱԿԱՆԻ ԴԵԿՏԵՄԲԵՐԻ 26-Ի N 1919-Ն ՈՐՈՇՄԱՆ N10 ՀԱՎԵԼՎԱԾՈՒՄ ԿԱՏԱՐՎՈՂ ԼՐԱՑՈՒՄՆԵՐԸ
A4: Կոդը | B4: Անվանումը | C4: Գնման ձևը | D4: Չափի միավորը | E4: Միավորի գինը | F4: Ցուցանիշների փոփոխությունը (ավելացումները նշված են դրական նշանով)
F5: քանակը | G5: գումարը (հազար դրամ)
A6: ՀՀ պաշտպանության նախարարություն | G6: =G7 -> 12172
A7: ԾՐԱԳԻՐ 1169 ՀՀ պաշտպանության ապահովում ՄԻՋՈՑԱՌՈՒՄ 11002 ՀՀ օդանավակայաններում ՌԴ զորամիավորումների օդանավերի սպասարկման ծառայություններ | G7: =G9 -> 12172
A8: Բաժին N 04 Խումբ N 05. դաս N 04. Ծրագիր 1169 Միջոցառում 11002
B9: ՄԱՍ III. Ծառայություններ | G9: =SUM(G10:G10) -> 12172
A10: 71351170/1 | B10: օդերևութաբանական ծառայություններ | C10: ՀՄԱ | D10: դրամ | E10: 12172000 | F10: 1 | G10: 12172
