Workbook
Name AgencyCode: #REF!
Name AgencyName: #REF!
Name Functional1: #REF!
Name PANature: #REF!
Name PAType: #REF!
Name Performance2: #REF!
Name PerformanceType: #REF!

Sheet Havelvats1
D1: Հավելված N 1
D2: ՀՀ կառավարության 2020 թվականի
D3: ________ N ____-Ն որոշման
A5: «ՀԱՅԱՍՏԱՆԻ ՀԱՆՐԱՊԵՏՈՒԹՅԱՆ 2020 ԹՎԱԿԱՆԻ ՊԵՏԱԿԱՆ ԲՅՈՒՋԵԻ ՄԱՍԻՆ» ՕՐԵՆՔԻ N 1 ՀԱՎԵԼՎԱԾԻ N 2 ԱՂՅՈՒՍԱԿՈՒՄ ԿԱՏԱՐՎՈՂ ՎԵՐԱԲԱՇԽՈՒՄ ԵՎ ՀԱՅԱՍՏԱՆԻ ՀԱՆՐԱՊԵՏՈՒԹՅԱՆ ԿԱՌԱՎԱՐՈՒԹՅԱՆ 2019 ԹՎԱԿԱՆԻ ԴԵԿՏԵՄԲԵՐԻ 26-Ի N 1919-Ն ՈՐՈՇՄԱՆ N 5 ՀԱՎԵԼՎԱԾԻ N 1 ԱՂՅՈՒՍԱԿՈՒՄ ԿԱՏԱՐՎՈՂ ՓՈՓՈԽՈՒԹՅՈՒՆՆԵՐԸ
C6: հազար դրամներով
A7: Ծրագրային դասիչը | C7: Բյուջետային գլխավոր կարգադրիչների, ծրագրերի և միջոցառումների անվանումները | D7: Ցուցանիշների փոփոխությունը (ավելացումները նշված են դրական նշանով, իսկ նվազեցումները` փակագծերում)
A8: Ծրագիր | B8: Միջոցառում | D8: Տարի
C9: ԸՆԴԱՄԵՆԸ | D9: =+D10+D297 -> 0
C10: ՀՀ տարածքային կառավարման և ենթակառուցվածքների նախարարություն | D10: =+D11+D24+D49+D98+D111+D148+D161+D246+D271+D284 -> 1000000
A11: 1176 | C11: Ծրագրի անվանումը` | D11: =D18 -> -46000
C12: Ավիացիայի բնագավառում վերահսկողության և կանոնակարգման ապահովում
C13: Ծրագրի նպատակը`
C14: ՀՀ քաղաքացիական ավիացիայի համակարգի ենթակառուցվածքների գործունեության կանոնակարգում և զարգացում
C15: Վերջնական արդյունքի նկարագրությունը`
C16: ՀՀ օդային տարածքով քաղաքացիների և բեռների անվտանգ և արագ տեղափոխման գործընթացների պատշաճ կանոնակարգում և դրանց պահանջների ապահովում
A17: Ծրագրի միջոցառումներ
B18: 11003 | C18: Միջոցառման անվանումը` | D18: =+Havelvats3!G369 -> -46000
C19: Ավիացիոն և այլ սարքավորումների պահպանում
C20: Միջոցառման նկարագրությունը`
C21: Ավիացիոն և այլ սարքավորումների նորոգում և պահպանում
C22: Միջոցառման տեսակը
C23: Ծառայությունների մատուցում
A24: 1167 | C24: Ծրագրի անվանումը` | D24: =D31+D37+D43 -> -104239.2
C25: Էլեկտրաէներգետիկ համակարգի զարգացման ծրագիր
C26: Ծրագրի նպատակը`
C27: Նպաստել էլեկտրաէներգետիկ համակարգի հուսալիության բարձրացմանը և էլեկտրաէներգիայի անխափան մատակարարման ապահովմանը
C28: Վերջնական արդյունքի նկարագրությունը`
C29: Հուսալի և անվտանգ էլեկտրամատակարարման ապահովում
A30: Ծրագրի միջոցառումներ
B31: 32005 | C31: Միջոցառման անվանումը` | D31: =+Havelvats3!G174 -> -73020.7
C32: ՌԴ աջակցությամբ իրականացվող Հայկական ԱԷԿ-ի N 2 էներգաբլոկի շահագործման նախագծային ժամկետի երկարացման դրամաշնորհային ծրագրի շրջանակներում իրականացվող ներդրումներ
C33: Միջոցառման նկարագրությունը`
C34: Հայկական ԱԷԿ-ի N 2 էներգաբլոկի շահագործման նախագծային ժամկետի երկարացում
C35: Միջոցառման տեսակը
C36: Այլ պետական կազմակերպությունների կողմից օգտագործվող ոչ ֆինանսական ակտիվների հետ գործառնություններ
B37: 11006 | C37: Միջոցառման անվանումը` | D37: =+Havelvats3!G187 -> -16372.1
C38: Գերմանիայի զարգացման վարկերի բանկի (KFW)) աջակցությամբ իրականացվող «Կովկասյան էլեկտրահաղորդման ցանց I» Հայաստան-Վրաստան հաղորդիչ գիծ/ենթակայանների դրամաշնորհային ծրագիր
C39: Միջոցառման նկարագրությունը`
C40: Հայաստան-Վրաստան 400 կՎ լարման էլեկտրահաղորդման օդային գծի և համապատասխան ենթակայանների կառուցում (խորհրդատվական և կառավարման ծառայություններ)
C41: Միջոցառման տեսակը
...

Sheet Havelvats2
D1: Հավելված N 2
B2: Կառավարության 2020 թվականի
B3: ________ N ____-Ն որոշման
A5: «ՀԱՅԱՍՏԱՆԻ ՀԱՆՐԱՊԵՏՈՒԹՅԱՆ 2020 ԹՎԱԿԱՆԻ ՊԵՏԱԿԱՆ ԲՅՈՒՋԵԻ ՄԱՍԻՆ» ՕՐԵՆՔԻ N 1 ՀԱՎԵԼՎԱԾԻ N 7 ԱՂՅՈՒՍԱԿՈՒՄ ԵՎ ՀԱՅԱՍՏԱՆԻ ՀԱՆՐԱՊԵՏՈՒԹՅԱՆ ԿԱՌԱՎԱՐՈՒԹՅԱՆ 2019 ԹՎԱԿԱՆԻ ԴԵԿՏԵՄԲԵՐԻ 26-Ի N 1919-Ն ՈՐՈՇՄԱՆ N 5 ՀԱՎԵԼՎԱԾԻ N 6 ԱՂՅՈՒՍԱԿՈՒՄ ԿԱՏԱՐՎՈՂ ԼՐԱՑՈՒՄՆԵՐԸ
D6: հազար դրամներով
A7: Ծրագրային դասիչը | C7: Բյուջետային հատկացումների գլխավոր կարգադրիչների, ծրագրերի, միջոցառումների և միջոցառումները կատարող պետական մարմինների անվանումները | D7: Ցուցանիշների փոփոխությունը (ավելացումները նշված են դրական նշանով, իսկ նվազեցումները` փակագծերում)
A8: Ծրագիր | B8: Միջոցառում | D8: Տարի
C9: ԸՆԴԱՄԵՆԸ | D9: =+D11 -> 3640933.5
C10: այդ թվում
A11: ՀՀ տարածքային կառավարման և ենթակառուցվածքների նախարարություն | D11: =+D13 -> 3640933.5
A12: այդ թվում`
A13: 1212 | B13: Տարածքային զարգացում | D13: =+D14 -> 3640933.5
B14: 12007 | C14: ՀՀ մարզերին սուբվենցիաների տրամադրում՝ ենթակառուցվածքների զարգացման նպատակով | D14: =D15+D45+D64+D77+D99+D128+D133+D143+D149+D159 -> 3640933.5
C15: ՀՀ Արագածոտնի մարզպետարան | D15: =SUM(D17:D44) -> 328207.8
C16: այդ թվում` ըստ ուղղությունների
C17: Կարբի համայնքի ներհամայնքային փողոցների ասֆալտբետոնե ծածկույթի իրականացում և կապիտալ վերանորոգում | D17: 52421.8
C18: Արագածոտն համայնքի ներհամայնքային փողոցների ասֆալտապատման աշխատանքների իրականացում | D18: 5658.4
C19: Փարպի համայնքի ներհամայնքային փողոցների ասֆալտ-բետոնե ծածկույթի իրականացում և ասֆալտ-բետոնե ծածկույթի կապիտալ վերանորոգում | D19: 21720.8
C20: Ուշի համայնքի փողոցների ասֆալտբետոնե ծածկույթի իրականացում և ասֆալտ-բետոնե ծածկույթի կապիտալ վերանորոգում | D20: 5226.8
C21: Բազմաղբյուր համայնքի ներհամայնքային փողոցների ասֆալտ-բետոնե ծածկույթի իրականացում և ասֆալտբետովե ծածկույթի կապիտալ վերանորոգում | D21: 4595.8
C22: Արագածոտն համայնքի ոռոգման ջրագծի ցանցի հիմնանորոգման և քայքայված հատվածների փոխարինման աշխատանքների իրականացում | D22: 29267.1
C23: Օհանավան համայնքի 7 փողոցների մասնակի գազիֆիկացում | D23: 4079.1
C24: Կոշ համայնքի փողոցների, փակուղիների և նրբացքների մասնակի գազիֆիկացում | D24: 6038.6
C25: Նոր Եդեսիա համայնքի արտաքին լուսավորության ցանցի կառուցման աշխատանքներ | D25: 3935.7
C26: Ն․Սասնաշեն համայնքի խմելաջրի ջրագծի մասնակի վերանորոգում | D26: 7673
C27: Աշտարակ համայնքի լուսավորության համակարգի վերազինման, արդիականացման աշխատանքների իրականացում | D27: 40424.5
C28: Արագածավան համայնքի Արտենիի մ/մանկապարտեզների վերանորոգում և գույքի ձեռքբերում | D28: 4717.7
... C44: Ն․ Սասնաշեն համայնքապետարանի շենքի, բուժկետի մասնակի կապիտալ վերանորոգում | D44: 17.4
C45: ՀՀ Արարատի մարզպետարան | D45: =SUM(D47:D63) -> 363212.1
C46: այդ թվում` ըստ ուղղությունների
C47: Արարատ քաղաքային համայնքի Շահումյան 35 և 55, Աբովյան 11 շենքերի տանիքների կապիտալ վերանորոգում | D47: 20230
C48: Արևշատ համայնքի Մուրացան, Շահումյան և Բաղրամյան փողոցների լուսավորության ցանցի կառուցում | D48: 3900
C49: Նոր Խարբերդ համայնքի արևային կայանի կառուցում | D49: 11532
C50: Վարդաշեն համայնքի Ոռոգման ցանցի կառուցում | D50: 13967.2
C51: Արարատ քաղաքային համայնքի ՈԿՖ բանավանի թիվ 21 շենքից մինչև 10-րդ շենքի փողոցների, Գրիբոյեդով և Սալակիթներ փողոցների ասֆալտապատում | D51: 37945
C52: Արգավանդ համայնքում ոռոգման ցանցի կառուցում /Կենտրոնական 3-րդ փողոց/ | D52: 8329.7
C53: Այնթապ համայնքի փողոցների լուսավորության աշխատանքերի /Ժանյակ թաղամասի 1,2,11-րդ փողոցի, 11 փողոցի 1,2և 3 նրբանցքի, 1,2,3,4,5,6,8,9 և 13-րդ փողոցներ/ | D53: 21627.5
C54: Դալար համայնքի Պ. Սևակ փողոցի մասնակի ասֆալտապատում | D54: 6218.7
C55: Երասխ համայնքի Մայիսյան փողոցի ասֆալտապատում | D55: 9580.9
C56: Երասխ համայնքի Րաֆֆու փողոցի ասֆալտապատման և ջրահեռացման աշխատանքներ | D56: 17781.7
...

Sheet Havelvats3
G1: Հավելված N 3
G2: ՀՀ կառավարության 2020 թվականի
G3: ______________N______-Ն որոշման
B5: ՀԱՅԱՍՏԱՆԻ ՀԱՆՐԱՊԵՏՈՒԹՅԱՆ ԿԱՌԱՎԱՐՈՒԹՅԱՆ 2019 ԹՎԱԿԱՆԻ ԴԵԿՏԵՄԲԵՐԻ 26-Ի N 19191-Ն ՈՐՈՇՄԱՆ N 3 ԵՎ N 4 ՀԱՎԵԼՎԱԾՆԵՐՈՒՄ ԿԱՏԱՐՎՈՂ ՓՈՓՈԽՈՒԹՅՈՒՆՆԵՐԸ
F8: հազար դրամներով
A9: Գործառական դասիչը | D9: Ծրագրային դասիչը | F9: Բյուջետային ծախսերի գործառական դասակարգման բաժինների, խմբերի և դասերի, բյուջետային ծրագրերի միջոցառումների, բյուջետային հատկացումների գլխավոր կարգադրիչների անվանումները | G9: Ցուցանիշների փոփոխությունը (ավելացումները նշված են դրական նշանով)
G10: Տարի
A11: Բաժին | B11: Խումբ | C11: Դաս | D11: Ծրագիր | E11: Միջոցա ռում
F12: ԸՆԴԱՄԵՆԸ ԾԱԽՍԵՐ | G12: =+G14+G109+G378+G395+G444+G461 -> 0
F13: այդ թվում`
A14: 01 | F14: ԸՆԴՀԱՆՈՒՐ ԲՆՈՒՅԹԻ ՀԱՆՐԱՅԻՆ ԾԱՌԱՅՈՒԹՅՈՒՆՆԵՐ | G14: =+G16+G31 -> 3626327.5
F15: այդ թվում`
B16: 03 | F16: Ընդհանուր բնույթի ծառայություններ | G16: =+G18 -> -14606
F17: այդ թվում`
C18: 03 | F18: Ընդհանուր բնույթի այլ ծառայություններ | G18: =+G20 -> -14606
F19: այդ թվում`
D20: 1079 | F20: Պետական գույքի կառավարում | G20: =+G22 -> -14606
F21: այդ թվում`
E22: 11001 | F22: Պետական գույքի կառավարման համակարգման, խորհրդատվության և մոնիտորինգի ծառայություններ | G22: =+G24 -> -14606
F23: այդ թվում` ըստ կատարողների
F24: ՀՀ տարածքային կառավարման և ենթակառուցվածքների նախարարության պետական գույքի կառավարման կոմիտե | G24: =+G26 -> -14606
F25: այդ թվում` բյուջետային ծախսերի տնտեսագիտական դասակարգման հոդվածներ
F26: ԸՆԴԱՄԵՆԸ ԾԱԽՍԵՐ | G26: =+G27 -> -14606
F27: ԸՆԹԱՑԻԿ ԾԱԽՍԵՐ | G27: =+G28 -> -14606
F28: ԾԱՌԱՅՈՒԹՅՈՒՆՆԵՐԻ ԵՎ ԱՊՐԱՆՔՆԵՐԻ ՁԵՌՔԲԵՐՈՒՄ | G28: =+G29 -> -14606
F29: Շարունակական ծախսեր | G29: =+G30 -> -14606
F30: - Էներգետիկ ծառայություններ | G30: -14606
B31: 08 | F31: Կառավարության տարբեր մակարդակների միջև իրականացվող ընդհանուր բնույթի տրանսֆերտներ | G31: =+G33 -> 3640933.5
F32: այդ թվում`
C33: 01 | F33: Կառավարության տարբեր մակարդակների միջև իրականացվող ընդհանուր բնույթի տրանսֆերտներ | G33: =+G35 -> 3640933.5
F34: այդ թվում`
D35: 1212 | F35: Տարածքային զարգացում | G35: =+G37 -> 3640933.5
F36: այդ թվում`
E37: 12007 | F37: ՀՀ մարզերին սուբվենցիաների տրամադրում՛ ենթակառուցվածքների զարգացման նպատակով_x000D_ | G37: =+G39+G46+G67+G74+G81+G95+G102+G53+G60+G88 -> 3640933.5
F38: այդ թվում` ըստ կատարողների
F39: ՀՀ Արագածոտնի մարզպետարան | G39: =+G41 -> 328207.8
F40: այդ թվում` բյուջետային ծախսերի տնտեսագիտական դասակարգման հոդվածներ
F41: ԸՆԴԱՄԵՆԸ ԾԱԽՍԵՐ | G41: =+G42 -> 328207.8
F42: ԸՆԹԱՑԻԿ ԾԱԽՍԵՐ | G42: =+G43 -> 328207.8
F43: ԴՐԱՄԱՇՆՈՐՀՆԵՐ | G43: =+G44 -> 328207.8
...

Sheet Havelv_4v
E1: Հավելված N 4
D2: ՀՀ կառավարության 2020 թվականի
D3: ________ N ____-Ն որոշման
A5: «ՀԱՅԱՍՏԱՆԻ ՀԱՆՐԱՊԵՏՈՒԹՅԱՆ 2020 ԹՎԱԿԱՆԻ ՊԵՏԱԿԱՆ ԲՅՈՒՋԵԻ ՄԱՍԻՆ» ՕՐԵՆՔԻ N 1 ՀԱՎԵԼՎԱԾԻ N 4 ԱՂՅՈՒՍԱԿՈՒՄ ԵՎ ՀԱՅԱՍՏԱՆԻ ՀԱՆՐԱՊԵՏՈՒԹՅԱՆ ԿԱՌԱՎԱՐՈՒԹՅԱՆ 2019 ԹՎԱԿԱՆԻ ԴԵԿՏԵՄԲԵՐԻ 26-Ի N 1919-Ն ՈՐՈՇՄԱՆ N 5 ՀԱՎԵԼՎԱԾԻ N 3 ԱՂՅՈՒՍԱԿՈՒՄ ԿԱՏԱՐՎՈՂ ՓՈՓՈԽՈՒԹՅՈՒՆՆԵՐԸ
F6: հազար դրամներով
A7: Ծրագրային դասիչը | C7: Բյուջետային հատկացումների գլխավոր կարգադրիչների, ծրագրերի, միջոցառումների և միջոցառումները կատարող պետական մարմինների անվանումները | D7: Տարի
A8: Ծրագիր | B8: Միջո ց_x000D_առում | D8: Ընդամենը | E8: այդ թվում
E9: Վարկային միջոցներ | F9: Համաֆինան սավորում
C10: ԸՆԴԱՄԵՆԸ_x000D_ այդ թվում` | D10: =E10+F10 -> -1622167.7 | E10: =E11+E12 -> 0 | F10: =F11+F12 -> -1622167.7
C11: - ԸՆԹԱՑԻԿ ԾԱԽՍԵՐ | D11: =E11+F11 -> -532418.9 | E11: =+E20+E49+E55+E83+E96+E102+E108+E114 -> 0 | F11: =+F20+F49+F55+F83+F96+F102+F108+F114 -> -532418.9
C12: - ՈՉ ՖԻՆԱՆՍԱԿԱՆ ԱԿՏԻՎՆԵՐԻ ԳԾՈՎ ԾԱԽՍԵՐ | D12: =E12+F12 -> -1089748.8 | E12: =E26+E32+E41+E120+E126+E132+E61+E68+E75 -> 0 | F12: =F26+F32+F41+F120+F126+F132+F61+F68+F75 -> -1089748.8
C13: ՀՀ ՏԱՐԱԾՔԱՅԻՆ ԿԱՌԱՎԱՐՄԱՆ ԵՎ ԵՆԹԱԿԱՌՈՒՑՎԱԾՔՆԵՐԻ ՆԱԽԱՐԱՐՈՒԹՅՈՒՆ_x000D_ այդ թվում` | D13: =E13+F13 -> -1722167.7 | E13: =E35+E43+E69+E77+E14 -> 0 | F13: =F35+F43+F69+F77+F14 -> -1722167.7
A14: 1157 | C14: Քաղաքային զարգացում | D14: =E14+F14 -> -596595.9 | E14: =+E16+E22+E28 -> 0 | F14: =+F16+F22+F28 -> -596595.9
C15: այդ թվում`
B16: 12012 | C16: Ասիական զարգացման բանկի աջակցությամբ իրականացվող քաղաքային ենթակառուցվածքների և քաղաքի կայուն զարգացման ներդրումային ծրագրի համակարգում և կառավարում | D16: =+E16+F16 -> -962.9 | E16: =+E20 -> 0 | F16: =+F20 -> -962.9
C17: այդ թվում` ըստ կատարողների
C18: ՀՀ տարածքային կառավարման և ենթակառուցվածքների նախարարություն | D18: =E18+F18 -> -962.9 | E18: =E16 -> 0 | F18: =F16 -> -962.9
C19: այդ թվում` բյուջետային ծախսերի տնտեսագիտական դասակարգման հոդվածներ
C20: ԸՆԹԱՑԻԿ ԾԱԽՍԵՐ | D20: =E20+F20 -> -962.9 | E20: =+E21 -> 0 | F20: =+F21 -> -962.9
C21: - Այլ ծախսեր | D21: =E21+F21 -> -962.9 | F21: =+Havelvats1!D86 -> -962.9
B22: 12021 | C22: Ասիական զարգացման բանկի աջակցությամբ իրականացվող քաղաքային ենթակառուցվածքների և քաղաքի կայուն զարգացման ներդրումային երկրորդ ծրագրի շրջանակներում ճանապարհային շինարարություն | D22: =E22+F22 -> -155633 | E22: =E26 -> 0 | F22: =F26 -> -155633
C23: այդ թվում` ըստ կատարողների
C24: ՀՀ տարածքային կառավարման և ենթակառուցվածքների նախարարություն | D24: =E24+F24 -> -155633 | E24: =E22 -> 0 | F24: =F22 -> -155633
C25: այդ թվում` բյուջետային ծախսերի տնտեսագիտական դասակարգման հոդվածներ
C26: ՈՉ ՖԻՆԱՆՍԱԿԱՆ ԱԿՏԻՎՆԵՐԻ ԳԾՈՎ ԾԱԽՍԵՐ | D26: =E26+F26 -> -155633 | E26: =E27 -> 0 | F26: =F27 -> -155633
C27: - Շենքերի և շինությունների շինարարություն | D27: =E27+F27 -> -155633 | F27: =+Havelvats1!D62 -> -155633
B28: 12017 | C28: Վերակառուցման և զարգացման եվրոպական բանկի աջակցությամբ իրականացվող Գյումրու քաղաքային ճանապարհների ծրագիր | D28: =+E28+F28 -> -440000 | E28: =+E32 -> 0 | F28: =+F32 -> -440000
C29: այդ թվում` ըստ կատարողների
C30: ՀՀ տարածքային կառավարման և ենթակառուցվածքների նախարարություն | D30: =E30+F30 -> -440000 | E30: =E28 -> 0 | F30: =F28 -> -440000
C31: այդ թվում` բյուջետային ծախսերի տնտեսագիտական դասակարգման հոդվածներ
C32: ՈՉ ՖԻՆԱՆՍԱԿԱՆ ԱԿՏԻՎՆԵՐԻ ԳԾՈՎ ԾԱԽՍԵՐ | D32: =E32+F32 -> -440000 | E32: =+E33+E34 -> 0 | F32: =+F33+F34 -> -440000
C33: - Շենքերի և շինությունների կապիտալ վերանորոգում | D33: =E33+F33 -> -417464.4 | F33: =+Havelvats3!G333 -> -417464.4
C34: - Այլ մեքենա սարքավորումներ | D34: =E34+F34 -> -22535.6 | F34: =+Havelvats3!G334 -> -22535.6
A35: 1189 | C35: Դպրոցների սեյսմիկ անվտանգության մակարդակի բարձրացման ծրագիր | D35: =E35+F35 -> -48110.5 | E35: =+E37 -> 0 | F35: =+F37 -> -48110.5
C36: այդ թվում`
B37: 12001 | C37: Ասիական զարգացման բանկի աջակցությամբ իրականացվող դպրոցների սեյսմիկ պաշտպանության ծրագրի շրջանակներում ՀՀ դպրոցների սեյսմիկ անվտանգության բարելավմանն ուղղված միջոցառումներ | D37: =+E37+F37 -> -48110.5 | E37: =+E41 -> 0 | F37: =+F41 -> -48110.5
C38: այդ թվում` ըստ կատարողների
C39: ՀՀ տարածքային կառավարման և ենթակառուցվածքների նախարարություն | D39: =+E39+F39 -> -48110.5 | E39: =+E37 -> 0 | F39: =+F37 -> -48110.5
C40: այդ թվում` բյուջետային ծախսերի տնտեսագիտական դասակարգման հոդվածներ
C41: ՈՉ ՖԻՆԱՆՍԱԿԱՆ ԱԿՏԻՎՆԵՐԻ ԳԾՈՎ ԾԱԽՍԵՐ | D41: =+E41+F41 -> -48110.5 | E41: =+E42 -> 0 | F41: =+F42 -> -48110.5
...

Sheet Havelv5_dr
E1: Հավելված N 5
E2: ՀՀ կառավարության 2020 թվականի
E3: ________ N ____-Ն որոշման
A5: «ՀԱՅԱՍՏԱՆԻ ՀԱՆՐԱՊԵՏՈՒԹՅԱՆ 2020 ԹՎԱԿԱՆԻ ՊԵՏԱԿԱՆ ԲՅՈՒՋԵԻ ՄԱՍԻՆ» ՕՐԵՆՔԻ N 1 ՀԱՎԵԼՎԱԾԻ N 5 ԱՂՅՈՒՍԱԿՈՒՄ ԵՎ ՀԱՅԱՍՏԱՆԻ ՀԱՆՐԱՊԵՏՈՒԹՅԱՆ ԿԱՌԱՎԱՐՈՒԹՅԱՆ 2019 ԹՎԱԿԱՆԻ ԴԵԿՏԵՄԲԵՐԻ 26-Ի N 1919-Ն ՈՐՈՇՄԱՆ N 5 ՀԱՎԵԼՎԱԾԻ N4 ԱՂՅՈՒՍԱԿՈՒՄ ԿԱՏԱՐՎՈՂ ՓՈՓՈԽՈՒԹՅՈՒՆՆԵՐԸ
E6: հազար դրամներով
A7: Ծրագրային դասիչը | C7: Բյուջետային հատկացումների գլխավոր կարգադրիչների, ծրագրերի, միջոցառումների և միջոցառումները կատարող պետական մարմինների անվանումները | D7: Տարի
A8: Ծրագիր | B8: Միջոց_x000D_ առում | D8: Ընդամենը | E8: այդ թվում
E9: Դրամաշնոր_x000D_ հային միջոցներ | F9: Համաֆինանս ավորում
C10: ԸՆԴԱՄԵՆԸ_x000D_ այդ թվում` | D10: =E10+F10 -> -625159.8 | E10: =E11+E12 -> 0 | F10: =F11+F12 -> -625159.8
C11: - ԸՆԹԱՑԻԿ ԾԱԽՍԵՐ | D11: =E11+F11 -> -282378.5 | E11: =+E58+E91+E79+E36+E20 -> 0 | F11: =+F58+F91+F79+F36+F20 -> -282378.5
C12: - ՈՉ ՖԻՆԱՆՍԱԿԱՆ ԱԿՏԻՎՆԵՐԻ ԳԾՈՎ ԾԱԽՍԵՐ | D12: =E12+F12 -> -342781.3 | E12: =E28+E52+E64+E70+E44+E85 -> 0 | F12: =F28+F52+F64+F70+F44+F85 -> -342781.3
C13: ՀՀ ՏԱՐԱԾՔԱՅԻՆ ԿԱՌԱՎԱՐՄԱՆ ԵՎ ԵՆԹԱԿԱՌՈՒՑՎԱԾՔՆԵՐԻ ՆԱԽԱՐԱՐՈՒԹՅՈՒՆ_x000D_ այդ թվում` | D13: =E13+F13 -> -625159.8 | E13: =E14+E22+E30+E38+E46+E73 -> 0 | F13: =F14+F22+F30+F38+F46+F73 -> -625159.8
A14: 1004 | C14: Ոռոգման համակարգի առողջացում | D14: =E14+F14 -> -110000 | E14: =+E16 -> 0 | F14: =+F16 -> -110000
C15: այդ թվում`
B16: 11011 | C16: Զարգացման ֆրանսիական գործակալության աջակցությամբ իրականացվող ոռոգման ոլորտի ֆինանսական կայունության և ոռոգման կառավարման կարողությունների բարելավման դրամաշնորհային ծրագրի խորհրդատվություն և կառավարում | D16: =E16+F16 -> -110000 | E16: =E18 -> 0 | F16: =F18 -> -110000
C17: այդ թվում` ըստ կատարողների
C18: ՀՀ տարածքային կառավարման և ենթակառուցվածքների նախարարության ջրային կոմիտե | D18: =E18+F18 -> -110000 | E18: =E20 -> 0 | F18: =F20 -> -110000
C19: այդ թվում` բյուջետային ծախսերի տնտեսագիտական դասակարգման հոդվածներ
C20: ԸՆԹԱՑԻԿ ԾԱԽՍԵՐ | D20: =E20+F20 -> -110000 | E20: =E21 -> 0 | F20: =F21 -> -110000
C21: - Այլ ծախսեր | D21: =E21+F21 -> -110000 | F21: =+Havelvats1!D130 -> -110000
A22: 1040 | C22: Կոշտ թափոնների կառավարում | D22: =+E22+F22 -> -1974.9 | E22: =+E24 -> 0 | F22: =+F24 -> -1974.9
C23: այդ թվում`
B24: 32006 | C24: Եվրոպական միության հարևանության ներդրումային գործիքի աջակցությամբ իրականացվող_x000D_ «Երևանի կոշտ թափոնների կառավարման» դրամաշնորհային ծրագիր | D24: =E24+F24 -> -1974.9 | E24: =E26 -> 0 | F24: =F26 -> -1974.9
C25: այդ թվում` ըստ կատարողների
C26: ՀՀ տարածքային կառավարման և ենթակառուցվածքների նախարարություն | D26: =E26+F26 -> -1974.9 | E26: =E28 -> 0 | F26: =F28 -> -1974.9
C27: այդ թվում` բյուջետային ծախսերի տնտեսագիտական դասակարգման հոդվածներ
C28: ՈՉ ՖԻՆԱՆՍԱԿԱՆ ԱԿՏԻՎՆԵՐԻ ԳԾՈՎ ԾԱԽՍԵՐ | D28: =D29 -> -1974.9 | E28: =E29 -> 0 | F28: =F29 -> -1974.9
C29: - Շենքերի և շինությունների շինարարություն | D29: =E29+F29 -> -1974.9 | F29: =+Havelvats1!D155 -> -1974.9
A30: 1049 | C30: Ճանապարհային ցանցի բարելավում | D30: =E30+F30 -> -131160 | E30: =E32 -> 0 | F30: =F32 -> -131160
C31: այդ թվում`
B32: 11013 | C32: Եվրոպական ներդրումային բանկի աջակցությամբ իրականացվող Հյուսիս-հարավ միջանցքի_x000D_ զարգացման դրամաշնորհային ծրագրի համակարգում և կառավարում | D32: =E32+F32 -> -131160 | E32: =E34 -> 0 | F32: =F34 -> -131160
C33: այդ թվում` ըստ կատարողների
C34: ՀՀ տարածքային կառավարման և ենթակառուցվածքների նախարարություն | D34: =E34+F34 -> -131160 | E34: =E36 -> 0 | F34: =F36 -> -131160
C35: այդ թվում` բյուջետային ծախսերի տնտեսագիտական դասակարգման հոդվածներ
C36: ԸՆԹԱՑԻԿ ԾԱԽՍԵՐ | D36: =E36+F36 -> -131160 | E36: =E37 -> 0 | F36: =F37 -> -131160
C37: - Այլ ծախսեր | D37: =E37+F37 -> -131160 | F37: =+Havelvats1!D204 -> -131160
A38: 1072 | C38: Ջրամատակարարաման և ջրահեռացման բարելավում | D38: =+E38+F38 -> -3944 | E38: =+E40 -> 0 | F38: =+F40 -> -3944
C39: այդ թվում`
B40: 12001 | C40: Գերմանիայի զարգացման և Եվրոպական միության հարևանության ներդրումային բանկի_x000D_ աջակցությամբ իրականացվող ջրամատակարարման և ջրահեռացման ենթակառուցվածքների_x000D_ դրամաշնորհային ծրագիր` երրորդ փուլ | D40: =E40+F40 -> -3944 | E40: =E44 -> 0 | F40: =F44 -> -3944
C41: այդ թվում` ըստ կատարողների
...

Sheet Havelvats7
C1: Հավելված N 6
C2: ՀՀ կառավարության 2020 թվականի
C3: -ի N -Ն որոշման
A5: ՀԱՅԱՍՏԱՆԻ ՀԱՆՐԱՊԵՏՈՒԹՅԱՆ ԿԱՌԱՎԱՐՈՒԹՅԱՆ 2019 ԹՎԱԿԱՆԻ ԴԵԿՏԵՄԲԵՐԻ 26-Ի N 1919-Ն ՈՐՈՇՄԱՆ N 9 ՀԱՎԵԼՎԱԾԻ N 9.8 ԱՂՅՈՒՍԱԿՈՒՄ ԿԱՏԱՐՎՈՂ ՓՈՓՈԽՈՒԹՅՈՒՆՆԵՐԸ
A7: ՀՀ տարածքային կառավարման և ենթակառուցվածքների նախարարություն
A8: ՄԱՍ 2. ՊԵՏԱԿԱՆ ՄԱՐՄՆԻ ԳԾՈՎ ԱՐԴՅՈՒՆՔԱՅԻՆ (ԿԱՏԱՐՈՂԱԿԱՆ) ՑՈՒՑԱՆԻՇՆԵՐԸ
A10: Ծրագրի դասիչը | B10: Ծրագրի անվանումը
A11: 1004 | B11: Ոռոգման համակարգի առողջացում
A13: Ծրագրի միջոցառումները
A15: Ծրագրի դասիչը` | B15: 1004 | C15: Ցուցանիշների փոփոխությունը (նվազեցումները նշված են փակագծերում)
A16: Միջոցառման դասիչը` | B16: 11005 | C16: Տարի
A17: Միջոցառման անվանումը` | B17: Եվրասիական զարգացման բանկի աջակցությամբ իրականացվող ոռոգման համակարգերի զարգացման ծրագրի խորհրդատվություն և կառավարում
A18: Նկարագրությունը` | B18: Եվրասիական զարգացման բանկի աջակցությամբ իրականացվող ոռոգման համակարգերի զարգացման ծրագրի համակարգում և ղեկավարում
A19: Միջոցառման տեսակը` | B19: Ծառայությունների մատուցում
A20: Ծառայությունը մատուցող կազմակերպության անվանումը | B20: Մասնագիտատացված միավոր
A21: Արդյունքի չափորոշիչներ
A22: Կառավարվող/վերահսկվող պայմանագրերի քանակ, հատ
A23: Միջոցառման վրա կատարվող ծախսը (հազար դրամ) | C23: =+Havelvats1!D118 -> -10000
A25: Ծրագրի դասիչը` | B25: 1004 | C25: Ցուցանիշների փոփոխությունը (նվազեցումները նշված են փակագծերում)
A26: Միջոցառման դասիչը` | B26: 11007 | C26: Տարի
A27: Միջոցառման անվանումը` | B27: Գերմանիայի զարգացման վարկերի բանկի աջակցությամբ իրականացվող Ախուրյան գետի ջրային ռեսուրսների ինտեգրացված կառավարում ծրագրի խորհրդատվություն և կառավարում
A28: Նկարագրությունը` | B28: Գերմանիայի զարգացման վարկերի բանկի աջակցությամբ իրականացվող Ախուրյան գետի ջրային ռեսուրսների ինտեգրացված կառավարում ծրագրի համակարգում և ղեկավարում
A29: Միջոցառման տեսակը` | B29: Ծառայությունների մատուցում
A30: Ծառայությունը մատուցող կազմակերպության անվանումը | B30: Մասնագիտատացված միավոր
A31: Արդյունքի չափորոշիչներ
A32: Կառավարվող/վերահսկվող պայմանագրերի քանակ, հատ
A33: Միջոցառման վրա կատարվող ծախսը (հազար դրամ) | C33: =+Havelvats1!D124 -> -80000
A35: Ծրագրի դասիչը` | B35: 1004 | C35: Ցուցանիշների փոփոխությունը (նվազեցումները նշված են փակագծերում)
A36: Միջոցառման դասիչը` | B36: 11011 | C36: Տարի
A37: Միջոցառման անվանումը` | B37: Զարգացման ֆրանսիական գործակալության աջակցությամբ իրականացվող ոռոգման ոլորտի ֆինանսական կայունության և ոռոգման կառավարման կարողությունների բարելավման դրամաշնորհային ծրագրի խորհրդատվություն և կառավարում_x000D_
A38: Նկարագրությունը` | B38: Զարգացման ֆրանսիական գործակալության աջակցությամբ իրականացվող ոռոգման ոլորտի ֆինանսական կայունության և ոռոգման կառավարման կարողությունն»րի բար»լավման ծրագրի համակարգում և ղ»կավարում
A39: Միջոցառման տեսակը` | B39: Ծառայությունների մատուցում
A40: Ծառայությունը մատուցող կազմակերպության անվանումը | B40: Ջրային կոմիտե
A41: Արդյունքի չափորոշիչներ
A42: Կառավարվող/վերահսկվող պայմանագրերի քանակ, հատ
A43: Միջոցառման վրա կատարվող ծախսը (հազար դրամ) | C43: =+Havelvats1!D130 -> -110000
A45: Ծրագրի դասիչը` | B45: 1004 | C45: Ցուցանիշների փոփոխությունը (նվազեցումները նշված են փակագծերում)
A46: Միջոցառման դասիչը` | B46: 12002 | C46: Տարի
A47: Միջոցառման անվանումը` | B47: Գերմանիայի զարգացման բանկի աջակցությամբ իրականացվող Ախուրյան գետի ջրային ռեսուրսների ինտեգրված կառավարման փուլ 1 ծրագրով Ջրաձոր գյուղի վերաբնակեցման համար ենթակառուցվածքների և բնակելի տների կառուցում
A48: Նկարագրությունը` | B48: Գերմանիայի զարգացման բանկի աջակցությամբ իրականացվող Ախուրյան գետի ջրային ռեսուրսների ինտեգրված կառավարման փուլ 1 ծրագիր_x000D_
...

Sheet Havelvats8
D1: Հավելված N7
D2: ՀՀ կառավարության 2020թ
D3: ---------ի N ----------- որոշման
A6: ՀԱՅԱՍՏԱՆԻ ՀԱՆՐԱՊԵՏՈՒԹՅԱՆ ԿԱՌԱՎԱՐՈՒԹՅԱՆ 2019 ԹՎԱԿԱՆԻ ԴԵԿՏԵՄԲԵՐԻ 26-Ի N 1919-Ն ՈՐՈՇՄԱՆ N 9.1 ՀԱՎԵԼՎԱԾԻ N 9.1.26 ԱՂՅՈՒՍԱԿՈՒՄ ԿԱՏԱՐՎՈՂ ՓՈՓՈԽՈՒԹՅՈՒՆՆԵՐԸ
A7: ՀՀ տարածքային կառավարման և ենթակառուցվածքների նախարարության ջրային կոմիտե
A8: ՄԱՍ1. ՊԵՏԱԿԱՆ ՄԱՐՄՆԻ ԳԾՈՎ ԱՐԴՅՈՒՆՔԱՅԻՆ (ԿԱՏԱՐՈՂԱԿԱՆ) ՑՈՒՑԱՆԻՇՆԵՐԸ
A10: Ծրագրի դասիչը | B10: Ծրագրի անվանումը
A11: 1004 | B11: Ոռոգման համակարգի առողջացում
A13: Ծրագրի միջոցառումները
A15: Ծրագրի դասիչը` | B15: 1004 | C15: Ցուցանիշների փոփոխությունը (նվազեցումները նշված են փակագծերում)
A16: Միջոցառման դասիչը` | B16: 11005 | C16: Տարի
A17: Միջոցառման անվանումը` | B17: Եվրասիական զարգացման բանկի աջակցությամբ իրականացվող ոռոգման համակարգերի զարգացման ծրագրի խորհրդատվություն և կառավարում
A18: Նկարագրությունը` | B18: Եվրասիական զարգացման բանկի աջակցությամբ իրականացվող ոռոգման համակարգերի զարգացման ծրագրի համակարգում և ղեկավարում
A19: Միջոցառման տեսակը` | B19: Ծառայությունների մատուցում
A20: Ծառայությունը մատուցող կազմակերպության անվանումը | B20: Մասնագիտատացված միավոր
A21: Արդյունքի չափորոշիչներ
A22: Կառավարվող/վերահսկվող պայմանագրերի քանակ, հատ
A23: Միջոցառման վրա կատարվող ծախսը (հազար դրամ) | C23: =+[1]Havelvats1!D118 -> -10000
A25: Ծրագրի դասիչը` | B25: 1004 | C25: Ցուցանիշների փոփոխությունը (նվազեցումները նշված են փակագծերում)
A26: Միջոցառման դասիչը` | B26: 11007 | C26: Տարի
A27: Միջոցառման անվանումը` | B27: Գերմանիայի զարգացման վարկերի բանկի աջակցությամբ իրականացվող Ախուրյան գետի ջրային ռեսուրսների ինտեգրացված կառավարում ծրագրի խորհրդատվություն և կառավարում
A28: Նկարագրությունը` | B28: Գերմանիայի զարգացման վարկերի բանկի աջակցությամբ իրականացվող Ախուրյան գետի ջրային ռեսուրսների ինտեգրացված կառավարում ծրագրի համակարգում և ղեկավարում
A29: Միջոցառման տեսակը` | B29: Ծառայությունների մատուցում
A30: Ծառայությունը մատուցող կազմակերպության անվանումը | B30: Մասնագիտատացված միավոր
A31: Արդյունքի չափորոշիչներ
A32: Կառավարվող/վերահսկվող պայմանագրերի քանակ, հատ
A33: Միջոցառման վրա կատարվող ծախսը (հազար դրամ) | C33: =+[1]Havelvats1!D124 -> -80000
A35: Ծրագրի դասիչը` | B35: 1004 | C35: Ցուցանիշների փոփոխությունը (նվազեցումները նշված են փակագծերում)
A36: Միջոցառման դասիչը` | B36: 11011 | C36: Տարի
A37: Միջոցառման անվանումը` | B37: Զարգացման ֆրանսիական գործակալության աջակցությամբ իրականացվող ոռոգման ոլորտի ֆինանսական կայունության և ոռոգման կառավարման կարողությունների բարելավման դրամաշնորհային ծրագրի խորհրդատվություն և կառավարում_x000D_
A38: Նկարագրությունը` | B38: Զարգացման ֆրանսիական գործակալության աջակցությամբ իրականացվող ոռոգման ոլորտի ֆինանսական կայունության և ոռոգման կառավարման կարողությունն»րի բար»լավման ծրագրի համակարգում և ղ»կավարում
A39: Միջոցառման տեսակը` | B39: Ծառայությունների մատուցում
A40: Ծառայությունը մատուցող կազմակերպության անվանումը | B40: Ջրային կոմիտե
A41: Արդյունքի չափորոշիչներ
A42: Կառավարվող/վերահսկվող պայմանագրերի քանակ, հատ
A43: Միջոցառման վրա կատարվող ծախսը (հազար դրամ) | C43: =+[1]Havelvats1!D130 -> -110000
A45: Ծրագրի դասիչը` | B45: 1004 | C45: Ցուցանիշների փոփոխությունը (նվազեցումները նշված են փակագծերում)
A46: Միջոցառման դասիչը` | B46: 12002 | C46: Տարի
A47: Միջոցառման անվանումը` | B47: Գերմանիայի զարգացման բանկի աջակցությամբ իրականացվող Ախուրյան գետի ջրային ռեսուրսների ինտեգրված կառավարման փուլ 1 ծրագրով Ջրաձոր գյուղի վերաբնակեցման համար ենթակառուցվածքների և բնակելի տների կառուցում
A48: Նկարագրությունը` | B48: Գերմանիայի զարգացման բանկի աջակցությամբ իրականացվող Ախուրյան գետի ջրային ռեսուրսների ինտեգրված կառավարման փուլ 1 ծրագիր_x000D_
...

Sheet Havelvats6
A1: Հավելված N8
A2: ՀՀ կառավարության 2020 թվականի
A3: ______________ ի ___Ն որոշման
A5: ՀԱՅԱՍՏԱՆԻ ՀԱՆՐԱՊԵՏՈՒԹՅԱՆ ԿԱՌԱՎԱՐՈՒԹՅԱՆ 2019 ԹՎԱԿԱՆԻ ԴԵԿՏԵՄԲԵՐԻ 26-Ի N 1919-Ն ՈՐՈՇՄԱՆ N 10 ՀԱՎԵԼՎԱԾՈՒՄ ԿԱՏԱՐՎՈՂ ԼՐԱՑՈՒՄՆԵՐԸ
A6: Կոդը | B6: Անվանումը | C6: Գնման ձևը | D6: Չափման միավորը | E6: Միավորի գինը | F6: Ցուցանիշների փոփոխությունը (նվազեցումները նշված են փակագծերում)
F7: Քանակը | G7: Գումարը (հազար դրամով)
A8: ՀՀտարածքային կառավարման և ենթակառուցվածքների նախարարության պետական գույքի կառավարման կոմիտե | G8: =+G9 -> -14606
A9: Բաժին N 01 | B9: Խումբ N 03 | C9: Դաս N 03 | D9: Ընդհանուր բնույթի այլ ծառայություններ | G9: =+G10 -> -14606
A10: 1079 11001 | B10: Պետական գույքի կառավարման համակարգման, խորհրդատվության և մոնիտորինգի ծառայություններ | G10: =+G11 -> -14606
A11: ՄԱՍ III. ԾԱՌԱՅՈՒԹՅՈՒՆՆԵՐ | B11: ՄԱՍ III. ԾԱՌԱՅՈՒԹՅՈՒՆՆԵՐ | G11: =+G12 -> -14606
A12: 65311100-1 | B12: էլեկտրականության բաշխում | C12: ՄԱ | D12: դրամ | G12: =+Havelvats3!G30 -> -14606
