Workbook
Name AgencyCode: #REF!
Name AgencyName: #REF!
Name Functional1: #REF!
Name PANature: #REF!
Name PAType: #REF!
Name Performance2: #REF!
Name PerformanceType: #REF!

Sheet Havelvats1
D1: Հավելված N 1
D2: ՀՀ կառավարության 2020 թվականի
D3: ________ N ____-Ն որոշման
A5: «ՀԱՅԱՍՏԱՆԻ ՀԱՆՐԱՊԵՏՈՒԹՅԱՆ 2020 ԹՎԱԿԱՆԻ ՊԵՏԱԿԱՆ ԲՅՈՒՋԵԻ ՄԱՍԻՆ» ՕՐԵՆՔԻ N 1 ՀԱՎԵԼՎԱԾԻ N 2 ԱՂՅՈՒՍԱԿՈՒՄ ԿԱՏԱՐՎՈՂ ՎԵՐԱԲԱՇԽՈՒՄ ԵՎ ՀԱՅԱՍՏԱՆԻ ՀԱՆՐԱՊԵՏՈՒԹՅԱՆ ԿԱՌԱՎԱՐՈՒԹՅԱՆ 2019 ԹՎԱԿԱՆԻ ԴԵԿՏԵՄԲԵՐԻ 26-Ի N 1919-Ն ՈՐՈՇՄԱՆ N 5 ՀԱՎԵԼՎԱԾԻ N 1 ԱՂՅՈՒՍԱԿՈՒՄ ԿԱՏԱՐՎՈՂ ՓՈՓՈԽՈՒԹՅՈՒՆՆԵՐԸ
C6: հազար դրամներով
A7: Ծրագրային դասիչը | C7: Բյուջետային գլխավոր կարգադրիչների, ծրագրերի և միջոցառումների անվանումները | D7: Ցուցանիշների փոփոխությունը (ավելացումները նշված են դրական նշանով, իսկ նվազեցումները` փակագծերում)
A8: Ծրագիր | B8: Միջոցառում | D8: Տարի
C9: ԸՆԴԱՄԵՆԸ | D9: =+D10+D297 -> 0
C10: ՀՀ տարածքային կառավարման և ենթակառուցվածքների նախարարություն | D10: =+D11+D24+D49+D98+D111+D148+D161+D246+D271+D284 -> 1000000
A11: 1176 | C11: Ծրագրի անվանումը` | D11: =D18 -> -46000
C12: Ավիացիայի բնագավառում վերահսկողության և կանոնակարգման ապահովում
C13: Ծրագրի նպատակը`
C14: ՀՀ քաղաքացիական ավիացիայի համակարգի ենթակառուցվածքների գործունեության կանոնակարգում և զարգացում
C15: Վերջնական արդյունքի նկարագրությունը`
C16: ՀՀ օդային տարածքով քաղաքացիների և բեռների անվտանգ և արագ տեղափոխման գործընթացների պատշաճ կանոնակարգում և դրանց պահանջների ապահովում
A17: Ծրագրի միջոցառումներ
B18: 11003 | C18: Միջոցառման անվանումը` | D18: =+Havelvats3!G369 -> -46000
C19: Ավիացիոն և այլ սարքավորումների պահպանում
C20: Միջոցառման նկարագրությունը`
C21: Ավիացիոն և այլ սարքավորումների նորոգում և պահպանում
C22: Միջոցառման տեսակը
C23: Ծառայությունների մատուցում
A24: 1167 | C24: Ծրագրի անվանումը` | D24: =D31+D37+D43 -> -104239.2
C25: Էլեկտրաէներգետիկ համակարգի զարգացման ծրագիր
C26: Ծրագրի նպատակը`
C27: Նպաստել էլեկտրաէներգետիկ համակարգի հուսալիության բարձրացմանը և էլեկտրաէներգիայի անխափան մատակարարման ապահովմանը
C28: Վերջնական արդյունքի նկարագրությունը`
C29: Հուսալի և անվտանգ էլեկտրամատակարարման ապահովում
A30: Ծրագրի միջոցառումներ
B31: 32005 | C31: Միջոցառման անվանումը` | D31: =+Havelvats3!G174 -> -73020.7
C32: ՌԴ աջակցությամբ իրականացվող Հայկական ԱԷԿ-ի N 2 էներգաբլոկի շահագործման նախագծային ժամկետի երկարացման դրամաշնորհային ծրագրի շրջանակներում իրականացվող ներդրումներ
C33: Միջոցառման նկարագրությունը`
C34: Հայկական ԱԷԿ-ի N 2 էներգաբլոկի շահագործման նախագծային ժամկետի երկարացում
C35: Միջոցառման տեսակը
C36: Այլ պետական կազմակերպությունների կողմից օգտագործվող ոչ ֆինանսական ակտիվների հետ գործառնություններ
B37: 11006 | C37: Միջոցառման անվանումը` | D37: =+Havelvats3!G187 -> -16372.1
C38: Գերմանիայի զարգացման վարկերի բանկի (KFW)) աջակցությամբ իրականացվող «Կովկասյան էլեկտրահաղորդման ցանց I» Հայաստան-Վրաստան հաղորդիչ գիծ/ենթակայանների դրամաշնորհային ծրագիր
C39: Միջոցառման նկարագրությունը`
C40: Հայաստան-Վրաստան 400 կՎ լարման էլեկտրահաղորդման օդային գծի և համապատասխան ենթակայանների կառուցում (խորհրդատվական և կառավարման ծառայություններ)
C41: Միջոցառման տեսակը
C42: Ծառայությունների մատուցում
B43: 11005 | C43: Միջոցառման անվանումը` | D43: =+Havelvats3!G165 -> -14846.4
C44: ՌԴ աջակցությամբ իրականացվող Հայկական ԱԷԿ-ի N 2 էներգաբլոկի շահագործման նախագծային ժամկետի երկարացման դրամաշնորհային ծրագրի շրջանակներում իրականացվող ներդրումներ
C45: Միջոցառման նկարագրությունը`
C46: Հայկական ԱԷԿ-ի N 2 էներգաբլոկի շահագործման նախագծային ժամկետի երկարացում_x000D_
C47: Միջոցառման տեսակը
C48: Ծառայությունների մատուցում
A49: 1157 | C49: Ծրագրի անվանումը` | D49: =D56+D62+D68+D74+D80+D86+D92 -> -870437.6
C50: Քաղաքային զարգացում
C51: Ծրագրի նպատակը`
C52: Քաղաքային ենթակառուցվածքների զարգացում
C53: Վերջնական արդյունքի նկարագրությունը`
C54: Քաղաքային ենթակառուցվածքների արդիականացում և բարելավում
A55: Ծրագրի միջոցառումներ
B56: 12022 | C56: Միջոցառման անվանումը` | D56: =+Havelvats3!G356 -> -10613.7
C57: Վերակառուցման և զարգացման եվրոպական բանկի աջակցությամբ իրականացվող Գյումրու քաղաքային ճանապարհների վերանորոգման ծրագրի շրջանակներում նախագծա-նախահաշվային աշխատանքների իրականացում
C58: Միջոցառման նկարագրությունը`
C59: Գյումրու ճանապարհների վերակառուցմանը և փողոցային լուսավորության արդիականացման աշխատանքներ_x000D_
C60: Միջոցառման տեսակը
C61: Տրանսֆերտների տրամադրում
B62: 12021 | C62: Միջոցառման անվանումը` | D62: =+Havelvats3!G347 -> -155633
C63: Ասիական զարգացման բանկի աջակցությամբ իրականացվող քաղաքային ենթակառուցվածքների և քաղաքի կայուն զարգացման ներդրումային երկրորդ ծրագրի շրջանակներում ճանապարհային շինարարություն
C64: Միջոցառման նկարագրությունը`
C65: ՀՀ համայնքներին տրանսպորտի և երթևեկության բարելավման համար տրամադրվող աջակցություն _x000D_ _x000D_ _x000D_
C66: Միջոցառման տեսակը
C67: Տրանսֆերտների տրամադրում
B68: 12018 | C68: Միջոցառման անվանումը` | D68: =+Havelvats3!G336 -> -240000
C69: Վերակառուցման և զարգացման եվրոպական բանկի աջակցությամբ իրականացվող Գյումրու քաղաքային ճանապարհների դրամաշնորհային ծրագիր (Տրանշ Ա, Բ)
C70: Միջոցառման նկարագրությունը`
C71: Գյումրու փողոցային լուսավորության արդիականացում՛ փողոցային լուսավորության այլ ավտոմատ կառավարման համակարգի տեղադրում_x000D_
C72: Միջոցառման տեսակը
C73: Տրանսֆերտների տրամադրում
B74: 12017 | C74: Միջոցառման անվանումը` | D74: =+Havelvats3!G325 -> -440000
C75: Վերակառուցման և զարգացման եվրոպական բանկի աջակցությամբ իրականացվող Գյումրու քաղաքային ճանապարհների ծրագիր
C76: Միջոցառման նկարագրությունը`
C77: Գյումրու ընտրված փողոցների (ներառյալ հետիոտնային անցումների ցանցը և ջրահեռացման համակարգը) վերակառուցում
C78: Միջոցառման տեսակը
C79: Տրանսֆերտների տրամադրում
B80: 12016 | C80: Միջոցառման անվանումը` | D80: =+Havelvats3!G317 -> -10000
C81: Վերակառուցման և զարգացման եվրոպական բանկի աջակցությամբ իրականացվող Գյումրու քաղաքային ճանապարհների տեխնիկական համագործակցության դրամաշնորհային ծրագիր
C82: Միջոցառման նկարագրությունը`
C83: Գյումրու ճանապարհների վերակառուցմանը և փողոցային լուսավորության արդիականացմանը խորհրդատվական աջակցություն
C84: Միջոցառման տեսակը
C85: Տրանսֆերտների տրամադրում
B86: 12012 | C86: Միջոցառման անվանումը` | D86: =+Havelvats3!G309 -> -962.9
C87: Ասիական զարգացման բանկի աջակցությամբ իրականացվող քաղաքային ենթակառուցվածքների և քաղաքի կայուն զարգացման ներդրումային ծրագրի համակարգում և կառավարում
C88: Միջոցառման նկարագրությունը`
C89: ՀՀ համայնքներին տրանսպորտի և երթևեկության բարելավման համար տրամադրվող աջակցության համակարգում_x000D_
C90: Միջոցառման տեսակը
C91: Տրանսֆերտների տրամադրում
B92: 12003 | C92: Միջոցառման անվանումը` | D92: =+Havelvats3!G435 -> -13228
C93: Արևելյան եվրոպայի էներգախնայողության և բնապահպանական գործընկերության ֆոնդի աջակցությամբ իրականացվող Երևանի քաղաքային լուսավորության դրամաշնորհային ծրագրի կատարման ապահովում
C94: Միջոցառման նկարագրությունը`
C95: ՀՀ համայնքներին քաղաքային լուսավորության ենթակառուցվածքի բարելավման համար տրամադրվող աջակցություն և ծառայություն
C96: Միջոցառման տեսակը
C97: Տրանսֆերտների տրամադրում
A98: 1189 | C98: Ծրագրի անվանումը` | D98: =+D105 -> -48110.5
C99: Դպրոցների սեյսմիկ անվտանգության մակարդակի բարձրացման
C100: Ծրագրի նպատակը`
C101: Նպաստել երկրի սեյսմակայունության ապահովմանը՝ անհատական և հասարակական անվտանգության մակարդակի բարձրացմանը
...

Sheet Havelvats2
D1: Հավելված N 2
B2: Կառավարության 2020 թվականի
B3: ________ N ____-Ն որոշման
A5: «ՀԱՅԱՍՏԱՆԻ ՀԱՆՐԱՊԵՏՈՒԹՅԱՆ 2020 ԹՎԱԿԱՆԻ ՊԵՏԱԿԱՆ ԲՅՈՒՋԵԻ ՄԱՍԻՆ» ՕՐԵՆՔԻ N 1 ՀԱՎԵԼՎԱԾԻ N 7 ԱՂՅՈՒՍԱԿՈՒՄ ԵՎ ՀԱՅԱՍՏԱՆԻ ՀԱՆՐԱՊԵՏՈՒԹՅԱՆ ԿԱՌԱՎԱՐՈՒԹՅԱՆ 2019 ԹՎԱԿԱՆԻ ԴԵԿՏԵՄԲԵՐԻ 26-Ի N 1919-Ն ՈՐՈՇՄԱՆ N 5 ՀԱՎԵԼՎԱԾԻ N 6 ԱՂՅՈՒՍԱԿՈՒՄ ԿԱՏԱՐՎՈՂ ԼՐԱՑՈՒՄՆԵՐԸ
D6: հազար դրամներով
A7: Ծրագրային դասիչը | C7: Բյուջետային հատկացումների գլխավոր կարգադրիչների, ծրագրերի, միջոցառումների և միջոցառումները կատարող պետական մարմինների անվանումները | D7: Ցուցանիշների փոփոխությունը (ավելացումները նշված են դրական նշանով, իսկ նվազեցումները` փակագծերում)
A8: Ծրագիր | B8: Միջոցառում | D8: Տարի
C9: ԸՆԴԱՄԵՆԸ | D9: =+D11 -> 3640933.5
C10: այդ թվում
A11: ՀՀ տարածքային կառավարման և ենթակառուցվածքների նախարարություն | D11: =+D13 -> 3640933.5
A12: այդ թվում`
A13: 1212 | B13: Տարածքային զարգացում | D13: =+D14 -> 3640933.5
B14: 12007 | C14: ՀՀ մարզերին սուբվենցիաների տրամադրում՝ ենթակառուցվածքների զարգացման նպատակով | D14: =D15+D45+D64+D77+D99+D128+D133+D143+D149+D159 -> 3640933.5
C15: ՀՀ Արագածոտնի մարզպետարան | D15: =SUM(D17:D44) -> 328207.8
C16: այդ թվում` ըստ ուղղությունների
C17: Կարբի համայնքի ներհամայնքային փողոցների ասֆալտբետոնե ծածկույթի իրականացում և կապիտալ վերանորոգում | D17: 52421.8
C18: Արագածոտն համայնքի ներհամայնքային փողոցների ասֆալտապատման աշխատանքների իրականացում | D18: 5658.4
C19: Փարպի համայնքի ներհամայնքային փողոցների ասֆալտ-բետոնե ծածկույթի իրականացում և ասֆալտ-բետոնե ծածկույթի կապիտալ վերանորոգում | D19: 21720.8
C20: Ուշի համայնքի փողոցների ասֆալտբետոնե ծածկույթի իրականացում և ասֆալտ-բետոնե ծածկույթի կապիտալ վերանորոգում | D20: 5226.8
C21: Բազմաղբյուր համայնքի ներհամայնքային փողոցների ասֆալտ-բետոնե ծածկույթի իրականացում և ասֆալտբետովե ծածկույթի կապիտալ վերանորոգում | D21: 4595.8
C22: Արագածոտն համայնքի ոռոգման ջրագծի ցանցի հիմնանորոգման և քայքայված հատվածների փոխարինման աշխատանքների իրականացում | D22: 29267.1
C23: Օհանավան համայնքի 7 փողոցների մասնակի գազիֆիկացում | D23: 4079.1
C24: Կոշ համայնքի փողոցների, փակուղիների և նրբացքների մասնակի գազիֆիկացում | D24: 6038.6
C25: Նոր Եդեսիա համայնքի արտաքին լուսավորության ցանցի կառուցման աշխատանքներ | D25: 3935.7
C26: Ն․Սասնաշեն համայնքի խմելաջրի ջրագծի մասնակի վերանորոգում | D26: 7673
C27: Աշտարակ համայնքի լուսավորության համակարգի վերազինման, արդիականացման աշխատանքների իրականացում | D27: 40424.5
C28: Արագածավան համայնքի Արտենիի մ/մանկապարտեզների վերանորոգում և գույքի ձեռքբերում | D28: 4717.7
... C44: Ն․ Սասնաշեն համայնքապետարանի շենքի, բուժկետի մասնակի կապիտալ վերանորոգում | D44: 17.4
C45: ՀՀ Արարատի մարզպետարան | D45: =SUM(D47:D63) -> 363212.1
C46: այդ թվում` ըստ ուղղությունների
C47: Արարատ քաղաքային համայնքի Շահումյան 35 և 55, Աբովյան 11 շենքերի տանիքների կապիտալ վերանորոգում | D47: 20230
C48: Արևշատ համայնքի Մուրացան, Շահումյան և Բաղրամյան փողոցների լուսավորության ցանցի կառուցում | D48: 3900
C49: Նոր Խարբերդ համայնքի արևային կայանի կառուցում | D49: 11532
C50: Վարդաշեն համայնքի Ոռոգման ցանցի կառուցում | D50: 13967.2
C51: Արարատ քաղաքային համայնքի ՈԿՖ բանավանի թիվ 21 շենքից մինչև 10-րդ շենքի փողոցների, Գրիբոյեդով և Սալակիթներ փողոցների ասֆալտապատում | D51: 37945
C52: Արգավանդ համայնքում ոռոգման ցանցի կառուցում /Կենտրոնական 3-րդ փողոց/ | D52: 8329.7
C53: Այնթապ համայնքի փողոցների լուսավորության աշխատանքերի /Ժանյակ թաղամասի 1,2,11-րդ փողոցի, 11 փողոցի 1,2և 3 նրբանցքի, 1,2,3,4,5,6,8,9 և 13-րդ փողոցներ/ | D53: 21627.5
C54: Դալար համայնքի Պ. Սևակ փողոցի մասնակի ասֆալտապատում | D54: 6218.7
C55: Երասխ համայնքի Մայիսյան փողոցի ասֆալտապատում | D55: 9580.9
C56: Երասխ համայնքի Րաֆֆու փողոցի ասֆալտապատման և ջրահեռացման աշխատանքներ | D56: 17781.7
C57: Վանաշեն համայնքի Մ. Մաշտոցի փողոցի ասֆալտապատում /դպրոց տանող հատված/ | D57: 10498.9
C58: Մարմարաշեն համայնքի փողոցների լուսավորության աշխատանքներ / Մասիսի խճուղու վերակառուցման և 8-րդ, 27-րդ, 28-րդ,29, 30, 31 և 32-րդ փողոցների և Մարմար թաղ. կառուցման աշխատանքներ/ | D58: 6872
... C63: Մխչյան համայնքի Ստեփանյան, Սայաթ-Նովա, Ալավերդյան, Օղբինցինների, Սունդուկյան և Շահումյան փողոցների ասֆալտապատում | D63: 49588.3
C64: ՀՀ Լոռու մարզպետարան | D64: =SUM(D66:D76) -> 142815
C65: այդ թվում` ըստ ուղղությունների
C66: Մարգահովիտ համայնքի Փողոցային լուսավորության կառուցում | D66: 7623
C67: Մեծավան համայնքի Մարզադպրոցի կառուցում | D67: 33625.3
C68: Կաթնաջուր համայնքի Գերեզմանատան ճանապարհի ասֆալտապատման աշխատանքներ | D68: 13816.6
C69: Արջուտ համայնքի ֆոտովոլտային կայանի կառուցում | D69: 4584.3
C70: Սարահարթ համայնքի Ոռոգման համակարգի մասնակի ընդլայնում/3-րդ, 13-րդ փող, 2-րդ փող. 1-ին նրբ./ | D70: 12876.2
C71: Շնող համայնի Համայնքապետարանի շենքի հիմնանորոգման աշխատանքներ | D71: 843.8
C72: Կաթնաջուր համայնքի Փողոցների գիշերային լուսավորության համակարգը սնուցող 19.2 կվտդրվածքային հզորությամբ մոնոբյուրեղային արևային վահանակներով ֆոտովոլտային կայանի և էներգախնայող լեդ տեսակի լուսատուներով հենասյուների կառուցում | D72: 8692.1
C73: Մեծ Պարնի համայնքի մշակույթի տան ամրացման և մարզադահլիճի հիմնանորոգման աշխատանքներ | D73: 13940.1
C74: Սպիտակ համայնքի հրապարակում երգող, պարող և լուսային շատրվանների կառուցում և հրապարակի լուսային ձևավորում | D74: 23966.6
C75: Ջրաշեն համայնքի մանկապարտեզի գույքի ձեռքբերում | D75: 301.4
C76: Վանաձոր համայնքի Չուխաջյան, Լալվարի փողոցների և կենտրոնական մայթերի կապիտալ նորոգում | D76: 22545.6
C77: ՀՀ Կոտայքի մարզպետարան | D77: =SUM(D79:D98) -> 448074
C78: այդ թվում` ըստ ուղղությունների
C79: Գեղարդ համայնքի ճանապարների հիմնանորոգում | D79: 15986.6
C80: Կամարիս համայնքի 2-րդ փողոցի, 1-ին փողոցի 1-ին նրբ և 8-րդ փողոցի ասֆալտապատում | D80: 48663.6
C81: Ծաղկաձոր համայնքի Կեչառեցու և Օրբելի եղբայրներ փողոցների մայթերի և հենապատերի կապիտալ վերանորոգում | D81: 59086.4
C82: Պտղնի համայնքի ոռոգման ջրի ներքին ցանցի կառուցում | D82: 6545.2
C83: Քարաշամբ համայնքի ներհամայնքային ճանապարհների ասֆալտապատում | D83: 5415
C84: Վերին Պտղնի համայնքի արևային կայանների տեղադրում | D84: 4721.5
C85: Քանաքեռավան համայնքի գիշերային լուսավորության ցանցի անցկացում | D85: 10665.7
C86: Քանաքեռավան համայնքի խմելու ջրագծի կառուցում | D86: 32929.8
C87: Մարմարիկի 4-րդ փողոցի ասֆալտապատում | D87: 11701.7
C88: Մեղրաձորի 3-րդ փողոցի ասֆալտապատում | D88: 20970.5
C89: Գողթ համայնքի դպրոց տանող 6-րդ փողոցի ասֆալտապատում | D89: 14159
C90: Ջրաբեր բնակավայրի խմելու ջրագծի ներքին ցանցի կառուցում | D90: 40967.4
... C98: Գեղաշեն համայնքի 2-րդ թաղամասի գազաֆիկացման կառուցման աշխատանքներ | D98: 52.3
C99: ՀՀ Շիրակի մարզպետարան | D99: =SUM(D101:D127) -> 1002576.9
C100: այդ թվում` ըստ ուղղությունների
C101: Անի համայնքի բնակավայրերի գիշերային լուսավորման ցանցի անցկացում և արևային ֆոտովոլտային կայանի տեղադրում | D101: 38944.6
C102: Անի համայնքի բնակավայրերի ներհամայնքային ասֆալտապատ ճանապարհների հիմնանորոգում | D102: 31179.4
C103: Ղարիբջանյան համայնքում արևային ֆոտովոլտային կայանի տեղադրում | D103: 8496.9
C104: Մեշ Մանթաշ համայնքում արևային ֆոտովոլտային կայանի կառուցում և փողոցային լուսավորության ցանցի ընդլայնում | D104: 10008
C105: Արևշատ համայնքում արևային ֆոտովոլտային կայանի կառուցում և փողոցային լուսավորության ցանցի ընդլայնում | D105: 15373
C106: Սպանդարյան համայնքում արևային ֆոտովոլտային 30կվտ համակարգի կառուցում | D106: 6248
C107: Անուշավան համայնքում արևային ֆոտովոլտային 30կվտ համակարգի կառուցում, մշակույթի տան էլեկտրական ջեռուցման համակարգի անցկացում | D107: 9837.3
C108: Մեղրաշեն համայնքի հանդիսությունների սրահի գույքի ձեռքբերում և կահավորում | D108: 4041.7
C109: Ազատան համայնքի կենտրոնական թիվ 1 փողոցի ասֆալտապատման աշխատանքներ | D109: 38061.9
C110: Գետք համայնքի թիվ 2, 3, 5, 6 փողոցների բարեկարգում և խճապատում | D110: 8410.5
C111: Մարմաշեն համայնքի Մայիսյան բնակավայրում թեթև և ծանր տեխնիկայի կայանման սպասարկման կենտրոնի շենքի կառուցում | D111: 17990.9
C112: Մարմաշեն համայնքի Փոքրաշեն բնակավայրի վարչական կենտրոնի շենքի կառուցում | D112: 5726.3
... C127: Գյումրի համայնքի երկրորդային 17 փողոցների հիմնանորոգում | D127: 495656.2
C128: ՀՀ Սյունիքի մարզպետարան | D128: =D130+D131 -> 72093.1
C129: այդ թվում` ըստ ուղղությունների
C130: · Կապան համայնքի «Եղվարդ գյուղի խմելու ջրագծի կառուցում և Ագարակ գյուղի ջրագծի վերանորոգում ու ՕԿՋ-ի կառուցում», | D130: 1092
C131: Գորայք համայնքի Սպանդարյան բնակավայրի կոյուղագծերի կառուցում | D131: 71001.1
C132: Գորայք համայնքի Ծղուկ բնակավայրի խմելու ջրագծի կառուցում (1-ից-3-րդ փողոցներ)
C133: ՀՀ Տավուշի մարզպետարան | D133: =SUM(D135:D142) -> 470519.3
C134: այդ թվում` ըստ ուղղությունների
C135: Բերդ համայնքի Մովսես գյուղի ներհամայնքային 2 կմ ճանապարհի ասֆալտապատում, Բերդ և Այգեձոր բնակավայրերի փողոցների և բակերի 10300քմ սալիկապատում | D135: 52890.1
C136: Դիլիջան համայնքի ներհամայնքային նշանակության ճանապարհների բարեկարգում | D136: 242118.3
C137: Բերդ համայնքի 12 ԲԲՇ-ի ընդհանուր օգտագործման տարածքների վերանորոգում էներգաարդյունավետության արդիականացում | D137: 31455.4
C138: Գանձաքար համայնքի Թաղամասային ճանապարհների լուսավորության արտաքին ցանցի ընդլայնում | D138: 12292.4
C139: Բերդ համայնքի Այգեձոր, Վ․ Կարմիր աղբյուր, Նորաշեն, Վարագավան բնակավայրերի մշակույթի տների տանիքների և լուսամուտների հիմնովին վերանորոգում | D139: 33525
C140: Բերդ համայնքի Տավուշ,Չորաթան, Այգեպար և Ն.Կ.Աղբյուր բնակավայրերի խմելու ջրագծերի կառուցում | D140: 35109.9
C141: Ազատամուտ համայնքի 6 ԲԲՇ-ների տանիքների վերանորոգում | D141: 36610.3
...

Sheet Havelvats3
G1: Հավելված N 3
G2: ՀՀ կառավարության 2020 թվականի
G3: ______________N______-Ն որոշման
B5: ՀԱՅԱՍՏԱՆԻ ՀԱՆՐԱՊԵՏՈՒԹՅԱՆ ԿԱՌԱՎԱՐՈՒԹՅԱՆ 2019 ԹՎԱԿԱՆԻ ԴԵԿՏԵՄԲԵՐԻ 26-Ի N 19191-Ն ՈՐՈՇՄԱՆ N 3 ԵՎ N 4 ՀԱՎԵԼՎԱԾՆԵՐՈՒՄ ԿԱՏԱՐՎՈՂ ՓՈՓՈԽՈՒԹՅՈՒՆՆԵՐԸ
F8: հազար դրամներով
A9: Գործառական դասիչը | D9: Ծրագրային դասիչը | F9: Բյուջետային ծախսերի գործառական դասակարգման բաժինների, խմբերի և դասերի, բյուջետային ծրագրերի միջոցառումների, բյուջետային հատկացումների գլխավոր կարգադրիչների անվանումները | G9: Ցուցանիշների փոփոխությունը (ավելացումները նշված են դրական նշանով)
G10: Տարի
A11: Բաժին | B11: Խումբ | C11: Դաս | D11: Ծրագիր | E11: Միջոցա ռում
F12: ԸՆԴԱՄԵՆԸ ԾԱԽՍԵՐ | G12: =+G14+G109+G378+G395+G444+G461 -> 0
F13: այդ թվում`
A14: 01 | F14: ԸՆԴՀԱՆՈՒՐ ԲՆՈՒՅԹԻ ՀԱՆՐԱՅԻՆ ԾԱՌԱՅՈՒԹՅՈՒՆՆԵՐ | G14: =+G16+G31 -> 3626327.5
F15: այդ թվում`
B16: 03 | F16: Ընդհանուր բնույթի ծառայություններ | G16: =+G18 -> -14606
F17: այդ թվում`
C18: 03 | F18: Ընդհանուր բնույթի այլ ծառայություններ | G18: =+G20 -> -14606
F19: այդ թվում`
D20: 1079 | F20: Պետական գույքի կառավարում | G20: =+G22 -> -14606
F21: այդ թվում`
E22: 11001 | F22: Պետական գույքի կառավարման համակարգման, խորհրդատվության և մոնիտորինգի ծառայություններ | G22: =+G24 -> -14606
F23: այդ թվում` ըստ կատարողների
F24: ՀՀ տարածքային կառավարման և ենթակառուցվածքների նախարարության պետական գույքի կառավարման կոմիտե | G24: =+G26 -> -14606
F25: այդ թվում` բյուջետային ծախսերի տնտեսագիտական դասակարգման հոդվածներ
F26: ԸՆԴԱՄԵՆԸ ԾԱԽՍԵՐ | G26: =+G27 -> -14606
F27: ԸՆԹԱՑԻԿ ԾԱԽՍԵՐ | G27: =+G28 -> -14606
F28: ԾԱՌԱՅՈՒԹՅՈՒՆՆԵՐԻ ԵՎ ԱՊՐԱՆՔՆԵՐԻ ՁԵՌՔԲԵՐՈՒՄ | G28: =+G29 -> -14606
F29: Շարունակական ծախսեր | G29: =+G30 -> -14606
F30: - Էներգետիկ ծառայություններ | G30: -14606
B31: 08 | F31: Կառավարության տարբեր մակարդակների միջև իրականացվող ընդհանուր բնույթի տրանսֆերտներ | G31: =+G33 -> 3640933.5
F32: այդ թվում`
C33: 01 | F33: Կառավարության տարբեր մակարդակների միջև իրականացվող ընդհանուր բնույթի տրանսֆերտներ | G33: =+G35 -> 3640933.5
F34: այդ թվում`
D35: 1212 | F35: Տարածքային զարգացում | G35: =+G37 -> 3640933.5
F36: այդ թվում`
E37: 12007 | F37: ՀՀ մարզերին սուբվենցիաների տրամադրում՛ ենթակառուցվածքների զարգացման նպատակով_x000D_ | G37: =+G39+G46+G67+G74+G81+G95+G102+G53+G60+G88 -> 3640933.5
F38: այդ թվում` ըստ կատարողների
F39: ՀՀ Արագածոտնի մարզպետարան | G39: =+G41 -> 328207.8
F40: այդ թվում` բյուջետային ծախսերի տնտեսագիտական դասակարգման հոդվածներ
F41: ԸՆԴԱՄԵՆԸ ԾԱԽՍԵՐ | G41: =+G42 -> 328207.8
F42: ԸՆԹԱՑԻԿ ԾԱԽՍԵՐ | G42: =+G43 -> 328207.8
F43: ԴՐԱՄԱՇՆՈՐՀՆԵՐ | G43: =+G44 -> 328207.8
F44: Կապիտալ դրամաշնորհներ պետական հատվածի այլ մակարդակներին | G44: =+G45 -> 328207.8
F45: - Կապիտալ սուբվենցիաներ համայնքներին | G45: =+Havelvats2!D15 -> 328207.8
F46: ՀՀ Արարատի մարզպետարան | G46: =+G48 -> 363212.1
F47: այդ թվում` բյուջետային ծախսերի տնտեսագիտական դասակարգման հոդվածներ
F48: ԸՆԴԱՄԵՆԸ ԾԱԽՍԵՐ | G48: =+G49 -> 363212.1
F49: ԸՆԹԱՑԻԿ ԾԱԽՍԵՐ | G49: =+G50 -> 363212.1
F50: ԴՐԱՄԱՇՆՈՐՀՆԵՐ | G50: =+G51 -> 363212.1
F51: Կապիտալ դրամաշնորհներ պետական հատվածի այլ մակարդակներին | G51: =+G52 -> 363212.1
F52: - Կապիտալ սուբվենցիաներ համայնքներին | G52: =+Havelvats2!D45 -> 363212.1
F53: ՀՀ Արմավիրի մարզպետարան | G53: =+G55 -> 494550
F54: այդ թվում` բյուջետային ծախսերի տնտեսագիտական դասակարգման հոդվածներ
F55: ԸՆԴԱՄԵՆԸ ԾԱԽՍԵՐ | G55: =+G56 -> 494550
F56: ԸՆԹԱՑԻԿ ԾԱԽՍԵՐ | G56: =+G57 -> 494550
F57: ԴՐԱՄԱՇՆՈՐՀՆԵՐ | G57: =+G58 -> 494550
F58: Կապիտալ դրամաշնորհներ պետական հատվածի այլ մակարդակներին | G58: =+G59 -> 494550
F59: - Կապիտալ սուբվենցիաներ համայնքներին | G59: =+Havelvats2!D159 -> 494550
F60: ՀՀ Գեղարքունիքի մարզպետարան | G60: =+G62 -> 156498.3
F61: այդ թվում` բյուջետային ծախսերի տնտեսագիտական դասակարգման հոդվածներ
F62: ԸՆԴԱՄԵՆԸ ԾԱԽՍԵՐ | G62: =+G63 -> 156498.3
F63: ԸՆԹԱՑԻԿ ԾԱԽՍԵՐ | G63: =+G64 -> 156498.3
F64: ԴՐԱՄԱՇՆՈՐՀՆԵՐ | G64: =+G65 -> 156498.3
F65: Կապիտալ դրամաշնորհներ պետական հատվածի այլ մակարդակներին | G65: =+G66 -> 156498.3
F66: - Կապիտալ սուբվենցիաներ համայնքներին | G66: =+Havelvats2!D149 -> 156498.3
F67: ՀՀ Լոռու մարզպետարան | G67: =+G69 -> 142815
F68: այդ թվում` բյուջետային ծախսերի տնտեսագիտական դասակարգման հոդվածներ
F69: ԸՆԴԱՄԵՆԸ ԾԱԽՍԵՐ | G69: =+G70 -> 142815
F70: ԸՆԹԱՑԻԿ ԾԱԽՍԵՐ | G70: =+G71 -> 142815
F71: ԴՐԱՄԱՇՆՈՐՀՆԵՐ | G71: =+G72 -> 142815
F72: Կապիտալ դրամաշնորհներ պետական հատվածի այլ մակարդակներին | G72: =+G73 -> 142815
F73: - Կապիտալ սուբվենցիաներ համայնքներին | G73: =+Havelvats2!D64 -> 142815
F74: ՀՀ Կոտայքի մարզպետարան | G74: =+G76 -> 448074
F75: այդ թվում` բյուջետային ծախսերի տնտեսագիտական դասակարգման հոդվածներ
F76: ԸՆԴԱՄԵՆԸ ԾԱԽՍԵՐ | G76: =+G77 -> 448074
F77: ԸՆԹԱՑԻԿ ԾԱԽՍԵՐ | G77: =+G78 -> 448074
F78: ԴՐԱՄԱՇՆՈՐՀՆԵՐ | G78: =+G79 -> 448074
F79: Կապիտալ դրամաշնորհներ պետական հատվածի այլ մակարդակներին | G79: =+G80 -> 448074
F80: - Կապիտալ սուբվենցիաներ համայնքներին | G80: =+Havelvats2!D77 -> 448074
F81: ՀՀ Շիրակի մարզպետարան | G81: =+G83 -> 1002576.9
F82: այդ թվում` բյուջետային ծախսերի տնտեսագիտական դասակարգման հոդվածներ
F83: ԸՆԴԱՄԵՆԸ ԾԱԽՍԵՐ | G83: =+G84 -> 1002576.9
F84: ԸՆԹԱՑԻԿ ԾԱԽՍԵՐ | G84: =+G85 -> 1002576.9
F85: ԴՐԱՄԱՇՆՈՐՀՆԵՐ | G85: =+G86 -> 1002576.9
F86: Կապիտալ դրամաշնորհներ պետական հատվածի այլ մակարդակներին | G86: =+G87 -> 1002576.9
F87: - Կապիտալ սուբվենցիաներ համայնքներին | G87: =+Havelvats2!D99 -> 1002576.9
F88: ՀՀ Վայոց ձորի մարզպետարան | G88: =+G90 -> 162387
F89: այդ թվում` բյուջետային ծախսերի տնտեսագիտական դասակարգման հոդվածներ
F90: ԸՆԴԱՄԵՆԸ ԾԱԽՍԵՐ | G90: =+G91 -> 162387
F91: ԸՆԹԱՑԻԿ ԾԱԽՍԵՐ | G91: =+G92 -> 162387
F92: ԴՐԱՄԱՇՆՈՐՀՆԵՐ | G92: =+G93 -> 162387
F93: Կապիտալ դրամաշնորհներ պետական հատվածի այլ մակարդակներին | G93: =+G94 -> 162387
F94: - Կապիտալ սուբվենցիաներ համայնքներին | G94: =+Havelvats2!D143 -> 162387
F95: ՀՀ Սյունիքի մարզպետարան | G95: =+G97 -> 72093.1
F96: այդ թվում` բյուջետային ծախսերի տնտեսագիտական դասակարգման հոդվածներ
F97: ԸՆԴԱՄԵՆԸ ԾԱԽՍԵՐ | G97: =+G98 -> 72093.1
F98: ԸՆԹԱՑԻԿ ԾԱԽՍԵՐ | G98: =+G99 -> 72093.1
F99: ԴՐԱՄԱՇՆՈՐՀՆԵՐ | G99: =+G100 -> 72093.1
F100: Կապիտալ դրամաշնորհներ պետական հատվածի այլ մակարդակներին | G100: =+G101 -> 72093.1
F101: - Կապիտալ սուբվենցիաներ համայնքներին | G101: =+Havelvats2!D128 -> 72093.1
F102: ՀՀ Տավուշի մարզպետարան | G102: =+G104 -> 470519.3
F103: այդ թվում` բյուջետային ծախսերի տնտեսագիտական դասակարգման հոդվածներ
...

Sheet Havelv_4v
E1: Հավելված N 4
D2: ՀՀ կառավարության 2020 թվականի
D3: ________ N ____-Ն որոշման
A5: «ՀԱՅԱՍՏԱՆԻ ՀԱՆՐԱՊԵՏՈՒԹՅԱՆ 2020 ԹՎԱԿԱՆԻ ՊԵՏԱԿԱՆ ԲՅՈՒՋԵԻ ՄԱՍԻՆ» ՕՐԵՆՔԻ N 1 ՀԱՎԵԼՎԱԾԻ N 4 ԱՂՅՈՒՍԱԿՈՒՄ ԵՎ ՀԱՅԱՍՏԱՆԻ ՀԱՆՐԱՊԵՏՈՒԹՅԱՆ ԿԱՌԱՎԱՐՈՒԹՅԱՆ 2019 ԹՎԱԿԱՆԻ ԴԵԿՏԵՄԲԵՐԻ 26-Ի N 1919-Ն ՈՐՈՇՄԱՆ N 5 ՀԱՎԵԼՎԱԾԻ N 3 ԱՂՅՈՒՍԱԿՈՒՄ ԿԱՏԱՐՎՈՂ ՓՈՓՈԽՈՒԹՅՈՒՆՆԵՐԸ
F6: հազար դրամներով
A7: Ծրագրային դասիչը | C7: Բյուջետային հատկացումների գլխավոր կարգադրիչների, ծրագրերի, միջոցառումների և միջոցառումները կատարող պետական մարմինների անվանումները | D7: Տարի
A8: Ծրագիր | B8: Միջո ց_x000D_առում | D8: Ընդամենը | E8: այդ թվում
E9: Վարկային միջոցներ | F9: Համաֆինան սավորում
C10: ԸՆԴԱՄԵՆԸ_x000D_ այդ թվում` | D10: =E10+F10 -> -1622167.7 | E10: =E11+E12 -> 0 | F10: =F11+F12 -> -1622167.7
C11: - ԸՆԹԱՑԻԿ ԾԱԽՍԵՐ | D11: =E11+F11 -> -532418.9 | E11: =+E20+E49+E55+E83+E96+E102+E108+E114 -> 0 | F11: =+F20+F49+F55+F83+F96+F102+F108+F114 -> -532418.9
C12: - ՈՉ ՖԻՆԱՆՍԱԿԱՆ ԱԿՏԻՎՆԵՐԻ ԳԾՈՎ ԾԱԽՍԵՐ | D12: =E12+F12 -> -1089748.8 | E12: =E26+E32+E41+E120+E126+E132+E61+E68+E75 -> 0 | F12: =F26+F32+F41+F120+F126+F132+F61+F68+F75 -> -1089748.8
C13: ՀՀ ՏԱՐԱԾՔԱՅԻՆ ԿԱՌԱՎԱՐՄԱՆ ԵՎ ԵՆԹԱԿԱՌՈՒՑՎԱԾՔՆԵՐԻ ՆԱԽԱՐԱՐՈՒԹՅՈՒՆ_x000D_ այդ թվում` | D13: =E13+F13 -> -1722167.7 | E13: =E35+E43+E69+E77+E14 -> 0 | F13: =F35+F43+F69+F77+F14 -> -1722167.7
A14: 1157 | C14: Քաղաքային զարգացում | D14: =E14+F14 -> -596595.9 | E14: =+E16+E22+E28 -> 0 | F14: =+F16+F22+F28 -> -596595.9
C15: այդ թվում`
B16: 12012 | C16: Ասիական զարգացման բանկի աջակցությամբ իրականացվող քաղաքային ենթակառուցվածքների և քաղաքի կայուն զարգացման ներդրումային ծրագրի համակարգում և կառավարում | D16: =+E16+F16 -> -962.9 | E16: =+E20 -> 0 | F16: =+F20 -> -962.9
C17: այդ թվում` ըստ կատարողների
C18: ՀՀ տարածքային կառավարման և ենթակառուցվածքների նախարարություն | D18: =E18+F18 -> -962.9 | E18: =E16 -> 0 | F18: =F16 -> -962.9
C19: այդ թվում` բյուջետային ծախսերի տնտեսագիտական դասակարգման հոդվածներ
C20: ԸՆԹԱՑԻԿ ԾԱԽՍԵՐ | D20: =E20+F20 -> -962.9 | E20: =+E21 -> 0 | F20: =+F21 -> -962.9
C21: - Այլ ծախսեր | D21: =E21+F21 -> -962.9 | F21: =+Havelvats1!D86 -> -962.9
B22: 12021 | C22: Ասիական զարգացման բանկի աջակցությամբ իրականացվող քաղաքային ենթակառուցվածքների և քաղաքի կայուն զարգացման ներդրումային երկրորդ ծրագրի շրջանակներում ճանապարհային շինարարություն | D22: =E22+F22 -> -155633 | E22: =E26 -> 0 | F22: =F26 -> -155633
C23: այդ թվում` ըստ կատարողների
C24: ՀՀ տարածքային կառավարման և ենթակառուցվածքների նախարարություն | D24: =E24+F24 -> -155633 | E24: =E22 -> 0 | F24: =F22 -> -155633
C25: այդ թվում` բյուջետային ծախսերի տնտեսագիտական դասակարգման հոդվածներ
C26: ՈՉ ՖԻՆԱՆՍԱԿԱՆ ԱԿՏԻՎՆԵՐԻ ԳԾՈՎ ԾԱԽՍԵՐ | D26: =E26+F26 -> -155633 | E26: =E27 -> 0 | F26: =F27 -> -155633
C27: - Շենքերի և շինությունների շինարարություն | D27: =E27+F27 -> -155633 | F27: =+Havelvats1!D62 -> -155633
B28: 12017 | C28: Վերակառուցման և զարգացման եվրոպական բանկի աջակցությամբ իրականացվող Գյումրու քաղաքային ճանապարհների ծրագիր | D28: =+E28+F28 -> -440000 | E28: =+E32 -> 0 | F28: =+F32 -> -440000
C29: այդ թվում` ըստ կատարողների
C30: ՀՀ տարածքային կառավարման և ենթակառուցվածքների նախարարություն | D30: =E30+F30 -> -440000 | E30: =E28 -> 0 | F30: =F28 -> -440000
C31: այդ թվում` բյուջետային ծախսերի տնտեսագիտական դասակարգման հոդվածներ
C32: ՈՉ ՖԻՆԱՆՍԱԿԱՆ ԱԿՏԻՎՆԵՐԻ ԳԾՈՎ ԾԱԽՍԵՐ | D32: =E32+F32 -> -440000 | E32: =+E33+E34 -> 0 | F32: =+F33+F34 -> -440000
C33: - Շենքերի և շինությունների կապիտալ վերանորոգում | D33: =E33+F33 -> -417464.4 | F33: =+Havelvats3!G333 -> -417464.4
C34: - Այլ մեքենա սարքավորումներ | D34: =E34+F34 -> -22535.6 | F34: =+Havelvats3!G334 -> -22535.6
A35: 1189 | C35: Դպրոցների սեյսմիկ անվտանգության մակարդակի բարձրացման ծրագիր | D35: =E35+F35 -> -48110.5 | E35: =+E37 -> 0 | F35: =+F37 -> -48110.5
C36: այդ թվում`
B37: 12001 | C37: Ասիական զարգացման բանկի աջակցությամբ իրականացվող դպրոցների սեյսմիկ պաշտպանության ծրագրի շրջանակներում ՀՀ դպրոցների սեյսմիկ անվտանգության բարելավմանն ուղղված միջոցառումներ | D37: =+E37+F37 -> -48110.5 | E37: =+E41 -> 0 | F37: =+F41 -> -48110.5
C38: այդ թվում` ըստ կատարողների
C39: ՀՀ տարածքային կառավարման և ենթակառուցվածքների նախարարություն | D39: =+E39+F39 -> -48110.5 | E39: =+E37 -> 0 | F39: =+F37 -> -48110.5
C40: այդ թվում` բյուջետային ծախսերի տնտեսագիտական դասակարգման հոդվածներ
C41: ՈՉ ՖԻՆԱՆՍԱԿԱՆ ԱԿՏԻՎՆԵՐԻ ԳԾՈՎ ԾԱԽՍԵՐ | D41: =+E41+F41 -> -48110.5 | E41: =+E42 -> 0 | F41: =+F42 -> -48110.5
C42: - Շենքերի և շինությունների շինարարություն | D42: =+E42+F42 -> -48110.5 | F42: =+Havelvats3!G460 -> -48110.5
A43: 1004 | C43: Ոռոգման համակարգի առողջացում | D43: =E43+F43 -> -271337 | E43: =E45+E51+E57+E63 -> 0 | F43: =F45+F51+F57+F63 -> -271337
C44: այդ թվում`
B45: 11005 | C45: Եվրասիական զարգացման բանկի աջակցությամբ իրականացվող ոռոգման համակարգերի_x000D_ զարգացման ծրագրի խորհրդատվություն և կառավարում | D45: =+E45+F45 -> -10000 | E45: =+E49 -> 0 | F45: =+F49 -> -10000
C46: այդ թվում` ըստ կատարողների
C47: ՀՀ տարածքային կառավարման և ենթակառուցվածքների նախարարության ջրային կոմիտե | D47: =E47+F47 -> -10000 | E47: =E45 -> 0 | F47: =F45 -> -10000
C48: այդ թվում` բյուջետային ծախսերի տնտեսագիտական դասակարգման հոդվածներ
C49: ԸՆԹԱՑԻԿ ԾԱԽՍԵՐ | D49: =E49+F49 -> -10000 | E49: =SUM(E50:E50) -> 0 | F49: =SUM(F50:F50) -> -10000
C50: - Այլ ծախսեր | D50: =E50+F50 -> -10000 | F50: =+Havelvats1!D118 -> -10000
B51: 11007 | C51: Գերմանիայի զարգացման վարկերի բանկի աջակցությամբ իրականացվող Ախուրյան գետի ջրային ռեսուրսների ինտեգրացված կառավարում ծրագրի խորհրդատվություն և կառավարում | D51: =+E51+F51 -> -80000 | E51: =+E55 -> 0 | F51: =+F55 -> -80000
C52: այդ թվում` ըստ կատարողների
C53: ՀՀ տարածքային կառավարման և ենթակառուցվածքների նախարարության ջրային կոմիտե | D53: =E53+F53 -> -80000 | E53: =E51 -> 0 | F53: =F51 -> -80000
C54: այդ թվում` բյուջետային ծախսերի տնտեսագիտական դասակարգման հոդվածներ
C55: ԸՆԹԱՑԻԿ ԾԱԽՍԵՐ | D55: =E55+F55 -> -80000 | E55: =E56 -> 0 | F55: =F56 -> -80000
C56: - Այլ ծախսեր | D56: =E56+F56 -> -80000 | F56: =+Havelvats1!D124 -> -80000
B57: 31005 | C57: Եվրասիական զարգացման բանկի աջակցությամբ իրականացվող ոռոգման համակարգերի զարգացման ծրագրի շրջանակներում ջրային տնտեսության ենթակառուցվածքների հիմնանորոգում | D57: =+E57+F57 -> -178000 | E57: =+E61 -> 0 | F57: =+F61 -> -178000
C58: այդ թվում` ըստ կատարողների
C59: ՀՀ տարածքային կառավարման և ենթակառուցվածքների նախարարության ջրային կոմիտե | D59: =E59+F59 -> -178000 | E59: =E57 -> 0 | F59: =F57 -> -178000
C60: այդ թվում` բյուջետային ծախսերի տնտեսագիտական դասակարգման հոդվածներ
C61: ՈՉ ՖԻՆԱՆՍԱԿԱՆ ԱԿՏԻՎՆԵՐԻ ԳԾՈՎ ԾԱԽՍԵՐ | D61: =E61+F61 -> -178000 | E61: =+E62 -> 0 | F61: =+F62 -> -178000
C62: - Շենքերի և շինությունների շինարարություն | D62: =E62+F62 -> -178000 | F62: =+Havelvats3!G158 -> -178000
B63: 12002 | C63: Գերմանիայի զարգացման վարկերի բանկի աջակցությամբ իրականացվող Ախուրյան գետի ջրային ռեսուրսների ինտեգրացված կառավարման փուլի 1 ծրագրով Ջրաձոր գյուղի վերաբնակեցման համար ենթակառուցվածքնների և բնակելի տների կառուցում | D63: =E63+F63 -> -3337 | E63: =E67 -> 0 | F63: =F67 -> -3337
C64: այդ թվում` ըստ կատարողների
C65: ՀՀ տարածքային կառավարման և ենթակառուցվածքների նախարարության ջրային կոմիտե | D65: =E65+F65 -> -3337 | E65: =E63 -> 0 | F65: =F63 -> -3337
C66: այդ թվում` բյուջետային ծախսերի տնտեսագիտական դասակարգման հոդվածներ
C67: ՈՉ ՖԻՆԱՆՍԱԿԱՆ ԱԿՏԻՎՆԵՐԻ ԳԾՈՎ ԾԱԽՍԵՐ | D67: =+E67+F67 -> -3337 | E67: =+E68 -> 0 | F67: =+F68 -> -3337
C68: - Շենքերի և շինությունների շինարարություն | D68: =+E68+F68 -> -3337 | E68: 0 | F68: =+Havelvats1!D136 -> -3337
A69: 1072 | C69: Ջրամատակարարաման և ջրահեռացման բարելավում | D69: =E69+F69 -> -34000.5 | E69: =+E71 -> 0 | F69: =+F71 -> -34000.5
C70: այդ թվում`
B71: 31002 | C71: Եվրոպական ներդրումային բանկի աջակցությամբ իրականացվող ջրամատակարարման և ջրահեռացման ենթակառուցվածքների վերականգնման ծրագրի երրորդ փուլի շրջանակներում ջրամատակարարման և ջրահեռացման ենթակառուցվածքների հիմնանորոգում | D71: =+E71+F71 -> -34000.5 | E71: =+E75 -> 0 | F71: =+F75 -> -34000.5
C72: այդ թվում` ըստ կատարողների
C73: ՀՀ տարածքային կառավարման և ենթակառուցվածքների նախարարության ջրային կոմիտե | D73: =E73+F73 -> -34000.5 | E73: =E71 -> 0 | F73: =F71 -> -34000.5
C74: այդ թվում` բյուջետային ծախսերի տնտեսագիտական դասակարգման հոդվածներ
C75: ՈՉ ՖԻՆԱՆՍԱԿԱՆ ԱԿՏԻՎՆԵՐԻ ԳԾՈՎ ԾԱԽՍԵՐ | D75: =E75+F75 -> -34000.5 | E75: =+E76 -> 0 | F75: =+F76 -> -34000.5
C76: - Նախագծահետազոտական ծախսեր | D76: =E76+F76 -> -34000.5 | F76: =+Havelvats3!G428 -> -34000.5
A77: 1049 | C77: Ճանապարհային ցանցի բարելավում | D77: =+E77+F77 -> -772123.8 | E77: =E79+E92+E98+E104+E116+E122+E128+E110+E86 -> 0 | F77: =F79+F92+F98+F104+F116+F122+F128+F110+F86 -> -772123.8
C78: այդ թվում`
B79: 11007 | C79: Ասիական զարգացման բանկի աջակցությամբ իրականացվող Հայաստան-Վրաստան սահմանային տարածաշրջանային ճանապարհի (Մ6 Վանաձոր-Բագրատաշեն) բարելավման ծրագրի համակարգում և կառավարում | D79: =E79+F79 -> -59000 | E79: =E83 -> 0 | F79: =F83 -> -59000
C80: այդ թվում` ըստ կատարողների
C81: ՀՀ տարածքային կառավարման և ենթակառուցվածքների նախարարություն | D81: =E81+F81 -> -59000 | E81: =E79 -> 0 | F81: =F79 -> -59000
C82: այդ թվում` բյուջետային ծախսերի տնտեսագիտական դասակարգման հոդվածներ
C83: ԸՆԹԱՑԻԿ ԾԱԽՍԵՐ | D83: =+E83+F83 -> -59000 | E83: =+E84+E85 -> 0 | F83: =+F84+F85 -> -59000
C84: - Այլ ընթացիկ դրամաշնորհներ | D84: =+E84+F84 -> -17000 | F84: =+Havelvats3!G209 -> -17000
C85: - Այլ ծախսեր | D85: =+E85+F85 -> -42000 | F85: =+Havelvats3!G210 -> -42000
B86: 11009 | C86: Ասիական զարգացման բանկի աջակցությամբ իրականացվող Հյուսիս-հարավ միջանցքի_x000D_ զարգացման ծրագրի համակարգում և կառավարում ( Տրանշ 2) | D86: =E86+F86 -> -100000 | E86: =E90 -> 0 | F86: =F90 -> -100000
C87: այդ թվում` ըստ կատարողների
C88: ՀՀ տարածքային կառավարման և ենթակառուցվածքների նախարարություն | D88: =E88+F88 -> -100000 | E88: =E86 -> 0 | F88: =F86 -> -100000
C89: այդ թվում` բյուջետային ծախսերի տնտեսագիտական դասակարգման հոդվածներ
C90: ԸՆԹԱՑԻԿ ԾԱԽՍԵՐ | D90: =+E90+F90 -> -100000 | E90: =SUM(E91:E91) -> 0 | F90: =SUM(F91:F91) -> -100000
C91: - Այլ հարկեր | D91: =+E91+F91 -> -100000 | F91: -100000
B92: 11010 | C92: Վերակառուցման և զարգացման եվրոպական բանկի աջակցությամբ իրականացվող ՀՀ պետական սահմանի Բագրատաշեն անցման կետի կամրջի վերակառուցման ծրագրի համակարգում և կառավարում | D92: =E92+F92 -> -25456 | E92: =E96 -> 0 | F92: =F96 -> -25456
C93: այդ թվում` ըստ կատարողների
C94: ՀՀ տարածքային կառավարման և ենթակառուցվածքների նախարարություն | D94: =E94+F94 -> -25456 | E94: =E92 -> 0 | F94: =F92 -> -25456
C95: այդ թվում` բյուջետային ծախսերի տնտեսագիտական դասակարգման հոդվածներ
C96: ԸՆԹԱՑԻԿ ԾԱԽՍԵՐ | D96: =+E96+F96 -> -25456 | E96: =SUM(E97:E97) -> 0 | F96: =SUM(F97:F97) -> -25456
C97: - Այլ ծախսեր | D97: =+E97+F97 -> -25456 | F97: =+Havelvats3!G227 -> -25456
B98: 11011 | C98: Ասիական զարգացման բանկի աջակցությամբ իրականացվող Հյուսիս-հարավ միջանցքի_x000D_ զարգացման ծրագրի համակարգում և կառավարում (Տրանշ 3) | D98: =E98+F98 -> -100000 | E98: =E102 -> 0 | F98: =F102 -> -100000
C99: այդ թվում` ըստ կատարողների
C100: ՀՀ տարածքային կառավարման և ենթակառուցվածքների նախարարություն | D100: =E100+F100 -> -100000 | E100: =E98 -> 0 | F100: =F98 -> -100000
C101: այդ թվում` բյուջետային ծախսերի տնտեսագիտական դասակարգման հոդվածներ
...

Sheet Havelv5_dr
E1: Հավելված N 5
E2: ՀՀ կառավարության 2020 թվականի
E3: ________ N ____-Ն որոշման
A5: «ՀԱՅԱՍՏԱՆԻ ՀԱՆՐԱՊԵՏՈՒԹՅԱՆ 2020 ԹՎԱԿԱՆԻ ՊԵՏԱԿԱՆ ԲՅՈՒՋԵԻ ՄԱՍԻՆ» ՕՐԵՆՔԻ N 1 ՀԱՎԵԼՎԱԾԻ N 5 ԱՂՅՈՒՍԱԿՈՒՄ ԵՎ ՀԱՅԱՍՏԱՆԻ ՀԱՆՐԱՊԵՏՈՒԹՅԱՆ ԿԱՌԱՎԱՐՈՒԹՅԱՆ 2019 ԹՎԱԿԱՆԻ ԴԵԿՏԵՄԲԵՐԻ 26-Ի N 1919-Ն ՈՐՈՇՄԱՆ N 5 ՀԱՎԵԼՎԱԾԻ N4 ԱՂՅՈՒՍԱԿՈՒՄ ԿԱՏԱՐՎՈՂ ՓՈՓՈԽՈՒԹՅՈՒՆՆԵՐԸ
E6: հազար դրամներով
A7: Ծրագրային դասիչը | C7: Բյուջետային հատկացումների գլխավոր կարգադրիչների, ծրագրերի, միջոցառումների և միջոցառումները կատարող պետական մարմինների անվանումները | D7: Տարի
A8: Ծրագիր | B8: Միջոց_x000D_ առում | D8: Ընդամենը | E8: այդ թվում
E9: Դրամաշնոր_x000D_ հային միջոցներ | F9: Համաֆինանս ավորում
C10: ԸՆԴԱՄԵՆԸ_x000D_ այդ թվում` | D10: =E10+F10 -> -625159.8 | E10: =E11+E12 -> 0 | F10: =F11+F12 -> -625159.8
C11: - ԸՆԹԱՑԻԿ ԾԱԽՍԵՐ | D11: =E11+F11 -> -282378.5 | E11: =+E58+E91+E79+E36+E20 -> 0 | F11: =+F58+F91+F79+F36+F20 -> -282378.5
C12: - ՈՉ ՖԻՆԱՆՍԱԿԱՆ ԱԿՏԻՎՆԵՐԻ ԳԾՈՎ ԾԱԽՍԵՐ | D12: =E12+F12 -> -342781.3 | E12: =E28+E52+E64+E70+E44+E85 -> 0 | F12: =F28+F52+F64+F70+F44+F85 -> -342781.3
C13: ՀՀ ՏԱՐԱԾՔԱՅԻՆ ԿԱՌԱՎԱՐՄԱՆ ԵՎ ԵՆԹԱԿԱՌՈՒՑՎԱԾՔՆԵՐԻ ՆԱԽԱՐԱՐՈՒԹՅՈՒՆ_x000D_ այդ թվում` | D13: =E13+F13 -> -625159.8 | E13: =E14+E22+E30+E38+E46+E73 -> 0 | F13: =F14+F22+F30+F38+F46+F73 -> -625159.8
A14: 1004 | C14: Ոռոգման համակարգի առողջացում | D14: =E14+F14 -> -110000 | E14: =+E16 -> 0 | F14: =+F16 -> -110000
C15: այդ թվում`
B16: 11011 | C16: Զարգացման ֆրանսիական գործակալության աջակցությամբ իրականացվող ոռոգման ոլորտի ֆինանսական կայունության և ոռոգման կառավարման կարողությունների բարելավման դրամաշնորհային ծրագրի խորհրդատվություն և կառավարում | D16: =E16+F16 -> -110000 | E16: =E18 -> 0 | F16: =F18 -> -110000
C17: այդ թվում` ըստ կատարողների
C18: ՀՀ տարածքային կառավարման և ենթակառուցվածքների նախարարության ջրային կոմիտե | D18: =E18+F18 -> -110000 | E18: =E20 -> 0 | F18: =F20 -> -110000
C19: այդ թվում` բյուջետային ծախսերի տնտեսագիտական դասակարգման հոդվածներ
C20: ԸՆԹԱՑԻԿ ԾԱԽՍԵՐ | D20: =E20+F20 -> -110000 | E20: =E21 -> 0 | F20: =F21 -> -110000
C21: - Այլ ծախսեր | D21: =E21+F21 -> -110000 | F21: =+Havelvats1!D130 -> -110000
A22: 1040 | C22: Կոշտ թափոնների կառավարում | D22: =+E22+F22 -> -1974.9 | E22: =+E24 -> 0 | F22: =+F24 -> -1974.9
C23: այդ թվում`
B24: 32006 | C24: Եվրոպական միության հարևանության ներդրումային գործիքի աջակցությամբ իրականացվող_x000D_ «Երևանի կոշտ թափոնների կառավարման» դրամաշնորհային ծրագիր | D24: =E24+F24 -> -1974.9 | E24: =E26 -> 0 | F24: =F26 -> -1974.9
C25: այդ թվում` ըստ կատարողների
C26: ՀՀ տարածքային կառավարման և ենթակառուցվածքների նախարարություն | D26: =E26+F26 -> -1974.9 | E26: =E28 -> 0 | F26: =F28 -> -1974.9
C27: այդ թվում` բյուջետային ծախսերի տնտեսագիտական դասակարգման հոդվածներ
C28: ՈՉ ՖԻՆԱՆՍԱԿԱՆ ԱԿՏԻՎՆԵՐԻ ԳԾՈՎ ԾԱԽՍԵՐ | D28: =D29 -> -1974.9 | E28: =E29 -> 0 | F28: =F29 -> -1974.9
C29: - Շենքերի և շինությունների շինարարություն | D29: =E29+F29 -> -1974.9 | F29: =+Havelvats1!D155 -> -1974.9
A30: 1049 | C30: Ճանապարհային ցանցի բարելավում | D30: =E30+F30 -> -131160 | E30: =E32 -> 0 | F30: =F32 -> -131160
C31: այդ թվում`
B32: 11013 | C32: Եվրոպական ներդրումային բանկի աջակցությամբ իրականացվող Հյուսիս-հարավ միջանցքի_x000D_ զարգացման դրամաշնորհային ծրագրի համակարգում և կառավարում | D32: =E32+F32 -> -131160 | E32: =E34 -> 0 | F32: =F34 -> -131160
C33: այդ թվում` ըստ կատարողների
C34: ՀՀ տարածքային կառավարման և ենթակառուցվածքների նախարարություն | D34: =E34+F34 -> -131160 | E34: =E36 -> 0 | F34: =F36 -> -131160
C35: այդ թվում` բյուջետային ծախսերի տնտեսագիտական դասակարգման հոդվածներ
C36: ԸՆԹԱՑԻԿ ԾԱԽՍԵՐ | D36: =E36+F36 -> -131160 | E36: =E37 -> 0 | F36: =F37 -> -131160
C37: - Այլ ծախսեր | D37: =E37+F37 -> -131160 | F37: =+Havelvats1!D204 -> -131160
A38: 1072 | C38: Ջրամատակարարաման և ջրահեռացման բարելավում | D38: =+E38+F38 -> -3944 | E38: =+E40 -> 0 | F38: =+F40 -> -3944
C39: այդ թվում`
B40: 12001 | C40: Գերմանիայի զարգացման և Եվրոպական միության հարևանության ներդրումային բանկի_x000D_ աջակցությամբ իրականացվող ջրամատակարարման և ջրահեռացման ենթակառուցվածքների_x000D_ դրամաշնորհային ծրագիր` երրորդ փուլ | D40: =E40+F40 -> -3944 | E40: =E44 -> 0 | F40: =F44 -> -3944
C41: այդ թվում` ըստ կատարողների
C42: ՀՀ տարածքային կառավարման և ենթակառուցվածքների նախարարության ջրային կոմիտե | D42: =E42+F42 -> -3944 | E42: =E40 -> 0 | F42: =F40 -> -3944
C43: այդ թվում` բյուջետային ծախսերի տնտեսագիտական դասակարգման հոդվածներ
C44: ՈՉ ՖԻՆԱՆՍԱԿԱՆ ԱԿՏԻՎՆԵՐԻ ԳԾՈՎ ԾԱԽՍԵՐ | D44: =E44+F44 -> -3944 | E44: =+E45 -> 0 | F44: =+F45 -> -3944
C45: - Նախագծահետազոտական ծախսեր | D45: =E45+F45 -> -3944 | F45: =+Havelvats3!G419 -> -3944
A46: 1157 | C46: Քաղաքային զարգացում | D46: =E46+F46 -> -273841.7 | E46: =E48+E54+E66+E60 -> 0 | F46: =F48+F54+F66+F60 -> -273841.7
C47: այդ թվում`
B48: 12003 | C48: Արևելյան եվրոպայի էներգախնայողության և բնապահպանական գործընկերության ֆոնդի_x000D_ աջակցությամբ իրականացվող Երևանի քաղաքային լուսավորության դրամաշնորհային ծրագրի կատարման ապահովում | D48: =E48+F48 -> -13228 | E48: =E50 -> 0 | F48: =F50 -> -13228
C49: այդ թվում` ըստ կատարողների
C50: ՀՀ տարածքային կառավարման և ենթակառուցվածքների նախարարություն | D50: =E50+F50 -> -13228 | E50: =E52 -> 0 | F50: =F52 -> -13228
C51: այդ թվում` բյուջետային ծախսերի տնտեսագիտական դասակարգման հոդվածներ
C52: ՈՉ ՖԻՆԱՆՍԱԿԱՆ ԱԿՏԻՎՆԵՐԻ ԳԾՈՎ ԾԱԽՍԵՐ | D52: =D53 -> -13228 | E52: =E53 -> 0 | F52: =F53 -> -13228
C53: - Շենքերի և շինությունների շինարարություն | D53: =E53+F53 -> -13228 | F53: =+Havelvats1!D92 -> -13228
B54: 12016 | C54: Վերակառուցման և զարգացման եվրոպական բանկի աջակցությամբ իրականացվող Գյումրու քաղաքային ճանապարհների տեխնիկական համագործակցության դրամաշնորհային ծրագիր | D54: =E54+F54 -> -10000 | E54: =+E58 -> 0 | F54: =+F58 -> -10000
C55: այդ թվում` ըստ կատարողների
C56: ՀՀ տարածքային կառավարման և ենթակառուցվածքների նախարարություն | D56: =E56+F56 -> -10000 | E56: =+E54 -> 0 | F56: =+F54 -> -10000
C57: այդ թվում` բյուջետային ծախսերի տնտեսագիտական դասակարգման հոդվածներ
C58: ԸՆԹԱՑԻԿ ԾԱԽՍԵՐ | D58: =D59 -> -10000 | E58: =E59 -> 0 | F58: =F59 -> -10000
C59: - Այլ ծախսեր | D59: =E59+F59 -> -10000 | F59: =+Havelvats1!D80 -> -10000
B60: 12022 | C60: Վերակառուցման և զարգացման վրոպական բանկի աջակցությամբ իրականացվող Գյումրու քաղաքային ճանապարհների վերանորոգման ծրագրի շրջանակներում նախագծա-նախահաշվային աշխատանքների իրականացում | D60: =E60+F60 -> -10613.7 | E60: =+E64 -> 0 | F60: =+F64 -> -10613.7
C61: այդ թվում` ըստ կատարողների
C62: ՀՀ տարածքային կառավարման և ենթակառուցվածքների նախարարություն | D62: =E62+F62 -> -10613.7 | E62: =+E60 -> 0 | F62: =+F60 -> -10613.7
C63: այդ թվում` բյուջետային ծախսերի տնտեսագիտական դասակարգման հոդվածներ
C64: ՈՉ ՖԻՆԱՆՍԱԿԱՆ ԱԿՏԻՎՆԵՐԻ ԳԾՈՎ ԾԱԽՍԵՐ | D64: =D65 -> -10613.7 | E64: =E65 -> 0 | F64: =F65 -> -10613.7
C65: Նախագծահետազոտական ծախսեր | D65: =E65+F65 -> -10613.7 | F65: =+Havelvats1!D56 -> -10613.7
B66: 12018 | C66: Վերակառուցման և զարգացման եվրոպական բանկի աջակցությամբ իրականացվող Գյումրու քաղաքային ճանապարհների դրամաշնորհային ծրագիր (Տրանշ Ա, Բ) | D66: =E66+F66 -> -240000 | E66: =E68 -> 0 | F66: =F68 -> -240000
C67: այդ թվում` ըստ կատարողների
C68: ՀՀ տարածքային կառավարման և ենթակառուցվածքների նախարարություն | D68: =E68+F68 -> -240000 | E68: =E70 -> 0 | F68: =F70 -> -240000
C69: այդ թվում` բյուջետային ծախսերի տնտեսագիտական դասակարգման հոդվածներ
C70: ՈՉ ՖԻՆԱՆՍԱԿԱՆ ԱԿՏԻՎՆԵՐԻ ԳԾՈՎ ԾԱԽՍԵՐ | D70: =E70+F70 -> -240000 | E70: =E71+E72 -> 0 | F70: =F71+F72 -> -240000
C71: - Շենքերի և շինությունների շինարարություն | D71: =E71+F71 -> -94869 | F71: =+Havelvats3!G344 -> -94869
C72: -Այլ մեքենաներ և սարքավորումներ | D72: =E72+F72 -> -145131 | F72: =+Havelvats3!G345 -> -145131
A73: 1167 | C73: Էլեկտրաէներգետիկ համակարգի զարգացման ծրագիր | D73: =E73+F73 -> -104239.2 | E73: =+E75+E81+E87 -> 0 | F73: =+F75+F81+F87 -> -104239.2
C74: այդ թվում`
B75: 11005 | C75: ՌԴ աջակցությամբ իրականացվող Հայկական ԱԷԿ-ի N 2 էներգաբլոկի շահագործման նախագծային ժամկետի երկարացման դրամաշնորհային ծրագրի խորհրդատվական և կառավարման ծառայություններ | D75: =E75+F75 -> -14846.4 | E75: =+E79 -> 0 | F75: =+F79 -> -14846.4
C76: այդ թվում` ըստ կատարողների
C77: ՀՀ տարածքային կառավարման և ենթակառուցվածքների նախարարություն | D77: =E77+F77 -> -14846.4 | E77: =E75 -> 0 | F77: =F75 -> -14846.4
C78: այդ թվում` բյուջետային ծախսերի տնտեսագիտական դասակարգման հոդվածներ
C79: ԸՆԹԱՑԻԿ ԾԱԽՍԵՐ | D79: =E79+F79 -> -14846.4 | E79: =E80 -> 0 | F79: =F80 -> -14846.4
C80: - Այլ ծախսեր | D80: =E80+F80 -> -14846.4 | F80: =+Havelvats1!D43 -> -14846.4
B81: 32005 | C81: ՌԴ աջակցությամբ իրականացվող Հայկական ԱԷԿ-ի N 2 էներգաբլոկի շահագործման նախագծային ժամկետի երկարացման դրամաշնորհային ծրագրի շրջանակներում իրականացվող ներդրումներ | D81: =E81+F81 -> -73020.7 | E81: =+E85 -> 0 | F81: =+F85 -> -73020.7
C82: այդ թվում` ըստ կատարողների
C83: ՀՀ տարածքային կառավարման և ենթակառուցվածքների նախարարություն | D83: =E83+F83 -> -73020.7 | E83: =E81 -> 0 | F83: =F81 -> -73020.7
C84: այդ թվում` բյուջետային ծախսերի տնտեսագիտական դասակարգման հոդվածներ
C85: ՈՉ ՖԻՆԱՆՍԱԿԱՆ ԱԿՏԻՎՆԵՐԻ ԳԾՈՎ ԾԱԽՍԵՐ | D85: =E85+F85 -> -73020.7 | E85: =+E86 -> 0 | F85: =+F86 -> -73020.7
C86: - Շենքերի և շինությունների կապիտալ վերանորոգում | D86: =E86+F86 -> -73020.7 | F86: =+Havelvats3!G182 -> -73020.7
B87: 11006 | C87: Գերմանիայի զարգացման վարկերի բանկի (KFW) աջակցությամբ իրականացվող «Կովկասյան էլեկտրահաղորդման ցանց I» Հայաստան-Վրաստան հաղորդիչ գիծ/ենթակայանների դրամաշնորհային ծրագիր | D87: =E87+F87 -> -16372.1 | E87: =+E91 -> 0 | F87: =+F91 -> -16372.1
C88: այդ թվում` ըստ կատարողների
C89: ՀՀ տարածքային կառավարման և ենթակառուցվածքների նախարարություն | D89: =E89+F89 -> -16372.1 | E89: =E87 -> 0 | F89: =F87 -> -16372.1
C90: այդ թվում` բյուջետային ծախսերի տնտեսագիտական դասակարգման հոդվածներ
C91: ԸՆԹԱՑԻԿ ԾԱԽՍԵՐ | D91: =E91+F91 -> -16372.1 | E91: =E92 -> 0 | F91: =F92 -> -16372.1
C92: - Այլ ծախսեր | D92: =E92+F92 -> -16372.1 | F92: =+Havelvats1!D37 -> -16372.1

Sheet Havelvats7
C1: Հավելված N 6
C2: ՀՀ կառավարության 2020 թվականի
C3: -ի N -Ն որոշման
A5: ՀԱՅԱՍՏԱՆԻ ՀԱՆՐԱՊԵՏՈՒԹՅԱՆ ԿԱՌԱՎԱՐՈՒԹՅԱՆ 2019 ԹՎԱԿԱՆԻ ԴԵԿՏԵՄԲԵՐԻ 26-Ի N 1919-Ն ՈՐՈՇՄԱՆ N 9 ՀԱՎԵԼՎԱԾԻ N 9.8 ԱՂՅՈՒՍԱԿՈՒՄ ԿԱՏԱՐՎՈՂ ՓՈՓՈԽՈՒԹՅՈՒՆՆԵՐԸ
A7: ՀՀ տարածքային կառավարման և ենթակառուցվածքների նախարարություն
A8: ՄԱՍ 2. ՊԵՏԱԿԱՆ ՄԱՐՄՆԻ ԳԾՈՎ ԱՐԴՅՈՒՆՔԱՅԻՆ (ԿԱՏԱՐՈՂԱԿԱՆ) ՑՈՒՑԱՆԻՇՆԵՐԸ
A10: Ծրագրի դասիչը | B10: Ծրագրի անվանումը
A11: 1004 | B11: Ոռոգման համակարգի առողջացում
A13: Ծրագրի միջոցառումները
A15: Ծրագրի դասիչը` | B15: 1004 | C15: Ցուցանիշների փոփոխությունը (նվազեցումները նշված են փակագծերում)
A16: Միջոցառման դասիչը` | B16: 11005 | C16: Տարի
A17: Միջոցառման անվանումը` | B17: Եվրասիական զարգացման բանկի աջակցությամբ իրականացվող ոռոգման համակարգերի զարգացման ծրագրի խորհրդատվություն և կառավարում
A18: Նկարագրությունը` | B18: Եվրասիական զարգացման բանկի աջակցությամբ իրականացվող ոռոգման համակարգերի զարգացման ծրագրի համակարգում և ղեկավարում
A19: Միջոցառման տեսակը` | B19: Ծառայությունների մատուցում
A20: Ծառայությունը մատուցող կազմակերպության անվանումը | B20: Մասնագիտատացված միավոր
A21: Արդյունքի չափորոշիչներ
A22: Կառավարվող/վերահսկվող պայմանագրերի քանակ, հատ
A23: Միջոցառման վրա կատարվող ծախսը (հազար դրամ) | C23: =+Havelvats1!D118 -> -10000
A25: Ծրագրի դասիչը` | B25: 1004 | C25: Ցուցանիշների փոփոխությունը (նվազեցումները նշված են փակագծերում)
A26: Միջոցառման դասիչը` | B26: 11007 | C26: Տարի
A27: Միջոցառման անվանումը` | B27: Գերմանիայի զարգացման վարկերի բանկի աջակցությամբ իրականացվող Ախուրյան գետի ջրային ռեսուրսների ինտեգրացված կառավարում ծրագրի խորհրդատվություն և կառավարում
A28: Նկարագրությունը` | B28: Գերմանիայի զարգացման վարկերի բանկի աջակցությամբ իրականացվող Ախուրյան գետի ջրային ռեսուրսների ինտեգրացված կառավարում ծրագրի համակարգում և ղեկավարում
A29: Միջոցառման տեսակը` | B29: Ծառայությունների մատուցում
A30: Ծառայությունը մատուցող կազմակերպության անվանումը | B30: Մասնագիտատացված միավոր
A31: Արդյունքի չափորոշիչներ
A32: Կառավարվող/վերահսկվող պայմանագրերի քանակ, հատ
A33: Միջոցառման վրա կատարվող ծախսը (հազար դրամ) | C33: =+Havelvats1!D124 -> -80000
A35: Ծրագրի դասիչը` | B35: 1004 | C35: Ցուցանիշների փոփոխությունը (նվազեցումները նշված են փակագծերում)
A36: Միջոցառման դասիչը` | B36: 11011 | C36: Տարի
A37: Միջոցառման անվանումը` | B37: Զարգացման ֆրանսիական գործակալության աջակցությամբ իրականացվող ոռոգման ոլորտի ֆինանսական կայունության և ոռոգման կառավարման կարողությունների բարելավման դրամաշնորհային ծրագրի խորհրդատվություն և կառավարում_x000D_
A38: Նկարագրությունը` | B38: Զարգացման ֆրանսիական գործակալության աջակցությամբ իրականացվող ոռոգման ոլորտի ֆինանսական կայունության և ոռոգման կառավարման կարողությունն»րի բար»լավման ծրագրի համակարգում և ղ»կավարում
A39: Միջոցառման տեսակը` | B39: Ծառայությունների մատուցում
A40: Ծառայությունը մատուցող կազմակերպության անվանումը | B40: Ջրային կոմիտե
A41: Արդյունքի չափորոշիչներ
A42: Կառավարվող/վերահսկվող պայմանագրերի քանակ, հատ
A43: Միջոցառման վրա կատարվող ծախսը (հազար դրամ) | C43: =+Havelvats1!D130 -> -110000
A45: Ծրագրի դասիչը` | B45: 1004 | C45: Ցուցանիշների փոփոխությունը (նվազեցումները նշված են փակագծերում)
A46: Միջոցառման դասիչը` | B46: 12002 | C46: Տարի
A47: Միջոցառման անվանումը` | B47: Գերմանիայի զարգացման բանկի աջակցությամբ իրականացվող Ախուրյան գետի ջրային ռեսուրսների ինտեգրված կառավարման փուլ 1 ծրագրով Ջրաձոր գյուղի վերաբնակեցման համար ենթակառուցվածքների և բնակելի տների կառուցում
A48: Նկարագրությունը` | B48: Գերմանիայի զարգացման բանկի աջակցությամբ իրականացվող Ախուրյան գետի ջրային ռեսուրսների ինտեգրված կառավարման փուլ 1 ծրագիր_x000D_
A49: Միջոցառման տեսակը` | B49: Տրանսֆերտների տրամադրում
A50: Ակտիվն օգտագործող կազմակերպության(ների) անվանում(ները)՛ | B50: Մասնագիտացված միավոր
A51: Արդյունքի չափորոշիչներ
A52: Նոր կառուցվող բնակելի տներ, հատ
A53: Միջոցառման վրա կատարվող ծախսը (հազար դրամ) | C53: =+Havelvats1!D136 -> -3337
A55: Ծրագրի դասիչը` | B55: 1004 | C55: Ցուցանիշների փոփոխությունը (նվազեցումները նշված են փակագծերում)
A56: Միջոցառման դասիչը` | B56: 31005 | C56: Տարի
A57: Միջոցառման անվանումը` | B57: Եվրասիական զարգացման բանկի աջակցությամբ իրականացվող ոռոգման համակարգերի զարգացման ծրագրի շրջանակներում ջրային տնտեսության ենթակառուցվածքների հիմնանորոգում
A58: Նկարագրությունը` | B58: Եվրասիական զարգացման բանկի աջակցությամբ իրականացվող ոռոգման համակարգերի զարգացման ծրագիր
A59: Միջոցառման տեսակը` | B59: Պետական մարմինների կողմից օգտագործվող ոչ ֆինանսական ակտիվների հետ գործառնություններ
A60: Ակտիվն օգտագործող կազմակերպության(ների) անվանում(ները)՛ | B60: Մասնագիտացված միավոր
A61: Արդյունքի չափորոշիչներ
A62: Հիմնանորոգվող ոռոգման ցանցերի երկարություն, կմ
A63: Նոր կառուցվող ոռոգմանցանցերի երկարություն, կմ
A64: Միջոցառման վրա կատարվող ծախսը (հազար դրամ) | C64: =+Havelvats1!D142 -> -178000
A67: Ծրագրի դասիչը | B67: Ծրագրի անվանումը
A68: 1040 | B68: Կոշտ թափոնների կառավարում
A70: Ծրագրի միջոցառումները
A72: Ծրագրի դասիչը` | B72: 1040 | C72: Ցուցանիշների փոփոխությունը (նվազեցումները նշված են փակագծերում)
A73: Միջոցառման դասիչը` | B73: 32006 | C73: Տարի
A74: Միջոցառման անվանումը` | B74: Եվրոպական միության հարևանության ներդրումային գործիքի աջակցությամբ իրականացվող «Երևանի կոշտ թափոնների կառավարման» դրամաշնորհային ծրագիր
A75: Նկարագրությունը` | B75: Կոշտ թափոնների կառավարման համակարգի բարելավում և նոր աղբավայրի ստեղծում_x000D_ _x000D_
A76: Միջոցառման տեսակը` | B76: Այլ պետական կազմակերպությունների կողմից օգտագործվող ոչ ֆինանսական ակտիվների հետ գործառնություններ
A77: Միջոցառումն իրականացնողի անվանումը՛ | B77: Մասնագիտացված միավոր
A78: Արդյունքի չափորոշիչներ
A79: Եվրոպական չափորոշիչներով 29 հա տարածքում նոր քաղաքային աղբավայրի կառուցում, տոկոս
A80: Գործող թվով 2 աղբանոցների(Նուբարաշեն և Աջափնյակ) մեկուսացման վերջնական նախագիծ, հատ
A81: Քաղաքային նոր աղբավայրի կառուցման վերջնական նախագիծ, հատ
A82: Աղբանոցներում առաջացող գազերի բռնկման հնարավորության նվազեցում, տոկոս
A83: Աղբահանություն իրականացնող կազմակերպությունների մեքենաների համար աղբի տեղադրման հնարավորությունների ստեղծում, մեք/օր
A84: Շրջական միջավայրը աղտոտող աղբից առաջացող ստորգետնյա ջրերի ծավալի կրճատում, տոկոս
A85: Միջոցառման վրա կատարվող ծախսը (հազար դրամ) | C85: =+Havelvats1!D155 -> -1974.9
A88: Ծրագրի դասիչը | B88: Ծրագրի անվանումը
A89: 1049 | B89: Ճանապարհային ցանցի բարելավում
A91: Ծրագրի միջոցառումները
A93: Ծրագրի դասիչը` | B93: 1049 | C93: Ցուցանիշների փոփոխությունը (նվազեցումները նշված են փակագծերում)
A94: Միջոցառման դասիչը` | B94: 11007 | C94: Տարի
A95: Միջոցառման անվանումը` | B95: Ասիական զարգացման բանկի աջակցությամբ իրականացվող Հայաստան-Վրաստան սահմանային տարածաշրջանային ճանապարհի (Մ6 Վանաձոր-Բագրատաշեն) բարելավման ծրագրի համակարգում և կառավարում
A96: Նկարագրությունը` | B96: Խորհրդատվական ծառայություններ և պահպանման ծախսեր
A97: Միջոցառման տեսակը` | B97: Ծառայությունների մատուցում
A98: Միջոցառումն իրականացնողի անվանումը՛ | B98: Մասնագիտացված միավոր
A99: Արդյունքի չափորոշիչներ
A100: Խորհրդատվությունների (պայմանագրերի) քանակը, հատ
A101: Միջոցառման վրա կատարվող ծախսը (հազար դրամ) | C101: =+Havelvats1!D240 -> -59000
A103: Ծրագրի դասիչը` | B103: 1049 | C103: Ցուցանիշների փոփոխությունը (նվազեցումները նշված են փակագծերում)
A104: Միջոցառման դասիչը` | B104: 11009 | C104: Տարի
A105: Միջոցառման անվանումը` | B105: Ասիական զարգացման բանկի աջակցությամբ իրականացվող Հյուսիս-հարավ միջանցքի զարգացման ծրագրի համակարգում և կառավարում ( Տրանշ 2)
A106: Նկարագրությունը` | B106: Խորհրդատվական ծառայություններ և պահպանման ծախսեր
A107: Միջոցառման տեսակը` | B107: Ծառայությունների մատուցում
A108: Միջոցառումն իրականացնողի անվանումը՛ | B108: Մասնագիտացված միավոր
A109: Արդյունքի չափորոշիչներ
A110: Խորհրդատվությունների քանակը, աուդիտ, հատ (հողերի օտարման և տարաբնակեցման ծրագիր ՀՕՏԾ)
A111: Միջոցառման վրա կատարվող ծախսը (հազար դրամ) | C111: =+Havelvats3!G219 -> -100000
A113: Ծրագրի դասիչը` | B113: 1049 | C113: Ցուցանիշների փոփոխությունը (նվազեցումները նշված են փակագծերում)
A114: Միջոցառման դասիչը` | B114: 11010 | C114: Տարի
A115: Միջոցառման անվանումը` | B115: Վերակառուցման և զարգացման եվրոպական բանկի աջակցությամբ իրականացվող ՀՀ պետական սահմանի Բագրատաշեն անցման կետի կամրջի վերակառուցման ծրագրի համակարգում և կառավարում
A116: Նկարագրությունը` | B116: Խորհրդատվական ծառայություններ և պահպանման ծախսեր
A117: Միջոցառման տեսակը` | B117: Ծառայությունների մատուցում
A118: Միջոցառումն իրականացնողի անվանումը՛ | B118: Մասնագիտացված միավոր
A119: Արդյունքի չափորոշիչներ
...

Sheet Havelvats8
D1: Հավելված N7
D2: ՀՀ կառավարության 2020թ
D3: ---------ի N ----------- որոշման
A6: ՀԱՅԱՍՏԱՆԻ ՀԱՆՐԱՊԵՏՈՒԹՅԱՆ ԿԱՌԱՎԱՐՈՒԹՅԱՆ 2019 ԹՎԱԿԱՆԻ ԴԵԿՏԵՄԲԵՐԻ 26-Ի N 1919-Ն ՈՐՈՇՄԱՆ N 9.1 ՀԱՎԵԼՎԱԾԻ N 9.1.26 ԱՂՅՈՒՍԱԿՈՒՄ ԿԱՏԱՐՎՈՂ ՓՈՓՈԽՈՒԹՅՈՒՆՆԵՐԸ
A7: ՀՀ տարածքային կառավարման և ենթակառուցվածքների նախարարության ջրային կոմիտե
A8: ՄԱՍ1. ՊԵՏԱԿԱՆ ՄԱՐՄՆԻ ԳԾՈՎ ԱՐԴՅՈՒՆՔԱՅԻՆ (ԿԱՏԱՐՈՂԱԿԱՆ) ՑՈՒՑԱՆԻՇՆԵՐԸ
A10: Ծրագրի դասիչը | B10: Ծրագրի անվանումը
A11: 1004 | B11: Ոռոգման համակարգի առողջացում
A13: Ծրագրի միջոցառումները
A15: Ծրագրի դասիչը` | B15: 1004 | C15: Ցուցանիշների փոփոխությունը (նվազեցումները նշված են փակագծերում)
A16: Միջոցառման դասիչը` | B16: 11005 | C16: Տարի
A17: Միջոցառման անվանումը` | B17: Եվրասիական զարգացման բանկի աջակցությամբ իրականացվող ոռոգման համակարգերի զարգացման ծրագրի խորհրդատվություն և կառավարում
A18: Նկարագրությունը` | B18: Եվրասիական զարգացման բանկի աջակցությամբ իրականացվող ոռոգման համակարգերի զարգացման ծրագրի համակարգում և ղեկավարում
A19: Միջոցառման տեսակը` | B19: Ծառայությունների մատուցում
A20: Ծառայությունը մատուցող կազմակերպության անվանումը | B20: Մասնագիտատացված միավոր
A21: Արդյունքի չափորոշիչներ
A22: Կառավարվող/վերահսկվող պայմանագրերի քանակ, հատ
A23: Միջոցառման վրա կատարվող ծախսը (հազար դրամ) | C23: =+[1]Havelvats1!D118 -> -10000
A25: Ծրագրի դասիչը` | B25: 1004 | C25: Ցուցանիշների փոփոխությունը (նվազեցումները նշված են փակագծերում)
A26: Միջոցառման դասիչը` | B26: 11007 | C26: Տարի
A27: Միջոցառման անվանումը` | B27: Գերմանիայի զարգացման վարկերի բանկի աջակցությամբ իրականացվող Ախուրյան գետի ջրային ռեսուրսների ինտեգրացված կառավարում ծրագրի խորհրդատվություն և կառավարում
A28: Նկարագրությունը` | B28: Գերմանիայի զարգացման վարկերի բանկի աջակցությամբ իրականացվող Ախուրյան գետի ջրային ռեսուրսների ինտեգրացված կառավարում ծրագրի համակարգում և ղեկավարում
A29: Միջոցառման տեսակը` | B29: Ծառայությունների մատուցում
A30: Ծառայությունը մատուցող կազմակերպության անվանումը | B30: Մասնագիտատացված միավոր
A31: Արդյունքի չափորոշիչներ
A32: Կառավարվող/վերահսկվող պայմանագրերի քանակ, հատ
A33: Միջոցառման վրա կատարվող ծախսը (հազար դրամ) | C33: =+[1]Havelvats1!D124 -> -80000
A35: Ծրագրի դասիչը` | B35: 1004 | C35: Ցուցանիշների փոփոխությունը (նվազեցումները նշված են փակագծերում)
A36: Միջոցառման դասիչը` | B36: 11011 | C36: Տարի
A37: Միջոցառման անվանումը` | B37: Զարգացման ֆրանսիական գործակալության աջակցությամբ իրականացվող ոռոգման ոլորտի ֆինանսական կայունության և ոռոգման կառավարման կարողությունների բարելավման դրամաշնորհային ծրագրի խորհրդատվություն և կառավարում_x000D_
A38: Նկարագրությունը` | B38: Զարգացման ֆրանսիական գործակալության աջակցությամբ իրականացվող ոռոգման ոլորտի ֆինանսական կայունության և ոռոգման կառավարման կարողությունն»րի բար»լավման ծրագրի համակարգում և ղ»կավարում
A39: Միջոցառման տեսակը` | B39: Ծառայությունների մատուցում
A40: Ծառայությունը մատուցող կազմակերպության անվանումը | B40: Ջրային կոմիտե
A41: Արդյունքի չափորոշիչներ
A42: Կառավարվող/վերահսկվող պայմանագրերի քանակ, հատ
A43: Միջոցառման վրա կատարվող ծախսը (հազար դրամ) | C43: =+[1]Havelvats1!D130 -> -110000
A45: Ծրագրի դասիչը` | B45: 1004 | C45: Ցուցանիշների փոփոխությունը (նվազեցումները նշված են փակագծերում)
A46: Միջոցառման դասիչը` | B46: 12002 | C46: Տարի
A47: Միջոցառման անվանումը` | B47: Գերմանիայի զարգացման բանկի աջակցությամբ իրականացվող Ախուրյան գետի ջրային ռեսուրսների ինտեգրված կառավարման փուլ 1 ծրագրով Ջրաձոր գյուղի վերաբնակեցման համար ենթակառուցվածքների և բնակելի տների կառուցում
A48: Նկարագրությունը` | B48: Գերմանիայի զարգացման բանկի աջակցությամբ իրականացվող Ախուրյան գետի ջրային ռեսուրսների ինտեգրված կառավարման փուլ 1 ծրագիր_x000D_
A49: Միջոցառման տեսակը` | B49: Տրանսֆերտների տրամադրում
A50: Ակտիվն օգտագործող կազմակերպության(ների) անվանում(ները)՛ | B50: Մասնագիտացված միավոր
A51: Արդյունքի չափորոշիչներ
A52: Նոր կառուցվող բնակելի տներ, հատ
A53: Միջոցառման վրա կատարվող ծախսը (հազար դրամ) | C53: =+[1]Havelvats1!D136 -> -3337
A55: Ծրագրի դասիչը` | B55: 1004 | C55: Ցուցանիշների փոփոխությունը (նվազեցումները նշված են փակագծերում)
A56: Միջոցառման դասիչը` | B56: 31005 | C56: Տարի
A57: Միջոցառման անվանումը` | B57: Եվրասիական զարգացման բանկի աջակցությամբ իրականացվող ոռոգման համակարգերի զարգացման ծրագրի շրջանակներում ջրային տնտեսության ենթակառուցվածքների հիմնանորոգում
A58: Նկարագրությունը` | B58: Եվրասիական զարգացման բանկի աջակցությամբ իրականացվող ոռոգման համակարգերի զարգացման ծրագիր
A59: Միջոցառման տեսակը` | B59: Պետական մարմինների կողմից օգտագործվող ոչ ֆինանսական ակտիվների հետ գործառնություններ
A60: Ակտիվն օգտագործող կազմակերպության(ների) անվանում(ները)՛ | B60: Մասնագիտացված միավոր
A61: Արդյունքի չափորոշիչներ
A62: Հիմնանորոգվող ոռոգման ցանցերի երկարություն, կմ
A63: Նոր կառուցվող ոռոգմանցանցերի երկարություն, կմ
A64: Միջոցառման վրա կատարվող ծախսը (հազար դրամ) | C64: =+[1]Havelvats1!D148 -> -178000
A66: ՀԱՅԱՍՏԱՆԻ ՀԱՆՐԱՊԵՏՈՒԹՅԱՆ ԿԱՌԱՎԱՐՈՒԹՅԱՆ 2019 ԹՎԱԿԱՆԻ ԴԵԿՏԵՄԲԵՐԻ 26-Ի N 1919-Ն ՈՐՈՇՄԱՆ N 9.1 ՀԱՎԵԼՎԱԾԻ N 9.1.8 ԱՂՅՈՒՍԱԿՈՒՄ ԿԱՏԱՐՎՈՂ ՓՈՓՈԽՈՒԹՅՈՒՆՆԵՐԸ
A67: ՀՀ տարածքային կառավարման և ենթակառուցվածքների նախարարություն
A69: Ծրագրի դասիչը | B69: Ծրագրի անվանումը
A70: 1040 | B70: Կոշտ թափոնների կառավարում
A72: Ծրագրի միջոցառումները
A74: Ծրագրի դասիչը` | B74: 1040 | C74: Ցուցանիշների փոփոխությունը (նվազեցումները նշված են փակագծերում)
A75: Միջոցառման դասիչը` | B75: 32006 | C75: Տարի
A76: Միջոցառման անվանումը` | B76: Եվրոպական միության հարևանության ներդրումային գործիքի աջակցությամբ իրականացվող «Երևանի կոշտ թափոնների կառավարման» դրամաշնորհային ծրագիր
A77: Նկարագրությունը` | B77: Կոշտ թափոնների կառավարման համակարգի բարելավում և նոր աղբավայրի ստեղծում_x000D_ _x000D_
A78: Միջոցառման տեսակը` | B78: Այլ պետական կազմակերպությունների կողմից օգտագործվող ոչ ֆինանսական ակտիվների հետ գործառնություններ
A79: Միջոցառումն իրականացնողի անվանումը՛ | B79: Մասնագիտացված միավոր
A80: Արդյունքի չափորոշիչներ
A81: Եվրոպական չափորոշիչներով 29 հա տարածքում նոր քաղաքային աղբավայրի կառուցում, տոկոս
A82: Գործող թվով 2 աղբանոցների(Նուբարաշեն և Աջափնյակ) մեկուսացման վերջնական նախագիծ, հատ
A83: Քաղաքային նոր աղբավայրի կառուցման վերջնական նախագիծ, հատ
A84: Աղբանոցներում առաջացող գազերի բռնկման հնարավորության նվազեցում, տոկոս
A85: Աղբահանություն իրականացնող կազմակերպությունների մեքենաների համար աղբի տեղադրման հնարավորությունների ստեղծում, մեք/օր
A86: Շրջական միջավայրը աղտոտող աղբից առաջացող ստորգետնյա ջրերի ծավալի կրճատում, տոկոս
A87: Միջոցառման վրա կատարվող ծախսը (հազար դրամ) | C87: =+[1]Havelvats1!D161 -> -1974.9
A90: Ծրագրի դասիչը | B90: Ծրագրի անվանումը
A91: 1049 | B91: Ճանապարհային ցանցի բարելավում
A93: Ծրագրի միջոցառումները
A95: Ծրագրի դասիչը` | B95: 1049 | C95: Ցուցանիշների փոփոխությունը (նվազեցումները նշված են փակագծերում)
A96: Միջոցառման դասիչը` | B96: 11007 | C96: Տարի
A97: Միջոցառման անվանումը` | B97: Ասիական զարգացման բանկի աջակցությամբ իրականացվող Հայաստան-Վրաստան սահմանային տարածաշրջանային ճանապարհի (Մ6 Վանաձոր-Բագրատաշեն) բարելավման ծրագրի համակարգում և կառավարում
A98: Նկարագրությունը` | B98: Խորհրդատվական ծառայություններ և պահպանման ծախսեր
A99: Միջոցառման տեսակը` | B99: Ծառայությունների մատուցում
A100: Միջոցառումն իրականացնողի անվանումը՛ | B100: Մասնագիտացված միավոր
A101: Արդյունքի չափորոշիչներ
A102: Խորհրդատվությունների (պայմանագրերի) քանակը, հատ
A103: Միջոցառման վրա կատարվող ծախսը (հազար դրամ) | C103: =+[1]Havelvats1!D240 -> -59000
A105: Ծրագրի դասիչը` | B105: 1049 | C105: Ցուցանիշների փոփոխությունը (նվազեցումները նշված են փակագծերում)
A106: Միջոցառման դասիչը` | B106: 11008 | C106: Տարի
A107: Միջոցառման անվանումը` | B107: Եվրոպական ներդրումային բանկի աջակցությամբ իրականացվող Մ6 Վանաձոր-Ալավերդի-Վրաստանի սահման միջպետական նշանակության ճանապարհի վերականգնման ծրագրի համակարգում և կառավարում
A108: Նկարագրությունը` | B108: Եվրոպական ներդրումային բանկի աջակցությամբ իրականացվող Մ6 Վանաձոր-Ալավերդի-Վրաստանի սահման միջպետական նշանակության ճանապարհի տեխնիկական հսկողության խորհրդատվական ծառայություններ, աուդիտի և վերահսկողական ծախսեր
A109: Միջոցառման տեսակը` | B109: Ծառայությունների մատուցում
A110: Միջոցառումն իրականացնողի անվանումը՛ | B110: ՀՀ տարածքային կառավարման և ենթակառուցվածքների նախարարություն, մրցութային կարգով ընտրված կազմակերպություններ
A111: Արդյունքի չափորոշիչներ
A112: Խորհրդատվությունների քանակը, հատ
A113: Միջոցառման վրա կատարվող ծախսը (հազար դրամ) | C113: =+[1]Havelvats1!D234 -> -3000
A115: Ծրագրի դասիչը` | B115: 1049 | C115: Ցուցանիշների փոփոխությունը (նվազեցումները նշված են փակագծերում)
A116: Միջոցառման դասիչը` | B116: 11009 | C116: Տարի
A117: Միջոցառման անվանումը` | B117: Ասիական զարգացման բանկի աջակցությամբ իրականացվող Հյուսիս-հարավ միջանցքի զարգացման ծրագրի համակարգում և կառավարում ( Տրանշ 2)
A118: Նկարագրությունը` | B118: Խորհրդատվական ծառայություններ և պահպանման ծախսեր
A119: Միջոցառման տեսակը` | B119: Ծառայությունների մատուցում
...

Sheet Havelvats6
A1: Հավելված N8
A2: ՀՀ կառավարության 2020 թվականի
A3: ______________ ի ___Ն որոշման
A5: ՀԱՅԱՍՏԱՆԻ ՀԱՆՐԱՊԵՏՈՒԹՅԱՆ ԿԱՌԱՎԱՐՈՒԹՅԱՆ 2019 ԹՎԱԿԱՆԻ ԴԵԿՏԵՄԲԵՐԻ 26-Ի N 1919-Ն ՈՐՈՇՄԱՆ N 10 ՀԱՎԵԼՎԱԾՈՒՄ ԿԱՏԱՐՎՈՂ ԼՐԱՑՈՒՄՆԵՐԸ
A6: Կոդը | B6: Անվանումը | C6: Գնման ձևը | D6: Չափման միավորը | E6: Միավորի գինը | F6: Ցուցանիշների փոփոխությունը (նվազեցումները նշված են փակագծերում)
F7: Քանակը | G7: Գումարը (հազար դրամով)
A8: ՀՀտարածքային կառավարման և ենթակառուցվածքների նախարարության պետական գույքի կառավարման կոմիտե | G8: =+G9 -> -14606
A9: Բաժին N 01 | B9: Խումբ N 03 | C9: Դաս N 03 | D9: Ընդհանուր բնույթի այլ ծառայություններ | G9: =+G10 -> -14606
A10: 1079 11001 | B10: Պետական գույքի կառավարման համակարգման, խորհրդատվության և մոնիտորինգի ծառայություններ | G10: =+G11 -> -14606
A11: ՄԱՍ III. ԾԱՌԱՅՈՒԹՅՈՒՆՆԵՐ | B11: ՄԱՍ III. ԾԱՌԱՅՈՒԹՅՈՒՆՆԵՐ | G11: =+G12 -> -14606
A12: 65311100-1 | B12: էլեկտրականության բաշխում | C12: ՄԱ | D12: դրամ | G12: =+Havelvats3!G30 -> -14606
