Workbook

Sheet 1
D1: Հավելված N 1
D2: ՀՀ կառավարության 2020 թվականի
D3: ________ N ____-Ն որոշման
A5: «ՀԱՅԱՍՏԱՆԻ ՀԱՆՐԱՊԵՏՈՒԹՅԱՆ 2020 ԹՎԱԿԱՆԻ ՊԵՏԱԿԱՆ ԲՅՈՒՋԵԻ ՄԱՍԻՆ» ՀԱՅԱՍՏԱՆԻ ՀԱՆՐԱՊԵՏՈՒԹՅԱՆ ՕՐԵՆՔԻ N 1 ՀԱՎԵԼՎԱԾԻ N 2 ԱՂՅՈՒՍԱԿՈՒՄ ԿԱՏԱՐՎՈՂ ՎԵՐԱԲԱՇԽՈՒՄԸ ԵՎ ՀԱՅԱՍՏԱՆԻ ՀԱՆՐԱՊԵՏՈՒԹՅԱՆ ԿԱՌԱՎԱՐՈՒԹՅԱՆ 2019 ԹՎԱԿԱՆԻ ԴԵԿՏԵՄԲԵՐԻ 26-Ի N 1919-Ն ՈՐՈՇՄԱՆ N 5 ՀԱՎԵԼՎԱԾԻ N 1 ԱՂՅՈՒՍԱԿՈՒՄ ԿԱՏԱՐՎՈՂ ՓՈՓՈԽՈՒԹՅՈՒՆՆԵՐԸ
C6: հազար դրամներով
A7: Ծրագրային դասիչը | C7: Բյուջետային գլխավոր կարգադրիչների, ծրագրերի և միջոցառումների անվանումները | D7: Ցուցանիշների փոփոխությունը (ավելացումները նշված են դրական նշանով, իսկ նվազեցումները` փակագծերում)
A8: Ծրագիր | B8: Միջոցառում | D8: Տարի
C9: ԸՆԴԱՄԵՆԸ | D9: 0
C10: ՀՀ տարածքային կառավարման և ենթակառուցվածքների նախարարություն | D10: -
A11: 1019 | C11: Ծրագրի անվանումը` | D11: =+D18 -> -325440.9
C12: Սոցիալական ներդրումների և տեղական զարգացման ծրագիր
C13: Ծրագրի նպատակը`
C14: Նպաստել տարածքներում բնակչության նյութական և ոչ նյութական բարեկեցության աճին
C15: Վերջնական արդյունքի նկարագրությունը`
C16: Համայնքային և միջհամայնքային ենթակառուցվածքների և որակի հասանելիության բարելավում՝ ինստիտուցիոնալ և ֆինանասական կարողությունների հզորացում
A17: Ծրագրի միջոցառումներ
B18: 12001 | C18: Միջոցառման անվանումը` | D18: -325440.9
C19: Համաշխարհային բանկի աջակցությամբ իրականացվող Տարածքային զարգացման հիմնադրամի ծրագրի շրջանակներում ՀՀ տարածքներում ջրագծերի՝ առողջապահության՝ կրթության՝ մշակույթի՝ հատուկ խնամքի և ենթակառուցվածքների ոլորտի վերականգնման և շինարարության աշխատանքներ
C20: Միջոցառման նկարագրությունը`
C21: Տարածքային զարգացման հիմնադրամի ծրագրով նախատեսված ՀՀ տարածքներում ջրագծերի՝ առողջապահության՝ կրթության օբյեկտների՝ մշակույթային տների՝ ծերանոցների՝ մանկատների՝ հատուկ դպրոցների՝ մանկապարտեզների և կոյուղու օբյեկտների հիմնանորոգում և շինարարություն
C22: Միջոցառման տեսակը
C23: Տրանսֆերտների տրամադրում
A24: 1189 | C24: Ծրագրի անվանումը` | D24: =+D31 -> -336526.1
C25: Դպրոցների սեյսմիկ անվտանգության մակարդակի բարձրացման
C26: Ծրագրի նպատակը`
C27: Նպաստել երկրի սեյսմակայունության ապահովմանը՝ անհատական և հասարակական անվտանգության մակարդակի բարձրացմանը
C28: Վերջնական արդյունքի նկարագրությունը`
C29: Դպրոցական շենքերի սեյսմակայունության մակարդակի բարձրացում
A30: Ծրագրի միջոցառումներ
B31: 12001 | C31: Միջոցառման անվանումը` | D31: -336526.1
C32: Ասիական զարգացման բանկի աջակցությամբ իրականացվող դպրոցների սեյսմիկ պաշտպանության ծրագրի շրջանակներում ՀՀ դպրոցների սեյսմիկ անվտանգության բարելավմանն ուղղված
C33: Միջոցառման նկարագրությունը`
C34: Դպրոցների շենքերի ամրացման շինարարական աշխատանքներ՝ շինարարական ստանդարտների արդիականացում՝ արտակարգ իրավիճակներին արձագանքման ծրագրի մշակում՝ սեյսմիկ մոնիտորինգի դիտակետերի սարքավորումների արդիականացում:
C35: Միջոցառման տեսակը
C36: Տրանսֆերտների տրամադրում
A37: 1004 | C37: Ծրագրի անվանումը` | D37: =+D44+D50+D56+D62+D68 -> -432328.2
C38: Ոռոգման համակարգի առողջացում
C39: Ծրագրի նպատակը`
C40: Ոռոգման ծառայությունների հասանելիության և մատչելիության ապահովում
C41: Վերջնական արդյունքի նկարագրությունը`
...

Sheet 2
D1: Հավելված N 2
B2: Կառավարության 2020 թվականի
B3: ________ N ____-Ն որոշման
A5: «ՀԱՅԱՍՏԱՆԻ ՀԱՆՐԱՊԵՏՈՒԹՅԱՆ 2020 ԹՎԱԿԱՆԻ ՊԵՏԱԿԱՆ ԲՅՈՒՋԵԻ ՄԱՍԻՆ» ՀԱՅԱՍՏԱՆԻ ՀԱՆՐԱՊԵՏՈՒԹՅԱՆ ՕՐԵՆՔԻ N 1 ՀԱՎԵԼՎԱԾԻ N 7 ԱՂՅՈՒՍԱԿՈՒՄ ԵՎ ՀԱՅԱՍՏԱՆԻ ՀԱՆՐԱՊԵՏՈՒԹՅԱՆ ԿԱՌԱՎԱՐՈՒԹՅԱՆ 2019 ԹՎԱԿԱՆԻ ԴԵԿՏԵՄԲԵՐԻ 26-Ի N 1919-Ն ՈՐՈՇՄԱՆ N 5 ՀԱՎԵԼՎԱԾԻ N 6 ԱՂՅՈՒՍԱԿՈՒՄ ԿԱՏԱՐՎՈՂ ԼՐԱՑՈՒՄԸ
D6: հազար դրամներով
A7: Ծրագրային դասիչը | C7: Բյուջետային հատկացումների գլխավոր կարգադրիչների, ծրագրերի, միջոցառումների և միջոցառումները կատարող պետական մարմինների անվանումները | D7: Ցուցանիշների փոփոխությունը (ավելացումները նշված են դրական նշանով, իսկ նվազեցումները` փակագծերում)
A8: Ծրագիր | B8: Միջոցառում | D8: Տարի
C9: ԸՆԴԱՄԵՆԸ | D9: =+D11 -> 2286594
C10: այդ թվում
A11: ՀՀ տարածքային կառավարման և ենթակառուցվածքների նախարարություն | D11: =+D13 -> 2286594
A12: այդ թվում`
A13: 1212 | B13: Տարածքային զարգացում | D13: =+D14 -> 2286594
B14: 12007 | C14: ՀՀ մարզերին սուբվենցիաների տրամադրում՝ ենթակառուցվածքների զարգացման նպատակով | D14: =D15+D33+D46+D61+D74+D83+D98+D102+D108 -> 2286594
C15: ՀՀ Արագածոտնի մարզպետարան | D15: =SUM(D17:D32) -> 182282.7
C16: այդ թվում` ըստ ուղղությունների
C17: Օշական համայնքի փողոցների ասֆալտապատման աշխատանքների իրականացում | D17: 28986.7
C18: Աշտարակ համայնքի Ներսես Աշտարակեցու N 76, Տիգրան Մեծի NN 2 և 27 բազմաբնակարան շենքերի տանիքների հիմնանորոգում | D18: 13035.7
C19: Տեղեր համայնքի ներհամայնքային փողոցների ասֆալտ-բետոնե ծածկույթի իրականացում և ասֆալտբետոնե ծածկույթի կապիտալ նորոգում | D19: 4324.6
C20: Արագածոտն համայնքի մշակույթի տան տանիքի և շինության մասնակի վերանորոգում | D20: 4730.1
C21: Ոսկեհատ համայնքի 1-ին և 3-րդ փողոցների գազաֆիկացում | D21: 7404.8
C22: Ն. Սասնաշեն համայնքի մշակույթի տան շենքի վերանորոգում | D22: 3098.8
C23: Ն. Սասնաշեն համայնքի Գյուղապետարանի շենքի վերանորոգում | D23: 2173.2
C24: Ագարակ համայնքի արտաքին լուսավորության ցանցի կառուցում | D24: 3479.6
C25: Աղձք համայնքի 13-րդ փողոցի, 13-րդ փողոցի 1-ին նրբանցքի, 5-րդ և 15-րդ փողոցների ասֆալտապատում | D25: 24620.2
C26: Սասունիկ համայնքի ներհամայնքային փողոցների ասֆալտ-բետոնե ծածկույթի իրականացում և կապիտալ նորոգում | D26: 12620.3
C27: Բյուրական համայնքիւ համայնքապետարանի շենքի վերանորոգում և կից պահեստի կառուցում | D27: 3030
C28: Արագածոտն համայնքի մանկապարտեզի վերակառուցում | D28: 49976.2
... C32: Կարբի համայնքի փողոցների արտաքին լուսավորության աշխատանքների իրականացում | D32: 10389.1
C33: ՀՀ Արարատի մարզպետարան | D33: =SUM(D35:D45) -> 213385.9
C34: այդ թվում` ըստ ուղղությունների
C35: Արևաբույր համայնքի 5 փողոցների գազաֆիկացում (Խ. Աբովյան, Պ. Սևակ, Մասիս, Օրբելի, Իսակով Կ. Դեմիրճյան փողոցներ) | D35: 3660
C36: Արմաշ համայնքի լուսավորության համակարգի կառուցում(Ձկնաբուծական, Անտոնյան, Սարալանջ, Ձնաբերդի, Ակադեմիկոս Հայրիյան, Զորավար Անդրանիկ, Պարույր Սևակ, Գործարանային և Երևանյան խճուղի փողոցներ) | D36: 8230.3
C37: Գինեվետ համայնքի 2-րդ փողոցի 2-րդ բնակելի շենքի տանիքի վերակառուցում | D37: 5070.5
C38: Գինեվետ համայնքի զբոսայգու վերակառուցում | D38: 3219.9
C39: Այնթապ համայնքի ներհամայնքային փողոցների ասֆալտապատում (12 փողոցների հիմնանորոգման և 27 գրունտային փողոցների գրունտային աշխատանքներ) | D39: 146142
C40: Դարբնիկ համայնքի փողոցների գազաֆիկացում (Կամո Բալայան, Գլխավոր և 3-րդ, 4-րդ, 5-րդ և 6-րդ թողոցներ) | D40: 5416
C41: Այգեպատ համայնքի Միջնակարգ դպրոց տանող ճանապարհի 395 մետր հատվածի ասֆալտապատում | D41: 14895.8
C42: Արարատ համայնքում ԼԵԴ լուսատուների ձեռքբերում | D42: 2205
C43: Գեղանիստ համայնքում ոռոգման ներտնտեսային ցանցի բարելավման աշխատանքներ | D43: 13418.9
C44: Աբովյան համայնքի երկրորդական փողոցների արտաքին լուսավորության ցանցի կառուցում (աղբյուր Սերոբ﹐Աբովյան﹐Անդրանիկ﹐Բաղրամյան﹐ Բարեկամություն﹐Գ Չաուշ﹐ Խանջյան﹐ Հաղթանակ﹐ Մայիսմեկյան﹐Թեհլերյան փող 1 և 2 նրբանցքներ﹐Վանի﹐ Չարենց﹐Բաղրամյան) | D44: 4743.5
...

Sheet 3
G1: Հավելված N 3
G2: ՀՀ կառավարության 2020 թվականի
G3: ________ N ____-Ն որոշման
A6: ՀԱՅԱՍՏԱՆԻ ՀԱՆՐԱՊԵՏՈՒԹՅԱՆ ԿԱՌԱՎԱՐՈՒԹՅԱՆ 2019 ԹՎԱԿԱՆԻ ԴԵԿՏԵՄԲԵՐԻ 26-Ի N 1919-Ն ՈՐՈՇՄԱՆ N 3 ԵՎ N 4 ՀԱՎԵԼՎԱԾՆԵՐՈՒՄ ԿԱՏԱՐՎՈՂ ՓՈՓՈԽՈՒԹՅՈՒՆՆԵՐԸ ԵՎ ԼՐԱՑՈՒՄՆԵՐԸ
G7: հազար դրամ
A8: Գործառական դասիչը | D8: Ծրագրային դասիչը | F8: Բյուջետային ծախսերի գործառական դասակարգման բաժինների, խմբերի և դասերի, բյուջետային հատկացումների գլխավոր կարգադրիչների, ծրագրերի, միջոցառումների և միջոցառումները կատարող պետական մարմինների անվանումները | G8: Ցուցանիշների փոփոխությունը (ավելացումները նշված են դրական նշանով, իսկ նվազեցումները` փակագծերում)
A9: Բաժին | B9: Խումբ | C9: Դաս | D9: Ծրագիր | E9: Միջոցառում | G9: Տարի
F10: ԸՆԴԱՄԵՆԸ ԾԱԽՍԵՐ | G10: 0
F11: այդ թվում`
A12: 01 | F12: ԸՆԴՀԱՆՈՒՐ ԲՆՈՒՅԹԻ ՀԱՆՐԱՅԻՆ ԾԱՌԱՅՈՒԹՅՈՒՆՆԵՐ | G12: =G14 -> 2286594
F13: այդ թվում`
B14: 08 | F14: Կառավարության տարբեր մակարդակների միջև իրականացվող ընդհանուր բնույթի տրանսֆերտներ | G14: =G16 -> 2286594
F15: այդ թվում`
C16: 01 | F16: Կառավարության տարբեր մակարդակների միջև իրականացվող ընդհանուր բնույթի տրանսֆերտներ | G16: =G20 -> 2286594
F17: այդ թվում`
F18: ՀՀ տարածքային կառավարման և ենթակառուցվածքների նախարարություն | G18: =+G20 -> 2286594
F19: այդ թվում`
D20: 1212 | F20: Տարածքային զարգացում | G20: =G22 -> 2286594
F21: այդ թվում`
E22: 12007 | F22: ՀՀ մարզերին սուբվենցիաների տրամադրում՝ ենթակառուցվածքների զարգացման նպատակով | G22: =G24+G31+G38+G45+G52+G59+G66+G73+G80 -> 2286594
F23: այդ թվում` ըստ կատարողների
F24: ՀՀ Արագածոտնի մարզպետարան | G24: =G27 -> 182282.7
F25: այդ թվում` բյուջետային ծախսերի տնտեսագիտական դասակարգման հոդվածներ
F26: ԸՆԴԱՄԵՆԸ ԾԱԽՍԵՐ | G26: =G27 -> 182282.7
F27: ԸՆԹԱՑԻԿ ԾԱԽՍԵՐ | G27: =G28 -> 182282.7
F28: ԴՐԱՄԱՇՆՈՐՀՆԵՐ | G28: =G29 -> 182282.7
F29: Կապիտալ դրամաշնորհներ պետական հատվածի այլ մակարդակներին | G29: =G30 -> 182282.7
F30: - Կապիտալ սուբվենցիաներ համայնքներին | G30: ='2'!D15 -> 182282.7
F31: ՀՀ Արարատի մարզպետարան | G31: =+G37 -> 213385.9
F32: այդ թվում` բյուջետային ծախսերի տնտեսագիտական դասակարգման հոդվածներ
F33: ԸՆԴԱՄԵՆԸ ԾԱԽՍԵՐ | G33: =G34 -> 213385.9
F34: ԸՆԹԱՑԻԿ ԾԱԽՍԵՐ | G34: =G35 -> 213385.9
F35: ԴՐԱՄԱՇՆՈՐՀՆԵՐ | G35: =G36 -> 213385.9
F36: Կապիտալ դրամաշնորհներ պետական հատվածի այլ մակարդակներին | G36: =G37 -> 213385.9
F37: - Կապիտալ սուբվենցիաներ համայնքներին | G37: ='2'!D33 -> 213385.9
F38: ՀՀ Արմավիրի մարզպետարան | G38: =+G44 -> 99265.6
F39: այդ թվում` բյուջետային ծախսերի տնտեսագիտական դասակարգման հոդվածներ
F40: ԸՆԴԱՄԵՆԸ ԾԱԽՍԵՐ | G40: =G41 -> 99265.6
F41: ԸՆԹԱՑԻԿ ԾԱԽՍԵՐ | G41: =G42 -> 99265.6
F42: ԴՐԱՄԱՇՆՈՐՀՆԵՐ | G42: =G43 -> 99265.6
...

Sheet 4
E1: Հավելված N 4
E2: ՀՀ կառավարության 2020 թվականի
E3: ________ N ____-Ն որոշման
A5: «ՀԱՅԱՍՏԱՆԻ ՀԱՆՐԱՊԵՏՈՒԹՅԱՆ 2020 ԹՎԱԿԱՆԻ ՊԵՏԱԿԱՆ ԲՅՈՒՋԵԻ ՄԱՍԻՆ» ՀԱՅԱՍՏԱՆԻ ՀԱՆՐԱՊԵՏՈՒԹՅԱՆ ՕՐԵՆՔԻ N 1 ՀԱՎԵԼՎԱԾԻ N 4 ԱՂՅՈՒՍԱԿՈՒՄ ԵՎ ՀԱՅԱՍՏԱՆԻ ՀԱՆՐԱՊԵՏՈՒԹՅԱՆ ԿԱՌԱՎԱՐՈՒԹՅԱՆ 2019 ԹՎԱԿԱՆԻ ԴԵԿՏԵՄԲԵՐԻ 26-Ի N 1919-Ն ՈՐՈՇՄԱՆ N 5 ՀԱՎԵԼՎԱԾԻ N 3 ԱՂՅՈՒՍԱԿՈՒՄ ԿԱՏԱՐՎՈՂ ՓՈՓՈԽՈՒԹՅՈՒՆՆԵՐԸ
A7: Ծրագրային դասիչ | C7: Բյուջետային գլխավոր կարգադրիչների, ծրագրերի և միջոցառումների անվանումները | D7: Ցուցանիշների փոփոխությունը (ավելացումները նշված են դրական նշանով, իսկ նվազեցումները` փակագծերում)
D8: Տարի | G8: 1
D9: Ընդամենը | E9: այդ թվում
A10: Ծրագիր | B10: Միջոցառում | E10: Վարկային միջոցներ | F10: Համաֆինան_x000D_- սավորում
C11: ԸՆԴԱՄԵՆԸ այդ թվում | D11: =D12+D13 -> -1876295.2 | E11: =E12+E13 -> 0 | F11: =F12+F13 -> -1876295.2
C12: - ԸՆԹԱՑԻԿ ԾԱԽՍԵՐ | D12: =D106+D98+D117+D28+D36+D44 -> -430923.3 | E12: =E106+E98+E117+E28+E36+E44 -> 0 | F12: =F106+F98+F117+F28+F36+F44 -> -430923.3
C13: - ՈՉ ՖԻՆԱՆՍԱԿԱՆ ԱԿՏԻՎՆԵՐԻ ԳԾՈՎ ԾԱԽՍԵՐ | D13: =D17+D52+D61+D72+D83+D125+D134 -> -1445371.9 | E13: =E19+E54+E61+E72+E83+E125+E134 -> 0 | F13: =F19+F54+F61+F72+F83+F125+F134 -> -1445371.9
C14: ՀՀ ՏԱՐԱԾՔԱՅԻՆ ԿԱՌԱՎԱՐՄԱՆ ԵՎ ԵՆԹԱԿԱՌՈՒՑՎԱԾՔՆԵՐԻ ՆԱԽԱՐԱՐՈՒԹՅՈՒՆ | E14: =E15 -> 0
A15: 1072 | C15: Ջրամատակարարաման և ջրահեռացման բարելավում | D15: =D17 -> -150000 | E15: =E17 -> 0 | F15: =F17 -> -150000
C16: այդ թվում`
B17: 31001 | C17: Գերմանիայի զարգացման վարկերի բանկի աջակցությամբ իրականացվող ջրամատակարարման և ջրահեռացման ենթակառուցվածքների վերականգնման ծրագրի երրորդ փուլի շրջանակներում Ջրամատակարարման և ջրահեռացման ենթակառուցվածքների հիմնանորոգում | D17: =+D19 -> -150000 | F17: =D17 -> -150000
C18: այդ թվում` ըստ կատարողների
C19: ՀՀ տարածքային կառավարման և ենթակառուցվածքների նախարարության ջրային կոմիտե | D19: =+D21 -> -150000 | F19: =+F21 -> -150000
C20: այդ թվում` բյուջետային ծախսերի տնտեսագիտական դասակարգման հոդվածներ
C21: ԸՆԴԱՄԵՆԸ ԾԱԽՍԵՐ | D21: =+D22 -> -150000 | F21: =+F22 -> -150000
C22: ՈՉ ՖԻՆԱՆՍԱԿԱՆ ԱԿՏԻՎՆԵՐԻ ԳԾՈՎ ԾԱԽՍԵՐ | D22: =+D23 -> -150000 | F22: =+F23 -> -150000
C23: ՀԻՄՆԱԿԱՆ ՄԻՋՈՑՆԵՐ | D23: =+D24 -> -150000 | F23: =+F24 -> -150000
C24: ՇԵՆՔԵՐ ԵՎ ՇԻՆՈՒԹՅՈՒՆՆԵՐ | D24: =+D25 -> -150000 | F24: =+F25 -> -150000
C25: - Շենքերի և շինությունների շինարարություն | D25: =-150000 -> -150000 | F25: =-150000 -> -150000
A26: 1004 | C26: Ոռոգման ծառայությունների հասանելիության և մատչելիության ապահովում | D26: =+D28+D36+D44+D52+D61 -> -432328.2 | F26: =F28+F36+F44+F52+F61 -> -432328.2
C27: այդ թվում`
B28: 11005 | C28: Եվրասիական զարգացման բանկի աջակցությամբ իրականացվող ոռոգման համակարգերի զարգացման ծրագրի խորհրդատվություն և կառավարում | D28: =D30 -> -72680.9 | F28: =F30 -> -72680.9
C29: այդ թվում` ըստ կատարողների
C30: ՀՀ տարածքային կառավարման և ենթակառուցվածքների նախարարության ջրային կոմիտե | D30: -72680.9 | F30: -72680.9
C31: այդ թվում` բյուջետային ծախսերի տնտեսագիտական դասակարգման հոդվածներ | D31: -72680.9 | F31: -72680.9
C32: ԸՆԴԱՄԵՆԸ ԾԱԽՍԵՐ | D32: -72680.9 | F32: -72680.9
C33: ԸՆԹԱՑԻԿ ԾԱԽՍԵՐ | D33: -72680.9 | F33: -72680.9
C34: ԱՅԼ ԾԱԽՍԵՐ | D34: -72680.9 | F34: -72680.9
C35: Այլ ծախսեր | D35: -72680.9 | F35: -72680.9
B36: 11008 | C36: Գերմանիայի զարգացման վարկերի բանկի աջակցությամբ իրականացվող Ախուրյան գետի ջրային ռեսուրսների ինտեգրացված կառավարման ծրագրի երկրորդ փուլի խորհրդատվություն և կառավարում | D36: -47857.5 | F36: -47857.5
C37: այդ թվում` ըստ կատարողների
C38: ՀՀ տարածքային կառավարման և ենթակառուցվածքների նախարարության ջրային կոմիտե | D38: -47857.5 | F38: -47857.5
C39: այդ թվում` բյուջետային ծախսերի տնտեսագիտական դասակարգման հոդվածներ | D39: -47857.5 | F39: -47857.5
C40: ԸՆԴԱՄԵՆԸ ԾԱԽՍԵՐ | D40: -47857.5 | F40: -47857.5
C41: ԸՆԹԱՑԻԿ ԾԱԽՍԵՐ | D41: -47857.5 | F41: -47857.5
C42: ԱՅԼ ԾԱԽՍԵՐ | D42: -47857.5 | F42: -47857.5
...

Sheet 5
E1: Հավելված N 5
E2: ՀՀ կառավարության 2020 թվականի
E3: ________ N ____-Ն որոշման
A5: «ՀԱՅԱՍՏԱՆԻ ՀԱՆՐԱՊԵՏՈՒԹՅԱՆ 2020 ԹՎԱԿԱՆԻ ՊԵՏԱԿԱՆ ԲՅՈՒՋԵԻ ՄԱՍԻՆ» ՀԱՅԱՍՏԱՆԻ ՀԱՆՐԱՊԵՏՈՒԹՅԱՆ ՕՐԵՆՔԻ N 1 ՀԱՎԵԼՎԱԾԻ N 5 ԱՂՅՈՒՍԱԿՈՒՄ ԵՎ ՀԱՅԱՍՏԱՆԻ ՀԱՆՐԱՊԵՏՈՒԹՅԱՆ ԿԱՌԱՎԱՐՈՒԹՅԱՆ 2019 ԹՎԱԿԱՆԻ ԴԵԿՏԵՄԲԵՐԻ 26-Ի N 1919-Ն ՈՐՈՇՄԱՆ N 5 ՀԱՎԵԼՎԱԾԻ N4 ԱՂՅՈՒՍԱԿՈՒՄ ԿԱՏԱՐՎՈՂ ՓՈՓՈԽՈՒԹՅՈՒՆՆԵՐԸ
A7: Ծրագրային դասիչ | C7: Բյուջետային գլխավոր կարգադրիչների, ծրագրերի և միջոցառումների անվանումները | D7: Ցուցանիշների փոփոխությունը (ավելացումները նշված են դրական նշանով, իսկ նվազեցումները` փակագծերում)
D8: Տարի
D9: Ընդամենը | E9: այդ թվում
A10: Ծրագիր | B10: Միջոցառում | E10: Դրամաշնորհային միջոցներ | F10: Համաֆինան_x000D_- սավորում
C11: ԸՆԴԱՄԵՆԸ այդ թվում | D11: =D15+D24 -> -410298.8 | E11: =E14 -> - | F11: =F15+F24 -> -410298.8
C12: - ԸՆԹԱՑԻԿ ԾԱԽՍԵՐ | D12: =+D14+D27 -> 0 | E12: - | F12: =F16+F25 -> 0
C13: - ՈՉ ՖԻՆԱՆՍԱԿԱՆ ԱԿՏԻՎՆԵՐԻ ԳԾՈՎ ԾԱԽՍԵՐ | D13: =+D15+D28 -> -410298.8 | F13: =F17+F26 -> -410298.8
C14: ՀՀ ՏԱՐԱԾՔԱՅԻՆ ԿԱՌԱՎԱՐՄԱՆ ԵՎ ԵՆԹԱԿԱՌՈՒՑՎԱԾՔՆԵՐԻ ՆԱԽԱՐԱՐՈՒԹՅՈՒՆ | D14: =+D16+D29 -> 0 | E14: =E15 -> -
A15: 1072 | C15: Ջրամատակարարման և ջրահեռացման բարելավում | D15: =+D17 -> -10298.8 | E15: - | F15: =+F23 -> -10298.8
C16: այդ թվում`
B17: 12001 | C17: Գերմանիայի զարգացման և Եվրոպական միության հարևանության ներդրումային բանկի աջակցությամբ իրականացվող ջրամատակարարման և ջրահեռացման ենթակառուցվածքների դրամաշնորհային ծրագիր` երրորդ փուլ | D17: =+D19 -> -10298.8 | E17: 0 | F17: =+F23 -> -10298.8
C18: այդ թվում` ըստ կատարողների
C19: ՀՀ տարածքային կառավարման և ենթակառուցվածքների նախարարություն ջրային կոմիտե | D19: =+D20 -> -10298.8 | E19: =E17 -> 0 | F19: =+F23 -> -10298.8
C20: այդ թվում` բյուջետային ծախսերի տնտեսագիտական դասակարգման հոդվածներ | D20: =+D22 -> -10298.8 | F20: =+F23 -> -10298.8
C21: ՈՉ ՖԻՆԱՆՍԱԿԱՆ ԱԿՏԻՎՆԵՐԻ ԳԾՈՎ ԾԱԽՍԵՐ | D21: =E21 -> 0 | E21: 0 | F21: 0
C22: ԱՅԼ ՀԻՄՆԱԿԱՆ ՄԻՋՈՑՆԵՐ | D22: =+D23 -> -10298.8 | F22: =+F23 -> -10298.8
C23: Նախագծահետազոտական ծախսեր | D23: ='1'!D124 -> -10298.8 | F23: ='1'!D124 -> -10298.8
A24: 1049 | C24: Ճանապարհային ցանցի բարելավում | D24: =D26 -> -400000 | E24: =E26 -> 0 | F24: =F26 -> -400000
C25: այդ թվում`
B26: 11013 | C26: Եվրոպական ներդրումային բանկի աջակցությամբ իրականացվող Հյուսիս-հարավ միջանցքի զարգացման դրամաշնորհային ծրագրի համակարգում և կառավարում | D26: =F26 -> -400000 | F26: ='3'!G228 -> -400000
C27: այդ թվում` ըստ կատարողների
C28: ՀՀ տարածքային կառավարման և ենթակառուցվածքների նախարարություն | D28: =F28 -> -400000 | F28: ='3'!G230 -> -400000
C29: այդ թվում` բյուջետային ծախսերի տնտեսագիտական դասակարգման հոդվածներ | D29: =F29 -> 0 | F29: ='3'!G231 -> 0
C30: ԸՆԴԱՄԵՆԸ ԾԱԽՍԵՐ | D30: =F30 -> -400000 | F30: ='3'!G232 -> -400000
C31: ԸՆԹԱՑԻԿ ԾԱԽՍԵՐ | D31: =F31 -> -400000 | F31: ='3'!G233 -> -400000
C32: ԱՅԼ ԾԱԽՍԵՐ | D32: =F32 -> -400000 | F32: ='3'!G234 -> -400000
C33: Այլ ծախսեր | D33: =F33 -> -400000 | F33: ='3'!G235 -> -400000

Sheet 6
C1: Հավելված N6
C2: ՀՀ կառավարության 2020թ
C3: ---------ի N ----------- որոշման
A6: ՀԱՅԱՍՏԱՆԻ ՀԱՆՐԱՊԵՏՈՒԹՅԱՆ ԿԱՌԱՎԱՐՈՒԹՅԱՆ 2019 ԹՎԱԿԱՆԻ ԴԵԿՏԵՄԲԵՐԻ 26-Ի N 1919-Ն ՈՐՈՇՄԱՆ N 9 ՀԱՎԵԼՎԱԾԻ N 9.8 ԱՂՅՈՒՍԱԿՈՒՄ ԿԱՏԱՐՎՈՂ ՓՈՓՈԽՈՒԹՅՈՒՆՆԵՐԸ
B8: ՀՀ տարածքային կառավարման և ենթակառուցվածքների նախարարություն
A9: ՄԱՍ2. ՊԵՏԱԿԱՆ ՄԱՐՄՆԻ ԳԾՈՎ ԱՐԴՅՈՒՆՔԱՅԻՆ (ԿԱՏԱՐՈՂԱԿԱՆ) ՑՈՒՑԱՆԻՇՆԵՐԸ
A11: Ծրագրի դասիչը | B11: Ծրագրի անվանումը
A12: 1212 | B12: Տարածքային զարգացում
A14: Ծրագրի միջոցառումները
A16: Ծրագրի դասիչը` | B16: 1212 | C16: Ցուցանիշների փոփոխությունը (ավելացումները նշված են դրական նշանով)
A17: Միջոցառման դասիչը` | B17: 12007 | C17: Տարի
A18: Միջոցառման անվանումը` | B18: ՀՀ մարզերին սուբվենցիաների տրամադրում՛ ենթակառուցվածքների զարգացման նպատակով_x000D_
A19: Նկարագրությունը` | B19: ՀՀ մարզերին սուբվենցիաների տրամադրում՛ ենթակառուցվածքների զարգացման նպատակով
A20: Միջոցառման տեսակը` | B20: Տրանսֆերտների տրամադրում
A21: Միջոցառումն իրականացնողի անվանումը | B21: ՀՀ համայնքներ
A22: Արդյունքի չափորոշիչներ
A23: Համայնքների թիվ | C23: ='7'!D187+'7'!D206+'7'!D224+'7'!D242+'7'!D260+'7'!D278+'7'!D296+'7'!D314+'7'!D332 -> 62
A24: Միջոցառման վրա կատարվող ծախսը (հազար դրամ) | C24: =-(C41+C53+C62+C71+C80+C92+C102+C116+C129+C138+C147+C156+C165+C174+C183) -> 2286594
A26: Ծրագրի դասիչը | B26: Ծրագրի անվանումը
A27: 1072 | B27: Ջրամատակարարաման և ջրահեռացման բարելավում
A29: Ծրագրի միջոցառումները
A31: Ծրագրի դասիչը` | B31: 1072 | C31: Ցուցանիշների փոփոխությունը (նվազեցումները նշված են փակագծերում)
A32: Միջոցառման դասիչը` | B32: 12001 | C32: Տարի
A33: Միջոցառման անվանումը` | B33: Գերմանիայի զարգացման և Եվրոպական միության հարևանության ներդրումային բանկի աջակցությամբ իրականացվող ջրամատակարարման և ջրահեռացման ենթակառուցվածքների դրամաշնորհային ծրագիր` երրորդ փուլ
A34: Նկարագրությունը` | B34: 579 գյուղական բնակավայրերից ընտրված որոշ համայնքների ջրամատակարարման և ջրահեռացման համակարգերի հատվածների հրատապ վերականգնման աշխատանքների իրականացում ինչպես նաև՛ Արմավիրի կեղտաջրերի մաքրման կայանի կառուցում
A35: Միջոցառման տեսակը` | B35: Տրանսֆերտների տրամադրում
A36: Ծառայությունը մատուցող կազմակերպության անվանումը | B36: Մասնագիտացված միավոր
A37: Արդյունքի չափորոշիչներ
A38: Նորոգվող ջրագծերի երկարություն, կմ | C38: 0
A39: Նորոգվող կոյուղագծերի երկարություն, կմ | C39: 0
A40: Նորոգվող տնային միացումներ, հատ | C40: 0
A41: Միջոցառման վրա կատարվող ծախսը (հազար դրամ) | C41: ='1'!D124 -> -10298.8
A42: Ծրագրի միջոցառումները
A43: Ծրագրի դասիչը` | B43: 1072 | C43: Ցուցանիշների փոփոխությունը (նվազեցումները նշված են փակագծերում)
A44: Միջոցառման դասիչը` | B44: 31001 | C44: Տարի
A45: Միջոցառման անվանումը` | B45: Գերմանիայի զարգացման վարկերի բանկի աջակցությամբ իրականացվող ջրամատակարարման և ջրահեռացման ենթակառուցվածքների վերականգնման ծրագրի երրորդ փուլի շրջանակներում Ջրամատակարարման և ջրահեռացման ենթակառուցվածքների հիմնանորոգում
A46: Նկարագրությունը` | B46: 6 քաղաքների և 37 գյուղական բնակավայրերի ջրամատակարարման և ջրահեռացման համակարգերի հատվածների հրատապ (մասնակի) վերականգնման աշխատանքներ
A47: Միջոցառման տեսակը` | B47: Պետական մարմինների կողմից օգտագործվող ոչ ֆինանսական ակտիվների հետ գործառնություններ
A48: Ծառայությունը մատուցող կազմակերպության անվանումը | B48: Մասնագիտացված միավոր
A49: Արդյունքի չափորոշիչներ
...

Sheet 7
D1: Հավելված N7
D2: ՀՀ կառավարության 2020թ
D3: ---------ի N ----------- որոշման
A6: ՀԱՅԱՍՏԱՆԻ ՀԱՆՐԱՊԵՏՈՒԹՅԱՆ ԿԱՌԱՎԱՐՈՒԹՅԱՆ 2019 ԹՎԱԿԱՆԻ ԴԵԿՏԵՄԲԵՐԻ 26-Ի N 1919-Ն ՈՐՈՇՄԱՆ N 9.1 ՀԱՎԵԼՎԱԾԻ N 9.1.26 ԱՂՅՈՒՍԱԿՈՒՄ ԿԱՏԱՐՎՈՂ ՓՈՓՈԽՈՒԹՅՈՒՆՆԵՐԸ
A7: ՀՀ տարածքային կառավարման և ենթակառուցվածքների նախարարության ջրային կոմիտե
A8: ՄԱՍ1. ՊԵՏԱԿԱՆ ՄԱՐՄՆԻ ԳԾՈՎ ԱՐԴՅՈՒՆՔԱՅԻՆ (ԿԱՏԱՐՈՂԱԿԱՆ) ՑՈՒՑԱՆԻՇՆԵՐԸ
B10: Ծրագրի դասիչը | C10: Ծրագրի անվանումը
B11: 1072 | C11: Ջրամատակարարաման և ջրահեռացման բարելավում
B13: Ծրագրի միջոցառումները
B15: Ծրագրի դասիչը` | C15: 1072 | D15: Ցուցանիշների փոփոխությունը (նվազեցումները նշված են փակագծերում)
B16: Միջոցառման դասիչը` | C16: 12001 | D16: Տարի
B17: Միջոցառման անվանումը` | C17: Գերմանիայի զարգացման և Եվրոպական միության հարևանության ներդրումային բանկի աջակցությամբ իրականացվող ջրամատակարարման և ջրահեռացման ենթակառուցվածքների դրամաշնորհային ծրագիր` երրորդ փուլ
B18: Նկարագրությունը` | C18: 579 գյուղական բնակավայրերից ընտրված որոշ համայնքների ջրամատակարարման և ջրահեռացման համակարգերի հատվածների հրատապ վերականգնման աշխատանքների իրականացում ինչպես նաև՛ Արմավիրի կեղտաջրերի մաքրման կայանի կառուցում
B19: Միջոցառման տեսակը` | C19: Տրանսֆերտների տրամադրում
B20: Ծառայությունը մատուցող կազմակերպության անվանումը | C20: Մասնագիտացված միավոր
B21: Արդյունքի չափորոշիչներ
B22: Նորոգվող ջրագծերի երկարություն, կմ | D22: 0
B23: Նորոգվող կոյուղագծերի երկարություն, կմ | D23: 0
B24: Նորոգվող տնային միացումներ, հատ | D24: 0
B25: Միջոցառման վրա կատարվող ծախսը (հազար դրամ) | D25: ='6'!C41 -> -10298.8
B26: Ծրագրի միջոցառումները
B27: Ծրագրի դասիչը` | C27: 1072 | D27: Ցուցանիշների փոփոխությունը (նվազեցումները նշված են փակագծերում)
B28: Միջոցառման դասիչը` | C28: 31001 | D28: Տարի
B29: Միջոցառման անվանումը` | C29: Գերմանիայի զարգացման վարկերի բանկի աջակցությամբ իրականացվող ջրամատակարարման և ջրահեռացման ենթակառուցվածքների վերականգնման ծրագրի երրորդ փուլի շրջանակներում Ջրամատակարարման և ջրահեռացման ենթակառուցվածքների հիմնանորոգում
B30: Նկարագրությունը` | C30: 6 քաղաքների և 37 գյուղական բնակավայրերի ջրամատակարարման և ջրահեռացման համակարգերի հատվածների հրատապ (մասնակի) վերականգնման աշխատանքներ
B31: Միջոցառման տեսակը` | C31: Պետական մարմինների կողմից օգտագործվող ոչ ֆինանսական ակտիվների հետ գործառնություններ
B32: Ծառայությունը մատուցող կազմակերպության անվանումը | C32: Մասնագիտացված միավոր
B33: Արդյունքի չափորոշիչներ
B34: Նորոգվող ջրագծերի երկարություն, կմ | D34: 0
B35: Նորոգվող կոյուղագծերի երկարություն, կմ | D35: 0
B36: Նորոգվող տնային միացումներ, հատ | D36: 0
B37: Միջոցառման վրա կատարվող ծախսը (հազար դրամ) | D37: ='6'!C53 -> -150000
B38: Ծրագրի դասիչը` | C38: 1004 | D38: Ցուցանիշների փոփոխությունը (նվազեցումները նշված են փակագծերում)
B39: Միջոցառման դասիչը` | C39: 11005 | D39: Տարի
B40: Միջոցառման անվանումը` | C40: Եվրասիական զարգացման բանկի աջակցությամբ իրականացվող ոռոգման համակարգերի զարգացման ծրագրի խորհրդատվություն և կառավարում
B41: Նկարագրությունը` | C41: Եվրասիական զարգացման բանկի աջակցությամբ իրականացվող ոռոգման համակարգերի զարգացման ծրագրի համակարգում և ղեկավարում
B42: Միջոցառման տեսակը` | C42: Ծառայությունների մատուցում
B43: Ակտիվն օգտագործող կազմակերպության(ների) անվանում(ները)՛ | C43: Մասնագիտատացված միավոր
B44: Արդյունքի չափորոշիչներ
B45: Կառավարվող/վերահսկվող պայմանագրերի քանակ, հատ | D45: 0
...
