Workbook

Sheet 1
D1: Հավելված N 1
D2: ՀՀ կառավարության 2020 թվականի
D3: ________ N ____-Ն որոշման
A5: «ՀԱՅԱՍՏԱՆԻ ՀԱՆՐԱՊԵՏՈՒԹՅԱՆ 2020 ԹՎԱԿԱՆԻ ՊԵՏԱԿԱՆ ԲՅՈՒՋԵԻ ՄԱՍԻՆ» ՀԱՅԱՍՏԱՆԻ ՀԱՆՐԱՊԵՏՈՒԹՅԱՆ ՕՐԵՆՔԻ N 1 ՀԱՎԵԼՎԱԾԻ N 2 ԱՂՅՈՒՍԱԿՈՒՄ ԿԱՏԱՐՎՈՂ ՎԵՐԱԲԱՇԽՈՒՄԸ ԵՎ ՀԱՅԱՍՏԱՆԻ ՀԱՆՐԱՊԵՏՈՒԹՅԱՆ ԿԱՌԱՎԱՐՈՒԹՅԱՆ 2019 ԹՎԱԿԱՆԻ ԴԵԿՏԵՄԲԵՐԻ 26-Ի N 1919-Ն ՈՐՈՇՄԱՆ N 5 ՀԱՎԵԼՎԱԾԻ N 1 ԱՂՅՈՒՍԱԿՈՒՄ ԿԱՏԱՐՎՈՂ ՓՈՓՈԽՈՒԹՅՈՒՆՆԵՐԸ
C6: հազար դրամներով
A7: Ծրագրային դասիչը | C7: Բյուջետային գլխավոր կարգադրիչների, ծրագրերի և միջոցառումների անվանումները | D7: Ցուցանիշների փոփոխությունը (ավելացումները նշված են դրական նշանով, իսկ նվազեցումները` փակագծերում)
A8: Ծրագիր | B8: Միջոցառում | D8: Տարի
C9: ԸՆԴԱՄԵՆԸ | D9: 0
C10: ՀՀ տարածքային կառավարման և ենթակառուցվածքների նախարարություն | D10: -
A11: 1019 | C11: Ծրագրի անվանումը` | D11: =+D18 -> -325440.9
C12: Սոցիալական ներդրումների և տեղական զարգացման ծրագիր
C13: Ծրագրի նպատակը`
C14: Նպաստել տարածքներում բնակչության նյութական և ոչ նյութական բարեկեցության աճին
C15: Վերջնական արդյունքի նկարագրությունը`
C16: Համայնքային և միջհամայնքային ենթակառուցվածքների և որակի հասանելիության բարելավում՝ ինստիտուցիոնալ և ֆինանասական կարողությունների հզորացում
A17: Ծրագրի միջոցառումներ
B18: 12001 | C18: Միջոցառման անվանումը` | D18: -325440.9
C19: Համաշխարհային բանկի աջակցությամբ իրականացվող Տարածքային զարգացման հիմնադրամի ծրագրի շրջանակներում ՀՀ տարածքներում ջրագծերի՝ առողջապահության՝ կրթության՝ մշակույթի՝ հատուկ խնամքի և ենթակառուցվածքների ոլորտի վերականգնման և շինարարության աշխատանքներ
C20: Միջոցառման նկարագրությունը`
C21: Տարածքային զարգացման հիմնադրամի ծրագրով նախատեսված ՀՀ տարածքներում ջրագծերի՝ առողջապահության՝ կրթության օբյեկտների՝ մշակույթային տների՝ ծերանոցների՝ մանկատների՝ հատուկ դպրոցների՝ մանկապարտեզների և կոյուղու օբյեկտների հիմնանորոգում և շինարարություն
C22: Միջոցառման տեսակը
C23: Տրանսֆերտների տրամադրում
A24: 1189 | C24: Ծրագրի անվանումը` | D24: =+D31 -> -336526.1
C25: Դպրոցների սեյսմիկ անվտանգության մակարդակի բարձրացման
C26: Ծրագրի նպատակը`
C27: Նպաստել երկրի սեյսմակայունության ապահովմանը՝ անհատական և հասարակական անվտանգության մակարդակի բարձրացմանը
C28: Վերջնական արդյունքի նկարագրությունը`
C29: Դպրոցական շենքերի սեյսմակայունության մակարդակի բարձրացում
A30: Ծրագրի միջոցառումներ
B31: 12001 | C31: Միջոցառման անվանումը` | D31: -336526.1
C32: Ասիական զարգացման բանկի աջակցությամբ իրականացվող դպրոցների սեյսմիկ պաշտպանության ծրագրի շրջանակներում ՀՀ դպրոցների սեյսմիկ անվտանգության բարելավմանն ուղղված
C33: Միջոցառման նկարագրությունը`
C34: Դպրոցների շենքերի ամրացման շինարարական աշխատանքներ՝ շինարարական ստանդարտների արդիականացում՝ արտակարգ իրավիճակներին արձագանքման ծրագրի մշակում՝ սեյսմիկ մոնիտորինգի դիտակետերի սարքավորումների արդիականացում:
C35: Միջոցառման տեսակը
C36: Տրանսֆերտների տրամադրում
A37: 1004 | C37: Ծրագրի անվանումը` | D37: =+D44+D50+D56+D62+D68 -> -432328.2
C38: Ոռոգման համակարգի առողջացում
C39: Ծրագրի նպատակը`
C40: Ոռոգման ծառայությունների հասանելիության և մատչելիության ապահովում
C41: Վերջնական արդյունքի նկարագրությունը`
C42: Ոռոգման ջրի մատակարարման արդյունավետության և հասանելիության բարելավում՝ կորուստների կրճատում
A43: Ծրագրի միջոցառումներ
B44: 11005 | C44: Միջոցառման անվանումը` | D44: -72680.9
C45: Եվրասիական զարգացման բանկի աջակցությամբ իրականացվող ոռոգման համակարգերի զարգացման ծրագրի խորհրդատվություն և կառավարում
C46: Միջոցառման նկարագրությունը`
C47: Եվրասիական զարգացման բանկի աջակցությամբ իրականացվող ոռոգման համակարգերի զարգացման ծրագրի համակարգում և ղեկավարում
C48: Միջոցառման տեսակը
C49: Ծառայությունների մատուցում
B50: 11008 | C50: Միջոցառման անվանումը` | D50: -47857.5
C51: Գերմանիայի զարգացման վարկերի բանկի աջակցությամբ իրականացվող Ախուրյան գետի ջրային ռեսուրսների ինտեգրացված կառավարման ծրագրի երկրորդ փուլի խորհրդատվություն և կառավարում
C52: Միջոցառման նկարագրությունը`
C53: Գերմանիայի զարգացման վարկերի բանկի աջակցությամբ իրականացվող Ախուրյան գետի ջրային ռեսուրսների ինտեգրացված կառավարման ծրագրի երկրորդ փուլի համակարգում և ղեկավարում
C54: Միջոցառման տեսակը
C55: Ծառայությունների մատուցում
B56: 11010 | C56: Միջոցառման անվանումը` | D56: =-28384.9 -> -28384.9
C57: Գերմանիայի զարգացման վարկերի բանկի աջակցությամբ իրականացվող Ախուրյան գետի ջրային ռեսուրսների ինտեգրացված կառավարում փուլ 1 ծրագրով Ջրաձոր գյուղի վերաբնակեցման գործողությունների խորհրդատվություն և կառավարում
C58: Միջոցառման նկարագրությունը`
C59: Գերմանիայի զարգացման վարկերի բանկի աջակցությամբ իրականացվող Ախուրյան գետի ջրային ռեսուրսների ինտեգրացված կառավարում փուլ 1 ծրագրով Ջրաձոր գյուղի վերաբնակեցման գործողությունների համակարգում և ղեկավարում
C60: Միջոցառման տեսակը
C61: Ծառայությունների մատուցում
B62: 31001 | C62: Միջոցառման անվանումը` | D62: -216666.7
C63: Ֆրանսիայի Հանրապետության կառավարության աջակցությամբ իրականացվող Վեդու ջրամբարի կառուցում
C64: Միջոցառման նկարագրությունը`
C65: Ֆրանսիայի Հանրապետության կառավարության աջակցությամբ իրականացվող Վեդու ջրամբարի կառուցման ծրագիր
C66: Միջոցառման տեսակը
C67: Պետական մարմինների կողմից օգտագործվող ոչ ֆինանսական ակտիվների հետ գործառնություններ
B68: 31005 | C68: Միջոցառման անվանումը` | D68: -66738.2
C69: Եվրասիական զարգացման բանկի աջակցությամբ իրականացվող ոռոգման համակարգերի զարգացման ծրագրի շրջանակներում ջրային տնտեսության ենթակառուցվածքների հիմնանորոգում
C70: Միջոցառման նկարագրությունը`
C71: Եվրասիական զարգացման բանկի աջակցությամբ իրականացվող ոռոգման համակարգերի զարգացման ծրագիր
C72: Միջոցառման տեսակը
C73: Պետական մարմինների կողմից օգտագործվող ոչ ֆինանսական ակտիվների հետ գործառնություններ
A74: 1049 | C74: Ծրագրի անվանումը` | D74: =+D81+D87+D93+D99+D105+D111 -> -1032000
C75: Ճանապարհային ցանցի բարելավում
C76: Ծրագրի նպատակը`
C77: Ճանապարհային ցանցի բարելավում և անվտանգ երթևեկության ապահովում
C78: Վերջնական արդյունքի նկարագրությունը`
C79: Ճանապարհների ծածկի որակի և փոխադրումների արդյունավետության բարելավում՝ ճանապարհների վիճակով պայմանավորված պատահարների նվազում
A80: Ծրագրի միջոցառումներ
B81: 11005 | C81: Միջոցառման անվանումը` | D81: -14000
C82: Համաշխարհային բանկի աջակցությամբ իրականացվող Կենսական նշանակության ճանապարհային ցանցի բարելավման ծրագրի շրջանակներում համակարգում և կառավարում
C83: Միջոցառման նկարագրությունը`
C84: Խորհրդատվական ծառայություններ
C85: Միջոցառման տեսակը
C86: Ծառայությունների մատուցում
B87: 11012 | C87: Միջոցառման անվանումը` | D87: -250000
C88: Եվրասիական զարգացման բանկի աջակցությամբ իրականացվող Հյուսիս-հարավ միջանցքի զարգացման ծրագրի համակարգում և կառավարում
C89: Միջոցառման նկարագրությունը`
C90: Խորհրդատվական ծառայություններ և պահպանման ծախսեր
C91: Միջոցառման տեսակը
C92: Ծառայությունների մատուցում
B93: 11013 | C93: Միջոցառման անվանումը` | D93: -400000
C94: Եվրոպական ներդրումային բանկի աջակցությամբ իրականացվող Հյուսիս-հարավ միջանցքի զարգացման դրամաշնորհային ծրագրի համակարգում և կառավարում
C95: Միջոցառման նկարագրությունը`
C96: Խորհրդատվական ծառայություններ
C97: Միջոցառման տեսակը
C98: Ծառայությունների մատուցում
B99: 11014 | C99: Միջոցառման անվանումը` | D99: -18000
C100: Կենսական նշանակության ճանապարհային ցանցի բարելավման երկրորդ լրացուցիչ ֆինանսավորման ծրագրի համակարգում և կառավարում
C101: Միջոցառման նկարագրությունը`
...

Sheet 2
D1: Հավելված N 2
B2: Կառավարության 2020 թվականի
B3: ________ N ____-Ն որոշման
A5: «ՀԱՅԱՍՏԱՆԻ ՀԱՆՐԱՊԵՏՈՒԹՅԱՆ 2020 ԹՎԱԿԱՆԻ ՊԵՏԱԿԱՆ ԲՅՈՒՋԵԻ ՄԱՍԻՆ» ՀԱՅԱՍՏԱՆԻ ՀԱՆՐԱՊԵՏՈՒԹՅԱՆ ՕՐԵՆՔԻ N 1 ՀԱՎԵԼՎԱԾԻ N 7 ԱՂՅՈՒՍԱԿՈՒՄ ԵՎ ՀԱՅԱՍՏԱՆԻ ՀԱՆՐԱՊԵՏՈՒԹՅԱՆ ԿԱՌԱՎԱՐՈՒԹՅԱՆ 2019 ԹՎԱԿԱՆԻ ԴԵԿՏԵՄԲԵՐԻ 26-Ի N 1919-Ն ՈՐՈՇՄԱՆ N 5 ՀԱՎԵԼՎԱԾԻ N 6 ԱՂՅՈՒՍԱԿՈՒՄ ԿԱՏԱՐՎՈՂ ԼՐԱՑՈՒՄԸ
D6: հազար դրամներով
A7: Ծրագրային դասիչը | C7: Բյուջետային հատկացումների գլխավոր կարգադրիչների, ծրագրերի, միջոցառումների և միջոցառումները կատարող պետական մարմինների անվանումները | D7: Ցուցանիշների փոփոխությունը (ավելացումները նշված են դրական նշանով, իսկ նվազեցումները` փակագծերում)
A8: Ծրագիր | B8: Միջոցառում | D8: Տարի
C9: ԸՆԴԱՄԵՆԸ | D9: =+D11 -> 2286594
C10: այդ թվում
A11: ՀՀ տարածքային կառավարման և ենթակառուցվածքների նախարարություն | D11: =+D13 -> 2286594
A12: այդ թվում`
A13: 1212 | B13: Տարածքային զարգացում | D13: =+D14 -> 2286594
B14: 12007 | C14: ՀՀ մարզերին սուբվենցիաների տրամադրում՝ ենթակառուցվածքների զարգացման նպատակով | D14: =D15+D33+D46+D61+D74+D83+D98+D102+D108 -> 2286594
C15: ՀՀ Արագածոտնի մարզպետարան | D15: =SUM(D17:D32) -> 182282.7
C16: այդ թվում` ըստ ուղղությունների
C17: Օշական համայնքի փողոցների ասֆալտապատման աշխատանքների իրականացում | D17: 28986.7
C18: Աշտարակ համայնքի Ներսես Աշտարակեցու N 76, Տիգրան Մեծի NN 2 և 27 բազմաբնակարան շենքերի տանիքների հիմնանորոգում | D18: 13035.7
C19: Տեղեր համայնքի ներհամայնքային փողոցների ասֆալտ-բետոնե ծածկույթի իրականացում և ասֆալտբետոնե ծածկույթի կապիտալ նորոգում | D19: 4324.6
C20: Արագածոտն համայնքի մշակույթի տան տանիքի և շինության մասնակի վերանորոգում | D20: 4730.1
C21: Ոսկեհատ համայնքի 1-ին և 3-րդ փողոցների գազաֆիկացում | D21: 7404.8
C22: Ն. Սասնաշեն համայնքի մշակույթի տան շենքի վերանորոգում | D22: 3098.8
C23: Ն. Սասնաշեն համայնքի Գյուղապետարանի շենքի վերանորոգում | D23: 2173.2
C24: Ագարակ համայնքի արտաքին լուսավորության ցանցի կառուցում | D24: 3479.6
C25: Աղձք համայնքի 13-րդ փողոցի, 13-րդ փողոցի 1-ին նրբանցքի, 5-րդ և 15-րդ փողոցների ասֆալտապատում | D25: 24620.2
C26: Սասունիկ համայնքի ներհամայնքային փողոցների ասֆալտ-բետոնե ծածկույթի իրականացում և կապիտալ նորոգում | D26: 12620.3
C27: Բյուրական համայնքիւ համայնքապետարանի շենքի վերանորոգում և կից պահեստի կառուցում | D27: 3030
C28: Արագածոտն համայնքի մանկապարտեզի վերակառուցում | D28: 49976.2
... C32: Կարբի համայնքի փողոցների արտաքին լուսավորության աշխատանքների իրականացում | D32: 10389.1
C33: ՀՀ Արարատի մարզպետարան | D33: =SUM(D35:D45) -> 213385.9
C34: այդ թվում` ըստ ուղղությունների
C35: Արևաբույր համայնքի 5 փողոցների գազաֆիկացում (Խ. Աբովյան, Պ. Սևակ, Մասիս, Օրբելի, Իսակով Կ. Դեմիրճյան փողոցներ) | D35: 3660
C36: Արմաշ համայնքի լուսավորության համակարգի կառուցում(Ձկնաբուծական, Անտոնյան, Սարալանջ, Ձնաբերդի, Ակադեմիկոս Հայրիյան, Զորավար Անդրանիկ, Պարույր Սևակ, Գործարանային և Երևանյան խճուղի փողոցներ) | D36: 8230.3
C37: Գինեվետ համայնքի 2-րդ փողոցի 2-րդ բնակելի շենքի տանիքի վերակառուցում | D37: 5070.5
C38: Գինեվետ համայնքի զբոսայգու վերակառուցում | D38: 3219.9
C39: Այնթապ համայնքի ներհամայնքային փողոցների ասֆալտապատում (12 փողոցների հիմնանորոգման և 27 գրունտային փողոցների գրունտային աշխատանքներ) | D39: 146142
C40: Դարբնիկ համայնքի փողոցների գազաֆիկացում (Կամո Բալայան, Գլխավոր և 3-րդ, 4-րդ, 5-րդ և 6-րդ թողոցներ) | D40: 5416
C41: Այգեպատ համայնքի Միջնակարգ դպրոց տանող ճանապարհի 395 մետր հատվածի ասֆալտապատում | D41: 14895.8
C42: Արարատ համայնքում ԼԵԴ լուսատուների ձեռքբերում | D42: 2205
C43: Գեղանիստ համայնքում ոռոգման ներտնտեսային ցանցի բարելավման աշխատանքներ | D43: 13418.9
C44: Աբովյան համայնքի երկրորդական փողոցների արտաքին լուսավորության ցանցի կառուցում (աղբյուր Սերոբ﹐Աբովյան﹐Անդրանիկ﹐Բաղրամյան﹐ Բարեկամություն﹐Գ Չաուշ﹐ Խանջյան﹐ Հաղթանակ﹐ Մայիսմեկյան﹐Թեհլերյան փող 1 և 2 նրբանցքներ﹐Վանի﹐ Չարենց﹐Բաղրամյան) | D44: 4743.5
C45: Այգեզարդ համայնքի զբոսայգու բարեկարգման աշխատանքներ | D45: 6384
C46: ՀՀ Արմավիրի մարզպետարան | D46: =SUM(D48:D60) -> 99265.6
C47: այդ թվում` ըստ ուղղությունների
C48: Դալարիկ համայնքի բազմաբնակարան բնակելի շենքերի մուտքի դռների և պատուհանների տեղադրում | D48: 3737.4
C49: Դալարիկ համայնքի Չարենց, Թումանյան և Տերյան փողոցներում ոռոգման ներտնտեսային փակ ցանցի կառուցում | D49: 6873.9
C50: Դալարիկ համայնքի Կոմիտասի փողոցի ասֆալտապատում | D50: 11948.2
C51: Նորապատ համայնքի նոր թաղամասի գազատարի կառուցում | D51: 6050.2
C52: Սարդարապատ համայնքում հակակարկտային կայանների տեղադրման աշխատանքներ | D52: 8000
C53: Քարակերտ համայնքի Գայի և Սևակ փողոցների ասֆալտապատում | D53: 14573.9
C54: Արմավիր գյուղական համայնքի կենտրոնի բարեկարգում | D54: 2709.2
C55: Մրգաշատ համայնքում հակակարկտային կայանների տեղադրման աշխատանքներ | D55: 3061.7
C56: Կողբավան համայնքում գյուղատնտեսական աշխատանքների համար գյուղ.տեխնիկայի և գործիքների ձեռք բերում | D56: 7002
C57: Ջրառատ համայնքի մշակույթի տան տանիքի վերակառուցում | D57: 2183.4
C58: Բամբակաշատ համայնքի համայնքապետարանի վերանորոգում | D58: 7986.8
C59: Տանձուտ համայնքում խմելու ջրամատակարարման ցանցի կառուցում | D59: 17428.3
C60: Մյասնիկյան համայնքում փողոցի ասֆալտբետոնե ծածկույթի հիմնանորոգման աշխատանքներ (Մյասնիկյան փողոց) | D60: 7710.6
C61: ՀՀ Գեղարքունիքի մարզպետարան | D61: =SUM(D63:D73) -> 371406.22
C62: այդ թվում` ըստ ուղղությունների
C63: Աստղաձոր համայնքի Զորավար Անդրանիկի և 21-րդ փողոցների ասֆալտապատում | D63: 57271.6
C64: Գավառ համայնքի Կարեյան, Բարեկամության, Պետրովի, Ղամարյան եղբայրների, Կահիրեի, Գ․ Նարեկացու փողոցների և Ազատության փող․ 2-րդ նրբ․ լուսավորության ցանցի կառուցում և կենտրոնական հրապարակի լուսասյուների տեղափոխություն | D64: 13182.4
C65: Լիճք համայնքի Ա 7 թաղամասի 5-րդ, 7-րդ, 10-րդ և 12-րդ փողոցների խմելու ջրագծի կառուցում | D65: 2127.9
C66: Լիճք համայնքի Ա 6 թաղ թիվ 1 փող., Ա 2 թաղ. թիվ 1 և 9 փողոցների ասֆալտապատում (Ա 2 թաղ. 1-ին փողոցի ՆԿ 0+00+4.50﹐Ա 2 թաղ. 9-րդ փողոցի ՆԿ 0+00+1.00﹐ Ա 6 թաղ. 1-ին փողոցի ՆԿ 0+00+8.70) | D66: 965.4
C67: Չկալովկա համայնքի 1,2,4 փողոցների և հրապարակի կապիտալ ասֆալտապատում | D67: 57208.718
C68: Նորակերտ համայնքի խմելու ջրագծի 4-րդ փողոցի ներքին ցանցի հիմնանորոգում | D68: 933.6
C69: Գեղամասար համայնքի 12 բնակավայրերում խմելու ջրի ջրագծերի ներքին և/կամ արտաքին ցանցերի կառուցում կամ վերակառուցում | D69: 171276.2
C70: Գեղամասար համայնքի Փոքր Մասրիկ գյուղի 1 խորքային հորի և Տրետուք գյուղի ոռոգման ցանցի վերանորոգում | D70: 19212.2
C71: Գեղամասար համայնքի Դարանակ, Կախակն, Սոթք, Շատվան գյուղերի կենտրոնական փողոցների լուսավորության ցանցի կառուցում և Փամբակ գյուղի լուսավորության ցանցի վերանորոգում | D71: 29913.8
C72: Դդմաշեն համայնքի հանդիսությունների սրահի հիմնանորոգում /2-րդ փուլ/ | D72: 8132.5
C73: Մեծ Մասրիկ համայնքի երկրորդական թվով 7 փողոցների 5.5 կմ երկարությամբ արտաքին լուսավորության ծրագրի իրականացում ( 1-ին փող-ի 5-րդ նրբանցք﹐2﹐3 փող﹐ 5-րդ փող﹐ 5-րդ փող-ի 2-րդ նրբանցք﹐6-րդ փող-ի 3-րդ և 10-րդ նրբ﹐7-րդ փող-ի1-ին և 6-րդ նրբ﹐ 8-րդ փող-ի 1-ին նրբ.) | D73: 11181.9
C74: ՀՀ Լոռու մարզպետարան | D74: =SUM(D76:D82) -> 118279.8
C75: այդ թվում` ըստ ուղղությունների
C76: Մեծավան համայնքի արվեստի դպրոցի ջեռուցման համակարգի տեղադրում և շենքի վերանորոգում | D76: 3625.3
C77: Ալավերդի համայնքի ԲԲՇ-ի տանիքների վերանորոգում | D77: 33461.4
C78: Հարթագյուղ համայնքի փողոցների կառուցման աշխատանքներ (գերեզմաններ տանող ճանապարհ) | D78: 8949
C79: Սպիտակ համայնքի մի շարք փողոցների ասֆալտապատում | D79: 43635.5
C80: Բազում համայնքի ներհամայնքային ճանապարհների սալարկում (2-րդ﹐ 3-րդ﹐ 7-րդ փող﹐ 1-ին փող-ի 1-ին նրբ.) | D80: 13641.3
C81: Օձուն համայնքի բնակավայրերում լուսավորության համակարգերի կառուցում (Օձուն﹐ Հագվի ﹐ Մղարթ﹐ Ամոջ﹐Ծաթեր﹐ Այգեհատ﹐Արևածագ﹐ Արդվի բնակավայրեր) | D81: 12310.8
C82: Օձուն համայնքի Մղարթ բնակավայրի համայնքային կենտրոնի վերանորոգում | D82: 2656.5
C83: ՀՀ Կոտայքի մարզպետարան | D83: =SUM(D85:D97) -> 214423.3
C84: այդ թվում` ըստ ուղղությունների
C85: Քանաքեռավան համայնքի Արագիլ ԱՍԿ թաղամասի գազիֆիկացում | D85: 14045.4
C86: Նոր Գեղի համայնքի ներհամայնքային փողոցների ասֆալտապատման աշխատանքների կազմակերպում (դպրոցի ճանապարհ) | D86: 15776.2
C87: Նոր Գեղի համայնքի բազմաբնակարանային շենքերի բակերի ասֆալտապատման աշխատանքների | D87: 8324.4
C88: Գեղաշեն համայնքի D=200մմ կենտրոնական ջրատարի վրա մարիչի (ջրամբար/ հոր) կառուցում | D88: 3973.3
C89: Գեղաշեն համայնքի խմելու ջրի առկա մետաղական ջրամբարի և հարակից 3 ջրաբաշխիչ հանգույցների վերակառուցում | D89: 5963.2
C90: Գեղաշեն համայնքի մշակույթի տան և երաժշ. դպրոցի գազաֆիկացում, լոկալ ջեռուցման համակարգի տեղադրում | D90: 2266.5
C91: Գեղաշեն համայնքի 2-րդ թաղամասի գազաֆիկացման կառուցման աշխատանքներ | D91: 7694
C92: Հրազդան համայնքի ներհամայնքային ճանապարհների Միկրոշրջան/Պուրակային փողոց/ Ջրառատ, Կենտրոն / միջթաղամասային ճանապարհներ,Փոքր բուլվարային և Տիգրան Մեծ փողոցներ/ Հարավային/Ռ.Միքայելյանև Ավետիսյան փողոցներ/ թաղամասերի ճանապարհների հի մանորոգման և մասնակի վերանորոգման աշխատանքներ | D92: 89928
C93: Ակունք համայնքի Սևաբերդ գյուղի ջրամատակարարման համակարգի բարելավում | D93: 38096.6
C94: Արզնի համայնքի 3-րդ, 5-րդ և 8-րդ փողոցների ասֆալտապատում (3-րդ փող 94մ﹐ 5-րդ փող 192մ և 8-րդ փող 80մ) | D94: 9093.4
C95: Արզնի համայնքում մանկապարտեզի վերանորոգում, տանիքի վերակառուցում ,տարածքի բարեկարգում | D95: 10876.8
C96: Արգել համայնքի ՆՈՒՀ ՀՈԱԿ-ի պատուհանների և դռների փոխարինում | D96: 4096.1
C97: Գետարգել համայնքի Ս.Ալեքսանյան փող 7 հասցեում համայնքապետարանի տանիքի և շենքի մի հատվածի վերանորոգում | D97: 4289.4
C98: ՀՀ Շիրակի մարզպետարան | D98: =D100+D101 -> 55479.6
C99: այդ թվում` ըստ ուղղությունների
C100: Աշոցք համայնքի Աշոցք, Կրասար և Սիզավետ բնակավայրերում ասֆալտապատման աշխատանքների իրականացում (Աշոցքի 5-րդ փող﹐Կրասարի 1-ին փող ՊԿ00-ՊԿ 2+50﹐Սիզավետ 1-ին փող ՊԿ00-ՊԿ 2+60) | D100: 47633.4
C101: Լուսակերտ համայնքի 7-րդ փողոցի ասֆալտապատման աշխատանքներ | D101: 7846.2
C102: ՀՀ Սյունիքի մարզպետարան | D102: =SUM(D104:D107) -> 1021386.5
C103: այդ թվում` ըստ ուղղությունների
C104: · Քաջարան համայնքի «Համայնքի բնակավայրերի փողոցների հիմնանորոգում, բարեկարգում» 20%-ից ավել ներդրող | D104: 498252.7
...

Sheet 3
G1: Հավելված N 3
G2: ՀՀ կառավարության 2020 թվականի
G3: ________ N ____-Ն որոշման
A6: ՀԱՅԱՍՏԱՆԻ ՀԱՆՐԱՊԵՏՈՒԹՅԱՆ ԿԱՌԱՎԱՐՈՒԹՅԱՆ 2019 ԹՎԱԿԱՆԻ ԴԵԿՏԵՄԲԵՐԻ 26-Ի N 1919-Ն ՈՐՈՇՄԱՆ N 3 ԵՎ N 4 ՀԱՎԵԼՎԱԾՆԵՐՈՒՄ ԿԱՏԱՐՎՈՂ ՓՈՓՈԽՈՒԹՅՈՒՆՆԵՐԸ ԵՎ ԼՐԱՑՈՒՄՆԵՐԸ
G7: հազար դրամ
A8: Գործառական դասիչը | D8: Ծրագրային դասիչը | F8: Բյուջետային ծախսերի գործառական դասակարգման բաժինների, խմբերի և դասերի, բյուջետային հատկացումների գլխավոր կարգադրիչների, ծրագրերի, միջոցառումների և միջոցառումները կատարող պետական մարմինների անվանումները | G8: Ցուցանիշների փոփոխությունը (ավելացումները նշված են դրական նշանով, իսկ նվազեցումները` փակագծերում)
A9: Բաժին | B9: Խումբ | C9: Դաս | D9: Ծրագիր | E9: Միջոցառում | G9: Տարի
F10: ԸՆԴԱՄԵՆԸ ԾԱԽՍԵՐ | G10: 0
F11: այդ թվում`
A12: 01 | F12: ԸՆԴՀԱՆՈՒՐ ԲՆՈՒՅԹԻ ՀԱՆՐԱՅԻՆ ԾԱՌԱՅՈՒԹՅՈՒՆՆԵՐ | G12: =G14 -> 2286594
F13: այդ թվում`
B14: 08 | F14: Կառավարության տարբեր մակարդակների միջև իրականացվող ընդհանուր բնույթի տրանսֆերտներ | G14: =G16 -> 2286594
F15: այդ թվում`
C16: 01 | F16: Կառավարության տարբեր մակարդակների միջև իրականացվող ընդհանուր բնույթի տրանսֆերտներ | G16: =G20 -> 2286594
F17: այդ թվում`
F18: ՀՀ տարածքային կառավարման և ենթակառուցվածքների նախարարություն | G18: =+G20 -> 2286594
F19: այդ թվում`
D20: 1212 | F20: Տարածքային զարգացում | G20: =G22 -> 2286594
F21: այդ թվում`
E22: 12007 | F22: ՀՀ մարզերին սուբվենցիաների տրամադրում՝ ենթակառուցվածքների զարգացման նպատակով | G22: =G24+G31+G38+G45+G52+G59+G66+G73+G80 -> 2286594
F23: այդ թվում` ըստ կատարողների
F24: ՀՀ Արագածոտնի մարզպետարան | G24: =G27 -> 182282.7
F25: այդ թվում` բյուջետային ծախսերի տնտեսագիտական դասակարգման հոդվածներ
F26: ԸՆԴԱՄԵՆԸ ԾԱԽՍԵՐ | G26: =G27 -> 182282.7
F27: ԸՆԹԱՑԻԿ ԾԱԽՍԵՐ | G27: =G28 -> 182282.7
F28: ԴՐԱՄԱՇՆՈՐՀՆԵՐ | G28: =G29 -> 182282.7
F29: Կապիտալ դրամաշնորհներ պետական հատվածի այլ մակարդակներին | G29: =G30 -> 182282.7
F30: - Կապիտալ սուբվենցիաներ համայնքներին | G30: ='2'!D15 -> 182282.7
F31: ՀՀ Արարատի մարզպետարան | G31: =+G37 -> 213385.9
F32: այդ թվում` բյուջետային ծախսերի տնտեսագիտական դասակարգման հոդվածներ
F33: ԸՆԴԱՄԵՆԸ ԾԱԽՍԵՐ | G33: =G34 -> 213385.9
F34: ԸՆԹԱՑԻԿ ԾԱԽՍԵՐ | G34: =G35 -> 213385.9
F35: ԴՐԱՄԱՇՆՈՐՀՆԵՐ | G35: =G36 -> 213385.9
F36: Կապիտալ դրամաշնորհներ պետական հատվածի այլ մակարդակներին | G36: =G37 -> 213385.9
F37: - Կապիտալ սուբվենցիաներ համայնքներին | G37: ='2'!D33 -> 213385.9
F38: ՀՀ Արմավիրի մարզպետարան | G38: =+G44 -> 99265.6
F39: այդ թվում` բյուջետային ծախսերի տնտեսագիտական դասակարգման հոդվածներ
F40: ԸՆԴԱՄԵՆԸ ԾԱԽՍԵՐ | G40: =G41 -> 99265.6
F41: ԸՆԹԱՑԻԿ ԾԱԽՍԵՐ | G41: =G42 -> 99265.6
F42: ԴՐԱՄԱՇՆՈՐՀՆԵՐ | G42: =G43 -> 99265.6
F43: Կապիտալ դրամաշնորհներ պետական հատվածի այլ մակարդակներին | G43: =G44 -> 99265.6
F44: - Կապիտալ սուբվենցիաներ համայնքներին | G44: ='2'!D46 -> 99265.6
F45: ՀՀ Գեղարքունիքի մարզպետարան | G45: =G48 -> 371406.22
F46: այդ թվում` բյուջետային ծախսերի տնտեսագիտական դասակարգման հոդվածներ
F47: ԸՆԴԱՄԵՆԸ ԾԱԽՍԵՐ | G47: =G48 -> 371406.22
F48: ԸՆԹԱՑԻԿ ԾԱԽՍԵՐ | G48: =G49 -> 371406.22
F49: ԴՐԱՄԱՇՆՈՐՀՆԵՐ | G49: =G50 -> 371406.22
F50: Կապիտալ դրամաշնորհներ պետական հատվածի այլ մակարդակներին | G50: =G51 -> 371406.22
F51: - Կապիտալ սուբվենցիաներ համայնքներին | G51: ='2'!D61 -> 371406.22
F52: ՀՀ Կոտայքի մարզպետարան | G52: =G55 -> 214423.3
F53: այդ թվում` բյուջետային ծախսերի տնտեսագիտական դասակարգման հոդվածներ
F54: ԸՆԴԱՄԵՆԸ ԾԱԽՍԵՐ | G54: =G55 -> 214423.3
F55: ԸՆԹԱՑԻԿ ԾԱԽՍԵՐ | G55: =G56 -> 214423.3
F56: ԴՐԱՄԱՇՆՈՐՀՆԵՐ | G56: =G57 -> 214423.3
F57: Կապիտալ դրամաշնորհներ պետական հատվածի այլ մակարդակներին | G57: =G58 -> 214423.3
F58: - Կապիտալ սուբվենցիաներ համայնքներին | G58: ='2'!D83 -> 214423.3
F59: ՀՀ Լոռու մարզպետարան | G59: =G61 -> 118279.8
F60: այդ թվում` բյուջետային ծախսերի տնտեսագիտական դասակարգման հոդվածներ
F61: ԸՆԴԱՄԵՆԸ ԾԱԽՍԵՐ | G61: =G62 -> 118279.8
F62: ԸՆԹԱՑԻԿ ԾԱԽՍԵՐ | G62: =G63 -> 118279.8
F63: ԴՐԱՄԱՇՆՈՐՀՆԵՐ | G63: =G64 -> 118279.8
F64: Կապիտալ դրամաշնորհներ պետական հատվածի այլ մակարդակներին | G64: =G65 -> 118279.8
F65: - Կապիտալ սուբվենցիաներ համայնքներին | G65: 118279.8
F66: ՀՀ Շիրակի մարզպետարան | G66: =G68 -> 55479.6
F67: այդ թվում` բյուջետային ծախսերի տնտեսագիտական դասակարգման հոդվածներ
F68: ԸՆԴԱՄԵՆԸ ԾԱԽՍԵՐ | G68: =G69 -> 55479.6
F69: ԸՆԹԱՑԻԿ ԾԱԽՍԵՐ | G69: =G70 -> 55479.6
F70: ԴՐԱՄԱՇՆՈՐՀՆԵՐ | G70: =G71 -> 55479.6
F71: Կապիտալ դրամաշնորհներ պետական հատվածի այլ մակարդակներին | G71: =G72 -> 55479.6
F72: - Կապիտալ սուբվենցիաներ համայնքներին | G72: ='2'!D98 -> 55479.6
F73: ՀՀ Սյունիքի մարզպետարան | G73: =G75 -> 1021386.5
F74: այդ թվում` բյուջետային ծախսերի տնտեսագիտական դասակարգման հոդվածներ
F75: ԸՆԴԱՄԵՆԸ ԾԱԽՍԵՐ | G75: =G76 -> 1021386.5
F76: ԸՆԹԱՑԻԿ ԾԱԽՍԵՐ | G76: =G77 -> 1021386.5
F77: ԴՐԱՄԱՇՆՈՐՀՆԵՐ | G77: =G78 -> 1021386.5
F78: Կապիտալ դրամաշնորհներ պետական հատվածի այլ մակարդակներին | G78: =G79 -> 1021386.5
F79: - Կապիտալ սուբվենցիաներ համայնքներին | G79: ='2'!D102 -> 1021386.5
F80: ՀՀ Վայոց ձորի մարզպետարան | G80: =G83 -> 10684.4
F81: այդ թվում` բյուջետային ծախսերի տնտեսագիտական դասակարգման հոդվածներ
F82: ԸՆԴԱՄԵՆԸ ԾԱԽՍԵՐ | G82: =G83 -> 10684.4
F83: ԸՆԹԱՑԻԿ ԾԱԽՍԵՐ | G83: =G84 -> 10684.4
F84: ԴՐԱՄԱՇՆՈՐՀՆԵՐ | G84: =G85 -> 10684.4
F85: Կապիտալ դրամաշնորհներ պետական հատվածի այլ մակարդակներին | G85: ='2'!D108 -> 10684.4
F86: - Կապիտալ սուբվենցիաներ համայնքներին | G86: ='2'!D108 -> 10684.4
A87: 06 | F87: Բնակարանային շինարարություն և կոմունալ ծառայություններ | G87: =+G89 -> -160298.8
F88: այդ թվում`
B89: 03 | F89: Ջրամատակարարում | G89: =+G91 -> -160298.8
F90: այդ թվում`
C91: 01 | F91: Ջրամատակարարում | G91: =+G93 -> -160298.8
F92: այդ թվում`
D93: 1072 | F93: Ջրամատակարարաման և ջրահեռացման բարելավում | G93: =G95+G104 -> -160298.8
F94: այդ թվում`
E95: 12001 | F95: Գերմանիայի զարգացման և Եվրոպական միության հարևանության ներդրումային բանկի աջակցությամբ իրականացվող ջրամատակարարման և ջրահեռացման ենթակառուցվածքների դրամաշնորհային ծրագիր` երրորդ փուլ | G95: ='1'!D124 -> -10298.8
F96: այդ թվում` ըստ կատարողների
F97: ՀՀ տարածքային կառավարման և ենթակառուցվածքների նախարարության ջրային կոմիտե | G97: =G99 -> -10298.8
F98: այդ թվում` բյուջետային ծախսերի տնտեսագիտական դասակարգման հոդվածներ
F99: ԸՆԴԱՄԵՆԸ ԾԱԽՍԵՐ | G99: =+G100 -> -10298.8
F100: ՈՉ ՖԻՆԱՆՍԱԿԱՆ ԱԿՏԻՎՆԵՐԻ ԳԾՈՎ ԾԱԽՍԵՐ | G100: =G103 -> -10298.8
F101: ՀԻՄՆԱԿԱՆ ՄԻՋՈՑՆԵՐ | G101: =G102 -> -10298.8
F102: ԱՅԼ ՀԻՄՆԱԿԱՆ ՄԻՋՈՑՆԵՐ | G102: =G103 -> -10298.8
...

Sheet 4
E1: Հավելված N 4
E2: ՀՀ կառավարության 2020 թվականի
E3: ________ N ____-Ն որոշման
A5: «ՀԱՅԱՍՏԱՆԻ ՀԱՆՐԱՊԵՏՈՒԹՅԱՆ 2020 ԹՎԱԿԱՆԻ ՊԵՏԱԿԱՆ ԲՅՈՒՋԵԻ ՄԱՍԻՆ» ՀԱՅԱՍՏԱՆԻ ՀԱՆՐԱՊԵՏՈՒԹՅԱՆ ՕՐԵՆՔԻ N 1 ՀԱՎԵԼՎԱԾԻ N 4 ԱՂՅՈՒՍԱԿՈՒՄ ԵՎ ՀԱՅԱՍՏԱՆԻ ՀԱՆՐԱՊԵՏՈՒԹՅԱՆ ԿԱՌԱՎԱՐՈՒԹՅԱՆ 2019 ԹՎԱԿԱՆԻ ԴԵԿՏԵՄԲԵՐԻ 26-Ի N 1919-Ն ՈՐՈՇՄԱՆ N 5 ՀԱՎԵԼՎԱԾԻ N 3 ԱՂՅՈՒՍԱԿՈՒՄ ԿԱՏԱՐՎՈՂ ՓՈՓՈԽՈՒԹՅՈՒՆՆԵՐԸ
A7: Ծրագրային դասիչ | C7: Բյուջետային գլխավոր կարգադրիչների, ծրագրերի և միջոցառումների անվանումները | D7: Ցուցանիշների փոփոխությունը (ավելացումները նշված են դրական նշանով, իսկ նվազեցումները` փակագծերում)
D8: Տարի | G8: 1
D9: Ընդամենը | E9: այդ թվում
A10: Ծրագիր | B10: Միջոցառում | E10: Վարկային միջոցներ | F10: Համաֆինան_x000D_- սավորում
C11: ԸՆԴԱՄԵՆԸ այդ թվում | D11: =D12+D13 -> -1876295.2 | E11: =E12+E13 -> 0 | F11: =F12+F13 -> -1876295.2
C12: - ԸՆԹԱՑԻԿ ԾԱԽՍԵՐ | D12: =D106+D98+D117+D28+D36+D44 -> -430923.3 | E12: =E106+E98+E117+E28+E36+E44 -> 0 | F12: =F106+F98+F117+F28+F36+F44 -> -430923.3
C13: - ՈՉ ՖԻՆԱՆՍԱԿԱՆ ԱԿՏԻՎՆԵՐԻ ԳԾՈՎ ԾԱԽՍԵՐ | D13: =D17+D52+D61+D72+D83+D125+D134 -> -1445371.9 | E13: =E19+E54+E61+E72+E83+E125+E134 -> 0 | F13: =F19+F54+F61+F72+F83+F125+F134 -> -1445371.9
C14: ՀՀ ՏԱՐԱԾՔԱՅԻՆ ԿԱՌԱՎԱՐՄԱՆ ԵՎ ԵՆԹԱԿԱՌՈՒՑՎԱԾՔՆԵՐԻ ՆԱԽԱՐԱՐՈՒԹՅՈՒՆ | E14: =E15 -> 0
A15: 1072 | C15: Ջրամատակարարաման և ջրահեռացման բարելավում | D15: =D17 -> -150000 | E15: =E17 -> 0 | F15: =F17 -> -150000
C16: այդ թվում`
B17: 31001 | C17: Գերմանիայի զարգացման վարկերի բանկի աջակցությամբ իրականացվող ջրամատակարարման և ջրահեռացման ենթակառուցվածքների վերականգնման ծրագրի երրորդ փուլի շրջանակներում Ջրամատակարարման և ջրահեռացման ենթակառուցվածքների հիմնանորոգում | D17: =+D19 -> -150000 | F17: =D17 -> -150000
C18: այդ թվում` ըստ կատարողների
C19: ՀՀ տարածքային կառավարման և ենթակառուցվածքների նախարարության ջրային կոմիտե | D19: =+D21 -> -150000 | F19: =+F21 -> -150000
C20: այդ թվում` բյուջետային ծախսերի տնտեսագիտական դասակարգման հոդվածներ
C21: ԸՆԴԱՄԵՆԸ ԾԱԽՍԵՐ | D21: =+D22 -> -150000 | F21: =+F22 -> -150000
C22: ՈՉ ՖԻՆԱՆՍԱԿԱՆ ԱԿՏԻՎՆԵՐԻ ԳԾՈՎ ԾԱԽՍԵՐ | D22: =+D23 -> -150000 | F22: =+F23 -> -150000
C23: ՀԻՄՆԱԿԱՆ ՄԻՋՈՑՆԵՐ | D23: =+D24 -> -150000 | F23: =+F24 -> -150000
C24: ՇԵՆՔԵՐ ԵՎ ՇԻՆՈՒԹՅՈՒՆՆԵՐ | D24: =+D25 -> -150000 | F24: =+F25 -> -150000
C25: - Շենքերի և շինությունների շինարարություն | D25: =-150000 -> -150000 | F25: =-150000 -> -150000
A26: 1004 | C26: Ոռոգման ծառայությունների հասանելիության և մատչելիության ապահովում | D26: =+D28+D36+D44+D52+D61 -> -432328.2 | F26: =F28+F36+F44+F52+F61 -> -432328.2
C27: այդ թվում`
B28: 11005 | C28: Եվրասիական զարգացման բանկի աջակցությամբ իրականացվող ոռոգման համակարգերի զարգացման ծրագրի խորհրդատվություն և կառավարում | D28: =D30 -> -72680.9 | F28: =F30 -> -72680.9
C29: այդ թվում` ըստ կատարողների
C30: ՀՀ տարածքային կառավարման և ենթակառուցվածքների նախարարության ջրային կոմիտե | D30: -72680.9 | F30: -72680.9
C31: այդ թվում` բյուջետային ծախսերի տնտեսագիտական դասակարգման հոդվածներ | D31: -72680.9 | F31: -72680.9
C32: ԸՆԴԱՄԵՆԸ ԾԱԽՍԵՐ | D32: -72680.9 | F32: -72680.9
C33: ԸՆԹԱՑԻԿ ԾԱԽՍԵՐ | D33: -72680.9 | F33: -72680.9
C34: ԱՅԼ ԾԱԽՍԵՐ | D34: -72680.9 | F34: -72680.9
C35: Այլ ծախսեր | D35: -72680.9 | F35: -72680.9
B36: 11008 | C36: Գերմանիայի զարգացման վարկերի բանկի աջակցությամբ իրականացվող Ախուրյան գետի ջրային ռեսուրսների ինտեգրացված կառավարման ծրագրի երկրորդ փուլի խորհրդատվություն և կառավարում | D36: -47857.5 | F36: -47857.5
C37: այդ թվում` ըստ կատարողների
C38: ՀՀ տարածքային կառավարման և ենթակառուցվածքների նախարարության ջրային կոմիտե | D38: -47857.5 | F38: -47857.5
C39: այդ թվում` բյուջետային ծախսերի տնտեսագիտական դասակարգման հոդվածներ | D39: -47857.5 | F39: -47857.5
C40: ԸՆԴԱՄԵՆԸ ԾԱԽՍԵՐ | D40: -47857.5 | F40: -47857.5
C41: ԸՆԹԱՑԻԿ ԾԱԽՍԵՐ | D41: -47857.5 | F41: -47857.5
C42: ԱՅԼ ԾԱԽՍԵՐ | D42: -47857.5 | F42: -47857.5
C43: Այլ ծախսեր | D43: -47857.5 | F43: -47857.5
B44: 11010 | C44: Գերմանիայի զարգացման վարկերի բանկի աջակցությամբ իրականացվող Ախուրյան գետի ջրային ռեսուրսների ինտեգրացված կառավարում փուլ 1 ծրագրով Ջրաձոր գյուղի վերաբնակեցման գործողությունների խորհրդատվություն և կառավարում_x000D_ | D44: -28384.9 | F44: -28384.9
C45: այդ թվում` ըստ կատարողների
C46: ՀՀ տարածքային կառավարման և ենթակառուցվածքների նախարարության ջրային կոմիտե | D46: -28384.9 | F46: -28384.9
C47: այդ թվում` բյուջետային ծախսերի տնտեսագիտական դասակարգման հոդվածներ | D47: -28384.9 | F47: -28384.9
C48: ԸՆԴԱՄԵՆԸ ԾԱԽՍԵՐ | D48: -28384.9 | F48: -28384.9
C49: ԸՆԹԱՑԻԿ ԾԱԽՍԵՐ | D49: -28384.9 | F49: -28384.9
C50: ԱՅԼ ԾԱԽՍԵՐ | D50: -28384.9 | F50: -28384.9
C51: Այլ ծախսեր | D51: -28384.9 | F51: -28384.9
B52: 31001 | C52: Ֆրանսիայի Հանրապետության կառավարության աջակցությամբ իրականացվող Վեդու ջրամբարի կառուցում | D52: -216666.7 | F52: -216666.7
C53: այդ թվում` ըստ կատարողների
C54: ՀՀ տարածքային կառավարման և ենթակառուցվածքների նախարարության ջրային կոմիտե | D54: -216666.7 | F54: -216666.7
C55: այդ թվում` բյուջետային ծախսերի տնտեսագիտական դասակարգման հոդվածներ | D55: -216666.7 | F55: -216666.7
C56: ԸՆԴԱՄԵՆԸ ԾԱԽՍԵՐ | D56: -216666.7 | F56: -216666.7
C57: ՈՉ ՖԻՆԱՆՍԱԿԱՆ ԱԿՏԻՎՆԵՐԻ ԳԾՈՎ ԾԱԽՍԵՐ | D57: -216666.7 | F57: -216666.7
C58: ՀԻՄՆԱԿԱՆ ՄԻՋՈՑՆԵՐ | D58: -216666.7 | F58: -216666.7
C59: ՇԵՆՔԵՐ ԵՎ ՇԻՆՈՒԹՅՈՒՆՆԵՐ | D59: -216666.7 | F59: -216666.7
C60: - Շենքերի և շինությունների շինարարություն | D60: -216666.7 | F60: -216666.7
B61: 31005 | C61: Եվրասիական զարգացման բանկի աջակցությամբ իրականացվող ոռոգման համակարգերի զարգացման ծրագրի շրջանակներում ջրային տնտեսության ենթակառուցվածքների հիմնանորոգում | D61: -66738.2 | F61: -66738.2
C62: այդ թվում` ըստ կատարողների
C63: ՀՀ տարածքային կառավարման և ենթակառուցվածքների նախարարության ջրային կոմիտե | D63: -66738.2 | F63: -66738.2
C64: այդ թվում` բյուջետային ծախսերի տնտեսագիտական դասակարգման հոդվածներ | D64: -66738.2 | F64: -66738.2
C65: ԸՆԴԱՄԵՆԸ ԾԱԽՍԵՐ | D65: -66738.2 | F65: -66738.2
C66: ՈՉ ՖԻՆԱՆՍԱԿԱՆ ԱԿՏԻՎՆԵՐԻ ԳԾՈՎ ԾԱԽՍԵՐ | D66: -66738.2 | F66: -66738.2
C67: ՀԻՄՆԱԿԱՆ ՄԻՋՈՑՆԵՐ | D67: -66738.2 | F67: -66738.2
C68: ՄԵՔԵՆԱՆԵՐ և ՍԱՐՔԱՎՈՐՈՒՄՆԵՐ | D68: -66738.2 | F68: -66738.2
C69: Այլ մեքենաներ և սարքավորումներ | D69: -66738.2 | F69: -66738.2
A70: 1019 | C70: Սոցիալական ներդրումների և տեղական զարգացման ծրագիր | D70: =D72 -> -325440.9 | F70: =F72 -> -325440.9
C71: այդ թվում`
B72: 12001 | C72: Համաշխարհային բանկի աջակցությամբ իրականացվող Տարածքային զարգացման հիմնադրամի ծրագրի շրջանակներում ՀՀ տարածքներում ջրագծերի, առողջապահության, կրթության, մշակույթի, հատուկ խնամքի և ենթակառուցվածքների ոլորտի վերականգնման և շինարարության աշխատանքներ | D72: =D79+D81 -> -325440.9 | F72: =F79+F81 -> -325440.9
C73: այդ թվում` ըստ կատարողների
C74: ՀՀ տարածքային կառավարման և ենթակառուցվածքների նախարարություն | D74: =+D72 -> -325440.9 | F74: =+F72 -> -325440.9
C75: այդ թվում` բյուջետային ծախսերի տնտեսագիտական դասակարգման հոդվածներ
C76: ԸՆԴԱՄԵՆԸ ԾԱԽՍԵՐ | D76: =+D74 -> -325440.9 | F76: =+F74 -> -325440.9
C77: ՈՉ ՖԻՆԱՆՍԱԿԱՆ ԱԿՏԻՎՆԵՐԻ ԳԾՈՎ ԾԱԽՍԵՐ | D77: =+D76 -> -325440.9 | F77: =+F76 -> -325440.9
C78: ՀԻՄՆԱԿԱՆ ՄԻՋՈՑՆԵՐ | D78: =+D77 -> -325440.9 | F78: =+F77 -> -325440.9
C79: ՇԵՆՔԵՐ ԵՎ ՇԻՆՈՒԹՅՈՒՆՆԵՐ | D79: -161837.7 | F79: -161837.7
C80: - Շենքերի և շինությունների շինարարություն | D80: -161837.7 | F80: -161837.7
C81: ՄԵՔԵՆԱՆԵՐ ԵՎ ՍԱՐՔԱՎՈՐՈՒՄՆԵՐ | D81: -163603.2 | F81: -163603.2
C82: - Վարչական սարքավորումներ | D82: -163603.2 | F82: -163603.2
A83: 1189 | C83: Դպրոցների սեյսմիկ անվտանգության մակարդակի բարձրացման | D83: =D85 -> -336526.1 | F83: =F85 -> -336526.1
C84: այդ թվում`
B85: 12001 | C85: Ասիական զարգացման բանկի աջակցությամբ իրականացվող դպրոցների սեյսմիկ պաշտպանության ծրագրի շրջանակներում ՀՀ դպրոցների սեյսմիկ անվտանգության բարելավմանն ուղղված միջոցառումներ | D85: =D92+D94 -> -336526.1 | F85: =F92+F94 -> -336526.1
C86: այդ թվում` ըստ կատարողների
C87: ՀՀ տարածքային կառավարման և ենթակառուցվածքների նախարարություն | D87: =+D85 -> -336526.1 | F87: =+F85 -> -336526.1
C88: այդ թվում` բյուջետային ծախսերի տնտեսագիտական դասակարգման հոդվածներ
C89: ԸՆԴԱՄԵՆԸ ԾԱԽՍԵՐ | D89: =+D87 -> -336526.1 | F89: =+F87 -> -336526.1
C90: ՈՉ ՖԻՆԱՆՍԱԿԱՆ ԱԿՏԻՎՆԵՐԻ ԳԾՈՎ ԾԱԽՍԵՐ | D90: =+D89 -> -336526.1 | F90: =+F89 -> -336526.1
C91: ՀԻՄՆԱԿԱՆ ՄԻՋՈՑՆԵՐ | D91: =+D90 -> -336526.1 | F91: =+F90 -> -336526.1
C92: ՇԵՆՔԵՐ ԵՎ ՇԻՆՈՒԹՅՈՒՆՆԵՐ | D92: -335586.3 | F92: -335586.3
C93: - Շենքերի և շինությունների շինարարություն | D93: -335586.3 | F93: -335586.3
C94: ԱՅԼ ՀԻՄՆԱԿԱՆ ՄԻՋՈՑՆԵՐ | D94: =+D95 -> -939.8 | F94: =+F95 -> -939.8
C95: - Նախագծահետազոտական ծախսեր | D95: ='3'!G200 -> -939.8 | F95: ='3'!G200 -> -939.8
A96: 1049 | C96: Ճանապարհային ցանցի բարելավում | D96: =D98+D106+D117+D125+D134 -> -632000 | F96: =F98+F106+F117+F125+F134 -> -632000
C97: այդ թվում`
B98: 11005 | C98: Համաշխարհային բանկի աջակցությամբ իրականացվող Կենսական նշանակության ճանապարհային ցանցի բարելավման ծրագրի շրջանակներում համակարգում և կառավարում | D98: -14000 | F98: -14000
C99: այդ թվում` ըստ կատարողների
C100: ՀՀ տարածքային կառավարման և ենթակառուցվածքների նախարարություն | D100: =+D98 -> -14000 | F100: =+F98 -> -14000
C101: այդ թվում` բյուջետային ծախսերի տնտեսագիտական դասակարգման հոդվածներ
C102: ԸՆԴԱՄԵՆԸ ԾԱԽՍԵՐ | D102: =+D100 -> -14000 | F102: =+F100 -> -14000
...

Sheet 5
E1: Հավելված N 5
E2: ՀՀ կառավարության 2020 թվականի
E3: ________ N ____-Ն որոշման
A5: «ՀԱՅԱՍՏԱՆԻ ՀԱՆՐԱՊԵՏՈՒԹՅԱՆ 2020 ԹՎԱԿԱՆԻ ՊԵՏԱԿԱՆ ԲՅՈՒՋԵԻ ՄԱՍԻՆ» ՀԱՅԱՍՏԱՆԻ ՀԱՆՐԱՊԵՏՈՒԹՅԱՆ ՕՐԵՆՔԻ N 1 ՀԱՎԵԼՎԱԾԻ N 5 ԱՂՅՈՒՍԱԿՈՒՄ ԵՎ ՀԱՅԱՍՏԱՆԻ ՀԱՆՐԱՊԵՏՈՒԹՅԱՆ ԿԱՌԱՎԱՐՈՒԹՅԱՆ 2019 ԹՎԱԿԱՆԻ ԴԵԿՏԵՄԲԵՐԻ 26-Ի N 1919-Ն ՈՐՈՇՄԱՆ N 5 ՀԱՎԵԼՎԱԾԻ N4 ԱՂՅՈՒՍԱԿՈՒՄ ԿԱՏԱՐՎՈՂ ՓՈՓՈԽՈՒԹՅՈՒՆՆԵՐԸ
A7: Ծրագրային դասիչ | C7: Բյուջետային գլխավոր կարգադրիչների, ծրագրերի և միջոցառումների անվանումները | D7: Ցուցանիշների փոփոխությունը (ավելացումները նշված են դրական նշանով, իսկ նվազեցումները` փակագծերում)
D8: Տարի
D9: Ընդամենը | E9: այդ թվում
A10: Ծրագիր | B10: Միջոցառում | E10: Դրամաշնորհային միջոցներ | F10: Համաֆինան_x000D_- սավորում
C11: ԸՆԴԱՄԵՆԸ այդ թվում | D11: =D15+D24 -> -410298.8 | E11: =E14 -> - | F11: =F15+F24 -> -410298.8
C12: - ԸՆԹԱՑԻԿ ԾԱԽՍԵՐ | D12: =+D14+D27 -> 0 | E12: - | F12: =F16+F25 -> 0
C13: - ՈՉ ՖԻՆԱՆՍԱԿԱՆ ԱԿՏԻՎՆԵՐԻ ԳԾՈՎ ԾԱԽՍԵՐ | D13: =+D15+D28 -> -410298.8 | F13: =F17+F26 -> -410298.8
C14: ՀՀ ՏԱՐԱԾՔԱՅԻՆ ԿԱՌԱՎԱՐՄԱՆ ԵՎ ԵՆԹԱԿԱՌՈՒՑՎԱԾՔՆԵՐԻ ՆԱԽԱՐԱՐՈՒԹՅՈՒՆ | D14: =+D16+D29 -> 0 | E14: =E15 -> -
A15: 1072 | C15: Ջրամատակարարման և ջրահեռացման բարելավում | D15: =+D17 -> -10298.8 | E15: - | F15: =+F23 -> -10298.8
C16: այդ թվում`
B17: 12001 | C17: Գերմանիայի զարգացման և Եվրոպական միության հարևանության ներդրումային բանկի աջակցությամբ իրականացվող ջրամատակարարման և ջրահեռացման ենթակառուցվածքների դրամաշնորհային ծրագիր` երրորդ փուլ | D17: =+D19 -> -10298.8 | E17: 0 | F17: =+F23 -> -10298.8
C18: այդ թվում` ըստ կատարողների
C19: ՀՀ տարածքային կառավարման և ենթակառուցվածքների նախարարություն ջրային կոմիտե | D19: =+D20 -> -10298.8 | E19: =E17 -> 0 | F19: =+F23 -> -10298.8
C20: այդ թվում` բյուջետային ծախսերի տնտեսագիտական դասակարգման հոդվածներ | D20: =+D22 -> -10298.8 | F20: =+F23 -> -10298.8
C21: ՈՉ ՖԻՆԱՆՍԱԿԱՆ ԱԿՏԻՎՆԵՐԻ ԳԾՈՎ ԾԱԽՍԵՐ | D21: =E21 -> 0 | E21: 0 | F21: 0
C22: ԱՅԼ ՀԻՄՆԱԿԱՆ ՄԻՋՈՑՆԵՐ | D22: =+D23 -> -10298.8 | F22: =+F23 -> -10298.8
C23: Նախագծահետազոտական ծախսեր | D23: ='1'!D124 -> -10298.8 | F23: ='1'!D124 -> -10298.8
A24: 1049 | C24: Ճանապարհային ցանցի բարելավում | D24: =D26 -> -400000 | E24: =E26 -> 0 | F24: =F26 -> -400000
C25: այդ թվում`
B26: 11013 | C26: Եվրոպական ներդրումային բանկի աջակցությամբ իրականացվող Հյուսիս-հարավ միջանցքի զարգացման դրամաշնորհային ծրագրի համակարգում և կառավարում | D26: =F26 -> -400000 | F26: ='3'!G228 -> -400000
C27: այդ թվում` ըստ կատարողների
C28: ՀՀ տարածքային կառավարման և ենթակառուցվածքների նախարարություն | D28: =F28 -> -400000 | F28: ='3'!G230 -> -400000
C29: այդ թվում` բյուջետային ծախսերի տնտեսագիտական դասակարգման հոդվածներ | D29: =F29 -> 0 | F29: ='3'!G231 -> 0
C30: ԸՆԴԱՄԵՆԸ ԾԱԽՍԵՐ | D30: =F30 -> -400000 | F30: ='3'!G232 -> -400000
C31: ԸՆԹԱՑԻԿ ԾԱԽՍԵՐ | D31: =F31 -> -400000 | F31: ='3'!G233 -> -400000
C32: ԱՅԼ ԾԱԽՍԵՐ | D32: =F32 -> -400000 | F32: ='3'!G234 -> -400000
C33: Այլ ծախսեր | D33: =F33 -> -400000 | F33: ='3'!G235 -> -400000

Sheet 6
C1: Հավելված N6
C2: ՀՀ կառավարության 2020թ
C3: ---------ի N ----------- որոշման
A6: ՀԱՅԱՍՏԱՆԻ ՀԱՆՐԱՊԵՏՈՒԹՅԱՆ ԿԱՌԱՎԱՐՈՒԹՅԱՆ 2019 ԹՎԱԿԱՆԻ ԴԵԿՏԵՄԲԵՐԻ 26-Ի N 1919-Ն ՈՐՈՇՄԱՆ N 9 ՀԱՎԵԼՎԱԾԻ N 9.8 ԱՂՅՈՒՍԱԿՈՒՄ ԿԱՏԱՐՎՈՂ ՓՈՓՈԽՈՒԹՅՈՒՆՆԵՐԸ
B8: ՀՀ տարածքային կառավարման և ենթակառուցվածքների նախարարություն
A9: ՄԱՍ2. ՊԵՏԱԿԱՆ ՄԱՐՄՆԻ ԳԾՈՎ ԱՐԴՅՈՒՆՔԱՅԻՆ (ԿԱՏԱՐՈՂԱԿԱՆ) ՑՈՒՑԱՆԻՇՆԵՐԸ
A11: Ծրագրի դասիչը | B11: Ծրագրի անվանումը
A12: 1212 | B12: Տարածքային զարգացում
A14: Ծրագրի միջոցառումները
A16: Ծրագրի դասիչը` | B16: 1212 | C16: Ցուցանիշների փոփոխությունը (ավելացումները նշված են դրական նշանով)
A17: Միջոցառման դասիչը` | B17: 12007 | C17: Տարի
A18: Միջոցառման անվանումը` | B18: ՀՀ մարզերին սուբվենցիաների տրամադրում՛ ենթակառուցվածքների զարգացման նպատակով_x000D_
A19: Նկարագրությունը` | B19: ՀՀ մարզերին սուբվենցիաների տրամադրում՛ ենթակառուցվածքների զարգացման նպատակով
A20: Միջոցառման տեսակը` | B20: Տրանսֆերտների տրամադրում
A21: Միջոցառումն իրականացնողի անվանումը | B21: ՀՀ համայնքներ
A22: Արդյունքի չափորոշիչներ
A23: Համայնքների թիվ | C23: ='7'!D187+'7'!D206+'7'!D224+'7'!D242+'7'!D260+'7'!D278+'7'!D296+'7'!D314+'7'!D332 -> 62
A24: Միջոցառման վրա կատարվող ծախսը (հազար դրամ) | C24: =-(C41+C53+C62+C71+C80+C92+C102+C116+C129+C138+C147+C156+C165+C174+C183) -> 2286594
A26: Ծրագրի դասիչը | B26: Ծրագրի անվանումը
A27: 1072 | B27: Ջրամատակարարաման և ջրահեռացման բարելավում
A29: Ծրագրի միջոցառումները
A31: Ծրագրի դասիչը` | B31: 1072 | C31: Ցուցանիշների փոփոխությունը (նվազեցումները նշված են փակագծերում)
A32: Միջոցառման դասիչը` | B32: 12001 | C32: Տարի
A33: Միջոցառման անվանումը` | B33: Գերմանիայի զարգացման և Եվրոպական միության հարևանության ներդրումային բանկի աջակցությամբ իրականացվող ջրամատակարարման և ջրահեռացման ենթակառուցվածքների դրամաշնորհային ծրագիր` երրորդ փուլ
A34: Նկարագրությունը` | B34: 579 գյուղական բնակավայրերից ընտրված որոշ համայնքների ջրամատակարարման և ջրահեռացման համակարգերի հատվածների հրատապ վերականգնման աշխատանքների իրականացում ինչպես նաև՛ Արմավիրի կեղտաջրերի մաքրման կայանի կառուցում
A35: Միջոցառման տեսակը` | B35: Տրանսֆերտների տրամադրում
A36: Ծառայությունը մատուցող կազմակերպության անվանումը | B36: Մասնագիտացված միավոր
A37: Արդյունքի չափորոշիչներ
A38: Նորոգվող ջրագծերի երկարություն, կմ | C38: 0
A39: Նորոգվող կոյուղագծերի երկարություն, կմ | C39: 0
A40: Նորոգվող տնային միացումներ, հատ | C40: 0
A41: Միջոցառման վրա կատարվող ծախսը (հազար դրամ) | C41: ='1'!D124 -> -10298.8
A42: Ծրագրի միջոցառումները
A43: Ծրագրի դասիչը` | B43: 1072 | C43: Ցուցանիշների փոփոխությունը (նվազեցումները նշված են փակագծերում)
A44: Միջոցառման դասիչը` | B44: 31001 | C44: Տարի
A45: Միջոցառման անվանումը` | B45: Գերմանիայի զարգացման վարկերի բանկի աջակցությամբ իրականացվող ջրամատակարարման և ջրահեռացման ենթակառուցվածքների վերականգնման ծրագրի երրորդ փուլի շրջանակներում Ջրամատակարարման և ջրահեռացման ենթակառուցվածքների հիմնանորոգում
A46: Նկարագրությունը` | B46: 6 քաղաքների և 37 գյուղական բնակավայրերի ջրամատակարարման և ջրահեռացման համակարգերի հատվածների հրատապ (մասնակի) վերականգնման աշխատանքներ
A47: Միջոցառման տեսակը` | B47: Պետական մարմինների կողմից օգտագործվող ոչ ֆինանսական ակտիվների հետ գործառնություններ
A48: Ծառայությունը մատուցող կազմակերպության անվանումը | B48: Մասնագիտացված միավոր
A49: Արդյունքի չափորոշիչներ
A50: Նորոգվող ջրագծերի երկարություն, կմ | C50: 0
A51: Նորոգվող կոյուղագծերի երկարություն, կմ | C51: 0
A52: Նորոգվող տնային միացումներ, հատ | C52: 0
A53: Միջոցառման վրա կատարվող ծախսը (հազար դրամ) | C53: ='1'!D130 -> -150000
A54: Ծրագրի դասիչը` | B54: 1004 | C54: Ցուցանիշների փոփոխությունը (նվազեցումները նշված են փակագծերում)
A55: Միջոցառման դասիչը` | B55: 11005 | C55: Տարի
A56: Միջոցառման անվանումը` | B56: Եվրասիական զարգացման բանկի աջակցությամբ իրականացվող ոռոգման համակարգերի զարգացման ծրագրի խորհրդատվություն և կառավարում
A57: Նկարագրությունը` | B57: Եվրասիական զարգացման բանկի աջակցությամբ իրականացվող ոռոգման համակարգերի զարգացման ծրագրի համակարգում և ղեկավարում
A58: Միջոցառման տեսակը` | B58: Ծառայությունների մատուցում
A59: Ակտիվն օգտագործող կազմակերպության(ների) անվանում(ները)՛ | B59: Մասնագիտատացված միավոր
A60: Արդյունքի չափորոշիչներ
A61: Կառավարվող/վերահսկվող պայմանագրերի քանակ, հատ | C61: 0
A62: Միջոցառման վրա կատարվող ծախսը (հազար դրամ) | C62: ='1'!D44 -> -72680.9
A63: Ծրագրի դասիչը` | B63: 1004 | C63: Ցուցանիշների փոփոխությունը (նվազեցումները նշված են փակագծերում)
A64: Միջոցառման դասիչը` | B64: 11008 | C64: Տարի
A65: Միջոցառման անվանումը` | B65: Գերմանիայի զարգացման վարկերի բանկի աջակցությամբ իրականացվող Ախուրյան գետի ջրային ռեսուրսների ինտեգրացված կառավարման ծրագրի երկրորդ փուլի խորհրդատվություն և կառավարում
A66: Նկարագրությունը` | B66: Գերմանիայի զարգացման վարկերի բանկի աջակցությամբ իրականացվող Ախուրյան գետի ջրային ռեսուրսների ինտեգրացված կառավարման ծրագրի երկրորդ փուլի համակարգում և ղեկավարում
A67: Միջոցառման տեսակը` | B67: Ծառայությունների մատուցում
A68: Ակտիվն օգտագործող կազմակերպության(ների) անվանում(ները)՛ | B68: Մասնագիտատացված միավոր
A69: Արդյունքի չափորոշիչներ
A70: Կառավարվող/վերահսկվող պայմանագրերի քանակ, հատ | C70: 0
A71: Միջոցառման վրա կատարվող ծախսը (հազար դրամ) | C71: ='1'!D50 -> -47857.5
A72: Ծրագրի դասիչը` | B72: 1004 | C72: Ցուցանիշների փոփոխությունը (նվազեցումները նշված են փակագծերում)
A73: Միջոցառման դասիչը` | B73: 11010 | C73: Տարի
A74: Միջոցառման անվանումը` | B74: Գերմանիայի զարգացման վարկերի բանկի աջակցությամբ իրականացվող Ախուրյան գետի ջրային ռեսուրսների ինտեգրացված կառավարում փուլ 1 ծրագրով Ջրաձոր գյուղի վերաբնակեցման գործողությունների խորհրդատվություն և կառավարում_x000D_
A75: Նկարագրությունը` | B75: Գերմանիայի զարգացման վարկերի բանկի աջակցությամբ իրականացվող Ախուրյան գետի ջրային ռեսուրսների ինտեգրացված կառավարում փուլ 1 ծրագրով Ջրաձոր գյուղի վերաբնակեցման գործողությունների համակարգում և ղեկավարում
A76: Միջոցառման տեսակը` | B76: Ծառայությունների մատուցում
A77: Միջոցառումն իրականացնողի անվանումը | B77: Մասնագիտացված միավոր
A78: Արդյունքի չափորոշիչներ
A79: Կառավարվող/վերահսկվող պայմանագրերի քանակ, հատ | C79: 0
A80: Միջոցառման վրա կատարվող ծախսը (հազար դրամ) | C80: ='1'!D56 -> -28384.9
A81: Ծրագրի դասիչը` | B81: 1004 | C81: Ցուցանիշների փոփոխությունը (նվազեցումները նշված են փակագծերում)
A82: Միջոցառման դասիչը` | B82: 31001 | C82: Տարի
A83: Միջոցառման անվանումը` | B83: Ֆրանսիայի Հանրապետության կառավարության աջակցությամբ իրականացվող Վեդու ջրամբարի կառուցում
A84: Նկարագրությունը` | B84: Ֆրանսիայի Հանրապետության կառավարության աջակցությամբ իրականացվող Վեդու ջրամբարի կառուցման ծրագիր
A85: Միջոցառման տեսակը` | B85: Պետական մարմինների կողմից օգտագործվող ոչ ֆինանսական ակտիվների հետ գործառնություններ
A86: Միջոցառումն իրականացնողի անվանումը | B86: Մասնագիտացված միավոր
A87: Արդյունքի չափորոշիչներ
A88: Կկառուցվի Վեդի և Խոսրով գետերի վրա ջրառի ջրաթափ կառույցը և ջրի փոխադրող համակարգը,կմ | C88: 0
A89: Կկառուցվի ոռոգման համակարգի հատվածը,կմ | C89: 0
A90: Պատվարի կառուցում, մ
A91: Ոռոգման ներտնտեսային ցանցի նորոգում, կմ | C91: 0
A92: Միջոցառման վրա կատարվող ծախսը (հազար դրամ) | C92: ='1'!D62 -> -216666.7
A93: Ծրագրի դասիչը` | B93: 1004 | C93: Ցուցանիշների փոփոխությունը (նվազեցումները նշված են փակագծերում)
A94: Միջոցառման դասիչը` | B94: 31005 | C94: Տարի
A95: Միջոցառման անվանումը` | B95: Եվրասիական զարգացման բանկի աջակցությամբ իրականացվող ոռոգման համակարգերի զարգացման ծրագրի շրջանակներում ջրային տնտեսության ենթակառուցվածքների հիմնանորոգում
A96: Նկարագրությունը` | B96: Եվրասիական զարգացման բանկի աջակցությամբ իրականացվող ոռոգման համակարգերի զարգացման ծրագիր
A97: Միջոցառման տեսակը` | B97: Պետական մարմինների կողմից օգտագործվող ոչ ֆինանսական ակտիվների հետ գործառնություններ
A98: Միջոցառումն իրականացնողի անվանումը | B98: Մասնագիտացված միավոր
A99: Արդյունքի չափորոշիչներ
A100: Հիմնանորոգվող ոռոգման ցանցերի երկարություն, կմ | C100: 0
A101: Նոր կառուցվող ոռոգմանցանցերի երկարություն, կմ | C101: 0
A102: Միջոցառման վրա կատարվող ծախսը (հազար դրամ) | C102: ='1'!D68 -> -66738.2
A103: Ծրագրի դասիչը` | B103: 1019 | C103: Ցուցանիշների փոփոխությունը (նվազեցումները նշված են փակագծերում)
A104: Միջոցառման դասիչը` | B104: 12001 | C104: Տարի
A105: Միջոցառման անվանումը` | B105: Համաշխարհային բանկի աջակցությամբ իրականացվող Տարածքային զարգացման հիմնադրամի ծրագրի շրջանակներում ՀՀ տարածքներում ջրագծերի, առողջապահության, կրթության, մշակույթի, հատուկ խնամքի և ենթակառուցվածքների ոլորտի վերականգնման և շինարարության աշխատանքներ
A106: Նկարագրությունը` | B106: Տարածքային զարգացման հիմնադրամի ծրագրով նախատեսված ՀՀ տարածքներում ջրագծերի, առողջապահության, կրթության օբյեկտների, մշակույթային տների, ծերանոցների, մանկատների, հատուկ դպրոցների, մանկապարտեզների և կոյուղու օբյեկտների հիմնանորոգում և շինարարություն
A107: Միջոցառման տեսակը` | B107: Տրանսֆերտների տրամադրում
A108: Շահառուների ընտրության չափանիշները | B108: Համաձայն ՏԶՀ Ղեկավար ձեռնարկի, որը ֆինանսավորման համաձայնագրի մաս է կազմում
A109: Արդյունքի չափորոշիչներ
...

Sheet 7
D1: Հավելված N7
D2: ՀՀ կառավարության 2020թ
D3: ---------ի N ----------- որոշման
A6: ՀԱՅԱՍՏԱՆԻ ՀԱՆՐԱՊԵՏՈՒԹՅԱՆ ԿԱՌԱՎԱՐՈՒԹՅԱՆ 2019 ԹՎԱԿԱՆԻ ԴԵԿՏԵՄԲԵՐԻ 26-Ի N 1919-Ն ՈՐՈՇՄԱՆ N 9.1 ՀԱՎԵԼՎԱԾԻ N 9.1.26 ԱՂՅՈՒՍԱԿՈՒՄ ԿԱՏԱՐՎՈՂ ՓՈՓՈԽՈՒԹՅՈՒՆՆԵՐԸ
A7: ՀՀ տարածքային կառավարման և ենթակառուցվածքների նախարարության ջրային կոմիտե
A8: ՄԱՍ1. ՊԵՏԱԿԱՆ ՄԱՐՄՆԻ ԳԾՈՎ ԱՐԴՅՈՒՆՔԱՅԻՆ (ԿԱՏԱՐՈՂԱԿԱՆ) ՑՈՒՑԱՆԻՇՆԵՐԸ
B10: Ծրագրի դասիչը | C10: Ծրագրի անվանումը
B11: 1072 | C11: Ջրամատակարարաման և ջրահեռացման բարելավում
B13: Ծրագրի միջոցառումները
B15: Ծրագրի դասիչը` | C15: 1072 | D15: Ցուցանիշների փոփոխությունը (նվազեցումները նշված են փակագծերում)
B16: Միջոցառման դասիչը` | C16: 12001 | D16: Տարի
B17: Միջոցառման անվանումը` | C17: Գերմանիայի զարգացման և Եվրոպական միության հարևանության ներդրումային բանկի աջակցությամբ իրականացվող ջրամատակարարման և ջրահեռացման ենթակառուցվածքների դրամաշնորհային ծրագիր` երրորդ փուլ
B18: Նկարագրությունը` | C18: 579 գյուղական բնակավայրերից ընտրված որոշ համայնքների ջրամատակարարման և ջրահեռացման համակարգերի հատվածների հրատապ վերականգնման աշխատանքների իրականացում ինչպես նաև՛ Արմավիրի կեղտաջրերի մաքրման կայանի կառուցում
B19: Միջոցառման տեսակը` | C19: Տրանսֆերտների տրամադրում
B20: Ծառայությունը մատուցող կազմակերպության անվանումը | C20: Մասնագիտացված միավոր
B21: Արդյունքի չափորոշիչներ
B22: Նորոգվող ջրագծերի երկարություն, կմ | D22: 0
B23: Նորոգվող կոյուղագծերի երկարություն, կմ | D23: 0
B24: Նորոգվող տնային միացումներ, հատ | D24: 0
B25: Միջոցառման վրա կատարվող ծախսը (հազար դրամ) | D25: ='6'!C41 -> -10298.8
B26: Ծրագրի միջոցառումները
B27: Ծրագրի դասիչը` | C27: 1072 | D27: Ցուցանիշների փոփոխությունը (նվազեցումները նշված են փակագծերում)
B28: Միջոցառման դասիչը` | C28: 31001 | D28: Տարի
B29: Միջոցառման անվանումը` | C29: Գերմանիայի զարգացման վարկերի բանկի աջակցությամբ իրականացվող ջրամատակարարման և ջրահեռացման ենթակառուցվածքների վերականգնման ծրագրի երրորդ փուլի շրջանակներում Ջրամատակարարման և ջրահեռացման ենթակառուցվածքների հիմնանորոգում
B30: Նկարագրությունը` | C30: 6 քաղաքների և 37 գյուղական բնակավայրերի ջրամատակարարման և ջրահեռացման համակարգերի հատվածների հրատապ (մասնակի) վերականգնման աշխատանքներ
B31: Միջոցառման տեսակը` | C31: Պետական մարմինների կողմից օգտագործվող ոչ ֆինանսական ակտիվների հետ գործառնություններ
B32: Ծառայությունը մատուցող կազմակերպության անվանումը | C32: Մասնագիտացված միավոր
B33: Արդյունքի չափորոշիչներ
B34: Նորոգվող ջրագծերի երկարություն, կմ | D34: 0
B35: Նորոգվող կոյուղագծերի երկարություն, կմ | D35: 0
B36: Նորոգվող տնային միացումներ, հատ | D36: 0
B37: Միջոցառման վրա կատարվող ծախսը (հազար դրամ) | D37: ='6'!C53 -> -150000
B38: Ծրագրի դասիչը` | C38: 1004 | D38: Ցուցանիշների փոփոխությունը (նվազեցումները նշված են փակագծերում)
B39: Միջոցառման դասիչը` | C39: 11005 | D39: Տարի
B40: Միջոցառման անվանումը` | C40: Եվրասիական զարգացման բանկի աջակցությամբ իրականացվող ոռոգման համակարգերի զարգացման ծրագրի խորհրդատվություն և կառավարում
B41: Նկարագրությունը` | C41: Եվրասիական զարգացման բանկի աջակցությամբ իրականացվող ոռոգման համակարգերի զարգացման ծրագրի համակարգում և ղեկավարում
B42: Միջոցառման տեսակը` | C42: Ծառայությունների մատուցում
B43: Ակտիվն օգտագործող կազմակերպության(ների) անվանում(ները)՛ | C43: Մասնագիտատացված միավոր
B44: Արդյունքի չափորոշիչներ
B45: Կառավարվող/վերահսկվող պայմանագրերի քանակ, հատ | D45: 0
B46: Միջոցառման վրա կատարվող ծախսը (հազար դրամ) | D46: ='6'!C62 -> -72680.9
B47: Ծրագրի դասիչը` | C47: 1004 | D47: Ցուցանիշների փոփոխությունը (նվազեցումները նշված են փակագծերում)
B48: Միջոցառման դասիչը` | C48: 11008 | D48: Տարի
B49: Միջոցառման անվանումը` | C49: Գերմանիայի զարգացման վարկերի բանկի աջակցությամբ իրականացվող Ախուրյան գետի ջրային ռեսուրսների ինտեգրացված կառավարման ծրագրի երկրորդ փուլի խորհրդատվություն և կառավարում
B50: Նկարագրությունը` | C50: Գերմանիայի զարգացման վարկերի բանկի աջակցությամբ իրականացվող Ախուրյան գետի ջրային ռեսուրսների ինտեգրացված կառավարման ծրագրի երկրորդ փուլի համակարգում և ղեկավարում
B51: Միջոցառման տեսակը` | C51: Ծառայությունների մատուցում
B52: Ակտիվն օգտագործող կազմակերպության(ների) անվանում(ները)՛ | C52: Մասնագիտատացված միավոր
B53: Արդյունքի չափորոշիչներ
B54: Կառավարվող/վերահսկվող պայմանագրերի քանակ, հատ | D54: 0
B55: Միջոցառման վրա կատարվող ծախսը (հազար դրամ) | D55: ='6'!C71 -> -47857.5
B56: Ծրագրի դասիչը` | C56: 1004 | D56: Ցուցանիշների փոփոխությունը (նվազեցումները նշված են փակագծերում)
B57: Միջոցառման դասիչը` | C57: 11010 | D57: Տարի
B58: Միջոցառման անվանումը` | C58: Գերմանիայի զարգացման վարկերի բանկի աջակցությամբ իրականացվող Ախուրյան գետի ջրային ռեսուրսների ինտեգրացված կառավարում փուլ 1 ծրագրով Ջրաձոր գյուղի վերաբնակեցման գործողությունների խորհրդատվություն և կառավարում_x000D_
B59: Նկարագրությունը` | C59: Գերմանիայի զարգացման վարկերի բանկի աջակցությամբ իրականացվող Ախուրյան գետի ջրային ռեսուրսների ինտեգրացված կառավարում փուլ 1 ծրագրով Ջրաձոր գյուղի վերաբնակեցման գործողությունների համակարգում և ղեկավարում
B60: Միջոցառման տեսակը` | C60: Ծառայությունների մատուցում
B61: Միջոցառումն իրականացնողի անվանումը | C61: Մասնագիտացված միավոր
B62: Արդյունքի չափորոշիչներ
B63: Կառավարվող/վերահսկվող պայմանագրերի քանակ, հատ | D63: 0
B64: Միջոցառման վրա կատարվող ծախսը (հազար դրամ) | D64: ='6'!C80 -> -28384.9
B65: Ծրագրի դասիչը` | C65: 1004 | D65: Ցուցանիշների փոփոխությունը (նվազեցումները նշված են փակագծերում)
B66: Միջոցառման դասիչը` | C66: 31001 | D66: Տարի
B67: Միջոցառման անվանումը` | C67: Ֆրանսիայի Հանրապետության կառավարության աջակցությամբ իրականացվող Վեդու ջրամբարի կառուցում
B68: Նկարագրությունը` | C68: Ֆրանսիայի Հանրապետության կառավարության աջակցությամբ իրականացվող Վեդու ջրամբարի կառուցման ծրագիր
B69: Միջոցառման տեսակը` | C69: Պետական մարմինների կողմից օգտագործվող ոչ ֆինանսական ակտիվների հետ գործառնություններ
B70: Միջոցառումն իրականացնողի անվանումը | C70: Մասնագիտացված միավոր
B71: Արդյունքի չափորոշիչներ
B72: Կկառուցվի Վեդի և Խոսրով գետերի վրա ջրառի ջրաթափ կառույցը և ջրի փոխադրող համակարգը,կմ | D72: 0
B73: Կկառուցվի ոռոգման համակարգի հատվածը,կմ | D73: 0
B74: Պատվարի կառուցում, մ
B75: Ոռոգման ներտնտեսային ցանցի նորոգում, կմ | D75: 0
B76: Միջոցառման վրա կատարվող ծախսը (հազար դրամ) | D76: ='6'!C92 -> -216666.7
B77: Ծրագրի դասիչը` | C77: 1004 | D77: Ցուցանիշների փոփոխությունը (նվազեցումները նշված են փակագծերում)
B78: Միջոցառման դասիչը` | C78: 31005 | D78: Տարի
B79: Միջոցառման անվանումը` | C79: Եվրասիական զարգացման բանկի աջակցությամբ իրականացվող ոռոգման համակարգերի զարգացման ծրագրի շրջանակներում ջրային տնտեսության ենթակառուցվածքների հիմնանորոգում
B80: Նկարագրությունը` | C80: Եվրասիական զարգացման բանկի աջակցությամբ իրականացվող ոռոգման համակարգերի զարգացման ծրագիր
B81: Միջոցառման տեսակը` | C81: Պետական մարմինների կողմից օգտագործվող ոչ ֆինանսական ակտիվների հետ գործառնություններ
B82: Միջոցառումն իրականացնողի անվանումը | C82: Մասնագիտացված միավոր
B83: Արդյունքի չափորոշիչներ
B84: Հիմնանորոգվող ոռոգման ցանցերի երկարություն, կմ | D84: 0
B85: Նոր կառուցվող ոռոգմանցանցերի երկարություն, կմ | D85: 0
B86: Միջոցառման վրա կատարվող ծախսը (հազար դրամ) | D86: ='6'!C102 -> -66738.2
B87: Ծրագրի դասիչը` | C87: 1019 | D87: Ցուցանիշների փոփոխությունը (նվազեցումները նշված են փակագծերում)
B88: Միջոցառման դասիչը` | C88: 12001 | D88: Տարի
B89: Միջոցառման անվանումը` | C89: Համաշխարհային բանկի աջակցությամբ իրականացվող Տարածքային զարգացման հիմնադրամի ծրագրի շրջանակներում ՀՀ տարածքներում ջրագծերի, առողջապահության, կրթության, մշակույթի, հատուկ խնամքի և ենթակառուցվածքների ոլորտի վերականգնման և շինարարության աշխատանքներ
B90: Նկարագրությունը` | C90: Տարածքային զարգացման հիմնադրամի ծրագրով նախատեսված ՀՀ տարածքներում ջրագծերի, առողջապահության, կրթության օբյեկտների, մշակույթային տների, ծերանոցների, մանկատների, հատուկ դպրոցների, մանկապարտեզների և կոյուղու օբյեկտների հիմնանորոգում և շինարարություն
B91: Միջոցառման տեսակը` | C91: Տրանսֆերտների տրամադրում
B92: Շահառուների ընտրության չափանիշները | C92: Համաձայն ՏԶՀ Ղեկավար ձեռնարկի, որը ֆինանսավորման համաձայնագրի մաս է կազմում
B93: Արդյունքի չափորոշիչներ
B94: Խմելու ջրի ջրամատակարարման ենթածրագրերի թիվը | D94: 0
B95: Ոռոգման համակարգի ենթածրագրերի թիվը | D95: 0
B96: Դպրոցների և մանկապարտեզների թիվը, որոնց կահույք է տրամադրվել | D96: 0
B97: Համայնքների թիվը, որոնց տրամադրվել են սարքավորումներ և տեխնիկա | D97: 0
B98: Հիմնանորոգված և նոր կառուցված ջրագծերի, առողջապահության, կրթության, մշակույթի, հատուկ խնամքի և ենթակառուցվածքների ոլորտի օբյեկտներից օգտվող համայնքներ, համայնքների թիվ, հատ | D98: 0
B99: Ծրագրի շահառուների թիվ | D99: 0
B100: Միջոցառման վրա կատարվող ծախսը (հազար դրամ) | D100: ='6'!C116 -> -325440.9
B101: Ծրագրի դասիչը` | C101: 1189 | D101: Ցուցանիշների փոփոխությունը (նվազեցումները նշված են փակագծերում)
B102: Միջոցառման դասիչը` | C102: 12001 | D102: Տարի
B103: Միջոցառման անվանումը` | C103: Ասիական զարգացման բանկի աջակցությամբ իրականացվող դպրոցների սեյսմիկ պաշտպանության ծրագրի շրջանակներում ՀՀ դպրոցների սեյսմիկ անվտանգության բարելավմանն ուղղված միջոցառումներ
B104: Նկարագրությունը` | C104: Դպրոցների շենքերի ամրացման շինարարական աշխատանքներ, շինարարական ստանդարտների արդիականացում, արտակարգ իրավիճակներին արձագանքման ծրագրի մշակում, սեյսմիկ մոնիտորինգի դիտակետերի սարքավորումների արդիականացում:_x000D_
B105: Միջոցառման տեսակը` | C105: Տրանսֆերտների տրամադրում
...
