Workbook

Sheet հավելված 1
E1: Հավելված N 1
E2: ՀՀ կառավարության 2020 թվականի
E3: -----------------ի N -----------Ն որոշման
B5: ՀԱՅԱՍՏԱՆԻ ՀԱՆՐԱՊԵՏՈՒԹՅԱՆ 2020 ԹՎԱԿԱՆԻ ՊԵՏԱԿԱՆ ԲՅՈՒՋԵԻ ՄԱՍԻՆ ՕՐԵՆՔԻ N 1 ՀԱՎԵԼՎԱԾԻ N 2 ԱՂՅՈՒՍԱԿՈՒՄ ԿԱՏԱՐՎՈՂ ՎԵՐԱԲԱՇԽՈՒՄԸ ԵՎ ՀԱՅԱՍՏԱՆԻ ՀԱՆՐԱՊԵՏՈՒԹՅԱՆ ԿԱՌԱՎԱՐՈՒԹՅԱՆ 2019 ԹՎԱԿԱՆԻ ԴԵԿՏԵՄԲԵՐԻ 26-Ի N 1919-Ն ՈՐՈՇՄԱՆ N 5 ՀԱՎԵԼՎԱԾԻ N 1 ԱՂՅՈՒՍԱԿՈՒՄ ԿԱՏԱՐՎՈՂ ՓՈՓՈԽՈՒԹՅՈՒՆՆԵՐԸ
D6: հազար դրամներով
B7: Ծրագրային դասիչը | D7: Բյուջետային հատկացումների գլխավոր կարգադրիչների, ծրագրերի և միջոցառումների անվանումները | E7: Ցուցանիշների փոփոխությունները ավելացումները նշված են դրական նշանով, իսկ նվազեցումները՝ փակագծերում
B8: Ծրագիր | C8: Միջոցառում | E8: Տարի
D9: Ընդամենը | E9: =+E10 -> 0
B10: ՀՀ աշխատանքի և սոցիալական հարցերի նախարարություն | E10: =SUM(E11,E25,E38,E58,E78) -> 0
B11: 1005 | D11: Ծրագրի անվանումը՝ | E11: =SUM(E18) -> -160000
D12: Պարգևավճարներ և պատվովճարներ
D13: Ծրագրի նպատակը՝
D14: Պետական հոգածության դրսևորում առանձին կատերգորիայի քաղաքացիներին և նրանց ընտանիքներին սոցիալական երաշխիքների տրամադրում
D15: Վերջնական արդյունքի նկարագրությունը
D16: Առանձին կատերգորիայի քաղաքացիներին և նրանց ընտանիքների անդամների սոցիալական պաշտպանվածության մակարդակի բարձրացում
B17: Ծրագրի միջոցառումներ
C18: 12001 | D18: Միջոցառման անվանումը` | E18: =+'հավելված 2'!G69 -> -160000
D19: Զինծառայողներին, ՀՄՊ մասնակիցներին,և այլ պետություններում մարտական գործողությունների մասնակիցներին զոհված (մահացած) զինծառայողների ընտանիքներին անդամներին, ընտանիքներին տրվող պարգևավճարներ
D20: Միջոցառման նկարագրությունը`
D21: Զինծառայողներին, ՀՄՊ մասնակիցներին,և այլ պետություններում մարտական գործողությունների մասնակիցներին զոհված (մահացած) զինծառայողների ընտանիքներին անդամներին, ընտանիքներին տրվող պարգևավճարների տրամադրում
D22: Միջոցառման տեսակը`
D23: Տրանսֆերտների տրամադրում
B25: 1068 | D25: Ծրագրի անվանումը՝ | E25: =SUM(E32) -> 300000
D26: Ժողովրդագրական վիճակի բարելավում
D27: Ծրագրի նպատակը՝
D28: Խթանել ժողովրդագրական վիճակի բարելավումը
D29: Վերջնական արդյունքի նկարագրությունը
D30: Ժողովրդագրական վիճակի բարելավում և բազմազավակության աճ
B31: Ծրագրի միջոցառումներ
C32: 12002 | D32: Միջոցառման անվանումը` | E32: ='հավելված 2'!G51 -> 300000
D33: Երեխայի ծննդյան միանվագ նպաստ
D34: Միջոցառման նկարագրությունը`
D35: Երեխայի ծննդյան կապակցությամբ միանվագ նպաստի տրամադրում
D36: Միջոցառման տեսակը`
D37: Տրանսֆերտների տրամադրում
B38: 1082 | D38: Ծրագրի անվանումը՝ | E38: =SUM(E45,E51) -> 78000
D39: Սոցիալական աջակցություն անաշխատունակության դեպքում
D40: Ծրագրի նպատակը՝
D41: Կորցրած եկամուտների մասնակի փոխհատուցում
D42: Վերջնական արդյունքի նկարագրությունը
...

Sheet հավելված 2
G1: Հավելված N 2
G2: ՀՀ կառավարության 2020 թվականի
G3: -----------------ի N -----------Ն որոշման
A4: ՀԱՅԱՍՏԱՆԻ ՀԱՆՐԱՊԵՏՈՒԹՅԱՆ ԿԱՌԱՎԱՐՈՒԹՅԱՆ 2019 ԹՎԱԿԱՆԻ ԴԵԿՏԵՄԲԵՐԻ 26-Ի N 1919-Ն ՈՐՈՇՄԱՆ N 3 և N 4 ՀԱՎԵԼՎԱԾՆԵՐՈՒՄ ԿԱՏԱՐՎՈՂ ՓՈՓՈԽՈՒԹՅՈՒՆՆԵՐԻ ՄԱՍԻՆ
G5: հազար դրամներով
A6: Գործառական դասիչը | D6: Ծրագրային դասիչը | F6: Բյուջետային ծախսերի գործառական դասակարգման բաժինների, խմբերի և դասերի, բյուջետային ծրագրերի միջոցառումների, բյուջետային հատկացումների գլխավոր կարգադրիչների անվանումները | G6: Ցուցանիշների փոփոխությունները ավելացումները նշված են դրական նշանով, իսկ նվազեցումները՝ փակագծերում
A7: Բաժինը | B7: Խումբը | C7: Դասը | D7: Ծրագիր | E7: Միջոցառում | G7: Տարի
F8: ԸՆԴԱՄԵՆԸ՝ ԾԱԽՍԵՐ | G8: =SUM(G10) -> 0
F9: այդ թվում՝
A10: 10 | F10: ՍՈՑԻԱԼԱԿԱՆ ՊԱՇՏՊԱՆՈՒԹՅՈՒՆ | G10: =G18+G23+G36+G47+G54+G65+G76+G83 -> 0
F11: այդ թվում՝
B12: 02 | F12: Ծերություն | G12: =SUM(G14) -> -838000
F13: այդ թվում՝
C14: 01 | F14: Ծերություն | G14: =G15 -> -838000
F15: այդ թվում՝ ՀՀ աշխատանքի և սոցիալական հարցերի նախարարություն | G15: =G16+G23 -> -838000
D16: 1102 | F16: Կենսաթոշակային ապահովություն | G16: =SUM(G18,G39) -> -900000
F17: այդ թվում՝
E18: 12003 | F18: Աշխատանքային կենսաթոշակներ | G18: =G20 -> -900000
F19: այդ թվում՝ ըստ կատարողների
F20: ՀՀ աշխատանքի և սոցիալական հարցերի նախարարության սոցիալական ապահովության ծառայություն | G20: =G22 -> -900000
F21: այդ թվում՝ բյուջետային ծախսերի տնտեսագիտական դասակարգման հոդվածներ
F22: -Կենսաթոշակներ | G22: -900000
D23: 1205 | F23: Սոցիալական ապահովություն | G23: =G25 -> 62000
F24: այդ թվում՝
E25: 12001 | F25: Ծերության, հաշմանդամության, կերակրողին կորցնելու դեպքում նպաստներ | G25: =G27 -> 62000
F26: այդ թվում՝ ըստ կատարողների
F27: ՀՀ աշխատանքի և սոցիալական հարցերի նախարարության սոցիալական ապահովության ծառայություն | G27: =G29 -> 62000
F28: այդ թվում՝ բյուջետային ծախսերի տնտեսագիտական դասակարգման հոդվածներ
F29: -Այլ նպաստներ բյուջեից | G29: 62000
B30: 03 | F30: Հարազատին կորցրած անձինք | G30: =G32 -> 600000
F31: այդ թվում՝
C32: 01 | F32: Հարազատին կորցրած անձինք | G32: =G33 -> 600000
F33: այդ թվում՝ ՀՀ աշխատանքի և սոցիալական հարցերի նախարարություն | G33: =G34 -> 600000
D34: 1205 | F34: Սոցիալական ապահովություն | G34: =G36 -> 600000
F35: այդ թվում՝
E36: 12002 | F36: Կենսաթոշակառուի, ծերության, հաշմանդամության, կերակրողին կորցնելու դեպքում նպաստառուի մահվան դեպքում տրվող թաղման նպաստ | G36: =G38 -> 600000
F37: այդ թվում՝ ըստ կատարողների
F38: ՀՀ աշխատանքի և սոցիալական հարցերի նախարարության սոցիալական ապահովության ծառայություն | G38: =G40 -> 600000
F39: այդ թվում՝ բյուջետային ծախսերի տնտեսագիտական դասակարգման հոդվածներ
F40: - Հուղարկավորության նպաստներ բյուջեից | G40: 600000
...

Sheet հավելված 3
D1: Հավելված N 3
D2: ՀՀ կառավարության 2020 թվականի
D3: -----------------ի N -----------Ն որոշման
B4: ՀԱՅԱՍՏԱՆԻ ՀԱՆՐԱՊԵՏՈՒԹՅԱՆ ԿԱՌԱՎԱՐՈՒԹՅԱՆ 2019 ԹՎԱԿԱՆԻ ԴԵԿՏԵՄԲԵՐԻ 26-Ի N 1919-Ն ՈՐՈՇՄԱՆ N 9 ՀԱՎԵԼՎԱԾԻ N 9.16 ԱՂՅՈՒՍԱԿՈՒՄ ԿԱՏԱՐՎՈՂ ՓՈՓՈԽՈՒԹՅՈՒՆՆԵՐԸ
B6: Հայաստանի Հանրապետության աշխատանքի և սոցիալական հարցերի նախարարություն
B7: ՄԱՍ 1. ՊԵՏԱԿԱՆ ՄԱՐՄՆԻ ԳԾՈՎ ԱՐԴՅՈՒՆՔԱՅԻՆ (ԿԱՏԱՐՈՂԱԿԱՆ) ՑՈՒՑԱՆԻՇՆԵՐԸ
B9: Ծրագրի դասիչը | C9: Ծրագրի անվանումը
B10: 1005 | C10: Պարգևավճարներ և պատվովճարներ
B12: Ծրագրի միջոցառումները
B14: Ծրագրի դասիչը` | C14: 1005 | D14: Ցուցանիշների փոփոխությունը (նվազեցումները նշված են փակագծերում)
B15: Միջոցառման դասիչը` | C15: 12001 | D15: Տարի
B16: Միջոցառման անվանումը` | C16: Զինծառայողներին, ՀՄՊ մասնակիցներին,և այլ պետություններում մարտական գործողությունների մասնակիցներին զոհված (մահացած) զինծառայողների ընտանիքներին անդամներին, ընտանիքներին տրվող պարգևավճարներ
B17: Նկարագրությունը | C17: Զինծառայողներին, ՀՄՊ մասնակիցներին,և այլ պետություններում մարտական գործողությունների մասնակիցներին զոհված (մահացած) զինծառայողների ընտանիքներին անդամներին, ընտանիքներին տրվող պարգևավճարների տրամադրում
B18: Միջոցառման տեսակը | C18: Տրանսֆերտների տրամադրում
B19: Շահառուների ընտրության չափանիշները | C19: ՀՄՊ մասնակիցներ, ՀՄՊ և այլ պետություններում մարտական գործողությունների ընթացքում զոհված զինծառայողների ընտանիքներ
B20: Արդյունքային չափորոշիչներ
B21: Պարգևավճար ստացողների թիվ, ընտանիք | D21: -523
B22: Միջոցառման վրա կատարվող ծախսը հազար դրամ | D22: =SUM('հավելված 2'!G69) -> -160000
B24: Ծրագրի դասիչը | C24: Ծրագրի անվանումը
B25: 1068 | C25: Ժողովրդագրական վիճակի բարելավում
B27: Ծրագրի միջոցառումները
B29: Ծրագրի դասիչը | C29: 1068 | D29: Ցուցանիշների փոփոխությունը (ավելացումները նշված են դրական նշանով)
B30: Միջոցառման դասիչը | C30: 12002 | D30: Տարի
B31: Միջոցառման անվանումը | C31: Երեխայի ծննդյան միանվագ նպաստ
B32: Նկարագրությունը | C32: Երեխայի ծննդյան կապակցությամբ միանվագ նպաստի տրամադրում
B33: Միջոցառման տեսակը | C33: Տրանսֆերտների տրամադրում
B34: Շահառուների ընտրության չափանիշները | C34: ՀՀ-ում հաշվառված նոր ծնված երեխայի ծնող օրինական ներկայացուցիչ
B35: Արդյունքային չափորոշիչներ
B36: Շահառու նորածինների թիվ, այդ թվում՝ | D36: =SUM(D37:D39) -> 15
B37: Ընտանիքում առաջին և երկրորդ երեխաների թիվ
B38: Ընտանիքում երրորդ և չորրորդ երեխաների թիվ | D38: 5
B39: Ընտանիքում հինգ և հաջորդ երեխաների թիվ | D39: 10
B40: Միջոցառման վրա կատարվող ծախսը հազար դրամ | D40: ='հավելված 2'!G47 -> 300000
B42: Ծրագրի դասիչը | C42: Ծրագրի անվանումը
B43: 1082 | C43: Սոցիալական աջակցություն անաշխատունակության դեպքում
B45: Ծրագրի միջոցառումները
B47: Ծրագրի դասիչը` | C47: 1082 | D47: Ցուցանիշների փոփոխությունը (նվազեցումները նշված են փակագծերում)
B48: Միջոցառման դասիչը` | C48: 12001 | D48: Տարի
B49: Միջոցառման անվանումը` | C49: Ժամանակավոր անաշխատունակության դեպքում նպաստ
B50: Նկարագրությունը | C50: ժամանակավոր անաշխատունակության դեպքում (հիվանդության, ընտանիքի հիվանդ անդամի խնամքի և օրենքով սահմանված այլ պատճ. առաջացած) վարձու աշխատողներին, նոտարներին և անհատ ձեռնարկատերերին ժամանակավոր անաշխատունակության նպաստի վճարում
...

Sheet հավելված 4
D1: Հավելված N 4
D2: ՀՀ կառավարության 2020 թվականի
D3: -----------------ի N -----------Ն որոշման
B4: ՀԱՅԱՍՏԱՆԻ ՀԱՆՐԱՊԵՏՈՒԹՅԱՆ ԿԱՌԱՎԱՐՈՒԹՅԱՆ 2019 ԹՎԱԿԱՆԻ ԴԵԿՏԵՄԲԵՐԻ 26-Ի N 1919-Ն ՈՐՈՇՄԱՆ N 9.1 ՀԱՎԵԼՎԱԾԻ N 9.1.20 ԱՂՅՈՒՍԱԿՈՒՄ ԿԱՏԱՐՎՈՂ ՓՈՓՈԽՈՒԹՅՈՒՆՆԵՐԸ
B6: Հայաստանի Հանրապետության աշխատանքի և սոցիալական հարցերի նախարարության սոցիալական ապահովության ծառայություն
B7: ՄԱՍ 1. ՊԵՏԱԿԱՆ ՄԱՐՄՆԻ ԳԾՈՎ ԱՐԴՅՈՒՆՔԱՅԻՆ (ԿԱՏԱՐՈՂԱԿԱՆ) ՑՈՒՑԱՆԻՇՆԵՐԸ
B10: Ծրագրի դասիչը | C10: Ծրագրի անվանումը
B11: 1005 | C11: Պարգևավճարներ և պատվովճարներ
B13: Ծրագրի միջոցառումները
B15: Ծրագրի դասիչը` | C15: 1005 | D15: Ցուցանիշների փոփոխությունը (նվազեցումները նշված են փակագծերում)
B16: Միջոցառման դասիչը` | C16: 12001 | D16: Տարի
B17: Միջոցառման անվանումը` | C17: Զինծառայողներին, ՀՄՊ մասնակիցներին,և այլ պետություններում մարտական գործողությունների մասնակիցներին զոհված (մահացած) զինծառայողների ընտանիքներին անդամներին, ընտանիքներին տրվող պարգևավճարներ
B18: Նկարագրությունը | C18: Զինծառայողներին, ՀՄՊ մասնակիցներին,և այլ պետություններում մարտական գործողությունների մասնակիցներին զոհված (մահացած) զինծառայողների ընտանիքներին անդամներին, ընտանիքներին տրվող պարգևավճարների տրամադրում
B19: Միջոցառման տեսակը | C19: Տրանսֆերտների տրամադրում
B20: Շահառուների ընտրության չափանիշները | C20: ՀՄՊ մասնակիցներ, ՀՄՊ և այլ պետություններում մարտական գործողությունների ընթացքում զոհված զինծառայողների ընտանիքներ
B21: Արդյունքային չափորոշիչներ
B22: Պարգևավճար ստացողների թիվ, ընտանիք | D22: =+'հավելված 3'!D21 -> -523
B23: Միջոցառման վրա կատարվող ծախսը հազար դրամ | D23: =+'հավելված 3'!D22 -> -160000
B25: Ծրագրի դասիչը | C25: Ծրագրի անվանումը
B26: 1068 | C26: Ժողովրդագրական վիճակի բարելավում
B28: Ծրագրի միջոցառումները
B30: Ծրագրի դասիչը | C30: 1068 | D30: Ցուցանիշների փոփոխությունը (ավելացումները նշված են դրական)
B31: Միջոցառման դասիչը | C31: 12002 | D31: Տարի
B32: Միջոցառման անվանումը | C32: Երեխայի ծննդյան միանվագ նպաստ
B33: Նկարագրությունը | C33: Երեխայի ծննդյան կապակցությամբ միանվագ նպաստի տրամադրում
B34: Միջոցառման տեսակը | C34: Տրանսֆերտների տրամադրում
B35: Շահառուների ընտրության չափանիշները | C35: ՀՀ-ում հաշվառված նոր ծնված երեխայի ծնող օրինական ներկայացուցիչ
B36: Արդյունքային չափորոշիչներ
B37: Շահառու նորածինների թիվ, այդ թվում՝ | D37: =+'հավելված 3'!D36 -> 15
B38: Ընտանիքում առաջին և երկրորդ երեխաների թիվ | D38: =+'հավելված 3'!D37 -> 0
B39: Ընտանիքում երրորդ և չորրորդ երեխաների թիվ | D39: =+'հավելված 3'!D38 -> 5
B40: Ընտանիքում հինգ և հաջորդ երեխաների թիվ | D40: =+'հավելված 3'!D39 -> 10
B41: Միջոցառման վրա կատարվող ծախսը հազար դրամ | D41: =+'հավելված 3'!D40 -> 300000
B43: Ծրագրի դասիչը | C43: Ծրագրի անվանումը
B44: 1082 | C44: Սոցիալական աջակցություն անաշխատունակության դեպքում
B46: Ծրագրի միջոցառումները
B48: Ծրագրի դասիչը` | C48: 1082 | D48: Ցուցանիշների փոփոխությունը (նվազեցումները նշված են փակագծերում)
B49: Միջոցառման դասիչը` | C49: 12001 | D49: Տարի
B50: Միջոցառման անվանումը` | C50: Ժամանակավոր անաշխատունակության դեպքում նպաստ
B51: Նկարագրությունը | C51: ժամանակավոր անաշխատունակության դեպքում (հիվանդության, ընտանիքի հիվանդ անդամի խնամքի և օրենքով սահմանված այլ պատճ. առաջացած) վարձու աշխատողներին, նոտարներին և անհատ ձեռնարկատերերին ժամանակավոր անաշխատունակության նպաստի վճարում
...

Sheet 5
I1: Հավելված N 5
I2: ՀՀ կառավարության 2020 թվականի
I3: -----------------ի N -----------Ն որոշման
A4: ՀԱՅԱՍՏԱՆԻ ՀԱՆՐԱՊԵՏՈՒԹՅԱՆ ԿԱՌԱՎԱՐՈՒԹՅԱՆ 2019 ԹՎԱԿԱՆԻ ԴԵԿՏԵՄԲԵՐԻ 26-Ի N 1919-Ն ՈՐՈՇՄԱՆ N 10 ՀԱՎԵԼՎԱԾՈՒՄ ԿԱՏԱՐՎՈՂ ՓՈՓՈԽՈՒԹՅՈՒՆԸ
A6: Գնման առարկայի | I6: Ցուցանիշների փոփոխությունները ավելացումները նշված են դրական նշանով գումարը (հազ. դրամ)
A7: Կոդը | D7: Անվանումը | E7: Գնման ձևը | F7: Չափման միավորը | G7: Միավորի գինը | H7: Քանակը
A8: ՀՀ աշխատանքի և սոցիալական հարցերի նախարարության սոցիալական ապահովության պետական ծառայություն | I8: =I9 -> 20000
A9: Բաժին N 10 | B9: Խումբ N 09 | C9: Դաս N 02 | D9: Սոցիալական պաշտպանությանը տրամադրվող օժանդակ ծառայություններ (այլ դասերին չպատկանող) | I9: =I10 -> 20000
A10: 1102 11002 | B10: Կենսաթոշակների և այլ դրամական վճարների իրականացման ապահովում | I10: =+I11 -> 20000
B11: ՄԱՍ III. ԾԱՌԱՅՈՒԹՅՈՒՆՆԵՐ | I11: =SUM(I12:I12) -> 20000
A12: 79571100-1 | C12: փոստային առաքման ծառայություններ | E12: ՄԱ | F12: դրամ | G12: 20000000 | I12: =G12/1000 -> 20000

Sheet Sheet1
