Workbook

Sheet հավելված 1
E1: Հավելված N 1
E2: ՀՀ կառավարության 2020 թվականի
E3: -----------------ի N -----------Ն որոշման
B5: ՀԱՅԱՍՏԱՆԻ ՀԱՆՐԱՊԵՏՈՒԹՅԱՆ 2020 ԹՎԱԿԱՆԻ ՊԵՏԱԿԱՆ ԲՅՈՒՋԵԻ ՄԱՍԻՆ ՕՐԵՆՔԻ N 1 ՀԱՎԵԼՎԱԾԻ N 2 ԱՂՅՈՒՍԱԿՈՒՄ ԿԱՏԱՐՎՈՂ ՎԵՐԱԲԱՇԽՈՒՄԸ ԵՎ ՀԱՅԱՍՏԱՆԻ ՀԱՆՐԱՊԵՏՈՒԹՅԱՆ ԿԱՌԱՎԱՐՈՒԹՅԱՆ 2019 ԹՎԱԿԱՆԻ ԴԵԿՏԵՄԲԵՐԻ 26-Ի N 1919-Ն ՈՐՈՇՄԱՆ N 5 ՀԱՎԵԼՎԱԾԻ N 1 ԱՂՅՈՒՍԱԿՈՒՄ ԿԱՏԱՐՎՈՂ ՓՈՓՈԽՈՒԹՅՈՒՆՆԵՐԸ
D6: հազար դրամներով
B7: Ծրագրային դասիչը | D7: Բյուջետային հատկացումների գլխավոր կարգադրիչների, ծրագրերի և միջոցառումների անվանումները | E7: Ցուցանիշների փոփոխությունները ավելացումները նշված են դրական նշանով, իսկ նվազեցումները՝ փակագծերում
B8: Ծրագիր | C8: Միջոցառում | E8: Տարի
D9: Ընդամենը | E9: =+E10 -> 0
B10: ՀՀ աշխատանքի և սոցիալական հարցերի նախարարություն | E10: =SUM(E11,E25,E38,E58,E78) -> 0
B11: 1005 | D11: Ծրագրի անվանումը՝ | E11: =SUM(E18) -> -160000
D12: Պարգևավճարներ և պատվովճարներ
D13: Ծրագրի նպատակը՝
D14: Պետական հոգածության դրսևորում առանձին կատերգորիայի քաղաքացիներին և նրանց ընտանիքներին սոցիալական երաշխիքների տրամադրում
D15: Վերջնական արդյունքի նկարագրությունը
D16: Առանձին կատերգորիայի քաղաքացիներին և նրանց ընտանիքների անդամների սոցիալական պաշտպանվածության մակարդակի բարձրացում
B17: Ծրագրի միջոցառումներ
C18: 12001 | D18: Միջոցառման անվանումը` | E18: =+'հավելված 2'!G69 -> -160000
D19: Զինծառայողներին, ՀՄՊ մասնակիցներին,և այլ պետություններում մարտական գործողությունների մասնակիցներին զոհված (մահացած) զինծառայողների ընտանիքներին անդամներին, ընտանիքներին տրվող պարգևավճարներ
D20: Միջոցառման նկարագրությունը`
D21: Զինծառայողներին, ՀՄՊ մասնակիցներին,և այլ պետություններում մարտական գործողությունների մասնակիցներին զոհված (մահացած) զինծառայողների ընտանիքներին անդամներին, ընտանիքներին տրվող պարգևավճարների տրամադրում
D22: Միջոցառման տեսակը`
D23: Տրանսֆերտների տրամադրում
B25: 1068 | D25: Ծրագրի անվանումը՝ | E25: =SUM(E32) -> 300000
D26: Ժողովրդագրական վիճակի բարելավում
D27: Ծրագրի նպատակը՝
D28: Խթանել ժողովրդագրական վիճակի բարելավումը
D29: Վերջնական արդյունքի նկարագրությունը
D30: Ժողովրդագրական վիճակի բարելավում և բազմազավակության աճ
B31: Ծրագրի միջոցառումներ
C32: 12002 | D32: Միջոցառման անվանումը` | E32: ='հավելված 2'!G51 -> 300000
D33: Երեխայի ծննդյան միանվագ նպաստ
D34: Միջոցառման նկարագրությունը`
D35: Երեխայի ծննդյան կապակցությամբ միանվագ նպաստի տրամադրում
D36: Միջոցառման տեսակը`
D37: Տրանսֆերտների տրամադրում
B38: 1082 | D38: Ծրագրի անվանումը՝ | E38: =SUM(E45,E51) -> 78000
D39: Սոցիալական աջակցություն անաշխատունակության դեպքում
D40: Ծրագրի նպատակը՝
D41: Կորցրած եկամուտների մասնակի փոխհատուցում
D42: Վերջնական արդյունքի նկարագրությունը
D43: Անաշխատունակության հետևանքով եկամտի կորստի մասնակի փոխհատուցման ապահովում
B44: Ծրագրի միջոցառումներ
C45: 12001 | D45: Միջոցառման անվանումը` | E45: ='հավելված 2'!G87 -> -100000
D46: Ժամանակավոր անաշխատունակության դեպքում նպաստ
D47: Միջոցառման նկարագրությունը`
D48: ժամանակավոր անաշխատունակության դեպքում (հիվանդության, ընտանիքի հիվանդ անդամի խնամքի և օրենքով սահմանված այլ պատճ. առաջացած) վարձու աշխատողներին, նոտարներին և անհատ ձեռնարկատերերին ժամանակավոր անաշխատունակության նպաստի վճարում
D49: Միջոցառման տեսակը`
D50: Տրանսֆերտների տրամադրում
C51: 12002 | D51: Միջոցառման անվանումը` | E51: ='հավելված 2'!G58 -> 178000
D52: Մայրության նպաստ
D53: Միջոցառման նկարագրությունը`
D54: Մայրության նպաստի տրամադրում աշխատող և չաշխատող անձանց
D55: Միջոցառման տեսակը`
D56: Տրանսֆերտների տրամադրում
B58: 1102 | D58: Ծրագրի անվանումը՝ | E58: =SUM(E65+E71) -> -880000
D59: Կենսաթոշակային ապահովություն
D60: Ծրագրի նպատակը՝
D61: Կենսաթոշակի իրավունքի իրացում
D62: Վերջնական արդյունքի նկարագրությունը
D63: Կենսաթոշակների նշանակման և վճարման գործընթացի ապահովում
B64: Ծրագրի միջոցառումներ
C65: 11002 | D65: Միջոցառման անվանումը` | E65: =+'հավելված 2'!G76 -> 20000
D66: Կենսաթոշակների և այլ դրամական վճարների իրականացման ապահովում
D67: Միջոցառման նկարագրությունը`
D68: Կենսաթոշակների և այլ դրամական վճարների վճարման ծառայությունների ձեռքբերում
D69: Միջոցառման տեսակը`
D70: Ծառայությունների մատուցում
C71: 12003 | D71: Միջոցառման անվանումը` | E71: ='հավելված 2'!G22 -> -900000
D72: Աշխատանքային կենսաթոշակներ
D73: Միջոցառման նկարագրությունը`
D74: Աշխատանքային կենսաթոշակների (տարիքային, հաշմանդամության, արտոնյալ պայմաններով, երկարամյա ծառայության, մասնակի, կերարողին կորցնելու դեպքում կենսաթոշակների) տրամադրում
D75: Միջոցառման տեսակը`
D76: Տրանսֆերտների տրամադրում
B78: 1205 | D78: Ծրագրի անվանումը՝ | E78: =SUM(E85,E91) -> 662000
D79: Սոցիալական ապահովություն
D80: Ծրագրի նպատակը՝
D81: Սոցիալական ապահովության իրավունքի իրականացման ապահովում
D82: Վերջնական արդյունքի նկարագրությունը
D83: Սոցիալական ապահովության իրավունքի իրականացում
B84: Ծրագրի միջոցառումներ
C85: 12001 | D85: Միջոցառման անվանումը` | E85: =SUM('հավելված 2'!G25) -> 62000
D86: Ծերության, հաշմանդամության, կերակրողին կորցնելու դեպքում նպաստներ
D87: Միջոցառման նկարագրությունը`
D88: Ծերության, հաշմանդամության, կերակրողին կորցնելու դեպքում նպաստների տրամադրում
D89: Միջոցառման տեսակը`
D90: Տրանսֆերտների տրամադրում
C91: 12002 | D91: Միջոցառման անվանումը` | E91: ='հավելված 2'!G36 -> 600000
D92: Կենսաթոշակառուի, ծերության, հաշմանդամության, կերակրողին կորցնելու դեպքում նպաստառուի մահվան դեպքում տրվող թաղման նպաստ
D93: Միջոցառման նկարագրությունը`
D94: Կենսաթոշակառուի, ծերության, հաշմանդամության, կերակրողին կորցնելու դեպքում նպաստառուի մահվան դեպքում տրվող թաղման նպաստի տրամադրում
D95: Միջոցառման տեսակը`
D96: Տրանսֆերտների տրամադրում

Sheet հավելված 2
G1: Հավելված N 2
G2: ՀՀ կառավարության 2020 թվականի
G3: -----------------ի N -----------Ն որոշման
A4: ՀԱՅԱՍՏԱՆԻ ՀԱՆՐԱՊԵՏՈՒԹՅԱՆ ԿԱՌԱՎԱՐՈՒԹՅԱՆ 2019 ԹՎԱԿԱՆԻ ԴԵԿՏԵՄԲԵՐԻ 26-Ի N 1919-Ն ՈՐՈՇՄԱՆ N 3 և N 4 ՀԱՎԵԼՎԱԾՆԵՐՈՒՄ ԿԱՏԱՐՎՈՂ ՓՈՓՈԽՈՒԹՅՈՒՆՆԵՐԻ ՄԱՍԻՆ
G5: հազար դրամներով
A6: Գործառական դասիչը | D6: Ծրագրային դասիչը | F6: Բյուջետային ծախսերի գործառական դասակարգման բաժինների, խմբերի և դասերի, բյուջետային ծրագրերի միջոցառումների, բյուջետային հատկացումների գլխավոր կարգադրիչների անվանումները | G6: Ցուցանիշների փոփոխությունները ավելացումները նշված են դրական նշանով, իսկ նվազեցումները՝ փակագծերում
A7: Բաժինը | B7: Խումբը | C7: Դասը | D7: Ծրագիր | E7: Միջոցառում | G7: Տարի
F8: ԸՆԴԱՄԵՆԸ՝ ԾԱԽՍԵՐ | G8: =SUM(G10) -> 0
F9: այդ թվում՝
A10: 10 | F10: ՍՈՑԻԱԼԱԿԱՆ ՊԱՇՏՊԱՆՈՒԹՅՈՒՆ | G10: =G18+G23+G36+G47+G54+G65+G76+G83 -> 0
F11: այդ թվում՝
B12: 02 | F12: Ծերություն | G12: =SUM(G14) -> -838000
F13: այդ թվում՝
C14: 01 | F14: Ծերություն | G14: =G15 -> -838000
F15: այդ թվում՝ ՀՀ աշխատանքի և սոցիալական հարցերի նախարարություն | G15: =G16+G23 -> -838000
D16: 1102 | F16: Կենսաթոշակային ապահովություն | G16: =SUM(G18,G39) -> -900000
F17: այդ թվում՝
E18: 12003 | F18: Աշխատանքային կենսաթոշակներ | G18: =G20 -> -900000
F19: այդ թվում՝ ըստ կատարողների
F20: ՀՀ աշխատանքի և սոցիալական հարցերի նախարարության սոցիալական ապահովության ծառայություն | G20: =G22 -> -900000
F21: այդ թվում՝ բյուջետային ծախսերի տնտեսագիտական դասակարգման հոդվածներ
F22: -Կենսաթոշակներ | G22: -900000
D23: 1205 | F23: Սոցիալական ապահովություն | G23: =G25 -> 62000
F24: այդ թվում՝
E25: 12001 | F25: Ծերության, հաշմանդամության, կերակրողին կորցնելու դեպքում նպաստներ | G25: =G27 -> 62000
F26: այդ թվում՝ ըստ կատարողների
F27: ՀՀ աշխատանքի և սոցիալական հարցերի նախարարության սոցիալական ապահովության ծառայություն | G27: =G29 -> 62000
F28: այդ թվում՝ բյուջետային ծախսերի տնտեսագիտական դասակարգման հոդվածներ
F29: -Այլ նպաստներ բյուջեից | G29: 62000
B30: 03 | F30: Հարազատին կորցրած անձինք | G30: =G32 -> 600000
F31: այդ թվում՝
C32: 01 | F32: Հարազատին կորցրած անձինք | G32: =G33 -> 600000
F33: այդ թվում՝ ՀՀ աշխատանքի և սոցիալական հարցերի նախարարություն | G33: =G34 -> 600000
D34: 1205 | F34: Սոցիալական ապահովություն | G34: =G36 -> 600000
F35: այդ թվում՝
E36: 12002 | F36: Կենսաթոշակառուի, ծերության, հաշմանդամության, կերակրողին կորցնելու դեպքում նպաստառուի մահվան դեպքում տրվող թաղման նպաստ | G36: =G38 -> 600000
F37: այդ թվում՝ ըստ կատարողների
F38: ՀՀ աշխատանքի և սոցիալական հարցերի նախարարության սոցիալական ապահովության ծառայություն | G38: =G40 -> 600000
F39: այդ թվում՝ բյուջետային ծախսերի տնտեսագիտական դասակարգման հոդվածներ
F40: - Հուղարկավորության նպաստներ բյուջեից | G40: 600000
B41: 04 | F41: Ընտանիքի անդամներ և զավակներ | G41: =G43 -> 478000
F42: այդ թվում՝
C43: 01 | F43: Ընտանիքի անդամներ և զավակներ | G43: =G44 -> 478000
F44: այդ թվում՝ ՀՀ աշխատանքի և սոցիալական հարցերի նախարարություն | G44: =G45+G52 -> 478000
D45: 1068 | F45: Ժողովրդագրական վիճակի բարելավում | G45: =SUM(G47) -> 300000
F46: այդ թվում՝
E47: 12002 | F47: Երեխայի ծննդյան միանվագ նպաստ | G47: =G49 -> 300000
F48: այդ թվում՝ ըստ կատարողների
F49: ՀՀ աշխատանքի և սոցիալական հարցերի նախարարության սոցիալական ապահովության ծառայություն | G49: =G51 -> 300000
F50: այդ թվում՝ բյուջետային ծախսերի տնտեսագիտական դասակարգման հոդվածներ
F51: - Երեխաների կամ ընտանեկան նպաստներ բյուջեից | G51: 300000
D52: 1082 | F52: Սոցիալական աջակցություն անաշխատունակության դեպքում | G52: =SUM(G54) -> 178000
F53: այդ թվում՝
E54: 12002 | F54: Մայրության նպաստ | G54: =G56 -> 178000
F55: այդ թվում՝ ըստ կատարողների
F56: ՀՀ աշխատանքի և սոցիալական հարցերի նախարարության սոցիալական ապահովության ծառայություն | G56: =G58 -> 178000
F57: այդ թվում՝ բյուջետային ծախսերի տնտեսագիտական դասակարգման հոդվածներ
F58: - Մայրության նպաստներ բյուջեից | G58: =247000-69000 -> 178000
B59: 07 | F59: Սոցիալական հատուկ արտոնություններ (այլ դասերին չպատկանող) | G59: =G61 -> -160000
F60: այդ թվում՝
C61: 01 | F61: Սոցիալական հատուկ արտոնություններ (այլ դասերին չպատկանող) | G61: =G62 -> -160000
F62: այդ թվում՝ ՀՀ աշխատանքի և սոցիալական հարցերի նախարարություն | G62: =G65 -> -160000
D63: 1005 | F63: Պարգևավճարներ և պատվովճարներ | G63: =SUM(G65) -> -160000
F64: այդ թվում՝
E65: 12001 | F65: Զինծառայողներին, ՀՄՊ մասնակիցներին,և այլ պետություններում մարտական գործողությունների մասնակիցներին զոհված (մահացած) զինծառայողների ընտանիքներին անդամներին, ընտանիքներին տրվող պարգևավճարներ | G65: =G67 -> -160000
F66: այդ թվում՝ ըստ կատարողների
F67: ՀՀ աշխատանքի և սոցիալական հարցերի նախարարության սոցիալական ապահովության ծառայություն | G67: =G69 -> -160000
F68: այդ թվում՝ բյուջետային ծախսերի տնտեսագիտական դասակարգման հոդվածներ
F69: - Այլ նպաստներ բյուջեից | G69: -160000
B70: 09 | F70: Սոցիալական պաշտպանություն (այլ դասերին չպատկանող) | G70: =G72 -> -80000
F71: այդ թվում՝
C72: 02 | F72: Սոցիալական պաշտպանությանը տրամադրվող օժանդակ ծառայություններ (այլ դասերին չպատկանող) | G72: =G73 -> -80000
F73: այդ թվում՝ ՀՀ աշխատանքի և սոցիալական հարցերի նախարարություն | G73: =G81+G74 -> -80000
D74: 1102 | F74: Կենսաթոշակային ապահովություն | G74: =SUM(G76,G97) -> 20000
F75: այդ թվում՝
E76: 11002 | F76: Կենսաթոշակների և այլ դրամական վճարների իրականացման ապահովում | G76: =G78 -> 20000
F77: այդ թվում՝ ըստ կատարողների
F78: ՀՀ աշխատանքի և սոցիալական հարցերի նախարարության սոցիալական ապահովության ծառայություն | G78: =G80 -> 20000
F79: այդ թվում՝ բյուջետային ծախսերի տնտեսագիտական դասակարգման հոդվածներ
F80: -Կապի ծառայություններ | G80: 20000
D81: 1082 | F81: Սոցիալական աջակցություն անաշխատունակության դեպքում | G81: =SUM(G83) -> -100000
F82: այդ թվում՝
E83: 12001 | F83: Ժամանակավոր անաշխատունակության դեպքում նպաստ | G83: =G85 -> -100000
F84: այդ թվում՝ ըստ կատարողների
F85: ՀՀ աշխատանքի և սոցիալական հարցերի նախարարության սոցիալական ապահովության ծառայություն | G85: =G87 -> -100000
F86: այդ թվում՝ բյուջետային ծախսերի տնտեսագիտական դասակարգման հոդվածներ
F87: - Հիվանդության և հաշմանդամության նպաստներ բյուջեից | G87: -100000

Sheet հավելված 3
D1: Հավելված N 3
D2: ՀՀ կառավարության 2020 թվականի
D3: -----------------ի N -----------Ն որոշման
B4: ՀԱՅԱՍՏԱՆԻ ՀԱՆՐԱՊԵՏՈՒԹՅԱՆ ԿԱՌԱՎԱՐՈՒԹՅԱՆ 2019 ԹՎԱԿԱՆԻ ԴԵԿՏԵՄԲԵՐԻ 26-Ի N 1919-Ն ՈՐՈՇՄԱՆ N 9 ՀԱՎԵԼՎԱԾԻ N 9.16 ԱՂՅՈՒՍԱԿՈՒՄ ԿԱՏԱՐՎՈՂ ՓՈՓՈԽՈՒԹՅՈՒՆՆԵՐԸ
B6: Հայաստանի Հանրապետության աշխատանքի և սոցիալական հարցերի նախարարություն
B7: ՄԱՍ 1. ՊԵՏԱԿԱՆ ՄԱՐՄՆԻ ԳԾՈՎ ԱՐԴՅՈՒՆՔԱՅԻՆ (ԿԱՏԱՐՈՂԱԿԱՆ) ՑՈՒՑԱՆԻՇՆԵՐԸ
B9: Ծրագրի դասիչը | C9: Ծրագրի անվանումը
B10: 1005 | C10: Պարգևավճարներ և պատվովճարներ
B12: Ծրագրի միջոցառումները
B14: Ծրագրի դասիչը` | C14: 1005 | D14: Ցուցանիշների փոփոխությունը (նվազեցումները նշված են փակագծերում)
B15: Միջոցառման դասիչը` | C15: 12001 | D15: Տարի
B16: Միջոցառման անվանումը` | C16: Զինծառայողներին, ՀՄՊ մասնակիցներին,և այլ պետություններում մարտական գործողությունների մասնակիցներին զոհված (մահացած) զինծառայողների ընտանիքներին անդամներին, ընտանիքներին տրվող պարգևավճարներ
B17: Նկարագրությունը | C17: Զինծառայողներին, ՀՄՊ մասնակիցներին,և այլ պետություններում մարտական գործողությունների մասնակիցներին զոհված (մահացած) զինծառայողների ընտանիքներին անդամներին, ընտանիքներին տրվող պարգևավճարների տրամադրում
B18: Միջոցառման տեսակը | C18: Տրանսֆերտների տրամադրում
B19: Շահառուների ընտրության չափանիշները | C19: ՀՄՊ մասնակիցներ, ՀՄՊ և այլ պետություններում մարտական գործողությունների ընթացքում զոհված զինծառայողների ընտանիքներ
B20: Արդյունքային չափորոշիչներ
B21: Պարգևավճար ստացողների թիվ, ընտանիք | D21: -523
B22: Միջոցառման վրա կատարվող ծախսը հազար դրամ | D22: =SUM('հավելված 2'!G69) -> -160000
B24: Ծրագրի դասիչը | C24: Ծրագրի անվանումը
B25: 1068 | C25: Ժողովրդագրական վիճակի բարելավում
B27: Ծրագրի միջոցառումները
B29: Ծրագրի դասիչը | C29: 1068 | D29: Ցուցանիշների փոփոխությունը (ավելացումները նշված են դրական նշանով)
B30: Միջոցառման դասիչը | C30: 12002 | D30: Տարի
B31: Միջոցառման անվանումը | C31: Երեխայի ծննդյան միանվագ նպաստ
B32: Նկարագրությունը | C32: Երեխայի ծննդյան կապակցությամբ միանվագ նպաստի տրամադրում
B33: Միջոցառման տեսակը | C33: Տրանսֆերտների տրամադրում
B34: Շահառուների ընտրության չափանիշները | C34: ՀՀ-ում հաշվառված նոր ծնված երեխայի ծնող օրինական ներկայացուցիչ
B35: Արդյունքային չափորոշիչներ
B36: Շահառու նորածինների թիվ, այդ թվում՝ | D36: =SUM(D37:D39) -> 15
B37: Ընտանիքում առաջին և երկրորդ երեխաների թիվ
B38: Ընտանիքում երրորդ և չորրորդ երեխաների թիվ | D38: 5
B39: Ընտանիքում հինգ և հաջորդ երեխաների թիվ | D39: 10
B40: Միջոցառման վրա կատարվող ծախսը հազար դրամ | D40: ='հավելված 2'!G47 -> 300000
B42: Ծրագրի դասիչը | C42: Ծրագրի անվանումը
B43: 1082 | C43: Սոցիալական աջակցություն անաշխատունակության դեպքում
B45: Ծրագրի միջոցառումները
B47: Ծրագրի դասիչը` | C47: 1082 | D47: Ցուցանիշների փոփոխությունը (նվազեցումները նշված են փակագծերում)
B48: Միջոցառման դասիչը` | C48: 12001 | D48: Տարի
B49: Միջոցառման անվանումը` | C49: Ժամանակավոր անաշխատունակության դեպքում նպաստ
B50: Նկարագրությունը | C50: ժամանակավոր անաշխատունակության դեպքում (հիվանդության, ընտանիքի հիվանդ անդամի խնամքի և օրենքով սահմանված այլ պատճ. առաջացած) վարձու աշխատողներին, նոտարներին և անհատ ձեռնարկատերերին ժամանակավոր անաշխատունակության նպաստի վճարում
B51: Միջոցառման տեսակը | C51: Տրանսֆերտների տրամադրում
B52: Շահառուների ընտրության չափանիշները | C52: Օրենքով սահմանված կարգով ու չափով եկամտային հարկ (շահութահարկ) վճարած վարձու աշխատողներ, նոտարներ և անհատ ձեռնարկատերեր
B53: Արդյունքային չափորոշիչներ
B54: Ժամանակավոր անաշխատունակության օրերի թիվ, օր | D54: -34975
B55: Միջոցառման վրա կատարվող ծախսը հազար դրամ | D55: ='հավելված 2'!G87 -> -100000
B57: Ծրագրի դասիչը` | C57: 1082 | D57: Ցուցանիշների փոփոխությունը (ավելացումները նշված են դրական նշանով)
B58: Միջոցառման դասիչը` | C58: 12002 | D58: Տարի
B59: Միջոցառման անվանումը` | C59: Մայրության նպաստ
B60: Նկարագրությունը | C60: Մայրության նպաստի տրամադրում աշխատող և չաշխատող անձանց
B61: Միջոցառման տեսակը | C61: Տրանսֆերտների տրամադրում
B62: Շահառուների ընտրության չափանիշները | C62: Հղիության և ծննդաբերության արձակուրդի իրավունք ունեցող անձիք անկախ աշխատանքային կարգավիճակից
B63: Արդյունքային չափորոշիչներ
B64: Հղիության և ծննդաբերության արձակուրդի օրերի թիվ, օր | D64: 49980
B65: Մարության նպաստ ստացող աշխատող անձանց թիվ, մարդ | D65: 357
B66: Մարության նպաստ ստացող չաշխատող անձանց թիվ, մարդ
B67: Միջոցառման վրա կատարվող ծախսը հազար դրամ | D67: ='հավելված 2'!G58 -> 178000 | E67: =SUM(D67/D64)*1000 -> 3561.4246
B69: Ծրագրի դասիչը | C69: Ծրագրի անվանումը
B70: 1102 | C70: Կենսաթոշակային ապահովություն
B72: Ծրագրի միջոցառումները
B74: Ծրագրի դասիչը՝ | C74: 1102 | D74: Ցուցանիշների փոփոխությունը (ավելացումները նշված են դրական նշանով)
B75: Միջոցառման դասիչը՝ | C75: 11002
B76: Միջոցառման անվանումը՝ | C76: Կենսաթոշակների և այլ դրամական վճարների իրականացման ապահովում
B77: Նկարագրությունը՝ | C77: Կենսաթոշակների և այլ դրամական վճարների վճարման ծառայությունների ձեռքբերում
B78: Միջոցառման տեսակը՝ | C78: Ծառայությունների մատուցում
B79: Միջոցառումն իրականացնողի անվանումը | C79: Բանկեր, «Գնումների մասին» ՀՀ օրենքի համաձայն ընտրված կազմակերպություն
B80: Արդյունքային չափորոշիչներ
B81: Կենսաթոշակների և այլ դրամական վճարների ստացողների թվաքանակը, որոնց մատուցվում են վճարման ծառայություններ, մարդ | D81: =+D82 -> 0
B82: Կենսաթոշակների և այլ դրամական վճարների ստացողների թվաքանակը, որոնց մատուցվում են վճարման ծառայություններ կանխիկ եղանակով, մարդ
B83: Միջոցառման վրա կատարվող ծախսը հազար դրամ | D83: =+'հավելված 1'!E65 -> 20000
B85: Ծրագրի դասիչը՝ | C85: 1102 | D85: Ցուցանիշների փոփոխությունը (նվազեցումները նշված են փակագծերում)
B86: Միջոցառման դասիչը՝ | C86: 12003
B87: Միջոցառման անվանումը՝ | C87: Աշխատանքային կենսաթոշակներ
B88: Նկարագրությունը՝ | C88: Աշխատանքային կենսաթոշակների (տարիքային, հաշմանդամության, արտոնյալ պայմաններով, երկարամյա ծառայության, մասնակի, կերարողին կորցնելու դեպքում կենսաթոշակների) տրամադրում
B89: Միջոցառման տեսակը՝ | C89: Տրանսֆերտների տրամադրում
B90: Շահառուների ընտրության չափանիշները | C90: Տարիքային աշխատանքային՝ առնվազն 10 տարվա աշխատանքային ստաժ, հաշմանդամության աշխատանքային՝ ըստ սանդղակի աշխատանքային ստաժ, արտոնյալ պայմաններով, երկարամյա ծառայության, մասնակի՝ պահանջվող մասնագիտությամբ աշխատանքային ստաժ
B91: Արդյունքային չափորոշիչներ
B92: Կենսաթոշակառուների թիվ, մարդ | D92: -1705
B93: Միջոցառման վրա կատարվող ծախսը հազար դրամ | D93: ='հավելված 2'!G22 -> -900000
B95: Ծրագրի դասիչը | C95: Ծրագրի անվանումը
B96: 1205 | C96: Սոցիալական ապահովություն
B98: Ծրագրի միջոցառումները
B100: Ծրագրի դասիչը | C100: 1205 | D100: Ցուցանիշների փոփոխությունը (ավելացումները նշված են դրական նշանով)
B101: Միջոցառման դասիչը | C101: 12001 | D101: Տարի
B102: Միջոցառման անվանումը | C102: Ծերության, հաշմանդամության, կերակրողին կորցնելու դեպքում նպաստներ
B103: Նկարագրությունը | C103: Ծերության, հաշմանդամության, կերակրողին կորցնելու դեպքում նպաստների տրամադրում
B104: Միջոցառման տեսակը | C104: Տրանսֆերտի տրամադրում
B105: Շահառուների ընտրության չափանիշները | C105: Կենսաթոշակի իրավունք չունեցող հաշմանդամներ, կերակրողին կորցրած անձիք և օրենքով սահմանված տարիքը լրացած և պահանջվող ստաժ չունեցող անձիք
B106: Արդյունքային չափորոշիչներ
B107: Նպաստառուների թիվ, մարդ | D107: 194
B108: Միջոցառման վրա կատարվող ծախսը հազար դրամ | D108: ='հավելված 2'!G25 -> 62000
B109: Ծրագրի դասիչը | C109: 1205 | D109: Ցուցանիշների փոփոխությունը (ավելացումները նշված են դրական նշանով)
B110: Միջոցառման դասիչը | C110: 12002 | D110: Տարի
B111: Միջոցառման անվանումը | C111: Կենսաթոշակառուի, ծերության, հաշմանդամության, կերակրողին կորցնելու դեպքում նպաստառուի մահվան դեպքում տրվող թաղման նպաստ
B112: Նկարագրությունը | C112: Կենսաթոշակառուի, ծերության, հաշմանդամության, կերակրողին կորցնելու դեպքում նպաստառուի մահվան դեպքում տրվող թաղման նպաստի տրամադրում
B113: Միջոցառման տեսակը | C113: Տրանսֆերտի տրամադրում
B114: Շահառուների ընտրության չափանիշները | C114: Կենսաթոշակառուի, ծերության, հաշմանդամության, կերակրողին կորցնելու դեպքում նպաստառուի հողարկավորությունը կատարած անձ
B115: Արդյունքային չափորոշիչներ
B116: Թաղման նպաստ ստացողների թիվ, մարդ | D116: 3000
B117: Միջոցառման վրա կատարվող ծախսը հազար դրամ | D117: ='հավելված 2'!G40 -> 600000 | E117: =SUM(D117/D116)*1000 -> 200000

Sheet հավելված 4
D1: Հավելված N 4
D2: ՀՀ կառավարության 2020 թվականի
D3: -----------------ի N -----------Ն որոշման
B4: ՀԱՅԱՍՏԱՆԻ ՀԱՆՐԱՊԵՏՈՒԹՅԱՆ ԿԱՌԱՎԱՐՈՒԹՅԱՆ 2019 ԹՎԱԿԱՆԻ ԴԵԿՏԵՄԲԵՐԻ 26-Ի N 1919-Ն ՈՐՈՇՄԱՆ N 9.1 ՀԱՎԵԼՎԱԾԻ N 9.1.20 ԱՂՅՈՒՍԱԿՈՒՄ ԿԱՏԱՐՎՈՂ ՓՈՓՈԽՈՒԹՅՈՒՆՆԵՐԸ
B6: Հայաստանի Հանրապետության աշխատանքի և սոցիալական հարցերի նախարարության սոցիալական ապահովության ծառայություն
B7: ՄԱՍ 1. ՊԵՏԱԿԱՆ ՄԱՐՄՆԻ ԳԾՈՎ ԱՐԴՅՈՒՆՔԱՅԻՆ (ԿԱՏԱՐՈՂԱԿԱՆ) ՑՈՒՑԱՆԻՇՆԵՐԸ
B10: Ծրագրի դասիչը | C10: Ծրագրի անվանումը
B11: 1005 | C11: Պարգևավճարներ և պատվովճարներ
B13: Ծրագրի միջոցառումները
B15: Ծրագրի դասիչը` | C15: 1005 | D15: Ցուցանիշների փոփոխությունը (նվազեցումները նշված են փակագծերում)
B16: Միջոցառման դասիչը` | C16: 12001 | D16: Տարի
B17: Միջոցառման անվանումը` | C17: Զինծառայողներին, ՀՄՊ մասնակիցներին,և այլ պետություններում մարտական գործողությունների մասնակիցներին զոհված (մահացած) զինծառայողների ընտանիքներին անդամներին, ընտանիքներին տրվող պարգևավճարներ
B18: Նկարագրությունը | C18: Զինծառայողներին, ՀՄՊ մասնակիցներին,և այլ պետություններում մարտական գործողությունների մասնակիցներին զոհված (մահացած) զինծառայողների ընտանիքներին անդամներին, ընտանիքներին տրվող պարգևավճարների տրամադրում
B19: Միջոցառման տեսակը | C19: Տրանսֆերտների տրամադրում
B20: Շահառուների ընտրության չափանիշները | C20: ՀՄՊ մասնակիցներ, ՀՄՊ և այլ պետություններում մարտական գործողությունների ընթացքում զոհված զինծառայողների ընտանիքներ
B21: Արդյունքային չափորոշիչներ
B22: Պարգևավճար ստացողների թիվ, ընտանիք | D22: =+'հավելված 3'!D21 -> -523
B23: Միջոցառման վրա կատարվող ծախսը հազար դրամ | D23: =+'հավելված 3'!D22 -> -160000
B25: Ծրագրի դասիչը | C25: Ծրագրի անվանումը
B26: 1068 | C26: Ժողովրդագրական վիճակի բարելավում
B28: Ծրագրի միջոցառումները
B30: Ծրագրի դասիչը | C30: 1068 | D30: Ցուցանիշների փոփոխությունը (ավելացումները նշված են դրական)
B31: Միջոցառման դասիչը | C31: 12002 | D31: Տարի
B32: Միջոցառման անվանումը | C32: Երեխայի ծննդյան միանվագ նպաստ
B33: Նկարագրությունը | C33: Երեխայի ծննդյան կապակցությամբ միանվագ նպաստի տրամադրում
B34: Միջոցառման տեսակը | C34: Տրանսֆերտների տրամադրում
B35: Շահառուների ընտրության չափանիշները | C35: ՀՀ-ում հաշվառված նոր ծնված երեխայի ծնող օրինական ներկայացուցիչ
B36: Արդյունքային չափորոշիչներ
B37: Շահառու նորածինների թիվ, այդ թվում՝ | D37: =+'հավելված 3'!D36 -> 15
B38: Ընտանիքում առաջին և երկրորդ երեխաների թիվ | D38: =+'հավելված 3'!D37 -> 0
B39: Ընտանիքում երրորդ և չորրորդ երեխաների թիվ | D39: =+'հավելված 3'!D38 -> 5
B40: Ընտանիքում հինգ և հաջորդ երեխաների թիվ | D40: =+'հավելված 3'!D39 -> 10
B41: Միջոցառման վրա կատարվող ծախսը հազար դրամ | D41: =+'հավելված 3'!D40 -> 300000
B43: Ծրագրի դասիչը | C43: Ծրագրի անվանումը
B44: 1082 | C44: Սոցիալական աջակցություն անաշխատունակության դեպքում
B46: Ծրագրի միջոցառումները
B48: Ծրագրի դասիչը` | C48: 1082 | D48: Ցուցանիշների փոփոխությունը (նվազեցումները նշված են փակագծերում)
B49: Միջոցառման դասիչը` | C49: 12001 | D49: Տարի
B50: Միջոցառման անվանումը` | C50: Ժամանակավոր անաշխատունակության դեպքում նպաստ
B51: Նկարագրությունը | C51: ժամանակավոր անաշխատունակության դեպքում (հիվանդության, ընտանիքի հիվանդ անդամի խնամքի և օրենքով սահմանված այլ պատճ. առաջացած) վարձու աշխատողներին, նոտարներին և անհատ ձեռնարկատերերին ժամանակավոր անաշխատունակության նպաստի վճարում
B52: Միջոցառման տեսակը | C52: Տրանսֆերտների տրամադրում
B53: Շահառուների ընտրության չափանիշները | C53: Օրենքով սահմանված կարգով ու չափով եկամտային հարկ (շահութահարկ) վճարած վարձու աշխատողներ, նոտարներ և անհատ ձեռնարկատերեր
B54: Արդյունքային չափորոշիչներ
B55: Ժամանակավոր անաշխատունակության օրերի թիվ, օր | D55: =+'հավելված 3'!D54 -> -34975
B56: Միջոցառման վրա կատարվող ծախսը հազար դրամ | D56: =+'հավելված 3'!D55 -> -100000
B58: Ծրագրի դասիչը` | C58: 1082 | D58: Ցուցանիշների փոփոխությունը (ավելացումները նշված են դրական)
B59: Միջոցառման դասիչը` | C59: 12002 | D59: Տարի
B60: Միջոցառման անվանումը` | C60: Մայրության նպաստ
B61: Նկարագրությունը | C61: Մայրության նպաստի տրամադրում աշխատող և չաշխատող անձանց
B62: Միջոցառման տեսակը | C62: Տրանսֆերտների տրամադրում
B63: Շահառուների ընտրության չափանիշները | C63: Հղիության և ծննդաբերության արձակուրդի իրավունք ունեցող անձիք անկախ աշխատանքային կարգավիճակից
B64: Արդյունքային չափորոշիչներ
B65: Հղիության և ծննդաբերության արձակուրդի օրերի թիվ, օր | D65: =+'հավելված 3'!D64 -> 49980
B66: Մարության նպաստ ստացող աշխատող անձանց թիվ, մարդ | D66: =+'հավելված 3'!D65 -> 357
B67: Մարության նպաստ ստացող չաշխատող անձանց թիվ, մարդ
B68: Միջոցառման վրա կատարվող ծախսը հազար դրամ | D68: =+'հավելված 3'!D67 -> 178000
B70: Ծրագրի դասիչը | C70: Ծրագրի անվանումը
B71: 1102 | C71: Կենսաթոշակային ապահովություն
B73: Ծրագրի միջոցառումները
B75: Ծրագրի դասիչը՝ | C75: 1102 | D75: Ցուցանիշների փոփոխությունը (ավելացումները նշված են դրական)
B76: Միջոցառման դասիչը՝ | C76: 11002
B77: Միջոցառման անվանումը՝ | C77: Կենսաթոշակների և այլ դրամական վճարների իրականացման ապահովում
B78: Նկարագրությունը՝ | C78: Կենսաթոշակների և այլ դրամական վճարների վճարման ծառայությունների ձեռքբերում
B79: Միջոցառման տեսակը՝ | C79: Ծառայությունների մատուցում
B80: Միջոցառումն իրականացնողի անվանումը | C80: Բանկեր, «Գնումների մասին» ՀՀ օրենքի համաձայն ընտրված կազմակերպություն
B81: Արդյունքային չափորոշիչներ
B82: Կենսաթոշակների և այլ դրամական վճարների ստացողների թվաքանակը, որոնց մատուցվում են վճարման ծառայություններ, մարդ | D82: =+'հավելված 3'!D81 -> 0
B83: Կենսաթոշակների և այլ դրամական վճարների ստացողների թվաքանակը, որոնց մատուցվում են վճարման ծառայություններ կանխիկ եղանակով, մարդ
B84: Միջոցառման վրա կատարվող ծախսը հազար դրամ | D84: =+'հավելված 3'!D83 -> 20000
B86: Ծրագրի դասիչը՝ | C86: 1102 | D86: Ցուցանիշների փոփոխությունը (նվազեցումները նշված են փակագծերում)
B87: Միջոցառման դասիչը՝ | C87: 12003
B88: Միջոցառման անվանումը՝ | C88: Աշխատանքային կենսաթոշակներ
B89: Նկարագրությունը՝ | C89: Աշխատանքային կենսաթոշակների (տարիքային, հաշմանդամության, արտոնյալ պայմաններով, երկարամյա ծառայության, մասնակի, կերարողին կորցնելու դեպքում կենսաթոշակների) տրամադրում
B90: Միջոցառման տեսակը՝ | C90: Տրանսֆերտների տրամադրում
B91: Շահառուների ընտրության չափանիշները | C91: Տարիքային աշխատանքային՝ առնվազն 10 տարվա աշխատանքային ստաժ, հաշմանդամության աշխատանքային՝ ըստ սանդղակի աշխատանքային ստաժ, արտոնյալ պայմաններով, երկարամյա ծառայության, մասնակի՝ պահանջվող մասնագիտությամբ աշխատանքային ստաժ
B92: Արդյունքային չափորոշիչներ
B93: Կենսաթոշակառուների թիվ, մարդ | D93: =+'հավելված 3'!D92 -> -1705
B94: Միջոցառման վրա կատարվող ծախսը հազար դրամ | D94: =+'հավելված 3'!D93 -> -900000
B96: Ծրագրի դասիչը | C96: Ծրագրի անվանումը
B97: 1205 | C97: Սոցիալական ապահովություն
B99: Ծրագրի միջոցառումները
B101: Ծրագրի դասիչը | C101: 1205 | D101: Ցուցանիշների փոփոխությունը (ավելացումները նշված են դրական)
B102: Միջոցառման դասիչը | C102: 12001 | D102: Տարի
B103: Միջոցառման անվանումը | C103: Ծերության, հաշմանդամության, կերակրողին կորցնելու դեպքում նպաստներ
B104: Նկարագրությունը | C104: Ծերության, հաշմանդամության, կերակրողին կորցնելու դեպքում նպաստների տրամադրում
B105: Միջոցառման տեսակը | C105: Տրանսֆերտի տրամադրում
B106: Շահառուների ընտրության չափանիշները | C106: Կենսաթոշակի իրավունք չունեցող հաշմանդամներ, կերակրողին կորցրած անձիք և օրենքով սահմանված տարիքը լրացած և պահանջվող ստաժ չունեցող անձիք
B107: Արդյունքային չափորոշիչներ
B108: Նպաստառուների թիվ, մարդ | D108: =+'հավելված 3'!D107 -> 194
B109: Միջոցառման վրա կատարվող ծախսը հազար դրամ | D109: =+'հավելված 3'!D108 -> 62000
B110: Ծրագրի դասիչը | C110: 1205 | D110: Ցուցանիշների փոփոխությունը (ավելացումները նշված են դրական)
B111: Միջոցառման դասիչը | C111: 12002 | D111: Տարի
B112: Միջոցառման անվանումը | C112: Կենսաթոշակառուի, ծերության, հաշմանդամության, կերակրողին կորցնելու դեպքում նպաստառուի մահվան դեպքում տրվող թաղման նպաստ
B113: Նկարագրությունը | C113: Կենսաթոշակառուի, ծերության, հաշմանդամության, կերակրողին կորցնելու դեպքում նպաստառուի մահվան դեպքում տրվող թաղման նպաստի տրամադրում
B114: Միջոցառման տեսակը | C114: Տրանսֆերտի տրամադրում
B115: Շահառուների ընտրության չափանիշները | C115: Կենսաթոշակառուի, ծերության, հաշմանդամության, կերակրողին կորցնելու դեպքում նպաստառուի հողարկավորությունը կատարած անձ
B116: Արդյունքային չափորոշիչներ
B117: Թաղման նպաստ ստացողների թիվ, մարդ | D117: =+'հավելված 3'!D116 -> 3000
B118: Միջոցառման վրա կատարվող ծախսը հազար դրամ | D118: =+'հավելված 3'!D117 -> 600000

Sheet 5
I1: Հավելված N 5
I2: ՀՀ կառավարության 2020 թվականի
I3: -----------------ի N -----------Ն որոշման
A4: ՀԱՅԱՍՏԱՆԻ ՀԱՆՐԱՊԵՏՈՒԹՅԱՆ ԿԱՌԱՎԱՐՈՒԹՅԱՆ 2019 ԹՎԱԿԱՆԻ ԴԵԿՏԵՄԲԵՐԻ 26-Ի N 1919-Ն ՈՐՈՇՄԱՆ N 10 ՀԱՎԵԼՎԱԾՈՒՄ ԿԱՏԱՐՎՈՂ ՓՈՓՈԽՈՒԹՅՈՒՆԸ
A6: Գնման առարկայի | I6: Ցուցանիշների փոփոխությունները ավելացումները նշված են դրական նշանով գումարը (հազ. դրամ)
A7: Կոդը | D7: Անվանումը | E7: Գնման ձևը | F7: Չափման միավորը | G7: Միավորի գինը | H7: Քանակը
A8: ՀՀ աշխատանքի և սոցիալական հարցերի նախարարության սոցիալական ապահովության պետական ծառայություն | I8: =I9 -> 20000
A9: Բաժին N 10 | B9: Խումբ N 09 | C9: Դաս N 02 | D9: Սոցիալական պաշտպանությանը տրամադրվող օժանդակ ծառայություններ (այլ դասերին չպատկանող) | I9: =I10 -> 20000
A10: 1102 11002 | B10: Կենսաթոշակների և այլ դրամական վճարների իրականացման ապահովում | I10: =+I11 -> 20000
B11: ՄԱՍ III. ԾԱՌԱՅՈՒԹՅՈՒՆՆԵՐ | I11: =SUM(I12:I12) -> 20000
A12: 79571100-1 | C12: փոստային առաքման ծառայություններ | E12: ՄԱ | F12: դրամ | G12: 20000000 | I12: =G12/1000 -> 20000

Sheet Sheet1
