Workbook
Name AgencyCode: #REF!
Name AgencyCode: #REF!
Name AgencyCode: #REF!
Name AgencyName: #REF!
Name AgencyName: #REF!
Name AgencyName: #REF!
Name Functional1: #REF!
Name Functional1: #REF!
Name Functional1: #REF!
Name havelvac: #REF!
Name havelvac: #REF!
Name PANature: #REF!
Name PANature: #REF!
Name PANature: #REF!
Name PAType: #REF!
Name PAType: #REF!
Name PAType: #REF!
Name Performance2: #REF!
Name Performance2: #REF!
Name Performance2: #REF!
Name PerformanceType: #REF!
Name PerformanceType: #REF!
Name PerformanceType: #REF!

Sheet 1
D1: Հավելված N 1
D2: ՀՀ կառավարության 2020 թվականի
D3: ___________ ___-ի N _______ -Ն որոշման
A6: «ՀԱՅԱUՏԱՆԻ ՀԱՆՐԱՊԵՏՈՒԹՅԱՆ 2020 ԹՎԱԿԱՆԻ ՊԵՏԱԿԱՆ ԲՅՈՒՋԵԻ ՄԱUԻՆ» ՀԱՅԱUՏԱՆԻ ՀԱՆՐԱՊԵՏՈՒԹՅԱՆ OՐԵՆՔԻ N 1 ՀԱՎԵԼՎԱԾԻ N 2 ԱՂՅՈՒՍԱԿՈՒՄ ԿԱՏԱՐՎՈՂ ՎԵՐԱԲԱՇԽՈՒՄԸ ԵՎ ՀԱՅԱՍՏԱՆԻ ՀԱՆՐԱՊԵՏՈՒԹՅԱՆ ԿԱՌԱՎԱՐՈՒԹՅԱՆ 2019 ԹՎԱԿԱՆԻ ԴԵԿՏԵՄԲԵՐԻ 26-Ի N 1919-Ն ՈՐՈՇՄԱՆ N5 ՀԱՎԵԼՎԱԾԻ N1 ԱՂՅՈՒՍԱԿՈՒՄ ԿԱՏԱՐՎՈՂ ՓՈՓՈԽՈՒԹՅՈՒՆՆԵՐԸ ԵՎ ԼՐԱՑՈՒՄՆԵՐԸ
A9: Ծրագրային դասիչը | C9: Բյուջետային հատկացումների գլխավոր կարգադրիչների, ծրագրերի և միջոցառումների անվանումները | D9: Ցուցանիշների փոփոխությունները (ավելացումները նշված են դրական նշանով իսկ նվազեցումները` փակագծերում)
A10: Ծրագիր | B10: Միջոցառում | D10: Տարի
B11: ՀՀ աշխատանքի և սեցիալական հարցերի նախարարություն | D11: =D13 -> 0
A12: 1088 | C12: Ծրագրի անվանումը
C13: Զμաղվածության ծրագիր | D13: =D19+D26+D33 -> 0
C14: Ծրագրի նպատակը`
C15: Բնակչության կայուն և ժամանակավոր զμաղվածության ապահովմանը միտված պայմանների ստեղծում ստեղծում
C16: Վերջնական արդյունքի նկարագրությունը`
C17: Կայուն և ժամանակավոր զμաղվածների թվաքանակի աճ
C18: Ծրագրի միջոցառումներ՝
B19: 11001 | C19: Միջոցառման անվանումը՝ | D19: ='3'!C22 -> 5380.5
C20: Գործազուրկների, աշխատանաքից ազատման ռիսկ ունեցող, ինչպես նաև ազատազրկման ձևով պատիժը կրելու ավարտին վեց ամիս մնացած աշխատանք փնտրող անձանց մասնագիտական ուսուցման կազմակերպում
C21: Միջոցառման նկարագրությունը`
C22: Գործազուրկների և աշխատանքից ազատման ռիսկ ունեցող, ինչպես նաև ազատազրկման ձևով պատիժը կրելու ավարտին մինչև վեց ամիս մնացած աշխատանք փնտրող անձանց մասնագիտական ուսուցման կազմակերպում
C23: Միջոցառման տեսակը`
C24: Ծառայությունների մատուցում
B26: 12013 | C26: Միջոցառման անվանումը` | D26: ='3'!C31 -> 7531.2
C27: Աշխատաշուկայում անմրցունակ անձանց անասնապահությամբ զբաղվելու համար աջակցության տրամադրում
C28: Միջոցառման նկարագրությունը`
C29: Աշխատաշուկայում անմրցունակ անձանց անասնապահությամբ զբաղվելու միջոցով ինքնազբաղվածության խթանման ապահովում
C30: Միջոցառման տեսակը`
C31: Տրանսֆերտների տրամադրում
B33: 12009 | C33: Միջոցառման անվանումը` | D33: ='3'!C39 -> -12911.7
C34: Մինչև երեք տարեկան երեխայի խնամքի արձակուրդում գտնվող անձանց, երեխայի մինչև երկու տարին լրանալը աշխատանքի վերադառնալու դեպքում, երեխայի խնամքն աշխատանքին զուգահեռ կազմակերպելու համար աջակցության տրամադրում
C35: Միջոցառման նկարագրությունը`
C36: Մինչև երեք տարեկան երեխայի խնամքի արձակուրդում գտնվող անձանց մինչև երեխայի երկու տարին լրանալը աշխատանքի վերադառնալու նպատակով երեխայի խնամքի կազմակերպում դայակի կամ վճարովի հիմունքներով գործող նախադպրոցական հաստատության միջոցով՝ ապահովելով կանանց աշխատանքային ներուժի օգտագործումը
C37: Միջոցառման տեսակը`
C38: Տրանսֆերտների տրամադրում

Sheet 2
G1: Հավելված N 2
G2: ՀՀ կառավարության 2020 թվականի
G3: ___________ ___-ի N _______ -Ն որոշման
A5: ՀԱՅԱՍՏԱՆԻ ՀԱՆՐԱՊԵՏՈՒԹՅԱՆ ԿԱՌԱՎԱՐՈՒԹՅԱՆ 2019 ԹՎԱԿԱՆԻ ԴԵԿՏԵՄԲԵՐԻ 26-Ի N 1919-Ն ՈՐՈՇՄԱՆ N 3 ԵՎ N 4 ՀԱՎԵԼՎԱԾՆԵՐՈՒՄ ԿԱՏԱՐՎՈՂ ՓՈՓՈԽՈՒԹՅՈՒՆՆԵՐԸ ԵՎ ԼՐԱՑՈՒՄՆԵՐԸ
A7: Գործառական դասիչը | D7: Ծրագրային դասիչը | F7: Բյուջետային ծախսերի գործառական դասակարգման բաժինների, խմբերի և դասերի, բյուջետային հատկացումների գլխավոր կարգադրիչների, ծրագրերի, միջոցառումների և միջոցառումները կատարող պետական մարմինների անվանումները | G7: Ցուցանիշների փոփոխությունները (ավելացումները նշված են դրական նշանով իսկ նվազեցումները` փակագծերում)
A8: Բաժին | B8: Խումբ | C8: Դաս | D8: Ծրագիր | E8: Միջոցառում | G8: Տարի
F9: ԸՆԴԱՄԵՆԸ | G9: =G13 -> 0
F10: այդ թվում՝
A11: 10 | F11: ՍՈՑԻԱԼԱԿԱՆ ՊԱՇՏՊԱՆՈՒԹՅՈՒՆ
F12: այդ թվում`
B13: 05 | F13: Գործազրկություն | G13: =+G15 -> 0
F14: այդ թվում`
C15: 01 | F15: Գործազրկություն | G15: =G17 -> 0
F16: այդ թվում
D17: 1088 | F17: Զբաղվածության ծրագիր | G17: =G19+G25+G31 -> 0
F18: այդ թվում`
E19: 11001 | F19: Գործազուրկների, աշխատանաքից ազատման ռիսկ ունեցող, ինչպես նաև ազատազրկման ձևով պատիժը կրելու ավարտին վեց ամիս մնացած աշխատանք փնտրող անձանց մասնագիտական ուսուցման կազմակերպում | G19: =G21 -> 5380.5
F20: այդ թվում` ըստ կատարողների
F21: ՀՀ աշխատանքի և սոցիալական հարցերի նախարարություն | G21: =G23 -> 5380.5
F22: այդ թվում` բյուջետային ծախսերի տնտեսագիտական դասակարգման հոդվածներ
F23: - Մասնագիտական ծառայություններ | G23: ='3'!C22 -> 5380.5
E25: 12013 | F25: Աշխատաշուկայում անմրցունակ անձանց անասնապահությամբ զբաղվելու համար աջակցության տրամադրում | G25: =G27 -> 7531.2
F26: այդ թվում` ըստ կատարողների
F27: ՀՀ աշխատանքի և սոցիալական հարցերի նախարարություն | G27: =G29 -> 7531.2
F28: այդ թվում` բյուջետային ծախսերի տնտեսագիտական դասակարգման հոդվածներ
F29: - Այլ նպաստներ բյուջեից | G29: ='3'!C31 -> 7531.2
E31: 12009 | F31: Մինչև երեք տարեկան երեխայի խնամքի արձակուրդում գտնվող անձանց, երեխայի մինչև երկու տարին լրանալը աշխատանքի վերադառնալու դեպքում, երեխայի խնամքն աշխատանքին զուգահեռ կազմակերպելու համար աջակցության տրամադրում | G31: =G33 -> -12911.7
F32: այդ թվում` ըստ կատարողների
F33: ՀՀ աշխատանքի և սոցիալական հարցերի նախարարություն | G33: =G35 -> -12911.7
F34: այդ թվում` բյուջետային ծախսերի տնտեսագիտական դասակարգման հոդվածներ
F35: - Այլ նպաստներ բյուջեից | G35: ='3'!C39 -> -12911.7

Sheet 3
A1: Հավելված N 3
A2: ՀՀ կառավարության 2020 թվականի
A3: ___________ ___-ի N _______ -Ն որոշման
A6: ՀԱՅԱՍՏԱՆԻ ՀԱՆՐԱՊԵՏՈՒԹՅԱՆ ԿԱՌԱՎԱՐՈՒԹՅԱՆ 2019 ԹՎԱԿԱՆԻ ԴԵԿՏԵՄԲԵՐԻ 26-Ի N 1919-Ն N 9 ՀԱՎԵԼՎԱԾԻ N 9.16 ԱՂՅՈՒՍԱԿԻ ՓՈՓՈԽՈՒԹՅՈՒՆՆԵՐԸ ԵՎ ԼՐԱՑՈՒՄՆԵՐԸ _x000D_
A8: ՀՀ աշխատանքի և սոցիալական հարցերի նախարարություն
A9: ՄԱՍ 2. ՊԵՏԱԿԱՆ ՄԱՐՄՆԻ ԳԾՈՎ ԱՐԴՅՈՒՆՔԱՅԻՆ (ԿԱՏԱՐՈՂԱԿԱՆ) ՑՈՒՑԱՆԻՇՆԵՐԸ
A11: Ծրագրի դասիչը | B11: Ծրագրի անվանումը
A12: 1088 | B12: Զբաղվածության ծրագիր
A13: Ծրագրի միջոցառումները
A14: Ծրագրի դասիչը` | B14: 1088 | C14: Ցուցանիշների փոփոխությունները (ավելացումները նշված են դրական նշանով իսկ նվազեցումները` փակագծերում)
A15: Ծրագրի միջոցառումները
A16: Միջոցառման դասիչը` | B16: 11001 | C16: Տարի
A17: Միջոցառման անվանումը` | B17: Գործազուրկների, աշխատանաքից ազատման ռիսկ ունեցող, ինչպես նաև ազատազրկման ձևով պատիժը կրելու ավարտին վեց ամիս մնացած աշխատանք փնտրող անձանց մասնագիտական ուսուցման կազմակերպում
A18: Նկարագրությունը` | B18: Գործազուրկների և աշխատանքից ազատման ռիսկ ունեցող, ինչպես նաև ազատազրկման ձևով պատիժը կրելու ավարտին մինչև վեց ամիս մնացած աշխատանք փնտրող անձանց մասնագիտական ուսուցման կազմակերպում
A19: Միջոցառման տեսակը` | B19: Ծառայությունների մատուցում
A20: Միջոցառումն իրականացնողի անվանումը` | B20: <Գնումների մասին> ՀՀ օրենքի համաձայն ընտրված կազմակերպություն
A21: Արդյունքի չափորոշիչներ
A22: Միջոցառման վրա կատարվող ծախսը (հազար դրամ) | C22: 5380.5
A24: Միջոցառման դասիչը` | B24: 12013 | C24: Տարի
A25: Միջոցառման անվանումը` | B25: Աշխատաշուկայում անմրցունակ անձանց անասնապահությամբ զբաղվելու համար աջակցության տրամադրում
A26: Նկարագրությունը` | B26: Աշխատաշուկայում անմրցունակ անձանց անասնապահությամբ զբաղվելու միջոցով ինքնազբաղվածության խթանման ապահովում
A27: Միջոցառման տեսակը` | B27: Տրանսֆերտների տրամադրում
A28: Շահառուների ընտրության չափանիշները | B28: Զբաղվածության տարածքային կենտրոններում հաշվառված աշխատաշուկայում անմրցունակ և առնվազն երեք ամիս գործազուրկի կարգավիճակում գտնվող անձինք
A29: Արդյունքի չափորոշիչներ
A30: Քանակական | B30: Ծրագրերի թիվը | C30: 12
A31: Միջոցառման վրա կատարվող ծախսը (հազար դրամ) | C31: 7531.2
A33: Միջոցառման դասիչը` | B33: 12009 | C33: Տարի
A34: Միջոցառման անվանումը` | B34: Մինչև երեք տարեկան երեխայի խնամքի արձակուրդում գտնվող անձանց, երեխայի մինչև երկու տարին լրանալը աշխատանքի վերադառնալու դեպքում, երեխայի խնամքն աշխատանքին զուգահեռ կազմակերպելու համար աջակցության տրամադրում
A35: Նկարագրությունը` | B35: Մինչև երեք տարեկան երեխայի խնամքի արձակուրդում գտնվող անձանց մինչև երեխայի երկու տարին լրանալը աշխատանքի վերադառնալու նպատակով երեխայի խնամքի կազմակերպում դայակի կամ վճարովի հիմունքներով գործող նախադպրոցական հաստատության միջոցովª ապահովելով կանանց աշխատանքային ներուժի օգտագործումը
A36: Միջոցառման տեսակը` | B36: Տրանսֆերտների տրամադրում
A37: Շահառուների ընտրության չափանիշները | B37: Զբաղվածության տարածքային կենտրոններում հաշվառված, մինչև երեք տարեկան երեխայի խնամքի արձակուրդում գտնվող` աշխատանք փնտրող անձինք, ովքեր մինչև երեխայի երկու տարին լրանալը վերադառնում են աշխատանքի
A38: Արդյունքի չափորոշիչներ
A39: Միջոցառման վրա կատարվող ծախսը (հազար դրամ) | C39: -12911.7

Sheet 4
A1: Հավելված N 4
A2: ՀՀ կառավարության 2020 թվականի
A3: ___________ ___-ի N _______ -Ն որոշման
A6: ՀԱՅԱՍՏԱՆԻ ՀԱՆՐԱՊԵՏՈՒԹՅԱՆ ԿԱՌԱՎԱՐՈՒԹՅԱՆ 2019 ԹՎԱԿԱՆԻ ԴԵԿՏԵՄԲԵՐԻ 26-Ի N 1919-Ն N 9.1 ՀԱՎԵԼՎԱԾԻ N 9.1.16 ԱՂՅՈՒՍԱԿԻ ՓՈՓՈԽՈՒԹՅՈՒՆՆԵՐԸ ԵՎ ԼՐԱՑՈՒՄՆԵՐԸ _x000D_
A8: ՀՀ աշխատանքի և սոցիալական հարցերի նախարարություն
A9: ՄԱՍ 1. ՊԵՏԱԿԱՆ ՄԱՐՄՆԻ ԳԾՈՎ ԱՐԴՅՈՒՆՔԱՅԻՆ (ԿԱՏԱՐՈՂԱԿԱՆ) ՑՈՒՑԱՆԻՇՆԵՐԸ
A11: Ծրագրի դասիչը | B11: Ծրագրի անվանումը
A12: 1088 | B12: Զբաղվածության ծրագիր
A13: Ծրագրի միջոցառումները
A14: Ծրագրի դասիչը` | B14: 1088 | C14: Ցուցանիշների փոփոխությունները (ավելացումները նշված են դրական նշանով իսկ նվազեցումները` փակագծերում)
A15: Ծրագրի միջոցառումները
A16: Միջոցառման դասիչը` | B16: 11001 | C16: Տարի
A17: Միջոցառման անվանումը` | B17: Գործազուրկների, աշխատանաքից ազատման ռիսկ ունեցող, ինչպես նաև ազատազրկման ձևով պատիժը կրելու ավարտին վեց ամիս մնացած աշխատանք փնտրող անձանց մասնագիտական ուսուցման կազմակերպում
A18: Նկարագրությունը` | B18: Գործազուրկների և աշխատանքից ազատման ռիսկ ունեցող, ինչպես նաև ազատազրկման ձևով պատիժը կրելու ավարտին մինչև վեց ամիս մնացած աշխատանք փնտրող անձանց մասնագիտական ուսուցման կազմակերպում
A19: Միջոցառման տեսակը` | B19: Ծառայությունների մատուցում
A20: Միջոցառումն իրականացնողի անվանումը` | B20: <Գնումների մասին> ՀՀ օրենքի համաձայն ընտրված կազմակերպություն
A21: Արդյունքի չափորոշիչներ
A22: Միջոցառման վրա կատարվող ծախսը (հազար դրամ) | C22: 5380.5
A24: Միջոցառման դասիչը` | B24: 12013 | C24: Տարի
A25: Միջոցառման անվանումը` | B25: Աշխատաշուկայում անմրցունակ անձանց անասնապահությամբ զբաղվելու համար աջակցության տրամադրում
A26: Նկարագրությունը` | B26: Աշխատաշուկայում անմրցունակ անձանց անասնապահությամբ զբաղվելու միջոցով ինքնազբաղվածության խթանման ապահովում
A27: Միջոցառման տեսակը` | B27: Տրանսֆերտների տրամադրում
A28: Շահառուների ընտրության չափանիշները | B28: Զբաղվածության տարածքային կենտրոններում հաշվառված աշխատաշուկայում անմրցունակ և առնվազն երեք ամիս գործազուրկի կարգավիճակում գտնվող անձինք
A29: Արդյունքի չափորոշիչներ
A30: Քանակական | B30: Ծրագրերի թիվը | C30: 12
A31: Միջոցառման վրա կատարվող ծախսը (հազար դրամ) | C31: 7531.2
A33: Միջոցառման դասիչը` | B33: 12009 | C33: Տարի
A34: Միջոցառման անվանումը` | B34: Մինչև երեք տարեկան երեխայի խնամքի արձակուրդում գտնվող անձանց, երեխայի մինչև երկու տարին լրանալը աշխատանքի վերադառնալու դեպքում, երեխայի խնամքն աշխատանքին զուգահեռ կազմակերպելու համար աջակցության տրամադրում
A35: Նկարագրությունը` | B35: Մինչև երեք տարեկան երեխայի խնամքի արձակուրդում գտնվող անձանց մինչև երեխայի երկու տարին լրանալը աշխատանքի վերադառնալու նպատակով երեխայի խնամքի կազմակերպում դայակի կամ վճարովի հիմունքներով գործող նախադպրոցական հաստատության միջոցովª ապահովելով կանանց աշխատանքային ներուժի օգտագործումը
A36: Միջոցառման տեսակը` | B36: Տրանսֆերտների տրամադրում
A37: Շահառուների ընտրության չափանիշները | B37: Զբաղվածության տարածքային կենտրոններում հաշվառված, մինչև երեք տարեկան երեխայի խնամքի արձակուրդում գտնվող` աշխատանք փնտրող անձինք, ովքեր մինչև երեխայի երկու տարին լրանալը վերադառնում են աշխատանքի
A38: Արդյունքի չափորոշիչներ
A39: Միջոցառման վրա կատարվող ծախսը (հազար դրամ) | C39: -12911.7

Sheet 5
A1: Հավելված N 5
A2: ՀՀ կառավարության 2020 թվականի
A3: ___________ ___-ի N _______ -Ն որոշման
A6: ՀԱՅԱՍՏԱՆԻ ՀԱՆՐԱՊԵՏՈՒԹՅԱՆ ԿԱՌԱՎԱՐՈՒԹՅԱՆ 2019ԹՎԱԿԱՆԻ ԴԵԿՏԵՄԲԵՐԻ 26-Ի N 1919-Ն ՈՐՈՇՄԱՆ N10 ՀԱՎԵԼՎԱԾՈՒՄ ԿԱՏԱՐՎՈՂ ՓՈՓՈԽՈՒԹՅՈՒՆՆԵՐԸ ԵՎ ԼՐԱՑՈՒՄՆԵՐԸ
A8: Գնման առարկայի | G8: Գումարը (հազար դրամով) Ցուցանիշների փոփոխությունները (Ավելացումները նշված են դրական նշանով)
A9: Կոդը | B9: Անվանումը | C9: Գնման ձև | D9: Չափման միավորը | E9: Միավորի գինը | F9: Քանակը
A11: ՀՀ աշխատանքի և սոցիալական հարցերի նախարարություն | G11: =+G12 -> 5380.5
A12: Բաժին N 10 | B12: Խումբ N 05 | C12: Դաս N 01 | D12: Գործազրկություն | G12: =G13 -> 5380.5
A13: 1088 11001 | B13: Գործազուրկների, աշխատանաքից ազատման ռիսկ ունեցող, ինչպես նաև ազատազրկման ձևով պատիժը կրելու ավարտին վեց ամիս մնացած աշխատանք փնտրող անձանց մասնագիտական ուսուցման կազմակերպում | G13: =G14 -> 5380.5
A14: ՄԱՍ III. ԾԱՌԱՅՈՒԹՅՈՒՆՆԵՐ | G14: =G15 -> 5380.5
A15: 80531100-1 | B15: արդյունաբերական ուսուցման ծառայություններ | C15: ԳՀ | D15: դրամ | E15: 5380500 | F15: 1 | G15: =E15*F15/1000 -> 5380.5
