Workbook

Sheet Հավելված 1
D1: Հավելված N1
D2: ՀՀ կառավարության 2020 թվականի
D3: __________-ի N____-Ն որոշման
A5: «ՀԱՅԱՍՏԱՆԻ ՀԱՆՐԱՊԵՏՈՒԹՅԱՆ 2020 ԹՎԱԿԱՆԻ ՊԵՏԱԿԱՆ ԲՅՈՒՋԵԻ ՄԱՍԻՆ» ՀԱՅԱՍՏԱՆԻ ՀԱՆՐԱՊԵՏՈՒԹՅԱՆ ՕՐԵՆՔԻ N 1 ՀԱՎԵԼՎԱԾԻ N 2 ԱՂՅՈՒՍԱԿՈՒՄ ԿԱՏԱՐՎՈՂ ՎԵՐԱԲԱՇԽՈՒՄԸ ԵՎ ՀԱՅԱՍՏԱՆԻ ՀԱՆՐԱՊԵՏՈՒԹՅԱՆ ԿԱՌԱՎԱՐՈՒԹՅԱՆ 2019 ԹՎԱԿԱՆԻ ԴԵԿՏԵՄԲԵՐԻ 26-Ի N 1919-Ն ՈՐՈՇՄԱՆ N 5 ՀԱՎԵԼՎԱԾԻ N 1 ԱՂՅՈՒՍԱԿՈՒՄ ԿԱՏԱՐՎՈՂ ՓՈՓՈԽՈՒԹՅՈՒՆԸ ԵՎ ԼՐԱՑՈՒՄԸ
D10: (հազ. դրամ)
A11: Ծրագրային դասիչը | C11: Բյուջետային հատկացումների գլխավոր կարգադրիչների, ծրագրերի և միջոցառումների անվանումները | D11: Ցուցանիշների փոփոխությունը (ավելացումները նշված են դրական նշանով, իսկ նվազեցումները` փակագծերում)
A12: Ծրագիր | B12: Միջոցառում | D12: Տարի
C13: ԸՆԴԱՄԵՆԸ | D13: =D14 -> 0
C14: ՀՀ տարածքային կառավարման և ենթակառուցվածքների նախարարություն | D14: =D15 -> 0
A15: 1079 | C15: Ծրագրի անվանումը՝ | D15: =D22+D28 -> 0
C16: Պետական գույքի կառավարում
C17: Ծրագրի նպատակը՝
C18: Պետական գույքի համալիր և արդյունավետ կառավարման ապահովում
C19: Վերջնական արդյունքի նկարագրությունը՝
C20: Պետական գույքի կառավարման արդյունավետության բարձրացում
C21: Ծրագրի միջոցառումներ
B22: 11001 | C22: Միջոցառման անվանումը` | D22: -2950
C23: Պետական գույքի կառավարման համակարգման՝ խորհրդատվության և մոնիտորինգի ծառայություններ
C24: Միջոցառման նկարագրությունը`
C25: Պետական գույքի հաշվառում, գույքագրում, աճուրդների կազմակերպում, մասնավորեցվող գույքի վերաբերյալ տեղեկատվության հրապարակում
C26: Միջոցառման տեսակը
C27: Ծառայությունների մատուցում
B28: 31001 | C28: Միջոցառման անվանումը` | D28: 2950
C29: Պետական գույքի կառավարման կոմիտեի տեխնիկական հագեցվածության բարելավում
C30: Միջոցառման նկարագրությունը`
C31: Պետական գույքի կառավարման կոմիտեի աշխատանքային պայմանների բարելավման համար վարչական սարքավորումների ձեռքբերում
C32: Միջոցառման տեսակը
C33: Պետական մարմինների կողմից օգտագործվող ոչ ֆինանսական ակտիվների հետ գործառնություններ
C34: Ծրագրի միջոցառումներ

Sheet Հավելված  2
H1: Հավելված N2
H2: ՀՀ կառավարության 2020 թվականի
H3: __________-ի N____-Ն որոշման
A5: «ՀԱՅԱՍՏԱՆԻ ՀԱՆՐԱՊԵՏՈՒԹՅԱՆ 2020 ԹՎԱԿԱՆԻ ՊԵՏԱԿԱՆ ԲՅՈՒՋԵԻ ՄԱՍԻՆ» ՀԱՅԱՍՏԱՆԻ ՀԱՆՐԱՊԵՏՈՒԹՅԱՆ ՕՐԵՆՔԻ N 1 ՀԱՎԵԼՎԱԾԻ N 3 ԱՂՅՈՒՍԱԿՈՒՄ ԿԱՏԱՐՎՈՂ ՓՈՓՈԽՈՒԹՅՈՒՆԸ
A8: Ծրագրային դասիչ | C8: Բյուջետային գլխավոր կարգադրիչների, ծրագրերի, միջոցառումների և ուղղությունների անվանումները | D8: Ընդամենը, | E8: այդ թվում՝
A9: Ծրագիր | B9: Միջոցառում | E9: Կառուցման աշխատանքներ | F9: Վերակառուցման, վերանորոգման և վերականգնման աշխատանքներ | G9: Նախագծահե- տազոտական, գեոդեզիա- քարտեզագրա- կան աշխա- տանքներ | H9: Ոչ ֆինանսական այլ ակտիվների ձեռքբերում
C10: ԸՆԴԱՄԵՆԸ | D10: =D12 -> 2950 | H10: =H12 -> 2950
C11: այդ թվում՝
C12: ՀՀ ՏԱՐԱԾՔԱՅԻՆ ԿԱՌԱՎԱՐՄԱՆ ԵՎ ԵՆԹԱԿԱՌՈՒՑՎԱԾՔՆԵՐԻ ՆԱԽԱՐԱՐՈՒԹՅՈՒՆ | D12: =D14 -> 2950 | H12: =SUM(H14:H15)+SUM(H18:H21) -> 2950
C13: այդ թվում`
A14: 1079 | B14: 31001 | C14: Պետական գույքի կառավարման կոմիտեի տեխնիկական հագեցվածության բարելավում | D14: =H14 -> 2950 | H14: 2950

Sheet Հավելված 3
F1: Հավելված N 3
D2: ՀՀ կառավարության 2020 թվականի
D3: ___________ ___-ի N _______ -Ն որոշման
A6: ՀԱՅԱՍՏԱՆԻ ՀԱՆՐԱՊԵՏՈՒԹՅԱՆ ԿԱՌԱՎԱՐՈՒԹՅԱՆ 2019 ԹՎԱԿԱՆԻ ԴԵԿՏԵՄԲԵՐԻ 26-Ի N 1919-Ն ՈՐՈՇՄԱՆ N 3 ԵՎ 4 ՀԱՎԵԼՎԱԾՆԵՐՈՒՄ ԿԱՏԱՐՎՈՂ ՓՈՓՈԽՈՒԹՅՈՒՆՆԵՐԸ ԵՎ ԼՐԱՑՈՒՄՆԵՐԸ
G8: հազար դրամ
A9: Գործառական դասիչը | D9: Ծրագրային դասիչը | F9: Բյուջետային ծախսերի գործառական դասակարգման բաժինների, խմբերի և դասերի, բյուջետային ծրագրերի միջոցառումների, բյուջետային հատկացումների գլխավոր կարգադրիչների անվանումները | G9: Ցուցանիշների փոփոխությունը (ավելացումները նշված են դրական նշանով, իսկ նվազեցումները` փակագծերում)
A10: Բաժին | B10: Խումբ | C10: Դաս | D10: Ծրագիր | E10: Միջոցա ռում | G10: Տարի
F11: ԸՆԴԱՄԵՆԸ ԾԱԽՍԵՐ այդ թվում` | G11: =G12 -> 0
A12: 01 | F12: ԸՆԴՀԱՆՈՒՐ ԲՆՈՒՅԹԻ ՀԱՆՐԱՅԻՆ ԾԱՌԱՅՈՒԹՅՈՒՆՆԵՐ | G12: =G19 -> 0
F13: այդ թվում`
F14: ՀՀ տարածքային կառավարման և ենթակառուցվածքների նախարարություն
F15: այդ թվում`
D16: 1079 | F16: Պետական գույքի կառավարում | G16: =G23+G32 -> 0
B19: 03 | F19: Ընդհանուր բնույթի ծառայություններ | G19: =G21+G32 -> 0
F20: այդ թվում`
C21: 03 | F21: Ընդհանուր բնույթի այլ ծառայություններ | G21: =G23 -> -2950
F22: այդ թվում`
E23: 11001 | F23: Պետական գույքի կառավարման համակարգման՝ խորհրդատվության և մոնիտորինգի ծառայություններ | G23: =G25 -> -2950
F24: այդ թվում` ըստ կատարողների
F25: ՀՀ տարածքային կառավարման և ենթակառուցվածքների նախարարության պետական գույքի կառավարման կոմիտե | G25: =G27 -> -2950
F26: այդ թվում` բյուջետային ծախսերի տնտեսագիտական դասակարգման հոդվածներ
F27: ԸՆԴԱՄԵՆԸ ԾԱԽՍԵՐ | G27: =G28 -> -2950
F28: ԸՆԹԱՑԻԿ ԾԱԽՍԵՐ | G28: =G29 -> -2950
F29: ԾԱՌԱՅՈՒԹՅՈՒՆՆԵՐԻ ԵՎ ԱՊՐԱՆՔՆԵՐԻ ՁԵՌՔԲԵՐՈՒՄ | G29: =G31 -> -2950
F30: Շարունակական ծախսեր | G30: =G31 -> -2950
F31: -Էներգետիկ ծառայություններ | G31: ='Հավելված 1'!D22 -> -2950
E32: 31001 | F32: Պետական գույքի կառավարման կոմիտեի տեխնիկական հագեցվածության բարելավում | G32: 2950
F33: այդ թվում` ըստ կատարողների
F34: ՀՀ տարածքային կառավարման և ենթակառուցվածքների նախարարության պետական գույքի կառավարման կոմիտե | G34: 2950
F35: այդ թվում` բյուջետային ծախսերի տնտեսագիտական դասակարգման հոդվածներ
F36: ԸՆԴԱՄԵՆԸ ԾԱԽՍԵՐ | G36: 2950
F37: ՈՉ ՖԻՆԱՆՍԱԿԱՆ ԱԿՏԻՎՆԵՐԻ ԳԾՈՎ ԾԱԽՍԵՐ | G37: 2950
F38: ՀԻՄՆԱԿԱՆ ՄԻՋՈՑՆԵՐ | G38: 2950
F39: ՄԵՔԵՆԱՆԵՐ և ՍԱՐՔԱՎՈՐՈՒՄՆԵՐ
F40: -Վարչական սարքավորումներ | G40: 2950

Sheet Հավելված 4
D1: Հավելված N4
D2: ՀՀ կառավարության 2020 թվականի
D3: __________-ի N____-Ն որոշման
A5: ՀԱՅԱՍՏԱՆԻ ՀԱՆՐԱՊԵՏՈՒԹՅԱՆ ԿԱՌԱՎԱՐՈՒԹՅԱՆ 2019 ԹՎԱԿԱՆԻ ԴԵԿՏԵՄԲԵՐԻ 26-Ի N 1919-Ն ՈՐՈՇՄԱՆ N 5 ՀԱՎԵԼՎԱԾԻ N 2 ԱՂՅՈՒՍԱԿՈՒՄ ԿԱՏԱՐՎՈՂ ՓՈՓՈԽՈՒԹՅՈՒՆԸ
D10: (հազ. դրամ)
A11: Ծրագրային դասիչը | C11: Բյուջետային գլխավոր կարգադրիչների, ծրագրերի, միջոցառումների, միջոցառումները կատարող պետական մարմինների և ուղղությունների անվանումները | D11: Ցուցանիշների փոփոխությունը (ավելացումները նշված են դրական նշանով)
A12: Ծրագիր | B12: Միջոցառում | D12: Տարի
C13: ԸՆԴԱՄԵՆԸ | D13: =D15 -> 2950
C14: այդ թվում՝
C15: ՀՀ տարածքային կառավարման և ենթակառուցվածքների նախարարություն | D15: =D19 -> 2950
C16: այդ թվում
A17: 1079 | B17: 31001 | C17: Պետական գույքի կառավարման կոմիտեի տեխնիկական հագեցվածության բարելավում | D17: =D19 -> 2950
C18: այդ թվում՝ ըստ կատարողների
C19: ՀՀ տարածքային կառավարման և ենթակառուցվածքների նախարարության պետական գույքի կառավարման կոմիտե | D19: ='Հավելված 1'!D28 -> 2950

Sheet Հավելված  5
C1: Հավելված N 5
B2: ՀՀ կառավարության 2020 թվականի
B3: ___________ ___-ի N _______ -Ն
A8: ՀԱՅԱՍՏԱՆԻ ՀԱՆՐԱՊԵՏՈՒԹՅԱՆ ԿԱՌԱՎԱՐՈՒԹՅԱՆ 2019 ԹՎԱԿԱՆԻ ԴԵԿՏԵՄԲԵՐԻ 26-Ի ԹԻՎ 1919-Ն ՈՐՈՇՄԱՆ N9 ՀԱՎԵԼՎԱԾԻ N 9.8 ԱՂՅՈՒՍԱԿՈՒՄ ԿԱՏԱՐՎՈՂ ՓՈՓՈԽՈՒԹՅՈՒՆԸ ԵՎ ԼՐԱՑՈՒՄԸ
A10: ՀՀ տարածքային կառավարման և ենթակառուցվածքների նախարարություն
A12: ՄԱՍ 2. ՊԵՏԱԿԱՆ ՄԱՐՄՆԻ ԳԾՈՎ ԱՐԴՅՈՒՆՔԱՅԻՆ (ԿԱՏԱՐՈՂԱԿԱՆ) ՑՈՒՑԱՆԻՇՆԵՐԸ
A15: Ծրագրի դասիչը | B15: Ծրագրի անվանումը
A16: 1079 | B16: Պետական գույքի կառավարում
A18: Ծրագրի միջոցառումները
A20: Ծրագրի դասիչը՝ | B20: 1079 | C20: Ցուցանիշների փոփոխությունը (ավելացումները նշված են դրական նշանով, իսկ նվազեցումները` փակագծերում)
A21: Միջոցառման դասիչը՝ | B21: ='[1]Հավելված 3'!E20 -> 11001 | C21: Տարի
A22: Միջոցառման անվանումը՝ | B22: ='[1]Հավելված 1'!C23 -> Պետական գույքի կառավարման համակարգման՝ խորհրդատվության և մոնիտորինգի ծառայություններ
A23: Նկարագրությունը՝ | B23: ='[1]Հավելված 1'!C25 -> Պետական գույքի հաշվառում, գույքագրում, աճուրդների կազմակերպում, մասնավորեցվող գույքի վերաբերյալ տեղեկատվության հրապարակում
A24: Միջոցառման տեսակը՝ | B24: ='[1]Հավելված 1'!C27 -> Ծառայությունների մատուցում
A25: Ծառայությունը մատուցող կազմակերպության (ների) անվանում(ներ)ը | B25: ='[1]Հավելված 3'!F36 -> ՀՀ տարածքային կառավարման և ենթակառուցվածքների նախարարության պետական գույքի կառավարման կոմիտե
B26: Արդյունքի չափորոշիչներ
A28: Միջոցառման վրա կատարվող ծախսը (հազար դրամ) | C28: ='Հավելված 1'!D22 -> -2950
A29: Միջոցառման դասիչը՝ | B29: 31001
A30: Միջոցառման անվանումը՝ | B30: ='[1]Հավելված 1'!C29 -> Պետական գույքի կառավարման կոմիտեի տեխնիկական հագեցվածության բարելավում
A31: Նկարագրությունը՝ | B31: ='[1]Հավելված 1'!C31 -> Պետական գույքի կառավարման կոմիտեի աշխատանքային պայմանների բարելավման համար վարչական սարքավորումների ձեռքբերում
A32: Միջոցառման տեսակը՝ | B32: ='[1]Հավելված 1'!C33 -> Պետական մարմինների կողմից օգտագործվող ոչ ֆինանսական ակտիվների հետ գործառնություններ
A33: Ակտիվն օգտագործող կազմակերպության անվանումը | B33: ='[1]Հավելված 3'!F36 -> ՀՀ տարածքային կառավարման և ենթակառուցվածքների նախարարության պետական գույքի կառավարման կոմիտե
B34: Արդյունքի չափորոշիչներ
A35: Միջոցառման վրա կատարվող ծախսը (հազար դրամ) | C35: ='[1]Հավելված 1'!E28 -> 2950

Sheet Հավելված 6
C1: Հավելված N 6
B2: ՀՀ կառավարության 2020 թվականի
B3: ___________ ___-ի N _______ -Ն
A8: ՀԱՅԱՍՏԱՆԻ ՀԱՆՐԱՊԵՏՈՒԹՅԱՆ ԿԱՌԱՎԱՐՈՒԹՅԱՆ 2019 ԹՎԱԿԱՆԻ ԴԵԿՏԵՄԲԵՐԻ 26-Ի ԹԻՎ 1919-Ն ՈՐՈՇՄԱՆ N9.1 ՀԱՎԵԼՎԱԾԻ N 9.1.34 ԱՂՅՈՒՍԱԿՈՒՄ ԿԱՏԱՐՎՈՂ ՓՈՓՈԽՈՒԹՅՈՒՆԸ ԵՎ ԼՐԱՑՈՒՄԸ
A10: ՀՀ տարածքային կառավարման և ենթակառուցվածքների նախարարության պետական գույքի կառավարման կոմիտե
A12: ՄԱՍ 1. ՊԵՏԱԿԱՆ ՄԱՐՄՆԻ ԳԾՈՎ ԱՐԴՅՈՒՆՔԱՅԻՆ (ԿԱՏԱՐՈՂԱԿԱՆ) ՑՈՒՑԱՆԻՇՆԵՐԸ
A15: Ծրագրի դասիչը | B15: Ծրագրի անվանումը
A16: 1079 | B16: Պետական գույքի կառավարում
A18: Ծրագրի միջոցառումները
A20: Ծրագրի դասիչը՝ | B20: 1079 | C20: Ցուցանիշների փոփոխությունը (ավելացումները նշված են դրական նշանով, իսկ նվազեցումները` փակագծերում)
A21: Միջոցառման դասիչը՝ | B21: 11001 | C21: Տարի
A22: Միջոցառման անվանումը՝ | B22: Պետական գույքի կառավարման համակարգման, խորհրդատվության և մոնիտորինգի ծառայություններ
A23: Նկարագրությունը՝ | B23: Պետական գույքի հաշվառում, գույքագրում, աճուրդների կազմակերպում, մասնավորեցվող գույքի վերաբերյալ տեղեկատվության հրապարակում
A24: Միջոցառման տեսակը՝ | B24: Ծառայությունների մատուցում
A25: ='Հավելված 5'!A25 -> Ծառայությունը մատուցող կազմակերպության (ների) անվանում(ներ)ը | B25: ՀՀ տարածքային կառավարման և ենթակառուցվածքների նախարարության պետական գույքի կառավարման կոմիտե
B26: Արդյունքի չափորոշիչներ
A28: Միջոցառման վրա կատարվող ծախսը (հազար դրամ) | C28: ='Հավելված 5'!C28 -> -2950
A29: Միջոցառման դասիչը՝ | B29: 31001
A30: Միջոցառման անվանումը՝ | B30: ='[1]Հավելված 1'!C29 -> Պետական գույքի կառավարման կոմիտեի տեխնիկական հագեցվածության բարելավում
A31: Նկարագրությունը՝ | B31: ='[1]Հավելված 1'!C31 -> Պետական գույքի կառավարման կոմիտեի աշխատանքային պայմանների բարելավման համար վարչական սարքավորումների ձեռքբերում
A32: Միջոցառման տեսակը՝ | B32: ='[1]Հավելված 1'!C33 -> Պետական մարմինների կողմից օգտագործվող ոչ ֆինանսական ակտիվների հետ գործառնություններ
A33: ='Հավելված 5'!A33 -> Ակտիվն օգտագործող կազմակերպության անվանումը | B33: ='[1]Հավելված 3'!F36 -> ՀՀ տարածքային կառավարման և ենթակառուցվածքների նախարարության պետական գույքի կառավարման կոմիտե
B34: Արդյունքի չափորոշիչներ
A35: Միջոցառման վրա կատարվող ծախսը (հազար դրամ) | C35: ='[1]Հավելված 5'!D35 -> 2950

Sheet Հավելված 7
G1: Հավելված N7
D2: ՀՀ կառավարության 2020 թվականի
D3: ___________ ___-ի N _______ -Ն
A4: ՀԱՅԱՍՏԱՆԻ ՀԱՆՐԱՊԵՏՈՒԹՅԱՆ ԿԱՌԱՎԱՐՈՒԹՅԱՆ 2019 ԹՎԱԿԱՆԻ ԴԵԿՏԵՄԲԵՐԻ 26-Ի ԹԻՎ 1919-Ն ՈՐՈՇՄԱՆ N10 ՀԱՎԵԼՎԱԾՈՒՄ ԿԱՏԱՐՎՈՂ ՓՈՓՈԽՈՒԹՅՈՒՆՆԵՐԸ ԵՎ ԼՐԱՑՈՒՄՆԵՐԸ
A5: Կոդը | B5: Անվանումը | C5: Գնման ձևը | D5: Չափման միավորը | E5: Միավորի գինը | F5: Քանակը | G5: Գումարը, (հազար դրամով)
A6: ՀՀ տարածքային կառավարման և ենթակառուցվածքների նախարարության պետական գույքի կառավարման կոմիտե | G6: =G7+G11 -> 0
A7: Բաժին N 01 | B7: Խումբ N 03 | C7: Դաս N 03 | D7: Ընդհանուր բնույթի ծառայություններ | G7: =+G8 -> -2950
A8: 1079 11001 | B8: Պետական գույքի կառավարման համակարգման՝ խորհրդատվության և մոնիտորինգի ծառայություններ | G8: =G10 -> -2950
B9: ՄԱՍ III. ԾԱՌԱՅՈՒԹՅՈՒՆՆԵՐ | G9: =G10 -> -2950
A10: 65311100-1 | B10: Էլեկտրականության բաշխում | C10: ՄԱ | D10: դրամ | G10: =-2950 -> -2950
A11: 1079 31001 | B11: Պետական գույքի կառավարման կոմիտեի տեխնիկական հագեցվածության բարելավում | G11: =SUM(G13:G17) -> 2950
B12: ՄԱՍ I. ԱՊՐԱՆՔՆԵՐ | G12: =G13+G14+G15+G16+G17 -> 2950
A13: 30211280 | B13: համակարգիչ ամբողջը մեկում | C13: ՄԱ | D13: հատ | E13: 400000 | F13: 6 | G13: 2400
A14: 30216110 | B14: սկաներներ համակարգիչների համար | C14: ՄԱ | D14: հատ | E14: 400000 | F14: 1 | G14: 400
A15: 32332100 | B15: ձայնագրիչ, ձայնագրելու և վերարտադրելու հնարավորությամբ | C15: ՄԱ | D15: հատ | E15: 50000 | F15: 1 | G15: 50
A16: 32422100-501 | B16: ցանցային համակարգի կոշտ սկավառակ | C16: ԳՀ | D16: հատ | E16: 40000 | F16: 1 | G16: 40
A17: 32333200-501 | B17: տեսագրող սարքեր | C17: ԳՀ | D17: հատ | E17: 60000 | F17: 1 | G17: 60
