Workbook

Sheet havelvac 1
G1: Հավելված 1
G2: ՀՀ կառավարության 2020 թվականի
G3: ------------ N ---------- որոշման
A5: ՀԱՅԱՍՏԱՆԻ ՀԱՆՐԱՊԵՏՈՒԹՅԱՆ ԿԱՌԱՎԱՐՈՒԹՅԱՆ 2019 ԹՎԱԿԱՆԻ ԴԵԿՏԵՄԲԵՐԻ 26-Ի N 1919-Ն ՈՐՈՇՄԱՆ N 3 ԵՎ 4 ՀԱՎԵԼՎԱԾՆԵՐՈՒՄ ԿԱՏԱՐՎՈՂ ԼՐԱՑՈՒՄՆԵՐԸ ԵՎ ՓՈՓՈԽՈՒԹՅՈՒՆՆԵՐԸ
G6: (հազար դրամներով)
A7: Գործառական դասիչը | D7: Ծրագրային դասիչը | F7: Բյուջետային հատկացումների գլխավոր կարգադրիչների, ծրագրերի, միջոցառումների և միջոցառումները կատարող պետական մարմինների անվանումները | G7: Ցուցանիշների փոփոխությունը (ավելացումները նշված են դրական նշանով, իսկ նվազեցումները` փակագծերում)
A8: Բաժին | B8: Խումբ | C8: Դաս | D8: Ծրագիր | E8: Միջոցառում | G8: Տարի
F9: ԸՆԴԱՄԵՆԸ | G9: =G10+G25+G48 -> 0
A10: 09 | F10: ԿՐԹՈՒԹՅՈՒՆ, այդ թվում՝ | G10: =G11 -> -7176
B11: 06 | F11: Կրթությանը տրամադրվող օժանդակ ծառայություններ, այդ թվում՝ | G11: =G12 -> -7176
C12: 01 | F12: Կրթությանը տրամադրվող օժանդակ ծառայություններ, այդ թվում՝ | G12: =G14 -> -7176
F13: ՀՀ կրթության, գիտության, մշակույթի և սպորտի նախարարություն | G13: =G14 -> -7176
D14: 1146 | F14: Հանրակրթության ծրագիր | G14: =G16 -> -7176
F15: այդ թվում`
E16: 12004 | F16: Ատեստավորման միջոցով որակավորում ստացած ուսուցիչներին հավելավճարների տրամադրում | G16: =G18 -> -7176
F17: այդ թվում՝ ըստ կատարողների
F18: ՀՀ կրթության, գիտության, մշակույթի և սպորտի նախարարություն | G18: =G20 -> -7176
F19: այդ թվում` բյուջետային ծախսերի տնտեսագիտական դասակարգման հոդվածներ
F20: ԸՆԴԱՄԵՆԸ ԾԱԽՍԵՐ | G20: =G21 -> -7176
F21: ԸՆԹԱՑԻԿ ԾԱԽՍԵՐ | G21: =G22 -> -7176
F22: ԴՐԱՄԱՇՆՈՐՀՆԵՐ | G22: -7176
F23: Ընթացիկ դրամաշնորհներ պետական հատվածի այլ մակարդակներին | G23: -7176
F24: - Ընթացիկ դրամաշնորհներ պետական և համայնքային ոչ առևտրային կազմակերպություններին | G24: -7176
A25: 11 | F25: ՀԻՄՆԱԿԱՆ ԲԱԺԻՆՆԵՐԻՆ ՉԴԱՍՎՈՂ ՊԱՀՈՒՍՏԱՅԻՆ ՖՈՆԴԵՐ | G25: =G27 -> 0
F26: այդ թվում`
B27: 01 | F27: ՀՀ կառավարության և համայնքների պահուստային ֆոնդ | G27: =G29 -> 0
F28: այդ թվում`
C29: 01 | F29: ՀՀ կառավարության պահուստային ֆոնդ | G29: =G31 -> 0
F30: այդ թվում`
F31: ՀՀ կառավարություն | G31: =G32+G40 -> 0
D32: 1139 | E32: 11001 | F32: ՀՀ կառավարության պահուստային ֆոնդ | G32: =G34 -> 7176
F33: այդ թվում` ըստ կատարողների
F34: ՀՀ կառավարություն | G34: =G36 -> 7176
F35: այդ թվում` բյուջետային ծախսերի տնտեսագիտական դասակարգման հոդվածներ
F36: ԸՆԴԱՄԵՆԸ ԾԱԽՍԵՐ | G36: =G37 -> 7176
F37: ԸՆԹԱՑԻԿ ԾԱԽՍԵՐ | G37: =G38 -> 7176
F38: ԱՅԼ ԾԱԽՍԵՐ | G38: =G39 -> 7176
F39: - Պահուստային միջոցներ | G39: 7176
E40: 11001 | F40: ՀՀ կառավարության պահուստային ֆոնդ | G40: =G42 -> -7176
F41: այդ թվում` ըստ կատարողների
...

Sheet havelvac 2
D1: Հավելված 2
D2: ՀՀ կառավարության 2020 թվականի
D3: ------------ N ---------- որոշման
A5: «ՀԱՅԱUՏԱՆԻ ՀԱՆՐԱՊԵՏՈՒԹՅԱՆ 2020 ԹՎԱԿԱՆԻ ՊԵՏԱԿԱՆ ԲՅՈՒՋԵԻ ՄԱUԻՆ» ՀԱՅԱUՏԱՆԻ ՀԱՆՐԱՊԵՏՈՒԹՅԱՆ OՐԵՆՔԻ N 1 ՀԱՎԵԼՎԱԾԻ N 2 ԱՂՅՈՒՍԱԿՈՒՄ ԿԱՏԱՐՎՈՂ ՎԵՐԱԲԱՇԽՈՒՄԸ ԵՎ ՀԱՅԱՍՏԱՆԻ ՀԱՆՐԱՊԵՏՈՒԹՅԱՆ ԿԱՌԱՎԱՐՈՒԹՅԱՆ 2019 ԹՎԱԿԱՆԻ ԴԵԿՏԵՄԲԵՐԻ 26-Ի ԹԻՎ 1919-Ն ՈՐՈՇՄԱՆ N 5 ՀԱՎԵԼՎԱԾԻ N 1 ԱՂՅՈՒՍԱԿՈՒՄ ԿԱՏԱՐՎՈՂ ԼՐԱՑՈՒՄՆԵՐԸ ԵՎ ՓՈՓՈԽՈՒԹՅՈՒՆՆԵՐԸ
D6: (հազար դրամներով)
A7: Ծրագրային դասիչը | C7: Բյուջետային հատկացումների գլխավոր կարգադրիչների, ծրագրերի և միջոցառումների անվանումները | D7: Ցուցանիշների փոփոխությունը (ավելացումները նշված են դրական նշանով, իսկ նվազեցումները` փակագծերում)
D8: Տարի
A9: Ծրագիր | B9: Միջոցառում
C11: ԸՆԴԱՄԵՆԸ | D11: =D13+D41 -> 0
C12: այդ թվում՝
C13: ՀՀ ԿՐԹՈՒԹՅԱՆ, ԳԻՏՈՒԹՅԱՆ, ՄՇԱԿՈՒՅԹԻ ԵՎ ՍՊՈՐՏԻ ՆԱԽԱՐԱՐՈՒԹՅՈՒՆ | D13: =D15+D28 -> 0
C14: այդ թվում՝
A15: 1146 | C15: Ծրագրի անվանումը` | D15: -7176
C16: Հանրակրթության ծրագիր
C17: Ծրագրի նպատակը`
C18: Ապահովել անվճար և որակյալ հանրակրթություն
C19: Վերջնական արդյունքի նկարագրությունը`
C20: Մտավոր, հոգևոր, ֆիզիկական և սոցիալական ունակությունների համակողմանի ու ներդաշնակ զարգացմամբ, հայրենասիրության, պետականության և մարդասիրության ոգով դաստիրակված, պատշաճ վարքով և վարվելակերպով անձի ձևավորում
A21: Ծրագրի միջոցառումներ
B22: 12004 | C22: Միջոցառման անվանումը` | D22: -7176
C23: Ատեստավորման միջոցով որակավորում ստացած ուսուցիչներին հավելավճարների տրամադրում
C24: Միջոցառման նկարագրությունը`
C25: Ատեստավորման միջոցով տարակարգի որակավորում ստացած ուսուցիչներին համաապատասխան հավելավճարի տրամադրման ապահովում
C26: Միջոցառման տեսակը
C27: Տրանսֆերտների տրամադրում
A28: 1193 | C28: Ծրագրի անվանումը՝ | D28: =+D35 -> 7176
C29: Համընդհանուր ներառական կրթության համակարգի ներդրում
C30: Ծրագրի նպատակը՝
C31: Յուրաքանչյուր երեխայի համար կրթության մատչելիության, հավասար մասնակցության հնարավորության և որակի ապահովում՛ զարգացման առանձնահատկություններին համապատասխան և անհրաժեշտ պայմանների ստեղծման միջոցով
C32: Վերջնական արդյունքի նկարագրությունը՝
C33: Խոցելի խմբերի երեխաների ընդգրկվածության ապահովում հանրակրթական հաստատություններում
A34: Ծրագրի միջոցառումներ
B35: 11004 | C35: Միջոցառման անվանումը` | D35: ='havelvac 1'!G54 -> 7176
C36: Ամերիկայի Միացյալ Նահանգների միջազգային զարգացման գործակալության աջակցությամբ իրականացնող «Ներառական կրթության համակարգի ներդրում դրամաշնորհային ծրագրի շրջանակներում զարգացման ծրագրերի ձեռքբերում և մոնիտորինգ
C37: Միջոցառման նկարագրությունը`
C38: Ներառական կրթության համակարգի հզորացում բոլոր երեխաներին որակյալ ուսուցում ապահովելու նպատակով_x000D_
C39: Միջոցառման տեսակը
C40: Ծառայությունների մատուցում
C41: ՀՀ կառավարության պահուստային ֆոնդ | D41: =D42 -> 0
C42: ՀՀ կառավարություն | D42: =D49+D55 -> 0
...

Sheet havelvac  3
F1: Հավելված 3
F2: ՀՀ կառավարության 2020 թվականի
F3: ------------ N ---------- որոշման
A5: «ՀԱՅԱUՏԱՆԻ ՀԱՆՐԱՊԵՏՈՒԹՅԱՆ 2020 ԹՎԱԿԱՆԻ ՊԵՏԱԿԱՆ ԲՅՈՒՋԵԻ ՄԱUԻՆ» ՀԱՅԱUՏԱՆԻ ՀԱՆՐԱՊԵՏՈՒԹՅԱՆ OՐԵՆՔԻ N 1 ՀԱՎԵԼՎԱԾԻ N 5 ԱՂՅՈՒՍԱԿՈՒՄ ԵՎ ՀԱՅԱՍՏԱՆԻ ՀԱՆՐԱՊԵՏՈՒԹՅԱՆ ԿԱՌԱՎԱՐՈՒԹՅԱՆ 2019 ԹՎԱԿԱՆԻ ԴԵԿՏԵՄԲԵՐԻ 26-Ի N 1919-Ն ՈՐՈՇՄԱՆ N 5 ՀԱՎԵԼՎԱԾԻ N 4 ԱՂՅՈՒՍԱԿՈՒՄ ԿԱՏԱՐՎՈՂ ԼՐԱՑՈՒՄՆԵՐԸ ԵՎ ՓՈՓՈԽՈՒԹՅՈՒՆՆԵՐԸ
E6: (հազար դրամներով)
A7: Ծրագրային դասիչը | C7: Բյուջետային հատկացումների գլխավոր կարգադրիչների, ծրագրերի, միջոցառումների և միջոցառումները կատարող պետական մարմինների անվանումները | D7: Ցուցանիշների փոփոխությունը (ավելացումները նշված են դրական նշանով, իսկ նվազեցումները` փակագծերում)
D8: Տարի
A9: Ծրագիր | B9: Միջոցառում | D9: Ընդամենը | E9: Դրամաշնորհային միջոցներ | F9: Համաֆինանսավորում
C10: Ընդամենը | D10: =D13+D12 -> 7176 | E10: =E13+E12 -> 0 | F10: =F13+F12 -> 7176
C11: այդ թվում՝
C12: -Ընթացիկ ծախսեր | D12: =D17 -> 7176 | E12: =E17 -> 0 | F12: =F17 -> 7176
C13: -Ոչ ֆինանսական ակտիվների գծով ծախսեր | D13: 0 | E13: 0 | F13: 0
C14: ՀՀ կրթության, գիտության, մշակույթի և սպորտի նախարարություն | D14: =D16 -> 7176 | E14: =E16 -> 0 | F14: =F16 -> 7176
C15: այդ թվում՝
A16: 1193 | C16: Համընդհանուր ներառական կրթության համակարգի ներդրում | D16: =D17 -> 7176 | E16: =E17 -> 0 | F16: =F17 -> 7176
B17: 11004 | C17: Ամերիկայի Միացյալ Նահանգների միջազգային զարգացման գործակալության աջակցությամբ իրականացնող «Ներառական կրթության համակարգի ներդրում դրամաշնորհային ծրագրի շրջանակներում զարգացման ծրագրերի ձեռքբերում և մոնիտորինգ | D17: =D19 -> 7176 | E17: =E19 -> 0 | F17: =F19 -> 7176
C18: այդ թվում` ըստ կատարողների
C19: ՀՀ կրթության, գիտության, մշակույթի և սպորտի նախարարություն | D19: =D21 -> 7176 | E19: =E21 -> 0 | F19: =F21 -> 7176
C20: այդ թվում` բյուջետային ծախսերի տնտեսագիտական դասակարգման հոդվածներ
C21: ԸՆԹԱՑԻԿ ԾԱԽՍԵՐ | D21: =D22 -> 7176 | E21: =E22 -> 0 | F21: =F22 -> 7176
C22: - Այլ ընթացիկ դրամաշնորհներ | D22: =E22+F22 -> 7176 | E22: 0 | F22: 7176

Sheet havelvac 4
G1: Հավելված 4
G2: ՀՀ կառավարության 2020 թվականի
G3: ------------ N ---------- որոշման
A5: ՀԱՅԱՍՏԱՆԻ ՀԱՆՐԱՊԵՏՈՒԹՅԱՆ ԿԱՌԱՎԱՐՈՒԹՅԱՆ 2019 ԹՎԱԿԱՆԻ ԴԵԿՏԵՄԲԵՐԻ 26-Ի N 1919-Ն ՈՐՈՇՄԱՆ N 5 ՀԱՎԵԼՎԱԾԻ N 7 ԱՂՅՈՒՍԱԿՈՒՄ ԿԱՏԱՐՎՈՂ ՓՈՓՈԽՈՒԹՅՈՒՆՆԵՐԸ
G7: (հազար դրամներով)
A8: Ծրագրային դասիչ | C8: Բյուջետային հատկացումների գլխավոր կարգադրիչների, ծրագրերի, միջոցառումների, ծախսային ուղղությունների անվանումները | F8: Միջոցառումները կատարող պետական մարմինների և դրամաշնորհ ստացող տնտեսվարող սուբյեկտների անվանումները | G8: Ցուցանիշների փոփոխությունը (ավելացումները նշված են դրական նշանով, իսկ նվազեցումները` փակագծերում)
A9: Ծրագիր | B9: Միջոցառում
A10: ՀՀ կրթության, գիտության, մշակույթի և սպորտի նախարարություն | G10: =G11 -> -7176
A11: 1146 | B11: Հանրակրթության ծրագիր | G11: =G12 -> -7176
B12: 12004 | C12: Ատեստավորման միջոցով որակավորում ստացած ուսուցիչներին հավելավճարների տրամադրում | F12: ՀՀ կրթության, գիտության, մշակույթի և սպորտի նախարարություն | G12: =G13 -> -7176
F13: Ատեստավորման միջոցով որակավորում ստացած ուսուցիչներ | G13: -7176

Sheet havelvac 5
C1: Հավելված 5
C2: ՀՀ կառավարության 2020 թվականի
C3: ------------ N ---------- որոշման
A4: ՀԱՅԱՍՏԱՆԻ ՀԱՆՐԱՊԵՏՈՒԹՅԱՆ ԿԱՌԱՎԱՐՈՒԹՅԱՆ 2019 ԹՎԱԿԱՆԻ ԴԵԿՏԵՄԲԵՐԻ 26-Ի N 1919 -Ն ՈՐՈՇՄԱՆ N 9 ՀԱՎԵԼՎԱԾԻ N 9,14 ԵՎ 9,47 ԱՂՅՈՒՍԱԿՆԵՐՈՒՄ ԿԱՏԱՐՎՈՂ ԼՐԱՑՈՒՄՆԵՐԸ ԵՎ ՓՈՓՈԽՈՒԹՅՈՒՆՆԵՐԸ
A5: ՀՀ կրթության, գիտության, մշակույթի և սպորտի նախարարություն
A6: ՄԱՍ 2․ՊԵՏԱԿԱՆ ՄԱՐՄՆԻ ԳԾՈՎ ԱՐԴՅՈՒՆՔԱՅԻՆ (ԿԱՏԱՐՈՂԱԿԱՆ) ՑՈՒՑԱՆԻՇՆԵՐԸ
A7: Ծրագրի դասիչը | B7: Ծրագրի անվանումը
A8: 1146 | B8: Հանրակրթության ծրագիր
A10: Ծրագրի միջոցառումները
A12: Ծրագրի դասիչը` | B12: 1146 | C12: Ցուցանիշների փոփոխությունը ( նվազեցումները` փակագծերում)
A13: Միջոցառման դասիչը` | B13: 12004 | C13: Տարի
A14: Միջոցառման անվանումը` | B14: Ատեստավորման միջոցով որակավորում ստացած ուսուցիչներին հավելավճարների տրամադրում
A15: Նկարագրությունը` | B15: Ատեստավորման միջոցով տարակարգի որակավորում ստացած ուսուցիչներին համաապատասխան հավելավճարի տրամադրման ապահովում
A16: Միջոցառման տեսակը` | B16: Տրանսֆերտների տրամադրում
A17: Շահառուների ընտրության չափորոշիչները՛ | B17: Ատեստավորման արդյունքում որակավորում ստացած ուսուցիչներ
A18: Արդյունքի չափորոշիչներ
A19: Որակավորման տարակարգ ստացած ուսուցիչների թիվը, մարդ
A20: Միջոցառման վրա կատարվող ծախսը (հազար դրամ) | C20: -7176
A22: Ծրագրի դասիչը | B22: Ծրագրի անվանումը
A23: 1193 | B23: Համընդհանուր ներառական կրթության համակարգի ներդրում
A25: Ծրագրի միջոցառումները
A28: Ծրագրի դասիչը` | B28: 1193 | C28: Ցուցանիշների փոփոխությունը (ավելացումները նշված են դրական նշանով)
A29: Միջոցառման դասիչը` | B29: 11004 | C29: Տարի
A30: Միջոցառման անվանումը` | B30: Ամերիկայի Միացյալ Նահանգների միջազգային զարգացման գործակալության աջակցությամբ իրականացնող «Ներառական կրթության համակարգի ներդրում դրամաշնորհային ծրագրի զարգացման ծրագրերի ձեռքբերում և մոնիտորինգ
A31: Նկարագրությունը` | B31: Ներառական կրթության համակարգի հզորացում բոլոր երեխաներին որակյալ ուսուցում ապահովելու նպատակով_x000D_
A32: Միջոցառման տեսակը` | B32: Ծառայությունների մատուցում
A33: Ծառայությունը մատուցող կազմակերպության(ների) անվանում(ներ)ը՛ | B33: Մասնագիտացված կազմակերպություններ
A34: Արդյունքի չափորոշիչներ
A35: Ծրագրում ընդգրկված դպրոցների թիվը, հատ | C35: 9
A36: Ծրագրում ընդգրկված մանկավարժահոգեբանական աջակցության կենտրոնների թիվը, հատ | C36: 1
A37: Միջոցառման վրա կատարվող ծախսը (հազար դրամ) | C37: ='havelvac 1'!G62 -> 7176
A39: ՀՀ կառավարություն
A40: Ծրագրի դասիչը | B40: Ծրագրի անվանումը
A41: 1139 | B41: ՀՀ կառավարության պահուստային ֆոնդ
A42: Ծրագրի միջոցառումները
A43: Ծրագրի դասիչը՝ | B43: 1139 | C43: Ցուցանիշների փոփոխությունը (ավելացումները նշված են դրական նշանով)
A44: Միջոցառման դասիչը՝ | B44: 11001 | C44: Տարի
A45: Միջոցառման անվանումը՝ | B45: ՀՀ կառավարության պահուստային ֆոնդ
A46: Նկարագրությունը՝ | B46: ՀՀ պետական բյուջեում նախատեսված ելքերի լրացուցիչ ֆինանսավորման՝ պետական բյուջեում չկանխատեսված ելքերի, ինչպես նաև բյուջետային երաշխիքների ապահովման ելքերի ֆինանսավորման ապահովում
A47: Միջոցառման տեսակը՝ | B47: Ծառայությունների մատուցում
...

Sheet havelvac 6
C1: Հավելված 6
C2: ՀՀ կառավարության 2020 թվականի
C3: ------------ N ---------- որոշման
A4: ՀԱՅԱՍՏԱՆԻ ՀԱՆՐԱՊԵՏՈՒԹՅԱՆ ԿԱՌԱՎԱՐՈՒԹՅԱՆ 2019 ԹՎԱԿԱՆԻ ԴԵԿՏԵՄԲԵՐԻ 26-Ի N 1919 -Ն ՈՐՈՇՄԱՆ N 9,1 ՀԱՎԵԼՎԱԾԻ N 9,1,14 ԵՎ 9,1,58 ԱՂՅՈՒՍԱԿՆԵՐՈՒՄ ԿԱՏԱՐՎՈՂ ԼՐԱՑՈՒՄՆԵՐԸ ԵՎ ՓՈՓՈԽՈՒԹՅՈՒՆՆԵՐԸ
A5: ՀՀ կրթության, գիտության, մշակույթի և սպորտի նախարարություն
A6: ՄԱՍ 2․ ՊԵՏԱԿԱՆ ՄԱՐՄՆԻ ԳԾՈՎ ԱՐԴՅՈՒՆՔԱՅԻՆ (ԿԱՏԱՐՈՂԱԿԱՆ) ՑՈՒՑԱՆԻՇՆԵՐԸ
C7: /հազար դրամներով/
A8: Ծրագրի դասիչը | B8: Ծրագրի անվանումը
A9: 1146 | B9: Հանրակրթության ծրագիր
A11: Ծրագրի միջոցառումները
A13: Ծրագրի դասիչը` | B13: 1146 | C13: Ցուցանիշների փոփոխությունը ( նվազեցումները` փակագծերում)
A14: Միջոցառման դասիչը` | B14: 12004 | C14: Տարի
A15: Միջոցառման անվանումը` | B15: Ատեստավորման միջոցով որակավորում ստացած ուսուցիչներին հավելավճարների տրամադրում
A16: Նկարագրությունը` | B16: Ատեստավորման միջոցով տարակարգի որակավորում ստացած ուսուցիչներին համաապատասխան հավելավճարի տրամադրման ապահովում
A17: Միջոցառման տեսակը` | B17: Տրանսֆերտների տրամադրում
A18: Շահառուների ընտրության չափորոշիչները՛ | B18: Ատեստավորման արդյունքում որակավորում ստացած ուսուցիչներ
A19: Արդյունքի չափորոշիչներ
A20: Որակավորման տարակարգ ստացած ուսուցիչների թիվը, մարդ
A21: Միջոցառման վրա կատարվող ծախսը (հազար դրամ) | C21: -7176
A23: Ծրագրի դասիչը | B23: Ծրագրի անվանումը
A24: 1193 | B24: Համընդհանուր ներառական կրթության համակարգի ներդրում
A26: Ծրագրի միջոցառումները
A29: Ծրագրի դասիչը` | B29: 1193 | C29: Ցուցանիշների փոփոխությունը (ավելացումները նշված են դրական նշանով)
A30: Միջոցառման դասիչը` | B30: 11004 | C30: Տարի
A31: Միջոցառման անվանումը` | B31: Ամերիկայի Միացյալ Նահանգների միջազգային զարգացման գործակալության աջակցությամբ իրականացնող «Ներառական կրթության համակարգի ներդրում դրամաշնորհային ծրագրի զարգացման ծրագրերի ձեռքբերում և մոնիտորինգ
A32: Նկարագրությունը` | B32: Ներառական կրթության համակարգի հզորացում բոլոր երեխաներին որակյալ ուսուցում ապահովելու նպատակով_x000D_ _x000D_
A33: Միջոցառման տեսակը` | B33: Ծառայությունների մատուցում
A34: Ծառայությունը մատուցող կազմակերպության(ների) անվանում(ներ)ը՛ | B34: Մասնագիտացված կազմակերպություններ
A35: Արդյունքի չափորոշիչներ
A36: Ծրագրում ընդգրկված դպրոցների թիվը, հատ | C36: 9
A37: Ծրագրում ընդգրկված մանկավարժահոգեբանական աջակցության կենտրոնների թիվը, հատ | C37: 1
A38: Միջոցառման վրա կատարվող ծախսը (հազար դրամ) | C38: ='havelvac 5'!C37 -> 7176
A39: ՀՀ կառավարություն
A40: Ծրագրի դասիչը | B40: Ծրագրի անվանումը
A41: 1139 | B41: ՀՀ կառավարության պահուստային ֆոնդ
A42: Ծրագրի միջոցառումները
A43: Ծրագրի դասիչը՝ | B43: 1139 | C43: Ցուցանիշների փոփոխությունը (ավելացումները նշված են դրական նշանով, իսկ նվազեցումները` փակագծերում)
A44: Միջոցառման դասիչը՝ | B44: 11001 | C44: Տարի
A45: Միջոցառման անվանումը՝ | B45: ՀՀ կառավարության պահուստային ֆոնդ
A46: Նկարագրությունը՝ | B46: ՀՀ պետական բյուջեում նախատեսված ելքերի լրացուցիչ ֆինանսավորման՝ պետական բյուջեում չկանխատեսված ելքերի, ինչպես նաև բյուջետային երաշխիքների ապահովման ելքերի ֆինանսավորման ապահովում
...
