Workbook
Name AgencyCode: #REF!
Name AgencyCode: #REF!
Name AgencyCode: #REF!
Name AgencyName: #REF!
Name AgencyName: #REF!
Name AgencyName: #REF!
Name Functional1: #REF!
Name Functional1: #REF!
Name Functional1: #REF!
Name PANature: #REF!
Name PANature: #REF!
Name PANature: #REF!
Name PAType: #REF!
Name PAType: #REF!
Name PAType: #REF!
Name Performance2: #REF!
Name Performance2: #REF!
Name Performance2: #REF!
Name PerformanceType: #REF!
Name PerformanceType: #REF!
Name PerformanceType: #REF!

Sheet 1
E1: Հավելված N1
E2: ՀՀ կառավարության 2020 թվականի
E3: ______________ ի ___Ն որոշման
B5: «ՀԱՅԱՍՏԱՆԻ ՀԱՆՐԱՊԵՏՈՒԹՅԱՆ 2020 ԹՎԱԿԱՆԻ ՊԵՏԱԿԱՆ ԲՅՈՒՋԵԻ ՄԱՍԻՆ» ՀԱՅԱՍՏԱՆԻ ՀԱՆՐԱՊԵՏՈՒԹՅԱՆ ՕՐԵՆՔԻ N 1 ՀԱՎԵԼՎԱԾԻ N 2 ԱՂՅՈՒՍԱԿՈՒՄ ԿԱՏԱՐՎՈՂ ՎԵՐԱԲԱՇԽՈՒՄԸ ԵՎ ՀԱՅԱՍՏԱՆԻ ՀԱՆՐԱՊԵՏՈՒԹՅԱՆ ԿԱՌԱՎԱՐՈՒԹՅԱՆ 2019 ԹՎԱԿԱՆԻ ԴԵԿՏԵՄԲԵՐԻ 26-Ի N 1919-Ն ՈՐՈՇՄԱՆ N 5 ՀԱՎԵԼՎԱԾԻ N 1 ԱՂՅՈՒՍԱԿՈՒՄ ԿԱՏԱՐՎՈՂ ՓՈՓՈԽՈՒԹՅՈՒՆՆԵՐԸ ԵՎ ԼՐԱՑՈՒՄՆԵՐԸ
E7: հազար դրամներով
B8: Ծրագրային դասիչը | D8: Բյուջետային ծախսերի գործառական դասակարգման բաժինների, խմբերի և դասերի, բյուջետային հատկացումների գլխավոր կարգադրիչների, ծրագրերի, միջոցառումների և միջոցառումները կատարող պետական մարմինների անվանումները | E8: Ցուցանիշների փոփոխությունը (ավելացումները նշված են դրական նշանով, իսկ նվազեցումները` փակագծերում)
B9: Ծրագիր | C9: Միջոցա ռում | E9: Տարի
D10: ԸՆԴԱՄԵՆԸ ԾԱԽՍԵՐ | E10: =+E12 -> 0
D11: այդ թվում`
D12: ՀՀ տարածքային կառավարման և ենթակառուցվածքների նախարարություն | E12: =+E13 -> 0
B13: 1049 | D13: Ծրագրի անվանումը` | E13: =+E20+E26 -> 0
D14: Ճանապարհային ցանցի բարելավում
D15: Ծրագրի նպատակը`
D16: Ճանապարհային ցանցի բարելավում և անվտանգ երթևեկության ապահովում
D17: Վերջնական արդյունքի նկարագրությունը`
D18: Ճանապարհների ծածկի որակի և փոխադրումների արդյունավետության բարելավում, ճանապարհների վիճակով պայմանավորված պատահարների նվազում
B19: Ծրագրի միջոցառումներ
C20: 21001 | D20: Միջոցառման անվանումը` | E20: =-E26 -> 199505.7
D21: Պետական նշանակության ավտոճանապարհների հիմնանորոգում
D22: Միջոցառման նկարագրությունը`
D23: Միջպետական, հանրապետական և մարզային նշանակության ավտոճոնապարհների քայքայված ծածկի վերանորոգում, մաշված ծածկի փոխարինում
D24: Միջոցառման տեսակը
D25: Հանրության կողմից անմիջականորեն օգտագործվող ակտիվների հետ կապված միջոցառումներ
C26: 21011 | D26: Միջոցառման անվանումը` | E26: =+'4'!G38 -> -199505.7
D27: Ասիական զարգացման բանկի աջակցությամբ իրականացվող Հյուսիս-հարավ միջանցքի զարգացման վարկային ծրագիր, Տրանշ 3
D28: Միջոցառման նկարագրությունը`
D29: Հատված Թալին-Լանջիկ 71+500 կմ-90+200 կմ կառուցման շինարարական աշխատանքներ
D30: Միջոցառման տեսակը
D31: Հանրության կողմից անմիջականորեն օգտագործվող ակտիվների հետ կապված միջոցառումներ

Sheet 2
H1: Հավելված N2
H2: ՀՀ կառավարության 2020 թվականի
H3: ______________ ի ___Ն որոշման
A4: «ՀԱՅԱՍՏԱՆԻ ՀԱՆՐԱՊԵՏՈՒԹՅԱՆ 2020 ԹՎԱԿԱՆԻ ՊԵՏԱԿԱՆ ԲՅՈՒՋԵԻ ՄԱՍԻՆ» ՀԱՅԱՍՏԱՆԻ ՀԱՆՐԱՊԵՏՈՒԹՅԱՆ ՕՐԵՆՔԻ N 1 ՀԱՎԵԼՎԱԾԻ N 3 ԱՂՅՈՒՍԱԿՈՒՄ ԿԱՏԱՐՎՈՂ ՓՈՓՈԽՈՒԹՅՈՒՆՆԵՐԸ ԵՎ ԼՐԱՑՈՒՄՆԵՐԸ
G5: հազար դրամներով
A6: Ծրագրային դասիչ | C6: Բյուջետային գլխավոր կարգադրիչների, ծրագրերի, միջոցառումների և ուղղությունների անվանումները | D6: Ցուցանիշների փոփոխությունը (ավելացումները նշված են դրական նշանով, իսկ նվազեցումները` փակագծերում)
D7: Ընդամենը, | E7: այդ թվում՝
A8: Ծրագիր | B8: Միջոցառում | E8: Կառուցման աշխատանքներ | F8: Վերակառուցման, վերանորոգման և վերականգնման աշխատանքներ | G8: Նախագծահե- տազոտական, գեոդեզիա- քարտեզագրա- կան աշխա- տանքներ | H8: Ոչ ֆինանսական այլ ակտիվների ձեռքբերում
C9: ԸՆԴԱՄԵՆԸ | D9: =+E9+F9+G9+H9 -> 199505.7 | E9: =E11 -> 0 | F9: =F11 -> -44004.3 | G9: =G11 -> 243510 | H9: =H11 -> 0
C10: այդ թվում՝
C11: ՀՀ ՏԱՐԱԾՔԱՅԻՆ ԿԱՌԱՎԱՐՄԱՆ ԵՎ ԵՆԹԱԿԱՌՈՒՑՎԱԾՔՆԵՐԻ ՆԱԽԱՐԱՐՈՒԹՅՈՒՆ | D11: =+E11+F11+G11+H11 -> 199505.7 | E11: =+E13 -> 0 | F11: =+F13 -> -44004.3 | G11: =+G13 -> 243510 | H11: =+H13 -> 0
C12: այդ թվում`
A13: 1049 | B13: 21001 | C13: Պետական նշանակության ավտոճանապարհների հիմնանորոգում | D13: =+E13+F13+G13+H13 -> 199505.7 | E13: =+E15+E26+E36+E46 -> 0 | F13: =+F15+F26+F36+F46 -> -44004.3 | G13: =+G15+G26+G36+G46 -> 243510 | H13: =+H15+H26+H36+H46 -> 0
C14: այդ թվում`
B15: 1 | C15: Միջպետական նշանակության ավտոճանապարհներ, այդ թվում | D15: =+E15+F15+G15+H15 -> 91349 | E15: =+E16+E18+E20 -> 0 | F15: =+F16+F18+F20 -> 0 | G15: =+G16+G18+G20 -> 91349 | H15: =+H16+H18+H20 -> 0
C16: Մ-1, Երևան-Գյումրի-Վրաստանի սահման | D16: =+E16+F16+G16+H16 -> 5319.8 | E16: =SUM(E17:E17) -> 0 | F16: =SUM(F17:F17) -> 0 | G16: =+G17 -> 5319.8 | H16: =SUM(H17:H17) -> 0
C17: կմ 152+600-կմ 156+700 հատվածի հիմնանորոգում | D17: =+E17+F17+G17+H17 -> 5319.8 | G17: 5319.8
C18: Մ-7, Մ-3-Սպիտակ-Գյումրի-Թուրքիայի սահման | D18: =+E18+F18+G18+H18 -> 5190 | E18: =SUM(E19:E19) -> 0 | F18: =SUM(F19:F19) -> 0 | G18: =+G19 -> 5190 | H18: =SUM(H19:H19) -> 0
C19: կմ48+000 - կմ52+000 հատվածի հիմնանորոգում | D19: =+E19+F19+G19+H19 -> 5190 | G19: 5190
C20: Մ-2, Երևան-Երասխ-Գորիս-Մեղրի-Իրանի սահման | D20: =+E20+F20+G20+H20 -> 80839.2 | E20: =SUM(E21:E25) -> 0 | F20: =SUM(F21:F25) -> 0 | G20: =+G21+G22+G23+G24+G25 -> 80839.2 | H20: =SUM(H21:H25) -> 0
C21: կմ 53+150 -կմ 65+350 հատվածի հիմնանորոգում | D21: =+E21+F21+G21+H21 -> 20096.8 | G21: 20096.8
C22: կմ98+000 - կմ101+400 հատվածի հիմնանորոգում | D22: =+E22+F22+G22+H22 -> 5600.8 | G22: 5600.8
C23: կմ108+400 - կմ126+100 հատվածի հիմնանորոգում | D23: =+E23+F23+G23+H23 -> 27961.5 | G23: 27961.5
C24: կմ196+000- կմ202+200հատվածի հիմնանորոգում | D24: =+E24+F24+G24+H24 -> 10213.1 | G24: 10213.1
C25: կմ374+000 - կմ384+300 հատվածի հիմնանորոգում | D25: =+E25+F25+G25+H25 -> 16967 | G25: 16967
B26: 2 | C26: Հանրապետական նշանակության ավտոճանապարհներ, այդ թվում | D26: =+E26+F26+G26+H26 -> 98272.8 | E26: =SUM(E27:E33) -> 0 | F26: =SUM(F27:F33) -> 0 | G26: =SUM(G27:G35) -> 98272.8 | H26: =SUM(H27:H33) -> 0
C27: Հ-21, /Հ-75/ - Հոռոմ-Արթիկ-Ալագյազ հանրապետական նշանակության ավտոճանապարհի կմ19+000 - կմ23+900 հատվածի հիմնանորոգում | D27: =+E27+F27+G27+H27 -> 6357.8 | G27: 6357.8
C28: Հ-83, /Հ-21/ (Արթիկ)–Պեմզաշեն- /Մ-1/ հանրապետական նշանակության ավտոճանապարհի կմ0+000-կմ8+900 հատվածի հիմնանորոգում | D28: =+E28+F28+G28+H28 -> 11547.9 | G28: 11547.9
C29: Հ-93, /Հ-75/ - Երերույքի տաճար հանրապետական նշանակության ավտոճանապարհի կմ 0+000-կմ 2+700 հատվածի հիմնանորոգում | D29: =+E29+F29+G29+H29 -> 2866.3 | G29: 2866.3
C30: Հ-41, /Մ-2/ - Նորավանքի պատմական հուշարձան հանրապետական նշանակության ավտոճանապարհի կմ0+000-կմ8+100 հատվածի հիմնանորոգում | D30: =+E30+F30+G30+H30 -> 13343 | G30: 13343
C31: Հ-49, /Մ-17/-Նռնաձոր-ԱՀ սահման հանրապետական նշանակության ավտոճանապարհի կմ0+000 - կմ8+600 հատվածի հիմնանորոգում | D31: =+E31+F31+G31+H31 -> 14166.6 | G31: 14166.6
C32: Հ-32, /Մ-1/ (Գյումրի) - Կապս - Ամասիա - /Մ-1/ հանրապետական նշանակության ավտոճանապարհի կմ 20+900-կմ 22+700 և կմ 23+000-կմ 31+200 հատվածների հիմնանորոգում | D32: =+E32+F32+G32+H32 -> 14481 | G32: 14481
C33: Հ-75, Մ-9-Իսահակյան-Գյումրի-Մ-7 հանրապետական նշանակության ավտոճանապարհի կմ68+300 - կմ70+800 հատվածի հիմնանորոգում | D33: =+E33+F33+G33+H33 -> 3620.3 | G33: 3620.3
C34: Հ-5, /Հ-6/-Նոր Գեղի-Արգել-Արզական-Հրազդան հանրապետական նշանակության ավտոճանապարհի կմ 25+200 - կմ36+000 հատվածի հիմնանորոգում | D34: =+E34+F34+G34+H34 -> 14573.1 | G34: 14573.1
C35: Հ-55, Հրազդանի տրանսպորտային հանգույց-Ծաղկաձորի մարզահամալիր հանրապետական նշանակության ավտոճանապարհի կմ0+00 - կմ10+500 հատվածի հիմնանորոգում | D35: =+E35+F35+G35+H35 -> 17316.8 | G35: 17316.8
B36: 3 | C36: Մարզային նշանակության ավտոճանապարհներ, այդ թվում | D36: =+E36+F36+G36+H36 -> 53888.2 | E36: =SUM(E37:E41) -> 0 | F36: =SUM(F37:F41) -> 0 | G36: =SUM(G37:G45) -> 53888.2 | H36: =SUM(H37:H41) -> 0
C37: Տ-7-42, /Մ-7/ (Գյումրի) – Հացիկ – Կարմրաքար (Տ-7-45) ավտոճանապարհի կմ0+000-կմ 4+000 հատվածի հիմնանորոգում | D37: =+E37+F37+G37+H37 -> 4718.2 | G37: 4718.2
C38: Տ-8-86 Հ-49-Նռնաձոր կմ0+000-կմ2+200 հատվածի հիմնանորոգում | D38: =+E38+F38+G38+H38 -> 3294.6 | G38: 3294.6
C39: Տ-1-24 /Մ-3/ Մելիքգյուղ ավտոճանապարհի կմ0+000-կմ6+000 հատվածի հիմնանորոգում | D39: =+E39+F39+G39+H39 -> 7188.1 | G39: 7188.1
C40: Տ-7-48, Գյումրի (Տ-7-58) - Արևիկ – Այգեբաց - Վարդաքար - /Հ-21/ ավտոճանապարհի կմ10+900 - կմ16+200 հատվածի հիմնանորոգում | D40: =+E40+F40+G40+H40 -> 6977.2 | G40: 6977.2
...

Sheet 3
E1: Հավելված N3
E2: ՀՀ կառավարության 2020 թվականի
E3: ________ N ____-Ն որոշման
A5: «ՀԱՅԱՍՏԱՆԻ ՀԱՆՐԱՊԵՏՈՒԹՅԱՆ 2020 ԹՎԱԿԱՆԻ ՊԵՏԱԿԱՆ ԲՅՈՒՋԵԻ ՄԱՍԻՆ» ՀԱՅԱՍՏԱՆԻ ՀԱՆՐԱՊԵՏՈՒԹՅԱՆ ՕՐԵՆՔԻ N 1 ՀԱՎԵԼՎԱԾԻ N 4 ԱՂՅՈՒՍԱԿՈՒՄ ԵՎ ՀԱՅԱՍՏԱՆԻ ՀԱՆՐԱՊԵՏՈՒԹՅԱՆ ԿԱՌԱՎԱՐՈՒԹՅԱՆ 2019 ԹՎԱԿԱՆԻ ԴԵԿՏԵՄԲԵՐԻ 26-Ի N 1919-Ն ՈՐՈՇՄԱՆ N 5 ՀԱՎԵԼՎԱԾԻ N 3 ԱՂՅՈՒՍԱԿՈՒՄ ԿԱՏԱՐՎՈՂ ՓՈՓՈԽՈՒԹՅՈՒՆՆԵՐԸ
A7: Ծրագրային դասիչ | C7: Բյուջետային գլխավոր կարգադրիչների, ծրագրերի և միջոցառումների անվանումները | D7: Ցուցանիշների փոփոխությունը (նվազեցումները նշված են փակագծերում)
D8: Տարի
D9: Ընդամենը | E9: այդ թվում
A10: Ծրագիր | B10: Միջոցառում | E10: Վարկային միջոցներ | F10: Համաֆինան_x000D_- սավորում
C11: ԸՆԴԱՄԵՆԸ այդ թվում | D11: =E11+F11 -> -199505.7 | E11: =E14 -> 0 | F11: =F14 -> -199505.7
C12: - ԸՆԹԱՑԻԿ ԾԱԽՍԵՐ | D12: - | E12: - | F12: -
C13: - ՈՉ ՖԻՆԱՆՍԱԿԱՆ ԱԿՏԻՎՆԵՐԻ ԳԾՈՎ ԾԱԽՍԵՐ | D13: =E13+F13 -> -199505.7 | E13: =E14 -> 0 | F13: =F14 -> -199505.7
C14: ՀՀ ՏԱՐԱԾՔԱՅԻՆ ԿԱՌԱՎԱՐՄԱՆ ԵՎ ԵՆԹԱԿԱՌՈՒՑՎԱԾՔՆԵՐԻ ՆԱԽԱՐԱՐՈՒԹՅՈՒՆ | D14: =E14+F14 -> -199505.7 | E14: =E15 -> 0 | F14: =F15 -> -199505.7
A15: 1049 | C15: Ճանապարհային ցանցի բարելավում | D15: =E15+F15 -> -199505.7 | E15: =SUM('[1]5'!E22:E22) -> 0 | F15: =+F17 -> -199505.7
C16: այդ թվում`
B17: 21011 | C17: Ասիական զարգացման բանկի աջակցությամբ իրականացվող Հյուսիս-հարավ միջանցքի զարգացման վարկային ծրագիր, Տրանշ 3 | D17: =F17 -> -199505.7 | F17: =+F19 -> -199505.7
C18: այդ թվում` ըստ կատարողների
C19: ՀՀ տարածքային կառավարման և ենթակառուցվածքների նախարարություն | D19: =F19 -> -199505.7 | F19: =F21 -> -199505.7
C20: այդ թվում` բյուջետային ծախսերի տնտեսագիտական դասակարգման հոդվածներ
C21: ՈՉ ՖԻՆԱՆՍԱԿԱՆ ԱԿՏԻՎՆԵՐԻ ԳԾՈՎ ԾԱԽՍԵՐ | D21: =F21 -> -199505.7 | F21: =+F22+F23+F24 -> -199505.7
C22: - Շենքերի և շինությունների շինարարություն | D22: =F22 -> -199505.7 | F22: =-'5'!D13 -> -199505.7
C23: - Շենքերի և շինությունների կապիտալ վերանորոգում | D23: =F23 -> 0
C24: -Այլ մեքենաներ և սարքավորումներ | D24: =F24 -> 0

Sheet 4
G1: Հավելված N4
G2: ՀՀ կառավարության 2020 թվականի
G3: ______________ ի ___Ն որոշման
A5: ՀԱՅԱՍՏԱՆԻ ՀԱՆՐԱՊԵՏՈՒԹՅԱՆ ԿԱՌԱՎԱՐՈՒԹՅԱՆ 2019 ԹՎԱԿԱՆԻ ԴԵԿՏԵՄԲԵՐԻ 26-Ի N 1919-Ն ՈՐՈՇՄԱՆ N 3 ԵՎ N 4 ՀԱՎԵԼՎԱԾՆԵՐՈՒՄ ԿԱՏԱՐՎՈՂ ՓՈՓՈԽՈՒԹՅՈՒՆՆԵՐԸ ԵՎ ԼՐԱՑՈՒՄՆԵՐԸ
G7: հազար դրամներով
A8: Գործառական դասիչը | D8: Ծրագրային դասիչը | F8: Բյուջետային ծախսերի գործառական դասակարգման բաժինների, խմբերի և դասերի, բյուջետային հատկացումների գլխավոր կարգադրիչների, ծրագրերի, միջոցառումների և միջոցառումները կատարող պետական մարմինների անվանումները | G8: Ցուցանիշների փոփոխությունը (ավելացումները նշված են դրական նշանով, իսկ նվազեցումները` փակագծերում)
A9: Բաժին | B9: Խումբ | C9: Դաս | D9: Ծրագիր | E9: Միջոցա ռում | G9: Տարի
F10: ԸՆԴԱՄԵՆԸ ԾԱԽՍԵՐ | G10: =G12 -> 0
F11: այդ թվում`
A12: 04 | F12: ՏՆՏԵՍԱԿԱՆ ՀԱՐԱԲԵՐՈՒԹՅՈՒՆՆԵՐ | G12: =G14 -> 0
F13: այդ թվում`
B14: 05 | F14: Տրանսպորտ | G14: =G16 -> 0
F15: այդ թվում`
C16: 01 | F16: Ճանապարհային տրանսպորտ | G16: =G18 -> 0
F17: այդ թվում`
F18: ՀՀ ՏԱՐԱԾՔԱՅԻՆ ԿԱՌԱՎԱՐՄԱՆ ԵՎ ԵՆԹԱԿԱՌՈՒՑՎԱԾՔՆԵՐԻ ՆԱԽԱՐԱՐՈՒԹՅՈՒՆ | G18: =G20 -> 0
F19: այդ թվում`
D20: 1049 | F20: Ճանապարհային ցանցի բարելավում | G20: =+G22+G38 -> 0
F21: այդ թվում`
E22: 21001 | F22: Պետական նշանակության ավտոճանապարհների հիմնանորոգում | G22: =+G24+G31 -> 199505.7
F23: այդ թվում` ըստ կատարողների
F24: ՀՀ կառավարություն | G24: =+G26 -> -44004.3
F25: այդ թվում` բյուջետային ծախսերի տնտեսագիտական դասակարգման հոդվածներ
F26: ԸՆԴԱՄԵՆԸ ԾԱԽՍԵՐ | G26: =+G27 -> -44004.3
F27: ՈՉ ՖԻՆԱՆՍԱԿԱՆ ԱԿՏԻՎՆԵՐԻ ԳԾՈՎ ԾԱԽՍԵՐ | G27: =+G28 -> -44004.3
F28: ՀԻՄՆԱԿԱՆ ՄԻՋՈՑՆԵՐ | G28: =+G29 -> -44004.3
F29: ՇԵՆՔԵՐ ԵՎ ՇԻՆՈՒԹՅՈՒՆՆԵՐ | G29: =+G30 -> -44004.3
F30: - Շենքերի և շինությունների կապիտալ վերանորոգում | G30: -44004.3
F31: ՀՀ տարածքային կառավարման և ենթակառուցվածքների նախարարություն | G31: =+G33 -> 243510
F32: այդ թվում` բյուջետային ծախսերի տնտեսագիտական դասակարգման հոդվածների
F33: ԸՆԴԱՄԵՆԸ ԾԱԽՍԵՐ | G33: =+G34 -> 243510
F34: ՈՉ ՖԻՆԱՆՍԱԿԱՆ ԱԿՏԻՎՆԵՐԻ ԳԾՈՎ ԾԱԽՍԵՐ | G34: =+G35 -> 243510
F35: ՀԻՄՆԱԿԱՆ ՄԻՋՈՑՆԵՐ | G35: =+G36 -> 243510
F36: ԱՅԼ ՀԻՄՆԱԿԱՆ ՄԻՋՈՑՆԵՐ | G36: =+G37 -> 243510
F37: - Նախագծահետազոտական ծախսեր | G37: =+'5'!D15 -> 243510
E38: 21011 | F38: Ասիական զարգացման բանկի աջակցությամբ իրականացվող Հյուսիս-հարավ միջանցքի զարգացման վարկային ծրագիր, Տրանշ 3 | G38: =+G40 -> -199505.7
F39: այդ թվում` ըստ կատարողների
F40: ՀՀ տարածքային կառավարման և ենթակառուցվածքների նախարարություն | G40: =+G42 -> -199505.7
F41: այդ թվում` բյուջետային ծախսերի տնտեսագիտական դասակարգման հոդվածներ
F42: ԸՆԴԱՄԵՆԸ ԾԱԽՍԵՐ | G42: =+G43 -> -199505.7
...

Sheet 5
D1: Հավելված N5
D2: ՀՀ կառավարության 2020 թվականի
D3: ______________ ի ___Ն որոշման
A5: ՀԱՅԱՍՏԱՆԻ ՀԱՆՐԱՊԵՏՈՒԹՅԱՆ ԿԱՌԱՎԱՐՈՒԹՅԱՆ 2019 ԹՎԱԿԱՆԻ ԴԵԿՏԵՄԲԵՐԻ 26-Ի N 1919-Ն ՈՐՈՇՄԱՆ N 5 ՀԱՎԵԼՎԱԾԻ N 2 ԱՂՅՈՒՍԱԿՈՒՄ ԿԱՏԱՐՎՈՂ ՓՈՓՈԽՈՒԹՅՈՒՆՆԵՐԸ ԵՎ ԼՐԱՑՈՒՄՆԵՐԸ
D6: հազար դրամներով
A7: Ծրագրային դասիչ | C7: Բյուջետային գլխավոր կարգադրիչների, ծրագրերի, միջոցառումների և ուղղությունների անվանումները | D7: Ցուցանիշների փոփոխությունը (ավելացումները նշված են դրական նշանով, իսկ նվազեցումները` փակագծերում)
A8: Ծրագիր | B8: Միջոցառում | D8: Տարի
C9: ԸՆԴԱՄԵՆԸ | D9: =+D11 -> 199505.7
C10: այդ թվում՝
C11: ՀՀ ՏԱՐԱԾՔԱՅԻՆ ԿԱՌԱՎԱՐՄԱՆ ԵՎ ԵՆԹԱԿԱՌՈՒՑՎԱԾՔՆԵՐԻ ՆԱԽԱՐԱՐՈՒԹՅՈՒՆ | D11: =+D13 -> 199505.7
C12: այդ թվում`
A13: 1049 | B13: 21001 | C13: Պետական նշանակության ավտոճանապարհների հիմնանորոգում | D13: =+D15+D48 -> 199505.7
C14: այդ թվում` ըստ կատարողների
C15: ՀՀ տարածքային կառավարման և ենթակառուցվածքների նախարարություն | D15: =+D17+D38+D28 -> 243510
C16: այդ թվում՝ ըստ ուղղությունների
B17: 1 | C17: Միջպետական նշանակության ավտոճանապարհներ, այդ թվում | D17: =+D18+D20+D22 -> 91349
C18: Մ-1, Երևան-Գյումրի-Վրաստանի սահման | D18: =+D19 -> 5319.8
C19: կմ 152+600-կմ 156+700 հատվածի հիմնանորոգում | D19: 5319.8
C20: Մ-7, Մ-3-Սպիտակ-Գյումրի-Թուրքիայի սահման | D20: =+D21 -> 5190
C21: կմ48+000 - կմ52+000 հատվածի հիմնանորոգում | D21: 5190
C22: Մ-2, Երևան-Երասխ-Գորիս-Մեղրի-Իրանի սահման | D22: =+D23+D24+D25+D26+D27 -> 80839.2
C23: կմ 53+150 -կմ 65+350 հատվածի հիմնանորոգում | D23: 20096.8
C24: կմ98+000 - կմ101+400 հատվածի հիմնանորոգում | D24: 5600.8
C25: կմ108+400 - կմ126+100 հատվածի հիմնանորոգում | D25: 27961.5
C26: կմ196+000- կմ202+200հատվածի հիմնանորոգում | D26: 10213.1
C27: կմ374+000 - կմ384+300 հատվածի հիմնանորոգում | D27: 16967
B28: 2 | C28: Հանրապետական նշանակության ավտոճանապարհներ, այդ թվում | D28: =SUM(D29:D37) -> 98272.8
C29: Հ-21, /Հ-75/ - Հոռոմ-Արթիկ-Ալագյազ հանրապետական նշանակության ավտոճանապարհի կմ19+000 - կմ23+900 հատվածի հիմնանորոգում | D29: 6357.8
C30: Հ-83, /Հ-21/ (Արթիկ)–Պեմզաշեն- /Մ-1/ հանրապետական նշանակության ավտոճանապարհի կմ0+000-կմ8+900 հատվածի հիմնանորոգում | D30: 11547.9
C31: Հ-93, /Հ-75/ - Երերույքի տաճար հանրապետական նշանակության ավտոճանապարհի կմ 0+000-կմ 2+700 հատվածի հիմնանորոգում | D31: 2866.3
C32: Հ-41, /Մ-2/ - Նորավանքի պատմական հուշարձան հանրապետական նշանակության ավտոճանապարհի կմ0+000-կմ8+100 հատվածի հիմնանորոգում | D32: 13343
C33: Հ-49, /Մ-17/-Նռնաձոր-ԱՀ սահման հանրապետական նշանակության ավտոճանապարհի կմ0+000 - կմ8+600 հատվածի հիմնանորոգում | D33: 14166.6
C34: Հ-32, /Մ-1/ (Գյումրի) - Կապս - Ամասիա - /Մ-1/ հանրապետական նշանակության ավտոճանապարհի կմ 20+900-կմ 22+700 և կմ 23+000-կմ 31+200 հատվածների հիմնանորոգում | D34: 14481
C35: Հ-75, Մ-9-Իսահակյան-Գյումրի-Մ-7 հանրապետական նշանակության ավտոճանապարհի կմ68+300 - կմ70+800 հատվածի հիմնանորոգում | D35: 3620.3
C36: Հ-5, /Հ-6/-Նոր Գեղի-Արգել-Արզական-Հրազդան հանրապետական նշանակության ավտոճանապարհի կմ 25+200 - կմ36+000 հատվածի հիմնանորոգում | D36: 14573.1
C37: Հ-55, Հրազդանի տրանսպորտային հանգույց-Ծաղկաձորի մարզահամալիր հանրապետական նշանակության ավտոճանապարհի կմ0+00 - կմ10+500 հատվածի հիմնանորոգում | D37: 17316.8
B38: 3 | C38: Մարզային նշանակության ավտոճանապարհներ, այդ թվում | D38: =SUM(D39:D47) -> 53888.2
C39: Տ-7-42, /Մ-7/ (Գյումրի) – Հացիկ – Կարմրաքար (Տ-7-45) ավտոճանապարհի կմ0+000-կմ 4+000 հատվածի հիմնանորոգում | D39: 4718.2
C40: Տ-8-86 Հ-49-Նռնաձոր կմ0+000-կմ2+200 հատվածի հիմնանորոգում | D40: 3294.6
C41: Տ-1-24 /Մ-3/ Մելիքգյուղ ավտոճանապարհի կմ0+000-կմ6+000 հատվածի հիմնանորոգում | D41: 7188.1
...

Sheet 6
C1: Հավելված N6
C2: ՀՀ կառավարության 2020 թվականի
C3: ______________ ի ___Ն որոշման
A5: ՀԱՅԱՍՏԱՆԻ ՀԱՆՐԱՊԵՏՈՒԹՅԱՆ ԿԱՌԱՎԱՐՈՒԹՅԱՆ 2019 ԹՎԱԿԱՆԻ ԴԵԿՏԵՄԲԵՐԻ 26-Ի N 1919-Ն ՈՐՈՇՄԱՆ N 9 ՀԱՎԵԼՎԱԾԻ N 9.8 ԱՂՅՈՒՍԱԿՈՒՄ ԿԱՏԱՐՎՈՂ ՓՈՓՈԽՈՒԹՅՈՒՆՆԵՐԸ ԵՎ ԼՐԱՑՈՒՄՆԵՐԸ
C6: Աղյուսակ 1
A7: ՀՀ ՏԱՐԱԾՔԱՅԻՆ ԿԱՌԱՎԱՐՄԱՆ ԵՎ ԵՆԹԱԿԱՌՈՒՑՎԱԾՔՆԵՐԻ ՆԱԽԱՐԱՐՈՒԹՅՈՒՆ
A8: ՄԱՍ 2. ՊԵՏԱԿԱՆ ՄԱՐՄՆԻ ԳԾՈՎ ԱՐԴՅՈՒՆՔԱՅԻՆ (ԿԱՏԱՐՈՂԱԿԱՆ) ՑՈՒՑԱՆԻՇՆԵՐԸ
A9: Ծրագրի դասիչը | B9: Ծրագրի անվանումը
A10: 1049 | B10: Ճանապարհային ցանցի բարելավում
A11: Ծրագրի միջոցառումները
A12: Ծրագրի դասիչը` | B12: 1049 | C12: Ցուցանիշների փոփոխությունը (ավելացումները նշված են դրական նշանով)
A13: Միջոցառման դասիչը` | B13: 21001 | C13: Տարի
A14: Միջոցառման անվանումը` | B14: Պետական նշանակության ավտոճանապարհների հիմնանորոգում
A15: Նկարագրությունը` | B15: Միջպետական՝ հանրապետական և մարզային նշանակության ավտոճանապարհների քայքայված ծածկի վերանորոգում՝ մաշված ծածկի փոխարինում_x000D_
A16: Միջոցառման տեսակը` | B16: Հանրության կողմից անմիջականորեն օգտագործվող ակտիվների հետ կապված միջոցառումներ
A17: Արդյունքի չափորոշիչներ
A18: Հիմնանորոգվող ավտոճանապարհների երկարությունը/կիլոմետր/ այդ թվում՛ | C18: =+C19+C20+C21 -> 0
A19: Միջպետական նշանակության ավտոճանապարհներ
A20: Հանրապետական նշանակության ավտոճանապարհներ
A21: Մարզային նշանակության ավտոճանապարհներ
A22: Աշխատանքների ավարտվածության աստիճան, %
A23: Նախագծերի պատրաստման և ծախսերի գնահատման պայմանագրեր, հատ | C23: 4
A24: Միջոցառման վրա կատարվող ծախսը (հազար դրամ) | C24: =-C35 -> 199505.7
A27: Ծրագրի դասիչը` | B27: 1049 | C27: Ցուցանիշների փոփոխությունը (նվազեցումները նշված են փակագծերում)
A28: Միջոցառման դասիչը` | B28: 21011 | C28: Տարի
A29: Միջոցառման անվանումը` | B29: Ասիական զարգացման բանկի աջակցությամբ իրականացվող Հյուսիս-հարավ միջանցքի զարգացման վարկային ծրագիր, Տրանշ 3
A30: Նկարագրությունը` | B30: Հատված Թալին-Լանջիկ 71+500 կմ-90+200 կմ կառուցման շինարարական աշխատանքներ
A31: Միջոցառման տեսակը` | B31: Հանրության կողմից անմիջականորեն օգտագործվող ակտիվների հետ կապված միջոցառումներ
A32: Միջոցառումն իրականացնողի անվանումը՛ | B32: Մասնագիտացված միավոր
A33: Արդյունքի չափորոշիչներ
A34: Կապալի պայմանագրերի քանակը
A35: Միջոցառման վրա կատարվող ծախսը (հազար դրամ) | C35: =+'1'!E26 -> -199505.7

Sheet 7
C1: Հավելված N7
C2: ՀՀ կառավարության 2020 թվականի
C3: ______________ ի ___Ն որոշման
A5: ՀԱՅԱՍՏԱՆԻ ՀԱՆՐԱՊԵՏՈՒԹՅԱՆ ԿԱՌԱՎԱՐՈՒԹՅԱՆ 2019 ԹՎԱԿԱՆԻ ԴԵԿՏԵՄԲԵՐԻ 26-Ի N 1919-Ն ՈՐՈՇՄԱՆ N 9.1 ՀԱՎԵԼՎԱԾԻ NN 9.1.8 և 9.1.58 ԱՂՅՈՒՍԱԿՆԵՐՈՒՄ ԿԱՏԱՐՎՈՂ ՓՈՓՈԽՈՒԹՅՈՒՆՆԵՐԸ ԵՎ ԼՐԱՑՈՒՄՆԵՐԸ
C6: Աղյուսակ 1.
A7: ՀՀ ՏԱՐԱԾՔԱՅԻՆ ԿԱՌԱՎԱՐՄԱՆ ԵՎ ԵՆԹԱԿԱՌՈՒՑՎԱԾՔՆԵՐԻ ՆԱԽԱՐԱՐՈՒԹՅՈՒՆ
A8: ՄԱՍ 1. ՊԵՏԱԿԱՆ ՄԱՐՄՆԻ ԳԾՈՎ ԱՐԴՅՈՒՆՔԱՅԻՆ (ԿԱՏԱՐՈՂԱԿԱՆ) ՑՈՒՑԱՆԻՇՆԵՐԸ
A9: Ծրագրի դասիչը | B9: Ծրագրի անվանումը
A10: 1049 | B10: Ճանապարհային ցանցի բարելավում
A11: Ծրագրի միջոցառումները
A12: Ծրագրի դասիչը` | B12: 1049 | C12: Ցուցանիշների փոփոխությունը (ավելացումները նշված են դրական նշանով)
A13: Միջոցառման դասիչը` | B13: 21001 | C13: Տարի
A14: Միջոցառման անվանումը` | B14: Պետական նշանակության ավտոճանապարհների հիմնանորոգում
A15: Նկարագրությունը` | B15: Միջպետական՝ հանրապետական և մարզային նշանակության ավտոճանապարհների քայքայված ծածկի վերանորոգում՝ մաշված ծածկի փոխարինում_x000D_
A16: Միջոցառման տեսակը` | B16: Հանրության կողմից անմիջականորեն օգտագործվող ակտիվների հետ կապված միջոցառումներ
A17: Արդյունքի չափորոշիչներ
A18: Հիմնանորոգվող ավտոճանապարհների երկարությունը/կիլոմետր/ այդ թվում՛ | C18: =+C19+C20+C21 -> 0
A19: Միջպետական նշանակության ավտոճանապարհներ
A20: Հանրապետական նշանակության ավտոճանապարհներ
A21: Մարզային նշանակության ավտոճանապարհներ
A22: Աշխատանքների ավարտվածության աստիճան, %
A23: Նախագծերի պատրաստման և ծախսերի գնահատման պայմանագրեր, հատ | C23: 4
A24: Միջոցառման վրա կատարվող ծախսը (հազար դրամ) | C24: =+'4'!G37 -> 243510
A26: Ծրագրի դասիչը` | B26: 1049 | C26: Ցուցանիշների փոփոխությունը (նվազեցումները նշված են փակագծերում)
A27: Միջոցառման դասիչը` | B27: 21011 | C27: Տարի
A28: Միջոցառման անվանումը` | B28: Ասիական զարգացման բանկի աջակցությամբ իրականացվող Հյուսիս-հարավ միջանցքի զարգացման վարկային ծրագիր, Տրանշ 3
A29: Նկարագրությունը` | B29: Հատված Թալին-Լանջիկ 71+500 կմ-90+200 կմ կառուցման շինարարական աշխատանքներ
A30: Միջոցառման տեսակը` | B30: Հանրության կողմից անմիջականորեն օգտագործվող ակտիվների հետ կապված միջոցառումներ
A31: Միջոցառումն իրականացնողի անվանումը՛ | B31: Մասնագիտացված միավոր
A32: Արդյունքի չափորոշիչներ
A33: Կապալի պայմանագրերի քանակը
A34: Միջոցառման վրա կատարվող ծախսը (հազար դրամ) | C34: =+'6'!C35 -> -199505.7
C36: Աղյուսակ 2.
A37: ՀՀ ԿԱՌԱՎԱՐՈՒԹՅՈՒՆ
A38: ՄԱՍ 1. ՊԵՏԱԿԱՆ ՄԱՐՄՆԻ ԳԾՈՎ ԱՐԴՅՈՒՆՔԱՅԻՆ (ԿԱՏԱՐՈՂԱԿԱՆ) ՑՈՒՑԱՆԻՇՆԵՐԸ
A39: Ծրագրի դասիչը | B39: Ծրագրի անվանումը
A40: 1049 | B40: Ճանապարհային ցանցի բարելավում
A41: Ծրագրի միջոցառումները
A42: Ծրագրի դասիչը` | B42: 1049 | C42: Ցուցանիշների փոփոխությունը (նվազեցումները նշված են փակագծերում)
A43: Միջոցառման դասիչը` | B43: 21001 | C43: Տարի
...

Sheet 8
A1: Հավելված N8
A2: ՀՀ կառավարության 2020 թվականի
A3: ______________ ի ___Ն որոշման
A5: ՀԱՅԱՍՏԱՆԻ ՀԱՆՐԱՊԵՏՈՒԹՅԱՆ ԿԱՌԱՎԱՐՈՒԹՅԱՆ 2019 ԹՎԱԿԱՆԻ ԴԵԿՏԵՄԲԵՐԻ 26-Ի N 1919-Ն ՈՐՈՇՄԱՆ N 10 ՀԱՎԵԼՎԱԾՈՒՄ ԿԱՏԱՐՎՈՂ ԼՐԱՑՈՒՄՆԵՐԸ
A6: Կոդը | B6: Անվանումը | C6: Գնման ձևը | D6: Չափման միավորը | E6: Միավորի գինը | F6: Ցուցանիշների փոփոխությունը (ավելացումները նշված են դրական նշանով, իսկ նվազեցումները` փակագծերում)
F7: Քանակը | G7: Գումարը (հազար դրամով)
A8: ՀՀ տարածքային կառավարման և ենթակառուցվածքների նախարարություն | G8: =+G9 -> 243510
A9: Բաժին N 04 | B9: Խումբ N 05 | C9: Դաս N 01 | D9: Ճանապարհային տրանսպորտ | G9: =+G10 -> 243510
A10: 1049 21001 | B10: Պետական նշանակության ավտոճանապարհների հիմնանորոգում | G10: =+G11+G14 -> 243510
A11: ՄԱՍ II. ԱՇԽԱՏԱՆՔՆԵՐ | G11: =+G13+G12 -> 0
C12: ԲՄ | D12: դրամ | G12: =+F12*E12/1000 -> 0
C13: ԲՄ | D13: դրամ | G13: =+F13*E13/1000 -> 0
A14: ՄԱՍ III. ԾԱՌԱՅՈՒԹՅՈՒՆՆԵՐ | G14: =SUM(G15:G19) -> 243510
A15: 71241200/515 | B15: Նախագծերի պատրաստման, ծախսերի գնահատում | C15: ՀԲՄ | D15: դրամ | E15: 53040000 | F15: 1 | G15: =+F15*E15/1000 -> 53040
A16: 71241200/518 | B16: Նախագծերի պատրաստման, ծախսերի գնահատում | C16: ՀԲՄ | D16: դրամ | E16: 63600000 | F16: 1 | G16: =+F16*E16/1000 -> 63600
A17: 71241200/521 | B17: Նախագծերի պատրաստման, ծախսերի գնահատում | C17: ՀԲՄ | D17: դրամ | E17: 36000000 | F17: 1 | G17: =+F17*E17/1000 -> 36000
A18: 71241200/522 | B18: Նախագծերի պատրաստման, ծախսերի գնահատում | C18: ՀԲՄ | D18: դրամ | E18: 46230000 | F18: 1 | G18: =+F18*E18/1000 -> 46230
A19: 71241200/523 | B19: Նախագծերի պատրաստման, ծախսերի գնահատում | C19: ՀԲՄ | D19: դրամ | E19: 44640000 | F19: 1 | G19: =+F19*E19/1000 -> 44640
