Workbook
Name _tab10: #REF!
Name _tab10: #REF!
Name _tab10: #REF!
Name _tab10: #REF!
Name _tab10: #REF!
Name _tab11: #REF!
Name _tab11: #REF!
Name _tab11: #REF!
Name _tab11: #REF!
Name _tab11: #REF!
Name _tab12: #REF!
Name _tab12: #REF!
Name _tab12: #REF!
Name _tab12: #REF!
Name _tab12: #REF!
Name _tab13: #REF!
Name _tab13: #REF!
Name _tab13: #REF!
Name _tab13: #REF!
Name _tab13: #REF!
Name _tab14: #REF!
Name _tab14: #REF!
Name _tab14: #REF!
Name _tab14: #REF!
Name _tab14: #REF!
Name _tab15: #REF!
Name _tab15: #REF!
Name _tab15: #REF!
Name _tab15: #REF!
Name _tab15: #REF!
Name _tab16: #REF!
Name _tab16: #REF!
Name _tab16: #REF!
Name _tab16: #REF!
Name _tab16: #REF!
Name _tab17: #REF!
Name _tab17: #REF!
Name _tab17: #REF!
Name _tab17: #REF!
Name _tab17: #REF!
Name _tab18: #REF!
Name _tab18: #REF!
Name _tab18: #REF!
Name _tab18: #REF!
Name _tab18: #REF!
Name _tab19: #REF!
Name _tab19: #REF!
Name _tab19: #REF!
Name _tab19: #REF!
Name _tab19: #REF!
Name _tab20: #REF!
Name _tab20: #REF!
Name _tab20: #REF!
Name _tab20: #REF!
Name _tab20: #REF!
Name _tab21: #REF!
Name _tab21: #REF!
Name _tab21: #REF!
Name _tab21: #REF!
Name _tab21: #REF!

Sheet 1
E2: Հավելված № 1
D3: ՀՀ կառավարության 2020 թվականի
E4: № ------------ -Ն որոշման
B6: ՀԱՅԱՍՏԱՆԻ ՀԱՆՐԱՊԵՏՈՒԹՅԱՆ 2020 ԹՎԱԿԱՆԻ ՊԵՏԱԿԱՆ ԲՅՈՒՋԵԻ ՄԱՍԻՆ» ՀԱՅԱՍՏԱՆԻ ՀԱՆՐԱՊԵՏՈՒԹՅԱՆ ՕՐԵՆՔԻ N 1 ՀԱՎԵԼՎԱԾԻ N 2 ԱՂՅՈՒՍԱԿՈՒՄ ԿԱՏԱՐՎՈՂ ՎԵՐԱԲԱՇԽՈՒՄԸ ԵՎ ՀԱՅԱՍՏԱՆԻ ՀԱՆՐԱՊԵՏՈՒԹՅԱՆ ԿԱՌԱՎԱՐՈՒԹՅԱՆ 2019 ԹՎԱԿԱՆԻ ԴԵԿՏԵՄԲԵՐԻ 26-Ի № 1919-Ն ՈՐՈՇՄԱՆ № 5 ՀԱՎԵԼՎԱԾԻ № 1 ԱՂՅՈՒՍԱԿՈՒՄ ԿԱՏԱՐՎՈՂ ՓՈՓՈԽՈՒԹՅՈՒՆՆԵՐԸ
E7: հազար դրամ
B8: Ծրագրային դասիչը | D8: Բյուջետային հատկացումների գլխավոր կարգադրիչների, ծրագրերի և միջոցառումների անվանումները | E8: Ցուցանիշների փոփոխությունները (ավելացումները նշված են դրական նշանով, նվազեցումները` փակագծերում)
B9: Ծրագիր | C9: Միջոցառում | E9: Տարի
D10: ԸՆԴԱՄԵՆԸ | E10: =+E11 -> 0
D11: ՀՀ առողջապահության նախարարություն | E11: =E13+E38+E51+E88+E101+E114 -> 0
B12: 1200 | D12: Ծրագրի անվանումը`
D13: Մոր և մանկան առողջության պահպանում | E13: =E20+E26+E32 -> -505000
D14: Ծրագրի նպատակը`
D15: Մոր և մանկան առողջության պահպանում, կանանց և երեխաներին մատուցվող բժշկական ծառայությունների մատչելիության և որակի բարելավում
D16: Վերջնական արդյունքի նկարագրությունը`
D17: Մանկական և մայրական մահացության և հիվանդացության կրճատում, կանանց վերարտադրողական առողջության բարելավում
B18: Ծրագրի միջոցառումներ
C19: 11001 | D19: Միջոցառման անվանումը`
D20: Մանկաբարձական բժշկական օգնության ծառայություններ | E20: -150000
D21: Միջոցառման նկարագրությունը`
D22: Մանկաբարձական բժշկական օգնության համալիր միջոցառումների իրականացում, հղիության ախտաբանական ընթացքի բժշկական օգնություն և ծննդօգնություն
D23: Միջոցառման տեսակը
D24: Ծառայությունների մատուցում
C25: 11003 | D25: Միջոցառման անվանումը`
D26: Երեխաներին բժշկական օգնության ծառայություններ | E26: -255000
D27: Միջոցառման նկարագրությունը`
D28: Երեխաների (0-18 տարեկան երեխաներին) հիվանդանոցային բժշկական օգնության իրականացում (հետազոտում, ախտորոշում, բուժում)_x000D_
D29: Միջոցառման տեսակը
D30: Ծառայությունների մատուցում
C31: 11006 | D31: Միջոցառման անվանումը`
D32: Անպտուղ զույգերի համար վերարտադրողական օժանդակ տեխնոլոգիաների կիրառմամբ բժշկական օգնության ծառայություններ | E32: -100000
D33: Միջոցառման նկարագրությունը`
D34: Բնակչության առանձին և հատուկ խմբերում ընդգրկված անպտուղ զույգերին վերարտադրողական օժանդակ տեխնոլոգիաների կիրառմամբ բժշկական օգնության տրամադրում
D35: Միջոցառման տեսակը
D36: Ծառայությունների մատուցում
B37: 1201 | D37: Ծրագրի անվանումը`
D38: Շտապ բժշկական օգնություն | E38: =E45 -> 100000
D39: Ծրագրի նպատակը`
D40: Մարդու կյանքին և առողջությանը վտանգ սպառնացող վիճակներում որակյալ շտապ բժշկական օգնության ծառայությունների տրամադրում_x000D_
D41: Վերջնական արդյունքի նկարագրությունը`
D42: Շտապ օգնության համակարգի պատրաստվածության բարելավում, արձագանքման արագության, հասանելիության և բժշկական օգնության ծառայությունների որակի բարելավում_x000D_
...

Sheet 2
G1: Հավելված № 2
F2: ՀՀ կառավարության 2020 թվականի
G3: № ------------ -Ն որոշման
A5: ՀԱՅԱՍՏԱՆԻ ՀԱՆՐԱՊԵՏՈՒԹՅԱՆ ԿԱՌԱՎԱՐՈՒԹՅԱՆ 2019 ԹՎԱԿԱՆԻ ԴԵԿՏԵՄԲԵՐԻ 26-Ի № 1919-Ն ՈՐՈՇՄԱՆ NN 3 և 4 ՀԱՎԵԼՎԱԾՆԵՐՈՒՄ ԿԱՏԱՐՎՈՂ ՓՈՓՈԽՈՒԹՅՈՒՆՆԵՐԸ
G6: հազար դրամ
A7: Գործառական դասիչը | D7: Ծրագրային դասիչը | F7: Բյուջետային հատկացումների գլխավոր կարգադրիչների, ծրագրերի, միջոցառումների և միջոցառումները կատարող պետական մարմինների անվանումները | G7: Ցուցանիշների փոփոխությունները (ավելացումները նշված են դրական նշանով, նվազեցումները` փակագծերում)
A8: բաժին | B8: խումբ | C8: դաս | D8: Ծրագիր | E8: Միջոցառում | G8: Տարի
A9: ԸՆԴԱՄԵՆԸ | G9: =G10 -> 0
A10: 07 | F10: ԱՌՈՂՋԱՊԱՀՈՒԹՅՈՒՆ | G10: =G12+G44+91000 -> 0
F11: այդ թվում՝
B12: 02 | F12: Արտահիվանդանոցային ծառայություններ | G12: =G14+G29 -> -60000
F13: այդ թվում`
C14: 02 | F14: Մասնագիտացված բժշկական ծառայություններ | G14: =G20 -> -160000
F15: այդ թվում`
F16: ՀՀ առողջապահության նախարարություն
F17: այդ թվում՝
D18: 1202 | F18: Ոչ վարակիչ հիվանդությունների բժշկական օգնության ապահովում | G18: =G20 -> -160000
F19: այդ թվում`
E20: 11001 | F20: Հեմոդիալիզի և պերիտոնիալ դիալիզի անցկացման ծառայություններ | G20: =G22 -> -160000
F21: այդ թվում` ըստ կատարողների
F22: ՀՀ առողջապահության նախարարություն | G22: =G24 -> -160000
F23: այդ թվում` բյուջետային ծախսերի տնտեսագիտական դասակարգման հոդվածներ
F24: ԸՆԴԱՄԵՆԸ ԾԱԽՍԵՐ | G24: =G25 -> -160000
F25: ԸՆԹԱՑԻԿ ԾԱԽՍԵՐ | G25: =G26 -> -160000
F26: ԾԱՌԱՅՈՒԹՅՈՒՆՆԵՐԻ ԵՎ ԱՊՐԱՆՔՆԵՐԻ ՁԵՌՔԲԵՐՈՒՄ | G26: =G27 -> -160000
F27: Պայմանագրային այլ ծառայությունների ձեռքբերում | G27: =G28 -> -160000
F28: - Ընդհանուր բնույթի այլ ծառայություններ | G28: ='1'!E58 -> -160000
C29: 04 | F29: Պարաբժշկական ծառայություններ | G29: =G35 -> 100000
F30: այդ թվում`
F31: ՀՀ առողջապահության նախարարություն
F32: այդ թվում՝
D33: 1201 | F33: Շտապ բժշկական օգնություն | G33: =G35 -> 100000
F34: այդ թվում`
E35: 11001 | F35: Շտապ բժշկական օգնության ծառայություններ | G35: =G37 -> 100000
F36: այդ թվում` ըստ կատարողների
F37: ՀՀ առողջապահության նախարարություն | G37: =G39 -> 100000
F38: այդ թվում` բյուջետային ծախսերի տնտեսագիտական դասակարգման հոդվածներ
F39: ԸՆԴԱՄԵՆԸ ԾԱԽՍԵՐ | G39: =G40 -> 100000
F40: ԸՆԹԱՑԻԿ ԾԱԽՍԵՐ | G40: =G41 -> 100000
F41: ԾԱՌԱՅՈՒԹՅՈՒՆՆԵՐԻ ԵՎ ԱՊՐԱՆՔՆԵՐԻ ՁԵՌՔԲԵՐՈՒՄ | G41: =G42 -> 100000
...

Sheet 3
E1: Հավելված № 3
D2: ՀՀ կառավարության 2020 թվականի
E3: № ------------ -Ն որոշման
A5: ՀԱՅԱՍՏԱՆԻ ՀԱՆՐԱՊԵՏՈՒԹՅԱՆ ԿԱՌԱՎԱՐՈՒԹՅԱՆ 2019 ԹՎԱԿԱՆԻ ԴԵԿՏԵՄԲԵՐԻ 26-Ի N 1919-Ն ՈՐՈՇՄԱՆ N 5 ՀԱՎԵԼՎԱԾԻ N 7 ԱՂՅՈՒՍԱԿՈՒՄ ԿԱՏԱՐՎՈՂ ՓՈՓՈԽՈՒԹՅՈՒՆՆԵՐԸ
E6: հազար դրամ
A7: Ծրագրային դասիչը | C7: Բյուջետային հատկացումների գլխավոր կարգադրիչների, ծրագրերի, միջոցառումների, ծախսային ուղղությունների անվանումները | D7: Միջոցառումները կատարող պետական մարմինների և դրամաշնորհ ստացող տնտեսավարող սուբյեկտների անվանումները | E7: Ցուցանիշների փոփոխությունները (ավելացումները նշված են դրական նշանով)
A9: ծրագիրը | B9: միջոցառումը | E9: Տարի
A10: ՀՀ առողջապահության նախարարություն | E10: 52,995.0
A11: 1142 | B11: Դատաբժշկական և ախտաբանաանատոմիական ծառայություններ | E11: 52,995.0
B12: 11001 | C12: Դատաբժշկական փորձաքննություններ | D12: ՀՀ առողջապահության նախարարություն | E12: 52,995.0
D13: «Դատաբժշկական գիտագործնական կենտրոն» ՊՈԱԿ | E13: 52,995.0

Sheet 4
C1: Հավելված № 4
B2: ՀՀ կառավարության 2020 թվականի
C3: № ------------ -Ն որոշման
A5: ՀԱՅԱՍՏԱՆԻ ՀԱՆՐԱՊԵՏՈՒԹՅԱՆ ԿԱՌԱՎԱՐՈՒԹՅԱՆ 2019 ԹՎԱԿԱՆԻ ԴԵԿՏԵՄԲԵՐԻ 26-Ի N 1919-Ն ՈՐՈՇՄԱՆ N 9 ՀԱՎԵԼՎԱԾԻ 9.9 ԱՂՅՈՒՍԱԿՈՒՄ ԿԱՏԱՐՎՈՂ ՓՈՓՈԽՈՒԹՅՈՒՆՆԵՐԸ
A6: ՀՀ Առողջապահության նախարարություն
A7: ՄԱՍ 2. ՊԵՏԱԿԱՆ ՄԱՐՄՆԻ ԳԾՈՎ ԱՐԴՅՈՒՆՔԱՅԻՆ (ԿԱՏԱՐՈՂԱԿԱՆ) ՑՈՒՑԱՆԻՇՆԵՐԸ
C8: հազար դրամ
A9: Ծրագրի դասիչը | B9: Ծրագրի անվանումը
A10: 1200 | B10: Մոր և մանկան առողջության պահպանում
A12: Ծրագրի միջոցառումները
A13: Ծրագրի դասիչը` | B13: 1200 | C13: Ցուցանիշների փոփոխությունը (նվազեցումները նշված են փակագծերում)
A14: Միջոցառման դասիչը` | B14: 11001 | C14: Տարի
A15: Միջոցառման անվանումը` | B15: ='1'!D20 -> Մանկաբարձական բժշկական օգնության ծառայություններ
A16: Նկարագրությունը` | B16: Մանկաբարձական բժշկական օգնության համալիր միջոցառումների իրականացում, հղիության ախտաբանական ընթացքի բժշկական օգնություն և ծննդօգնություն
A17: Միջոցառման տեսակը` | B17: Ծառայությունների մատուցում
A18: Միջոցառումն իրականացնողի անվանումը | B18: ՀՀ գնումների մասին օրենսդրությանը համապատասխան ընտրված կազմակերպություններ
A19: Արդյունքի չափորոշիչներ
A20: Մանկաբարձական բժշկական օգնության ծառայություններից օգտվելու դեպքերի թիվ, հատ | C20: -1061
A21: Միջոցառման վրա կատարվող ծախսը (հազար դրամ) | C21: -150000
A23: Ծրագրի դասիչը` | B23: 1200 | C23: Ցուցանիշների փոփոխությունը (նվազեցումները նշված են փակագծերում)
A24: Միջոցառման դասիչը` | B24: 11003 | C24: Տարի
A25: Միջոցառման անվանումը` | B25: ='1'!D26 -> Երեխաներին բժշկական օգնության ծառայություններ
A26: Նկարագրությունը` | B26: Երեխաների (0-18 տարեկան երեխաներին) հիվանդանոցային բժշկական օգնության իրականացում (հետազոտում, ախտորոշում, բուժում)
A27: Միջոցառման տեսակը` | B27: Ծառայությունների մատուցում
A28: Միջոցառումն իրականացնողի անվանումը | B28: ՀՀ գնումների մասին օրենսդրությանը համապատասխան ընտրված կազմակերպություններ
A29: Արդյունքի չափորոշիչներ
A30: Երեխաների բժշկական օգնության գծով ծառայություններից օգտվելու դեպքերի թիվ, հատ | C30: -1940
A31: Միջոցառման վրա կատարվող ծախսը (հազար դրամ) | C31: -255000
A33: Ծրագրի դասիչը` | B33: 1200 | C33: Ցուցանիշների փոփոխությունը (նվազեցումները նշված են փակագծերում)
A34: Միջոցառման դասիչը` | B34: 11006 | C34: Տարի
A35: Միջոցառման անվանումը` | B35: ='1'!D32 -> Անպտուղ զույգերի համար վերարտադրողական օժանդակ տեխնոլոգիաների կիրառմամբ բժշկական օգնության ծառայություններ
A36: Նկարագրությունը` | B36: Բնակչության առանձին և հատուկ խմբերում ընդգրկված անպտուղ զույգերին վերարտադրողական օժանդակ տեխնոլոգիաների կիրառմամբ բժշկական օգնության տրամադրում
A37: Միջոցառման տեսակը` | B37: Ծառայությունների մատուցում
A38: Միջոցառումն իրականացնողի անվանումը | B38: ՀՀ գնումների մասին օրենսդրությանը համապատասխան ընտրված կազմակերպություններ
A39: Արդյունքի չափորոշիչներ
A40: Վերարտադրողական օժանդակ տեխնոլոգիաների կիրառմամբ բժշկական օգնության ծառայություններ ստացած զույգերի թիվ, հատ | C40: -131
A41: Հետազոտություններ քանակ, հատ | C41: -2489
A42: Միջոցառման վրա կատարվող ծախսը (հազար դրամ) | C42: -100000
A44: Ծրագրի դասիչը | B44: Ծրագրի անվանումը
A45: 1201 | B45: Շտապ բժշկական օգնություն
...

Sheet 5
C1: Հավելված № 5
B2: ՀՀ կառավարության 2020 թվականի
C3: № ------------ -Ն որոշման
A5: ՀԱՅԱՍՏԱՆԻ ՀԱՆՐԱՊԵՏՈՒԹՅԱՆ ԿԱՌԱՎԱՐՈՒԹՅԱՆ 2019 ԹՎԱԿԱՆԻ ԴԵԿՏԵՄԲԵՐԻ 26-Ի N 1919-Ն ՈՐՈՇՄԱՆ N 9.1 ՀԱՎԵԼՎԱԾԻ 9.1.9 ԱՂՅՈՒՍԱԿՈՒՄ ԿԱՏԱՐՎՈՂ ՓՈՓՈԽՈՒԹՅՈՒՆՆԵՐԸ
A6: ՀՀ Առողջապահության նախարարություն
A7: ՄԱՍ 2. ՊԵՏԱԿԱՆ ՄԱՐՄՆԻ ԳԾՈՎ ԱՐԴՅՈՒՆՔԱՅԻՆ (ԿԱՏԱՐՈՂԱԿԱՆ) ՑՈՒՑԱՆԻՇՆԵՐԸ
C8: հազար դրամ
A9: Ծրագրի դասիչը | B9: Ծրագրի անվանումը
A10: 1200 | B10: Մոր և մանկան առողջության պահպանում
A12: Ծրագրի միջոցառումները
A13: Ծրագրի դասիչը` | B13: 1200 | C13: Ցուցանիշների փոփոխությունը (նվազեցումները նշված են փակագծերում)
A14: Միջոցառման դասիչը` | B14: 11001 | C14: Տարի
A15: Միջոցառման անվանումը` | B15: ='1'!D20 -> Մանկաբարձական բժշկական օգնության ծառայություններ
A16: Նկարագրությունը` | B16: Մանկաբարձական բժշկական օգնության համալիր միջոցառումների իրականացում, հղիության ախտաբանական ընթացքի բժշկական օգնություն և ծննդօգնություն
A17: Միջոցառման տեսակը` | B17: Ծառայությունների մատուցում
A18: Միջոցառումն իրականացնողի անվանումը | B18: ՀՀ գնումների մասին օրենսդրությանը համապատասխան ընտրված կազմակերպություններ
A19: Արդյունքի չափորոշիչներ
A20: Մանկաբարձական բժշկական օգնության ծառայություններից օգտվելու դեպքերի թիվ, հատ | C20: -1061
A21: Միջոցառման վրա կատարվող ծախսը (հազար դրամ) | C21: -150000
A23: Ծրագրի դասիչը` | B23: 1200 | C23: Ցուցանիշների փոփոխությունը (նվազեցումները նշված են փակագծերում)
A24: Միջոցառման դասիչը` | B24: 11003 | C24: Տարի
A25: Միջոցառման անվանումը` | B25: ='1'!D26 -> Երեխաներին բժշկական օգնության ծառայություններ
A26: Նկարագրությունը` | B26: Երեխաների (0-18 տարեկան երեխաներին) հիվանդանոցային բժշկական օգնության իրականացում (հետազոտում, ախտորոշում, բուժում)
A27: Միջոցառման տեսակը` | B27: Ծառայությունների մատուցում
A28: Միջոցառումն իրականացնողի անվանումը | B28: ՀՀ գնումների մասին օրենսդրությանը համապատասխան ընտրված կազմակերպություններ
A29: Արդյունքի չափորոշիչներ
A30: Երեխաների բժշկական օգնության գծով ծառայություններից օգտվելու դեպքերի թիվ, հատ | C30: -1940
A31: Միջոցառման վրա կատարվող ծախսը (հազար դրամ) | C31: -255000
A33: Ծրագրի դասիչը` | B33: 1200 | C33: Ցուցանիշների փոփոխությունը (նվազեցումները նշված են փակագծերում)
A34: Միջոցառման դասիչը` | B34: 11006 | C34: Տարի
A35: Միջոցառման անվանումը` | B35: ='1'!D32 -> Անպտուղ զույգերի համար վերարտադրողական օժանդակ տեխնոլոգիաների կիրառմամբ բժշկական օգնության ծառայություններ
A36: Նկարագրությունը` | B36: Բնակչության առանձին և հատուկ խմբերում ընդգրկված անպտուղ զույգերին վերարտադրողական օժանդակ տեխնոլոգիաների կիրառմամբ բժշկական օգնության տրամադրում
A37: Միջոցառման տեսակը` | B37: Ծառայությունների մատուցում
A38: Միջոցառումն իրականացնողի անվանումը | B38: ՀՀ գնումների մասին օրենսդրությանը համապատասխան ընտրված կազմակերպություններ
A39: Արդյունքի չափորոշիչներ
A40: Վերարտադրողական օժանդակ տեխնոլոգիաների կիրառմամբ բժշկական օգնության ծառայություններ ստացած զույգերի թիվ, հատ | C40: -131
A41: Հետազոտություններ քանակ, հատ | C41: -2489
A42: Միջոցառման վրա կատարվող ծախսը (հազար դրամ) | C42: -100000
A44: Ծրագրի դասիչը | B44: Ծրագրի անվանումը
A45: 1201 | B45: Շտապ բժշկական օգնություն
...

Sheet 6
F1: Հավելված № 6
D2: ՀՀ կառավարության 2020 թվականի
E3: № ------------ -Ն որոշման
A4: ՀԱՅԱՍՏԱՆԻ ՀԱՆՐԱՊԵՏՈՒԹՅԱՆ ԿԱՌԱՎԱՐՈՒԹՅԱՆ 2019 ԹՎԱԿԱՆԻ ԴԵԿՏԵՄԲԵՐԻ 26-Ի N 1919-Ն ՈՐՈՇՄԱՆ N 10 ՀԱՎԵԼՎԱԾՈՒՄ ԿԱՏԱՐՎՈՂ ՓՈՓՈԽՈՒԹՅՈՒՆՆԵՐԸ
A5: Կոդը | B5: Անվանումը | E5: Գնման ձևը | F5: Չափման միավորը | G5: Միավորի գինը | H5: Քանակը | I5: Գումարը (հազար դրամով)
A6: ՀՀ առողջապահության նախարարություն | I6: =I8+I12+I16+I20+I23+I26+I30+I33 -> 519000
A7: Բաժին N 07 | B7: Խումբ N 02 | C7: Դաս N 02 | D7: Մասնագիտացված բժշկական ծառայություններ | I7: =I8 -> -160000
A8: 1202 11001 | B8: Հեմոդիալիզի և պերիտոնիալ դիալիզի անցկացման ծառայություններ | I8: =I9 -> -160000
B9: ՄԱՍ III. ԾԱՌԱՅՈՒԹՅՈՒՆՆԵՐ | I9: =I10 -> -160000
A10: 85111230-1 | B10: հիվանդանոցային պայմաններում դիալիզի ծառայություններ | E10: ՄԱ | F10: դրամ | I10: -160000
A11: Բաժին N 07 | B11: Խումբ N 02 | C11: Դաս N 04 | D11: Պարաբժշկական ծառայություններ | I11: =I12 -> 100000
A12: 1201 11001 | B12: Շտապ բժշկական օգնության ծառայություններ | I12: =I13 -> 100000
B13: ՄԱՍ III. ԾԱՌԱՅՈՒԹՅՈՒՆՆԵՐ | I13: =I14 -> 100000
A14: 85141210-1 | B14: շտապ օգնության ծառայություններ | E14: ՄԱ | F14: դրամ | I14: 100000
A15: Բաժին N 07 | B15: Խումբ N 03 | C15: Դաս N 01 | D15: Ընդհանուր բնույթի հիվանդանոցային ծառայություններ | I15: =I16 -> 70000
A16: 1202 11002 | B16: Անհետաձգելի բժշկական օգնության ծառայություններ | I16: =I17 -> 70000
B17: ՄԱՍ III. ԾԱՌԱՅՈՒԹՅՈՒՆՆԵՐ | I17: =I18 -> 70000
A18: 85111100-1 | B18: հիվանդանոցային ծառայություններ | E18: ՄԱ | F18: դրամ | I18: 70000
A19: Բաժին N 07 | B19: Խումբ N 03 | C19: Դաս N 02 | D19: Մասնագիտացված հիվանդանոցային ծառայություններ | I19: =I20 -> -160000
A20: 1208 11003 | B20: Աղիքային և այլ ինֆեկցիոն հիվանդությունների բժշկական օգնության ծառայություններ | I20: =I21 -> -160000
B21: ՄԱՍ III. ԾԱՌԱՅՈՒԹՅՈՒՆՆԵՐ | I21: =I22 -> -160000
A22: 85111120-1 | B22: հիվանդանոցների կողմից մատուցվող բժշկական ծառայություններ | E22: ՄԱ | F22: դրամ | I22: -160000
A23: 1202 11003 | B23: Հոգեկան և նարկոլոգիական հիվանդների բժշկական օգնության ծառայություններ | I23: =I24 -> 80000
B24: ՄԱՍ III. ԾԱՌԱՅՈՒԹՅՈՒՆՆԵՐ | I24: =I25 -> 80000
A25: 85111170-1 | B25: հոգեբուժական հիվանդանոցների կողմից մատուցվող ծառայություններ | E25: ՄԱ | F25: դրամ | I25: 80000
A26: 1202 11004 | B26: Ուռուցքաբանական և արյունաբանական հիվանդությունների բժշկական օգնության ծառայություններ | I26: =I27 -> 944000
B27: ՄԱՍ III. ԾԱՌԱՅՈՒԹՅՈՒՆՆԵՐ | I27: =I28 -> 944000
A28: 85121310-1 | B28: ուրոլոգիական ծառայություններ | E28: ՄԱ | F28: դրամ | I28: 944000
A29: Բաժին N 07 | B29: Խումբ N 03 | C29: Դաս N 03 | D29: Մոր և մանկան բժշկական ծառայություններ | I29: =I30 -> -255000
A30: 1200 11003 | B30: Երեխաներին բժշկական օգնության ծառայություններ | I30: =I31 -> -255000
B31: ՄԱՍ III. ԾԱՌԱՅՈՒԹՅՈՒՆՆԵՐ | I31: =I32 -> -255000
A32: 85111120-1 | B32: հիվանդանոցների կողմից մատուցվող բժշկական ծառայություններ | E32: ՄԱ | F32: դրամ | I32: -255000
A33: 1200 11006 | B33: Անպտուղ զույգերի համար վերարտադրողական օժանդակ տեխնոլոգիաների կիրառմամբ բժշկական օգնության ծառայություններ | I33: =I34 -> -100000
B34: ՄԱՍ III. ԾԱՌԱՅՈՒԹՅՈՒՆՆԵՐ | I34: =I35 -> -100000
A35: 85121100-1 | B35: բժշկական ծառայություններ | E35: ՄԱ | F35: դրամ | I35: -100000
