Workbook
Name _tab10: #REF!
Name _tab10: #REF!
Name _tab10: #REF!
Name _tab10: #REF!
Name _tab10: #REF!
Name _tab11: #REF!
Name _tab11: #REF!
Name _tab11: #REF!
Name _tab11: #REF!
Name _tab11: #REF!
Name _tab12: #REF!
Name _tab12: #REF!
Name _tab12: #REF!
Name _tab12: #REF!
Name _tab12: #REF!
Name _tab13: #REF!
Name _tab13: #REF!
Name _tab13: #REF!
Name _tab13: #REF!
Name _tab13: #REF!
Name _tab14: #REF!
Name _tab14: #REF!
Name _tab14: #REF!
Name _tab14: #REF!
Name _tab14: #REF!
Name _tab15: #REF!
Name _tab15: #REF!
Name _tab15: #REF!
Name _tab15: #REF!
Name _tab15: #REF!
Name _tab16: #REF!
Name _tab16: #REF!
Name _tab16: #REF!
Name _tab16: #REF!
Name _tab16: #REF!
Name _tab17: #REF!
Name _tab17: #REF!
Name _tab17: #REF!
Name _tab17: #REF!
Name _tab17: #REF!
Name _tab18: #REF!
Name _tab18: #REF!
Name _tab18: #REF!
Name _tab18: #REF!
Name _tab18: #REF!
Name _tab19: #REF!
Name _tab19: #REF!
Name _tab19: #REF!
Name _tab19: #REF!
Name _tab19: #REF!
Name _tab20: #REF!
Name _tab20: #REF!
Name _tab20: #REF!
Name _tab20: #REF!
Name _tab20: #REF!
Name _tab21: #REF!
Name _tab21: #REF!
Name _tab21: #REF!
Name _tab21: #REF!
Name _tab21: #REF!

Sheet 1
E2: Հավելված № 1
D3: ՀՀ կառավարության 2020 թվականի
E4: № ------------ -Ն որոշման
B6: ՀԱՅԱՍՏԱՆԻ ՀԱՆՐԱՊԵՏՈՒԹՅԱՆ 2020 ԹՎԱԿԱՆԻ ՊԵՏԱԿԱՆ ԲՅՈՒՋԵԻ ՄԱՍԻՆ» ՀԱՅԱՍՏԱՆԻ ՀԱՆՐԱՊԵՏՈՒԹՅԱՆ ՕՐԵՆՔԻ N 1 ՀԱՎԵԼՎԱԾԻ N 2 ԱՂՅՈՒՍԱԿՈՒՄ ԿԱՏԱՐՎՈՂ ՎԵՐԱԲԱՇԽՈՒՄԸ ԵՎ ՀԱՅԱՍՏԱՆԻ ՀԱՆՐԱՊԵՏՈՒԹՅԱՆ ԿԱՌԱՎԱՐՈՒԹՅԱՆ 2019 ԹՎԱԿԱՆԻ ԴԵԿՏԵՄԲԵՐԻ 26-Ի № 1919-Ն ՈՐՈՇՄԱՆ № 5 ՀԱՎԵԼՎԱԾԻ № 1 ԱՂՅՈՒՍԱԿՈՒՄ ԿԱՏԱՐՎՈՂ ՓՈՓՈԽՈՒԹՅՈՒՆՆԵՐԸ
E7: հազար դրամ
B8: Ծրագրային դասիչը | D8: Բյուջետային հատկացումների գլխավոր կարգադրիչների, ծրագրերի և միջոցառումների անվանումները | E8: Ցուցանիշների փոփոխությունները (ավելացումները նշված են դրական նշանով, նվազեցումները` փակագծերում)
B9: Ծրագիր | C9: Միջոցառում | E9: Տարի
D10: ԸՆԴԱՄԵՆԸ | E10: =+E11 -> 0
D11: ՀՀ առողջապահության նախարարություն | E11: =E13+E38+E51+E88+E101+E114 -> 0
B12: 1200 | D12: Ծրագրի անվանումը`
D13: Մոր և մանկան առողջության պահպանում | E13: =E20+E26+E32 -> -505000
D14: Ծրագրի նպատակը`
D15: Մոր և մանկան առողջության պահպանում, կանանց և երեխաներին մատուցվող բժշկական ծառայությունների մատչելիության և որակի բարելավում
D16: Վերջնական արդյունքի նկարագրությունը`
D17: Մանկական և մայրական մահացության և հիվանդացության կրճատում, կանանց վերարտադրողական առողջության բարելավում
B18: Ծրագրի միջոցառումներ
C19: 11001 | D19: Միջոցառման անվանումը`
D20: Մանկաբարձական բժշկական օգնության ծառայություններ | E20: -150000
D21: Միջոցառման նկարագրությունը`
D22: Մանկաբարձական բժշկական օգնության համալիր միջոցառումների իրականացում, հղիության ախտաբանական ընթացքի բժշկական օգնություն և ծննդօգնություն
D23: Միջոցառման տեսակը
D24: Ծառայությունների մատուցում
C25: 11003 | D25: Միջոցառման անվանումը`
D26: Երեխաներին բժշկական օգնության ծառայություններ | E26: -255000
D27: Միջոցառման նկարագրությունը`
D28: Երեխաների (0-18 տարեկան երեխաներին) հիվանդանոցային բժշկական օգնության իրականացում (հետազոտում, ախտորոշում, բուժում)_x000D_
D29: Միջոցառման տեսակը
D30: Ծառայությունների մատուցում
C31: 11006 | D31: Միջոցառման անվանումը`
D32: Անպտուղ զույգերի համար վերարտադրողական օժանդակ տեխնոլոգիաների կիրառմամբ բժշկական օգնության ծառայություններ | E32: -100000
D33: Միջոցառման նկարագրությունը`
D34: Բնակչության առանձին և հատուկ խմբերում ընդգրկված անպտուղ զույգերին վերարտադրողական օժանդակ տեխնոլոգիաների կիրառմամբ բժշկական օգնության տրամադրում
D35: Միջոցառման տեսակը
D36: Ծառայությունների մատուցում
B37: 1201 | D37: Ծրագրի անվանումը`
D38: Շտապ բժշկական օգնություն | E38: =E45 -> 100000
D39: Ծրագրի նպատակը`
D40: Մարդու կյանքին և առողջությանը վտանգ սպառնացող վիճակներում որակյալ շտապ բժշկական օգնության ծառայությունների տրամադրում_x000D_
D41: Վերջնական արդյունքի նկարագրությունը`
D42: Շտապ օգնության համակարգի պատրաստվածության բարելավում, արձագանքման արագության, հասանելիության և բժշկական օգնության ծառայությունների որակի բարելավում_x000D_
B43: Ծրագրի միջոցառումներ
C44: 11001 | D44: Միջոցառման անվանումը`
D45: Շտապ բժշկական օգնության ծառայություններ | E45: 100000
D46: Միջոցառման նկարագրությունը`
D47: Շտապ բժշկական օգնության իրականացում
D48: Միջոցառման տեսակը
D49: Ծառայությունների մատուցում
B50: 1202 | D50: Ծրագրի անվանումը
D51: Ոչ վարակիչ հիվանդությունների բժշկական օգնության ապահովում | E51: =E58+E64+E70+E76+E82 -> 874000
D52: Ծրագրի նպատակը
D53: Ոչ վարակիչ հիվանդությունների (մասնավորապես սիրտանոթային, շաքարային դիաբետի և չարորակ նորագոյացությունների) բուժման արդյունավետության բարձրացում_x000D_
D54: Վերջնական արդյունքի նկարագրությունը
D55: Ոչ վարակիչ հիվանդություններով պայմանավորված հիվանդացության և մահացության նվազեցում_x000D_
B56: Ծրագրի միջոցառումներ
C57: 11001 | D57: Միջոցառման անվանումը`
D58: Հեմոդիալիզի և պերիտոնիալ դիալիզի անցկացման ծառայություններ | E58: -160000
D59: Միջոցառման նկարագրությունը`
D60: Հեմոդիալիզի կարիք ունեցող հիվանդների բժշկական օգնության համալիր միջոցառումների իրականացում
D61: Միջոցառման տեսակը
D62: Ծառայությունների մատուցում
C63: 11002 | D63: Միջոցառման անվանումը
D64: Անհետաձգելի բժշկական օգնության ծառայություններ | E64: 70000
D65: Միջոցառման նկարագրությունը | E65: 200000
D66: Անհետաձգելի բժշկական օգնության իրականացում` ՀՀ առողջապահության նախարարի կողմից հաստատված հիվանդությունների, վիճակների ցանկի համաձայն
D67: Միջոցառման տեսակը
D68: Ծառայությունների մատուցում
C69: 11003 | D69: Միջոցառման անվանումը`
D70: Հոգեկան և նարկոլոգիական հիվանդների բժշկական օգնության ծառայություններ | E70: 80000
D71: Միջոցառման նկարագրությունը`
D72: Հոգեկան և նարկոլոգիական հիվանդների բուժում և շարունակական հսկողության համալիր միջոցառումների իրականացում
D73: Միջոցառման տեսակը
D74: Ծառայությունների մատուցում
C75: 11004 | D75: Միջոցառման անվանումը`
D76: Ուռուցքաբանական և արյունաբանական հիվանդությունների բժշկական օգնության ծառայություններ | E76: 944000
D77: Միջոցառման նկարագրությունը`
D78: Ուռուցքաբանական և արյունաբանական հիվանդների բուժում և շարունակական հսկողության համալիր միջոցառումների իրականացում
D79: Միջոցառման տեսակը
D80: Ծառայությունների մատուցում
C81: 11005 | D81: Միջոցառման անվանումը`
D82: Սրտի անհետաձգելի վիրահատություններ_x000D_ | E82: -60000
D83: Միջոցառման նկարագրությունը`
D84: Սրտի անհետաձգելի վիրահատության կարիք ունեցող հիվանդների բժշկական օգնության իրականացում` ՀՀ առողջապահության նախարարի հրամանով սահմանված կարգով
D85: Միջոցառման տեսակը
D86: Ծառայությունների մատուցում
B87: 1207 | D87: Ծրագրի անվանումը
D88: Սոցիալապես անապահով և առանձին խմբերի անձանց բժշկական օգնություն | E88: =E95 -> -400000
D89: Ծրագրի նպատակը
D90: Սոցիալապես անապահով և հատուկ խմբերում ընդգրկված անձանց բժշկական օգնության հասանելիության և մատչելիության մակարդակի բարձրացում, հիվանդանոցային որակյալ բժշկական օգնության ապահովում
D91: Վերջնական արդյունքի նկարագրությունը
D92: Սոցիալապես անապահով և հատուկ խմբերում ընդգրկված անձանց բժշկական օգնության հասանելիության և մատչելիության բարձրացում, ծառայությունների մատուցման հասցեականության բարելավում
B93: Ծրագրի միջոցառումներ
C94: 11003 | D94: Միջոցառման անվանումը`
D95: Զինծառայողներին, ինչպես նաև փրկարար ծառայողներին և նրանց ընտանիքի անդամներին բժշկական օգնության ծառայություններ | E95: -400000
D96: Միջոցառման նկարագրությունը`
D97: Զինծառայողներին, նրանց հավասարեցված անձանց, ինչպես նաև փրկարար ծառայողներին և նրանց ընտանիքի անդամներին բժշկական օգնության իրականացում (հետազոտում, ախտորոշում, բուժում)_x000D_
D98: Միջոցառման տեսակը
D99: Ծառայությունների մատուցում
B100: 1208 | D100: Ծրագրի անվանումը`
D101: Վարակիչ հիվանդությունների կանխարգելման ծրագիր | E101: =E108 -> -160000
D102: Ծրագրի նպատակը`
...

Sheet 2
G1: Հավելված № 2
F2: ՀՀ կառավարության 2020 թվականի
G3: № ------------ -Ն որոշման
A5: ՀԱՅԱՍՏԱՆԻ ՀԱՆՐԱՊԵՏՈՒԹՅԱՆ ԿԱՌԱՎԱՐՈՒԹՅԱՆ 2019 ԹՎԱԿԱՆԻ ԴԵԿՏԵՄԲԵՐԻ 26-Ի № 1919-Ն ՈՐՈՇՄԱՆ NN 3 և 4 ՀԱՎԵԼՎԱԾՆԵՐՈՒՄ ԿԱՏԱՐՎՈՂ ՓՈՓՈԽՈՒԹՅՈՒՆՆԵՐԸ
G6: հազար դրամ
A7: Գործառական դասիչը | D7: Ծրագրային դասիչը | F7: Բյուջետային հատկացումների գլխավոր կարգադրիչների, ծրագրերի, միջոցառումների և միջոցառումները կատարող պետական մարմինների անվանումները | G7: Ցուցանիշների փոփոխությունները (ավելացումները նշված են դրական նշանով, նվազեցումները` փակագծերում)
A8: բաժին | B8: խումբ | C8: դաս | D8: Ծրագիր | E8: Միջոցառում | G8: Տարի
A9: ԸՆԴԱՄԵՆԸ | G9: =G10 -> 0
A10: 07 | F10: ԱՌՈՂՋԱՊԱՀՈՒԹՅՈՒՆ | G10: =G12+G44+91000 -> 0
F11: այդ թվում՝
B12: 02 | F12: Արտահիվանդանոցային ծառայություններ | G12: =G14+G29 -> -60000
F13: այդ թվում`
C14: 02 | F14: Մասնագիտացված բժշկական ծառայություններ | G14: =G20 -> -160000
F15: այդ թվում`
F16: ՀՀ առողջապահության նախարարություն
F17: այդ թվում՝
D18: 1202 | F18: Ոչ վարակիչ հիվանդությունների բժշկական օգնության ապահովում | G18: =G20 -> -160000
F19: այդ թվում`
E20: 11001 | F20: Հեմոդիալիզի և պերիտոնիալ դիալիզի անցկացման ծառայություններ | G20: =G22 -> -160000
F21: այդ թվում` ըստ կատարողների
F22: ՀՀ առողջապահության նախարարություն | G22: =G24 -> -160000
F23: այդ թվում` բյուջետային ծախսերի տնտեսագիտական դասակարգման հոդվածներ
F24: ԸՆԴԱՄԵՆԸ ԾԱԽՍԵՐ | G24: =G25 -> -160000
F25: ԸՆԹԱՑԻԿ ԾԱԽՍԵՐ | G25: =G26 -> -160000
F26: ԾԱՌԱՅՈՒԹՅՈՒՆՆԵՐԻ ԵՎ ԱՊՐԱՆՔՆԵՐԻ ՁԵՌՔԲԵՐՈՒՄ | G26: =G27 -> -160000
F27: Պայմանագրային այլ ծառայությունների ձեռքբերում | G27: =G28 -> -160000
F28: - Ընդհանուր բնույթի այլ ծառայություններ | G28: ='1'!E58 -> -160000
C29: 04 | F29: Պարաբժշկական ծառայություններ | G29: =G35 -> 100000
F30: այդ թվում`
F31: ՀՀ առողջապահության նախարարություն
F32: այդ թվում՝
D33: 1201 | F33: Շտապ բժշկական օգնություն | G33: =G35 -> 100000
F34: այդ թվում`
E35: 11001 | F35: Շտապ բժշկական օգնության ծառայություններ | G35: =G37 -> 100000
F36: այդ թվում` ըստ կատարողների
F37: ՀՀ առողջապահության նախարարություն | G37: =G39 -> 100000
F38: այդ թվում` բյուջետային ծախսերի տնտեսագիտական դասակարգման հոդվածներ
F39: ԸՆԴԱՄԵՆԸ ԾԱԽՍԵՐ | G39: =G40 -> 100000
F40: ԸՆԹԱՑԻԿ ԾԱԽՍԵՐ | G40: =G41 -> 100000
F41: ԾԱՌԱՅՈՒԹՅՈՒՆՆԵՐԻ ԵՎ ԱՊՐԱՆՔՆԵՐԻ ՁԵՌՔԲԵՐՈՒՄ | G41: =G42 -> 100000
F42: Պայմանագրային այլ ծառայությունների ձեռքբերում | G42: =G43 -> 100000
F43: - Ընդհանուր բնույթի այլ ծառայություններ | G43: ='1'!E45 -> 100000
B44: 03 | F44: Հիվանդանոցային ծառայություններ | G44: =G46+G87+G126 -> -31000
F45: այդ թվում`
C46: 01 | F46: Ընդհանուր բնույթի հիվանդանոցային ծառայություններ | G46: =G52+G65+G78 -> -390000
F47: այդ թվում`
F48: ՀՀ առողջապահության նախարարություն
F49: այդ թվում՝
D50: 1202 | F50: Ոչ վարակիչ հիվանդությունների բժշկական օգնության ապահովում | G50: =G52 -> 70000
F51: այդ թվում`
E52: 11002 | F52: Անհետաձգելի բժշկական օգնության ծառայություններ | G52: =G54 -> 70000
F53: այդ թվում` ըստ կատարողների
F54: ՀՀ առողջապահության նախարարություն | G54: =G56 -> 70000
F55: այդ թվում` բյուջետային ծախսերի տնտեսագիտական դասակարգման հոդվածներ
F56: ԸՆԴԱՄԵՆԸ ԾԱԽՍԵՐ | G56: =G57 -> 70000
F57: ԸՆԹԱՑԻԿ ԾԱԽՍԵՐ | G57: =G58 -> 70000
F58: ԾԱՌԱՅՈՒԹՅՈՒՆՆԵՐԻ ԵՎ ԱՊՐԱՆՔՆԵՐԻ ՁԵՌՔԲԵՐՈՒՄ | G58: =G59 -> 70000
F59: Պայմանագրային այլ ծառայությունների ձեռքբերում | G59: =G60 -> 70000
F60: - Ընդհանուր բնույթի այլ ծառայություններ | G60: ='1'!E64 -> 70000
F61: ՀՀ առողջապահության նախարարություն
F62: այդ թվում՝
D63: 1202 | F63: Ոչ վարակիչ հիվանդությունների բժշկական օգնության ապահովում | G63: =G65 -> -60000
F64: այդ թվում`
E65: 11005 | F65: Սրտի անհետաձգելի վիրահատություններ_x000D_ | G65: =G67 -> -60000
F66: այդ թվում` ըստ կատարողների
F67: ՀՀ առողջապահության նախարարություն | G67: =G69 -> -60000
F68: այդ թվում` բյուջետային ծախսերի տնտեսագիտական դասակարգման հոդվածներ
F69: ԸՆԴԱՄԵՆԸ ԾԱԽՍԵՐ | G69: =G70 -> -60000
F70: ԸՆԹԱՑԻԿ ԾԱԽՍԵՐ | G70: =G71 -> -60000
F71: ՍՈՑԻԱԼԱԿԱՆ ՆՊԱՍՏՆԵՐ ԵՎ ԿԵՆՍԱԹՈՇԱԿՆԵՐ | G71: =G72 -> -60000
F72: Սոցիալական օգնության դրամական արտահայտությամբ նպաստներ (բյուջեից) | G72: =G73 -> -60000
F73: - Այլ նպաստներ բյուջեից | G73: ='1'!E82 -> -60000
F74: ՀՀ առողջապահության նախարարություն
F75: այդ թվում՝
D76: 1207 | F76: Ոչ վարակիչ հիվանդությունների բժշկական օգնության ապահովում | G76: =G78 -> -400000
F77: այդ թվում`
E78: 11003 | F78: Զինծառայողներին, ինչպես նաև փրկարար ծառայողներին և նրանց ընտանիքի անդամներին բժշկական օգնության ծառայություններ | G78: =G80 -> -400000
F79: այդ թվում` ըստ կատարողների
F80: ՀՀ առողջապահության նախարարություն | G80: =G82 -> -400000
F81: այդ թվում` բյուջետային ծախսերի տնտեսագիտական դասակարգման հոդվածներ
F82: ԸՆԴԱՄԵՆԸ ԾԱԽՍԵՐ | G82: =G83 -> -400000
F83: ԸՆԹԱՑԻԿ ԾԱԽՍԵՐ | G83: =G84 -> -400000
F84: ՍՈՑԻԱԼԱԿԱՆ ՆՊԱՍՏՆԵՐ ԵՎ ԿԵՆՍԱԹՈՇԱԿՆԵՐ | G84: =G85 -> -400000
F85: Սոցիալական օգնության դրամական արտահայտությամբ նպաստներ (բյուջեից) | G85: =G86 -> -400000
F86: - Այլ նպաստներ բյուջեից | G86: ='1'!E88 -> -400000
C87: 02 | F87: Մասնագիտացված հիվանդանոցային ծառայություններ | G87: =G93+G106+G117 -> 864000
F88: այդ թվում`
F89: ՀՀ առողջապահության նախարարություն
F90: այդ թվում՝
D91: 1202 | F91: Ոչ վարակիչ հիվանդությունների բժշկական օգնության ապահովում | G91: =G93 -> 80000
F92: այդ թվում`
E93: 11003 | F93: Հոգեկան և նարկոլոգիական հիվանդների բժշկական օգնության ծառայություններ | G93: =G95 -> 80000
F94: այդ թվում` ըստ կատարողների
F95: ՀՀ առողջապահության նախարարություն | G95: =G97 -> 80000
F96: այդ թվում` բյուջետային ծախսերի տնտեսագիտական դասակարգման հոդվածներ
F97: ԸՆԴԱՄԵՆԸ ԾԱԽՍԵՐ | G97: =G98 -> 80000
F98: ԸՆԹԱՑԻԿ ԾԱԽՍԵՐ | G98: =G99 -> 80000
F99: ԾԱՌԱՅՈՒԹՅՈՒՆՆԵՐԻ ԵՎ ԱՊՐԱՆՔՆԵՐԻ ՁԵՌՔԲԵՐՈՒՄ | G99: =G100 -> 80000
F100: Պայմանագրային այլ ծառայությունների ձեռքբերում | G100: =G101 -> 80000
F101: - Ընդհանուր բնույթի այլ ծառայություններ | G101: ='1'!E70 -> 80000
...

Sheet 3
E1: Հավելված № 3
D2: ՀՀ կառավարության 2020 թվականի
E3: № ------------ -Ն որոշման
A5: ՀԱՅԱՍՏԱՆԻ ՀԱՆՐԱՊԵՏՈՒԹՅԱՆ ԿԱՌԱՎԱՐՈՒԹՅԱՆ 2019 ԹՎԱԿԱՆԻ ԴԵԿՏԵՄԲԵՐԻ 26-Ի N 1919-Ն ՈՐՈՇՄԱՆ N 5 ՀԱՎԵԼՎԱԾԻ N 7 ԱՂՅՈՒՍԱԿՈՒՄ ԿԱՏԱՐՎՈՂ ՓՈՓՈԽՈՒԹՅՈՒՆՆԵՐԸ
E6: հազար դրամ
A7: Ծրագրային դասիչը | C7: Բյուջետային հատկացումների գլխավոր կարգադրիչների, ծրագրերի, միջոցառումների, ծախսային ուղղությունների անվանումները | D7: Միջոցառումները կատարող պետական մարմինների և դրամաշնորհ ստացող տնտեսավարող սուբյեկտների անվանումները | E7: Ցուցանիշների փոփոխությունները (ավելացումները նշված են դրական նշանով)
A9: ծրագիրը | B9: միջոցառումը | E9: Տարի
A10: ՀՀ առողջապահության նախարարություն | E10: 52,995.0
A11: 1142 | B11: Դատաբժշկական և ախտաբանաանատոմիական ծառայություններ | E11: 52,995.0
B12: 11001 | C12: Դատաբժշկական փորձաքննություններ | D12: ՀՀ առողջապահության նախարարություն | E12: 52,995.0
D13: «Դատաբժշկական գիտագործնական կենտրոն» ՊՈԱԿ | E13: 52,995.0

Sheet 4
C1: Հավելված № 4
B2: ՀՀ կառավարության 2020 թվականի
C3: № ------------ -Ն որոշման
A5: ՀԱՅԱՍՏԱՆԻ ՀԱՆՐԱՊԵՏՈՒԹՅԱՆ ԿԱՌԱՎԱՐՈՒԹՅԱՆ 2019 ԹՎԱԿԱՆԻ ԴԵԿՏԵՄԲԵՐԻ 26-Ի N 1919-Ն ՈՐՈՇՄԱՆ N 9 ՀԱՎԵԼՎԱԾԻ 9.9 ԱՂՅՈՒՍԱԿՈՒՄ ԿԱՏԱՐՎՈՂ ՓՈՓՈԽՈՒԹՅՈՒՆՆԵՐԸ
A6: ՀՀ Առողջապահության նախարարություն
A7: ՄԱՍ 2. ՊԵՏԱԿԱՆ ՄԱՐՄՆԻ ԳԾՈՎ ԱՐԴՅՈՒՆՔԱՅԻՆ (ԿԱՏԱՐՈՂԱԿԱՆ) ՑՈՒՑԱՆԻՇՆԵՐԸ
C8: հազար դրամ
A9: Ծրագրի դասիչը | B9: Ծրագրի անվանումը
A10: 1200 | B10: Մոր և մանկան առողջության պահպանում
A12: Ծրագրի միջոցառումները
A13: Ծրագրի դասիչը` | B13: 1200 | C13: Ցուցանիշների փոփոխությունը (նվազեցումները նշված են փակագծերում)
A14: Միջոցառման դասիչը` | B14: 11001 | C14: Տարի
A15: Միջոցառման անվանումը` | B15: ='1'!D20 -> Մանկաբարձական բժշկական օգնության ծառայություններ
A16: Նկարագրությունը` | B16: Մանկաբարձական բժշկական օգնության համալիր միջոցառումների իրականացում, հղիության ախտաբանական ընթացքի բժշկական օգնություն և ծննդօգնություն
A17: Միջոցառման տեսակը` | B17: Ծառայությունների մատուցում
A18: Միջոցառումն իրականացնողի անվանումը | B18: ՀՀ գնումների մասին օրենսդրությանը համապատասխան ընտրված կազմակերպություններ
A19: Արդյունքի չափորոշիչներ
A20: Մանկաբարձական բժշկական օգնության ծառայություններից օգտվելու դեպքերի թիվ, հատ | C20: -1061
A21: Միջոցառման վրա կատարվող ծախսը (հազար դրամ) | C21: -150000
A23: Ծրագրի դասիչը` | B23: 1200 | C23: Ցուցանիշների փոփոխությունը (նվազեցումները նշված են փակագծերում)
A24: Միջոցառման դասիչը` | B24: 11003 | C24: Տարի
A25: Միջոցառման անվանումը` | B25: ='1'!D26 -> Երեխաներին բժշկական օգնության ծառայություններ
A26: Նկարագրությունը` | B26: Երեխաների (0-18 տարեկան երեխաներին) հիվանդանոցային բժշկական օգնության իրականացում (հետազոտում, ախտորոշում, բուժում)
A27: Միջոցառման տեսակը` | B27: Ծառայությունների մատուցում
A28: Միջոցառումն իրականացնողի անվանումը | B28: ՀՀ գնումների մասին օրենսդրությանը համապատասխան ընտրված կազմակերպություններ
A29: Արդյունքի չափորոշիչներ
A30: Երեխաների բժշկական օգնության գծով ծառայություններից օգտվելու դեպքերի թիվ, հատ | C30: -1940
A31: Միջոցառման վրա կատարվող ծախսը (հազար դրամ) | C31: -255000
A33: Ծրագրի դասիչը` | B33: 1200 | C33: Ցուցանիշների փոփոխությունը (նվազեցումները նշված են փակագծերում)
A34: Միջոցառման դասիչը` | B34: 11006 | C34: Տարի
A35: Միջոցառման անվանումը` | B35: ='1'!D32 -> Անպտուղ զույգերի համար վերարտադրողական օժանդակ տեխնոլոգիաների կիրառմամբ բժշկական օգնության ծառայություններ
A36: Նկարագրությունը` | B36: Բնակչության առանձին և հատուկ խմբերում ընդգրկված անպտուղ զույգերին վերարտադրողական օժանդակ տեխնոլոգիաների կիրառմամբ բժշկական օգնության տրամադրում
A37: Միջոցառման տեսակը` | B37: Ծառայությունների մատուցում
A38: Միջոցառումն իրականացնողի անվանումը | B38: ՀՀ գնումների մասին օրենսդրությանը համապատասխան ընտրված կազմակերպություններ
A39: Արդյունքի չափորոշիչներ
A40: Վերարտադրողական օժանդակ տեխնոլոգիաների կիրառմամբ բժշկական օգնության ծառայություններ ստացած զույգերի թիվ, հատ | C40: -131
A41: Հետազոտություններ քանակ, հատ | C41: -2489
A42: Միջոցառման վրա կատարվող ծախսը (հազար դրամ) | C42: -100000
A44: Ծրագրի դասիչը | B44: Ծրագրի անվանումը
A45: 1201 | B45: Շտապ բժշկական օգնություն
A47: Ծրագրի միջոցառումները
A48: Ծրագրի դասիչը` | B48: 1201 | C48: Ցուցանիշների փոփոխությունը (ավելացումները նշված են դրական նշանով)
A49: Միջոցառման դասիչը` | B49: 11001 | C49: Տարի
A50: Միջոցառման անվանումը` | B50: Շտապ բժշկական օգնության ծառայություններ
A51: Նկարագրությունը` | B51: Շտապ բժշկական օգնության իրականացում
A52: Միջոցառման տեսակը` | B52: Ծառայությունների մատուցում
A53: Միջոցառումն իրականացնողի անվանումը | B53: ՀՀ գնումների մասին օրենսդրությանը համապատասխան ընտրված կազմակերպություններ
A54: Արդյունքի չափորոշիչներ
A55: Շտապ բժշկական օգնության գծով կանչերի թիվ, հատ | C55: 14280
A56: Շտապ բժշկական օգնության ծառայության մեքենաների ընդհանուր թիվ, հատ
A57: Շտապ բժշկական օգնության ծառայության մարզային մեքենաների ընդհանուր թիվ, հատ
A58: Ուղղաթիռով սանավիացիայի բժշկական օգնության ծառայություն, ժամ
A59: Միջոցառման վրա կատարվող ծախսը (հազար դրամ) | C59: 100000
A61: Ծրագրի դասիչը | B61: Ծրագրի անվանումը
A62: 1202 | B62: Ոչ վարակիչ հիվանդությունների բժշկական օգնության ապահովում
A64: Ծրագրի միջոցառումները
A65: Ծրագրի դասիչը` | B65: 1202 | C65: Ցուցանիշների փոփոխությունը (նվազեցումները նշված են փակագծերում)
A66: Միջոցառման դասիչը` | B66: 11001 | C66: Տարի
A67: Միջոցառման անվանումը` | B67: Հեմոդիալիզի և պերիտոնիալ դիալիզի անցկացման ծառայություններ
A68: Նկարագրությունը` | B68: Հեմոդիալիզի կարիք ունեցող հիվանդների բժշկական օգնության համալիր միջոցառումների իրականացում
A69: Միջոցառման տեսակը` | B69: Ծառայությունների մատուցում
A70: Միջոցառումն իրականացնողի անվանումը | B70: ՀՀ գնումների մասին օրենսդրությանը համապատասխան ընտրված կազմակերպություններ
A71: Արդյունքի չափորոշիչներ
A72: Հեմոդիալիզի անցկացման սեանսների թիվ, հատ | C72: -8840
A73: Միջոցառման վրա կատարվող ծախսը (հազար դրամ) | C73: -160000
A75: Ծրագրի դասիչը` | B75: 1202 | C75: Ցուցանիշների փոփոխությունը (ավելացումները նշված են դրական նշանով)
A76: Միջոցառման դասիչը` | B76: 11002 | C76: Տարի
A77: Միջոցառման անվանումը` | B77: Անհետաձգելի բժշկական օգնության ծառայություններ
A78: Նկարագրությունը` | B78: Անհետաձգելի բժշկական օգնության իրականացում` ՀՀ առողջապահության նախարարի կողմից հաստատված հիվանդությունների, վիճակների ցանկի համաձայն
A79: Միջոցառման տեսակը` | B79: Ծառայությունների մատուցում
A80: Միջոցառումն իրականացնողի անվանումը | B80: ՀՀ գնումների մասին օրենսդրությանը համապատասխան ընտրված կազմակերպություններ
A81: Արդյունքի չափորոշիչներ
A82: Անհետաձգելի բժշկական օգնության ծառայություններից օգտվելու դեպքերի թիվ, հատ | C82: 598
A83: Գլխուղեղի սուր իշեմիկ կաթվածների թրոմբոլիտիկ բուժման և մեխանիկական թրոմբէկտոմիայի դեպքերի թիվ, հատ
A84: Միջոցառման վրա կատարվող ծախսը (հազար դրամ) | C84: 70000
A86: Ծրագրի դասիչը` | B86: 1202 | C86: Ցուցանիշների փոփոխությունը (ավելացումները նշված են դրական նշանով)
A87: Միջոցառման դասիչը` | B87: 11003 | C87: Տարի
A88: Միջոցառման անվանումը` | B88: Հոգեկան և նարկոլոգիական հիվանդների բժշկական օգնության ծառայություններ
A89: Նկարագրությունը` | B89: Հոգեկան և նարկոլոգիական հիվանդների բուժում և շարունակական հսկողության համալիր միջոցառումների իրականացում
A90: Միջոցառման տեսակը` | B90: Ծառայությունների մատուցում
A91: Միջոցառումն իրականացնողի անվանումը | B91: ՀՀ գնումների մասին օրենսդրությանը համապատասխան ընտրված կազմակերպություններ
A92: Արդյունքի չափորոշիչներ
A93: Հոգեկան և նարկոլոգիական հիվանդների բժշկական օգնության գծով ծառայություններից օգտվելու դեպքերի թիվ, հատ | C93: 186
A94: Միջոցառման վրա կատարվող ծախսը (հազար դրամ) | C94: 80000
A96: Ծրագրի դասիչը` | B96: 1202 | C96: Ցուցանիշների փոփոխությունը (ավելացումները նշված են դրական նշանով)
A97: Միջոցառման դասիչը` | B97: 11004 | C97: Տարի
A98: Միջոցառման անվանումը` | B98: Ուռուցքաբանական և արյունաբանական հիվանդությունների բժշկական օգնության ծառայություններ
A99: Նկարագրությունը` | B99: Ուռուցքաբանական և արյունաբանական հիվանդների բուժում և շարունակական հսկողության համալիր միջոցառումների իրականացում
A100: Միջոցառման տեսակը` | B100: Ծառայությունների մատուցում
A101: Միջոցառումն իրականացնողի անվանումը | B101: ՀՀ գնումների մասին օրենսդրությանը համապատասխան ընտրված կազմակերպություններ
A102: Արդյունքի չափորոշիչներ
A103: Ուռուցքաբանական և արյունաբանական հիվանդությունների բժշկական օգնության գծով ծառայություններից օգտվելու դեպքերի թիվ, հատ | C103: 5729
A104: Միջոցառման վրա կատարվող ծախսը (հազար դրամ) | C104: 944000
A106: Ծրագրի դասիչը` | B106: 1202 | C106: Ցուցանիշների փոփոխությունը (նվազեցումները նշված են փակագծերում)
A107: Միջոցառման դասիչը` | B107: 11005 | C107: Տարի
A108: Միջոցառման անվանումը` | B108: Սրտի անհետաձգելի վիրահատություններ
A109: Նկարագրությունը` | B109: Սրտի անհետաձգելի վիրահատության կարիք ունեցող հիվանդների բժշկական օգնության իրականացում` ՀՀ առողջապահության նախարարի հրամանով սահմանված կարգով
A110: Միջոցառման տեսակը` | B110: Ծառայությունների մատուցում
A111: Միջոցառումն իրականացնողի անվանումը | B111: ՀՀ գնումների մասին օրենսդրությանը համապատասխան ընտրված կազմակերպություններ
A112: Արդյունքի չափորոշիչներ
...

Sheet 5
C1: Հավելված № 5
B2: ՀՀ կառավարության 2020 թվականի
C3: № ------------ -Ն որոշման
A5: ՀԱՅԱՍՏԱՆԻ ՀԱՆՐԱՊԵՏՈՒԹՅԱՆ ԿԱՌԱՎԱՐՈՒԹՅԱՆ 2019 ԹՎԱԿԱՆԻ ԴԵԿՏԵՄԲԵՐԻ 26-Ի N 1919-Ն ՈՐՈՇՄԱՆ N 9.1 ՀԱՎԵԼՎԱԾԻ 9.1.9 ԱՂՅՈՒՍԱԿՈՒՄ ԿԱՏԱՐՎՈՂ ՓՈՓՈԽՈՒԹՅՈՒՆՆԵՐԸ
A6: ՀՀ Առողջապահության նախարարություն
A7: ՄԱՍ 2. ՊԵՏԱԿԱՆ ՄԱՐՄՆԻ ԳԾՈՎ ԱՐԴՅՈՒՆՔԱՅԻՆ (ԿԱՏԱՐՈՂԱԿԱՆ) ՑՈՒՑԱՆԻՇՆԵՐԸ
C8: հազար դրամ
A9: Ծրագրի դասիչը | B9: Ծրագրի անվանումը
A10: 1200 | B10: Մոր և մանկան առողջության պահպանում
A12: Ծրագրի միջոցառումները
A13: Ծրագրի դասիչը` | B13: 1200 | C13: Ցուցանիշների փոփոխությունը (նվազեցումները նշված են փակագծերում)
A14: Միջոցառման դասիչը` | B14: 11001 | C14: Տարի
A15: Միջոցառման անվանումը` | B15: ='1'!D20 -> Մանկաբարձական բժշկական օգնության ծառայություններ
A16: Նկարագրությունը` | B16: Մանկաբարձական բժշկական օգնության համալիր միջոցառումների իրականացում, հղիության ախտաբանական ընթացքի բժշկական օգնություն և ծննդօգնություն
A17: Միջոցառման տեսակը` | B17: Ծառայությունների մատուցում
A18: Միջոցառումն իրականացնողի անվանումը | B18: ՀՀ գնումների մասին օրենսդրությանը համապատասխան ընտրված կազմակերպություններ
A19: Արդյունքի չափորոշիչներ
A20: Մանկաբարձական բժշկական օգնության ծառայություններից օգտվելու դեպքերի թիվ, հատ | C20: -1061
A21: Միջոցառման վրա կատարվող ծախսը (հազար դրամ) | C21: -150000
A23: Ծրագրի դասիչը` | B23: 1200 | C23: Ցուցանիշների փոփոխությունը (նվազեցումները նշված են փակագծերում)
A24: Միջոցառման դասիչը` | B24: 11003 | C24: Տարի
A25: Միջոցառման անվանումը` | B25: ='1'!D26 -> Երեխաներին բժշկական օգնության ծառայություններ
A26: Նկարագրությունը` | B26: Երեխաների (0-18 տարեկան երեխաներին) հիվանդանոցային բժշկական օգնության իրականացում (հետազոտում, ախտորոշում, բուժում)
A27: Միջոցառման տեսակը` | B27: Ծառայությունների մատուցում
A28: Միջոցառումն իրականացնողի անվանումը | B28: ՀՀ գնումների մասին օրենսդրությանը համապատասխան ընտրված կազմակերպություններ
A29: Արդյունքի չափորոշիչներ
A30: Երեխաների բժշկական օգնության գծով ծառայություններից օգտվելու դեպքերի թիվ, հատ | C30: -1940
A31: Միջոցառման վրա կատարվող ծախսը (հազար դրամ) | C31: -255000
A33: Ծրագրի դասիչը` | B33: 1200 | C33: Ցուցանիշների փոփոխությունը (նվազեցումները նշված են փակագծերում)
A34: Միջոցառման դասիչը` | B34: 11006 | C34: Տարի
A35: Միջոցառման անվանումը` | B35: ='1'!D32 -> Անպտուղ զույգերի համար վերարտադրողական օժանդակ տեխնոլոգիաների կիրառմամբ բժշկական օգնության ծառայություններ
A36: Նկարագրությունը` | B36: Բնակչության առանձին և հատուկ խմբերում ընդգրկված անպտուղ զույգերին վերարտադրողական օժանդակ տեխնոլոգիաների կիրառմամբ բժշկական օգնության տրամադրում
A37: Միջոցառման տեսակը` | B37: Ծառայությունների մատուցում
A38: Միջոցառումն իրականացնողի անվանումը | B38: ՀՀ գնումների մասին օրենսդրությանը համապատասխան ընտրված կազմակերպություններ
A39: Արդյունքի չափորոշիչներ
A40: Վերարտադրողական օժանդակ տեխնոլոգիաների կիրառմամբ բժշկական օգնության ծառայություններ ստացած զույգերի թիվ, հատ | C40: -131
A41: Հետազոտություններ քանակ, հատ | C41: -2489
A42: Միջոցառման վրա կատարվող ծախսը (հազար դրամ) | C42: -100000
A44: Ծրագրի դասիչը | B44: Ծրագրի անվանումը
A45: 1201 | B45: Շտապ բժշկական օգնություն
A47: Ծրագրի միջոցառումները
A48: Ծրագրի դասիչը` | B48: 1201 | C48: Ցուցանիշների փոփոխությունը (ավելացումները նշված են դրական նշանով)
A49: Միջոցառման դասիչը` | B49: 11001 | C49: Տարի
A50: Միջոցառման անվանումը` | B50: Շտապ բժշկական օգնության ծառայություններ
A51: Նկարագրությունը` | B51: Շտապ բժշկական օգնության իրականացում
A52: Միջոցառման տեսակը` | B52: Ծառայությունների մատուցում
A53: Միջոցառումն իրականացնողի անվանումը | B53: ՀՀ գնումների մասին օրենսդրությանը համապատասխան ընտրված կազմակերպություններ
A54: Արդյունքի չափորոշիչներ
A55: Շտապ բժշկական օգնության գծով կանչերի թիվ, հատ | C55: 14280
A56: Շտապ բժշկական օգնության ծառայության մեքենաների ընդհանուր թիվ, հատ
A57: Շտապ բժշկական օգնության ծառայության մարզային մեքենաների ընդհանուր թիվ, հատ
A58: Ուղղաթիռով սանավիացիայի բժշկական օգնության ծառայություն, ժամ
A59: Միջոցառման վրա կատարվող ծախսը (հազար դրամ) | C59: 100000
A61: Ծրագրի դասիչը | B61: Ծրագրի անվանումը
A62: 1202 | B62: Ոչ վարակիչ հիվանդությունների բժշկական օգնության ապահովում
A64: Ծրագրի միջոցառումները
A65: Ծրագրի դասիչը` | B65: 1202 | C65: Ցուցանիշների փոփոխությունը (նվազեցումները նշված են փակագծերում)
A66: Միջոցառման դասիչը` | B66: 11001 | C66: Տարի
A67: Միջոցառման անվանումը` | B67: Հեմոդիալիզի և պերիտոնիալ դիալիզի անցկացման ծառայություններ
A68: Նկարագրությունը` | B68: Հեմոդիալիզի կարիք ունեցող հիվանդների բժշկական օգնության համալիր միջոցառումների իրականացում
A69: Միջոցառման տեսակը` | B69: Ծառայությունների մատուցում
A70: Միջոցառումն իրականացնողի անվանումը | B70: ՀՀ գնումների մասին օրենսդրությանը համապատասխան ընտրված կազմակերպություններ
A71: Արդյունքի չափորոշիչներ
A72: Հեմոդիալիզի անցկացման սեանսների թիվ, հատ | C72: -8840
A73: Միջոցառման վրա կատարվող ծախսը (հազար դրամ) | C73: -160000
A75: Ծրագրի դասիչը` | B75: 1202 | C75: Ցուցանիշների փոփոխությունը (ավելացումները նշված են դրական նշանով)
A76: Միջոցառման դասիչը` | B76: 11002 | C76: Տարի
A77: Միջոցառման անվանումը` | B77: Անհետաձգելի բժշկական օգնության ծառայություններ
A78: Նկարագրությունը` | B78: Անհետաձգելի բժշկական օգնության իրականացում` ՀՀ առողջապահության նախարարի կողմից հաստատված հիվանդությունների, վիճակների ցանկի համաձայն
A79: Միջոցառման տեսակը` | B79: Ծառայությունների մատուցում
A80: Միջոցառումն իրականացնողի անվանումը | B80: ՀՀ գնումների մասին օրենսդրությանը համապատասխան ընտրված կազմակերպություններ
A81: Արդյունքի չափորոշիչներ
A82: Անհետաձգելի բժշկական օգնության ծառայություններից օգտվելու դեպքերի թիվ, հատ | C82: 598
A83: Գլխուղեղի սուր իշեմիկ կաթվածների թրոմբոլիտիկ բուժման և մեխանիկական թրոմբէկտոմիայի դեպքերի թիվ, հատ
A84: Միջոցառման վրա կատարվող ծախսը (հազար դրամ) | C84: 70000
A86: Ծրագրի դասիչը` | B86: 1202 | C86: Ցուցանիշների փոփոխությունը (ավելացումները նշված են դրական նշանով)
A87: Միջոցառման դասիչը` | B87: 11003 | C87: Տարի
A88: Միջոցառման անվանումը` | B88: Հոգեկան և նարկոլոգիական հիվանդների բժշկական օգնության ծառայություններ
A89: Նկարագրությունը` | B89: Հոգեկան և նարկոլոգիական հիվանդների բուժում և շարունակական հսկողության համալիր միջոցառումների իրականացում
A90: Միջոցառման տեսակը` | B90: Ծառայությունների մատուցում
A91: Միջոցառումն իրականացնողի անվանումը | B91: ՀՀ գնումների մասին օրենսդրությանը համապատասխան ընտրված կազմակերպություններ
A92: Արդյունքի չափորոշիչներ
A93: Հոգեկան և նարկոլոգիական հիվանդների բժշկական օգնության գծով ծառայություններից օգտվելու դեպքերի թիվ, հատ | C93: 186
A94: Միջոցառման վրա կատարվող ծախսը (հազար դրամ) | C94: 80000
A96: Ծրագրի դասիչը` | B96: 1202 | C96: Ցուցանիշների փոփոխությունը (ավելացումները նշված են դրական նշանով)
A97: Միջոցառման դասիչը` | B97: 11004 | C97: Տարի
A98: Միջոցառման անվանումը` | B98: Ուռուցքաբանական և արյունաբանական հիվանդությունների բժշկական օգնության ծառայություններ
A99: Նկարագրությունը` | B99: Ուռուցքաբանական և արյունաբանական հիվանդների բուժում և շարունակական հսկողության համալիր միջոցառումների իրականացում
A100: Միջոցառման տեսակը` | B100: Ծառայությունների մատուցում
A101: Միջոցառումն իրականացնողի անվանումը | B101: ՀՀ գնումների մասին օրենսդրությանը համապատասխան ընտրված կազմակերպություններ
A102: Արդյունքի չափորոշիչներ
A103: Ուռուցքաբանական և արյունաբանական հիվանդությունների բժշկական օգնության գծով ծառայություններից օգտվելու դեպքերի թիվ, հատ | C103: 5729
A104: Միջոցառման վրա կատարվող ծախսը (հազար դրամ) | C104: 944000
A106: Ծրագրի դասիչը` | B106: 1202 | C106: Ցուցանիշների փոփոխությունը (նվազեցումները նշված են փակագծերում)
A107: Միջոցառման դասիչը` | B107: 11005 | C107: Տարի
A108: Միջոցառման անվանումը` | B108: Սրտի անհետաձգելի վիրահատություններ
A109: Նկարագրությունը` | B109: Սրտի անհետաձգելի վիրահատության կարիք ունեցող հիվանդների բժշկական օգնության իրականացում` ՀՀ առողջապահության նախարարի հրամանով սահմանված կարգով
A110: Միջոցառման տեսակը` | B110: Ծառայությունների մատուցում
A111: Միջոցառումն իրականացնողի անվանումը | B111: ՀՀ գնումների մասին օրենսդրությանը համապատասխան ընտրված կազմակերպություններ
A112: Արդյունքի չափորոշիչներ
...

Sheet 6
F1: Հավելված № 6
D2: ՀՀ կառավարության 2020 թվականի
E3: № ------------ -Ն որոշման
A4: ՀԱՅԱՍՏԱՆԻ ՀԱՆՐԱՊԵՏՈՒԹՅԱՆ ԿԱՌԱՎԱՐՈՒԹՅԱՆ 2019 ԹՎԱԿԱՆԻ ԴԵԿՏԵՄԲԵՐԻ 26-Ի N 1919-Ն ՈՐՈՇՄԱՆ N 10 ՀԱՎԵԼՎԱԾՈՒՄ ԿԱՏԱՐՎՈՂ ՓՈՓՈԽՈՒԹՅՈՒՆՆԵՐԸ
A5: Կոդը | B5: Անվանումը | E5: Գնման ձևը | F5: Չափման միավորը | G5: Միավորի գինը | H5: Քանակը | I5: Գումարը (հազար դրամով)
A6: ՀՀ առողջապահության նախարարություն | I6: =I8+I12+I16+I20+I23+I26+I30+I33 -> 519000
A7: Բաժին N 07 | B7: Խումբ N 02 | C7: Դաս N 02 | D7: Մասնագիտացված բժշկական ծառայություններ | I7: =I8 -> -160000
A8: 1202 11001 | B8: Հեմոդիալիզի և պերիտոնիալ դիալիզի անցկացման ծառայություններ | I8: =I9 -> -160000
B9: ՄԱՍ III. ԾԱՌԱՅՈՒԹՅՈՒՆՆԵՐ | I9: =I10 -> -160000
A10: 85111230-1 | B10: հիվանդանոցային պայմաններում դիալիզի ծառայություններ | E10: ՄԱ | F10: դրամ | I10: -160000
A11: Բաժին N 07 | B11: Խումբ N 02 | C11: Դաս N 04 | D11: Պարաբժշկական ծառայություններ | I11: =I12 -> 100000
A12: 1201 11001 | B12: Շտապ բժշկական օգնության ծառայություններ | I12: =I13 -> 100000
B13: ՄԱՍ III. ԾԱՌԱՅՈՒԹՅՈՒՆՆԵՐ | I13: =I14 -> 100000
A14: 85141210-1 | B14: շտապ օգնության ծառայություններ | E14: ՄԱ | F14: դրամ | I14: 100000
A15: Բաժին N 07 | B15: Խումբ N 03 | C15: Դաս N 01 | D15: Ընդհանուր բնույթի հիվանդանոցային ծառայություններ | I15: =I16 -> 70000
A16: 1202 11002 | B16: Անհետաձգելի բժշկական օգնության ծառայություններ | I16: =I17 -> 70000
B17: ՄԱՍ III. ԾԱՌԱՅՈՒԹՅՈՒՆՆԵՐ | I17: =I18 -> 70000
A18: 85111100-1 | B18: հիվանդանոցային ծառայություններ | E18: ՄԱ | F18: դրամ | I18: 70000
A19: Բաժին N 07 | B19: Խումբ N 03 | C19: Դաս N 02 | D19: Մասնագիտացված հիվանդանոցային ծառայություններ | I19: =I20 -> -160000
A20: 1208 11003 | B20: Աղիքային և այլ ինֆեկցիոն հիվանդությունների բժշկական օգնության ծառայություններ | I20: =I21 -> -160000
B21: ՄԱՍ III. ԾԱՌԱՅՈՒԹՅՈՒՆՆԵՐ | I21: =I22 -> -160000
A22: 85111120-1 | B22: հիվանդանոցների կողմից մատուցվող բժշկական ծառայություններ | E22: ՄԱ | F22: դրամ | I22: -160000
A23: 1202 11003 | B23: Հոգեկան և նարկոլոգիական հիվանդների բժշկական օգնության ծառայություններ | I23: =I24 -> 80000
B24: ՄԱՍ III. ԾԱՌԱՅՈՒԹՅՈՒՆՆԵՐ | I24: =I25 -> 80000
A25: 85111170-1 | B25: հոգեբուժական հիվանդանոցների կողմից մատուցվող ծառայություններ | E25: ՄԱ | F25: դրամ | I25: 80000
A26: 1202 11004 | B26: Ուռուցքաբանական և արյունաբանական հիվանդությունների բժշկական օգնության ծառայություններ | I26: =I27 -> 944000
B27: ՄԱՍ III. ԾԱՌԱՅՈՒԹՅՈՒՆՆԵՐ | I27: =I28 -> 944000
A28: 85121310-1 | B28: ուրոլոգիական ծառայություններ | E28: ՄԱ | F28: դրամ | I28: 944000
A29: Բաժին N 07 | B29: Խումբ N 03 | C29: Դաս N 03 | D29: Մոր և մանկան բժշկական ծառայություններ | I29: =I30 -> -255000
A30: 1200 11003 | B30: Երեխաներին բժշկական օգնության ծառայություններ | I30: =I31 -> -255000
B31: ՄԱՍ III. ԾԱՌԱՅՈՒԹՅՈՒՆՆԵՐ | I31: =I32 -> -255000
A32: 85111120-1 | B32: հիվանդանոցների կողմից մատուցվող բժշկական ծառայություններ | E32: ՄԱ | F32: դրամ | I32: -255000
A33: 1200 11006 | B33: Անպտուղ զույգերի համար վերարտադրողական օժանդակ տեխնոլոգիաների կիրառմամբ բժշկական օգնության ծառայություններ | I33: =I34 -> -100000
B34: ՄԱՍ III. ԾԱՌԱՅՈՒԹՅՈՒՆՆԵՐ | I34: =I35 -> -100000
A35: 85121100-1 | B35: բժշկական ծառայություններ | E35: ՄԱ | F35: դրամ | I35: -100000
