Workbook

Sheet 1
E2: Հավելված N 1
E3: ՀՀ կառավարության 2020 թվականի
E4: ___________ ___-ի N _______ որոշման
A6: «ՀԱՅԱՍՏԱՆԻ ՀԱՆՐԱՊԵՏՈՒԹՅԱՆ 2020 ԹՎԱԿԱՆԻ ՊԵՏԱԿԱՆ ԲՅՈՒՋԵԻ ՄԱՍԻՆ» ՀԱՅԱՍՏԱՆԻ ՀԱՆՐԱՊԵՏՈՒԹՅԱՆ ՕՐԵՆՔԻ N 1 ՀԱՎԵԼՎԱԾԻ N 2 ԱՂՅՈՒՍԱԿՈՒՄ ԿԱՏԱՐՎՈՂ ՎԵՐԱԲԱՇԽՈՒՄԸ ԵՎ ՀԱՅԱՍՏԱՆԻ ՀԱՆՐԱՊԵՏՈՒԹՅԱՆ ԿԱՌԱՎԱՐՈՒԹՅԱՆ 2019 ԹՎԱԿԱՆԻ ԴԵԿՏԵՄԲԵՐԻ 26-Ի N 1919-Ն ՈՐՈՇՄԱՆ N 5 ՀԱՎԵԼՎԱԾԻ N 1 ԱՂՅՈՒՍԱԿՈՒՄ ԿԱՏԱՐՎՈՂ ՓՈՓՈԽՈՒԹՅՈՒՆՆԵՐԸ
E7: (հազ. դրամ)
A8: Ծրագրային դասիչը | C8: Բյուջետային հատկացումների գլխավոր կարգադրիչների, ծրագրերի և միջոցառումների անվանումները | D8: Ցուցանիշների փոփոխությունը (ավելացումները նշված են դրական նշանով, իսկ նվազեցումները՝ փակագծում)
D9: ինն ամիս | E9: տարի
A10: ծրագիրը | B10: միջոցառումը
D11: =D13 -> 0 | E11: =E13 -> 0
C12: ՀՀ պետական եկամուտների կոմիտե
A13: 1023 | C13: Ծրագրի անվանումը՝ | D13: =D20+D26 -> 0 | E13: =E20+E26 -> 0
C14: Հարկային և մաքսային ծառայություններ
C15: Ծրագրի նպատակը՝
C16: Հարկային և մաքսային միասնական պետական քաղաքականության իրականացում, հարկային և մաքսային օրենսդրության ամբողջական և համահավասար կիրառում
C17: Վերջնական արդյունքի նկարագրությունը՝
C18: Արդյունավետ հարկային և մաքսային հսկողության իրականացում, պետական բյուջեի եկամուտների ապահովում
A19: Ծրագրի միջոցառումներ
B20: 31003 | C20: Միջոցառման անվանումը` | D20: ='2'!G22 -> -5407.5 | E20: ='2'!H22 -> -5407.5
C21: ՀՀ պետական եկամուտների կոմիտեի շենքային ապահովվածության բարելավում_x000D_
C22: Միջոցառման նկարագրությունը`
C23: ՀՀ պետական եկամուտների կոմիտեի նոր շենքերի և շինությունների շինարարություն, նախագծային աշխատանքների ձեռքբերում
C24: Միջոցառման տեսակը
C25: Պետական մարմինների կողմից օգտագործվող ոչ ֆինանսական ակտիվների հետ գործառնություններ
B26: 31005 | C26: Միջոցառման անվանումը՝ | D26: ='2'!G31 -> 5407.5 | E26: ='2'!H31 -> 5407.5
C27: ՀՀ պետական եկամուտների կոմիտեի շենքային պայմաններով ապահովում
C28: Միջոցառման նկարագրությունը
C29: ՀՀ պետական եկամուտների կոմիտեի շենքային պայմաններով ապահովման համար հողի և շենք-շինությունների ձեռքբերում
C30: Միջոցառման տեսակը՝
C31: Պետական մարմինների կողմից օգտագործվող ոչ ֆինանսական ակտիվների հետ գործառնություններ

Sheet 2
H2: Հավելված N 2
H3: ՀՀ կառավարության 2020 թվականի
H4: ___________ ___-ի N _______ որոշման
A6: ՀԱՅԱՍՏԱՆԻ ՀԱՆՐԱՊԵՏՈՒԹՅԱՆ ԿԱՌԱՎԱՐՈՒԹՅԱՆ 2019 ԹՎԱԿԱՆԻ ԴԵԿՏԵՄԲԵՐԻ 26-Ի N 1919-Ն ՈՐՈՇՄԱՆ NN 3 ԵՎ 4 ՀԱՎԵԼՎԱԾՆԵՐՈՒՄ ԿԱՏԱՐՎՈՂ ՓՈՓՈԽՈՒԹՅՈՒՆՆԵՐԸ
H7: (հազ. դրամ)
A8: Գործառնական դասիչը | D8: Ծրագրային դասիչը | F8: Բյուջետային ծախսերի գործառնական դասակարգման բաժինների, խմբերի և դասերի, բյուջետային ծրագրերի միջոցառումների, բյուջետային հատկացումների գլխավոր կարգադրիչների անվանումները | G8: Ցուցանիշների փոփոխությունը (ավելացումները նշված են դրական նշանով, իսկ նվազեցումները՝ փակագծում)
G9: ինն ամիս | H9: տարի
A10: բաժինը | B10: խումբը | C10: դասը | D10: ծրագիրը | E10: միջոցառումը
F11: ԸՆԴԱՄԵՆԸ ԾԱԽՍԵՐ | G11: =+G13 -> 0 | H11: =+H13 -> 0
F12: այդ թվում՝
A13: 01 | F13: ԸՆԴՀԱՆՈՒՐ ԲՆՈՒՅԹԻ ՀԱՆՐԱՅԻՆ ԾԱՌԱՅՈՒԹՅՈՒՆՆԵՐ | G13: =+G15 -> 0 | H13: =H15 -> 0
F14: այդ թվում՝
B15: 01 | F15: Օրենսդիր և գործադիր մարմիններ, պետական կառավարում, ֆինանսական և հարկաբյուջետային հարաբերություններ, արտաքին հարաբերություններ | G15: =+G17 -> 0 | H15: =H17 -> 0
F16: այդ թվում՝
C17: 02 | F17: Ֆինանսական և հարկաբյուջետային հարաբերություններ | G17: =+G19 -> 0 | H17: =H19 -> 0
F18: այդ թվում՝
D19: 1023 | F19: Հարկային և մաքսային ծառայություններ | G19: =G22+G31 -> 0 | H19: =H22+H31 -> 0
F20: ՀՀ պետական եկամուտների կոմիտե
F21: այդ թվում՝
E22: 31003 | F22: ՀՀ պետական եկամուտների կոմիտեի շենքային ապահովվածության բարելավում_x000D_ | G22: =+G24 -> -5407.5 | H22: =H24 -> -5407.5
F23: այդ թվում` ըստ կատարողների
F24: ՀՀ պետական եկամուտների կոմիտե | G24: =+G26 -> -5407.5 | H24: =H26 -> -5407.5
F25: այդ թվում` բյուջետային ծախսերի տնտեսագիտական դասակարգման հոդվածներ
F26: ԸՆԴԱՄԵՆԸ ԾԱԽՍԵՐ | G26: =G27 -> -5407.5 | H26: =H27 -> -5407.5
F27: ՈՉ ՖԻՆԱՆՍԱԿԱՆ ԱԿՏԻՎՆԵՐԻ ԳԾՈՎ ԾԱԽՍԵՐ | G27: =G28 -> -5407.5 | H27: =H28 -> -5407.5
F28: ՀԻՄՆԱԿԱՆ ՄԻՋՈՑՆԵՐ | G28: =+G29 -> -5407.5 | H28: =+H29 -> -5407.5
F29: ԱՅԼ ՀԻՄՆԱԿԱՆ ՄԻՋՈՑՆԵՐ | G29: =+G30 -> -5407.5 | H29: =+H30 -> -5407.5
F30: - Նախագծահետազոտական ծախսեր | G30: -5407.5 | H30: -5407.5
E31: 31005 | F31: ՀՀ պետական եկամուտների կոմիտեի շենքային պայմաններով ապահովում | G31: =+G33 -> 5407.5 | H31: =+H33 -> 5407.5
F32: այդ թվում՝ ըստ կատարողների
F33: ՀՀ պետական եկամուտների կոմիտե | G33: =+G35 -> 5407.5 | H33: =+H35 -> 5407.5
F34: այդ թվում՝ բյուջետային ծախսերի տնտեսագիտական դասակարգման հոդվածների
F35: ԸՆԴԱՄԵՆԸ ԾԱԽՍԵՐ | G35: =+G36 -> 5407.5 | H35: =+H36 -> 5407.5
F36: ՈՉ ՖԻՆԱՆՍԱԿԱՆ ԱԿՏԻՎՆԵՐԻ ԳԾՈՎ ԾԱԽՍԵՐ | G36: =+G37 -> 5407.5 | H36: =+H37 -> 5407.5
F37: ՉԱՐՏԱԴՐՎԱԾ ԱԿՏԻՎՆԵՐ | G37: =+G38 -> 5407.5 | H37: =+H38 -> 5407.5
F38: ՀՈՂ | G38: =+G39 -> 5407.5 | H38: =+H39 -> 5407.5
F39: - Հող | G39: 5407.5 | H39: 5407.5

Sheet 3
H2: Հավելված N 3
H3: ՀՀ կառավարության 2019 թվականի
H4: ___________ ___-ի N _______ որոշման
A6: «ՀԱՅԱՍՏԱՆԻ ՀԱՆՐԱՊԵՏՈՒԹՅԱՆ 2020 ԹՎԱԿԱՆԻ ՊԵՏԱԿԱՆ ԲՅՈՒՋԵԻ ՄԱՍԻՆ» ՀԱՅԱՍՏԱՆԻ ՀԱՆՐԱՊԵՏՈՒԹՅԱՆ ՕՐԵՆՔԻ N1 ՀԱՎԵԼՎԱԾԻ N 3 ԱՂՅՈՒՍԱԿՈՒՄ ԿԱՏԱՐՎՈՂ ՓՈՓՈԽՈՒԹՅՈՒՆՆԵՐԸ և ԼՐԱՑՈՒՄՆԵՐԸ
H7: (հազ. դրամ)
A8: Ծրագրային դասիչ | C8: Բյուջետային գլխավոր կարգադրիչների, ծրագրերի, միջոցառումների և ուղղությունների անվանումները | D8: Ցուցանիշների փոփոխությունը (ավելացումները նշված են դրական նշանով, իսկ նվազեցումները՝ փակագծում)
D9: Ընդամենը | E9: այդ թվում՝
E10: Կառուցման աշխատանքներ | F10: Վերակառուցման, վերանորոգման և վերականգնման աշխատանքներ | G10: Նախագծահետազոտական, գեոդեզա-քարտեզագրական աշխատանքներ | H10: Ոչ ֆինանսական այլ ակտիվների ձեռքբերում
A11: ծրագիրը | B11: միջոցառումը
C12: ԸՆԴԱՄԵՆԸ | D12: =+D14 -> 0 | E12: =E14 -> 0 | F12: =+F14 -> 0 | G12: =+G14 -> -5407.5 | H12: =+H14 -> 5407.5
C13: այդ թվում՝
C14: ՀՀ ՊԵՏԱԿԱՆ ԵԿԱՄՈՒՏՆԵՐԻ ԿՈՄԻՏԵ | D14: =D16+D22 -> 0 | E14: =E16+E22 -> 0 | F14: =F16+F22 -> 0 | G14: =G16+G22 -> -5407.5 | H14: =H16+H22 -> 5407.5
C15: այդ թվում`
A16: 1023 | B16: 31003 | C16: ՀՀ պետական եկամուտների կոմիտեի շենքային ապահովվածության բարելավում | D16: =+D18+D19+D20+D21 -> -5407.5 | E16: =+E18+E19+E20+E21 -> 0 | F16: =+F18+F19+F20+F21 -> 0 | G16: =+G18+G19+G20+G21 -> -5407.5 | H16: =+H18+H19+H20+H21 -> 0
C17: այդ թվում`
C18: ՀՀ ՊԵԿ Արևելյան մաքսատուն-վարչության Բագրատաշենի մաքսային կետի վերակառուցման աշխատանքների նախագծանախահաշվային փաստաթղթերի ձեռքբերում | D18: -5000 | G18: -5000
C19: ՀՀ ՊԵԿ Հարավային մաքսատուն-վարչության վարչական շենքի վերակառուցման աշխատանքների նախագծանախահաշվային փաստաթղթերի ձեռքբերում | D19: -11407.5 | G19: -11407.5
C20: ՀՀ ՊԵԿ Սյունիքի մարզի Ագարակ համայնքում ծառայողական շենքի կառուցման աշխատանքների նախագծանախահաշվային փաստաթղթերի ձեռքբերում | D20: -18000 | G20: -18000
C21: Գյումրի քաղաքում արտաքին տնտեսական գործունեության կենտրոնի կառուցման նախագծանախահաշվային փաստաթղթերի կազմում | D21: 29000 | G21: 29000
A22: 1023 | B22: 31005 | C22: ՀՀ պետական եկամուտների կոմիտեի շենքային պայմաններով ապահովում | D22: =+D24 -> 5407.5 | E22: =E24 -> 0 | F22: =F24 -> 0 | G22: =G24 -> 0 | H22: =H24 -> 5407.5
C23: այդ թվում՝
C24: Սյունիքի մարզ, Կարճևան գյուղի Մայրուղի 4, Մեղրու մաքսային կետի համար անհրաժեշտ հարողատարածքի ձեռքբերում | D24: ='2'!H39 -> 5407.5 | H24: =+'2'!H39 -> 5407.5

Sheet 4
E2: Հավելված N 4
E3: ՀՀ կառավարության 2020 թվականի
E4: ___________ ___-ի N _______ որոշման
A6: ՀԱՅԱՍՏԱՆԻ ՀԱՆՐԱՊԵՏՈՒԹՅԱՆ ԿԱՌԱՎԱՐՈՒԹՅԱՆ 2019 ԹՎԱԿԱՆԻ ԴԵԿՏԵՄԲԵՐԻ 26-Ի N 1919-Ն ՈՐՈՇՄԱՆ N 5 ՀԱՎԵԼՎԱԾԻ N 2 ԱՂՅՈՒՍԱԿՈՒՄ ԿԱՏԱՐՎՈՂ ՓՈՓՈԽՈՒԹՅՈՒՆՆԵՐԸ ԵՎ ԼՐԱՑՈՒՄՆԵՐԸ
E7: (հազ. դրամ)
A8: Ծրագրային դասիչը | C8: Բյուջետային հատկացումների գլխավոր կարգադրիչների, ծրագրերի և միջոցառումների անվանումները | D8: Ցուցանիշների փոփոխությունը (ավելացումները նշված են դրական նշանով, իսկ նվազեցումները՝ փակագծում)
D9: ինն ամիս | E9: տարի
A10: ծրագիրը | B10: միջոցառումը
C11: ԸՆԴԱՄԵՆԸ | D11: =+D13 -> 0 | E11: =+E13 -> 0
C12: այդ թվում՝
C13: ՀՀ ՊԵՏԱԿԱՆ ԵԿԱՄՈՒՏՆԵՐԻ ԿՈՄԻՏԵ | D13: =D15+D23 -> 0 | E13: =E15+E23 -> 0
C14: այդ թվում՝
A15: 1023 | B15: 31003 | C15: ՀՀ պետական եկամուտների կոմիտեի շենքային ապահովվածության բարելավում | D15: =+D17 -> -5407.5 | E15: =+E17 -> -5407.5
C16: այդ թվում` ըստ կատարողների
C17: ՀՀ պետական եկամուտների կոմիտե | D17: =+D19+D20+D21+D22 -> -5407.5 | E17: =+E19+E20+E21+E22 -> -5407.5
C18: այդ թվում` ըստ ուղղությունների
C19: ՀՀ ՊԵԿ Արևելյան մաքսատուն-վարչության Բագրատաշենի մաքսային կետի վերակառուցման աշխատանքների նախագծանախահաշվային փաստաթղթերի ձեռքբերում | D19: =+'3'!D18 -> -5000 | E19: =+D19 -> -5000
C20: ՀՀ ՊԵԿ Հարավային մաքսատուն-վարչության վարչական շենքի վերակառուցման աշխատանքների նախագծանախահաշվային փաստաթղթերի ձեռքբերում | D20: =+'3'!D19 -> -11407.5 | E20: =+D20 -> -11407.5
C21: ՀՀ ՊԵԿ Սյունիքի մարզի Ագարակ համայնքում ծառայողական շենքի կառուցման աշխատանքների նախագծանախահաշվային փաստաթղթերի ձեռքբերում | D21: =+'3'!D20 -> -18000 | E21: =+D21 -> -18000
C22: Գյումրի քաղաքում արտաքին տնտեսական գործունեության կենտրոնի կառուցման նախագծանախահաշվային փաստաթղթերի կազմում | D22: =+'3'!D21 -> 29000 | E22: =+D22 -> 29000
A23: 1023 | B23: 31005 | C23: ՀՀ պետական եկամուտների կոմիտեի շենքային պայմաններով ապահովում | D23: =+D25 -> 5407.5 | E23: =+E25 -> 5407.5
C24: այդ թվում ըստ կատարողների՝
C25: ՀՀ պետական եկամուտների կոմիտե | D25: =+D27 -> 5407.5 | E25: =+E27 -> 5407.5
C26: այդ թվում՝ ըստ ուղղությունների
C27: Սյունիքի մարզ, Կարճևան գյուղի Մայրուղի 4, Մեղրու մաքսային կետի համար անհրաժեշտ հարողատարածքի ձեռքբերում | D27: =+'2'!G31 -> 5407.5 | E27: =+'2'!H31 -> 5407.5

Sheet 5
D2: Հավելված N 5
D3: ՀՀ կառավարության 2020 թվականի
D4: ___________ ___-ի N _______ որոշման
A6: ՀԱՅԱՍՏԱՆԻ ՀԱՆՐԱՊԵՏՈՒԹՅԱՆ ԿԱՌԱՎԱՐՈՒԹՅԱՆ 2019 ԹՎԱԿԱՆԻ ԴԵԿՏԵՄԲԵՐԻ 26-Ի N 1919-Ն ՈՐՈՇՄԱՆ NN 9 ԵՎ N9.1 ՀԱՎԵԼՎԱԾՆԵՐԻ NN 9.26 ԵՎ N9.1.28 ԱՂՅՈՒՍԱԿՆԵՐՈՒՄ ԿԱՏԱՐՎՈՂ ՓՈՓՈԽՈՒԹՅՈՒՆՆԵՐԸ ԵՎ ԼՐԱՑՈՒՄՆԵՐԸ
A8: ՀՀ պետական եկամուտների կոմիտե
A10: ՄԱՍ 1. ՊԵՏԱԿԱՆ ՄԱՐՄՆԻ ԳԾՈՎ ԱՐԴՅՈՒՆՔԱՅԻՆ (ԿԱՏԱՐՈՂԱԿԱՆ) ՑՈՒՑԱՆԻՇՆԵՐԸ
A11: ՄԱՍ 2. ՊԵՏԱԿԱՆ ՄԱՐՄՆԻ ԳԾՈՎ ԱՐԴՅՈՒՆՔԱՅԻՆ (ԿԱՏԱՐՈՂԱԿԱՆ) ՑՈՒՑԱՆԻՇՆԵՐԸ
A13: Ծրագրի դասիչը | B13: Ծրագրի անվանումը
A14: 1023 | B14: Հարկային և մաքսային ծառայություններ
A16: Ծրագրի միջոցառումները
A18: Ծրագրի դասիչը՝ | B18: 1023 | C18: Ցուցանիշների փոփոխությունը ( նվազեցումները նշված են փակագծում)
A19: Միջոցառման դասիչը՝ | B19: 31003 | C19: ինն ամիս | D19: տարի
A20: Միջոցառման անվանումը՝ | B20: ՀՀ պետական եկամուտների կոմիտեի շենքային ապահովվածության բարելավում
A21: Նկարագրությունը՝ | B21: ՀՀ պետական եկամուտների կոմիտեի նոր շենքերի և շինությունների շինարարություն, նախագծային աշխատանքների ձեռքբերում
A22: Միջոցառման տեսակը՝ | B22: Պետական մարմինների կողմից օգտագործվող ոչ ֆինանսական ակտիվների հետ գործառնություններ
A23: Միջոցառումն իրականացնողի անվանումը | B23: ՀՀ պետական եկամուտների կոմիտե
B24: Արդյունքի չափորոշիչներ
A25: Նախագծահետազոտական փաստաթղթերի թիվ, հատ | C25: -1 | D25: -1
A26: Միջոցառման վրա կատարվող ծախսը (հազար դրամ) | C26: =+'2'!G22 -> -5407.5 | D26: =+'2'!H22 -> -5407.5
A27: Ծրագրի դասիչը՝ | B27: 1023 | C27: Ցուցանիշների փոփոխությունը (ավելացումները նշված են դրական նշանով)
A28: Միջոցառման դասիչը՝ | B28: 31005 | C28: ինն ամիս | D28: տարի
A29: Միջոցառման անվանումը՝ | B29: ՀՀ պետական եկամուտների կոմիտեի շենքային պայմաններով ապահովում
A30: Նկարագրությունը՝ | B30: ՀՀ պետական եկամուտների կոմիտեի շենքային պայմաններով ապահովման համար հողի և շենք-շինությունների ձեռքբերում
A31: Միջոցառման տեսակը՝ | B31: Պետական մարմինների կողմից օգտագործվող ոչ ֆինանսական ակտիվների հետ գործառնություններ
A32: Միջոցառումն իրականացնողի անվանումը | B32: ՀՀ պետական եկամուտների կոմիտե
B33: Արդյունքի չափորոշիչներ
A34: Սյունիքի մարզ,Կարճևան գյուղի Մայրուղի 4,Մեղրու մաքսային կետի հարող տարածքի մակերեսը, քմ | C34: 24358 | D34: 24358
A35: Միջոցառման վրա կատարվող ծախսը (հազար դրամ) | C35: =+'2'!G31 -> 5407.5 | D35: =+'2'!H31 -> 5407.5

Sheet 6
G1: Հավելված N 6
G2: ՀՀ կառավարության 2020 թվականի
G3: --------------------ի N --------- Ն որոշման
A5: ՀԱՅԱՍՏԱՆԻ ՀԱՆՐԱՊԵՏՈՒԹՅԱՆ ԿԱՌԱՎԱՐՈՒԹՅԱՆ 2019 ԹՎԱԿԱՆԻ ԴԵԿՏԵՄԲԵՐԻ 26-Ի N 1919-Ն ՈՐՈՇՄԱՆ N 10 ՀԱՎԵԼՎԱԾՈՒՄ ԿԱՏԱՐՎՈՂ ՓՈՓՈԽՈՒԹՅՈՒՆՆԵՐԸ
A6: Գնման առարկայի | G6: Ցուցանիշների փոփոխությունը (ավելացումները նշված են դրական նշանով, իսկ նվազեցումները՝ փակագծում
A7: կոդը | B7: անվանումը | C7: գնման ձևը | D7: չափի միավորը | E7: միավորի գինը | F7: քանակը | G7: Գումարը (հազար դրամ)
A9: ՀՀ պետական եկամուտների կոմիտե | G9: =G10 -> 0
A10: Բաժին N 01 | B10: Խումբ N 01 | C10: Դաս N 02 | D10: Ֆինանսական և հարկաբյուջետային հարաբերություններ | G10: =G11+G15 -> 0
A11: 1023 31003 | B11: ՀՀ պետական եկամուտների կոմիտեի շենքային ապահովվածության բարելավում_x000D_ | G11: =G13+G14 -> -5407.476
B12: ՄԱՍ III. ԾԱՌԱՅՈՒԹՅՈՒՆՆԵՐ | G12: =G13+G14 -> -5407.476
A13: 71241200-1 | B13: Նախագծերի պատրաստում, ծախսերի գնահատում | C13: ԳՀ | D13: դրամ | G13: -34407.476
A14: 71241200-501 | B14: Նախագծերի պատրաստում, ծախսերի գնահատում | C14: ԳՀ | D14: դրամ | E14: 29000000 | F14: 1 | G14: =E14*F14/1000 -> 29000
A15: 1023 31005 | B15: ՀՀ պետական եկամուտների կոմիտեի շենքային պայմաններով ապահովում | G15: =G17+G18 -> 5407.476
B16: ՄԱՍ III. ԾԱՌԱՅՈՒԹՅՈՒՆՆԵՐ | G16: =G17 -> 5407.476
A17: 70121140-2 | B17: Հողերի գնման ծառայություններ | C17: ՄԱ | D17: դրամ | E17: 5407476 | F17: 1 | G17: =E17*F17/1000 -> 5407.476
