Workbook

Sheet 1
C1: Հավելված N 1
A2: ՀՀ կառավարության 2020 թվականի
A3: -ի N -Ն որոշման
A5: «ՀԱՅԱՍՏԱՆԻ ՀԱՆՐԱՊԵՏՈՒԹՅԱՆ 2020 ԹՎԱԿԱՆԻ ՊԵՏԱԿԱՆ ԲՅՈՒՋԵԻ ՄԱՍԻՆ» ՀՀ ՕՐԵՆՔԻ N 1 ՀԱՎԵԼՎԱԾԻ N 2 ԱՂՅՈՒՍԱԿՈՒՄ ԿԱՏԱՐՎՈՂ ՎԵՐԱԲԱՇԽՈՒՄԸ ԵՎ ՀԱՅԱՍՏԱՆԻ ՀԱՆՐԱՊԵՏՈՒԹՅԱՆ ԿԱՌԱՎԱՐՈՒԹՅԱՆ 2019 ԹՎԱԿԱՆԻ ԴԵԿՏԵՄԲԵՐԻ 26-Ի N 1919-Ն ՈՐՈՇՄԱՆ N 5 ՀԱՎԵԼՎԱԾԻ N 1 ԱՂՅՈՒՍԱԿՈՒՄ ԿԱՏԱՐՎՈՂ ՓՈՓՈԽՈՒԹՅՈՒՆՆԵՐԸ ԵՎ ԼՐԱՑՈՒՄՆԵՐԸ
D6: հազ.դրամ
A7: Ծրագրային դասիչը | C7: Բյուջետային գլխավոր կարգադրիչների, ծրագրերի և միջոցառումների անվանումները | D7: Ցուցանիշների փոփոխությունը (ավելացումները նշված են դրական նշանով, իսկ նվազեցումները՝ փակագծերում)
A8: Ծրագիր | B8: Միջոցառում | D8: Ինն ամիս | E8: Տարի
C9: ԸՆԴԱՄԵՆԸ | D9: =D10 -> 0 | E9: =E10 -> 0
C10: ՀՀ տարածքային կառավարման և ենթակառուցվածքների նախարարություն | D10: =D11+D24 -> 0 | E10: =E11+E24 -> 0
A11: 1004 | C11: Ծրագրի անվանումը` | D11: =D18 -> 15240 | E11: =E18 -> 152409.5
C12: Ոռոգման համակարգի առողջացում
C13: Ծրագրի նպատակը`
C14: Ոռոգման ծառայությունների հասանելիության և մատչելիության ապահովում
C15: Վերջնական արդյունքի նկարագրությունը`
C16: Ոռոգման ջրի մատակարարման արդյունավետության և հասանելիության բարելավում՝ կորուստների կրճատում
A17: Ծրագրի միջոցառումներ
B18: 31002 | C18: Միջոցառման անվանումը` | D18: 15240 | E18: 152409.5
C19: Ոռոգման համակարգերի հիմնանորոգում
C20: Միջոցառման նկարագրությունը`
C21: Ոռոգման համակարգերի հիմնանորոգում
C22: Միջոցառման տեսակը
C23: Պետական մարմինների կողմից օգտագործվող ոչֆինանսական ակտիվների հետ գործառնություններ
A24: 1040 | C24: Ծրագրի անվանումը` | D24: =D31 -> -15240 | E24: =E31 -> -152409.5
C25: Կոշտ թափոնների կառավարում
C26: Ծրագրի նպատակը`
C27: Կենցաղային թափոնների արդյունավետ կառավարում սոցիալական և բնապահպանական խնդիրների լուծում
C28: Վերջնական արդյունքի նկարագրությունը`
C29: Կենցաղային թափոնների արդյունավետ կառավարում
A30: Ծրագրի միջոցառումներ
B31: 32004 | C31: Միջոցառման անվանումը` | D31: -15240 | E31: -152409.5
C32: Վերակառուցման և զարգացման եվրոպական բանկի աջակցությամբ իրականացվող «Կոտայքի և Գեղարքունիքի մարզի կոշտ թափոնների կառավարման» դրամաշնորհային ծրագիր
C33: Միջոցառման նկարագրությունը`
C34: Կոշտ թափոնների կառավարման համակարգի բարելավում և նոր աղբավայրի ստեղծում
C35: Միջոցառման տեսակը
C36: Այլ պետական կազմակերպությունների կողմից օգտագործվող ոչ ֆինանսական ակտիվների հետ գործառնություններ

Sheet 2
A1: Հավելված N 2
A2: ՀՀ կառավարության 2020 թվականի
A3: -ի N -Ն որոշման
A4: «ՀԱՅԱՍՏԱՆԻ ՀԱՆՐԱՊԵՏՈՒԹՅԱՆ 2020 ԹՎԱԿԱՆԻ ՊԵՏԱԿԱՆ ԲՅՈՒՋԵԻ ՄԱՍԻՆ» ՀՀ ՕՐԵՆՔԻ N 1 ՀԱՎԵԼՎԱԾԻ N 3 ԱՂՅՈՒՍԱԿՈՒՄ ԿԱՏԱՐՎՈՂ ՓՈՓՈԽՈՒԹՅՈՒՆՆԵՐԸ ԵՎ ԼՐԱՑՈՒՄՆԵՐԸ
G5: հազար դրամ
A6: Ծրագրային դասիչ | C6: Բյուջետային գլխավոր կարգադրիչների, ծրագրերի, միջոցառումների և ուղղությունների անվանումները | D6: Ցուցանիշների փոփոխությունը (ավելացումները նշված են դրական նշանով, իսկ նվազեցումները՝ փակագծերում)
D7: Ընդամենը | E7: այդ թվում՝
A8: Ծրագիր | B8: Միջոցառում | E8: Կառուցման աշխատանքներ | F8: Վերակառուցման, վերանորոգման և վերականգնման աշխատանքներ | G8: Նախագծահե- տազոտական, գեոդեզիա- քարտեզագրա- կան աշխա- տանքներ | H8: Ոչ ֆինանսական այլ ակտիվների ձեռքբերում
C9: ԸՆԴԱՄԵՆԸ | D9: =SUM(E9:H9) -> 152409.5 | E9: =E11 -> 152409.5
C10: այդ թվում՝
C11: ՀՀ ՏԱՐԱԾՔԱՅԻՆ ԿԱՌԱՎԱՐՄԱՆ ԵՎ ԵՆԹԱԿԱՌՈՒՑՎԱԾՔՆԵՐԻ ՆԱԽԱՐԱՐՈՒԹՅՈՒՆ | D11: =D13 -> 152409.5 | E11: =E13 -> 152409.5
C12: այդ թվում`
A13: 1004 | B13: 31002 | C13: Ոռոգման համակարգերի հիմնանորոգում | D13: =SUM(E13:H13) -> 152409.5 | E13: =E15 -> 152409.5
C14: այդ թվում`
C15: ՀՀ Կոտայքի մարզիԳեղարդալճի ինքնահոս համակարգի չավարտված աշխատանքների իրականացում | D15: =SUM(E15:H15) -> 152409.5 | E15: ='1'!E18 -> 152409.5

Sheet 3
H1: Հավելված N 3
A2: ՀՀ կառավարության 2020 թվականի
A3: -ի N -Ն որոշման
A4: ՀԱՅԱՍՏԱՆԻ ՀԱՆՐԱՊԵՏՈՒԹՅԱՆ ԿԱՌԱՎԱՐՈՒԹՅԱՆ 2019 ԹՎԱԿԱՆԻ ԴԵԿՏԵՄԲԵՐԻ 26-Ի N 1919-Ն ՈՐՈՇՄԱՆ N 3 և N 4 ՀԱՎԵԼՎԱԾՆԵՐՈՒՄ ԿԱՏԱՐՎՈՂ ՓՈՓՈԽՈՒԹՅՈՒՆՆԵՐԸ ԵՎ ԼՐԱՑՈՒՄՆԵՐԸ
H5: հազար դրամ
A6: Գործառական դասիչը | D6: Ծրագրային դասիչը | F6: Բյուջետային ծախսերի գործառական դասակարգման բաժինների, խմբերի և դասերի, բյուջետային ծրագրերի միջոցառումների, բյուջետային հատկացումների գլխավոր կարգադրիչների անվանումները | G6: Ցուցանիշների փոփոխությունը (ավելացումները նշված են դրական նշանով, իսկ նվազեցումները՝ փակագծերում)
G7: Ինն ամիս | H7: Տարի
A8: Բաժին | B8: Խումբ | C8: Դաս | D8: Ծրագիր | E8: Միջոցառում
F9: ԸՆԴԱՄԵՆԸ ԾԱԽՍԵՐ | G9: =G11+G30 -> 0 | H9: =H11+H30 -> 0
F10: այդ թվում`
A11: 04 | F11: ՏՆՏԵՍԱԿԱՆ ՀԱՐԱԲԵՐՈՒԹՅՈՒՆՆԵՐ | G11: =G13 -> 15240 | H11: =H13 -> 152409.5
F12: այդ թվում`
B13: 02 | F13: Գյուղատնտեսություն, անտառային տնտեսություն, ձկնորսություն և որսորդություն | G13: =G15 -> 15240 | H13: =H15 -> 152409.5
F14: այդ թվում`
C15: 04 | F15: Ոռոգում | G15: =G19 -> 15240 | H15: =H19 -> 152409.5
F16: այդ թվում`
F17: ՀՀ տարածքային կառավարման և ենթակառուցվածքների նախարարություն
F18: այդ թվում`
D19: 1004 | F19: Ոռոգման համակարգի առողջացում | G19: =G21 -> 15240 | H19: =H21 -> 152409.5
F20: այդ թվում`
E21: 31002 | F21: Ոռոգման համակարգերի հիմնանորոգում | G21: =G23 -> 15240 | H21: =H23 -> 152409.5
F22: այդ թվում` ըստ կատարողների
F23: ՀՀ տարածքային կառավարման և ենթակառուցվածքների նախարարության ջրային կոմիտե | G23: =G25 -> 15240 | H23: =H25 -> 152409.5
F24: այդ թվում` բյուջետային ծախսերի տնտեսագիտական դասակարգման հոդվածներ
F25: ԸՆԴԱՄԵՆԸ ԾԱԽՍԵՐ | G25: =G26 -> 15240 | H25: =H26 -> 152409.5
F26: ՈՉ ՖԻՆԱՆՍԱԿԱՆ ԱԿՏԻՎՆԵՐԻ ԳԾՈՎ ԾԱԽՍԵՐ | G26: =G27 -> 15240 | H26: =H27 -> 152409.5
F27: ՀԻՄՆԱԿԱՆ ՄԻՋՈՑՆԵՐ | G27: =G28 -> 15240 | H27: =H28 -> 152409.5
F28: ՇԵՆՔԵՐ ԵՎ ՇԻՆՈՒԹՅՈՒՆՆԵՐ | G28: =G29 -> 15240 | H28: =H29 -> 152409.5
F29: - Շենքերի և շինությունների շինարարություն | G29: ='1'!D18 -> 15240 | H29: ='1'!E18 -> 152409.5
A30: 05 | F30: ՇՐՋԱԿԱ ՄԻՋԱՎԱՅՐԻ ՊԱՇՏՊԱՆՈՒԹՅՈՒՆ | G30: =G32 -> -15240 | H30: =H32 -> -152409.5
F31: այդ թվում`
B32: 01 | F32: Աղբահանում | G32: =G34 -> -15240 | H32: =H34 -> -152409.5
F33: այդ թվում`
C34: 01 | F34: Աղբահանում | G34: =G36 -> -15240 | H34: =H36 -> -152409.5
F35: այդ թվում`
D36: 1040 | F36: Կոշտ թափոնների կառավարում | G36: =G40 -> -15240 | H36: =H40 -> -152409.5
F37: այդ թվում`
E38: 32004 | F38: Վերակառուցման և զարգացման եվրոպական բանկի աջակցությամբ իրականացվող «Կոտայքի և Գեղարքունիքի մարզի կոշտ թափոնների կառավարման» դրամաշնորհային ծրագիր
F39: այդ թվում` ըստ կատարողների
F40: ՀՀ տարածքային կառավարման և ենթակառուցվածքների նախարարություն | G40: =G42 -> -15240 | H40: =H42 -> -152409.5
F41: այդ թվում` բյուջետային ծախսերի տնտեսագիտական դասակարգման հոդվածներ
F42: ԸՆԴԱՄԵՆԸ ԾԱԽՍԵՐ | G42: =G43 -> -15240 | H42: =H43 -> -152409.5
F43: ՈՉ ՖԻՆԱՆՍԱԿԱՆ ԱԿՏԻՎՆԵՐԻ ԳԾՈՎ ԾԱԽՍԵՐ | G43: =G44 -> -15240 | H43: =H44 -> -152409.5
F44: ՀԻՄՆԱԿԱՆ ՄԻՋՈՑՆԵՐ | G44: =G45 -> -15240 | H44: =H45 -> -152409.5
F45: ՇԵՆՔԵՐ ԵՎ ՇԻՆՈՒԹՅՈՒՆՆԵՐ | G45: =G46 -> -15240 | H45: =H46 -> -152409.5
F46: - Շենքերի և շինությունների շինարարություն | G46: ='1'!D31 -> -15240 | H46: ='1'!E31 -> -152409.5

Sheet 4
A1: Հավելված N 4
A2: ՀՀ կառավարության 2020 թվականի
A3: -ի N -Ն որոշման
A4: ՀԱՅԱՍՏԱՆԻ ՀԱՆՐԱՊԵՏՈՒԹՅԱՆ ԿԱՌԱՎԱՐՈՒԹՅԱՆ 2019 ԹՎԱԿԱՆԻ ԴԵԿՏԵՄԲԵՐԻ 26-Ի N 1919-Ն ՈՐՈՇՄԱՆ N 5 ՀԱՎԵԼՎԱԾԻ N 2 ԱՂՅՈՒՍԱԿՈՒՄ ԿԱՏԱՐՎՈՂ ՓՈՓՈԽՈՒԹՅՈՒՆՆԵՐԸ ԵՎ ԼՐԱՑՈՒՄՆԵՐԸ
A6: Ծրագրային դասիչ | C6: Բյուջետային գլխավոր կարգադրիչների, ծրագրերի, միջոցառումների, միջոցառումները կատարող պետական մարմինների և ուղղությունների անվանումները | D6: Ցուցանիշների փոփոխությունը (ավելացումները նշված են դրական նշանով, իսկ նվազեցումները՝ փակագծերում)
D7: Ինն ամիս | E7: Տարի
A8: Ծրագիր | B8: Միջոցառում
C9: ԸՆԴԱՄԵՆԸ | D9: =D11 -> 15240 | E9: =E11 -> 152409.5
C10: այդ թվում՝
C11: ՀՀ ՏԱՐԱԾՔԱՅԻՆ ԿԱՌԱՎԱՐՄԱՆ ԵՎ ԵՆԹԱԿԱՌՈՒՑՎԱԾՔՆԵՐԻ ՆԱԽԱՐԱՐՈՒԹՅՈՒՆ | D11: =D13 -> 15240 | E11: =E13 -> 152409.5
C12: այդ թվում`
A13: 1004 | B13: 31002 | C13: Ոռոգման համակարգերի հիմնանորոգում | D13: =D15 -> 15240 | E13: =E15 -> 152409.5
C14: այդ թվում` ըստ կատարողների
C15: ՀՀ տարածքային կառավարման և ենթակառուցվածքների նախարարության ջրային կոմիտե | D15: =D17 -> 15240 | E15: =E17 -> 152409.5
C16: այդ թվում՝ ըստ ուղղությունների
C17: ՀՀ Կոտայքի մարզիԳեղարդալճի ինքնահոս համակարգի չավարտված աշխատանքների իրականացում | D17: ='1'!D18 -> 15240 | E17: ='1'!E18 -> 152409.5

Sheet 5
D1: Հավելված N 5
D2: ՀՀ կառավարության 2020 թվականի
D3: -ի N -Ն որոշման
A5: «ՀԱՅԱՍՏԱՆԻ ՀԱՆՐԱՊԵՏՈՒԹՅԱՆ 2020 ԹՎԱԿԱՆԻ ՊԵՏԱԿԱՆ ԲՅՈՒՋԵԻ ՄԱՍԻՆ» ՀՀ ՕՐԵՆՔԻ N 6 ՀԱՎԵԼՎԱԾԻ N 1 ԱՂՅՈՒՍԱԿՈՒՄ ԿԱՏԱՐՎՈՂ ՓՈՓՈԽՈՒԹՅՈՒՆՆԵՐԸ
C6: հազար դրամներով
A8: Ծրագրային դասիչ | C8: Բյուջետային գլխավոր կարգադրիչների, ծրագրերի, միջոցառումների և ուղղությունների անվանումները | D8: Ցուցանիշների փոփոխությունը (նվազեցումները նշված են փակագծերում)
A9: Ծրագիր | B9: Միջոցառում
C10: ԸՆԴԱՄԵՆԸ | D10: =D12 -> -152409.5
C11: այդ թվում՝
C12: ՀՀ ՏԱՐԱԾՔԱՅԻՆ ԿԱՌԱՎԱՐՄԱՆ ԵՎ ԵՆԹԱԿԱՌՈՒՑՎԱԾՔՆԵՐԻ ՆԱԽԱՐԱՐՈՒԹՅՈՒՆ | D12: =SUM(D14:D14) -> -152409.5
C13: այդ թվում`
A14: 1004 | B14: 31002 | C14: Ոռոգման համակարգերի հիմնանորոգում | D14: ='1'!E31 -> -152409.5

Sheet 6
A1: Հավելված 6
I2: ՀՀ կառավարության 2020 թվականի | O2: ՀՀ կառավարության 2020 թվականի
D3: -ի N -Ն որոշման | O3: -ի N -Ն որոշման
A5: «ՀԱՅԱՍՏԱՆԻ ՀԱՆՐԱՊԵՏՈՒԹՅԱՆ 2020 ԹՎԱԿԱՆԻ ՊԵՏԱԿԱՆ ԲՅՈՒՋԵԻ ՄԱՍԻՆ» ՀԱՅԱՍՏԱՆԻ ՀԱՆՐԱՊԵՏՈՒԹՅԱՆ ՕՐԵՆՔԻ N 1 ՀԱՎԵԼՎԱԾԻ N 5 ԱՂՅՈՒՍԱԿՈՒՄ ԵՎ ՀԱՅԱՍՏԱՆԻ ՀԱՆՐԱՊԵՏՈՒԹՅԱՆ ԿԱՌԱՎԱՐՈՒԹՅԱՆ 2019 ԹՎԱԿԱՆԻ ԴԵԿՏԵՄԲԵՐԻ 26-Ի N 1919-Ն ՈՐՈՇՄԱՆ N5 ՀԱՎԵԼՎԱԾԻ N 4 ԱՂՅՈՒՍԱԿՈՒՄ ԿԱՏԱՐՎՈՂ ՓՈՓՈԽՈՒԹՅՈՒՆՆԵՐԸ ԵՎ ԼՐԱՑՈՒՄՆԵՐԸ
A7: Ծրագրային դասիչը | C7: Բյուջետային հատկացումների գլխավոր կարգադրիչների, ծրագրերի, միջոցառումների և միջոցառումները կատարող պետական մարմինների անվանումները | D7: Առաջին եռամսյակ | G7: Առաջին կիսամյակ | J7: Ինն ամիս | M7: Տարի
A8: Ծրագիր | B8: Միջոց_x000D_ առում | D8: Ընդամենը | E8: այդ թվում | G8: Ընդամենը | H8: այդ թվում | J8: Ընդամենը | K8: այդ թվում | M8: Ընդամենը | N8: այդ թվում
E9: Դրամաշնոր_x000D_ հային միջոցներ | F9: Համաֆինանս ավորում | H9: Դրամաշնոր_x000D_ հային միջոցներ | I9: Համաֆինանս ավորում | K9: Դրամաշնոր_x000D_ հային միջոցներ | L9: Համաֆինանս ավորում | N9: Դրամաշնոր_x000D_ հային միջոցներ | O9: Համաֆինանս ավորում
C10: ԸՆԴԱՄԵՆԸ_x000D_ այդ թվում` | D10: =E10+F10 -> #REF! | E10: =E11+E12 -> #REF! | F10: =F11+F12 -> #REF! | G10: =H10+I10 -> #REF! | H10: =H11+H12 -> #REF! | I10: =I11+I12 -> #REF! | J10: =K10+L10 -> -15240 | K10: =K11+K12 -> 0 | L10: =L11+L12 -> -15240 | M10: =N10+O10 -> -152409.5 | N10: =N11+N12 -> 0 | O10: =O11+O12 -> -152409.5
C11: - ԸՆԹԱՑԻԿ ԾԱԽՍԵՐ | D11: =E11+F11 -> #REF! | E11: =#REF!+#REF!+#REF!+#REF!+#REF!+#REF!+#REF!+#REF!+#REF!+#REF!+#REF!+#REF!+#REF!+#REF!+#REF!+#REF!+#REF!+#REF!+#REF!+#REF!+#REF!+#REF!++#REF!+#REF!+#REF!+#REF!+#REF!+#REF!+#REF!+#REF!+#REF!+#REF!+#REF!+#REF!+#REF! -> #REF! | F11: =#REF!+#REF!+#REF!+#REF!+#REF!+#REF!+#REF!+#REF!+#REF!+#REF!+#REF!+#REF!+#REF!+#REF!+#REF!+#REF!+#REF!+#REF!+#REF!+#REF!+#REF!+#REF!++#REF!+#REF!+#REF!+#REF!+#REF!+#REF!+#REF!+#REF!+#REF!+#REF!+#REF!+#REF!+#REF! -> #REF! | G11: =H11+I11 -> #REF! | H11: =#REF!+#REF!+#REF!+#REF!+#REF!+#REF!+#REF!+#REF!+#REF!+#REF!+#REF!+#REF!+#REF!+#REF!+#REF!+#REF!+#REF!+#REF!+#REF!+#REF!+#REF!+#REF!++#REF!+#REF!+#REF!+#REF!+#REF!+#REF!+#REF!+#REF!+#REF!+#REF!+#REF!+#REF!+#REF! -> #REF! | I11: =#REF!+#REF!+#REF!+#REF!+#REF!+#REF!+#REF!+#REF!+#REF!+#REF!+#REF!+#REF!+#REF!+#REF!+#REF!+#REF!+#REF!+#REF!+#REF!+#REF!+#REF!+#REF!++#REF!+#REF!+#REF!+#REF!+#REF!+#REF!+#REF!+#REF!+#REF!+#REF!+#REF!+#REF!+#REF! -> #REF! | J11: =K11+L11 -> 0 | K11: 0 | L11: 0 | M11: =N11+O11 -> 0 | N11: 0 | O11: 0
C12: - ՈՉ ՖԻՆԱՆՍԱԿԱՆ ԱԿՏԻՎՆԵՐԻ ԳԾՈՎ ԾԱԽՍԵՐ | D12: =E12+F12 -> #REF! | E12: =#REF!+#REF!+#REF!+#REF!+#REF!+#REF!+#REF!+#REF!+E19+#REF!+#REF!+#REF!+#REF!+#REF!+#REF!+#REF!+#REF!+#REF!+#REF!+#REF!+#REF! -> #REF! | F12: =#REF!+#REF!+#REF!+#REF!+#REF!+#REF!+#REF!+#REF!+F19+#REF!+#REF!+#REF!+#REF!+#REF!+#REF!+#REF!+#REF!+#REF!+#REF!+#REF!+#REF! -> #REF! | G12: =H12+I12 -> #REF! | H12: =#REF!+#REF!+#REF!+#REF!+#REF!+#REF!+#REF!+#REF!+H19+#REF!+#REF!+#REF!+#REF!+#REF!+#REF!+#REF!+#REF!+#REF!+#REF!+#REF!+#REF! -> #REF! | I12: =#REF!+#REF!+#REF!+#REF!+#REF!+#REF!+#REF!+#REF!+I19+#REF!+#REF!+#REF!+#REF!+#REF!+#REF!+#REF!+#REF!+#REF!+#REF!+#REF!+#REF! -> #REF! | J12: =K12+L12 -> -15240 | K12: =K19 -> 0 | L12: =L19 -> -15240 | M12: =N12+O12 -> -152409.5 | N12: =N19 -> 0 | O12: =O19 -> -152409.5
A13: 1040 | C13: Կոշտ թափոնների կառավարում | D13: =#REF!+#REF!+#REF!+#REF!+D15+#REF! -> #REF! | E13: =#REF!+#REF!+#REF!+#REF!+E15+#REF! -> #REF! | F13: =#REF!+#REF!+#REF!+#REF!+F15+#REF! -> #REF! | G13: =#REF!+#REF!+#REF!+#REF!+G15+#REF! -> #REF! | H13: =#REF!+#REF!+#REF!+#REF!+H15+#REF! -> #REF! | I13: =#REF!+#REF!+#REF!+#REF!+I15+#REF! -> #REF! | J13: =J15 -> -15240 | K13: =K15 -> 0 | L13: =L15 -> -15240 | M13: =M15 -> -152409.5 | N13: =N15 -> 0 | O13: =O15 -> -152409.5
C14: այդ թվում`
B15: 32004 | C15: Վերակառուցման և զարգացման եվրոպական բանկի աջակցությամբ իրականացվող «Կոտայքի և_x000D_ Գեղարքունիքի մարզի կոշտ թափոնների կառավարման» դրամաշնորհային ծրագիր | D15: =E15+F15 -> #REF! | E15: =E17 -> #REF! | F15: =F17 -> #REF! | G15: =H15+I15 -> #REF! | H15: =H17 -> #REF! | I15: =I17 -> #REF! | J15: =K15+L15 -> -15240 | K15: =K17 -> 0 | L15: =L17 -> -15240 | M15: =N15+O15 -> -152409.5 | N15: =N17 -> 0 | O15: =O17 -> -152409.5
C16: այդ թվում` ըստ կատարողների
C17: ՀՀ տարածքային կառավարման և ենթակառուցվածքների նախարարություն | D17: =E17+F17 -> #REF! | E17: =E19 -> #REF! | F17: =F19 -> #REF! | G17: =H17+I17 -> #REF! | H17: =H19 -> #REF! | I17: =I19 -> #REF! | J17: =K17+L17 -> -15240 | K17: =K19 -> 0 | L17: =L19 -> -15240 | M17: =N17+O17 -> -152409.5 | N17: =N19 -> 0 | O17: =O19 -> -152409.5
C18: այդ թվում` բյուջետային ծախսերի տնտեսագիտական դասակարգման հոդվածներ
C19: ՈՉ ՖԻՆԱՆՍԱԿԱՆ ԱԿՏԻՎՆԵՐԻ ԳԾՈՎ ԾԱԽՍԵՐ | D19: =E19+F19 -> #REF! | E19: =E20+#REF! -> #REF! | F19: =F20+#REF! -> #REF! | G19: =H19+I19 -> #REF! | H19: =H20+#REF! -> #REF! | I19: =I20+#REF! -> #REF! | J19: =K19+L19 -> -15240 | K19: 0 | L19: =L20 -> -15240 | M19: =N19+O19 -> -152409.5 | N19: 0 | O19: =O20 -> -152409.5
C20: - Շենքերի և շինությունների շինարարություն | D20: =E20+F20 -> 556932.2 | E20: 445440.5 | F20: 111491.7 | G20: =H20+I20 -> 835398.4 | H20: 668160.8 | I20: 167237.6 | J20: =K20+L20 -> -15240 | K20: 0 | L20: ='1'!D31 -> -15240 | M20: =N20+O20 -> -152409.5 | N20: 0 | O20: ='1'!E31 -> -152409.5

Sheet 7-1
A1: Հավելված N 7
A2: ՀՀ կառավարության 2020 թվականի
A3: -ի N -Ն որոշման
D4: Աղյուսակ 1
A5: ՀԱՅԱՍՏԱՆԻ ՀԱՆՐԱՊԵՏՈՒԹՅԱՆ ԿԱՌԱՎԱՐՈՒԹՅԱՆ 2019 ԹՎԱԿԱՆԻ ԴԵԿՏԵՄԲԵՐԻ 26-Ի N 1919-Ն ՈՐՈՇՄԱՆ N 9 ՀԱՎԵԼՎԱԾԻ N 9.8 ԱՂՅՈՒՍԱԿՈՒՄ ԿԱՏԱՐՎՈՂ ՓՈՓՈԽՈՒԹՅՈՒՆՆԵՐԸ
A8: ՀՀ տարածքային կառավարման և ենթակառուցվածքների նախարարություն
A9: ՄԱՍ 2. ՊԵՏԱԿԱՆ ՄԱՐՄՆԻ ԳԾՈՎ ԱՐԴՅՈՒՆՔԱՅԻՆ (ԿԱՏԱՐՈՂԱԿԱՆ) ՑՈՒՑԱՆԻՇՆԵՐԸ
D10: 9.8
A11: Ծրագրի դասիչը | B11: Ծրագրի անվանումը
A12: 1004 | B12: Ոռոգման համակարգի առողջացում
A13: Ծրագրի միջոցառումները
A14: Ծրագրի դասիչը` | B14: 1004 | C14: Ցուցանիշներ
C15: Ցուցանիշների փոփոխությունը (ավելացումները նշված են դրական նշանով)
A16: Միջոցառման դասիչը` | B16: 31002 | C16: Ինն ամիս | D16: Տարի
A17: Միջոցառման անվանումը` | B17: Ոռոգման համակարգերի հիմնանորոգում
A18: Նկարագրությունը` | B18: Ոռոգման համակարգերի հիմնանորոգում
A19: Միջոցառման տեսակը` | B19: Պետական մարմինների կողմից օգտագործվող ոչ ֆինանսական ակտիվների հետ գործառնություններ
A20: Ակտիվն օգտագործող կազմակերպության(ների) անվանում(ները)՛ | B20: ՀՀ ՏԿԵն ջրային կոմիտե, «ՋՕԸ»- եր
A21: Արդյունքի չափորոշիչներ
A22: Կառուցվող ջրագիծ,մ | C22: 190 | D22: 1925
A23: Միջոցառման վրա կատարվող ծախսը (հազար դրամ) | C23: ='1'!D11 -> 15240 | D23: ='1'!E11 -> 152409.5
A24: Ծրագրի դասիչը | B24: Ծրագրի անվանումը
A25: 1040 | B25: Կոշտ թափոնների կառավարում
A26: Ծրագրի միջոցառումները
A27: Ծրագրի դասիչը` | B27: 1040 | C27: Ցուցանիշներ
C28: Ցուցանիշների փոփոխությունը (ավելացումները նշված են դրական նշանով, իսկ նվազեցումները` փակագծերում)
A29: Միջոցառման դասիչը` | B29: 32004 | C29: Ինն ամիս | D29: Տարի
A30: Միջոցառման անվանումը` | B30: Վերակառուցման և զարգացման եվրոպական բանկի աջակցությամբ իրականացվող «Կոտայքի և Գեղարքունիքի մարզի կոշտ թափոնների կառավարման» դրամաշնորհային ծրագիր
A31: Նկարագրությունը` | B31: Կոշտ թափոնների կառավարման համակարգի բարելավում և նոր աղբավայրի ստեղծում
A32: Միջոցառման տեսակը` | B32: Այլ պետական կազմակերպությունների կողմից օգտագործվող ոչ ֆինանսական ակտիվների հետ գործառնություններ
A33: Միջոցառումն իրականացնողի անվանումը՛ | B33: ՀՀ տարածքային կառավարման և ենթակառուցվածքների նախարարություն
A34: Միջոցառման վրա կատարվող ծախսը (հազար դրամ) | C34: ='1'!D24 -> -15240 | D34: ='1'!E24 -> -152409.5

Sheet 7-2
D1: Աղյուսակ 2
A2: ՀԱՅԱՍՏԱՆԻ ՀԱՆՐԱՊԵՏՈՒԹՅԱՆ ԿԱՌԱՎԱՐՈՒԹՅԱՆ 2019 ԹՎԱԿԱՆԻ ԴԵԿՏԵՄԲԵՐԻ 26-Ի N 1919-Ն ՈՐՈՇՄԱՆ N 9.1 ՀԱՎԵԼՎԱԾԻ N 9.1.8 և N 9.1.26 ԱՂՅՈՒՍԱԿՆԵՐՈՒՄ ԿԱՏԱՐՎՈՂ ՓՈՓՈԽՈՒԹՅՈՒՆՆԵՐԸ
D3: Աղյուսակ 9.1.8
A4: ՀՀ տարածքային կառավարման և ենթակառուցվածքների նախարարություն
A5: Ծրագրի դասիչը | B5: Ծրագրի անվանումը
A6: 1040 | B6: Կոշտ թափոնների կառավարում
A7: Ծրագրի միջոցառումները
A8: Ծրագրի դասիչը` | B8: 1040 | C8: Ցուցանիշներ
C9: Ցուցանիշների փոփոխությունը (ավելացումները նշված են դրական նշանով, իսկ նվազեցումները` փակագծերում)
A10: Միջոցառման դասիչը` | B10: 32004 | C10: Ինն ամիս | D10: Տարի
A11: Միջոցառման անվանումը` | B11: Վերակառուցման և զարգացման եվրոպական բանկի աջակցությամբ իրականացվող «Կոտայքի և Գեղարքունիքի մարզի կոշտ թափոնների կառավարման» դրամաշնորհային ծրագիր
A12: Նկարագրությունը` | B12: Կոշտ թափոնների կառավարման համակարգի բարելավում և նոր աղբավայրի ստեղծում
A13: Միջոցառման տեսակը` | B13: Այլ պետական կազմակերպությունների կողմից օգտագործվող ոչ ֆինանսական ակտիվների հետ գործառնություններ
A14: Միջոցառումն իրականացնողի անվանումը՛ | B14: ՀՀ տարածքային կառավարման և ենթակառուցվածքների նախարարություն
A15: Միջոցառման վրա կատարվող ծախսը (հազար դրամ) | C15: ='7-1'!C34 -> -15240 | D15: ='7-1'!D34 -> -152409.5
D18: Աղյուսակ 9.1.26
A19: ՀՀ տարածքային կառավարման և ենթակառուցվածքների նախարարության ջրային կոմիտե
A20: ՄԱՍ 1. ՊԵՏԱԿԱՆ ՄԱՐՄՆԻ ԳԾՈՎ ԱՐԴՅՈՒՆՔԱՅԻՆ (ԿԱՏԱՐՈՂԱԿԱՆ) ՑՈՒՑԱՆԻՇՆԵՐԸ
A21: Ծրագրի դասիչը | B21: Ծրագրի անվանումը
A22: 1004 | B22: Ոռոգման համակարգի առողջացում
A23: Ծրագրի միջոցառումները
A24: Ծրագրի դասիչը` | B24: 1004 | C24: Ցուցանիշներ
C25: Ցուցանիշների փոփոխությունը (ավելացումները նշված են դրական նշանով)
A26: Միջոցառման դասիչը` | B26: 31002 | C26: Ինն ամիս | D26: Տարի
A27: Միջոցառման անվանումը` | B27: Ոռոգման համակարգերի հիմնանորոգում
A28: Նկարագրությունը` | B28: Ոռոգման համակարգերի հիմնանորոգում
A29: Միջոցառման տեսակը` | B29: Պետական մարմինների կողմից օգտագործվող ոչ ֆինանսական ակտիվների հետ գործառնություններ
A30: Ակտիվն օգտագործող կազմակերպության(ների) անվանում(ները)՛ | B30: ՀՀ ՏԿԵն ջրային կոմիտե, «ՋՕԸ»- եր
A31: Արդյունքի չափորոշիչներ
A32: Կառուցվող ջրագիծ,մ | C32: 190 | D32: 1925
A33: Միջոցառման վրա կատարվող ծախսը (հազար դրամ) | C33: ='7-1'!C23 -> 15240 | D33: ='7-1'!D23 -> 152409.5

Sheet 8
A1: Հավելված N 8
A2: ՀՀ կառավարության 2020 թվականի
A3: -ի N -Ն որոշման
A5: ՀԱՅԱՍՏԱՆԻ ՀԱՆՐԱՊԵՏՈՒԹՅԱՆ ԿԱՌԱՎԱՐՈՒԹՅԱՆ 2019 ԹՎԱԿԱՆԻ ԴԵԿՏԵՄԲԵՐԻ 26-Ի N 1919-Ն ՈՐՈՇՄԱՆ N 10 ՀԱՎԵԼՎԱԾՈՒՄ ԿԱՏԱՐՎՈՂ ԼՐԱՑՈՒՄՆԵՐԸ
A7: Կոդը | B7: Անվանումը | C7: Գնման ձևը | D7: Չափի միավորը | E7: Միավորի գինը | F7: Ցուցանիշների փոփոխությունը (ավելացումները նշված են դրական նշանով)
F8: քանակը | G8: գումարը (հազ. դրամ)
A9: ՀՀ տարածքային կառավարման և ենթակառուցվածքների նախարարության ջրային կոմիտե | G9: =G10 -> 152409.49
A10: Ծրագիր <<Ոռոգման համակարգի առողջացում>> Միջոցառում <<Ոռոգման համակարգերի հիմնանորոգում>> Բաժին N 04, Խումբ 02, Դաս 04 Ծրագիր 1004 Միջոցառում 31002 | G10: =G11+G13 -> 152409.49
B11: ՄԱՍ II ԱՇԽԱՏԱՆՔՆԵՐ | G11: =SUM(G12:G12) -> 149567.7
A12: 45231126/507 | B12: ոռոգման խողովակաշարերի կառուցման աշխատանքներ | C12: ՀԲՄ | D12: դրամ | E12: 149567700 | F12: 1 | G12: =E12*F12/1000 -> 149567.7
B13: ՄԱՍ III ԾԱՌԱՅՈՒԹՅՈՒՆՆԵՐ | G13: =SUM(G14:G15) -> 2841.785
A14: 71351540/526 | B14: տեխնիկական հսկողության ծառայություններ | C14: ԳՀ | D14: դրամ | E14: 2243515 | F14: 1 | G14: =E14*F14/1000 -> 2243.515
A15: 98111140/ | B15: հեղինակային հսկողության ծառայություններ | C15: ՄԱ | D15: դրամ | E15: 598270 | F15: 1 | G15: =E15*F15/1000 -> 598.27
