Workbook
Name \A: #REF!
Name \A: #REF!
Name \A: #REF!
Name \A: #REF!
Name Armata: #REF!
Name Armata: #REF!
Name Armata: #REF!
Name Armata: #REF!
Name BOP: #REF!
Name BOP: #REF!
Name BOP: #REF!
Name BOP: #REF!
Name BOPfoot: #REF!
Name BOPfoot: #REF!
Name DebtCG: '[1]Fis-Debt'!#REF!
Name DebtCG: '[1]Fis-Debt'!#REF!
Name DebtCG: '[1]Fis-Debt'!#REF!
Name DebtGG: #REF!
Name DebtGG: #REF!
Name MonExo: #REF!
Name MonExo: #REF!
Name MonGrow: [2]BM!#REF!
Name MonGrow: [2]BM!#REF!
Name MonGrow: [2]BM!#REF!
Name MonGrow: [2]BM!#REF!
Name RealExo: #REF!
Name RealExo: #REF!
Name RealExo: #REF!
Name RealExo: #REF!
Name RealPercent: #REF!
Name RealPercent: #REF!
Name RealPercent: #REF!
Name RealPercent: #REF!
Name Table_2._Turkey__Exogenous_assumptions: #REF!
Name Table_2._Turkey__Exogenous_assumptions: #REF!
Name Table_2._Turkey__Exogenous_assumptions: #REF!
Name է: [2]BM!#REF!
Name է: [2]BM!#REF!
Name է: [2]BM!#REF!
Name է: [2]BM!#REF!
Name ՀՀՀՀՀ: #REF!
Name ՀՀՀՀՀ: #REF!
Name ՀՀՀՀՀ: #REF!
Name ՀՀՀՀՀ: #REF!
Name շախմատիստ: #REF!
Name շախմատիստ: #REF!
Name շախմատիստ: #REF!
Name շախմատիստ: #REF!
Name շախմատիստ: #REF!

Sheet N  1
A1: Հավելված 1 ՀՀ կառավարության 2020 թվականի____________ի N _____-Ն որոշման
A4: «ՀԱՅԱՍՏԱՆԻ ՀԱՆՐԱՊԵՏՈՒԹՅԱՆ 2020 ԹՎԱԿԱՆԻ ՊԵՏԱԿԱՆ ԲՅՈՒՋԵԻ ՄԱՍԻՆ» ՀԱՅԱՍՏԱՆԻ ՀԱՆՐԱՊԵՏՈՒԹՅԱՆ ՕՐԵՆՔԻ 2-ՐԴ ՀՈԴՎԱԾԻ ԱՂՅՈՒՍԱԿՈՒՄ ԿԱՏԱՐՎՈՂ ՓՈՓՈԽՈՒԹՅՈՒՆՆԵՐԸ
B5: հազար դրամներով
B6: Ցուցանիշների փոփոխությունը (ավելացումները նշված են դրական նշանով)
A7: Եկամուտների գծով | B7: ='N8 poak'!H10 -> 270000
A8: Ծախսերի գծով | B8: =B7 -> 270000
A9: Դեֆիցիտը (պակասուրդը) | B9: =B7-B8 -> 0

Sheet N  2
A1: Հավելված 2 ՀՀ կառավարության 2020 թվականի____________ի N _____-Ն որոշման
A4: «ՀԱՅԱՍՏԱՆԻ ՀԱՆՐԱՊԵՏՈՒԹՅԱՆ 2020 ԹՎԱԿԱՆԻ ՊԵՏԱԿԱՆ ԲՅՈՒՋԵԻ ՄԱՍԻՆ» ՀԱՅԱՍՏԱՆԻ ՀԱՆՐԱՊԵՏՈՒԹՅԱՆ ՕՐԵՆՔԻ 6-ՐԴ ՀՈԴՎԱԾԻ ԱՂՅՈՒՍԱԿՈՒՄ ԵՎ ՀԱՅԱՍՏԱՆԻ ՀԱՆՐԱՊԵՏՈՒԹՅԱՆ ԿԱՌԱՎԱՐՈՒԹՅԱՆ 2019 ԹՎԱԿԱՆԻ ԴԵԿՏԵՄԲԵՐԻ 26-Ի N 1919-Ն ՈՐՈՇՄԱՆ 2-ՐԴ ՀԱՎԵԼՎԱԾՈՒՄ ԿԱՏԱՐՎՈՂ ՓՈՓՈԽՈՒԹՅՈՒՆՆԵՐԸ
B5: (հազար դրամներով)
A6: Պետական բյուջեի եկամուտները | B6: Ցուցանիշների փոփոխությունը (ավելացումները նշված են դրական նշանով)
B7: Ինն ամիս | C7: Տարի
A8: ԸՆԴԱՄԵՆԸ | B8: =B10 -> 270000 | C8: =B8 -> 270000
A9: այդ թվում`
A10: Պաշտոնական դրամաշնորհներ | B10: ='N 1'!B7 -> 270000 | C10: =B10 -> 270000

Sheet N 3
A1: Հավելված 3 ՀՀ կառավարության 2020 թվականի____________ի N _____-Ն որոշման
A3: «ՀԱՅԱՍՏԱՆԻ ՀԱՆՐԱՊԵՏՈՒԹՅԱՆ 2020 ԹՎԱԿԱՆԻ ՊԵՏԱԿԱՆ ԲՅՈՒՋԵԻ ՄԱՍԻՆ» ՀԱՅԱՍՏԱՆԻ ՀԱՆՐԱՊԵՏՈՒԹՅԱՆ ՕՐԵՆՔԻ N 1 ՀԱՎԵԼՎԱԾԻ N 1 ԱՂՅՈՒՍԱԿՈՒՄ ԿԱՏԱՐՎՈՂ ԼՐԱՑՈՒՄԸ
A5: Ծրագրային դասիչը | B5: Ծրագրի անվանումը | C5: Գումարը (հազար դրամ)
A6: Ընդամենը | C6: =C7 -> 270000
A7: 1155 | B7: Բնական պաշարների և բնության հատուկ պահպանվող տարածքների կառավարում և պահպանում | C7: ='N 2'!C8 -> 270000

Sheet N 4
C1: Հավելված 4 ՀՀ կառավարության 2020 թվականի____________ի N _____-Ն որոշման
A2: «ՀԱՅԱՍՏԱՆԻ ՀԱՆՐԱՊԵՏՈՒԹՅԱՆ 2020 ԹՎԱԿԱՆԻ ՊԵՏԱԿԱՆ ԲՅՈՒՋԵԻ ՄԱՍԻՆ» ՀԱՅԱՍՏԱՆԻ ՀԱՆՐԱՊԵՏՈՒԹՅԱՆ ՕՐԵՆՔԻ N 1 ՀԱՎԵԼՎԱԾԻ N 2 ԱՂՅՈՒՍԱԿՈՒՄ ԿԱՏԱՐՎՈՂ ՎԵՐԱԲԱՇԽՈՒՄԸ ԵՎ ՀԱՅԱՍՏԱՆԻ ՀԱՆՐԱՊԵՏՈՒԹՅԱՆ ԿԱՌԱՎԱՐՈՒԹՅԱՆ 2019 ԹՎԱԿԱՆԻ ԴԵԿՏԵՄԲԵՐԻ 26-Ի N 1919-Ն ՈՐՈՇՄԱՆ N 5 ՀԱՎԵԼՎԱԾԻ N 1 ԱՂՅՈՒՍԱԿՈՒՄ ԿԱՏԱՐՎՈՂ ՓՈՓՈԽՈՒԹՅՈՒՆՆԵՐԸ ԵՎ ԼՐԱՑՈՒՄՆԵՐԸ
D3: (հազար դրամներով)
A4: Ծրագրային դասիչը | C4: Բյուջետային հատկացումների գլխավոր կարգադրիչների, ծրագրերի և միջոցառումների | D4: Ցուցանիշների փոփոխությունը (ծախսերի ավելացումները նշված են դրական նշանով, իսկ նվազեցումները` փակագծերում)
A5: ծրագիրը | B5: միջոցառումը | C5: անվանումները | D5: Ինն ամիս | E5: Տարի
C6: ԸՆԴԱՄԵՆԸ այդ թվում` | D6: =D8+D21 -> 270000 | E6: =E8+E21 -> 270000
C7: ՀՀ շրջակա միջավայրի նախարարություն | D7: =D8 -> 270000 | E7: =E8 -> 270000
A8: 1155 | C8: Ծրագրի անվանումը` | D8: =D15 -> 270000 | E8: =E15 -> 270000
C9: Բնական պաշարների և բնության հատուկ պահպանվող տարածքների կառավարում և պահպանում
C10: Ծրագրի նպատակը`
C11: Բնական պաշարների և կենսաբազմազանության արդյունավետ կառավարում և պահպանություն
C12: Վերջնական արդյունքի նկարագրությունը`
C13: Բնական պաշարների և կենսաբազմազանության վերարտադրության աճի ապահովում
C14: Ծրագրի միջոցառումներ
B15: 12003 | C15: Միջոցառման անվանումը` | D15: =D29 -> 270000 | E15: =D15 -> 270000 | G15: ='[4]Օրինակելի ձև 2'!$I$34 -> 1000 | H15: ='[4]Օրինակելի ձև 2'!$L$34 -> 2000 | I15: ='[4]Օրինակելի ձև 2'!$O$34 -> 4000
C16: Կորոնավիրուսի տնտեսական հետևանքների չեզոքացման շրջանակներում բնության հատուկ պահպանվող տարածքների պահպանությանն ուղղված աջացություն | G16: =#REF!+G15 -> #REF! | H16: =D15+H15 -> 272000 | I16: =E15+I15 -> 274000
C17: Միջոցառման նկարագրությունը`
C18: Կորոնավիրուսի տնտեսական հետևանքների չեզոքացման շրջանակներում շրջակա միջավայրի նախարարության բնության հատուկ պահպանվող տարածքների պահպանությունն իրականացնող 4 ՊՈԱԿ-ներին ֆինանսական աջացության տրամադրում
C19: Միջոցառման տեսակը
C20: Տրանսֆերտների տրամադրում
C21: ՀՀ կառավարություն | D21: =D22 -> 0 | E21: =E22 -> 0
A22: 1139 | C22: Ծրագրի անվանումը | D22: =D29+D35 -> 0 | E22: =E29+E35 -> 0
C23: ՀՀ կառավարության պահուստային ֆոնդ
C24: Ծրագրի նպատակը
C25: Պետական բյուջեում չկանխատեսված, ինչպես նաև բյուջետային երաշխիքների ապահովման ծախսերի ֆինանսավորման ապահովում
C26: Վերջնական արդյունքի նկարագրությունը
C27: Պահուստային ֆոնդի կառավարման արդյունավետություն և թափանցիկություն
C28: Ծրագրի միջոցառումներ
B29: 11001 | C29: Միջոցառման անվանումը | D29: ='N 3'!C7 -> 270000 | E29: =D29 -> 270000
C30: ՀՀ կառավարության պահուստային ֆոնդ
C31: Միջոցառման նկարագրությունը
C32: ՀՀ պետական բյուջեում նախատեսված ելքերի լրացուցիչ ֆինանսավորման, պետական բյուջեում չկանխատեսված ելքերի, ինչպես նաև բյուջետային երաշխիքների ապահովման ելքերի ֆինանսավորման ապահովում
C33: Միջոցառման տեսակը
C34: Ծառայությունների մատուցում
B35: 11001 | C35: Միջոցառման անվանումը | D35: =-D29 -> -270000 | E35: =-E29 -> -270000
C36: ՀՀ կառավարության պահուստային ֆոնդ
C37: Միջոցառման նկարագրությունը
C38: ՀՀ պետական բյուջեում նախատեսված ելքերի լրացուցիչ ֆինանսավորման, պետական բյուջեում չկանխատեսված ելքերի, ինչպես նաև բյուջետային երաշխիքների ապահովման ելքերի ֆինանսավորման ապահովում
C39: Միջոցառման տեսակը
C40: Ծառայությունների մատուցում

Sheet N 5
F1: Հավելված 5 ՀՀ կառավարության 2020 թվականի____________ի N _____-Ն որոշման
A3: ՀԱՅԱՍՏԱՆԻ ՀԱՆՐԱՊԵՏՈՒԹՅԱՆ ԿԱՌԱՎԱՐՈՒԹՅԱՆ 2019 ԹՎԱԿԱՆԻ ԴԵԿՏԵՄԲԵՐԻ 26-Ի N 1919-Ն ՈՐՈՇՄԱՆ N3 ԵՎ N4 ՀԱՎԵԼՎԱԾՆԵՐՈՒՄ ԿԱՏԱՐՎՈՂ ՓՈՓՈԽՈՒԹՅՈՒՆՆԵՐԸ ԵՎ ԼՐԱՑՈՒՄՆԵՐԸ
G4: (հազար դրամներով)
A5: Բաժին | B5: Խումբ | C5: Դաս | D5: Ծրագրային դասիչը | F5: Բյուջետային հատկացումների գլխավոր կարգադրիչների, ծրագրերի, միջոցառումների և միջոցառումները կատարող պետական մարմինների անվանումները | G5: Ցուցանիշների փոփոխությունը (ծախսերի ավելացումները նշված են դրական նշանով, իսկ նվազեցումները` փակագծերում)
D6: Ծրագիր | E6: Միջոցառում | G6: Ինն ամիս | H6: Տարի
F7: ԸՆԴԱՄԵՆԸ այդ թվում` | G7: =G29+G42 -> 270000 | H7: =H29+H42 -> 270000
A8: 10 | F8: ՍՈՑԻԱԼԱԿԱՆ ՊԱՇՏՊԱՆՈՒԹՅՈՒՆ այդ թվում` | G8: =G9 -> 70000 | H8: =H9 -> 70000
B9: 09 | F9: Սոցիալական պաշտպանություն (այլ դասերին չպատկանող) այդ թվում` | G9: =G10 -> 70000 | H9: =H10 -> 70000
C10: 02 | F10: Սոցիալական պաշտպանությանը տրամադրվող օժանդակ ծառայություններ (այլ դասերին չպատկանող) այդ թվում` | G10: =G12 -> 70000 | H10: =H12 -> 70000
F11: ՀՀ աշխատանքի և սոցիալական հարցերի նախարարություն
D12: 1225 | F12: Ճգնաժամերի հակազդման և արտակարգ իրավիճակների հետևանքների նվազեցման և վերացման նպատակով՝ առանձին սոցիալական խմբերին տրվող սոցիալական աջակցություն այդ թվում` | G12: =G13+G21 -> 70000 | H12: =H13+H21 -> 70000
E13: 12002 | F13: Կորոնավիրուսի (COVID-19) հետևանքով ճգնաժամերի հակազդման և արտակարգ իրավիճակների հետևանքների նվազեցման և վերացման նպատակով՝ առանձին սոցիալական խմբերին տրվող սոցիալական աջակցություն | G13: =G15 -> -200000 | H13: =H15 -> -200000
F14: այդ թվում` ըստ կատարողների
F15: ՀՀ աշխատանքի և սոցիալական հարցերի նախարարության սոցիալական ապահովության ծառայություն | G15: =G17 -> -200000 | H15: =H17 -> -200000
F16: այդ թվում` բյուջետային ծախսերի տնտեսագիտական դասակարգման հոդվածներ
F17: ԸՆԴԱՄԵՆԸ ԾԱԽՍԵՐ | G17: =G18 -> -200000 | H17: =H18 -> -200000
F18: ԸՆԹԱՑԻԿ ԾԱԽՍԵՐ | G18: =G19 -> -200000 | H18: =H19 -> -200000
F19: ՍՈՑԻԱԼԱԿԱՆ ՆՊԱՍՏՆԵՐ ԵՎ ԿԵՆՍԱԹՈՇԱԿՆԵՐ | G19: =G20 -> -200000 | H19: =H20 -> -200000
F20: - Այլ նպաստներ բյուջեից | G20: =-200000 -> -200000 | H20: =-200000 -> -200000
E21: ='N 4'!#REF! -> #REF! | F21: Կորոնավիրուսի տնտեսական հետևանքների չեզոքացման տասնհինգերորդ միջոցառման շրջանակներում գետերի առափնյա հատվածներում ծառատնկում | G21: =G23 -> 270000 | H21: =H23 -> 270000
F22: այդ թվում` ըստ կատարողների
F23: ՀՀ շրջակա միջավայրի նախարարության անտառային կոմիտե | G23: =G25 -> 270000 | H23: =H25 -> 270000
F24: այդ թվում` բյուջետային ծախսերի տնտեսագիտական դասակարգման հոդվածներ
F25: ԸՆԹԱՑԻԿ ԾԱԽՍԵՐ | G25: =G26 -> 270000 | H25: =H26 -> 270000
F26: ԴՐԱՄԱՇՆՈՐՀՆԵՐ | G26: =G27 -> 270000 | H26: =H27 -> 270000
F27: Ընթացիկ դրամաշնորհներ պետական հատվածի այլ մակարդակներին | G27: =G28 -> 270000 | H27: =H28 -> 270000
F28: - Այլ ընթացիկ դրամաշնորհներ | G28: =-G62 -> 270000 | H28: =-H62 -> 270000
A29: 05 | F29: ՇՐՋԱԿԱ ՄԻՋԱՎԱՅՐԻ ՊԱՇՏՊԱՆՈՒԹՅՈՒՆ այդ թվում` | G29: =G30 -> 270000 | H29: =H30 -> 270000
B30: 04 | F30: Կենսաբազմազանության և բնության պաշտպանություն այդ թվում` | G30: =G31 -> 270000 | H30: =H31 -> 270000
C31: 01 | F31: Կենսաբազմազանության և բնության պաշտպանություն այդ թվում` | G31: =G32 -> 270000 | H31: =H32 -> 270000
F32: ՀՀ շրջակա միջավայրի նախարարություն այդ թվում` | G32: =G33 -> 270000 | H32: =H33 -> 270000
D33: 1155 | F33: Բնական պաշարների և բնության հատուկ պահպանվող տարածքների կառավարում և պահպանում այդ թվում` | G33: =G34 -> 270000 | H33: =H34 -> 270000
E34: 12003 | F34: Կորոնավիրուսի տնտեսական հետևանքների մեղմման ուղղված Կովկասի Բնության Հիմնադրամի կողմից արտակարգ դրամաշնորհի տրամադրում բնության հատուկ պահպանվող տարածքներին | G34: =G36 -> 270000 | H34: =H36 -> 270000
F35: այդ թվում` ըստ կատարողների
F36: ՀՀ շրջակա միջավայրի նախարարություն | G36: =G38 -> 270000 | H36: =H38 -> 270000
F37: այդ թվում` բյուջետային ծախսերի տնտեսագիտական դասակարգման հոդվածներ
F38: ԸՆԹԱՑԻԿ ԾԱԽՍԵՐ | G38: =G39 -> 270000 | H38: =H39 -> 270000
F39: ԴՐԱՄԱՇՆՈՐՀՆԵՐ | G39: =G40 -> 270000 | H39: =H40 -> 270000
F40: Ընթացիկ դրամաշնորհներ պետական հատվածի այլ մակարդակներին | G40: =G41 -> 270000 | H40: =H41 -> 270000
F41: - Ընթացիկ դրամաշնորհներ պետական և համայնքային ոչ առևտրային կազմակերպություններին | G41: ='N 4'!D15 -> 270000 | H41: =G41 -> 270000
A42: 11 | F42: ՀԻՄՆԱԿԱՆ ԲԱԺԻՆՆԵՐԻՆ ՉԴԱՍՎՈՂ ՊԱՀՈՒՍՏԱՅԻՆ ՖՈՆԴԵՐ այդ թվում` | G42: =G43 -> 0 | H42: =H43 -> 0
B43: 01 | F43: ՀՀ կառավարության և համայնքների պահուստային ֆոնդ այդ թվում` | G43: =G44 -> 0 | H43: =H44 -> 0
C44: 01 | F44: ՀՀ կառավարության պահուստային ֆոնդ այդ թվում` | G44: =G46 -> 0 | H44: =H46 -> 0
F45: ՀՀ կառավարություն
D46: 1139 | F46: ՀՀ կառավարության պահուստային ֆոնդ այդ թվում` | G46: =G47+G55 -> 0 | H46: =H47+H55 -> 0
E47: 11001 | F47: ՀՀ կառավարության պահուստային ֆոնդ | G47: =G49 -> 270000 | H47: =H49 -> 270000
F48: այդ թվում` ըստ կատարողների
F49: ՀՀ կառավարություն | G49: =G51 -> 270000 | H49: =H51 -> 270000
F50: այդ թվում` բյուջետային ծախսերի տնտեսագիտական դասակարգման հոդվածներ
F51: ԸՆԴԱՄԵՆԸ ԾԱԽՍԵՐ | G51: =G52 -> 270000 | H51: =H52 -> 270000
F52: ԸՆԹԱՑԻԿ ԾԱԽՍԵՐ | G52: =G53 -> 270000 | H52: =H53 -> 270000
F53: ԱՅԼ ԾԱԽՍԵՐ | G53: =G54 -> 270000 | H53: =H54 -> 270000
F54: -Պահուստային միջոցներ | G54: =-G55 -> 270000 | H54: =G54 -> 270000
E55: 11001 | F55: ՀՀ կառավարության պահուստային ֆոնդ | G55: =G57 -> -270000 | H55: =H57 -> -270000
F56: այդ թվում` ըստ կատարողների
F57: ՀՀ կառավարություն | G57: =G59 -> -270000 | H57: =H59 -> -270000
F58: այդ թվում` բյուջետային ծախսերի տնտեսագիտական դասակարգման հոդվածներ
F59: ԸՆԴԱՄԵՆԸ ԾԱԽՍԵՐ | G59: =G60 -> -270000 | H59: =H60 -> -270000
F60: ԸՆԹԱՑԻԿ ԾԱԽՍԵՐ | G60: =G61 -> -270000 | H60: =H61 -> -270000
F61: ԱՅԼ ԾԱԽՍԵՐ | G61: =G62 -> -270000 | H61: =H62 -> -270000
F62: -Պահուստային միջոցներ | G62: ='N 4'!D35 -> -270000 | H62: ='N 4'!E35 -> -270000

Sheet  N 6_9
B1: Հավելված 6 ՀՀ կառավարության 2020 թվականի____________ի N _____-Ն որոշման
A2: ՀԱՅԱՍՏԱՆԻ ՀԱՆՐԱՊԵՏՈՒԹՅԱՆ ԿԱՌԱՎԱՐՈՒԹՅԱՆ 2019 ԹՎԱԿԱՆԻ ԴԵԿՏԵՄԲԵՐԻ 26-Ի N 1919-Ն ՈՐՈՇՄԱՆ N 9 ՀԱՎԵԼՎԱԾԻ N 9.13 ԱՂՅՈՒՍԱԿՈՒՄ ԿԱՏԱՐՎՈՂ ՓՈՓՈԽՈՒԹՅՈՒՆՆԵՐԸ ԵՎ ԼՐԱՑՈՒՄՆԵՐԸ
A3: ՀՀ շրջակա միջավայրի նախարարություն
A5: ՄԱՍ 2. ՊԵՏԱԿԱՆ ՄԱՐՄՆԻ ԳԾՈՎ ԱՐԴՅՈՒՆՔԱՅԻՆ (ԿԱՏԱՐՈՂԱԿԱՆ) ՑՈՒՑԱՆԻՇՆԵՐԸ
A8: Ծրագրի դասիչը` | B8: 1155 | C8: Ցուցանիշների փոփոխությունը (ավելացումները նշված են դրական նշանով, նվազեցումները՝ փակագծերում)
A9: Միջոցառման դասիչը` | B9: 12003 | C9: Ինն ամիս | D9: Տարի
A10: Միջոցառման անվանումը` | B10: Կորոնավիրուսի տնտեսական հետևանքների մեղմման ուղղված Կովկասի Բնության Հիմնադրամի կողմից արտակարգ դրամաշնորհի տրամադրում բնության հատուկ պահպանվող տարածքներին
A11: Նկարագրությունը` | B11: ='N 4'!C18 -> Կորոնավիրուսի տնտեսական հետևանքների չեզոքացման շրջանակներում շրջակա միջավայրի նախարարության բնության հատուկ պահպանվող տարածքների պահպանությունն իրականացնող 4 ՊՈԱԿ-ներին ֆինանսական աջացության տրամադրում
A12: Միջոցառման տեսակը` | B12: Տրանսֆերտների տրամադրում
A13: Շահառուների ընտրության չափանիշները՝ | B13: Կովկասի Բնության Հիմնադրամի և ՀՀ կառավարության միջև արտակարգ դրամաշնորհի պայմանագիրին համապատասխան
A14: Արդյունքի չափորոշիչներ
A15: Աջակցություն ստացող բնության հատուկ պահպանվող տարածքների պահպանությունն իրականացնող ՊՈԱԿ-ների թիվ, հատ | C15: 4 | D15: 4
A16: Միջոցառման վրա կատարվող ծախսը (հազար դրամ) | C16: =C35 -> 270000 | D16: =D35 -> 270000
A18: ՀԱՅԱՍՏԱՆԻ ՀԱՆՐԱՊԵՏՈՒԹՅԱՆ ԿԱՌԱՎԱՐՈՒԹՅԱՆ 2019 ԹՎԱԿԱՆԻ ԴԵԿՏԵՄԲԵՐԻ 26-Ի N 1919-Ն ՈՐՈՇՄԱՆ N9 ՀԱՎԵԼՎԱԾԻ N 9.47 ԱՂՅՈՒՍԱԿՈՒՄ ԿԱՏԱՐՎՈՂ ՓՈՓՈԽՈՒԹՅՈՒՆՆԵՐԸ ԵՎ ԼՐԱՑՈՒՄՆԵՐԸ
A20: ՀՀ կառավարություն
A21: ՄԱՍ 2. ՊԵՏԱԿԱՆ ՄԱՐՄՆԻ ԳԾՈՎ ԱՐԴՅՈՒՆՔԱՅԻՆ (ԿԱՏԱՐՈՂԱԿԱՆ) ՑՈՒՑԱՆԻՇՆԵՐԸ
A23: Ծրագրի դասիչը | B23: Ծրագրի անվանումը
A24: 1139 | B24: ՀՀ կառավարության պահուստային ֆոնդ
A26: Ծրագրի միջոցառումները
A28: Ծրագրի դասիչը` | B28: 1139 | C28: Ցուցանիշների փոփոխությունը (ավելացումները նշված են դրական նշանով, նվազեցումները՝ փակագծերում)
A29: Միջոցառման դասիչը` | B29: 11001 | C29: Ինն ամիս | D29: Տարի
A30: Միջոցառման անվանումը` | B30: ՀՀ կառավարության պահուստային ֆոնդ
A31: Նկարագրությունը` | B31: ՀՀ պետական բյուջեում նախատեսված ելքերի լրացուցիչ ֆինանսավորման՝ պետական բյուջեում չկանխատեսված ելքերի՝ ինչպես նաև բյուջետային երաշխիքների ապահովման ելքերի ֆինանսավորման ապահովում
A32: Միջոցառման տեսակը` | B32: Ծառայությունների մատուցում
A33: Միջոցառումն իրականացնողի անվանումը | B33: ՀՀ կառավարություն
A34: Արդյունքի չափորոշիչներ
A35: Միջոցառման վրա կատարվող ծախսը (հազար դրամ) | C35: =-C43 -> 270000 | D35: =C35 -> 270000
A36: Ծրագրի դասիչը` | B36: 1139 | C36: Ցուցանիշների փոփոխությունը (ավելացումները նշված են դրական նշանով, նվազեցումները՝ փակագծերում)
A37: Միջոցառման դասիչը` | B37: 11001 | C37: Ինն ամիս | D37: Տարի
A38: Միջոցառման անվանումը` | B38: ՀՀ կառավարության պահուստային ֆոնդ
A39: Նկարագրությունը` | B39: ՀՀ պետական բյուջեում նախատեսված ելքերի լրացուցիչ ֆինանսավորման՝ պետական բյուջեում չկանխատեսված ելքերի՝ ինչպես նաև բյուջետային երաշխիքների ապահովման ելքերի ֆինանսավորման ապահովում
A40: Միջոցառման տեսակը` | B40: Ծառայությունների մատուցում
A41: Միջոցառումն իրականացնողի անվանումը | B41: ՀՀ կառավարություն
A42: Արդյունքի չափորոշիչներ
A43: Միջոցառման վրա կատարվող ծախսը (հազար դրամ) | C43: ='N 5'!G62 -> -270000 | D43: ='N 5'!H62 -> -270000

Sheet  N 7_9.1
A1: Հավելված 7 ՀՀ կառավարության 2020 թվականի____________ի N _____-Ն որոշման
A3: ՀԱՅԱՍՏԱՆԻ ՀԱՆՐԱՊԵՏՈՒԹՅԱՆ ԿԱՌԱՎԱՐՈՒԹՅԱՆ 2019 ԹՎԱԿԱՆԻ ԴԵԿՏԵՄԲԵՐԻ 26-Ի N 1919-Ն ՈՐՈՇՄԱՆ N 9.1 ՀԱՎԵԼՎԱԾԻ N 9.1.13 ԱՂՅՈՒՍԱԿՈՒՄ ԿԱՏԱՐՎՈՂ ՓՈՓՈԽՈՒԹՅՈՒՆՆԵՐԸ ԵՎ ԼՐԱՑՈՒՄՆԵՐԸ
A4: ՀՀ շրջակա միջավայրի նախարարություն
A6: ՄԱՍ 1. ՊԵՏԱԿԱՆ ՄԱՐՄՆԻ ԳԾՈՎ ԱՐԴՅՈՒՆՔԱՅԻՆ (ԿԱՏԱՐՈՂԱԿԱՆ) ՑՈՒՑԱՆԻՇՆԵՐԸ
A8: Ծրագրի դասիչը | B8: Ծրագրի անվանումը
A9: 1155 | B9: Բնական պաշարների և բնության հատուկ պահպանվող տարածքների կառավարում և պահպանում
A12: Ծրագրի դասիչը` | B12: 1155 | C12: Ցուցանիշների փոփոխությունը (ավելացումները նշված են դրական նշանով, նվազեցումները՝ փակագծերում)
A13: Միջոցառման դասիչը` | B13: 12003 | C13: Ինն ամիս | D13: Տարի
A14: Միջոցառման անվանումը` | B14: =' N 6_9'!B10 -> Կորոնավիրուսի տնտեսական հետևանքների մեղմման ուղղված Կովկասի Բնության Հիմնադրամի կողմից արտակարգ դրամաշնորհի տրամադրում բնության հատուկ պահպանվող տարածքներին
A15: Նկարագրությունը` | B15: =' N 6_9'!B11 -> Կորոնավիրուսի տնտեսական հետևանքների չեզոքացման շրջանակներում շրջակա միջավայրի նախարարության բնության հատուկ պահպանվող տարածքների պահպանությունն իրականացնող 4 ՊՈԱԿ-ներին ֆինանսական աջացության տրամադրում
A16: Միջոցառման տեսակը` | B16: Տրանսֆերտների տրամադրում
A17: Շահառուների ընտրության չափանիշները՝ | B17: Կովկասի Բնության Հիմնադրամի և ՀՀ կառավարության միջև արտակարգ դրամաշնորհի պայմանագիրին համապատասխան
A18: Արդյունքի չափորոշիչներ
A19: Աջակցություն ստացող բնության հատուկ պահպանվող տարածքների պահպանությունն իրականացնող ՊՈԱԿ-ների թիվ, հատ | C19: 4 | D19: 4
A20: Միջոցառման վրա կատարվող ծախսը (հազար դրամ) | C20: =C39 -> 270000 | D20: =D39 -> 270000
A22: ՀԱՅԱՍՏԱՆԻ ՀԱՆՐԱՊԵՏՈՒԹՅԱՆ ԿԱՌԱՎԱՐՈՒԹՅԱՆ 2019 ԹՎԱԿԱՆԻ ԴԵԿՏԵՄԲԵՐԻ 26-Ի N 1919-Ն ՈՐՈՇՄԱՆ N 9.1 ՀԱՎԵԼՎԱԾԻ N 9.1.58 ԱՂՅՈՒՍԱԿՈՒՄ ԿԱՏԱՐՎՈՂ ՓՈՓՈԽՈՒԹՅՈՒՆՆԵՐԸ ԵՎ ԼՐԱՑՈՒՄՆԵՐԸ
A24: ՀՀ կառավարություն
A25: ՄԱՍ 1. ՊԵՏԱԿԱՆ ՄԱՐՄՆԻ ԳԾՈՎ ԱՐԴՅՈՒՆՔԱՅԻՆ (ԿԱՏԱՐՈՂԱԿԱՆ) ՑՈՒՑԱՆԻՇՆԵՐԸ
A27: Ծրագրի դասիչը | B27: Ծրագրի անվանումը
A28: 1139 | B28: ՀՀ կառավարության պահուստային ֆոնդ
A30: Ծրագրի միջոցառումները
A32: Ծրագրի դասիչը` | B32: 1139 | C32: Ցուցանիշների փոփոխությունը (ավելացումները նշված են դրական նշանով, նվազեցումները՝ փակագծերում)
A33: Միջոցառման դասիչը` | B33: 11001 | C33: Ինն ամիս | D33: Տարի
A34: Միջոցառման անվանումը` | B34: ՀՀ կառավարության պահուստային ֆոնդ
A35: Նկարագրությունը` | B35: ՀՀ պետական բյուջեում նախատեսված ելքերի լրացուցիչ ֆինանսավորման՝ պետական բյուջեում չկանխատեսված ելքերի՝ ինչպես նաև բյուջետային երաշխիքների ապահովման ելքերի ֆինանսավորման ապահովում
A36: Միջոցառման տեսակը` | B36: Ծառայությունների մատուցում
A37: Միջոցառումն իրականացնողի անվանումը | B37: ՀՀ կառավարություն
A38: Արդյունքի չափորոշիչներ
A39: Միջոցառման վրա կատարվող ծախսը (հազար դրամ) | C39: =' N 6_9'!C35 -> 270000 | D39: =' N 6_9'!D35 -> 270000
A40: Ծրագրի դասիչը` | B40: 1139 | C40: Ցուցանիշների փոփոխությունը (ավելացումները նշված են դրական նշանով, նվազեցումները՝ փակագծերում)
A41: Միջոցառման դասիչը` | B41: 11001 | C41: Ինն ամիս | D41: Տարի
A42: Միջոցառման անվանումը` | B42: ՀՀ կառավարության պահուստային ֆոնդ
A43: Նկարագրությունը` | B43: ՀՀ պետական բյուջեում նախատեսված ելքերի լրացուցիչ ֆինանսավորման՝ պետական բյուջեում չկանխատեսված ելքերի՝ ինչպես նաև բյուջետային երաշխիքների ապահովման ելքերի ֆինանսավորման ապահովում
A44: Միջոցառման տեսակը` | B44: Ծառայությունների մատուցում
A45: Միջոցառումն իրականացնողի անվանումը | B45: ՀՀ կառավարություն
A46: Արդյունքի չափորոշիչներ
A47: Միջոցառման վրա կատարվող ծախսը (հազար դրամ) | C47: =-C39 -> -270000 | D47: =-D39 -> -270000

Sheet N8 poak
G1: Հավելված 8 ՀՀ կառավարության 2020 թվականի____________ի N _____-Ն որոշման
B3: ՀԱՅԱՍՏԱՆԻ ՀԱՆՐԱՊԵՏՈՒԹՅԱՆ ԿԱՌԱՎԱՐՈՒԹՅԱՆ 2019 ԹՎԱԿԱՆԻ ԴԵԿՏԵՄԲԵՐԻ 26-Ի N 1919-Ն ՈՐՈՇՄԱՆ N 5 ՀԱՎԵԼՎԱԾԻ N 7 ԱՂՅՈՒՍԱԿՈՒՄ ԿԱՏԱՐՎՈՂ ՓՈՓՈԽՈՒԹՅՈՒՆՆԵՐԸ ԵՎ ԼՐԱՑՈՒՄՆԵՐԸ
H4: հազար դրամներով
B5: Ծրագրային դասիչ | D5: Բյուջետային հատկացումների գլխավոր կարգադրիչների, ծրագրերի, միջոցառումների, ծախսային ուղղությունների անվանումները | G5: Միջոցառումները կատարող պետական մարմինների և դրամաշնորհ ստացող տնտեսվարող սուբյեկտների անվանումները | H5: Տարի
B6: Ծրագիր | C6: Միջոցառում
B7: 1 | C7: 2 | D7: 3 | G7: 4 | H7: 5
B8: ՀՀ շրջակա միջավայրի նախարարություն | H8: =H9 -> 270000
B9: 1155 | C9: Բնական պաշարների և բնության հատուկ պահպանվող տարածքների կառավարում և պահպանում | H9: =H10 -> 270000
C10: 12003 | D10: =' N 7_9.1'!B14 -> Կորոնավիրուսի տնտեսական հետևանքների մեղմման ուղղված Կովկասի Բնության Հիմնադրամի կողմից արտակարգ դրամաշնորհի տրամադրում բնության հատուկ պահպանվող տարածքներին | G10: ՀՀ շրջակա միջավայրի նախարարություն | H10: =H11+H12+H13+H14 -> 270000 | I10: ='N 4'!#REF! -> #REF! | J10: Պայմանագրով հատկացված | K10: Ձեռնարկատիրական գործունեությունից
G11: «Դիլիջան» ազգային պարկ» ՊՈԱԿ | H11: =185*540 -> 99900 | I11: =H10-I10 -> #REF! | K11: =90392-57392 -> 33000 | L11: =J11-K11 -> -33000 | M11: =185*561 -> 103785 | O11: =J11+#REF! -> #REF! | P11: =J11-O11 -> #REF! | R11: 13393 | S11: =M11-P11 -> #REF!
G12: «Խոսրովի անտառ» պետական արգելոց ՊՈԱԿ | H12: =125*540 -> 67500 | I12: =H11-K11 -> 66900 | K12: 4000 | L12: =J12-K12 -> -4000 | M12: =125*561 -> 70125 | O12: =J12+#REF! -> #REF! | P12: =J12-O12 -> #REF! | R12: 66125 | S12: =M12-P12 -> #REF!
G13: «Արփի լիճ» ազգային պարկ» ՊՈԱԿ | H13: =55*540 -> 29700 | K13: 7110.2 | L13: =J13-K13 -> -7110.2 | M13: =55*561 -> 30855 | O13: =J13+#REF! -> #REF! | P13: =J13-O13 -> #REF! | R13: 23744.8 | S13: =M13-P13 -> #REF!
G14: «Զանգեզուր» կենսոլորտային համալիր» ՊՈԱԿ | H14: =135*540 -> 72900 | K14: 4000 | L14: =J14-K14 -> -4000 | M14: =135*561 -> 75735 | O14: =J14+#REF! -> #REF! | P14: =J14-O14 -> #REF! | R14: 71735 | S14: =M14-P14 -> #REF!
J15: =SUM(K11:K14) -> 48110.2
J16: =#REF!-J15 -> #REF!

Sheet N 9 դրամաշնորհ
F1: Հավելված 9 ՀՀ կառավարության 2020 թվականի____________ի N _____-Ն որոշման
A3: «ՀԱՅԱՍՏԱՆԻ ՀԱՆՐԱՊԵՏՈՒԹՅԱՆ 2020 ԹՎԱԿԱՆԻ ՊԵՏԱԿԱՆ ԲՅՈՒՋԵԻ ՄԱՍԻՆ» ՀԱՅԱՍՏԱՆԻ ՀԱՆՐԱՊԵՏՈՒԹՅԱՆ ՕՐԵՆՔԻ N 1 ՀԱՎԵԼՎԱԾԻ N 5 ԱՂՅՈՒՍԱԿՈՒՄ ԵՎ «ՀԱՅԱՍՏԱՆԻ ՀԱՆՐԱՊԵՏՈՒԹՅԱՆ 2020 ԹՎԱԿԱՆԻ ՊԵՏԱԿԱՆ ԲՅՈՒՋԵԻ ԿԱՏԱՐՈՒՄՆ ԱՊԱՀՈՎՈՂ ՄԻՋՈՑԱՌՈՒՄՆԵՐԻ ՄԱՍԻՆ» ՀԱՅԱՍՏԱՆԻ ՀԱՆՐԱՊԵՏՈՒԹՅԱՆ ԿԱՌԱՎԱՐՈՒԹՅԱՆ 2019 ԹՎԱԿԱՆԻ ԴԵԿՏԵՄԲԵՐԻ 26-Ի N 1919-Ն ՈՐՈՇՄԱՆ N 5 ՀԱՎԵԼՎԱԾԻ N 4 ԱՂՅՈՒՍԱԿՈՒՄ ԿԱՏԱՐՎՈՂ ՓՈՓՈԽՈՒԹՅՈՒՆՆԵՐԸ ԵՎ ԼՐԱՑՈՒՄՆԵՐԸ
H4: հազար դրամներով
A5: Ծրագրային դասիչը | C5: Բյուջետային հատկացումների գլխավոր կարգադրիչների, ծրագրերի, միջոցառումների և միջոցառումները կատարող պետական մարմինների անվանումները | D5: Ինն ամիս | G5: Տարի
A6: Ծրագիր | B6: Միջոց_x000D_ առում | D6: Ընդամենը | E6: այդ թվում | G6: Ընդամենը | H6: այդ թվում
E7: Դրամաշնոր_x000D_ հային միջոցներ | F7: Համաֆինանս ավորում | H7: Դրամաշնոր_x000D_ հային միջոցներ | I7: Համաֆինանս ավորում
C8: ԸՆԴԱՄԵՆԸ_x000D_ այդ թվում` | D8: =E8+F8 -> 270000 | E8: =E9 -> 270000 | F8: =F9 -> 0 | G8: 270000 | H8: 270000 | I8: 0
C9: - ԸՆԹԱՑԻԿ ԾԱԽՍԵՐ | D9: =E9+F9 -> 270000 | E9: =E362 -> 270000 | F9: =F362 -> 0 | G9: 270000 | H9: 270000 | I9: 0
C10: - ՈՉ ՖԻՆԱՆՍԱԿԱՆ ԱԿՏԻՎՆԵՐԻ ԳԾՈՎ ԾԱԽՍԵՐ | D10: =E10+F10 -> #REF! | E10: =E24+E72+E88+E94+E100+E150+E162+E174+E180+#REF!+E301+E354+E360+E134+E141+E195+E120+#REF!+#REF!+#REF!+E325 -> #REF! | F10: =F24+F72+F88+F94+F100+F150+F162+F174+F180+#REF!+F301+F354+F360+F134+F141+F195+F120+#REF!+#REF!+#REF!+F325 -> #REF! | G10: #REF! | H10: #REF! | I10: #REF!
C11: ՀՀ ՎԱՐՉԱՊԵՏԻ ԱՇԽԱՏԱԿԱԶՄ_x000D_ այդ թվում` | D11: =E11+F11 -> 1631511.7 | E11: =+E12+E26 -> 1358041.1 | F11: =+F12+F26 -> 273470.6 | G11: 1631511.7 | H11: 1358041.1 | I11: 273470.6
A12: 1018 | C12: Պետական հատվածի արդիականացման ծրագիր | D12: =E12+F12 -> 1394972.4 | E12: =E14+E20 -> 1157476.8 | F12: =F14+F20 -> 237495.6 | G12: 1394972.4 | H12: 1157476.8 | I12: 237495.6
C13: այդ թվում`
B14: 11002 | C14: Ռուսաստանի Դաշնության կողմից Հայաստանի Հանրապետությանն անհատույց ֆինանսական օգնության դրամաշնորհային ծրագրի շրջանակներում խորհրդատվական ծառայությունների ձեռքբերում | D14: =E14+F14 -> 29700 | E14: =E18 -> 24300 | F14: =F18 -> 5400 | G14: 29700 | H14: 24300 | I14: 5400
C15: այդ թվում` ըստ կատարողների
C16: ՀՀ ֆինանսների նախարարություն | D16: =E16+F16 -> 29700 | E16: =E14 -> 24300 | F16: =F14 -> 5400 | G16: 29700 | H16: 24300 | I16: 5400
C17: այդ թվում` բյուջետային ծախսերի տնտեսագիտական դասակարգման հոդվածներ
C18: ԸՆԹԱՑԻԿ ԾԱԽՍԵՐ | D18: =E18+F18 -> 29700 | E18: =E19 -> 24300 | F18: =F19 -> 5400 | G18: 29700 | H18: 24300 | I18: 5400
C19: - Այլ ծախսեր | D19: =E19+F19 -> 29700 | E19: 24300 | F19: 5400 | G19: 29700 | H19: 24300 | I19: 5400
B20: 32002 | C20: Ռուսաստանի Դաշնության կողմից Հայաստանի Հանրապետությանն անհատույց ֆինանսական օգնության դրամաշնորհային ծրագիր շրջանակներում ԿՖԿՏՀ ներդրում | D20: =E20+F20 -> 1365272.4 | E20: =E24 -> 1133176.8 | F20: =F24 -> 232095.6 | G20: 1365272.4 | H20: 1133176.8 | I20: 232095.6
C21: այդ թվում` ըստ կատարողների
C22: ՀՀ ֆինանսների նախարարություն | D22: =E22+F22 -> 1365272.4 | E22: =E20 -> 1133176.8 | F22: =F20 -> 232095.6 | G22: 1365272.4 | H22: 1133176.8 | I22: 232095.6
C23: այդ թվում` բյուջետային ծախսերի տնտեսագիտական դասակարգման հոդվածներ
C24: ՈՉ ՖԻՆԱՆՍԱԿԱՆ ԱԿՏԻՎՆԵՐԻ ԳԾՈՎ ԾԱԽՍԵՐ | D24: =D25 -> 1365272.4 | E24: =E25 -> 1133176.8 | F24: =F25 -> 232095.6 | G24: 1365272.4 | H24: 1133176.8 | I24: 232095.6
C25: -Այլ մեքենաներ և սարքավորումներ | D25: =E25+F25 -> 1365272.4 | E25: 1133176.8 | F25: 232095.6 | G25: 1365272.4 | H25: 1133176.8 | I25: 232095.6
A26: 1214 | C26: Արդյունահանող ճյուղերի զարգացման ծրագիր | D26: =D28+D35 -> 236539.3 | E26: =E28+E35 -> 200564.3 | F26: =F28+F35 -> 35975 | G26: 236539.3 | H26: 200564.3 | I26: 35975
C27: այդ թվում`
B28: 11001 | C28: Համաշխարհային բանկի աջակցությամբ իրականացվող «Հանքարդյունաբերական ոլորտի քաղաքականության ծրագիր» դրամաշնորհային ծրագիր | D28: =E28+F28 -> 121085.1 | E28: =E30 -> 105219 | F28: =F30 -> 15866.1 | G28: 121085.1 | H28: 105219 | I28: 15866.1
C29: այդ թվում` ըստ կատարողների
C30: ՀՀ վարչապետի աշխատակազմ | D30: =E30+F30 -> 121085.1 | E30: =E32 -> 105219 | F30: =F32 -> 15866.1 | G30: 121085.1 | H30: 105219 | I30: 15866.1
C31: այդ թվում` բյուջետային ծախսերի տնտեսագիտական դասակարգման հոդվածներ
C32: ԸՆԹԱՑԻԿ ԾԱԽՍԵՐ | D32: =E32+F32 -> 121085.1 | E32: =E33+E34 -> 105219 | F32: =F33+F34 -> 15866.1 | G32: 121085.1 | H32: 105219 | I32: 15866.1
C33: - Արտասահմանյան գործուղումների գծով ծախսեր | D33: =E33+F33 -> 3755.7 | E33: 3250 | F33: 505.7 | G33: 3755.7 | H33: 3250 | I33: 505.7
C34: - Այլ ծախսեր | D34: =E34+F34 -> 117329.4 | E34: 101969 | F34: 15360.4 | G34: 117329.4 | H34: 101969 | I34: 15360.4
B35: 11002 | C35: Համաշխարհային բանկի աջակցությամբ իրականացվող «Հայաստանի արդյունահանող ճյուղերի թափանցիկության նախաձեռնությանն աջակցություն» դրամաշնորհային ծրագիր | D35: =E35+F35 -> 115454.2 | E35: =E39 -> 95345.3 | F35: =F39 -> 20108.9 | G35: 115454.2 | H35: 95345.3 | I35: 20108.9
C36: այդ թվում` ըստ կատարողների
C37: ՀՀ վարչապետի աշխատակազմ | D37: =E37+F37 -> 115454.2 | E37: =E35 -> 95345.3 | F37: =F35 -> 20108.9 | G37: 115454.2 | H37: 95345.3 | I37: 20108.9
C38: այդ թվում` բյուջետային ծախսերի տնտեսագիտական դասակարգման հոդվածներ
C39: ԸՆԹԱՑԻԿ ԾԱԽՍԵՐ | D39: =E39+F39 -> 115454.2 | E39: =E40 -> 95345.3 | F39: =F40 -> 20108.9 | G39: 115454.2 | H39: 95345.3 | I39: 20108.9
C40: - Այլ ծախսեր | D40: =E40+F40 -> 115454.2 | E40: 95345.3 | F40: 20108.9 | G40: 115454.2 | H40: 95345.3 | I40: 20108.9
C41: ՀՀ ՏԱՐԱԾՔԱՅԻՆ ԿԱՌԱՎԱՐՄԱՆ ԵՎ ԵՆԹԱԿԱՌՈՒՑՎԱԾՔՆԵՐԻ ՆԱԽԱՐԱՐՈՒԹՅՈՒՆ_x000D_ այդ թվում` | D41: =+E41+F41 -> 15811775 | E41: =E42+E56+E76+E108+E122+E144+E183+E204 -> 13243255 | F41: =F42+F56+F76+F108+F122+F144+F183+F204 -> 2568520.3 | G41: 15811775 | H41: 13243255 | I41: 2568520.3
A42: 1004 | C42: Ոռոգման համակարգի առողջացում | D42: =+E42+F42 -> 984458.7 | E42: =E44+E50 -> 695528.2 | F42: =F44+F50 -> 288930.5 | G42: 984458.7 | H42: 695528.2 | I42: 288930.5
C43: այդ թվում`
B44: 11009 | C44: Գերմանիայի զարգացման վարկերի բանկի աջակցությամբ իրականացվող Ախուրյան գետի ջրային ռեսուրսների ինտեգրված կառավարման դրամաշնորհային ծրագիր | D44: =E44+F44 -> 113383.2 | E44: =E46 -> 94486.2 | F44: =F46 -> 18897 | G44: 113383.2 | H44: 94486.2 | I44: 18897
C45: այդ թվում` ըստ կատարողների
C46: ՀՀ տարածքային կառավարման և ենթակառուցվածքների նախարարության ջրային կոմիտե | D46: =E46+F46 -> 113383.2 | E46: =E48 -> 94486.2 | F46: =F48 -> 18897 | G46: 113383.2 | H46: 94486.2 | I46: 18897
C47: այդ թվում` բյուջետային ծախսերի տնտեսագիտական դասակարգման հոդվածներ
C48: ԸՆԹԱՑԻԿ ԾԱԽՍԵՐ | D48: =E48+F48 -> 113383.2 | E48: =E49 -> 94486.2 | F48: =F49 -> 18897 | G48: 113383.2 | H48: 94486.2 | I48: 18897
C49: - Այլ ծախսեր | D49: =E49+F49 -> 113383.2 | E49: 94486.2 | F49: 18897 | G49: 113383.2 | H49: 94486.2 | I49: 18897
B50: 11011 | C50: Զարգացման ֆրանսիական գործակալության աջակցությամբ իրականացվող ոռոգման ոլորտի ֆինանսական կայունության և ոռոգման կառավարման կարողությունների բարելավման դրամաշնորհային ծրագրի խորհրդատվություն և կառավարում | D50: =E50+F50 -> 871075.5 | E50: =E52 -> 601042 | F50: =F52 -> 270033.5 | G50: 871075.5 | H50: 601042 | I50: 270033.5
C51: այդ թվում` ըստ կատարողների
C52: ՀՀ տարածքային կառավարման և ենթակառուցվածքների նախարարության ջրային կոմիտե | D52: =E52+F52 -> 871075.5 | E52: =E54 -> 601042 | F52: =F54 -> 270033.5 | G52: 871075.5 | H52: 601042 | I52: 270033.5
C53: այդ թվում` բյուջետային ծախսերի տնտեսագիտական դասակարգման հոդվածներ
C54: ԸՆԹԱՑԻԿ ԾԱԽՍԵՐ | D54: =E54+F54 -> 871075.5 | E54: =E55 -> 601042 | F54: =F55 -> 270033.5 | G54: 871075.5 | H54: 601042 | I54: 270033.5
C55: - Այլ ծախսեր | D55: =E55+F55 -> 871075.5 | E55: 601042 | F55: 270033.5 | G55: 871075.5 | H55: 601042 | I55: 270033.5
A56: 1019 | C56: Սոցիալական ներդրումների և տեղական զարգացման ծրագիր | D56: =+E56+F56 -> 518401 | E56: =+E58+E68 -> 518401 | F56: =+F58+F68 -> 0 | G56: 518401 | H56: 518401 | I56: 0
C57: այդ թվում`
B58: 11002 | C58: ԱՄՆ Միջազգային զարգացման գործակալության աջակցությամբ իրականացվող Տեղական ինքնակառավարման բարեփոխումների դրամաշնորհային ծրագիր | D58: =E58+F58 -> 4368.3 | E58: =E60 -> 4368.3 | F58: =F60 -> 0 | G58: 4368.3 | H58: 4368.3 | I58: 0
C59: այդ թվում` ըստ կատարողների
C60: ՀՀ տարածքային կառավարման և ենթակառուցվածքների նախարարություն | D60: =E60+F60 -> 4368.3 | E60: =E62 -> 4368.3 | F60: =F62 -> 0 | G60: 4368.3 | H60: 4368.3 | I60: 0
C61: այդ թվում` բյուջետային ծախսերի տնտեսագիտական դասակարգման հոդվածներ
C62: ԸՆԹԱՑԻԿ ԾԱԽՍԵՐ | D62: =E62+F62 -> 4368.3 | E62: =E63+E64+E65+E66+E67 -> 4368.3 | F62: =F63+F64+F65+F66+F67 -> 0 | G62: 4368.3 | H62: 4368.3 | I62: 0
C63: - Վարչական ծառայություններ | D63: =E63+F63 -> 480 | E63: 480 | F63: 0 | G63: 480 | H63: 480 | I63: 0
C64: - Տեղեկատվական ծառայություններ | D64: =E64+F64 -> 200 | E64: 200 | F64: 0 | G64: 200 | H64: 200 | I64: 0
C65: - Գրասենյակային նյութեր և հագուստ | D65: =E65+F65 -> 400 | E65: 400 | F65: 0 | G65: 400 | H65: 400 | I65: 0
C66: - Տրանսպորտային նյութեր | D66: =E66+F66 -> 1788.3 | E66: 1788.3 | F66: 0 | G66: 1788.3 | H66: 1788.3 | I66: 0
C67: - Այլ ծախսեր | D67: =E67+F67 -> 1500 | E67: 1500 | F67: 0 | G67: 1500 | H67: 1500 | I67: 0
B68: 12003 | C68: ԱՄՆ ՄԶԳ աջակցությամբ իրականացվող Տեղական ինքնակառավարման բարեփոխումների_x000D_ դրամաշնորհային ծրագրի շրջանակներում ՀՀ խոշորացվող համայնքներում հանրային ծառայությունների բարելավում, ընդլայնում, միջհամայնքային ենթածրագրերի նախագծում, ընտրություն և իրականացում | D68: =E68+F68 -> 514032.7 | E68: =E72 -> 514032.7 | F68: =F72 -> 0 | G68: 514032.7 | H68: 514032.7 | I68: 0
C69: այդ թվում` ըստ կատարողների
C70: ՀՀ տարածքային կառավարման և ենթակառուցվածքների նախարարություն | D70: =E70+F70 -> 514032.7 | E70: =E68 -> 514032.7 | F70: =F68 -> 0 | G70: 514032.7 | H70: 514032.7 | I70: 0
C71: այդ թվում` բյուջետային ծախսերի տնտեսագիտական դասակարգման հոդվածներ
C72: ՈՉ ՖԻՆԱՆՍԱԿԱՆ ԱԿՏԻՎՆԵՐԻ ԳԾՈՎ ԾԱԽՍԵՐ | D72: =E72+F72 -> 514032.7 | E72: =E73+E74+E75 -> 514032.7 | F72: =F73+F74+F75 -> 0 | G72: 514032.7 | H72: 514032.7 | I72: 0
C73: - Շենքերի և շինությունների շինարարություն | D73: =E73+F73 -> 153181.9 | E73: 153181.9 | F73: 0 | G73: 153181.9 | H73: 153181.9 | I73: 0
C74: - Վարչական սարքավորումներ | D74: =E74+F74 -> 333236.1 | E74: 333236.1 | F74: 0 | G74: 333236.1 | H74: 333236.1 | I74: 0
C75: - Նախագծահետազոտական ծախսեր | D75: =E75+F75 -> 27614.7 | E75: 27614.7 | F75: 0 | G75: 27614.7 | H75: 27614.7 | I75: 0
A76: 1040 | C76: Կոշտ թափոնների կառավարում | D76: =D84+D78+D90+D96+D102 -> 3704182.1 | E76: =E84+E78+E90+E96+E102 -> 3300520.1 | F76: =F84+F78+F90+F96+F102 -> 403662 | G76: 3704182.1 | H76: 3300520.1 | I76: 403662
C77: այդ թվում`
B78: 12001 | C78: Վերակառուցման և զարգացման եվրոպական բանկի աջակցությամբ իրականացվող «Երևանի կոշտ թափոնների կառավարման» դրամաշնորհային ծրագիր | D78: =E78+F78 -> 265341 | E78: =E80 -> 187951 | F78: =F80 -> 77390 | G78: 265341 | H78: 187951 | I78: 77390
C79: այդ թվում` ըստ կատարողների
C80: ՀՀ տարածքային կառավարման և ենթակառուցվածքների նախարարություն | D80: =E80+F80 -> 265341 | E80: =E82 -> 187951 | F80: =F82 -> 77390 | G80: 265341 | H80: 187951 | I80: 77390
C81: այդ թվում` բյուջետային ծախսերի տնտեսագիտական դասակարգման հոդվածներ
C82: ԸՆԹԱՑԻԿ ԾԱԽՍԵՐ | D82: =D83 -> 265341 | E82: =E83 -> 187951 | F82: =F83 -> 77390 | G82: 265341 | H82: 187951 | I82: 77390
C83: - Այլ ծախսեր | D83: =E83+F83 -> 265341 | E83: 187951 | F83: 77390 | G83: 265341 | H83: 187951 | I83: 77390
B84: 32004 | C84: Վերակառուցման և զարգացման եվրոպական բանկի աջակցությամբ իրականացվող «Կոտայքի և_x000D_ Գեղարքունիքի մարզի կոշտ թափոնների կառավարման» դրամաշնորհային ծրագիր | D84: =E84+F84 -> 1958388.7 | E84: =E86 -> 1678858.7 | F84: =F86 -> 279530 | G84: 1958388.7 | H84: 1678858.7 | I84: 279530
C85: այդ թվում` ըստ կատարողների
C86: ՀՀ տարածքային կառավարման և ենթակառուցվածքների նախարարություն | D86: =E86+F86 -> 1958388.7 | E86: =E88 -> 1678858.7 | F86: =F88 -> 279530 | G86: 1958388.7 | H86: 1678858.7 | I86: 279530
C87: այդ թվում` բյուջետային ծախսերի տնտեսագիտական դասակարգման հոդվածներ
C88: ՈՉ ՖԻՆԱՆՍԱԿԱՆ ԱԿՏԻՎՆԵՐԻ ԳԾՈՎ ԾԱԽՍԵՐ | D88: =D89 -> 1958388.7 | E88: =E89 -> 1678858.7 | F88: =F89 -> 279530 | G88: 1958388.7 | H88: 1678858.7 | I88: 279530
C89: - Շենքերի և շինությունների շինարարություն | D89: =E89+F89 -> 1958388.7 | E89: 1678858.7 | F89: 279530 | G89: 1958388.7 | H89: 1678858.7 | I89: 279530
B90: 32006 | C90: Եվրոպական միության հարևանության ներդրումային գործիքի աջակցությամբ իրականացվող_x000D_ «Երևանի կոշտ թափոնների կառավարման» դրամաշնորհային ծրագիր | D90: =E90+F90 -> 960000 | E90: =E92 -> 960000 | F90: =F92 -> 0 | G90: 960000 | H90: 960000 | I90: 0
C91: այդ թվում` ըստ կատարողների
C92: ՀՀ տարածքային կառավարման և ենթակառուցվածքների նախարարություն | D92: =E92+F92 -> 960000 | E92: =E94 -> 960000 | F92: =F94 -> 0 | G92: 960000 | H92: 960000 | I92: 0
C93: այդ թվում` բյուջետային ծախսերի տնտեսագիտական դասակարգման հոդվածներ
C94: ՈՉ ՖԻՆԱՆՍԱԿԱՆ ԱԿՏԻՎՆԵՐԻ ԳԾՈՎ ԾԱԽՍԵՐ | D94: =D95 -> 960000 | E94: =E95 -> 960000 | F94: =F95 -> 0 | G94: 960000 | H94: 960000 | I94: 0
C95: - Շենքերի և շինությունների շինարարություն | D95: =E95+F95 -> 960000 | E95: 960000 | F95: 0 | G95: 960000 | H95: 960000 | I95: 0
B96: 32007 | C96: Արևելյան եվրոպայի էներգախնայողության և բնապահպանական գործընկերության ֆոնդի_x000D_ աջակցությամբ իրականացվող «Երևանի կոշտ թափոնների կառավարման» դրամաշնորհային ծրագիր | D96: =E96+F96 -> 240000 | E96: =E98 -> 240000 | F96: =F98 -> 0 | G96: 240000 | H96: 240000 | I96: 0
C97: այդ թվում` ըստ կատարողների
C98: ՀՀ տարածքային կառավարման և ենթակառուցվածքների նախարարություն | D98: =E98+F98 -> 240000 | E98: =E100 -> 240000 | F98: =F100 -> 0 | G98: 240000 | H98: 240000 | I98: 0
C99: այդ թվում` բյուջետային ծախսերի տնտեսագիտական դասակարգման հոդվածներ
C100: ՈՉ ՖԻՆԱՆՍԱԿԱՆ ԱԿՏԻՎՆԵՐԻ ԳԾՈՎ ԾԱԽՍԵՐ | D100: =D101 -> 240000 | E100: =E101 -> 240000 | F100: =F101 -> 0 | G100: 240000 | H100: 240000 | I100: 0
C101: - Շենքերի և շինությունների շինարարություն | D101: =E101+F101 -> 240000 | E101: 240000 | F101: 0 | G101: 240000 | H101: 240000 | I101: 0
...
