Workbook

Sheet օրենք
A1: Հավելված N 1
A2: ՀՀ կառավարության 2014 թվականի -ի N -Ն որոշման
A3: «ՀԱՅԱՍՏԱՆԻ ՀԱՆՐԱՊԵՏՈՒԹՅԱՆ 2014 ԹՎԱԿԱՆԻ ՊԵՏԱԿԱՆ ԲՅՈՒՋԵԻ ՄԱՍԻՆ» ՀԱՅԱՍՏԱՆԻ ՀԱՆՐԱՊԵՏՈՒԹՅԱՆ ՕՐԵՆՔԻ N 1 ՀԱՎԵԼՎԱԾՈՒՄ ԿԱՏԱՐՎՈՂ ՎԵՐԱԲԱՇԽՈՒՄԸ ԵՎ ՀԱՅԱՍՏԱՆԻ ՀԱՆՐԱՊԵՏՈՒԹՅԱՆ ԿԱՌԱՎԱՐՈՒԹՅԱՆ 2013 ԹՎԱԿԱՆԻ ԴԵԿՏԵՄԲԵՐԻ 19-Ի N 1414-Ն ՈՐՈՇՄԱՆ N 5 ՀԱՎԵԼՎԱԾՈՒՄ ԿԱՏԱՐՎՈՂ ՓՈՓՈԽՈՒԹՅՈՒՆՆԵՐԸ
A5: Բաժինը | B5: Խումբը | C5: Դասը | D5: Բյուջետային ծախսերի գործառական դասակարգման բաժինների, խմբերի և դասերի, տնտեսագիտական դասակարգման հոդվածների, ֆինանսավորվող ծրագրերի և դրանք իրականացնող մարմինների անվանումները | E5: Ցուցանիշների փոփոխությունը (ավելացումները նշված են դրական նշանով, իսկ նվազեցումները` փակագծերում)
E6: ինն ամիս | F6: տարի
D7: ԸՆԴԱՄԵՆԸ | E7: =SUM(E9,E50,E118) -> 0 | F7: =SUM(F9,F50,F118) -> 0
D8: այդ թվում՝
A9: 04 | D9: ՏՆՏԵՍԱԿԱՆ ՀԱՐԱԲԵՐՈՒԹՅՈՒՆՆԵՐ | E9: =E11 -> -77201.9 | F9: =F11 -> -77201.9
D10: այդ թվում՝
B11: 05 | D11: Տրանսպորտ | E11: =E13 -> -77201.9 | F11: =F13 -> -77201.9
D12: այդ թվում՝
C13: 01 | D13: Ճանապարհային տրանսպորտ | E13: =SUM(E15) -> -77201.9 | F13: =SUM(F15) -> -77201.9
D14: այդ թվում՝
D15: 01.Պետական նշանակության ավտոճանապարհների հիմնանորոգում | E15: =SUM(E17,E24,E27,E31,E34,E38,E42,E20) -> -77201.9 | F15: =SUM(F17,F24,F27,F31,F34,F38,F42,F20) -> -77201.9
D16: այդ թվում՝
D17: ՀՀ Արագածոտնի մարզպետարան | E17: =SUM(E19:E19) -> -3422.3 | F17: =SUM(F19:F19) -> -3422.3
D18: այդ թվում՝
D19: Շենքերի և շինությունների կապիտալ վերանորոգում | E19: =Կապիտալ!H14 -> -3422.3 | F19: =SUM(E19) -> -3422.3
D20: ՀՀ Արարատի մարզպետարան | E20: =SUM(E22:E23) -> -17173 | F20: =SUM(F22:F23) -> -17173
D21: այդ թվում՝
D22: Շենքերի և շինությունների կապիտալ վերանորոգում | E22: =SUM(Կապիտալ!H33) -> -13230 | F22: =SUM(E22) -> -13230
D23: Նախագծահետազոտական ծախսեր | E23: =SUM(Կապիտալ!I33) -> -3943 | F23: =SUM(E23) -> -3943
D24: ՀՀ Լոռու մարզպետարան | E24: =SUM(E26:E26) -> -9460 | F24: =SUM(F26:F26) -> -9460
D25: այդ թվում՝
D26: Շենքերի և շինությունների կապիտալ վերանորոգում | E26: =Կապիտալ!H118 -> -9460 | F26: =SUM(E26) -> -9460
D27: ՀՀ Կոտայքի մարզպետարան | E27: =SUM(E29:E30) -> 8541.4 | F27: =SUM(F29:F30) -> 8541.4
D28: այդ թվում՝
D29: Շենքերի և շինությունների կապիտալ վերանորոգում | E29: =Կապիտալ!H154 -> 7994 | F29: =SUM(E29) -> 7994
D30: Նախագծահետազոտական ծախսեր | E30: =Կապիտալ!$I154 -> 547.4 | F30: =Կապիտալ!$I154 -> 547.4
D31: ՀՀ Շիրակի մարզպետարան | E31: =SUM(E33:E33) -> -12218 | F31: =SUM(F33:F33) -> -12218
D32: այդ թվում՝
D33: Շենքերի և շինությունների կապիտալ վերանորոգում | E33: =Կապիտալ!H185 -> -12218 | F33: =SUM(E33) -> -12218
D34: ՀՀ Սյունիքի մարզպետարան | E34: =SUM(E36)+E37 -> -19031.2 | F34: =SUM(F36)+F37 -> -19031.2
D35: այդ թվում՝
D36: Շենքերի և շինությունների կապիտալ վերանորոգում | E36: =Կապիտալ!H232 -> -20031.2 | F36: =SUM(E36) -> -20031.2
D37: Նախագծահետազոտական ծախսեր | E37: =Կապիտալ!I232 -> 1000 | F37: =E37 -> 1000
D38: ՀՀ Վայոց Ձորի մարզպետարան | E38: =SUM(E40:E41) -> -2996.8 | F38: =SUM(F40:F41) -> -2996.8
D39: այդ թվում՝
D40: Շենքերի և շինությունների կապիտալ վերանորոգում | E40: =Կապիտալ!H259 -> -2882.8 | F40: =SUM(E40) -> -2882.8
D41: Նախագծահետազոտական ծախսեր | E41: =Կապիտալ!$I259 -> -114 | F41: =Կապիտալ!$I259 -> -114
...

Sheet Կապիտալ
A1: Հավելված N 2
A2: ՀՀ կառավարության 2014 թվականի -ի N -Ն որոշման
A3: «ՀԱՅԱՍՏԱՆԻ ՀԱՆՐԱՊԵՏՈՒԹՅԱՆ 2014 ԹՎԱԿԱՆԻ ՊԵՏԱԿԱՆ ԲՅՈՒՋԵԻ ՄԱՍԻՆ» ՀԱՅԱՍՏԱՆԻ ՀԱՆՐԱՊԵՏՈՒԹՅԱՆ ՕՐԵՆՔԻ N 1 ՀԱՎԵԼՎԱԾԻ N 13 ԱՂՅՈՒՍԱԿՈՒՄ ԿԱՏԱՐՎՈՂ ՎԵՐԱԲԱՇԽՈՒՄԸ
A6: Բյուջետային ծախսերի գործառական դասակարգման | D6: Ծրագրի N | E6: Ծրագրերի և կատարողների անվանումները | F6: Ցուցանիշների փոփոխությունը (ավելացումները նշված են դրական նշանով, իսկ նվազեցումները՝ փակագծերում)
F7: Ընդամենը` ոչ ֆինանսական ակտիվների գծով ծախսեր | G7: այդ թվում՝
A8: բաժին | B8: խումբ | C8: դաս | G8: շենքերի և շինությունների շինարարություն | H8: շենքերի և շինությունների կապիտալ վերանորոգում | I8: նախագծահետազոտական, գեոդեզիա-քարտեզագրական աշխատանքներ | J8: ոչ ֆինանսական ակտիվների գծով այլ ծախսեր
A9: 1 | B9: 2 | C9: 3 | D9: 4 | E9: 5 | F9: 6 | G9: 7 | H9: 8 | I9: 9 | J9: 10
E10: ԸՆԴԱՄԵՆԸ | F10: =SUM(G10:J10) -> -147376.2 | G10: =SUM(G12,G79,G110,G116,G152,G183,G230,G257,G269,G31) -> 74191 | H10: =SUM(H12,H79,H110,H116,H152,H183,H230,H257,H269,H31) -> -216728 | I10: =SUM(I12,I79,I110,I116,I152,I183,I230,I257,I269,I31) -> -4839.2 | J10: =SUM(J12,J79,J110,J116,J152,J183,J230,J257,J269) -> 0
E11: այդ թվում՝
E12: ՀՀ ԱՐԱԳԱԾՈՏՆԻ ՄԱՐԶՊԵՏԱՐԱՆ | F12: =SUM(G12:J12) -> -9662.7 | G12: =SUM(G14,G24) -> 0 | H12: =SUM(H14,H24) -> -9662.7 | I12: =SUM(I14,I24) -> 0 | J12: =SUM(J14,J24) -> 0
E13: այդ թվում՝
A14: 04 | B14: 05 | C14: 01 | D14: 01 | E14: Պետական նշանակության ավտոճանապարհների հիմնանորոգում | F14: =F16 -> -3422.3 | G14: 0 | H14: =H16 -> -3422.3 | I14: =SUM(I18) -> 0 | J14: 0
E15: այդ թվում՝
E16: 1. Ճանապարհների հիմնանորոգում | F16: =F18 -> -3422.3 | G16: =G18 -> 0 | H16: =H18 -> -3422.3 | I16: =I18 -> 0 | J16: =J18 -> 0
E17: որից՝
E18: 1.1 Համայնքային նշանակության ա/ճանապարհներ | F18: =SUM(G18:J18) -> -3422.3 | G18: 0 | H18: =SUM(H19:H23) -> -3422.3 | I18: =SUM(I19:I23) -> 0 | J18: 0
E19: Կարբի համայնքի ներհամայնքային ճանապարհի վերանորոգում | F19: =SUM(G19:J19) -> -906 | G19: 0 | H19: -906 | I19: 0 | J19: 0
E20: Կարմրաշեն համայնքի ներհամայնքային ճանապարհի վերանորոգում | F20: =SUM(G20:J20) -> -301.5 | G20: 0 | H20: -301.5 | I20: 0 | J20: 0
E21: Բյուրական համայնքի ներհամայնքային ճանապարհի վերանորոգում | F21: =SUM(G21:J21) -> -889.2 | G21: 0 | H21: -889.2 | I21: 0 | J21: 0
E22: Թալին համայնքի ներհամայնքային ճանապարհի վերանորոգում | F22: =SUM(G22:J22) -> -547.5 | G22: 0 | H22: -547.5 | I22: 0 | J22: 0
E23: Ուշի համայնքի ներհամայնքային ճանապարհի վերանորոգում | F23: =SUM(G23:J23) -> -778.1 | G23: 0 | H23: -778.1 | I23: 0 | J23: 0
A24: 09 | B24: 06 | C24: 01 | D24: 02 | E24: Կրթական օբյեկտների հիմնանորոգում | F24: =SUM(G24:J24) -> -6240.4 | G24: =SUM(G26:G30) -> 0 | H24: =SUM(H26:H30) -> -6240.4 | I24: =SUM(I26:I30) -> 0 | J24: =SUM(J26:J30) -> 0
E25: այդ թվում՝
E26: Եղնիկ համայնքի դպրոցի վերանորոգում և ամրացում | F26: =SUM(G26:J26) -> -2180 | G26: 0 | H26: -2180 | I26: 0 | J26: 0
E27: Վ.Բազմաբերդ համայնքի դպրոցի վերանորոգում | F27: =SUM(G27:J27) -> -1042 | G27: 0 | H27: -1042 | I27: 0 | J27: 0
E28: Դավթաշեն համայնքի դպրոցի վերանորոգում | F28: =SUM(G28:J28) -> -1643.4 | G28: 0 | H28: -1643.4 | I28: 0 | J28: 0
E29: Բազմաղբյուր համայնքի դպրոցի քամու հետևանքով քանդված տանիքի վերանորոգում | F29: =SUM(G29:J29) -> -148 | G29: 0 | H29: -148 | I29: 0 | J29: 0
E30: Ձորագլուխ համայնքի դպրոցի տանիքի վերանորոգում | F30: =SUM(G30:J30) -> -1227 | G30: 0 | H30: -1227 | I30: 0 | J30: 0
E31: ՀՀ ԱՐԱՐԱՏԻ ՄԱՐԶՊԵՏԱՐԱՆ | F31: =SUM(G31:J31) -> -1.8189894e-12 | G31: =G33+G56+G72 -> -3294 | H31: =H33+H56+H72 -> 9261.6 | I31: =I33+I56+I72 -> -5967.6 | J31: =SUM(J33,J56) -> 0
E32: այդ թվում՝
A33: 04 | B33: 05 | C33: 01 | D33: 01 | E33: Պետական նշանակության ավտոճանապարհների հիմնանորոգում | F33: =F35 -> -17173 | G33: 0 | H33: =H35 -> -13230 | I33: =I35 -> -3943 | J33: 0
E34: այդ թվում՝
E35: 1. Ճանապարհների հիմնանորոգում | F35: =SUM(G35:J35) -> -17173 | G35: =SUM(G37+G51) -> 0 | H35: =SUM(H37+H51) -> -13230 | I35: =SUM(I37+I51) -> -3943 | J35: =SUM(J37+J51) -> 0
E36: որից՝
E37: 1.1 Համայնքային նշանակության ա/ճանապարհներ | F37: =SUM(G37:J37) -> -12278 | G37: 0 | H37: =SUM(H39:H50) -> -9570 | I37: =SUM(I39:I50) -> -2708 | J37: 0
E38: այդ թվում՝
E39: Արմաշ համայնքի Մ. Նիկողոսյան փողոցի ասֆալտապատում | F39: =SUM(G39:J39) -> -1090 | G39: 0 | H39: -850 | I39: -240 | J39: 0
E40: Արարատ քաղաքային համայնքի Պուշկինի փողոցի ասֆալտապատում | F40: =SUM(G40:J40) -> -957 | G40: 0 | H40: -770 | I40: -187 | J40: 0
E41: Արարատ քաղաքային համայնքի Աբովյան 1 նրբանցքի ասֆալտապատում | F41: =SUM(G41:J41) -> -1411 | G41: 0 | H41: -1110 | I41: -301 | J41: 0
E42: Ավշար համայնքի տրանսպորտային հանգույցի ճանապարհների վերանորոգում | F42: =SUM(G42:J42) -> -1350 | G42: 0 | H42: -1050 | I42: -300 | J42: 0
...

Sheet Եռամսյակային
A1: Հավելված N 3
A2: ՀՀ կառավարության 2014 թվականի -ի N -Ն որոշման
A3: ՀԱՅԱՍՏԱՆԻ ՀԱՆՐԱՊԵՏՈՒԹՅԱՆ ԿԱՌԱՎԱՐՈՒԹՅԱՆ 2013 ԹՎԱԿԱՆԻ ԴԵԿՏԵՄԲԵՐԻ 19-Ի N 1414-Ն ՈՐՈՇՄԱՆ N 5 ՀԱՎԵԼՎԱԾԻ N 12 ԱՂՅՈՒՍԱԿՈՒՄ ԿԱՏԱՐՎՈՂ ՓՈՓՈԽՈՒԹՅՈՒՆՆԵՐԸ ԵՎ ԼՐԱՑՈՒՄՆԵՐԸ
A5: Բաժինը | B5: Խումբը | C5: Դասը | D5: Ծրագրի N | E5: Բյուջետային ծախսերի գործառական դասակարգման բաժինների, խմբերի և դասերի, տնտեսագիտական դասակարգման հոդվածների, ֆինանսավորվող ծրագրերի և դրանք իրականացնող մարմինների անվանումները | F5: Ցուցանիշների փոփոխությունը (ավելացումները նշված են դրական նշանով, իսկ նվազեցումները՝ փակագծերում)
F6: ինն ամիս | G6: տարի
A7: 1 | B7: 2 | C7: 3 | D7: 4 | E7: 5 | F7: 6 | G7: 7
E8: ԸՆԴԱՄԵՆԸ | F8: =SUM(F10,F77,F115,F151,F182,F229,F256,F267,F108,F29) -> -147376.2 | G8: =SUM(G10,G77,G115,G151,G182,G229,G256,G267,G108,G29) -> -147376.2
E9: այդ թվում՝
E10: ՀՀ ԱՐԱԳԱԾՈՏՆԻ ՄԱՐԶՊԵՏԱՐԱՆ | F10: =SUM(F12,F22) -> -9662.7 | G10: =SUM(G12,G22) -> -9662.7
E11: այդ թվում՝
A12: 04 | B12: 05 | C12: 01 | D12: 01 | E12: Պետական նշանակության ավտոճանապարհների հիմնանորոգում | F12: =SUM(F14) -> -3422.3 | G12: =SUM(G14) -> -3422.3
E13: այդ թվում՝
E14: 1. Ճանապարհների հիմնանորոգում | F14: =F16 -> -3422.3 | G14: =G16 -> -3422.3
E15: որից՝
E16: 1.1 Համայնքային նշանակության ա/ճանապարհներ | F16: =SUM(F17:F21) -> -3422.3 | G16: =SUM(G17:G21) -> -3422.3
E17: Կարբի համայնքի ներհամայնքային ճանապարհի վերանորոգում | F17: =Կապիտալ!F19 -> -906 | G17: =SUM(F17) -> -906
E18: Կարմրաշեն համայնքի ներհամայնքային ճանապարհի վերանորոգում | F18: =Կապիտալ!F20 -> -301.5 | G18: =SUM(F18) -> -301.5
E19: Բյուրական համայնքի ներհամայնքային ճանապարհի վերանորոգում | F19: =Կապիտալ!F21 -> -889.2 | G19: =SUM(F19) -> -889.2
E20: Թալին համայնքի ներհամայնքային ճանապարհի վերանորոգում | F20: =Կապիտալ!F22 -> -547.5 | G20: =SUM(F20) -> -547.5
E21: Ուշի համայնքի ներհամայնքային ճանապարհի վերանորոգում | F21: =Կապիտալ!F23 -> -778.1 | G21: =SUM(F21) -> -778.1
A22: 09 | B22: 06 | C22: 01 | D22: 02 | E22: Կրթական օբյեկտների հիմնանորոգում | F22: =SUM(F24:F28) -> -6240.4 | G22: =SUM(G24:G28) -> -6240.4
E23: այդ թվում՝
E24: Եղնիկ համայնքի դպրոցի վերանորոգում և ամրացում | F24: =Կապիտալ!F26 -> -2180 | G24: =SUM(F24) -> -2180
E25: Վ.Բազմաբերդ համայնքի դպրոցի վերանորոգում | F25: =Կապիտալ!F27 -> -1042 | G25: =SUM(F25) -> -1042
E26: Դավթաշեն համայնքի դպրոցի վերանորոգում | F26: =Կապիտալ!F28 -> -1643.4 | G26: =SUM(F26) -> -1643.4
E27: Բազմաղբյուր համայնքի դպրոցի քամու հետևանքով քանդված տանիքի վերանորոգում | F27: =Կապիտալ!F29 -> -148 | G27: =SUM(F27) -> -148
E28: Ձորագլուխ համայնքի դպրոցի տանիքի վերանորոգում | F28: =Կապիտալ!F30 -> -1227 | G28: =SUM(F28) -> -1227
E29: ՀՀ ԱՐԱՐԱՏԻ ՄԱՐԶՊԵՏԱՐԱՆ | F29: =SUM(F31,F54,F70) -> 0 | G29: =SUM(G31,G54,G70) -> 0
E30: այդ թվում՝
A31: 04 | B31: 05 | C31: 01 | D31: 01 | E31: Պետական նշանակության ավտոճանապարհների հիմնանորոգում | F31: =F33 -> -17173 | G31: =G33 -> -17173
E32: այդ թվում՝
E33: 1. Ճանապարհների հիմնանորոգում | F33: =SUM(G33:G33) -> -17173 | G33: =SUM(G35+G49) -> -17173
E34: որից՝
E35: 1.1 Համայնքային նշանակության ա/ճանապարհներ | F35: =SUM(F37:F48) -> -12278 | G35: =SUM(G37:G48) -> -12278
E36: այդ թվում՝
E37: Արմաշ համայնքի Մ. Նիկողոսյան փողոցի ասֆալտապատում | F37: =SUM(Կապիտալ!F39) -> -1090 | G37: =SUM(F37) -> -1090
E38: Արարատ քաղաքային համայնքի Պուշկինի փողոցի ասֆալտապատում | F38: =SUM(Կապիտալ!F40) -> -957 | G38: =SUM(F38) -> -957
E39: Արարատ քաղաքային համայնքի Աբովյան 1 նրբանցքի ասֆալտապատում | F39: =SUM(Կապիտալ!F41) -> -1411 | G39: =SUM(F39) -> -1411
E40: Ավշար համայնքի տրանսպորտային հանգույցի ճանապարհների վերանորոգում | F40: =SUM(Կապիտալ!F42) -> -1350 | G40: =SUM(F40) -> -1350
E41: Ոսկետափ համայնքի դպրոցի ճանապարհի /փ, Մաշտոց/ ասֆալտապատում | F41: =SUM(Կապիտալ!F43) -> -1090 | G41: =SUM(F41) -> -1090
...

Sheet Գնում
A1: Հավելված N 5
A2: ՀՀ կառավարության 2014 թվականի
A3: -ի N -Ն որոշման
A4: ՀԱՅԱՍՏԱՆԻ ՀԱՆՐԱՊԵՏՈՒԹՅԱՆ ԿԱՌԱՎԱՐՈՒԹՅԱՆ 2013 ԹՎԱԿԱՆԻ ԴԵԿՏԵՄԲԵՐԻ 19-Ի N 1414-Ն ՈՐՈՇՄԱՆ N 12 ՀԱՎԵԼՎԱԾՈՒՄ ԿԱՏԱՐՎՈՂ ԼՐԱՑՈՒՄՆԵՐԸ ԵՎ ՓՈՓՈԽՈՒԹՅՈՒՆՆԵՐԸ
A6: Կոդը | B6: Անվանումը | C6: Գնման ձևը | D6: Չափի միավորը | E6: Ցուցանիշների փոփոխությունը (ավելացումները նշված են դրական նշանով, իսկ նվազեցումները՝ փակագծերում)
E7: քանակը | F7: գումարը
F8: (հազ. դրամ)
A9: ՀՀ Արագածոտնի մարզպետարան | F9: =F10+F14+F18 -> -14630.1
A10: Բաժին N 04, Խումբ 05, Դաս 01 Ճանապարհային տրանսպորտ | F10: =F11 -> -3422.3
A11: 1. Պետական նշանակության ավտոճանապարհների հիմնանորոգում | F11: =F12 -> -3422.3
A12: ԱՇԽԱՏԱՆՔՆԵՐ | F12: =F13 -> -3422.3
A13: 45233142-1 | B13: ճանապարհների վերանորոգման աշխատանքներ | C13: ԲԸԱՀ | D13: դրամ | E13: 1 | F13: =SUM(Կապիտալ!H14) -> -3422.3
A14: Բաժին N 09, Խումբ 06, Դաս 01 Կրթությանը տրամադրվող օժանդակ ծառայություններ | F14: =F15 -> -6240.4
A15: 1. Կրթական օբյեկտների հիմնանորոգում | F15: =F16 -> -6240.4
A16: ԱՇԽԱՏԱՆՔՆԵՐ | F16: =F17 -> -6240.4
A17: 45453000-1 | B17: Հիմնական վերանորոգման և վերականգնողական աշխատանքներ | C17: ԲԸԱՀ | D17: դրամ | E17: 1 | F17: =SUM(Կապիտալ!H24) -> -6240.4
A18: Բաժին N 11, Խումբ 01, Դաս 01 ՀՀ կառավարության պահուստային ֆոնդ | F18: =F19+F21 -> -4967.4
A19: ԱՇԽԱՏԱՆՔՆԵՐ | F19: =SUM(F20:F20) -> 275.6
A20: 45453000-1 | B20: Հիմնական վերանորոգման և վերականգնողական աշխատանքներ | C20: ԲԸԱՀ | D20: դրամ | E20: 1 | F20: =SUM(Արագածոտն!D9) -> 275.6
A21: ԾԱՌԱՅՈՒԹՅՈՒՆՆԵՐ | F21: =F22 -> -5243
A22: 71242000-1 | B22: նախագծերի պատրաստում, ծախսերի գնահատում | C22: ԲԸԱՀ | D22: դրամ | E22: 1 | F22: =SUM(Արագածոտն!D18) -> -5243
A23: ՀՀ Արարատի մարզպետարան | F23: =F25+F30 -> 0
A24: Բաժին N 04, Խումբ 05, Դաս 01 Ճանապարհային տրանսպորտ | F24: =F25 -> -17173
A25: 1. Պետական նշանակության ավտոճանապարհների հիմնանորոգում | F25: =F26+F28 -> -17173
A26: ԱՇԽԱՏԱՆՔՆԵՐ | F26: =F27 -> -13230
A27: 45233142-1 | B27: ճանապարհների վերանորոգման աշխատանքներ | C27: ԲԸԱՀ | D27: դրամ | E27: 1 | F27: =SUM(Կապիտալ!H33) -> -13230
A28: ԾԱՌԱՅՈՒԹՅՈՒՆՆԵՐ | F28: =F29 -> -3943
A29: 71242000-1 | B29: նախագծերի պատրաստում, ծախսերի գնահատում | C29: ԲԸԱՀ | D29: դրամ | E29: 1 | F29: =SUM(Կապիտալ!I33) -> -3943
A30: Բաժին N 09, Խումբ 06, Դաս 01 Կրթությանը տրամադրվող օժանդակ ծառայություններ | F30: =SUM(F31,F36) -> 17173
A31: 1. Կրթական օբյեկտների հիմնանորոգում | F31: =F32+F34 -> 21454.8
A32: ԱՇԽԱՏԱՆՔՆԵՐ | F32: =F33 -> 22491.6
A33: 45453000-1 | B33: Հիմնական վերանորոգման և վերականգնողական աշխատանքներ | C33: ԲԸԱՀ | D33: դրամ | E33: 1 | F33: =SUM(Կապիտալ!H56) -> 22491.6
A34: ԾԱՌԱՅՈՒԹՅՈՒՆՆԵՐ | F34: =F35 -> -1036.8
A35: 71242000-1 | B35: նախագծերի պատրաստում, ծախսերի գնահատում | C35: ԲԸԱՀ | D35: դրամ | E35: 1 | F35: =SUM(Կապիտալ!I56) -> -1036.8
A36: 2. Կրթական օբյեկտների շինարարություն | F36: =F37+F39 -> -4281.8
A37: ԱՇԽԱՏԱՆՔՆԵՐ | F37: =F38 -> -3294
A38: 45223200-1 | B38: Ընդհանուր շինարարական աշխատանքներ | C38: ԲԸԱՀ | D38: դրամ | E38: 1 | F38: =SUM(Կապիտալ!G72) -> -3294
A39: ԾԱՌԱՅՈՒԹՅՈՒՆՆԵՐ | F39: =F40 -> -987.8
A40: 71242000-1 | B40: նախագծերի պատրաստում, ծախսերի գնահատում | C40: ԲԸԱՀ | D40: դրամ | E40: 1 | F40: =SUM(Կապիտալ!I72) -> -987.8
A41: ՀՀ Արմավիրի մարզպետարան | F41: =F42+F51 -> 5170
...

Sheet Արագածոտն
A1: Հավելված N 6
A2: ՀՀ կառավարության 2014 թվականի -ի N -Ն որոշման
A3: ՀԱՅԱՍՏԱՆԻ ՀԱՆՐԱՊԵՏՈՒԹՅԱՆ ԿԱՌԱՎԱՐՈՒԹՅԱՆ 2014 ԹՎԱԿԱՆԻ ՄԱՐՏԻ 19-Ի N 363-Ն ՈՐՈՇՄԱՆ N 7 ՀԱՎԵԼՎԱԾՈՒՄ ԿԱՏԱՐՎՈՂ ՓՈՓՈԽՈՒԹՅՈՒՆՆԵՐԸ ԵՎ ԼՐԱՑՈՒՄՆԵՐԸ
A4: հազար դրամներով
A5: Հ/Հ | B5: Բյուջետային ծախսերի տնտեսագիտական դասակարգման հոդվածների և աշխատանքների անվանումները | C5: Ցուցանիշների փոփոխությունը (ավելացումները նշված են դրական նշանով, իսկ նվազեցումները՝ փակագծերում)
C6: Ինն ամիս | D6: Տարի
B7: ԸՆԴԱՄԵՆԸ | C7: =SUM(C9,C14,C18,C19,C24) -> 9615.9 | D7: =SUM(D9,D14,D18,D19,D24) -> 9615.9
B8: այդ թվում՝
A9: 1 | B9: Շենքերի և շինությունների կապիտալ վերանորոգում | C9: =SUM(C11:C13) -> 275.6 | D9: =SUM(D11:D13) -> 275.6
B10: որից`
A11: 1.1 | B11: Աշնակ համայնքի կենցաղի տան վերանորոգում | C11: -1080 | D11: -1080
A12: 1.2 | B12: Ոսկեթաս համայնքի հանդիսությունների տան վերանորոգում | C12: -644.4 | D12: -644.4
A13: 1.3 | B13: Աշտարակ համայնքի Վ. Պետրոսյանի անվան դպրոցի սանհանգույցների վերանորոգում | C13: 2000 | D13: 2000
A14: 2 | B14: Այլ ընթացիկ դրամաշնորհներ | C14: =SUM(C16:C17) -> -3529.1 | D14: =SUM(D16:D17) -> -3529.1
B15: որից`
A16: 2.1 | B16: Արագածոտնի մարզի ցրտահարությունից տուժած համայնքների ոռոգման ջրի վարձի 50 տոկոսի չափով փոխհատուցման նպատակաով Արագածոտնի մարզի բնակիչներին պետական աջակցության ցուցաբերում | C16: -3351.3 | D16: -3351.3
A17: 2.2 | B17: Արագածոտնի մարզի ցրտահարությունից տուժած համայնքների հողի հարկի չափով փոխհատուցման նպատակաով Արագածոտնի մարզի բնակիչներին պետական աջակցության ցուցաբերում | C17: -177.8 | D17: -177.8
A18: 3 | B18: Նախագծահետազոտական ծախսեր | C18: -5243 | D18: -5243
A19: 4 | B19: Կապիտալ սուբվենցիաներ համայնքներին | C19: =SUM(C21:C23) -> 14583.3 | D19: =SUM(D21:D23) -> 14583.3
B20: որից`
A21: 4.1 | B21: «Համայնքների գյուղատնտեսական ռեսուրսների կառավարման և մրցունակության» ծրագրի շրջանակներում Ագարակավան համայնքի գյուղատնտեսական տեխնիկայի ձեռք բերման նպատակով Ագարակավան համայնքին աջակցության ցուցաբերում | C21: 6000 | D21: 6000
A22: 4.2 | B22: Օրգով համայնքի համայնքային կենտրոնի կառուցման նպատակով Օրգով համայնքին աջակցության ցուցաբերում | C22: 2583.3 | D22: 2583.3
A23: 4.3 | B23: Կարմրաշեն համայնքի հանդիսությունների տան վերանորոգման նպատակով Կարմրաշեն համայնքին աջակցության ցուցաբերում | C23: 6000 | D23: 6000
A24: 5 | B24: Այլ նպաստներ բյուջեից | C24: =SUM(C26) -> 3529.1 | D24: =SUM(D26) -> 3529.1
B25: որից`
A26: 5.1 | B26: Արագածոտնի մարզի կարկտահարությունից տուժած Արտենի, Արագածավան և Լուսակն համայնքների գյուղացիական տնտեսությունների հողի հարկի մասնակի փոխհատուցման նպատակով պետական աջակցության ցուցաբերում | C26: 3529.1 | D26: 3529.1

Sheet Արագածոտն ծր
A1: Հավելված N 4
A2: ՀՀ կառավարության 2014 թվականի
A3: -ի N -Ն որոշման
A4: Աղյուսակ N 1
A7: ՀԱՅԱՍՏԱՆԻ ՀԱՆՐԱՊԵՏՈՒԹՅԱՆ ԿԱՌԱՎԱՐՈՒԹՅԱՆ 2013 ԹՎԱԿԱՆԻ ԴԵԿՏԵՄԲԵՐԻ 19-Ի N 1414-Ն ՈՐՈՇՄԱՆ N 11 ՀԱՎԵԼՎԱԾԻ N 11.50 ԱՂՅՈՒՍԱԿՈՒՄ ԿԱՏԱՐՎՈՂ ՓՈՓՈԽՈՒԹՅՈՒՆՆԵՐԸ ԵՎ ԼՐԱՑՈՒՄՆԵՐԸ
A8: ՄԱՍ Գ: Նախարարի պատասխանատվության ներքո իրականացվող քաղաքականության միջոցառումների և ֆինանսական կառավարման արդյունքների ցուցանիշները
A10: 1.2. Տրանսֆերտներ
A11: Չափորոշիչներ | D11: Ցուցանիշների փոփոխությունը (ավելացումները նշված են դրական նշանով, իսկ նվազեցումները՝ փակագծերում)
D12: Ոչ ֆինանսական ցուցանիշներ | F12: Ֆինանսական ցուցանիշներ
D13: Ինն ամիս | E13: Տարի | F13: Ինն ամիս | G13: Տարի
A14: Ծրագրային դասիչը | C14: Անվանումը
C15: Աջակցություն ՀՀ Արագածոտնի մարզի համայնքներին
A16: 1047 | B16: ԾՏ45 | C16: Նկարագրություն՝
C17: Պետական անհատույց աջակցություն համայնքներին` ցրտահարությունից և կարկտահարությունից տուժած համայնքներին հողի հարկի ու ջրի վարձավճարների փոխհատուցման և գյուղատնտեսական տեխնիկայի ձեռք բերման նպատակով
A18: Շահառուների քանակը | C18: 1. Տրանսֆերտ ստացող ՏԻՄ-երի քանակը
A19: Գումարը (հազար դրամ) | D19: X | E19: X | F19: =SUM(Արագածոտն!C16:C17,Արագածոտն!C21,Արագածոտն!C26) -> 6000 | G19: =SUM(Արագածոտն!D16:D17,Արագածոտն!D21,Արագածոտն!D26) -> 6000
A20: Տրանսֆերտի վճարման հաճախականությունը
A21: Շահառուների ընտրության չափանիշները
A22: Համայնքի սոցիալական խնդիրների կարգավորման անհրաժեշտությունը
A23: Ծրագիրը (ծրագրերը), որի (որոնց) շրջանակներում իրականացվում է քաղաքականության միջոցառումը
A24: 1047 Աջակցություն համայնքային, միջհամայնքային, ոչ կառավարական, մասնավոր և այլ կազմակերպություններին և անհատներին
A25: Վերջնական արդյունքի նկարագրությունը
A26: Համայնքներում կյանքի ստանդարտների բարելավում
A28: 1.4. Ներդրումներ լիազոր կառավարման ներքո գտնվող պետական կազմակերպություններում
A30: Չափորոշիչներ | D30: Ցուցանիշների փոփոխությունը (ավելացումները նշված են դրական նշանով, իսկ նվազեցումները՝ փակագծերում)
D31: Ոչ ֆինանսական ցուցանիշներ | F31: Ֆինանսական ցուցանիշներ
D32: Առաջին կիսամյակ | E32: Տարի | F32: Առաջին կիսամյակ | G32: Տարի
A33: Ծրագրային դասիչը | C33: Անվանումը
C34: Ներդրումներ մշակութային օբյեկտներում
A35: 1168 | B35: ԵԿ04 | C35: Նկարագրություն՝
C36: Ներդրումներ՝ ՀՀ Արագածոտնի մարզի մշակութային շենքերի կապիտալ վերանորոգման նպատակով
A37: Ծախսերը (հազար դրամ) | D37: X | E37: X | F37: =SUM(Արագածոտն!C11:C12,Արագածոտն!C22:C23) -> 6858.9 | G37: =SUM(Արագածոտն!D11:D12,Արագածոտն!D22:D23) -> 6858.9
A38: Կազմակերպությունը, որտեղ կատարվում է ներդրումը`
A39: ՀՀ Արագածոտնի մարզի թվով 2 մշակութային օբյեկտ
A40: Ներդրման հիմնավորումը, մասնավորապես, ազդեցությունը կարողությունների վրա`
A41: Քանակական, որակական, ժամկետայնության և այլ չափորոշիչների փոփոխության վրա | C41: Ներդրումներն անհրաժեշտ է, որպեսզի դրանք ապահովեն ծառայությունների մատուցումը գործող չափորոշիչներին համապատասխան անհրաժեշտ ծավալով և որակով
A42: Ծախսային արդյունավետության բարելավման վրա
A43: Ծրագիրը (ծրագրերը), որի (որոնց) շրջանակներում իրականացվում է քաղաքականության միջոցառումը
A44: 1168 Արվեստի պահպանման և զարգացման ծրագիր
A45: Վերջնական արդյունքի նկարագրությունը
...

Sheet Արարատ
A1: Հավելված N 8
A2: ՀՀ կառավարության 2014 թվականի -ի N -Ն որոշման
A3: ՀԱՅԱՍՏԱՆԻ ՀԱՆՐԱՊԵՏՈՒԹՅԱՆ ԱՐԱՐԱՏԻ ՄԱՐԶՊԵՏԱՐԱՆԻՆ ՀԱՏԿԱՑՎԱԾ ԳՈՒՄԱՐՆԵՐԻ ԲԱՇԽՈՒՄԸ
A4: հազար դրամներով
A5: Հ/Հ | B5: Բյուջետային ծախսերի տնտեսագիտական դասակարգման հոդվածների և աշխատանքների անվանումները | C5: Ինն ամիս | D5: Տարի
B6: ԸՆԴԱՄԵՆԸ | C6: =C8+C12 -> 248000 | D6: =D8+D12 -> 248000
B7: այդ թվում՝
A8: 1 | B8: Այլ ընթացիկ դրամաշնորհներ | C8: =SUM(C10:C11) -> 218000 | D8: =SUM(D10:D11) -> 218000
B9: որից`
A10: 1.1 | B10: Արարատի մարզի ցրտահարությունից տուժած համայնքների ոռոգման ջրի վարձի 50 տոկոսի չափով փոխհատուցման նպատակաով Արարատի մարզի բնակիչներին պետական աջակցության ցուցաբերում | C10: 150000 | D10: 150000
A11: 1.2 | B11: Արարատի մարզի ցրտահարությունից տուժած համայնքների հողի հարկի չափով փոխհատուցման նպատակաով Արարատի մարզի բնակիչներին պետական աջակցության ցուցաբերում | C11: 68000 | D11: 68000
A12: 2 | B12: Նախագծահետազոտական ծախսեր | C12: 30000 | D12: 30000

Sheet Արարատ ծր
A1: Աղյուսակ N 2
A3: ՀԱՅԱՍՏԱՆԻ ՀԱՆՐԱՊԵՏՈՒԹՅԱՆ ԿԱՌԱՎԱՐՈՒԹՅԱՆ 2013 ԹՎԱԿԱՆԻ ԴԵԿՏԵՄԲԵՐԻ 19-Ի N 1414-Ն ՈՐՈՇՄԱՆ N 11 ՀԱՎԵԼՎԱԾԻ N 11.51 ԱՂՅՈՒՍԱԿՈՒՄ ԿԱՏԱՐՎՈՂՓՈՓՈԽՈՒԹՅՈՒՆՆԵՐԸ ԵՎ ԼՐԱՑՈՒՄՆԵՐԸ
A5: ՄԱՍ Գ: Նախարարի պատասխանատվության ներքո իրականացվող քաղաքականության միջոցառումների և ֆինանսական կառավարման արդյունքների ցուցանիշները
A7: 1.4. Ներդրումներ լիազոր կառավարման ներքո գտնվող պետական կազմակերպություններում
A9: Չափորոշիչներ | D9: Ցուցանիշների փոփոխությունը (ավելացումները նշված են դրական նշանով, իսկ նվազեցումները՝ փակագծերում)
D10: Ոչ ֆինանսական ցուցանիշներ | F10: Ֆինանսական ցուցանիշներ
D11: Ինն ամիս | E11: Տարի | F11: Ինն ամիս | G11: Տարի
A12: Ծրագրային դասիչը | C12: Անվանումը
C13: Կրթական օբյեկտների հիմնանորոգում
A14: 1146 | B14: ԵԿ15 | C14: Նկարագրություն՝
C15: Ներդրումներ ՀՀ Արարատի մարզպետի կառավարման լիազորությունների տակ գտնվող հանրակրթական դպրոցների շենքերի կապիտալ վերանորոգման նպատակով
A16: Ծախսերը (հազար դրամ) | D16: X | E16: X | F16: =SUM(Կապիտալ!H56,Կապիտալ!G72) -> 19197.6 | G16: =SUM(F16) -> 19197.6
A17: Կազմակերպությունը, որտեղ կատարվում է ներդրումը`
A18: ՀՀ Արարատի մարզպետի ենթակայության թվով 1 հանրակրթական դպրոց
A19: Ներդրման հիմնավորումը, մասնավորապես, ազդեցությունը կարողությունների վրա`
A20: Քանակական, որակական, ժամկետայնության և այլ չափորոշիչների փոփոխության վրա | C20: Հիմնանորոգումն անհրաժեշտ է, որպեսզի դրանք ապահովեն ծառայությունների մատուցումը գործող չափորոշիչներին համապատասխան անհրաժեշտ ծավալով և որակով
A21: Ծախսային արդյունավետության բարելավման վրա
A22: Ծրագիրը (ծրագրերը), որի (որոնց) շրջանակներում իրականացվում է քաղաքականության միջոցառումը
A23: 1146 Հանրակրթության ծրագիր
A24: Վերջնական արդյունքի նկարագրությունը
A25: Հանրակարթական մակարդակում սովորողների ընդգրկվածության, գրագիտության և համակողմանի զարգացման բարձր մակարդակի ապահովում
A26: 1.6. Հանրության կողմից օգտագործվող ոչ ֆինանսական ակտիվներ
A27: 1.6.1. Հանրության կողմից օգտագործվող ոչ ֆինանսական ակտիվներ
A28: Չափորոշիչներ | D28: Ցուցանիշների փոփոխությունը (ավելացումները նշված են դրական նշանով, իսկ նվազեցումները՝ փակագծերում)
D29: Ոչ ֆինանսական ցուցանիշներ | F29: Ֆինանսական ցուցանիշներ
D30: Ինն ամիս | E30: Տարի | F30: Ինն ամիս | G30: Տարի
A31: Ծրագրային դասիչը | C31: Անվանումը
C32: Նախագծային աշխատանքներ
A33: 1047 | B33: ԱՁ07 | C33: Նկարագրություն՝
C34: Շինարարության (հիմնանորոգման) համար անհրաժեշտ նախագծա-նախահաշվային փաստաթղթերի մշակման (լրամշակման) աշխատանքներ
A35: Քանակական | C35: Նախագծա-նախահաշվային փատաթղթերի քանակը, հատ | D35: 1 | E35: 1
A36: Որակական | C36: Համապատասխանություն ՀՀ քաղաքաշինական նորմատիվա-տեխնիկական փաստաթղթերին, տոկոս
A37: Տվյալ տարվա պետական բյուջեից ակտիվի ձեռք բերման, կառուցման կամ հիմնանորոգման վրա կատարվող ծախսերը (հազար դրամ) | F37: =SUM(Կապիտալ!I31) -> -5967.6 | G37: =SUM(F37) -> -5967.6
A38: Ակտիվի ընդհանուր արժեքը (հազար դրամ) | C38: =G37 -> -5967.6
A39: Տվյալ բյուջետային տարվան նախորդող բյուջետային տարիների ընթացքում ակտիվի վրա կատարված ծախսերը (հազար դրամ)
A40: Ծրագիրը (ծրագրերը), որի (որոնց) շրջանակներում իրականացվում է քաղաքականության միջոցառումը
A41: 1047 Աջակցություն համայնքային, միջհամայնքային, ոչ կառավարական, մասնավոր և այլ կազմակերպություններին և անհատներին
A42: Վերջնական արդյունքի նկարագրությունը
A43: Համայնքներում կյանքի ստանդարտների բարելավում
A44: Ծրագրային դասիչը | C44: Անվանումը
...

Sheet Արմավիր
A1: Հավելված N 7
A2: ՀՀ կառավարության 2014 թվականի -ի N -Ն որոշման
A3: ՀԱՅԱՍՏԱՆԻ ՀԱՆՐԱՊԵՏՈՒԹՅԱՆ ԿԱՌԱՎԱՐՈՒԹՅԱՆ 2014 ԹՎԱԿԱՆԻ ՄԱՐՏԻ 19-Ի N 363-Ն ՈՐՈՇՄԱՆ N 9 ՀԱՎԵԼՎԱԾՈՒՄ ԿԱՏԱՐՎՈՂ ՓՈՓՈԽՈՒԹՅՈՒՆՆԵՐԸ ԵՎ ԼՐԱՑՈՒՄՆԵՐԸ
A4: հազար դրամներով
A5: Հ/Հ | B5: Բյուջետային ծախսերի տնտեսագիտական դասակարգման հոդվածների և աշխատանքների անվանումները | C5: Ցուցանիշների փոփոխությունը (ավելացումները նշված են դրական նշանով, իսկ նվազեցումները՝ փակագծերում)
C6: Ինն ամիս | D6: Տարի
B7: ԸՆԴԱՄԵՆԸ | C7: =C9+C13+C17+C20 -> 0 | D7: =D9+D13+D17+D20 -> 0
B8: այդ թվում՝
A9: 1 | B9: Շենքերի և շինությունների շինարարություն | C9: =SUM(C11:C12) -> 2370 | D9: =SUM(D11:D12) -> 2370
B10: որից`
A11: 1.1 | B11: Մայիսյան համայնքում ոռոգման ջրի մեկ խորքային հորի հորատում | C11: 3070 | D11: 3070
A12: 1.2 | B12: Եղեգնուտ համայնքում ոռոգման ջրի մեկ խորքային հորի հորատում | C12: -700 | D12: -700
A13: 2 | B13: Այլ ընթացիկ դրամաշնորհներ | C13: =SUM(C15:C16) -> -10170 | D13: =SUM(D15:D16) -> -10170
B14: որից`
A15: 2.1 | B15: Արմավիրի մարզի ցրտահարությունից տուժած համայնքների ոռոգման ջրի վարձի 50 տոկոսի չափով փոխհատուցման նպատակաով Արմավիր մարզի բնակիչներին պետական աջակցության ցուցաբերում | C15: -920 | D15: -920
A16: 2.2 | B16: Արմավիր մարզի ցրտահարությունից տուժած համայնքների հողի հարկի չափով փոխհատուցման նպատակաով Արմավիր մարզի բնակիչներին պետական աջակցության ցուցաբերում | C16: -9250 | D16: -9250
A17: 4 | B17: Շենքերի և շինությունների կապիտալ վերանորոգում | C17: =SUM(C19:C19) -> 2800 | D17: =SUM(D19:D19) -> 2800
B18: որից`
A19: 4,1 | B19: Արմավիրի մարզպետարանի դահլիճի վերանորոգում | C19: 2800 | D19: 2800
A20: 5 | B20: Կապիտալ սուբվենցիաներ համայնքներին | C20: =SUM(C22:C22) -> 5000 | D20: =SUM(D22:D22) -> 5000
B21: որից`
A22: 5,1 | B22: Արմավիր համայնքում քամու հետևանքով վնասված բնակելի շենքերի տանիքների վերանորոգման աշխատանքներն ավարտին հասցնելու նպատակով Արմավիր քաղաքային համայնքին պետական աջակցության ցուցաբերում | C22: 5000 | D22: 5000

Sheet Արմավիր ծր
A1: Աղյուսակ N 3
A3: ՀԱՅԱՍՏԱՆԻ ՀԱՆՐԱՊԵՏՈՒԹՅԱՆ ԿԱՌԱՎԱՐՈՒԹՅԱՆ 2013 ԹՎԱԿԱՆԻ ԴԵԿՏԵՄԲԵՐԻ 19-Ի N 1414-Ն ՈՐՈՇՄԱՆ N 11 ՀԱՎԵԼՎԱԾԻ N 11.52 ԱՂՅՈՒՍԱԿՈՒՄ ԿԱՏԱՐՎՈՂ ՓՈՓՈԽՈՒԹՅՈՒՆՆԵՐԸ ԵՎ ԼՐԱՑՈՒՄՆԵՐԸ
A5: ՄԱՍ Գ: Նախարարի պատասխանատվության ներքո իրականացվող քաղաքականության միջոցառումների և ֆինանսական կառավարման արդյունքների ցուցանիշները
A7: 1.2. Տրանսֆերտներ
A9: Չափորոշիչներ | D9: Ցուցանիշների փոփոխությունը (ավելացումները նշված են դրական նշանով, իսկ նվազեցումները՝ փակագծերում)
D10: Ոչ ֆինանսական ցուցանիշներ | F10: Ֆինանսական ցուցանիշներ
D11: Ինն ամիս | E11: Տարի | F11: Ինն ամիս | G11: Տարի
A12: Ծրագրային դասիչը | C12: Անվանումը
C13: Աջակցություն ՀՀ Արմավիրի մարզի համայնքներին
A14: 1047 | B14: ԾՏ48 | C14: Նկարագրություն՝
C15: Պետական անհատույց աջակցություն համայնքներին` ցրտահարությունից տուժած համայնքներին հողի հարկի և ջրի վարձավճարների փոխհատուցման նպատակով
A16: Շահառուների քանակը | C16: 1. Տրանսֆերտ ստացող ՏԻՄ-երի քանակը
A17: Գումարը (հազար դրամ) | D17: X | E17: X | F17: =SUM(Արմավիր!C15:C16) -> -10170 | G17: =SUM(Արմավիր!D15:D16) -> -10170
A18: Տրանսֆերտի վճարման հաճախականությունը
A19: Շահառուների ընտրության չափանիշները
A20: Համայնքի սոցիալական խնդիրների կարգավորման անհրաժեշտությունը
A21: Ծրագիրը (ծրագրերը), որի (որոնց) շրջանակներում իրականացվում է քաղաքականության միջոցառումը
A22: 1047 Աջակցություն համայնքային, միջհամայնքային, ոչ կառավարական, մասնավոր և այլ կազմակերպություններին և անհատներին
A23: Վերջնական արդյունքի նկարագրությունը
A24: Համայնքներում կյանքի ստանդարտների բարելավում
A26: 1.4. Ներդրումներ լիազոր կառավարման ներքո գտնվող պետական կազմակերպություններում
A28: Չափորոշիչներ | D28: Ցուցանիշների փոփոխությունը (ավելացումները նշված են դրական նշանով, իսկ նվազեցումները՝ փակագծերում)
D29: Ոչ ֆինանսական ցուցանիշներ | F29: Ֆինանսական ցուցանիշներ
D30: Առաջին կիսամյակ | E30: Տարի | F30: Առաջին կիսամյակ | G30: Տարի
A31: Ծրագրային դասիչը | C31: Անվանումը
C32: Կրթական օբյեկտների հիմնանորոգում
A33: 1146 | B33: ԵԿ16 | C33: Նկարագրություն՝
C34: Ներդրումներ ՀՀ Արմավիրի մարզպետի կառավարման լիազորությունների տակ գտնվող հանրակրթական դպրոցների շենքերի կապիտալ վերանորոգման նպատակով
A35: Ծախսերը (հազար դրամ) | D35: X | E35: X | F35: =SUM(Կապիտալ!H90,Կապիտալ!G104) -> 3325 | G35: =SUM(F35) -> 3325
A37: ՀՀ Արմավիրի մարզպետի ենթակայության թվով 3 հանրակրթական դպրոցներ
A38: Ներդրման հիմնավորումը, մասնավորապես, ազդեցությունը կարողությունների վրա`
A39: Քանակական, որակական, ժամկետայնության և այլ չափորոշիչների փոփոխության վրա | C39: Հիմնանորոգումն անհրաժեշտ է, որպեսզի դրանք ապահովեն ծառայությունների մատուցումը գործող չափորոշիչներին համապատասխան անհրաժեշտ ծավալով և որակով
A40: Ծախսային արդյունավետության բարելավման վրա
A41: Ծրագիրը (ծրագրերը), որի (որոնց) շրջանակներում իրականացվում է քաղաքականության միջոցառումը
A42: 1146 Հանրակրթության ծրագիր
A43: Վերջնական արդյունքի նկարագրությունը
A44: Հանրակարթական մակարդակում սովորողների ընդգրկվածության, գրագիտության և համակողմանի զարգացման բարձր մակարդակի ապահովում
A46: 1.6. Հանրության կողմից օգտագործվող ոչ ֆինանսական ակտիվներ
A47: 1.6.1. Հանրության կողմից օգտագործվող ոչ ֆինանսական ակտիվներ
A48: Չափորոշիչներ | D48: Ցուցանիշների փոփոխությունը (ավելացումները նշված են դրական նշանով, իսկ նվազեցումները՝ փակագծերում)
...

Sheet Գեղարքունիք
A1: Հավելված N 8
A2: ՀՀ կառավարության 2014 թվականի -ի N -Ն որոշման
A3: ՀԱՅԱՍՏԱՆԻ ՀԱՆՐԱՊԵՏՈՒԹՅԱՆ ԿԱՌԱՎԱՐՈՒԹՅԱՆ 2014 ԹՎԱԿԱՆԻ ՄԱՐՏԻ 19-Ի N 363-Ն ՈՐՈՇՄԱՆ N 10 ՀԱՎԵԼՎԱԾՈՒՄ ԿԱՏԱՐՎՈՂ ԼՐԱՑՈՒՄԸ
A4: հազար դրամներով
A5: Հ/Հ | B5: Բյուջետային ծախսերի տնտեսագիտական դասակարգման հոդվածների և աշխատանքների անվանումները | C5: Ցուցանիշների փոփոխությունը (ավելացումները նշված են դրական նշանով, իսկ նվազեցումները՝ փակագծերում)
C6: Ինն ամիս | D6: Տարի
B7: ԸՆԴԱՄԵՆԸ | C7: =C9+C12 -> 41390.7 | D7: =D9+D12 -> 41400
B8: այդ թվում՝
A9: 1 | B9: Շենքերի և շինությունների շինարարություն | C9: =SUM(C11:C11) -> 41400 | D9: =SUM(D11:D11) -> 41400
B10: որից`
A11: 1.2 | B11: Գավառ համայնքի կենտրոնական հրապարակի վերակառուցում | C11: 41400 | D11: 41400
A12: 4 | B12: Հատուկ նպատակային այլ նյութեր | C12: =SUM(C14:C14) -> -9.3 | D12: =SUM(D14:D14) -> 0
B13: որից`
A14: 4.1 | B14: Վարդենիսի համայնքում քամու հետևանքով վնասված բնակելի տների բնակիչներին աջակցելու նպատակով գույքի ձեռքբերում | C14: -9.3 | D14: 0

Sheet Գեղարքունիք ծր
A1: Աղյուսակ N 4
A3: ՀԱՅԱՍՏԱՆԻ ՀԱՆՐԱՊԵՏՈՒԹՅԱՆ ԿԱՌԱՎԱՐՈՒԹՅԱՆ 2013 ԹՎԱԿԱՆԻ ԴԵԿՏԵՄԲԵՐԻ 19-Ի N 1414-Ն ՈՐՈՇՄԱՆ N 11 ՀԱՎԵԼՎԱԾԻ N 11.53 ԱՂՅՈՒՍԱԿՈՒՄ ԿԱՏԱՐՎՈՂ ՓՈՓՈԽՈՒԹՅՈՒՆՆԵՐԸ ԵՎ ԼՐԱՑՈՒՄԸ
A5: ՄԱՍ Գ: Նախարարի պատասխանատվության ներքո իրականացվող քաղաքականության միջոցառումների և ֆինանսական կառավարման արդյունքների ցուցանիշները
A7: 1.4. Ներդրումներ լիազոր կառավարման ներքո գտնվող պետական կազմակերպություններում
A9: Չափորոշիչներ | D9: Ցուցանիշների փոփոխությունը (ավելացումները նշված են դրական նշանով, իսկ նվազեցումները՝ փակագծերում)
D10: Ոչ ֆինանսական ցուցանիշներ | F10: Ֆինանսական ցուցանիշներ
D11: Ինն ամիս | E11: Տարի | F11: Ինն ամիս | G11: Տարի
A12: Ծրագրային դասիչը | C12: Անվանումը
C13: Կրթական օբյեկտների հիմնանորոգում
A14: 1146 | B14: ԵԿ10 | C14: Նկարագրություն՝
C15: Ներդրումներ ՀՀ Գեղարքունիքի մարզպետի կառավարման լիազորությունների տակ գտնվող հանրակրթական դպրոցների շենքերի կապիտալ վերանորոգման նպատակով
A16: Ծախսերը (հազար դրամ) | D16: X | E16: X | F16: =SUM(Կապիտալ!H111) -> -41400 | G16: =SUM(F16) -> -41400
A18: ՀՀ Գեղարքունիքի մարզպետի ենթակայության թվով (2) հանրակրթական դպրոցներ
A19: Ներդրման հիմնավորումը, մասնավորապես, ազդեցությունը կարողությունների վրա`
A20: Քանակական, որակական, ժամկետայնության և այլ չափորոշիչների փոփոխության վրա | C20: Հիմնանորոգումն անհրաժեշտ է, որպեսզի դրանք ապահովեն ծառայությունների մատուցումը գործող չափորոշիչներին համապատասխան անհրաժեշտ ծավալով և որակով
A21: Ծախսային արդյունավետության բարելավման վրա
A22: Ծրագիրը (ծրագրերը), որի (որոնց) շրջանակներում իրականացվում է քաղաքականության միջոցառումը
A23: 1146 Հանրակրթության ծրագիր
A24: Վերջնական արդյունքի նկարագրությունը
A25: Հանրակարթական մակարդակում սովորողների ընդգրկվածության, գրագիտության և համակողմանի զարգացման բարձր մակարդակի ապահովում
A28: 1.6. Հանրության կողմից օգտագործվող ոչ ֆինանսական ակտիվներ
A30: 1.6.1. Հանրության կողմից օգտագործվող ոչ ֆինանսական ակտիվներ
A32: Չափորոշիչներ | D32: Ցուցանիշների փոփոխությունը (ավելացումները նշված են դրական նշանով)
D33: Ոչ ֆինանսական ցուցանիշներ | F33: Ֆինանսական ցուցանիշներ
D34: Ինն ամիս | E34: Տարի | F34: Ինն ամիս | G34: Տարի
A35: Ծրագրային դասիչը | C35: Անվանումը
C36: Տեղական նշանակության ճանապարհների և կամուրջների հիմնանորոգում
C37: Նկարագրությունը
A38: 1049 | B38: ԱՁ14 | C38: Ավտոճանապարհների քայքայված ծածկի նորոգում, մաշված ծածկի փոխարինում
A39: Քանակական | C39: Հիմնանորոգվող ավտոճանապարհների մակերեսը, հազ ք/մ,
A40: Որակական
A41: Տվյալ տարվա ՀՀ պետական բյուջեից ակտիվի ձեռքբերման, կառուցման կամ հիմնանորոգման վրա կատարվող ծախսերը (հազ. դրամ) | F41: =SUM(Գեղարքունիք!C11) -> 41400 | G41: =SUM(F41) -> 41400
A42: Ակտիվի ընդհանուր արժեքը (հազ. դրամ) | C42: =G41 -> 41400
A43: Տվյալ բյուջետային տարվան նախորդող բյուջետային տարիների ընթացքում ակտիվի վրա կատարված ծախսերը (հազ. դրամ)
A44: Ծրագիրը (ծրագրերը), որի (որոնց) շրջանակներում իրականացվում է քաղաքականության միջոցառումը
A45: 1049. Ճանապարհային ցանցի բարելավման և անվտանգ երթևկության ապահովման ծառայություններ
A46: Վերջնական արդյունքի նկարագրությունը
A47: Ճանապարհներին վթարների և դժբախտ պատահարների նվազում, ուղևորափոխադրումների և բեռնափոխադրումների ժամանակի կրճատում, տրանսպորտային միջոցների շահագործման ժամկետի երկարացում և վերանորոգման ծախսերի կրճատում

Sheet Լոռի
A1: Հավելված N 9
A2: ՀՀ կառավարության 2014 թվականի -ի N -Ն որոշման
A3: ՀԱՅԱՍՏԱՆԻ ՀԱՆՐԱՊԵՏՈՒԹՅԱՆ ԿԱՌԱՎԱՐՈՒԹՅԱՆ 2014 ԹՎԱԿԱՆԻ ՄԱՐՏԻ 19-Ի N 363-Ն ՈՐՈՇՄԱՆ N 11 ՀԱՎԵԼՎԱԾՈՒՄ ԿԱՏԱՐՎՈՂ ԼՐԱՑՈՒՄՆԵՐԸ
A4: հազար դրամներով
A5: Հ/Հ | B5: Բյուջետային ծախսերի տնտեսագիտական դասակարգման հոդվածների և աշխատանքների անվանումները | C5: Ցուցանիշների փոփոխությունը (ավելացումները նշված են դրական նշանով)
C6: Ինն ամիս | D6: Տարի
B7: ԸՆԴԱՄԵՆԸ | C7: =C9+C12+C15 -> 15960 | D7: =D9+D12+D15 -> 15960
B8: այդ թվում՝
A9: 2 | B9: Կապիտալ սուբվենցիաներ համայնքներին | C9: =SUM(C11:C11) -> 2460 | D9: =SUM(D11:D11) -> 2460
B10: որից`
A11: 2.2 | B11: Ալավերդի համայնքի <<Թումանյանի աշխարհ>> տուրիզմի գրասենյակի վերանորոգման նպատակով Ալավերդի համայնքին աջակցության ցուցաբերում | C11: 2460 | D11: 2460
A12: 4 | B12: Այլ ընթացիկ դրամաշնորհներ | C12: =SUM(C14:C14) -> 2667 | D12: =SUM(D14:D14) -> 2667
B13: որից`
A14: 4.1 | B14: Լոռու մարզի կարկտահարությունից տուժած գյուղացիական տնտեսությունների համար դիզելային վառելիքի ձեռք բերում | C14: 2667 | D14: 2667
A15: 5 | B15: Այլ նպաստներ բյուջեից | C15: =SUM(C17) -> 10833 | D15: =SUM(D17) -> 10833
B16: որից`
A17: 5.1 | B17: Լոռու մարզի կարկտահարությունից տուժած գյուղացիական տնտեսություններին հողի հարկի մասնակի փոխհատուցման նպատակով պետական աջակցության ցուցաբերում | C17: 10833 | D17: 10833

Sheet Լոռի ծր
A1: Աղյուսակ N 5
A3: ՀԱՅԱՍՏԱՆԻ ՀԱՆՐԱՊԵՏՈՒԹՅԱՆ ԿԱՌԱՎԱՐՈՒԹՅԱՆ 2013 ԹՎԱԿԱՆԻ ԴԵԿՏԵՄԲԵՐԻ 19-Ի N 1414-Ն ՈՐՈՇՄԱՆ N 11 ՀԱՎԵԼՎԱԾԻ N 11.54 ԱՂՅՈՒՍԱԿՈՒՄ ԿԱՏԱՐՎՈՂ ՓՈՓՈԽՈՒԹՅՈՒՆՆԵՐԸ ԵՎ ԼՐԱՑՈՒՄՆԵՐԸ
A5: ՄԱՍ Գ: Նախարարի պատասխանատվության ներքո իրականացվող քաղաքականության միջոցառումների և ֆինանսական կառավարման արդյունքների ցուցանիշները
A6: 1.2. Տրանսֆերտներ
A8: Չափորոշիչներ | D8: Ցուցանիշների փոփոխությունը (ավելացումները նշված են դրական նշանով, իսկ նվազեցումները՝ փակագծերում)
D9: Ոչ ֆինանսական ցուցանիշներ | F9: Ֆինանսական ցուցանիշներ
D10: Ինն ամիս | E10: Տարի | F10: Ինն ամիս | G10: Տարի
A11: 1047 | B11: ԾՏ15 | C11: Անվանումը
C12: Աջակցություն ՀՀ Լոռու մարզի համայնքներին
C13: Նկարագրություն՝
C14: Պետական անհատույց աջակցություն համայնքներին` կարկտահարությունից տուժած համայնքներին հողի հարկի մասնակի փոխհատուցման և դիզելային վառելիքի ձեռք բերման նպատակով
A15: Շահառուների քանակը | C15: 1. Տրանսֆերտ ստացող ՏԻՄ-երի քանակը
A16: Գումարը (հազար դրամ) | D16: X | E16: X | F16: =SUM(Լոռի!C14,Լոռի!C17) -> 13500 | G16: =SUM(Լոռի!D14,Լոռի!D17) -> 13500
A17: Տրանսֆերտի վճարման հաճախականությունը
A18: Շահառուների ընտրության չափանիշները
A19: Համայնքներում գյուղատնտեսությամբ զբաղվելու անհրաժեշտությունը
A20: Ծրագիրը (ծրագրերը), որի (որոնց) շրջանակներում իրականացվում է քաղաքականության միջոցառումը
A21: 1047 Աջակցություն համայնքային, միջհամայնքային, ոչ կառավարական, մասնավոր և այլ կազմակերպություններին և անհատներին
A22: Վերջնական արդյունքի նկարագրությունը
A23: Համայնքներում կյանքի ստանդարտների բարելավում
A24: Ծրագրային դասիչը | C24: Անվանումը
C25: Աջակցություն ՀՀ Լոռու մարզի Ալավերդի համայնքին
A26: 1047 | B26: ԾՏ16 | C26: Նկարագրություն՝
C27: Պետական անհատույց աջակցություն՝ Ալավերդի համայնքի <<Թումանյանի աշխարհ>> տուրիզմի գրասենյակի վերանորոգման համար
A28: Շահառուների քանակը | C28: 1. Տրանսֆերտ ստացող ՏԻՄ-երի քանակը | D28: 1 | E28: 1
A29: Գումարը (հազար դրամ) | D29: X | E29: X | F29: =SUM(Լոռի!C11) -> 2460 | G29: =SUM(Լոռի!D11) -> 2460
A30: Տրանսֆերտի վճարման հաճախականությունը
A31: Շահառուների ընտրության չափանիշները
A32: Վարչական օբյեկտների հիմնանորոգման և կառուցման անհրաժեշտությունը
A33: Ծրագիրը (ծրագրերը), որի (որոնց) շրջանակներում իրականացվում է քաղաքականության միջոցառումը
A34: 1047 Աջակցություն համայնքային, միջհամայնքային, ոչ կառավարական, մասնավոր և այլ կազմակերպություններին և անհատներին
A35: Վերջնական արդյունքի նկարագրությունը
A36: Համայնքներում կյանքի ստանդարտների բարելավում
A37: 1.4. Ներդրումներ լիազոր կառավարման ներքո գտնվող պետական կազմակերպություններում
A39: Չափորոշիչներ | D39: Ցուցանիշների փոփոխությունը (ավելացումները նշված են դրական նշանով, իսկ նվազեցումները՝ փակագծերում)
D40: Ոչ ֆինանսական ցուցանիշներ | F40: Ֆինանսական ցուցանիշներ
D41: Առաջին կիսամյակ | E41: Տարի | F41: Առաջին կիսամյակ | G41: Տարի
A42: Ծրագրային դասիչը | C42: Անվանումը
C43: Կրթական օբյեկտների հիմնանորոգում
A44: 1146 | B44: ԵԿ18 | C44: Նկարագրություն՝
...

Sheet Կոտայք
A1: Հավելված N 10
A2: ՀՀ կառավարության 2014 թվականի -ի N -Ն որոշման
A3: ՀԱՅԱՍՏԱՆԻ ՀԱՆՐԱՊԵՏՈՒԹՅԱՆ ԿԱՌԱՎԱՐՈՒԹՅԱՆ 2014 ԹՎԱԿԱՆԻ ՄԱՐՏԻ 19-Ի N 363-Ն ՈՐՈՇՄԱՆ N 12 ՀԱՎԵԼՎԱԾՈՒՄ ԿԱՏԱՐՎՈՂՓՈՓՈԽՈՒԹՅՈՒՆՆԵՐԸ ԵՎ ԼՐԱՑՈՒՄԸ
A4: հազար դրամներով
A5: Հ/Հ | B5: Բյուջետային ծախսերի տնտեսագիտական դասակարգման հոդվածների և աշխատանքների անվանումները | C5: Ցուցանիշների փոփոխությունը (ավելացումները նշված են դրական նշանով, իսկ նվազեցումները՝ փակագծերում)
C6: Ինն ամիս | D6: Տարի
B7: ԸՆԴԱՄԵՆԸ | C7: =SUM(C9,C12,C15,C16,C19) -> -2352.8 | D7: =SUM(D9,D12,D15,D16,D19) -> -2352.8
B8: այդ թվում՝
A9: 1 | B9: Շենքերի և շինությունների շինարարություն | C9: =SUM(C11:C11) -> -5900 | D9: =SUM(D11:D11) -> -5900
B10: որից`
A11: 1.1 | B11: Եղվարդի տարածաշրջանում հակակարկտային կայանների կառուցում | C11: -5900 | D11: -5900
A12: 2 | B12: Այլ ընթացիկ դրամաշնորհներ | C12: =SUM(C14:C14) -> -948 | D12: =SUM(D14:D14) -> -948
B13: որից`
A14: 2,2 | B14: Կոտայքի մարզի ցրտահարությունից տուժած համայնքների հողի հարկի չափով փոխհատուցման նպատակով Կոտայքի մարզի բնակիչներին պետական աջակցության ցուցաբերում | C14: -948 | D14: -948
A15: 3 | B15: Նախագծահետազոտական ծախսեր | C15: -1620 | D15: -1620
A16: 4 | B16: Կապիտալ սուբվենցիաներ համայնքներին | C16: =SUM(C18) -> 5000 | D16: =SUM(D18) -> 5000
B17: որից`
A18: 4.1 | B18: Զովունի համայնքում քամու հետևանքով քանդված թիվ 125 բազմաբնակարան բնակելի շենքի տանիքի վերանորոգման նպատակով Զովունի համայնքին պետական աջակցության ցուցաբերում | C18: 5000 | D18: 5000
A19: 5 | B19: Այլ նպաստներ բյուջեից | C19: =SUM(C21) -> 1115.2 | D19: =SUM(D21) -> 1115.2
B20: որից`
A21: 5.1 | B21: Կոտայքի մարզի ցրտահարությունից տուժած համայնքների ոռոգման ջրի վարձի 50 տոկոսի չափով փոխհատուցման նպատակով Կոտայքի մարզի բնակիչներին պետական աջակցության ցուցաբերում | C21: 1115.2 | D21: 1115.2

Sheet Կոտայք ծր
A1: Աղյուսակ N 6
A3: ՀԱՅԱՍՏԱՆԻ ՀԱՆՐԱՊԵՏՈՒԹՅԱՆ ԿԱՌԱՎԱՐՈՒԹՅԱՆ 2013 ԹՎԱԿԱՆԻ ԴԵԿՏԵՄԲԵՐԻ 19-Ի N 1414-Ն ՈՐՈՇՄԱՆ N 11 ՀԱՎԵԼՎԱԾԻ N 11.55 ԱՂՅՈՒՍԱԿՈՒՄ ԿԱՏԱՐՎՈՂ ՓՈՓՈԽՈՒԹՅՈՒՆՆԵՐԸ ԵՎ ԼՐԱՑՈՒՄՆԵՐԸ
A6: ՄԱՍ Գ: Նախարարի պատասխանատվության ներքո իրականացվող քաղաքականության միջոցառումների և ֆինանսական կառավարման արդյունքների ցուցանիշները
A7: 1.2. Տրանսֆերտներ
A9: Չափորոշիչներ | D9: Ցուցանիշների փոփոխությունը (ավելացումները նշված են դրական նշանով, իսկ նվազեցումները՝ փակագծերում)
D10: Ոչ ֆինանսական ցուցանիշներ | F10: Ֆինանսական ցուցանիշներ
D11: Ինն ամիս | E11: Տարի | F11: Ինն ամիս | G11: Տարի
A12: Ծրագրային դասիչը | C12: Անվանումը
C13: Աջակցություն ՀՀ Կոտայքի մարզի համայնքներին
A14: 1047 | B14: ԾՏ49 | C14: Նկարագրություն՝
C15: Պետական անհատույց աջակցություն համայնքներին` ցրտահարությունից և փոթորկից տուժված համայնքներին հողի և ջրի վարձավճարների փոխհատուցման նպատակով
A16: Շահառուների քանակը | C16: 1. Տրանսֆերտ ստացող ՏԻՄ-երի քանակը
A17: Գումարը (հազար դրամ) | D17: X | E17: X | F17: =SUM(Կոտայք!C14:C14,Կոտայք!C21) -> 167.2 | G17: =SUM(Կոտայք!D14:D14,Կոտայք!D21) -> 167.2
A18: Տրանսֆերտի վճարման հաճախականությունը
A19: Շահառուների ընտրության չափանիշները
A20: Համայնքի սոցիալական խնդիրների կարգավորման անհրաժեշտությունը
A21: Ծրագիրը (ծրագրերը), որի (որոնց) շրջանակներում իրականացվում է քաղաքականության միջոցառումը
A22: 1047 Աջակցություն համայնքային, միջհամայնքային, ոչ կառավարական, մասնավոր և այլ կազմակերպություններին և անհատներին
A23: Վերջնական արդյունքի նկարագրությունը
A24: Համայնքներում կյանքի ստանդարտների բարելավում
A25: Ծրագրային դասիչը | C25: Անվանումը
C26: Աջակցություն ՀՀ Կոտայքի մարզի համայնքներին հակակարկտային կայանների կառուցման համար
A27: 1047 | B27: ԾՏ19 | C27: Նկարագրություն՝
C28: Պետական անհատույց աջակցություն ՀՀ Կոտայքի մարզի համայնքներին
A29: Շահառուների քանակը | C29: 1. Տրանսֆերտ ստացող ՏԻՄ-երի քանակը
A30: Գումարը (հազար դրամ) | D30: X | E30: X | F30: =SUM(Կոտայք!C11) -> -5900 | G30: =SUM(Կոտայք!D11) -> -5900
A31: Տրանսֆերտի վճարման հաճախականությունը
A32: Շահառուների ընտրության չափանիշները
A33: Համայնքներում գյուղատնտեսությամբ զբաղվելու անհրաժեշտությունը
A34: Ծրագիրը (ծրագրերը), որի (որոնց) շրջանակներում իրականացվում է քաղաքականության միջոցառումը
A35: 1047 Աջակցություն համայնքային, միջհամայնքային, ոչ կառավարական, մասնավոր և այլ կազմակերպություններին և անհատներին
A36: Վերջնական արդյունքի նկարագրությունը
A37: Համայնքներում գյուղատնտեսությամբ զբաղվելու պայմանների բարելավում
A40: 1.4. Ներդրումներ լիազոր կառավարման ներքո գտնվող պետական կազմակերպություններում
A42: Չափորոշիչներ | D42: Ցուցանիշների փոփոխությունը (ավելացումները նշված են դրական նշանով, իսկ նվազեցումները՝ փակագծերում)
D43: Ոչ ֆինանսական ցուցանիշներ | F43: Ֆինանսական ցուցանիշներ
D44: Առաջին կիսամյակ | E44: Տարի | F44: Առաջին կիսամյակ | G44: Տարի
A45: Ծրագրային դասիչը | C45: Անվանումը
C46: Կրթական օբյեկտների հիմնանորոգում
A47: 1146 | B47: ԵԿ12 | C47: Նկարագրություն՝
...

Sheet Շիրակ
A1: Հավելված N 11
A2: ՀՀ կառավարության 2014 թվականի -ի N -Ն որոշման
A3: ՀԱՅԱՍՏԱՆԻ ՀԱՆՐԱՊԵՏՈՒԹՅԱՆ ԿԱՌԱՎԱՐՈՒԹՅԱՆ 2014 ԹՎԱԿԱՆԻ ՄԱՐՏԻ 19-Ի N 363-Ն ՈՐՈՇՄԱՆ N 13 ՀԱՎԵԼՎԱԾՈՒՄ ԿԱՏԱՐՎՈՂ ԼՐԱՑՈՒՄՆԵՐԸ
A4: հազար դրամներով
A5: Հ/Հ | B5: Բյուջետային ծախսերի տնտեսագիտական դասակարգման հոդվածների և աշխատանքների անվանումները | C5: Ցուցանիշների փոփոխությունը (ավելացումները նշված են դրական նշանով)
C6: Ինն ամիս | D6: Տարի
B7: ԸՆԴԱՄԵՆԸ | C7: =SUM(C9,C25,C24) -> 55419 | D7: =SUM(D9,D25,D24) -> 55419
B8: այդ թվում՝
A9: 1 | B9: Կապիտալ սուբվենցիաներ համայնքներին | C9: =SUM(C11:C23) -> 45419 | D9: =SUM(D11:D23) -> 45419
B10: որից`
A11: 1,14 | B11: Շիրակի մարզի կարկտահարությունից տուժած Անուշավան համայնքի գյուղացիական տնտեսությունների կրած վնասներին մասնակի փոխհատուցման համար շինանյութի (տանիքի ազբոցեմենտյա թիթեղ, ապակի, տանիքի ցինկապատ թիթեղ, փայտանյութ) ձեռք բերման նպատակով Անուշավան համայնքին պետական աջակցության ցուցաբերում | C11: 1492 | D11: 1492
A12: 1,15 | B12: Շիրակի մարզի կարկտահարությունից տուժած Գեղանիստ համայնքի գյուղացիական տնտեսությունների կրած վնասներին մասնակի փոխհատուցման համար շինանյութի (տանիքի ազբոցեմենտյա թիթեղ, ապակի, տանիքի ցինկապատ թիթեղ, փայտանյութ) ձեռք բերման նպատակով Գեղանիստ համայնքին պետական աջակցության ցուցաբերում | C12: 5284 | D12: 5284
A13: 1,16 | B13: Շիրակի մարզի կարկտահարությունից տուժած Փանիկ համայնքի գյուղացիական տնտեսությունների կրած վնասներին մասնակի փոխհատուցման համար շինանյութի (տանիքի ազբոցեմենտյա թիթեղ, ապակի, տանիքի ցինկապատ թիթեղ, փայտանյութ) ձեռք բերման նպատակով Փանիկ համայնքին պետական աջակցության ցուցաբերում | C13: 4200 | D13: 4200
A14: 1,17 | B14: Շիրակի մարզի կարկտահարությունից տուժած Մեղրաշեն կհամայնքի գյուղացիական տնտեսությունների կրած վնասներին մասնակի փոխհատուցման համար շինանյութի (տանիքի ազբոցեմենտյա թիթեղ, ապակի, տանիքի ցինկապատ թիթեղ, փայտանյութ) ձեռք բերման նպատակով Մեղրաշեն համայնքին պետական աջակցության ցուցաբերում | C14: 3400 | D14: 3400
A15: 1,18 | B15: Շիրակի մարզի կարկտահարությունից տուժած Սպանդարյան կհամայնքի գյուղացիական տնտեսությունների կրած վնասներին մասնակի փոխհատուցման համար շինանյութի (տանիքի ազբոցեմենտյա թիթեղ, ապակի, տանիքի ցինկապատ թիթեղ, փայտանյութ) ձեռք բերման նպատակով Սպանդարյան համայնքին պետական աջակցության ցուցաբերում | C15: 3700 | D15: 3700
A16: 1,19 | B16: Շիրակի մարզի կարկտահարությունից տուժած Հովտաշեն համայնքի գյուղացիական տնտեսությունների կրած վնասներին մասնակի փոխհատուցման համար շինանյութի (տանիքի ազբոցեմենտյա թիթեղ, ապակի, տանիքի ցինկապատ թիթեղ, փայտանյութ) ձեռք բերման նպատակով Հովտաշեն համայնքին պետական աջակցության ցուցաբերում | C16: 2898 | D16: 2898
A17: 1,20 | B17: Շիրակի մարզի կարկտահարությունից տուժած Վարդաքար համայնքի գյուղացիական տնտեսությունների կրած վնասներին մասնակի փոխհատուցման համար շինանյութի (տանիքի ազբոցեմենտյա թիթեղ, ապակի, տանիքի ցինկապատ թիթեղ, փայտանյութ) ձեռք բերման նպատակով Վարդաքար համայնքին պետական աջակցության ցուցաբերում | C17: 1140 | D17: 1140
A18: 1,21 | B18: Շիրակի մարզի կարկտահարությունից տուժած Ախուրիկ մասնակի փոխհատուցման համար շինանյութի (տանիքի ազբոցեմենտյա թիթեղ, ապակի, տանիքի ցինկապատ թիթեղ, փայտանյութ) ձեռք բերման նպատակով Ախուրիկ համայնքին պետական աջակցության ցուցաբերում | C18: 9625 | D18: 9625
A19: 1,22 | B19: Շիրակի մարզի կարկտահարությունից տուժած Ոսկեհասկ մասնակի փոխհատուցման համար շինանյութի (տանիքի ազբոցեմենտյա թիթեղ, ապակի, տանիքի ցինկապատ թիթեղ, փայտանյութ) ձեռք բերման նպատակով Ոսկեհասկ համայնքին պետական աջակցության ցուցաբերում | C19: 6180 | D19: 6180
A20: 1,23 | B20: Զույգաղբյուր համայնքի կոյուղագծի վերանորոգում | C20: 2500 | D20: 2500
A21: 1,24 | B21: Աղին համայնքի կոյուղագծի վերանորոգում | C21: 2500 | D21: 2500
A22: 1,25 | B22: Ջաջուռավան համայնքի կոյուղագծի վերանորոգում | C22: 500 | D22: 500
A23: 1,26 | B23: Ջրափի համայնքի կոյուղագծի վերանորոգում | C23: 2000 | D23: 2000
A24: 2 | B24: Նախագծահետազոտական ծախսեր | C24: 350 | D24: 350
A25: 3 | B25: Շենքերի և շինությունների կապիտալ վերանորոգում | C25: =SUM(C27:C29) -> 9650 | D25: =SUM(D27:D29) -> 9650
B26: որից`
A27: 3,1 | B27: Վարդաքար համայնքի մշակույթի տան (ժամանակավոր գործող դպրոցի) տանիքի վերանորոգում | C27: 9650 | D27: 9650

Sheet Շիրակ ծր
A1: Աղյուսակ N 7
A3: ՀԱՅԱՍՏԱՆԻ ՀԱՆՐԱՊԵՏՈՒԹՅԱՆ ԿԱՌԱՎԱՐՈՒԹՅԱՆ 2013 ԹՎԱԿԱՆԻ ԴԵԿՏԵՄԲԵՐԻ 19-Ի N 1414-Ն ՈՐՈՇՄԱՆ N 11 ՀԱՎԵԼՎԱԾԻ N 11.56 ԱՂՅՈՒՍԱԿՈՒՄ ԿԱՏԱՐՎՈՂ ՓՈՓՈԽՈՒԹՅՈՒՆՆԵՐԸ ԵՎ ԼՐԱՑՈՒՄՆԵՐԸ
A4: ՄԱՍ Գ: Նախարարի պատասխանատվության ներքո իրականացվող քաղաքականության միջոցառումների և ֆինանսական կառավարման արդյունքների ցուցանիշները
A6: 1.2. Տրանսֆերտներ
A8: Չափորոշիչներ | D8: Ցուցանիշների փոփոխությունը (ավելացումները նշված են դրական նշանով, իսկ նվազեցումները՝ փակագծերում)
D9: Ոչ ֆինանսական ցուցանիշներ | F9: Ֆինանսական ցուցանիշներ
D10: Ինն ամիս | E10: Տարի | F10: Ինն ամիս | G10: Տարի
A11: Ծրագրային դասիչը | C11: Անվանումը
C12: Աջակցություն ՀՀ Շիրակի մարզի համայնքներին
A13: 1047 | B13: ԾՏ24 | C13: Նկարագրություն՝
C14: Պետական անհատույց աջակցություն համայնքներին` կարկտահարությունից տուժած համայնքների գյուղացիական տնտեսությունների կրած վնասների մասնակի փոխհատուցման համար
A15: Շահառուների քանակը | C15: 1. Տրանսֆերտ ստացող ՏԻՄ-երի քանակը | D15: 9 | E15: 9
A16: Գումարը (հազար դրամ) | D16: X | E16: X | F16: =SUM(Շիրակ!C11:C19) -> 37919 | G16: =SUM(Շիրակ!D11:D19) -> 37919
A17: Տրանսֆերտի վճարման հաճախականությունը
A18: Շահառուների ընտրության չափանիշները
A19: Համայնքի սոցիալական խնդիրների կարգավորման անհրաժեշտությունը
A20: Ծրագիրը (ծրագրերը), որի (որոնց) շրջանակներում իրականացվում է քաղաքականության միջոցառումը
A21: 1047 Աջակցություն համայնքային, միջհամայնքային, ոչ կառավարական, մասնավոր և այլ կազմակերպություններին և անհատներին
A22: Վերջնական արդյունքի նկարագրությունը
A23: Համայնքներում կյանքի ստանդարտների բարելավում
A24: 1.4. Ներդրումներ լիազոր կառավարման ներքո գտնվող պետական կազմակերպություններում
A26: Չափորոշիչներ | D26: Ցուցանիշների փոփոխությունը (ավելացումները նշված են դրական նշանով, իսկ նվազեցումները՝ փակագծերում)
D27: Ոչ ֆինանսական ցուցանիշներ | F27: Ֆինանսական ցուցանիշներ
D28: Ինն ամիս | E28: Տարի | F28: Ինն ամիս | G28: Տարի
A29: Ծրագրային դասիչը | C29: Անվանումը
C30: Կրթական օբյեկտների հիմնանորոգում
A31: 1146 | B31: ԵԿ05 | C31: Նկարագրություն՝
C32: Ներդրումներ ՀՀ Շիրակի մարզպետի կառավարման լիազորությունների տակ գտնվող հանրակրթական դպրոցների շենքերի կապիտալ վերանորոգման նպատակով
A33: Ծախսերը (հազար դրամ) | D33: X | E33: X | F33: =SUM(Կապիտալ!H202,Կապիտալ!G222) -> -43201 | G33: =SUM(F33) -> -43201
A34: Կազմակերպությունը, որտեղ կատարվում է ներդրումը`
A35: ՀՀ Շիրակի մարզպետի ենթակայության թվով (4) հանրակրթական դպրոցներ
A36: Ներդրման հիմնավորումը, մասնավորապես, ազդեցությունը կարողությունների վրա`
A37: Քանակական, որակական, ժամկետայնության և այլ չափորոշիչների փոփոխության վրա | C37: Հիմնանորոգումն անհրաժեշտ է, որպեսզի դրանք ապահովեն ծառայությունների մատուցումը գործող չափորոշիչներին համապատասխան անհրաժեշտ ծավալով և որակով
A38: Ծախսային արդյունավետության բարելավման վրա
A39: Ծրագիրը (ծրագրերը), որի (որոնց) շրջանակներում իրականացվում է քաղաքականության միջոցառումը
A40: 1146 Հանրակրթության ծրագիր
A41: Վերջնական արդյունքի նկարագրությունը
A42: Հանրակարթական մակարդակում սովորողների ընդգրկվածության, գրագիտության և համակողմանի զարգացման բարձր մակարդակի ապահովում
A43: Ծրագրային դասիչը | C43: Անվանումը
C44: Ներդրումներ մշակութային օբյեկտներում
...

Sheet Սյունիք 
A1: Հավելված N 12
A2: ՀՀ կառավարության 2014 թվականի -ի N -Ն որոշման
A3: ՀԱՅԱՍՏԱՆԻ ՀԱՆՐԱՊԵՏՈՒԹՅԱՆ ԿԱՌԱՎԱՐՈՒԹՅԱՆ 2014 ԹՎԱԿԱՆԻ ՄԱՐՏԻ 19-Ի N 363-Ն ՈՐՈՇՄԱՆ N 14 ՀԱՎԵԼՎԱԾՈՒՄ ԿԱՏԱՐՎՈՂ ԼՐԱՑՈՒՄՆԵՐԸ
A4: հազար դրամներով
A5: Հ/Հ | B5: Բյուջետային ծախսերի տնտեսագիտական դասակարգման հոդվածների և աշխատանքների անվանումները | C5: Ցուցանիշների փոփոխությունը (ավելացումները նշված են դրական նշանով)
C6: Ինն ամիս | D6: Տարի
B7: ԸՆԴԱՄԵՆԸ | C7: =C9+C12+C15+C18 -> 15000 | D7: =D9+D12+D15+D18 -> 15000
B8: այդ թվում՝
A9: 1 | B9: Այլ ընթացիկ դրամաշնորհներ | C9: =C11 -> 9500 | D9: =D11 -> 9500
B10: որից`
A11: 1,3 | B11: Մ17, Մ2-Կապան-Ծավ-Շվանիձոր միջպետական այլընտրանքային ավտոճանապարհի կառուցման ժամանակ իրացված անշարժ գույքի փոխհատուցում | C11: 9500 | D11: 9500
A12: 2 | B12: Գեոդեզիական-քարտեզագրական ծախսեր | C12: =C14 -> 3400 | D12: =D14 -> 3400
B13: որից`
A14: 2,1 | B14: Մ17, Մ2-Կապան-Ծավ-Շվանիձոր միջպետական այլընտրանքային ավտոճանապարհի կառուցման հետևանքով իրացված մի շարք քաղաքացիների անշարժ գույքի փոխհատուցման նպատակով Մ17, Մ2-Կապան-Ծավ-Շվանիձոր միջպետական այլընտրանքային ավտոճանապարհի քարտեզագրման աշխատանքների իրականացում | C14: 3400 | D14: 3400
A15: 3 | B15: Պարտադիր վճարներ | C15: =C17 -> 550 | D15: =D17 -> 550
B16: որից`
A17: 3,1 | B17: Մ17, Մ2-Կապան-Ծավ-Շվանիձոր միջպետական այլընտրանքային ավտոճանապարհի կառուցման հետևանքով մի շարք քաղաքացիների անշարժ գույքի իրացումից ծագող իրավունքների պետական գրանցման համար առաջացող ֆինանսական պարտավորությունների վճարում | C17: 550 | D17: 550
A18: 4 | B18: Մասնագիտական ծառայություններ | C18: =C20 -> 1550 | D18: =D20 -> 1550
B19: որից`
A20: 1,4 | B20: Մ17, Մ2-Կապան-Ծավ-Շվանիձոր միջպետական այլընտրանքային ավտոճանապարհի կառուցման հետևանքով իրացված մի շարք քաղաքացիների անշարժ գույքի փոխհատուցման նպատակով փոխհատուցման ենթակա անշարժ գույքի գնահատման և ՀՀ կառավարությանն առընթեր անշարժ գույքի կադաստրի պետական կոմիտեի և նոտարի կողմից մատուցվող ծառայությունների փոխհատուցում | C20: 1550 | D20: 1550

Sheet Սյունիք ծր
A1: Աղյուսակ N 8
A3: ՀԱՅԱՍՏԱՆԻ ՀԱՆՐԱՊԵՏՈՒԹՅԱՆ ԿԱՌԱՎԱՐՈՒԹՅԱՆ 2013 ԹՎԱԿԱՆԻ ԴԵԿՏԵՄԲԵՐԻ 19-Ի N 1414-Ն ՈՐՈՇՄԱՆ N 11 ՀԱՎԵԼՎԱԾԻ N 11.57 ԱՂՅՈՒՍԱԿՈՒՄ ԿԱՏԱՐՎՈՂ ԿԱՏԱՐՎՈՂ ՓՈՓՈԽՈՒԹՅՈՒՆՆԵՐԸ ԵՎ ԼՐԱՑՈՒՄՆԵՐԸ
A4: ՄԱՍ Գ: Նախարարի պատասխանատվության ներքո իրականացվող քաղաքականության միջոցառումների և ֆինանսական կառավարման արդյունքների ցուցանիշները
A6: 1.2. Տրանսֆերտներ
A8: Չափորոշիչներ | D8: Ցուցանիշների փոփոխությունը (ավելացումները նշված են դրական նշանով, իսկ նվազեցումները՝ փակագծերում)
D9: Ոչ ֆինանսական ցուցանիշներ | F9: Ֆինանսական ցուցանիշներ
D10: Ինն ամիս | E10: Տարի | F10: Ինն ամիս | G10: Տարի
A11: Ծրագրային դասիչը | C11: Անվանումը
C12: Աջակցություն ՀՀ Սյունիքի մարզի համայնքներին
A13: 1047 | B13: ԾՏ51 | C13: Նկարագրություն՝
C14: Պետական անհատույց աջակցություն համայնքներին` Մ17, Մ2-Կապան-Ծավ-Շվանիձոր միջպետական այլընտրանքային ավտոճանապարհի կառուցման ժամանակ իրացված անշարժ գույքի փոխհատուցման, քարտեզագրման աշխատանքների իրականացման, անշարժ գույքի իրացումից ծագող իրավունքների պետական գրանցման համար առաջացող ֆինանսական պարտավորությունների վճարման և մի շարք մատուցվող ծառայությունների փոխհատուցման նպատակով
A15: Շահառուների քանակը | C15: 1. Տրանսֆերտ ստացող ՏԻՄ-երի քանակը
A16: Գումարը (հազար դրամ) | D16: X | E16: X | F16: =SUM('Սյունիք '!C11,'Սյունիք '!C14,'Սյունիք '!C17,'Սյունիք '!C20) -> 15000 | G16: =SUM('Սյունիք '!D11,'Սյունիք '!D14,'Սյունիք '!D17,'Սյունիք '!D20) -> 15000
A17: Տրանսֆերտի վճարման հաճախականությունը
A18: Շահառուների ընտրության չափանիշները
A19: Համայնքի սոցիալական խնդիրների կարգավորման անհրաժեշտությունը
A20: Ծրագիրը (ծրագրերը), որի (որոնց) շրջանակներում իրականացվում է քաղաքականության միջոցառումը
A21: 1047 Աջակցություն համայնքային, միջհամայնքային, ոչ կառավարական, մասնավոր և այլ կազմակերպություններին և անհատներին
A22: Վերջնական արդյունքի նկարագրությունը
A23: Համայնքներում կյանքի ստանդարտների բարելավում
A24: 1.4. Ներդրումներ լիազոր կառավարման ներքո գտնվող պետական կազմակերպություններում
A26: Չափորոշիչներ | D26: Ցուցանիշների փոփոխությունը (ավելացումները նշված են դրական նշանով, իսկ նվազեցումները՝ փակագծերում)
D27: Ոչ ֆինանսական ցուցանիշներ | F27: Ֆինանսական ցուցանիշներ
D28: Ինն ամիս | E28: Տարի | F28: Ինն ամիս | G28: Տարի
A29: Ծրագրային դասիչը | C29: Անվանումը
C30: Կրթական օբյեկտների հիմնանորոգում
A31: 1146 | B31: ԵԿ03 | C31: Նկարագրություն՝
C32: Ներդրումներ ՀՀ Սյունիքի մարզպետի կառավարման լիազորությունների տակ գտնվող հանրակրթական դպրոցների շենքերի կապիտալ վերանորոգման նպատակով
A33: Ծախսերը (հազար դրամ) | D33: X | E33: X | F33: =SUM(Կապիտալ!H247) -> 3532.5 | G33: =SUM(F33) -> 3532.5
A34: Կազմակերպությունը, որտեղ կատարվում է ներդրումը`
A35: ՀՀ Սյունիքի մարզպետի ենթակայության թվով 1 հանրակրթական դպրոցներ
A36: Ներդրման հիմնավորումը, մասնավորապես, ազդեցությունը կարողությունների վրա`
A37: Քանակական, որակական, ժամկետայնության և այլ չափորոշիչների փոփոխության վրա | C37: Հիմնանորոգումն անհրաժեշտ է, որպեսզի դրանք ապահովեն ծառայությունների մատուցումը գործող չափորոշիչներին համապատասխան անհրաժեշտ ծավալով և որակով
A38: Ծախսային արդյունավետության բարելավման վրա
A39: Ծրագիրը (ծրագրերը), որի (որոնց) շրջանակներում իրականացվում է քաղաքականության միջոցառումը
A40: 1146 Հանրակրթության ծրագիր
A41: Վերջնական արդյունքի նկարագրությունը
A42: Հանրակարթական մակարդակում սովորողների ընդգրկվածության, գրագիտության և համակողմանի զարգացման բարձր մակարդակի ապահովում
A46: 1.6. Հանրության կողմից օգտագործվող ոչ ֆինանսական ակտիվներ
A48: 1.6.1. Հանրության կողմից օգտագործվող ոչ ֆինանսական ակտիվներ
...

Sheet Վայոց ձ
A1: Հավելված N 13
A2: ՀՀ կառավարության 2014 թվականի -ի N -Ն որոշման
A3: ՀԱՅԱՍՏԱՆԻ ՀԱՆՐԱՊԵՏՈՒԹՅԱՆ ԿԱՌԱՎԱՐՈՒԹՅԱՆ 2014 ԹՎԱԿԱՆԻ ՄԱՐՏԻ 19-Ի N 363-Ն ՈՐՈՇՄԱՆ N 15 ՀԱՎԵԼՎԱԾՈՒՄ ԿԱՏԱՐՎՈՂ ԼՐԱՑՈՒՄԸ
A4: հազար դրամներով
A5: Հ/Հ | B5: Բյուջետային ծախսերի տնտեսագիտական դասակարգման հոդվածների և աշխատանքների անվանումները | C5: Ցուցանիշների փոփոխությունը (ավելացումները նշված են դրական նշանով)
C6: Ինն ամիս | D6: Տարի
B7: ԸՆԴԱՄԵՆԸ | C7: =SUM(C9,C10,C13) -> 54451.8 | D7: =SUM(D9,D10,D13) -> 54451.8
B8: այդ թվում՝
A9: 2 | B9: Նախագծահետազոտական ծախսեր | C9: 810 | D9: 810
A10: 3 | B10: Այլ նպաստներ բյուջեից | C10: =C12 -> 4451.8 | D10: =D12 -> 4451.8
B11: որից`
A12: 3.1 | B12: Վայոց ձորի մարզի ցրտահարությունից տուժած համայնքների հողի հարկի չափով փոխհատուցման նպատակով Վայոց ձորի մարզի բնակիչներին պետական աջակցության ցուցաբերում | C12: 4451.8 | D12: 4451.8
A13: 4 | B13: Շենքերի և շինությունների շինարարություն | C13: =SUM(C15:C17) -> 49190 | D13: =SUM(D15:D17) -> 49190
B14: որից`
A15: 4.1 | B15: Խնձորուտ համայնքում ոռոգման ջրագծի կառուցում | C15: 23000 | D15: 23000
A16: 4.2 | B16: Զառիթափ համայնքում ոռոգման ջրագծի կառուցում | C16: 11640 | D16: 11640
A17: 4.3 | B17: Նոր Ազնվաբերդ համայնքում ոռոգման ջրագծի կառուցում | C17: 14550 | D17: 14550

Sheet Վայոց ձ ծր
A1: Աղյուսակ N 9
A3: ՀԱՅԱՍՏԱՆԻ ՀԱՆՐԱՊԵՏՈՒԹՅԱՆ ԿԱՌԱՎԱՐՈՒԹՅԱՆ 2013 ԹՎԱԿԱՆԻ ԴԵԿՏԵՄԲԵՐԻ 19-Ի N 1414-Ն ՈՐՈՇՄԱՆ N 11 ՀԱՎԵԼՎԱԾԻ N 11.58 ԱՂՅՈՒՍԱԿՈՒՄ ԿԱՏԱՐՎՈՂ ՓՈՓՈԽՈՒԹՅՈՒՆՆԵՐԸ ԵՎ ԼՐԱՑՈՒՄՆԵՐԸ
A4: ՄԱՍ Գ: Նախարարի պատասխանատվության ներքո իրականացվող քաղաքականության միջոցառումների և ֆինանսական կառավարման արդյունքների ցուցանիշները
A5: 1.2. Տրանսֆերտներ
A7: Չափորոշիչներ | D7: Ցուցանիշների փոփոխությունը (ավելացումները նշված են դրական նշանով, իսկ նվազեցումները՝ փակագծերում)
D8: Ոչ ֆինանսական ցուցանիշներ | F8: Ֆինանսական ցուցանիշներ
D9: Ինն ամիս | E9: Տարի | F9: Ինն ամիս | G9: Տարի
A10: Ծրագրային դասիչը | C10: Անվանումը
C11: Աջակցություն ՀՀ Վայոց ձորի մարզի համայնքներին
A12: 1047 | B12: ԾՏ45 | C12: Նկարագրություն՝
C13: Պետական անհատույց աջակցություն համայնքներին` ցրտահարությունից տուժած համայնքներին հողի հարկի փոխհատուցման նպատակով
A14: Շահառուների քանակը | C14: 1. Տրանսֆերտ ստացող ՏԻՄ-երի քանակը
A15: Գումարը (հազար դրամ) | D15: X | E15: X | F15: =SUM('Վայոց ձ'!C12) -> 4451.8 | G15: =SUM('Վայոց ձ'!D12) -> 4451.8
A16: Տրանսֆերտի վճարման հաճախականությունը
A17: Շահառուների ընտրության չափանիշները
A18: Համայնքի սոցիալական խնդիրների կարգավորման անհրաժեշտությունը
A19: Ծրագիրը (ծրագրերը), որի (որոնց) շրջանակներում իրականացվում է քաղաքականության միջոցառումը
A20: 1047 Աջակցություն համայնքային, միջհամայնքային, ոչ կառավարական, մասնավոր և այլ կազմակերպություններին և անհատներին
A21: Վերջնական արդյունքի նկարագրությունը
A22: Համայնքներում կյանքի ստանդարտների բարելավում
A23: 1.4. Ներդրումներ լիազոր կառավարման ներքո գտնվող պետական կազմակերպություններում
A25: Չափորոշիչներ | D25: Ցուցանիշների փոփոխությունը (ավելացումները նշված են դրական նշանով, իսկ նվազեցումները՝ փակագծերում)
D26: Ոչ ֆինանսական ցուցանիշներ | F26: Ֆինանսական ցուցանիշներ
D27: Ինն ամիս | E27: Տարի | F27: Ինն ամիս | G27: Տարի
A28: Ծրագրային դասիչը | C28: Անվանումը
C29: Կրթական օբյեկտների հիմնանորոգում
A30: 1146 | B30: ԵԿ02 | C30: Նկարագրություն՝
C31: Ներդրումներ ՀՀ Վայոց Ձորի մարզպետի կառավարման լիազորությունների տակ գտնվող հանրակրթական դպրոցների շենքերի կապիտալ վերանորոգման նպատակով
A32: Ծախսերը (հազար դրամ) | D32: X | E32: X | F32: =SUM(Կապիտալ!H268) -> -1455 | G32: =SUM(F32) -> -1455
A33: Կազմակերպությունը, որտեղ կատարվում է ներդրումը`
A34: ՀՀ Վայոց Ձորի մարզպետի ենթակայության թվով հանրակրթական դպրոցներ
A35: Ներդրման հիմնավորումը, մասնավորապես, ազդեցությունը կարողությունների վրա`
A36: Քանակական, որակական, ժամկետայնության և այլ չափորոշիչների փոփոխության վրա | C36: Հիմնանորոգումն անհրաժեշտ է, որպեսզի դրանք ապահովեն ծառայությունների մատուցումը գործող չափորոշիչներին համապատասխան անհրաժեշտ ծավալով և որակով
A37: Ծախսային արդյունավետության բարելավման վրա
A38: Ծրագիրը (ծրագրերը), որի (որոնց) շրջանակներում իրականացվում է քաղաքականության միջոցառումը
A39: 1146 Հանրակրթության ծրագիր
A40: Վերջնական արդյունքի նկարագրությունը
A41: Հանրակարթական մակարդակում սովորողների ընդգրկվածության, գրագիտության և համակողմանի զարգացման բարձր մակարդակի ապահովում
A45: 1.6. Հանրության կողմից օգտագործվող ոչ ֆինանսական ակտիվներ
A47: 1.6.1. Հանրության կողմից օգտագործվող ոչ ֆինանսական ակտիվներ
...

Sheet Տավուշ
A1: Հավելված N 14
A2: ՀՀ կառավարության 2014թվականի -ի N -Ն որոշման
A4: ՀԱՅԱՍՏԱՆԻ ՀԱՆՐԱՊԵՏՈՒԹՅԱՆ ԿԱՌԱՎԱՐՈՒԹՅԱՆ 2014 ԹՎԱԿԱՆԻ ՄԱՐՏԻ 19-Ի N 363-Ն ՈՐՈՇՄԱՆ N 16 ՀԱՎԵԼՎԱԾՈՒՄ ԿԱՏԱՐՎՈՂ ՓՈՓՈԽՈՒԹՅՈՒՆԸ ԵՎ ԼՐԱՑՈՒՄՆԵՐԸ
A5: հազար դրամներով
A6: Հ/Հ | B6: Բյուջետային ծախսերի տնտեսագիտական դասակարգման հոդվածների և աշխատանքների անվանումները | C6: Ցուցանիշների փոփոխությունը (ավելացումները նշված են դրական նշանով, իսկ նվազեցումները՝ փակագծերում)
C7: Ինն ամիս | D7: Տարի
