Workbook

Sheet օրենք
A1: Հավելված N 1
A2: ՀՀ կառավարության 2014 թվականի -ի N -Ն որոշման
A3: «ՀԱՅԱՍՏԱՆԻ ՀԱՆՐԱՊԵՏՈՒԹՅԱՆ 2014 ԹՎԱԿԱՆԻ ՊԵՏԱԿԱՆ ԲՅՈՒՋԵԻ ՄԱՍԻՆ» ՀԱՅԱՍՏԱՆԻ ՀԱՆՐԱՊԵՏՈՒԹՅԱՆ ՕՐԵՆՔԻ N 1 ՀԱՎԵԼՎԱԾՈՒՄ ԿԱՏԱՐՎՈՂ ՎԵՐԱԲԱՇԽՈՒՄԸ ԵՎ ՀԱՅԱՍՏԱՆԻ ՀԱՆՐԱՊԵՏՈՒԹՅԱՆ ԿԱՌԱՎԱՐՈՒԹՅԱՆ 2013 ԹՎԱԿԱՆԻ ԴԵԿՏԵՄԲԵՐԻ 19-Ի N 1414-Ն ՈՐՈՇՄԱՆ N 5 ՀԱՎԵԼՎԱԾՈՒՄ ԿԱՏԱՐՎՈՂ ՓՈՓՈԽՈՒԹՅՈՒՆՆԵՐԸ
A5: Բաժինը | B5: Խումբը | C5: Դասը | D5: Բյուջետային ծախսերի գործառական դասակարգման բաժինների, խմբերի և դասերի, տնտեսագիտական դասակարգման հոդվածների, ֆինանսավորվող ծրագրերի և դրանք իրականացնող մարմինների անվանումները | E5: Ցուցանիշների փոփոխությունը (ավելացումները նշված են դրական նշանով, իսկ նվազեցումները` փակագծերում)
E6: ինն ամիս | F6: տարի
D7: ԸՆԴԱՄԵՆԸ | E7: =SUM(E9,E50,E118) -> 0 | F7: =SUM(F9,F50,F118) -> 0
D8: այդ թվում՝
A9: 04 | D9: ՏՆՏԵՍԱԿԱՆ ՀԱՐԱԲԵՐՈՒԹՅՈՒՆՆԵՐ | E9: =E11 -> -77201.9 | F9: =F11 -> -77201.9
D10: այդ թվում՝
B11: 05 | D11: Տրանսպորտ | E11: =E13 -> -77201.9 | F11: =F13 -> -77201.9
D12: այդ թվում՝
C13: 01 | D13: Ճանապարհային տրանսպորտ | E13: =SUM(E15) -> -77201.9 | F13: =SUM(F15) -> -77201.9
D14: այդ թվում՝
D15: 01.Պետական նշանակության ավտոճանապարհների հիմնանորոգում | E15: =SUM(E17,E24,E27,E31,E34,E38,E42,E20) -> -77201.9 | F15: =SUM(F17,F24,F27,F31,F34,F38,F42,F20) -> -77201.9
D16: այդ թվում՝
D17: ՀՀ Արագածոտնի մարզպետարան | E17: =SUM(E19:E19) -> -3422.3 | F17: =SUM(F19:F19) -> -3422.3
D18: այդ թվում՝
D19: Շենքերի և շինությունների կապիտալ վերանորոգում | E19: =Կապիտալ!H14 -> -3422.3 | F19: =SUM(E19) -> -3422.3
D20: ՀՀ Արարատի մարզպետարան | E20: =SUM(E22:E23) -> -17173 | F20: =SUM(F22:F23) -> -17173
D21: այդ թվում՝
D22: Շենքերի և շինությունների կապիտալ վերանորոգում | E22: =SUM(Կապիտալ!H33) -> -13230 | F22: =SUM(E22) -> -13230
D23: Նախագծահետազոտական ծախսեր | E23: =SUM(Կապիտալ!I33) -> -3943 | F23: =SUM(E23) -> -3943
D24: ՀՀ Լոռու մարզպետարան | E24: =SUM(E26:E26) -> -9460 | F24: =SUM(F26:F26) -> -9460
D25: այդ թվում՝
D26: Շենքերի և շինությունների կապիտալ վերանորոգում | E26: =Կապիտալ!H118 -> -9460 | F26: =SUM(E26) -> -9460
D27: ՀՀ Կոտայքի մարզպետարան | E27: =SUM(E29:E30) -> 8541.4 | F27: =SUM(F29:F30) -> 8541.4
D28: այդ թվում՝
D29: Շենքերի և շինությունների կապիտալ վերանորոգում | E29: =Կապիտալ!H154 -> 7994 | F29: =SUM(E29) -> 7994
D30: Նախագծահետազոտական ծախսեր | E30: =Կապիտալ!$I154 -> 547.4 | F30: =Կապիտալ!$I154 -> 547.4
D31: ՀՀ Շիրակի մարզպետարան | E31: =SUM(E33:E33) -> -12218 | F31: =SUM(F33:F33) -> -12218
D32: այդ թվում՝
D33: Շենքերի և շինությունների կապիտալ վերանորոգում | E33: =Կապիտալ!H185 -> -12218 | F33: =SUM(E33) -> -12218
D34: ՀՀ Սյունիքի մարզպետարան | E34: =SUM(E36)+E37 -> -19031.2 | F34: =SUM(F36)+F37 -> -19031.2
D35: այդ թվում՝
D36: Շենքերի և շինությունների կապիտալ վերանորոգում | E36: =Կապիտալ!H232 -> -20031.2 | F36: =SUM(E36) -> -20031.2
D37: Նախագծահետազոտական ծախսեր | E37: =Կապիտալ!I232 -> 1000 | F37: =E37 -> 1000
D38: ՀՀ Վայոց Ձորի մարզպետարան | E38: =SUM(E40:E41) -> -2996.8 | F38: =SUM(F40:F41) -> -2996.8
D39: այդ թվում՝
D40: Շենքերի և շինությունների կապիտալ վերանորոգում | E40: =Կապիտալ!H259 -> -2882.8 | F40: =SUM(E40) -> -2882.8
D41: Նախագծահետազոտական ծախսեր | E41: =Կապիտալ!$I259 -> -114 | F41: =Կապիտալ!$I259 -> -114
D42: ՀՀ Տավուշի մարզպետարան | E42: =SUM(E44:E45) -> -21442 | F42: =SUM(F44:F45) -> -21442
D43: այդ թվում՝
D44: Շենքերի և շինությունների կապիտալ վերանորոգում | E44: =Կապիտալ!H271 -> -22762 | F44: =SUM(E44) -> -22762
D45: Նախագծահետազոտական ծախսեր | E45: =Կապիտալ!$I271 -> 1320 | F45: =Կապիտալ!$I271 -> 1320
D46: ՀՀ Տավուշի մարզպետարան | E46: =SUM(E48:E49) -> 0 | F46: =SUM(F48:F49) -> 0
D47: այդ թվում՝
D48: Շենքերի և շինությունների կապիտալ վերանորոգում
D49: Նախագծահետազոտական ծախսեր
A50: 09 | D50: ԿՐԹՈՒԹՅՈՒՆ | E50: =E52 -> -70174.3 | F50: =F52 -> -70174.3
D51: այդ թվում՝
B52: 06 | D52: Կրթությանը տրամադրվող օժանդակ ծառայություններ | E52: =E54 -> -70174.3 | F52: =F54 -> -70174.3
D53: այդ թվում՝
C54: 01 | D54: Կրթությանը տրամադրվող օժանդակ ծառայություններ | E54: =SUM(E56,E92) -> -70174.3 | F54: =SUM(F56,F92) -> -70174.3
D55: այդ թվում՝
D56: 02.Կրթական օբյեկտների հիմնանորոգում | E56: =SUM(E58,E65,E72,E75,E78,E81,E85,E88,E69,E61) -> -143377.5 | F56: =SUM(F58,F65,F72,F75,F78,F81,F85,F88,F69,F61) -> -143377.5
D57: այդ թվում՝
D58: ՀՀ Արագածոտնի մարզպետարան | E58: =SUM(E60:E60) -> -6240.4 | F58: =SUM(F60:F60) -> -6240.4
D59: այդ թվում՝
D60: Շենքերի և շինությունների կապիտալ վերանորոգում | E60: =Կապիտալ!H24 -> -6240.4 | F60: =SUM(E60) -> -6240.4
D61: ՀՀ Արարատի մարզպետարան | E61: =SUM(E63:E64) -> 21454.8 | F61: =SUM(F63:F64) -> 21454.8
D62: այդ թվում՝
D63: Շենքերի և շինությունների կապիտալ վերանորոգում | E63: =SUM(Կապիտալ!H56) -> 22491.6 | F63: =SUM(E63) -> 22491.6
D64: Նախագծահետազոտական ծախսեր | E64: =SUM(Կապիտալ!I56) -> -1036.8 | F64: =SUM(E64) -> -1036.8
D65: ՀՀ Արմավիրի մարզպետարան | E65: =SUM(E67:E68) -> -85985 | F65: =SUM(F67:F68) -> -85985
D66: այդ թվում՝
D67: Շենքերի և շինությունների կապիտալ վերանորոգում | E67: =Կապիտալ!H90 -> -82660 | F67: =SUM(E67) -> -82660
D68: Նախագծահետազոտական ծախսեր | E68: =Կապիտալ!$I90 -> -3325 | F68: =Կապիտալ!$I90 -> -3325
D69: ՀՀ Գեղարքունիքի մարզպետարան | E69: =SUM(E71:E71) -> -41400 | F69: =SUM(F71:F71) -> -41400
D70: այդ թվում՝
D71: Շենքերի և շինությունների կապիտալ վերանորոգում | E71: =SUM(Կապիտալ!H111) -> -41400 | F71: =SUM(E71) -> -41400
D72: ՀՀ Լոռու մարզպետարան | E72: =SUM(E74:E74) -> -1250 | F72: =SUM(F74:F74) -> -1250
D73: այդ թվում՝
D74: Շենքերի և շինությունների կապիտալ վերանորոգում | E74: =Կապիտալ!H133 -> -1250 | F74: =SUM(E74) -> -1250
D75: ՀՀ Կոտայքի մարզպետարան | E75: =SUM(E77:E77) -> -6188.6 | F75: =SUM(F77:F77) -> -6188.6
D76: այդ թվում՝
D77: Շենքերի և շինությունների կապիտալ վերանորոգում | E77: =Կապիտալ!H169 -> -6188.6 | F77: =SUM(E77) -> -6188.6
D78: ՀՀ Շիրակի մարզպետարան | E78: =SUM(E80:E80) -> -39951 | F78: =SUM(F80:F80) -> -39951
D79: այդ թվում՝
D80: Շենքերի և շինությունների կապիտալ վերանորոգում | E80: =Կապիտալ!H202 -> -39951 | F80: =SUM(E80) -> -39951
D81: ՀՀ Սյունիքի մարզպետարան | E81: =SUM(E83:E84) -> 4032.5 | F81: =SUM(F83:F84) -> 4032.5
D82: այդ թվում՝
D83: Շենքերի և շինությունների կապիտալ վերանորոգում | E83: =Կապիտալ!H247 -> 3532.5 | F83: =SUM(E83) -> 3532.5
D84: Նախագծահետազոտական ծախսեր | E84: =Կապիտալ!$I247 -> 500 | F84: =Կապիտալ!$I247 -> 500
D85: ՀՀ Վայոց Ձորի մարզպետարան | E85: =SUM(E87:E87) -> -1455 | F85: =SUM(F87:F87) -> -1455
D86: այդ թվում՝
D87: Շենքերի և շինությունների կապիտալ վերանորոգում | E87: =Կապիտալ!H268 -> -1455 | F87: =SUM(E87) -> -1455
D88: ՀՀ Տավուշի մարզպետարան | E88: =SUM(E90:E91) -> 13605.2 | F88: =SUM(F90:F91) -> 13605.2
D89: այդ թվում՝
D90: Շենքերի և շինությունների կապիտալ վերանորոգում | E90: =Կապիտալ!H293 -> 12405.2 | F90: =SUM(E90) -> 12405.2
D91: Նախագծահետազոտական ծախսեր | E91: =Կապիտալ!$I293 -> 1200 | F91: =Կապիտալ!$I293 -> 1200
D92: 05.Կրթական օբյեկտների շինարարություն | E92: =SUM(E98,E101,E104,E94) -> 73203.2 | F92: =SUM(F98,F101,F104,F94) -> 73203.2
D93: այդ թվում՝
D94: ՀՀ Արարատի մարզպետարան | E94: =SUM(E96:E97) -> -4281.8 | F94: =SUM(F96:F97) -> -4281.8
D95: այդ թվում՝
D96: Շենքերի և շինությունների շինարարություն | E96: =SUM(Կապիտալ!G72) -> -3294 | F96: =SUM(E96) -> -3294
D97: Նախագծահետազոտական ծախսեր | E97: =SUM(Կապիտալ!I72) -> -987.8 | F97: =SUM(E97) -> -987.8
D98: ՀՀ Արմավիրի մարզպետարան | E98: =SUM(E100:E100) -> 85985 | F98: =SUM(F100:F100) -> 85985
D99: այդ թվում՝
D100: Շենքերի և շինությունների շինարարություն | E100: =Կապիտալ!G104 -> 85985 | F100: =SUM(E100) -> 85985
D101: ՀՀ Լոռու մարզպետարան | E101: =SUM(E103:E103) -> -5250 | F101: =SUM(F103:F103) -> -5250
...

Sheet Կապիտալ
A1: Հավելված N 2
A2: ՀՀ կառավարության 2014 թվականի -ի N -Ն որոշման
A3: «ՀԱՅԱՍՏԱՆԻ ՀԱՆՐԱՊԵՏՈՒԹՅԱՆ 2014 ԹՎԱԿԱՆԻ ՊԵՏԱԿԱՆ ԲՅՈՒՋԵԻ ՄԱՍԻՆ» ՀԱՅԱՍՏԱՆԻ ՀԱՆՐԱՊԵՏՈՒԹՅԱՆ ՕՐԵՆՔԻ N 1 ՀԱՎԵԼՎԱԾԻ N 13 ԱՂՅՈՒՍԱԿՈՒՄ ԿԱՏԱՐՎՈՂ ՎԵՐԱԲԱՇԽՈՒՄԸ
A6: Բյուջետային ծախսերի գործառական դասակարգման | D6: Ծրագրի N | E6: Ծրագրերի և կատարողների անվանումները | F6: Ցուցանիշների փոփոխությունը (ավելացումները նշված են դրական նշանով, իսկ նվազեցումները՝ փակագծերում)
F7: Ընդամենը` ոչ ֆինանսական ակտիվների գծով ծախսեր | G7: այդ թվում՝
A8: բաժին | B8: խումբ | C8: դաս | G8: շենքերի և շինությունների շինարարություն | H8: շենքերի և շինությունների կապիտալ վերանորոգում | I8: նախագծահետազոտական, գեոդեզիա-քարտեզագրական աշխատանքներ | J8: ոչ ֆինանսական ակտիվների գծով այլ ծախսեր
A9: 1 | B9: 2 | C9: 3 | D9: 4 | E9: 5 | F9: 6 | G9: 7 | H9: 8 | I9: 9 | J9: 10
E10: ԸՆԴԱՄԵՆԸ | F10: =SUM(G10:J10) -> -147376.2 | G10: =SUM(G12,G79,G110,G116,G152,G183,G230,G257,G269,G31) -> 74191 | H10: =SUM(H12,H79,H110,H116,H152,H183,H230,H257,H269,H31) -> -216728 | I10: =SUM(I12,I79,I110,I116,I152,I183,I230,I257,I269,I31) -> -4839.2 | J10: =SUM(J12,J79,J110,J116,J152,J183,J230,J257,J269) -> 0
E11: այդ թվում՝
E12: ՀՀ ԱՐԱԳԱԾՈՏՆԻ ՄԱՐԶՊԵՏԱՐԱՆ | F12: =SUM(G12:J12) -> -9662.7 | G12: =SUM(G14,G24) -> 0 | H12: =SUM(H14,H24) -> -9662.7 | I12: =SUM(I14,I24) -> 0 | J12: =SUM(J14,J24) -> 0
E13: այդ թվում՝
A14: 04 | B14: 05 | C14: 01 | D14: 01 | E14: Պետական նշանակության ավտոճանապարհների հիմնանորոգում | F14: =F16 -> -3422.3 | G14: 0 | H14: =H16 -> -3422.3 | I14: =SUM(I18) -> 0 | J14: 0
E15: այդ թվում՝
E16: 1. Ճանապարհների հիմնանորոգում | F16: =F18 -> -3422.3 | G16: =G18 -> 0 | H16: =H18 -> -3422.3 | I16: =I18 -> 0 | J16: =J18 -> 0
E17: որից՝
E18: 1.1 Համայնքային նշանակության ա/ճանապարհներ | F18: =SUM(G18:J18) -> -3422.3 | G18: 0 | H18: =SUM(H19:H23) -> -3422.3 | I18: =SUM(I19:I23) -> 0 | J18: 0
E19: Կարբի համայնքի ներհամայնքային ճանապարհի վերանորոգում | F19: =SUM(G19:J19) -> -906 | G19: 0 | H19: -906 | I19: 0 | J19: 0
E20: Կարմրաշեն համայնքի ներհամայնքային ճանապարհի վերանորոգում | F20: =SUM(G20:J20) -> -301.5 | G20: 0 | H20: -301.5 | I20: 0 | J20: 0
E21: Բյուրական համայնքի ներհամայնքային ճանապարհի վերանորոգում | F21: =SUM(G21:J21) -> -889.2 | G21: 0 | H21: -889.2 | I21: 0 | J21: 0
E22: Թալին համայնքի ներհամայնքային ճանապարհի վերանորոգում | F22: =SUM(G22:J22) -> -547.5 | G22: 0 | H22: -547.5 | I22: 0 | J22: 0
E23: Ուշի համայնքի ներհամայնքային ճանապարհի վերանորոգում | F23: =SUM(G23:J23) -> -778.1 | G23: 0 | H23: -778.1 | I23: 0 | J23: 0
A24: 09 | B24: 06 | C24: 01 | D24: 02 | E24: Կրթական օբյեկտների հիմնանորոգում | F24: =SUM(G24:J24) -> -6240.4 | G24: =SUM(G26:G30) -> 0 | H24: =SUM(H26:H30) -> -6240.4 | I24: =SUM(I26:I30) -> 0 | J24: =SUM(J26:J30) -> 0
E25: այդ թվում՝
E26: Եղնիկ համայնքի դպրոցի վերանորոգում և ամրացում | F26: =SUM(G26:J26) -> -2180 | G26: 0 | H26: -2180 | I26: 0 | J26: 0
E27: Վ.Բազմաբերդ համայնքի դպրոցի վերանորոգում | F27: =SUM(G27:J27) -> -1042 | G27: 0 | H27: -1042 | I27: 0 | J27: 0
E28: Դավթաշեն համայնքի դպրոցի վերանորոգում | F28: =SUM(G28:J28) -> -1643.4 | G28: 0 | H28: -1643.4 | I28: 0 | J28: 0
E29: Բազմաղբյուր համայնքի դպրոցի քամու հետևանքով քանդված տանիքի վերանորոգում | F29: =SUM(G29:J29) -> -148 | G29: 0 | H29: -148 | I29: 0 | J29: 0
E30: Ձորագլուխ համայնքի դպրոցի տանիքի վերանորոգում | F30: =SUM(G30:J30) -> -1227 | G30: 0 | H30: -1227 | I30: 0 | J30: 0
E31: ՀՀ ԱՐԱՐԱՏԻ ՄԱՐԶՊԵՏԱՐԱՆ | F31: =SUM(G31:J31) -> -1.8189894e-12 | G31: =G33+G56+G72 -> -3294 | H31: =H33+H56+H72 -> 9261.6 | I31: =I33+I56+I72 -> -5967.6 | J31: =SUM(J33,J56) -> 0
E32: այդ թվում՝
A33: 04 | B33: 05 | C33: 01 | D33: 01 | E33: Պետական նշանակության ավտոճանապարհների հիմնանորոգում | F33: =F35 -> -17173 | G33: 0 | H33: =H35 -> -13230 | I33: =I35 -> -3943 | J33: 0
E34: այդ թվում՝
E35: 1. Ճանապարհների հիմնանորոգում | F35: =SUM(G35:J35) -> -17173 | G35: =SUM(G37+G51) -> 0 | H35: =SUM(H37+H51) -> -13230 | I35: =SUM(I37+I51) -> -3943 | J35: =SUM(J37+J51) -> 0
E36: որից՝
E37: 1.1 Համայնքային նշանակության ա/ճանապարհներ | F37: =SUM(G37:J37) -> -12278 | G37: 0 | H37: =SUM(H39:H50) -> -9570 | I37: =SUM(I39:I50) -> -2708 | J37: 0
E38: այդ թվում՝
E39: Արմաշ համայնքի Մ. Նիկողոսյան փողոցի ասֆալտապատում | F39: =SUM(G39:J39) -> -1090 | G39: 0 | H39: -850 | I39: -240 | J39: 0
E40: Արարատ քաղաքային համայնքի Պուշկինի փողոցի ասֆալտապատում | F40: =SUM(G40:J40) -> -957 | G40: 0 | H40: -770 | I40: -187 | J40: 0
E41: Արարատ քաղաքային համայնքի Աբովյան 1 նրբանցքի ասֆալտապատում | F41: =SUM(G41:J41) -> -1411 | G41: 0 | H41: -1110 | I41: -301 | J41: 0
E42: Ավշար համայնքի տրանսպորտային հանգույցի ճանապարհների վերանորոգում | F42: =SUM(G42:J42) -> -1350 | G42: 0 | H42: -1050 | I42: -300 | J42: 0
E43: Ոսկետափ համայնքի դպրոցի ճանապարհի /փ, Մաշտոց/ ասֆալտապատում | F43: =SUM(G43:J43) -> -1090 | G43: 0 | H43: -850 | I43: -240 | J43: 0
E44: Արտաշատ քաղաքի Մարքսի 6 շենքի բակի ասֆալտապատում | F44: =SUM(G44:J44) -> -2635 | G44: 0 | H44: -2430 | I44: -205 | J44: 0
E45: Արտաշատ եկեղեցուն հարող ավտոճանապարհի վերանորոգում | F45: =SUM(G45:J45) -> -46995 | G45: 0 | H45: -45350 | I45: -1645 | J45: 0
E46: Ավշար համայնքային կենտրոնի և դպրոց տանող ճանապարհի ասֆալտապատում | F46: =SUM(G46:J46) -> -1660 | G46: 0 | H46: -1240 | I46: -420 | J46: 0
E47: Մասիս գյուղական համայնքի դպրոց տանող ճանապարհի ասֆալտապատում | F47: =SUM(G47:J47) -> -1115 | G47: 0 | H47: -600 | I47: -515 | J47: 0
E48: Մխչյան համայնքի մանկապարտեզ տանող փողոցի ասֆալտապատում | F48: =SUM(G48:J48) -> -970 | G48: 0 | H48: -670 | I48: -300 | J48: 0
E49: Արտաշատի ինտեգրված սոցիալական ծառայությունների համալիր կենտրոն տանող փողոցի վերանորոգում | F49: =SUM(G49:J49) -> 34559 | G49: 0 | H49: 33350 | I49: 1209 | J49: 0
E50: Արտաշատի ինտեգրված սոցիալական ծառայությունների համալիր կենտրոնի հարակից բակերի և խաղահրապարակների վերանորոգում | F50: =SUM(G50:J50) -> 12436 | G50: 0 | H50: 12000 | I50: 436 | J50: 0
E51: 1.2 Մարզային նշանակության ա/ճանապարհներ | F51: =SUM(G51:J51) -> -4895 | G51: =SUM(G53:G54) -> 0 | H51: =SUM(H53:H55) -> -3660 | I51: =SUM(I53:I55) -> -1235 | J51: =SUM(J53:J54) -> 0
E52: այդ թվում՝
E53: Նոյակերտ մարզային ավտոճանապարհի վերանորոգում | F53: =SUM(G53:J53) -> -2050 | G53: 0 | H53: -1570 | I53: -480 | J53: 0
E54: Վեդի-Գոռավան-Արարատ ավտոճանապարհի վերանորոգում | F54: =SUM(G54:J54) -> -975 | G54: 0 | H54: -760 | I54: -215 | J54: 0
E55: Այգավան-Եղեգնավան ճանապարհի ասֆալտապատում | F55: =SUM(G55:J55) -> -1870 | G55: 0 | H55: -1330 | I55: -540 | J55: 0
A56: 09 | B56: 06 | C56: 01 | D56: 02 | E56: Կրթական օբյեկտների հիմնանորոգում | F56: =SUM(G56:J56) -> 21454.8 | G56: =SUM(G58:G70) -> 0 | H56: =SUM(H58:H71) -> 22491.6 | I56: =SUM(I58:I71) -> -1036.8 | J56: =SUM(J58:J70) -> 0
E57: այդ թվում՝
E58: Արտաշատ քաղաքային համայնքի N 4 դպրոցի տանիքի վերանորոգում | F58: =SUM(G58:J58) -> -824 | G58: 0 | H58: -606 | I58: -218 | J58: 0
E59: Արարատ քաղաքային համայնքի N5 դպրոցի (ՈԿՖ բանավան) վերանորոգում | F59: =SUM(G59:J59) -> -864 | G59: 0 | H59: -646 | I59: -218 | J59: 0
E60: Այգեզարդ համայնքի դպրոցի պատուհանների փոխարինում | F60: =SUM(G60:J60) -> -735.8 | G60: 0 | H60: -536 | I60: -199.8 | J60: 0
E61: Այգեստան համայնքի դպրոցի վերանորոգում | F61: =SUM(G61:J61) -> -540.8 | G61: 0 | H61: -399.8 | I61: -141 | J61: 0
E62: Ջրահովիտ համայնքի դպրոցի պատուհանների փոխարինում | F62: =SUM(G62:J62) -> -651.4 | G62: 0 | H62: -482.6 | I62: -168.8 | J62: 0
E63: Արարատ գյուղական համայնքի N 2 դպրոցի պատուհանների փոխարինում | F63: =SUM(G63:J63) -> -701 | G63: 0 | H63: -538 | I63: -163 | J63: 0
E64: Նոյակերտ համայնքի դպրոցի վերանորոգում | F64: =SUM(G64:J64) -> -704.8 | G64: 0 | H64: -525 | I64: -179.8 | J64: 0
E65: Պ, Սևակ համայնքի դպրոցի վերանորոգում | F65: =SUM(G65:J65) -> -747.5 | G65: 0 | H65: -578.7 | I65: -168.8 | J65: 0
E66: Երասխ համայնքի դպրոցի վերանորոգում | F66: =SUM(G66:J66) -> -698.4 | G66: 0 | H66: -542.6 | I66: -155.8 | J66: 0
E67: Վեդի քաղաքային համայնքի N3 դպրոցի վերանորոգում | F67: =SUM(G67:J67) -> -760 | G67: 0 | H67: -562 | I67: -198 | J67: 0
E68: Աբովյան համայնքի դպրոցի վերանորոգում | F68: =SUM(G68:J68) -> -616.3 | G68: 0 | H68: -453.3 | I68: -163 | J68: 0
E69: Քաղցրաշեն համայնքի դպրոցի վերանորոգում | F69: =SUM(G69:J69) -> -658 | G69: 0 | H69: -538 | I69: -120 | J69: 0
... E71: Արտաշատ քաղաքային համայնքի N 1 դպրոցի վերանորոգում | F71: =SUM(G71:J71) -> 30627 | G71: 0 | H71: 29390 | I71: 1237 | J71: 0
A72: 09 | B72: 06 | C72: 01 | D72: 05 | E72: Կրթական օբյեկտների շինարարություն | F72: =SUM(G72:J72) -> -4281.8 | G72: =SUM(G74:G78) -> -3294 | H72: =SUM(H74:H78) -> 0 | I72: =SUM(I74:I78) -> -987.8 | J72: =SUM(J74:J78) -> 0
E73: այդ թվում՝
E74: Վերին Դվին համայնքի դպրոցի գազաֆիկացում, պատուհանների փոխարինում և ջեռուցման համակարգի կառուցում | F74: =SUM(G74:J74) -> -895.6 | G74: -676.6 | H74: 0 | I74: -219 | J74: 0
E75: Ոսկետափ համայնքի N 1 դպրոցի գազաֆիկացում, վերանորոգում և ջեռուցման համակարգի կառուցում | F75: =SUM(G75:J75) -> -939.8 | G75: -719.8 | H75: 0 | I75: -220 | J75: 0
E76: Փոքր Վեդի համայնքի դպրոցի գազաֆիկացում, պատուհանների փոխարինում և ջեռուցման համակարգի կառուցում | F76: =SUM(G76:J76) -> -878.8 | G76: -657 | H76: 0 | I76: -221.8 | J76: 0
E77: Նոր Ուղի համայնքի դպրոցի գազաֆիկացում, պատուհանների փոխարինում և ջեռուցման համակարգի կառուցում | F77: =SUM(G77:J77) -> -688 | G77: -525 | H77: 0 | I77: -163 | J77: 0
E78: Զորակ համայնքի դպրոցի գազաֆիկացում, պատուհանների փոխարինում և ջեռուցման համակարգի կառուցում | F78: =SUM(G78:J78) -> -879.6 | G78: -715.6 | H78: 0 | I78: -164 | J78: 0
E79: ՀՀ ԱՐՄԱՎԻՐԻ ՄԱՐԶՊԵՏԱՐԱՆ | F79: =SUM(G79:J79) -> 0 | G79: =G81+G90+G104 -> 85985 | H79: =H81+H90+H104 -> -82660 | I79: =I81+I90+I104 -> -3325 | J79: =J81+J90+J104 -> 0
E80: այդ թվում՝
A81: 04 | B81: 05 | C81: 01 | D81: 01 | E81: Պետական նշանակության ավտոճանապարհների հիմնանորոգում | F81: =SUM(G81:J81) -> 0 | G81: =G83 -> 0 | H81: =H83 -> 0 | I81: =I83 -> 0 | J81: =J83 -> 0
E82: այդ թվում՝
E83: 1. Ճանապարհների հիմնանորոգում | F83: =SUM(G83:J83) -> 0 | G83: =G85 -> 0 | H83: =H85 -> 0 | I83: =I85 -> 0 | J83: =J85 -> 0
E84: որից՝
E85: 1.1 Մարզային նշանակության ա/ճանապարհներ | F85: =SUM(G85:J85) -> 0 | G85: =SUM(G87:G89) -> 0 | H85: =SUM(H87:H89) -> 0 | I85: =SUM(I87:I89) -> 0 | J85: =SUM(J87:J89) -> 0
E86: այդ թվում՝
E87: Տնկարան – Զինավան - 5 ավտոճանապարհի վերանորոգում | F87: =SUM(G87:J87) -> -3922.5 | G87: 0 | H87: -3922.5 | I87: 0 | J87: 0
E88: Մ-5-Մերձավան-Այգեկ-Մ-5 ավտոճանապարհի վերանորոգում | F88: =SUM(G88:J88) -> 2922.5 | G88: 0 | H88: 2922.5 | I88: 0 | J88: 0
E89: Մ-3 – Շահումյան ավտոճանապարհի վերանորոգում | F89: =SUM(G89:J89) -> 1000 | G89: 0 | H89: 1000 | I89: 0 | J89: 0
A90: 09 | B90: 06 | C90: 01 | D90: 02 | E90: Կրթական օբյեկտների հիմնանորոգում | F90: =SUM(G90:J90) -> -85985 | G90: =SUM(G92:G103) -> 0 | H90: =SUM(H92:H103) -> -82660 | I90: =SUM(I92:I103) -> -3325 | J90: =SUM(J92:J103) -> 0
E91: այդ թվում՝
E92: Ջրառատ համայնքի միջնակարգ դպրոցի վերանորոգում /եռահարկ ուսումնական մասնաշենք/ | F92: =SUM(G92:J92) -> -31050 | G92: 0 | H92: -30000 | I92: =H92*3.5% -> -1050 | J92: 0
E93: Արազափ համայնքի միջնակարգ դպրոցի վերանորոգում | F93: =SUM(G93:J93) -> 32100 | G93: 0 | H93: 32100 | I93: 0 | J93: 0
E94: Տանձուտ համայնքի միջնակարգ դպրոցի մարզադահլիճի ուժեղացում | F94: =SUM(G94:J94) -> -46575 | G94: 0 | H94: -45000 | I94: =H94*3.5% -> -1575 | J94: 0
E95: Երասխահուն համայնքի միջնակարգ դպրոցի ուժեղացում | F95: =SUM(G95:J95) -> -9588 | G95: 0 | H95: -9588 | I95: 0 | J95: 0
E96: Տարոնիկ համայնքի միջնակարգ դպրոցի վերանորոգում | F96: =SUM(G96:J96) -> 51500 | G96: 0 | H96: 51500 | I96: 0 | J96: 0
E97: Արգինա համայնքի միջնակարգ դպրոցի վերանորոգում | F97: =SUM(G97:J97) -> -40000 | G97: 0 | H97: -40000 | I97: 0 | J97: 0
E98: Ջրաշեն համայնքի միջնակարգ դպրոցի վերանորոգում | F98: =SUM(G98:J98) -> -205 | G98: 0 | H98: -205 | I98: 0 | J98: 0
E99: Թաիրով համայնքի միջնակարգ դպրոցի տանիքի վերանորոգում | F99: =SUM(G99:J99) -> -20700 | G99: 0 | H99: -20000 | I99: -700 | J99: 0
E100: Մրգաշատ համայնքի թիվ 2 միջնակարգ դպրոցի տանիքի չվերանորոգված մասի վերանորոգում | F100: =SUM(G100:J100) -> -23000 | G100: 0 | H100: -23000 | I100: 0 | J100: 0
E101: Վաղարշապատ համայնքի թիվ 9 հիմնական դպրոցի վերանորոգում | F101: =SUM(G101:J101) -> -1200 | G101: 0 | H101: -1200 | I101: 0 | J101: 0
E102: Վաղարշապատ համայնքի թիվ 11 հիմնական դպրոցի վերանորոգում | F102: =SUM(G102:J102) -> -6205 | G102: 0 | H102: -6205 | I102: 0 | J102: 0
E103: Վաղարշապատ համայնքի թիվ 2 հատուկ դպրոցի վերանորոգում | F103: =SUM(G103:J103) -> 8938 | G103: 0 | H103: 8938 | I103: 0 | J103: 0
...

Sheet Եռամսյակային
A1: Հավելված N 3
A2: ՀՀ կառավարության 2014 թվականի -ի N -Ն որոշման
A3: ՀԱՅԱՍՏԱՆԻ ՀԱՆՐԱՊԵՏՈՒԹՅԱՆ ԿԱՌԱՎԱՐՈՒԹՅԱՆ 2013 ԹՎԱԿԱՆԻ ԴԵԿՏԵՄԲԵՐԻ 19-Ի N 1414-Ն ՈՐՈՇՄԱՆ N 5 ՀԱՎԵԼՎԱԾԻ N 12 ԱՂՅՈՒՍԱԿՈՒՄ ԿԱՏԱՐՎՈՂ ՓՈՓՈԽՈՒԹՅՈՒՆՆԵՐԸ ԵՎ ԼՐԱՑՈՒՄՆԵՐԸ
A5: Բաժինը | B5: Խումբը | C5: Դասը | D5: Ծրագրի N | E5: Բյուջետային ծախսերի գործառական դասակարգման բաժինների, խմբերի և դասերի, տնտեսագիտական դասակարգման հոդվածների, ֆինանսավորվող ծրագրերի և դրանք իրականացնող մարմինների անվանումները | F5: Ցուցանիշների փոփոխությունը (ավելացումները նշված են դրական նշանով, իսկ նվազեցումները՝ փակագծերում)
F6: ինն ամիս | G6: տարի
A7: 1 | B7: 2 | C7: 3 | D7: 4 | E7: 5 | F7: 6 | G7: 7
E8: ԸՆԴԱՄԵՆԸ | F8: =SUM(F10,F77,F115,F151,F182,F229,F256,F267,F108,F29) -> -147376.2 | G8: =SUM(G10,G77,G115,G151,G182,G229,G256,G267,G108,G29) -> -147376.2
E9: այդ թվում՝
E10: ՀՀ ԱՐԱԳԱԾՈՏՆԻ ՄԱՐԶՊԵՏԱՐԱՆ | F10: =SUM(F12,F22) -> -9662.7 | G10: =SUM(G12,G22) -> -9662.7
E11: այդ թվում՝
A12: 04 | B12: 05 | C12: 01 | D12: 01 | E12: Պետական նշանակության ավտոճանապարհների հիմնանորոգում | F12: =SUM(F14) -> -3422.3 | G12: =SUM(G14) -> -3422.3
E13: այդ թվում՝
E14: 1. Ճանապարհների հիմնանորոգում | F14: =F16 -> -3422.3 | G14: =G16 -> -3422.3
E15: որից՝
E16: 1.1 Համայնքային նշանակության ա/ճանապարհներ | F16: =SUM(F17:F21) -> -3422.3 | G16: =SUM(G17:G21) -> -3422.3
E17: Կարբի համայնքի ներհամայնքային ճանապարհի վերանորոգում | F17: =Կապիտալ!F19 -> -906 | G17: =SUM(F17) -> -906
E18: Կարմրաշեն համայնքի ներհամայնքային ճանապարհի վերանորոգում | F18: =Կապիտալ!F20 -> -301.5 | G18: =SUM(F18) -> -301.5
E19: Բյուրական համայնքի ներհամայնքային ճանապարհի վերանորոգում | F19: =Կապիտալ!F21 -> -889.2 | G19: =SUM(F19) -> -889.2
E20: Թալին համայնքի ներհամայնքային ճանապարհի վերանորոգում | F20: =Կապիտալ!F22 -> -547.5 | G20: =SUM(F20) -> -547.5
E21: Ուշի համայնքի ներհամայնքային ճանապարհի վերանորոգում | F21: =Կապիտալ!F23 -> -778.1 | G21: =SUM(F21) -> -778.1
A22: 09 | B22: 06 | C22: 01 | D22: 02 | E22: Կրթական օբյեկտների հիմնանորոգում | F22: =SUM(F24:F28) -> -6240.4 | G22: =SUM(G24:G28) -> -6240.4
E23: այդ թվում՝
E24: Եղնիկ համայնքի դպրոցի վերանորոգում և ամրացում | F24: =Կապիտալ!F26 -> -2180 | G24: =SUM(F24) -> -2180
E25: Վ.Բազմաբերդ համայնքի դպրոցի վերանորոգում | F25: =Կապիտալ!F27 -> -1042 | G25: =SUM(F25) -> -1042
E26: Դավթաշեն համայնքի դպրոցի վերանորոգում | F26: =Կապիտալ!F28 -> -1643.4 | G26: =SUM(F26) -> -1643.4
E27: Բազմաղբյուր համայնքի դպրոցի քամու հետևանքով քանդված տանիքի վերանորոգում | F27: =Կապիտալ!F29 -> -148 | G27: =SUM(F27) -> -148
E28: Ձորագլուխ համայնքի դպրոցի տանիքի վերանորոգում | F28: =Կապիտալ!F30 -> -1227 | G28: =SUM(F28) -> -1227
E29: ՀՀ ԱՐԱՐԱՏԻ ՄԱՐԶՊԵՏԱՐԱՆ | F29: =SUM(F31,F54,F70) -> 0 | G29: =SUM(G31,G54,G70) -> 0
E30: այդ թվում՝
A31: 04 | B31: 05 | C31: 01 | D31: 01 | E31: Պետական նշանակության ավտոճանապարհների հիմնանորոգում | F31: =F33 -> -17173 | G31: =G33 -> -17173
E32: այդ թվում՝
E33: 1. Ճանապարհների հիմնանորոգում | F33: =SUM(G33:G33) -> -17173 | G33: =SUM(G35+G49) -> -17173
E34: որից՝
E35: 1.1 Համայնքային նշանակության ա/ճանապարհներ | F35: =SUM(F37:F48) -> -12278 | G35: =SUM(G37:G48) -> -12278
E36: այդ թվում՝
E37: Արմաշ համայնքի Մ. Նիկողոսյան փողոցի ասֆալտապատում | F37: =SUM(Կապիտալ!F39) -> -1090 | G37: =SUM(F37) -> -1090
E38: Արարատ քաղաքային համայնքի Պուշկինի փողոցի ասֆալտապատում | F38: =SUM(Կապիտալ!F40) -> -957 | G38: =SUM(F38) -> -957
E39: Արարատ քաղաքային համայնքի Աբովյան 1 նրբանցքի ասֆալտապատում | F39: =SUM(Կապիտալ!F41) -> -1411 | G39: =SUM(F39) -> -1411
E40: Ավշար համայնքի տրանսպորտային հանգույցի ճանապարհների վերանորոգում | F40: =SUM(Կապիտալ!F42) -> -1350 | G40: =SUM(F40) -> -1350
E41: Ոսկետափ համայնքի դպրոցի ճանապարհի /փ, Մաշտոց/ ասֆալտապատում | F41: =SUM(Կապիտալ!F43) -> -1090 | G41: =SUM(F41) -> -1090
E42: Արտաշատ քաղաքի Մարքսի 6 շենքի բակի ասֆալտապատում | F42: =SUM(Կապիտալ!F44) -> -2635 | G42: =SUM(F42) -> -2635
E43: Արտաշատ եկեղեցուն հարող ավտոճանապարհի վերանորոգում | F43: =SUM(Կապիտալ!F45) -> -46995 | G43: =SUM(F43) -> -46995
E44: Ավշար համայնքային կենտրոնի և դպրոց տանող ճանապարհի ասֆալտապատում | F44: =SUM(Կապիտալ!F46) -> -1660 | G44: =SUM(F44) -> -1660
E45: Մասիս գյուղական համայնքի դպրոց տանող ճանապարհի ասֆալտապատում | F45: =SUM(Կապիտալ!F47) -> -1115 | G45: =SUM(F45) -> -1115
E46: Մխչյան համայնքի մանկապարտեզ տանող փողոցի ասֆալտապատում | F46: =SUM(Կապիտալ!F48) -> -970 | G46: =SUM(F46) -> -970
E47: Արտաշատի ինտեգրված սոցիալական ծառայությունների համալիր կենտրոն տանող փողոցի վերանորոգում | F47: =SUM(Կապիտալ!F49) -> 34559 | G47: =SUM(F47) -> 34559
E48: Արտաշատի ինտեգրված սոցիալական ծառայությունների համալիր կենտրոնի հարակից բակերի և խաղահրապարակների վերանորոգում | F48: =SUM(Կապիտալ!F50) -> 12436 | G48: =SUM(F48) -> 12436
E49: 1.2 Մարզային նշանակության ա/ճանապարհներ | F49: =SUM(G49:G49) -> -4895 | G49: =SUM(G51:G53) -> -4895
E50: այդ թվում՝
E51: Նոյակերտ մարզային ավտոճանապարհի վերանորոգում | F51: =SUM(Կապիտալ!F53) -> -2050 | G51: =SUM(F51) -> -2050
E52: Վեդի-Գոռավան-Արարատ ավտոճանապարհի վերանորոգում | F52: =SUM(Կապիտալ!F54) -> -975 | G52: =SUM(F52) -> -975
E53: Այգավան-Եղեգնավան ճանապարհի ասֆալտապատում | F53: =SUM(Կապիտալ!F55) -> -1870 | G53: =SUM(F53) -> -1870
A54: 09 | B54: 06 | C54: 01 | D54: 02 | E54: Կրթական օբյեկտների հիմնանորոգում | F54: =SUM(G54) -> 21454.8 | G54: =SUM(G56:G69) -> 21454.8
E55: այդ թվում՝
E56: Արտաշատ քաղաքային համայնքի N 4 դպրոցի տանիքի վերանորոգում | F56: =SUM(Կապիտալ!F58) -> -824 | G56: =SUM(F56) -> -824
E57: Արարատ քաղաքային համայնքի N5 դպրոցի (ՈԿՖ բանավան) վերանորոգում | F57: =SUM(Կապիտալ!F59) -> -864 | G57: =SUM(F57) -> -864
E58: Այգեզարդ համայնքի դպրոցի պատուհանների փոխարինում | F58: =SUM(Կապիտալ!F60) -> -735.8 | G58: =SUM(F58) -> -735.8
E59: Այգեստան համայնքի դպրոցի վերանորոգում | F59: =SUM(Կապիտալ!F61) -> -540.8 | G59: =SUM(F59) -> -540.8
E60: Ջրահովիտ համայնքի դպրոցի պատուհանների փոխարինում | F60: =SUM(Կապիտալ!F62) -> -651.4 | G60: =SUM(F60) -> -651.4
E61: Արարատ գյուղական համայնքի N 2 դպրոցի պատուհանների փոխարինում | F61: =SUM(Կապիտալ!F63) -> -701 | G61: =SUM(F61) -> -701
E62: Նոյակերտ համայնքի դպրոցի վերանորոգում | F62: =SUM(Կապիտալ!F64) -> -704.8 | G62: =SUM(F62) -> -704.8
E63: Պ, Սևակ համայնքի դպրոցի վերանորոգում | F63: =SUM(Կապիտալ!F65) -> -747.5 | G63: =SUM(F63) -> -747.5
E64: Երասխ համայնքի դպրոցի վերանորոգում | F64: =SUM(Կապիտալ!F66) -> -698.4 | G64: =SUM(F64) -> -698.4
E65: Վեդի քաղաքային համայնքի N3 դպրոցի վերանորոգում | F65: =SUM(Կապիտալ!F67) -> -760 | G65: =SUM(F65) -> -760
E66: Աբովյան համայնքի դպրոցի վերանորոգում | F66: =SUM(Կապիտալ!F68) -> -616.3 | G66: =SUM(F66) -> -616.3
E67: Քաղցրաշեն համայնքի դպրոցի վերանորոգում | F67: =SUM(Կապիտալ!F69) -> -658 | G67: =SUM(F67) -> -658
... E69: Արտաշատ քաղաքային համայնքի N 1 դպրոցի վերանորոգում | F69: =SUM(Կապիտալ!F71) -> 30627 | G69: =SUM(F69) -> 30627
A70: 09 | B70: 06 | C70: 01 | D70: 05 | E70: Կրթական օբյեկտների շինարարություն | F70: =SUM(G70:G70) -> -4281.8 | G70: =SUM(G72:G76) -> -4281.8
E71: այդ թվում՝
E72: Վերին Դվին համայնքի դպրոցի գազաֆիկացում, պատուհանների փոխարինում և ջեռուցման համակարգի կառուցում | F72: =SUM(Կապիտալ!F74) -> -895.6 | G72: =SUM(F72) -> -895.6
E73: Ոսկետափ համայնքի N 1 դպրոցի գազաֆիկացում, վերանորոգում և ջեռուցման համակարգի կառուցում | F73: =SUM(Կապիտալ!F75) -> -939.8 | G73: =SUM(F73) -> -939.8
E74: Փոքր Վեդի համայնքի դպրոցի գազաֆիկացում, պատուհանների փոխարինում և ջեռուցման համակարգի կառուցում | F74: =SUM(Կապիտալ!F76) -> -878.8 | G74: =SUM(F74) -> -878.8
E75: Նոր Ուղի համայնքի դպրոցի գազաֆիկացում, պատուհանների փոխարինում և ջեռուցման համակարգի կառուցում | F75: =SUM(Կապիտալ!F77) -> -688 | G75: =SUM(F75) -> -688
E76: Զորակ համայնքի դպրոցի գազաֆիկացում, պատուհանների փոխարինում և ջեռուցման համակարգի կառուցում | F76: =SUM(Կապիտալ!F78) -> -879.6 | G76: =SUM(F76) -> -879.6
E77: ՀՀ ԱՐՄԱՎԻՐԻ ՄԱՐԶՊԵՏԱՐԱՆ | F77: =SUM(F79,F88,F102) -> 0 | G77: =SUM(G79,G88,G102) -> 0
E78: այդ թվում՝
A79: 04 | B79: 05 | C79: 01 | D79: 01 | E79: Պետական նշանակության ավտոճանապարհների հիմնանորոգում | F79: =SUM(F81) -> 0 | G79: =SUM(G81) -> 0
E80: այդ թվում՝
E81: 1. Ճանապարհների հիմնանորոգում | F81: =F83 -> 0 | G81: =G83 -> 0
E82: որից՝
E83: 1.1 Մարզային նշանակության ա/ճանապարհներ | F83: =SUM(F85:F87) -> 0 | G83: =SUM(G85:G87) -> 0
E84: այդ թվում՝
E85: Տնկարան – Զինավան - 5 ավտոճանապարհի վերանորոգում | F85: =Կապիտալ!F87 -> -3922.5 | G85: =SUM(F85) -> -3922.5
E86: Մ-5-Մերձավան-Այգեկ-Մ-5 ավտոճանապարհի վերանորոգում | F86: =Կապիտալ!F88 -> 2922.5 | G86: =SUM(F86) -> 2922.5
E87: Մ-3 – Շահումյան ավտոճանապարհի վերանորոգում | F87: =Կապիտալ!F89 -> 1000 | G87: =SUM(F87) -> 1000
A88: 09 | B88: 06 | C88: 01 | D88: 02 | E88: Կրթական օբյեկտների հիմնանորոգում | F88: =SUM(F90:F101) -> -85985 | G88: =SUM(G90:G101) -> -85985
E89: այդ թվում՝
E90: Ջրառատ համայնքի միջնակարգ դպրոցի վերանորոգում /եռահարկ ուսումնական մասնաշենք/ | F90: =Կապիտալ!F92 -> -31050 | G90: =SUM(F90) -> -31050
E91: Արազափ համայնքի միջնակարգ դպրոցի վերանորոգում | F91: =Կապիտալ!F93 -> 32100 | G91: =SUM(F91) -> 32100
E92: Տանձուտ համայնքի միջնակարգ դպրոցի մարզադահլիճի ուժեղացում | F92: =Կապիտալ!F94 -> -46575 | G92: =SUM(F92) -> -46575
E93: Երասխահուն համայնքի միջնակարգ դպրոցի ուժեղացում | F93: =Կապիտալ!F95 -> -9588 | G93: =SUM(F93) -> -9588
E94: Տարոնիկ համայնքի միջնակարգ դպրոցի վերանորոգում | F94: =Կապիտալ!F96 -> 51500 | G94: =SUM(F94) -> 51500
E95: Արգինա համայնքի միջնակարգ դպրոցի վերանորոգում | F95: =Կապիտալ!F97 -> -40000 | G95: =SUM(F95) -> -40000
E96: Ջրաշեն համայնքի միջնակարգ դպրոցի վերանորոգում | F96: =Կապիտալ!F98 -> -205 | G96: =SUM(F96) -> -205
E97: Թաիրով համայնքի միջնակարգ դպրոցի տանիքի վերանորոգում | F97: =Կապիտալ!F99 -> -20700 | G97: =SUM(F97) -> -20700
E98: Մրգաշատ համայնքի թիվ 2 միջնակարգ դպրոցի տանիքի չվերանորոգված մասի վերանորոգում | F98: =Կապիտալ!F100 -> -23000 | G98: =SUM(F98) -> -23000
E99: Վաղարշապատ համայնքի թիվ 9 հիմնական դպրոցի վերանորոգում | F99: =Կապիտալ!F101 -> -1200 | G99: =SUM(F99) -> -1200
E100: Վաղարշապատ համայնքի թիվ 11 հիմնական դպրոցի վերանորոգում | F100: =Կապիտալ!F102 -> -6205 | G100: =SUM(F100) -> -6205
E101: Վաղարշապատ համայնքի թիվ 2 հատուկ դպրոցի վերանորոգում | F101: =Կապիտալ!F103 -> 8938 | G101: =SUM(F101) -> 8938
A102: 09 | B102: 06 | C102: 01 | D102: 05 | E102: Կրթական օբյեկտների շինարարություն | F102: =SUM(F104:F107) -> 85985 | G102: =SUM(G104:G107) -> 85985
...

Sheet Գնում
A1: Հավելված N 5
A2: ՀՀ կառավարության 2014 թվականի
A3: -ի N -Ն որոշման
A4: ՀԱՅԱՍՏԱՆԻ ՀԱՆՐԱՊԵՏՈՒԹՅԱՆ ԿԱՌԱՎԱՐՈՒԹՅԱՆ 2013 ԹՎԱԿԱՆԻ ԴԵԿՏԵՄԲԵՐԻ 19-Ի N 1414-Ն ՈՐՈՇՄԱՆ N 12 ՀԱՎԵԼՎԱԾՈՒՄ ԿԱՏԱՐՎՈՂ ԼՐԱՑՈՒՄՆԵՐԸ ԵՎ ՓՈՓՈԽՈՒԹՅՈՒՆՆԵՐԸ
A6: Կոդը | B6: Անվանումը | C6: Գնման ձևը | D6: Չափի միավորը | E6: Ցուցանիշների փոփոխությունը (ավելացումները նշված են դրական նշանով, իսկ նվազեցումները՝ փակագծերում)
E7: քանակը | F7: գումարը
F8: (հազ. դրամ)
A9: ՀՀ Արագածոտնի մարզպետարան | F9: =F10+F14+F18 -> -14630.1
A10: Բաժին N 04, Խումբ 05, Դաս 01 Ճանապարհային տրանսպորտ | F10: =F11 -> -3422.3
A11: 1. Պետական նշանակության ավտոճանապարհների հիմնանորոգում | F11: =F12 -> -3422.3
A12: ԱՇԽԱՏԱՆՔՆԵՐ | F12: =F13 -> -3422.3
A13: 45233142-1 | B13: ճանապարհների վերանորոգման աշխատանքներ | C13: ԲԸԱՀ | D13: դրամ | E13: 1 | F13: =SUM(Կապիտալ!H14) -> -3422.3
A14: Բաժին N 09, Խումբ 06, Դաս 01 Կրթությանը տրամադրվող օժանդակ ծառայություններ | F14: =F15 -> -6240.4
A15: 1. Կրթական օբյեկտների հիմնանորոգում | F15: =F16 -> -6240.4
A16: ԱՇԽԱՏԱՆՔՆԵՐ | F16: =F17 -> -6240.4
A17: 45453000-1 | B17: Հիմնական վերանորոգման և վերականգնողական աշխատանքներ | C17: ԲԸԱՀ | D17: դրամ | E17: 1 | F17: =SUM(Կապիտալ!H24) -> -6240.4
A18: Բաժին N 11, Խումբ 01, Դաս 01 ՀՀ կառավարության պահուստային ֆոնդ | F18: =F19+F21 -> -4967.4
A19: ԱՇԽԱՏԱՆՔՆԵՐ | F19: =SUM(F20:F20) -> 275.6
A20: 45453000-1 | B20: Հիմնական վերանորոգման և վերականգնողական աշխատանքներ | C20: ԲԸԱՀ | D20: դրամ | E20: 1 | F20: =SUM(Արագածոտն!D9) -> 275.6
A21: ԾԱՌԱՅՈՒԹՅՈՒՆՆԵՐ | F21: =F22 -> -5243
A22: 71242000-1 | B22: նախագծերի պատրաստում, ծախսերի գնահատում | C22: ԲԸԱՀ | D22: դրամ | E22: 1 | F22: =SUM(Արագածոտն!D18) -> -5243
A23: ՀՀ Արարատի մարզպետարան | F23: =F25+F30 -> 0
A24: Բաժին N 04, Խումբ 05, Դաս 01 Ճանապարհային տրանսպորտ | F24: =F25 -> -17173
A25: 1. Պետական նշանակության ավտոճանապարհների հիմնանորոգում | F25: =F26+F28 -> -17173
A26: ԱՇԽԱՏԱՆՔՆԵՐ | F26: =F27 -> -13230
A27: 45233142-1 | B27: ճանապարհների վերանորոգման աշխատանքներ | C27: ԲԸԱՀ | D27: դրամ | E27: 1 | F27: =SUM(Կապիտալ!H33) -> -13230
A28: ԾԱՌԱՅՈՒԹՅՈՒՆՆԵՐ | F28: =F29 -> -3943
A29: 71242000-1 | B29: նախագծերի պատրաստում, ծախսերի գնահատում | C29: ԲԸԱՀ | D29: դրամ | E29: 1 | F29: =SUM(Կապիտալ!I33) -> -3943
A30: Բաժին N 09, Խումբ 06, Դաս 01 Կրթությանը տրամադրվող օժանդակ ծառայություններ | F30: =SUM(F31,F36) -> 17173
A31: 1. Կրթական օբյեկտների հիմնանորոգում | F31: =F32+F34 -> 21454.8
A32: ԱՇԽԱՏԱՆՔՆԵՐ | F32: =F33 -> 22491.6
A33: 45453000-1 | B33: Հիմնական վերանորոգման և վերականգնողական աշխատանքներ | C33: ԲԸԱՀ | D33: դրամ | E33: 1 | F33: =SUM(Կապիտալ!H56) -> 22491.6
A34: ԾԱՌԱՅՈՒԹՅՈՒՆՆԵՐ | F34: =F35 -> -1036.8
A35: 71242000-1 | B35: նախագծերի պատրաստում, ծախսերի գնահատում | C35: ԲԸԱՀ | D35: դրամ | E35: 1 | F35: =SUM(Կապիտալ!I56) -> -1036.8
A36: 2. Կրթական օբյեկտների շինարարություն | F36: =F37+F39 -> -4281.8
A37: ԱՇԽԱՏԱՆՔՆԵՐ | F37: =F38 -> -3294
A38: 45223200-1 | B38: Ընդհանուր շինարարական աշխատանքներ | C38: ԲԸԱՀ | D38: դրամ | E38: 1 | F38: =SUM(Կապիտալ!G72) -> -3294
A39: ԾԱՌԱՅՈՒԹՅՈՒՆՆԵՐ | F39: =F40 -> -987.8
A40: 71242000-1 | B40: նախագծերի պատրաստում, ծախսերի գնահատում | C40: ԲԸԱՀ | D40: դրամ | E40: 1 | F40: =SUM(Կապիտալ!I72) -> -987.8
A41: ՀՀ Արմավիրի մարզպետարան | F41: =F42+F51 -> 5170
A42: Բաժին N 09, Խումբ 06, Դաս 01 Կրթությանը տրամադրվող օժանդակ ծառայություններ | F42: =F43+F48 -> 0
A43: 1. Կրթական օբյեկտների հիմնանորոգում | F43: =F44+F46 -> -85985
A44: ԱՇԽԱՏԱՆՔՆԵՐ | F44: =F45 -> -82660
A45: 45453000-1 | B45: Հիմնական վերանորոգման և վերականգնողական աշխատանքներ | C45: ԲԸԱՀ | D45: դրամ | E45: 1 | F45: =SUM(Կապիտալ!H90) -> -82660
A46: ԾԱՌԱՅՈՒԹՅՈՒՆՆԵՐ | F46: =F47 -> -3325
A47: 71242000-1 | B47: նախագծերի պատրաստում, ծախսերի գնահատում | C47: ԲԸԱՀ | D47: դրամ | E47: 1 | F47: =SUM(Կապիտալ!I90) -> -3325
A48: 2. Կրթական օբյեկտների շինարարություն | F48: =F49 -> 85985
A49: ԱՇԽԱՏԱՆՔՆԵՐ | F49: =F50 -> 85985
A50: 45223200-1 | B50: Ընդհանուր շինարարական աշխատանքներ | C50: ԲԸԱՀ | D50: դրամ | E50: 1 | F50: =SUM(Կապիտալ!G104) -> 85985
A51: Բաժին N 11, Խումբ 01, Դաս 01 ՀՀ կառավարության պահուստային ֆոնդ | F51: =F52 -> 5170
A52: ԱՇԽԱՏԱՆՔՆԵՐ | F52: =SUM(F53:F54) -> 5170
A53: 45223200-1 | B53: Ընդհանուր շինարարական աշխատանքներ | C53: ԲԸԱՀ | D53: դրամ | E53: 1 | F53: =SUM(Արմավիր!D9) -> 2370
A54: 45453000-1 | B54: Հիմնական վերանորոգման և վերականգնողական աշխատանքներ | C54: ԲԸԱՀ | D54: դրամ | E54: 1 | F54: =Արմավիր!D17 -> 2800
A55: ՀՀ Գեղարքունիքի մարզպետարան | F55: =F56+F60 -> 0
A56: Բաժին N 09, Խումբ 06, Դաս 01 Կրթությանը տրամադրվող օժանդակ ծառայություններ | F56: =F57 -> -41400
A57: 1. Կրթական օբյեկտների հիմնանորոգում | F57: =SUM(F58) -> -41400
A58: ԱՇԽԱՏԱՆՔՆԵՐ | F58: =F59 -> -41400
A59: 45453000-1 | B59: Հիմնական վերանորոգման և վերականգնողական աշխատանքներ | C59: ԲԸԱՀ | D59: դրամ | E59: 1 | F59: =SUM(Կապիտալ!H111) -> -41400
A60: Բաժին N 11, Խումբ 01, Դաս 01 ՀՀ կառավարության պահուստային ֆոնդ | F60: =F61 -> 41400
A61: ԱՇԽԱՏԱՆՔՆԵՐ | F61: =F62 -> 41400
A62: 45223200-1 | B62: Ընդհանուր շինարարական աշխատանքներ | C62: ԲԸԱՀ | D62: դրամ | E62: 1 | F62: =SUM(Գեղարքունիք!D9) -> 41400
A63: ՀՀ Լոռու մարզպետարան | F63: =F64+F68 -> -15960
A64: Բաժին N 04, Խումբ 05, Դաս 01 Ճանապարհային տրանսպորտ | F64: =F65 -> -9460
A65: 1. Պետական նշանակության ավտոճանապարհների հիմնանորոգում | F65: =F66 -> -9460
A66: ԱՇԽԱՏԱՆՔՆԵՐ | F66: =F67 -> -9460
A67: 45233142-1 | B67: ճանապարհների վերանորոգման աշխատանքներ | C67: ԲԸԱՀ | D67: դրամ | E67: 1 | F67: =SUM(Կապիտալ!H118) -> -9460
A68: Բաժին N 09, Խումբ 06, Դաս 01 Կրթությանը տրամադրվող օժանդակ ծառայություններ | F68: =F69+F72 -> -6500
A69: 1. Կրթական օբյեկտների հիմնանորոգում | F69: =F70 -> -1250
A70: ԱՇԽԱՏԱՆՔՆԵՐ | F70: =F71 -> -1250
A71: 45453000-1 | B71: Հիմնական վերանորոգման և վերականգնողական աշխատանքներ | C71: ԲԸԱՀ | D71: դրամ | E71: 1 | F71: =SUM(Կապիտալ!H133) -> -1250
A72: 2. Կրթական օբյեկտների շինարարություն | F72: =F73 -> -5250
A73: ԱՇԽԱՏԱՆՔՆԵՐ | F73: =F74 -> -5250
A74: 45223200-1 | B74: Ընդհանուր շինարարական աշխատանքներ | C74: ԲԸԱՀ | D74: դրամ | E74: 1 | F74: =SUM(Կապիտալ!G149) -> -5250
A75: ՀՀ Կոտայքի մարզպետարան | F75: =F76+F82+F86 -> -5167.2
A76: Բաժին N 04, Խումբ 05, Դաս 01 Ճանապարհային տրանսպորտ | F76: =F77 -> 8541.4
A77: 1. Պետական նշանակության ավտոճանապարհների հիմնանորոգում | F77: =F78+F80 -> 8541.4
A78: ԱՇԽԱՏԱՆՔՆԵՐ | F78: =F79 -> 7994
A79: 45233142-1 | B79: ճանապարհների վերանորոգման աշխատանքներ | C79: ԲԸԱՀ | D79: դրամ | E79: 1 | F79: =SUM(Կապիտալ!H154) -> 7994
A80: ԾԱՌԱՅՈՒԹՅՈՒՆՆԵՐ | F80: =F81 -> 547.4
A81: 71242000-1 | B81: նախագծերի պատրաստում, ծախսերի գնահատում | C81: ԲԸԱՀ | D81: դրամ | E81: 1 | F81: =SUM(Կապիտալ!I154) -> 547.4
A82: Բաժին N 09, Խումբ 06, Դաս 01 Կրթությանը տրամադրվող օժանդակ ծառայություններ | F82: =F83 -> -6188.6
A83: 1. Կրթական օբյեկտների հիմնանորոգում | F83: =F84 -> -6188.6
A84: ԱՇԽԱՏԱՆՔՆԵՐ | F84: =F85 -> -6188.6
A85: 45453000-1 | B85: Հիմնական վերանորոգման և վերականգնողական աշխատանքներ | C85: ԲԸԱՀ | D85: դրամ | E85: 1 | F85: =SUM(Կապիտալ!H169) -> -6188.6
A86: Բաժին N 11, Խումբ 01, Դաս 01 ՀՀ կառավարության պահուստային ֆոնդ | F86: =F87+F89 -> -7520
A87: ԱՇԽԱՏԱՆՔՆԵՐ | F87: =SUM(F88:F88) -> -5900
A88: 45223200-1 | B88: Ընդհանուր շինարարական աշխատանքներ | C88: ԲԸԱՀ | D88: դրամ | E88: 1 | F88: =SUM(Կոտայք!D9) -> -5900
A89: ԾԱՌԱՅՈՒԹՅՈՒՆՆԵՐ | F89: =F90 -> -1620
A90: 71242000-1 | B90: նախագծերի պատրաստում, ծախսերի գնահատում | C90: ԲԸԱՀ | D90: դրամ | E90: 1 | F90: =SUM(Կոտայք!D15) -> -1620
A91: ՀՀ Շիրակի մարզպետարան | F91: =F92+F96+F103 -> -45419
A92: Բաժին N 04, Խումբ 05, Դաս 01 Ճանապարհային տրանսպորտ | F92: =F93 -> -12218
A93: 1. Պետական նշանակության ավտոճանապարհների հիմնանորոգում | F93: =F94 -> -12218
A94: ԱՇԽԱՏԱՆՔՆԵՐ | F94: =F95 -> -12218
A95: 45233142-1 | B95: ճանապարհների վերանորոգման աշխատանքներ | C95: ԲԸԱՀ | D95: դրամ | E95: 1 | F95: =SUM(Կապիտալ!H187) -> -12218
A96: Բաժին N 09, Խումբ 06, Դաս 01 Կրթությանը տրամադրվող օժանդակ ծառայություններ | F96: =SUM(F97,F100) -> -43201
A97: 1. Կրթական օբյեկտների հիմնանորոգում | F97: =F98 -> -39951
A98: ԱՇԽԱՏԱՆՔՆԵՐ | F98: =F99 -> -39951
A99: 45453000-1 | B99: Հիմնական վերանորոգման և վերականգնողական աշխատանքներ | C99: ԲԸԱՀ | D99: դրամ | E99: 1 | F99: =SUM(Կապիտալ!H202) -> -39951
A100: 2. Կրթական օբյեկտների շինարարություն | F100: =F101 -> -3250
A101: ԱՇԽԱՏԱՆՔՆԵՐ | F101: =F102 -> -3250
...

Sheet Արագածոտն
A1: Հավելված N 6
A2: ՀՀ կառավարության 2014 թվականի -ի N -Ն որոշման
A3: ՀԱՅԱՍՏԱՆԻ ՀԱՆՐԱՊԵՏՈՒԹՅԱՆ ԿԱՌԱՎԱՐՈՒԹՅԱՆ 2014 ԹՎԱԿԱՆԻ ՄԱՐՏԻ 19-Ի N 363-Ն ՈՐՈՇՄԱՆ N 7 ՀԱՎԵԼՎԱԾՈՒՄ ԿԱՏԱՐՎՈՂ ՓՈՓՈԽՈՒԹՅՈՒՆՆԵՐԸ ԵՎ ԼՐԱՑՈՒՄՆԵՐԸ
A4: հազար դրամներով
A5: Հ/Հ | B5: Բյուջետային ծախսերի տնտեսագիտական դասակարգման հոդվածների և աշխատանքների անվանումները | C5: Ցուցանիշների փոփոխությունը (ավելացումները նշված են դրական նշանով, իսկ նվազեցումները՝ փակագծերում)
C6: Ինն ամիս | D6: Տարի
B7: ԸՆԴԱՄԵՆԸ | C7: =SUM(C9,C14,C18,C19,C24) -> 9615.9 | D7: =SUM(D9,D14,D18,D19,D24) -> 9615.9
B8: այդ թվում՝
A9: 1 | B9: Շենքերի և շինությունների կապիտալ վերանորոգում | C9: =SUM(C11:C13) -> 275.6 | D9: =SUM(D11:D13) -> 275.6
B10: որից`
A11: 1.1 | B11: Աշնակ համայնքի կենցաղի տան վերանորոգում | C11: -1080 | D11: -1080
A12: 1.2 | B12: Ոսկեթաս համայնքի հանդիսությունների տան վերանորոգում | C12: -644.4 | D12: -644.4
A13: 1.3 | B13: Աշտարակ համայնքի Վ. Պետրոսյանի անվան դպրոցի սանհանգույցների վերանորոգում | C13: 2000 | D13: 2000
A14: 2 | B14: Այլ ընթացիկ դրամաշնորհներ | C14: =SUM(C16:C17) -> -3529.1 | D14: =SUM(D16:D17) -> -3529.1
B15: որից`
A16: 2.1 | B16: Արագածոտնի մարզի ցրտահարությունից տուժած համայնքների ոռոգման ջրի վարձի 50 տոկոսի չափով փոխհատուցման նպատակաով Արագածոտնի մարզի բնակիչներին պետական աջակցության ցուցաբերում | C16: -3351.3 | D16: -3351.3
A17: 2.2 | B17: Արագածոտնի մարզի ցրտահարությունից տուժած համայնքների հողի հարկի չափով փոխհատուցման նպատակաով Արագածոտնի մարզի բնակիչներին պետական աջակցության ցուցաբերում | C17: -177.8 | D17: -177.8
A18: 3 | B18: Նախագծահետազոտական ծախսեր | C18: -5243 | D18: -5243
A19: 4 | B19: Կապիտալ սուբվենցիաներ համայնքներին | C19: =SUM(C21:C23) -> 14583.3 | D19: =SUM(D21:D23) -> 14583.3
B20: որից`
A21: 4.1 | B21: «Համայնքների գյուղատնտեսական ռեսուրսների կառավարման և մրցունակության» ծրագրի շրջանակներում Ագարակավան համայնքի գյուղատնտեսական տեխնիկայի ձեռք բերման նպատակով Ագարակավան համայնքին աջակցության ցուցաբերում | C21: 6000 | D21: 6000
A22: 4.2 | B22: Օրգով համայնքի համայնքային կենտրոնի կառուցման նպատակով Օրգով համայնքին աջակցության ցուցաբերում | C22: 2583.3 | D22: 2583.3
A23: 4.3 | B23: Կարմրաշեն համայնքի հանդիսությունների տան վերանորոգման նպատակով Կարմրաշեն համայնքին աջակցության ցուցաբերում | C23: 6000 | D23: 6000
A24: 5 | B24: Այլ նպաստներ բյուջեից | C24: =SUM(C26) -> 3529.1 | D24: =SUM(D26) -> 3529.1
B25: որից`
A26: 5.1 | B26: Արագածոտնի մարզի կարկտահարությունից տուժած Արտենի, Արագածավան և Լուսակն համայնքների գյուղացիական տնտեսությունների հողի հարկի մասնակի փոխհատուցման նպատակով պետական աջակցության ցուցաբերում | C26: 3529.1 | D26: 3529.1

Sheet Արագածոտն ծր
A1: Հավելված N 4
A2: ՀՀ կառավարության 2014 թվականի
A3: -ի N -Ն որոշման
A4: Աղյուսակ N 1
A7: ՀԱՅԱՍՏԱՆԻ ՀԱՆՐԱՊԵՏՈՒԹՅԱՆ ԿԱՌԱՎԱՐՈՒԹՅԱՆ 2013 ԹՎԱԿԱՆԻ ԴԵԿՏԵՄԲԵՐԻ 19-Ի N 1414-Ն ՈՐՈՇՄԱՆ N 11 ՀԱՎԵԼՎԱԾԻ N 11.50 ԱՂՅՈՒՍԱԿՈՒՄ ԿԱՏԱՐՎՈՂ ՓՈՓՈԽՈՒԹՅՈՒՆՆԵՐԸ ԵՎ ԼՐԱՑՈՒՄՆԵՐԸ
A8: ՄԱՍ Գ: Նախարարի պատասխանատվության ներքո իրականացվող քաղաքականության միջոցառումների և ֆինանսական կառավարման արդյունքների ցուցանիշները
A10: 1.2. Տրանսֆերտներ
A11: Չափորոշիչներ | D11: Ցուցանիշների փոփոխությունը (ավելացումները նշված են դրական նշանով, իսկ նվազեցումները՝ փակագծերում)
D12: Ոչ ֆինանսական ցուցանիշներ | F12: Ֆինանսական ցուցանիշներ
D13: Ինն ամիս | E13: Տարի | F13: Ինն ամիս | G13: Տարի
A14: Ծրագրային դասիչը | C14: Անվանումը
C15: Աջակցություն ՀՀ Արագածոտնի մարզի համայնքներին
A16: 1047 | B16: ԾՏ45 | C16: Նկարագրություն՝
C17: Պետական անհատույց աջակցություն համայնքներին` ցրտահարությունից և կարկտահարությունից տուժած համայնքներին հողի հարկի ու ջրի վարձավճարների փոխհատուցման և գյուղատնտեսական տեխնիկայի ձեռք բերման նպատակով
A18: Շահառուների քանակը | C18: 1. Տրանսֆերտ ստացող ՏԻՄ-երի քանակը
A19: Գումարը (հազար դրամ) | D19: X | E19: X | F19: =SUM(Արագածոտն!C16:C17,Արագածոտն!C21,Արագածոտն!C26) -> 6000 | G19: =SUM(Արագածոտն!D16:D17,Արագածոտն!D21,Արագածոտն!D26) -> 6000
A20: Տրանսֆերտի վճարման հաճախականությունը
A21: Շահառուների ընտրության չափանիշները
A22: Համայնքի սոցիալական խնդիրների կարգավորման անհրաժեշտությունը
A23: Ծրագիրը (ծրագրերը), որի (որոնց) շրջանակներում իրականացվում է քաղաքականության միջոցառումը
A24: 1047 Աջակցություն համայնքային, միջհամայնքային, ոչ կառավարական, մասնավոր և այլ կազմակերպություններին և անհատներին
A25: Վերջնական արդյունքի նկարագրությունը
A26: Համայնքներում կյանքի ստանդարտների բարելավում
A28: 1.4. Ներդրումներ լիազոր կառավարման ներքո գտնվող պետական կազմակերպություններում
A30: Չափորոշիչներ | D30: Ցուցանիշների փոփոխությունը (ավելացումները նշված են դրական նշանով, իսկ նվազեցումները՝ փակագծերում)
D31: Ոչ ֆինանսական ցուցանիշներ | F31: Ֆինանսական ցուցանիշներ
D32: Առաջին կիսամյակ | E32: Տարի | F32: Առաջին կիսամյակ | G32: Տարի
A33: Ծրագրային դասիչը | C33: Անվանումը
C34: Ներդրումներ մշակութային օբյեկտներում
A35: 1168 | B35: ԵԿ04 | C35: Նկարագրություն՝
C36: Ներդրումներ՝ ՀՀ Արագածոտնի մարզի մշակութային շենքերի կապիտալ վերանորոգման նպատակով
A37: Ծախսերը (հազար դրամ) | D37: X | E37: X | F37: =SUM(Արագածոտն!C11:C12,Արագածոտն!C22:C23) -> 6858.9 | G37: =SUM(Արագածոտն!D11:D12,Արագածոտն!D22:D23) -> 6858.9
A38: Կազմակերպությունը, որտեղ կատարվում է ներդրումը`
A39: ՀՀ Արագածոտնի մարզի թվով 2 մշակութային օբյեկտ
A40: Ներդրման հիմնավորումը, մասնավորապես, ազդեցությունը կարողությունների վրա`
A41: Քանակական, որակական, ժամկետայնության և այլ չափորոշիչների փոփոխության վրա | C41: Ներդրումներն անհրաժեշտ է, որպեսզի դրանք ապահովեն ծառայությունների մատուցումը գործող չափորոշիչներին համապատասխան անհրաժեշտ ծավալով և որակով
A42: Ծախսային արդյունավետության բարելավման վրա
A43: Ծրագիրը (ծրագրերը), որի (որոնց) շրջանակներում իրականացվում է քաղաքականության միջոցառումը
A44: 1168 Արվեստի պահպանման և զարգացման ծրագիր
A45: Վերջնական արդյունքի նկարագրությունը
A46: Քաղաքացիական հասարակության տեղեկացվածության և հաղորդակցման բարձրացում արվեստի ոլորտում
A47: Ծրագրային դասիչը | C47: Անվանումը
C48: Կրթական օբյեկտների հիմնանորոգում
A49: 1146 | B49: ԵԿ06 | C49: Նկարագրություն՝
C50: Ներդրումներ ՀՀ Արագածոտնի մարզպետի կառավարման լիազորությունների տակ գտնվող հանրակրթական դպրոցների շենքերի կապիտալ վերանորոգման նպատակով
A51: Ծախսերը (հազար դրամ) | D51: X | E51: X | F51: =SUM(Եռամսյակային!F22,Արագածոտն!C13) -> -4240.4 | G51: =SUM(F51) -> -4240.4
A52: Կազմակերպությունը, որտեղ կատարվում է ներդրումը`
A53: ՀՀ Արագածոտնի մարզպետի ենթակայության թվով 1 հանրակրթական դպրոցներ
A54: Ներդրման հիմնավորումը, մասնավորապես, ազդեցությունը կարողությունների վրա`
A55: Քանակական, որակական, ժամկետայնության և այլ չափորոշիչների փոփոխության վրա | C55: Հիմնանորոգումն անհրաժեշտ է, որպեսզի դպրոցները կրթական ծառայությունները մատուցեն գործող չափորոշիչներին համապատասխան` անհրաժեշտ ծավալով և որակով
A56: Ծախսային արդյունավետության բարելավման վրա
A57: Ծրագիրը (ծրագրերը), որի (որոնց) շրջանակներում իրականացվում է քաղաքականության միջոցառումը
A58: 1146 Հանրակրթության ծրագիր
A59: Վերջնական արդյունքի նկարագրությունը
A60: Հանրակարթական մակարդակում սովորողների ընդգրկվածության, գրագիտության և համակողմանի զարգացման բարձր մակարդակի ապահովում
A63: 1.6. Հանրության կողմից օգտագործվող ոչ ֆինանսական ակտիվներ
A64: 1.6.1. Հանրության կողմից օգտագործվող ոչ ֆինանսական ակտիվներ
A65: Չափորոշիչներ | D65: Ցուցանիշների փոփոխությունը (ավելացումները նշված են դրական նշանով, իսկ նվազեցումները՝ փակագծերում)
D66: Ոչ ֆինանսական ցուցանիշներ | F66: Ֆինանսական ցուցանիշներ
D67: Առաջին կիսամյակ | E67: Տարի | F67: Առաջին կիսամյակ | G67: Տարի
A68: Ծրագրային դասիչը | C68: Անվանումը
C69: Նախագծային աշխատանքներ
A70: 1047 | B70: ԱՁ02 | C70: Նկարագրություն՝
C71: Շինարարության (հիմնանորոգման) համար անհրաժեշտ նախագծա-նախահաշվային փաստաթղթերի մշակման (լրամշակման) աշխատանքներ
A72: Քանակական | C72: Նախագծա-նախահաշվային փատաթղթերի քանակը, հատ
A73: Որակական | C73: Համապատասխանություն ՀՀ քաղաքաշինական նորմատիվա-տեխնիկական փաստաթղթերին, տոկոս
A74: Տվյալ տարվա պետական բյուջեից ակտիվի ձեռք բերման, կառուցման կամ հիմնանորոգման վրա կատարվող ծախսերը (հազար դրամ) | F74: =SUM(Արագածոտն!C18) -> -5243 | G74: =SUM(Արագածոտն!D18) -> -5243
A75: Ակտիվի ընդհանուր արժեքը (հազար դրամ) | C75: =G74 -> -5243
A76: Տվյալ բյուջետային տարվան նախորդող բյուջետային տարիների ընթացքում ակտիվի վրա կատարված ծախսերը (հազար դրամ)
A77: Ծրագիրը (ծրագրերը), որի (որոնց) շրջանակներում իրականացվում է քաղաքականության միջոցառումը
A78: 1047 Աջակցություն համայնքային, միջհամայնքային, ոչ կառավարական, մասնավոր և այլ կազմակերպություններին և անհատներին
A79: Վերջնական արդյունքի նկարագրությունը
A80: Համայնքներում կյանքի ստանդարտների բարելավում
A81: Ծրագրային դասիչը | C81: Անվանումը
C82: Տեղական նշանակության ճանապարհների, կամուրջների և լուսավորության համակարգի հիմնանորոգում
C83: Նկարագրությունը
A84: 1049 | B84: ԱՁ11 | C84: Ավտոճանապարհների քայքայված ծածկի նորոգում, մաշված ծածկի փոխարինում
A85: Քանակական | C85: Հիմնանորոգվող ավտոճանապարհների մակերեսը, հազ ք/մ,
A86: Որակական
A87: Տվյալ տարվա ՀՀ պետական բյուջեից ակտիվի ձեռքբերման, կառուցման կամ հիմնանորոգման վրա կատարվող ծախսերը (հազ. դրամ) | F87: =Կապիտալ!H14 -> -3422.3 | G87: =SUM(F87) -> -3422.3
A88: Ակտիվի ընդհանուր արժեքը (հազ. դրամ) | C88: =G87 -> -3422.3
A89: Տվյալ բյուջետային տարվան նախորդող բյուջետային տարիների ընթացքում ակտիվի վրա կատարված ծախսերը (հազ. դրամ)
A90: Ծրագիրը (ծրագրերը), որի (որոնց) շրջանակներում իրականացվում է քաղաքականության միջոցառումը
A91: 1049. Ճանապարհային ցանցի բարելավման և անվտանգ երթևկության ապահովման ծառայություններ
A92: Վերջնական արդյունքի նկարագրությունը
A93: Ճանապարհներին վթարների և դժբախտ պատահարների նվազում, ուղևորափոխադրումների և բեռնափոխադրումների ժամանակի կրճատում, տրանսպորտային միջոցների շահագործման ժամկետի երկարացում և վերանորոգման ծախսերի կրճատում

Sheet Արարատ
A1: Հավելված N 8
A2: ՀՀ կառավարության 2014 թվականի -ի N -Ն որոշման
A3: ՀԱՅԱՍՏԱՆԻ ՀԱՆՐԱՊԵՏՈՒԹՅԱՆ ԱՐԱՐԱՏԻ ՄԱՐԶՊԵՏԱՐԱՆԻՆ ՀԱՏԿԱՑՎԱԾ ԳՈՒՄԱՐՆԵՐԻ ԲԱՇԽՈՒՄԸ
A4: հազար դրամներով
A5: Հ/Հ | B5: Բյուջետային ծախսերի տնտեսագիտական դասակարգման հոդվածների և աշխատանքների անվանումները | C5: Ինն ամիս | D5: Տարի
B6: ԸՆԴԱՄԵՆԸ | C6: =C8+C12 -> 248000 | D6: =D8+D12 -> 248000
B7: այդ թվում՝
A8: 1 | B8: Այլ ընթացիկ դրամաշնորհներ | C8: =SUM(C10:C11) -> 218000 | D8: =SUM(D10:D11) -> 218000
B9: որից`
A10: 1.1 | B10: Արարատի մարզի ցրտահարությունից տուժած համայնքների ոռոգման ջրի վարձի 50 տոկոսի չափով փոխհատուցման նպատակաով Արարատի մարզի բնակիչներին պետական աջակցության ցուցաբերում | C10: 150000 | D10: 150000
A11: 1.2 | B11: Արարատի մարզի ցրտահարությունից տուժած համայնքների հողի հարկի չափով փոխհատուցման նպատակաով Արարատի մարզի բնակիչներին պետական աջակցության ցուցաբերում | C11: 68000 | D11: 68000
A12: 2 | B12: Նախագծահետազոտական ծախսեր | C12: 30000 | D12: 30000

Sheet Արարատ ծր
A1: Աղյուսակ N 2
A3: ՀԱՅԱՍՏԱՆԻ ՀԱՆՐԱՊԵՏՈՒԹՅԱՆ ԿԱՌԱՎԱՐՈՒԹՅԱՆ 2013 ԹՎԱԿԱՆԻ ԴԵԿՏԵՄԲԵՐԻ 19-Ի N 1414-Ն ՈՐՈՇՄԱՆ N 11 ՀԱՎԵԼՎԱԾԻ N 11.51 ԱՂՅՈՒՍԱԿՈՒՄ ԿԱՏԱՐՎՈՂՓՈՓՈԽՈՒԹՅՈՒՆՆԵՐԸ ԵՎ ԼՐԱՑՈՒՄՆԵՐԸ
A5: ՄԱՍ Գ: Նախարարի պատասխանատվության ներքո իրականացվող քաղաքականության միջոցառումների և ֆինանսական կառավարման արդյունքների ցուցանիշները
A7: 1.4. Ներդրումներ լիազոր կառավարման ներքո գտնվող պետական կազմակերպություններում
A9: Չափորոշիչներ | D9: Ցուցանիշների փոփոխությունը (ավելացումները նշված են դրական նշանով, իսկ նվազեցումները՝ փակագծերում)
D10: Ոչ ֆինանսական ցուցանիշներ | F10: Ֆինանսական ցուցանիշներ
D11: Ինն ամիս | E11: Տարի | F11: Ինն ամիս | G11: Տարի
A12: Ծրագրային դասիչը | C12: Անվանումը
C13: Կրթական օբյեկտների հիմնանորոգում
A14: 1146 | B14: ԵԿ15 | C14: Նկարագրություն՝
C15: Ներդրումներ ՀՀ Արարատի մարզպետի կառավարման լիազորությունների տակ գտնվող հանրակրթական դպրոցների շենքերի կապիտալ վերանորոգման նպատակով
A16: Ծախսերը (հազար դրամ) | D16: X | E16: X | F16: =SUM(Կապիտալ!H56,Կապիտալ!G72) -> 19197.6 | G16: =SUM(F16) -> 19197.6
A17: Կազմակերպությունը, որտեղ կատարվում է ներդրումը`
A18: ՀՀ Արարատի մարզպետի ենթակայության թվով 1 հանրակրթական դպրոց
A19: Ներդրման հիմնավորումը, մասնավորապես, ազդեցությունը կարողությունների վրա`
A20: Քանակական, որակական, ժամկետայնության և այլ չափորոշիչների փոփոխության վրա | C20: Հիմնանորոգումն անհրաժեշտ է, որպեսզի դրանք ապահովեն ծառայությունների մատուցումը գործող չափորոշիչներին համապատասխան անհրաժեշտ ծավալով և որակով
A21: Ծախսային արդյունավետության բարելավման վրա
A22: Ծրագիրը (ծրագրերը), որի (որոնց) շրջանակներում իրականացվում է քաղաքականության միջոցառումը
A23: 1146 Հանրակրթության ծրագիր
A24: Վերջնական արդյունքի նկարագրությունը
A25: Հանրակարթական մակարդակում սովորողների ընդգրկվածության, գրագիտության և համակողմանի զարգացման բարձր մակարդակի ապահովում
A26: 1.6. Հանրության կողմից օգտագործվող ոչ ֆինանսական ակտիվներ
A27: 1.6.1. Հանրության կողմից օգտագործվող ոչ ֆինանսական ակտիվներ
A28: Չափորոշիչներ | D28: Ցուցանիշների փոփոխությունը (ավելացումները նշված են դրական նշանով, իսկ նվազեցումները՝ փակագծերում)
D29: Ոչ ֆինանսական ցուցանիշներ | F29: Ֆինանսական ցուցանիշներ
D30: Ինն ամիս | E30: Տարի | F30: Ինն ամիս | G30: Տարի
A31: Ծրագրային դասիչը | C31: Անվանումը
C32: Նախագծային աշխատանքներ
A33: 1047 | B33: ԱՁ07 | C33: Նկարագրություն՝
C34: Շինարարության (հիմնանորոգման) համար անհրաժեշտ նախագծա-նախահաշվային փաստաթղթերի մշակման (լրամշակման) աշխատանքներ
A35: Քանակական | C35: Նախագծա-նախահաշվային փատաթղթերի քանակը, հատ | D35: 1 | E35: 1
A36: Որակական | C36: Համապատասխանություն ՀՀ քաղաքաշինական նորմատիվա-տեխնիկական փաստաթղթերին, տոկոս
A37: Տվյալ տարվա պետական բյուջեից ակտիվի ձեռք բերման, կառուցման կամ հիմնանորոգման վրա կատարվող ծախսերը (հազար դրամ) | F37: =SUM(Կապիտալ!I31) -> -5967.6 | G37: =SUM(F37) -> -5967.6
A38: Ակտիվի ընդհանուր արժեքը (հազար դրամ) | C38: =G37 -> -5967.6
A39: Տվյալ բյուջետային տարվան նախորդող բյուջետային տարիների ընթացքում ակտիվի վրա կատարված ծախսերը (հազար դրամ)
A40: Ծրագիրը (ծրագրերը), որի (որոնց) շրջանակներում իրականացվում է քաղաքականության միջոցառումը
A41: 1047 Աջակցություն համայնքային, միջհամայնքային, ոչ կառավարական, մասնավոր և այլ կազմակերպություններին և անհատներին
A42: Վերջնական արդյունքի նկարագրությունը
A43: Համայնքներում կյանքի ստանդարտների բարելավում
A44: Ծրագրային դասիչը | C44: Անվանումը
C45: Տեղական նշանակության ճանապարհների և կամուրջների հիմնանորոգում
C46: Նկարագրությունը
A47: 1049 | B47: ԱՁ12 | C47: Ավտոճանապարհների քայքայված ծածկի նորոգում, մաշված ծածկի փոխարինում
A48: Քանակական | C48: Հիմնանորոգվող ավտոճանապարհների մակերեսը, հազ ք/մ,
A49: Որակական
A50: Տվյալ տարվա ՀՀ պետական բյուջեից ակտիվի ձեռքբերման, կառուցման կամ հիմնանորոգման վրա կատարվող ծախսերը (հազ. դրամ) | F50: =SUM(Կապիտալ!H33) -> -13230 | G50: =SUM(F50) -> -13230
A51: Ակտիվի ընդհանուր արժեքը (հազ. դրամ) | C51: =G50 -> -13230
A52: Տվյալ բյուջետային տարվան նախորդող բյուջետային տարիների ընթացքում ակտիվի վրա կատարված ծախսերը (հազ. դրամ)
A53: Ծրագիրը (ծրագրերը), որի (որոնց) շրջանակներում իրականացվում է քաղաքականության միջոցառումը
A54: 1049. Ճանապարհային ցանցի բարելավման և անվտանգ երթևկության ապահովման ծառայություններ
A55: Վերջնական արդյունքի նկարագրությունը
A56: Ճանապարհներին վթարների և դժբախտ պատահարների նվազում, ուղևորափոխադրումների և բեռնափոխադրումների ժամանակի կրճատում, տրանսպորտային միջոցների շահագործման ժամկետի երկարացում և վերանորոգման ծախսերի կրճատում

Sheet Արմավիր
A1: Հավելված N 7
A2: ՀՀ կառավարության 2014 թվականի -ի N -Ն որոշման
A3: ՀԱՅԱՍՏԱՆԻ ՀԱՆՐԱՊԵՏՈՒԹՅԱՆ ԿԱՌԱՎԱՐՈՒԹՅԱՆ 2014 ԹՎԱԿԱՆԻ ՄԱՐՏԻ 19-Ի N 363-Ն ՈՐՈՇՄԱՆ N 9 ՀԱՎԵԼՎԱԾՈՒՄ ԿԱՏԱՐՎՈՂ ՓՈՓՈԽՈՒԹՅՈՒՆՆԵՐԸ ԵՎ ԼՐԱՑՈՒՄՆԵՐԸ
A4: հազար դրամներով
A5: Հ/Հ | B5: Բյուջետային ծախսերի տնտեսագիտական դասակարգման հոդվածների և աշխատանքների անվանումները | C5: Ցուցանիշների փոփոխությունը (ավելացումները նշված են դրական նշանով, իսկ նվազեցումները՝ փակագծերում)
C6: Ինն ամիս | D6: Տարի
B7: ԸՆԴԱՄԵՆԸ | C7: =C9+C13+C17+C20 -> 0 | D7: =D9+D13+D17+D20 -> 0
B8: այդ թվում՝
A9: 1 | B9: Շենքերի և շինությունների շինարարություն | C9: =SUM(C11:C12) -> 2370 | D9: =SUM(D11:D12) -> 2370
B10: որից`
A11: 1.1 | B11: Մայիսյան համայնքում ոռոգման ջրի մեկ խորքային հորի հորատում | C11: 3070 | D11: 3070
A12: 1.2 | B12: Եղեգնուտ համայնքում ոռոգման ջրի մեկ խորքային հորի հորատում | C12: -700 | D12: -700
A13: 2 | B13: Այլ ընթացիկ դրամաշնորհներ | C13: =SUM(C15:C16) -> -10170 | D13: =SUM(D15:D16) -> -10170
B14: որից`
A15: 2.1 | B15: Արմավիրի մարզի ցրտահարությունից տուժած համայնքների ոռոգման ջրի վարձի 50 տոկոսի չափով փոխհատուցման նպատակաով Արմավիր մարզի բնակիչներին պետական աջակցության ցուցաբերում | C15: -920 | D15: -920
A16: 2.2 | B16: Արմավիր մարզի ցրտահարությունից տուժած համայնքների հողի հարկի չափով փոխհատուցման նպատակաով Արմավիր մարզի բնակիչներին պետական աջակցության ցուցաբերում | C16: -9250 | D16: -9250
A17: 4 | B17: Շենքերի և շինությունների կապիտալ վերանորոգում | C17: =SUM(C19:C19) -> 2800 | D17: =SUM(D19:D19) -> 2800
B18: որից`
A19: 4,1 | B19: Արմավիրի մարզպետարանի դահլիճի վերանորոգում | C19: 2800 | D19: 2800
A20: 5 | B20: Կապիտալ սուբվենցիաներ համայնքներին | C20: =SUM(C22:C22) -> 5000 | D20: =SUM(D22:D22) -> 5000
B21: որից`
A22: 5,1 | B22: Արմավիր համայնքում քամու հետևանքով վնասված բնակելի շենքերի տանիքների վերանորոգման աշխատանքներն ավարտին հասցնելու նպատակով Արմավիր քաղաքային համայնքին պետական աջակցության ցուցաբերում | C22: 5000 | D22: 5000

Sheet Արմավիր ծր
A1: Աղյուսակ N 3
A3: ՀԱՅԱՍՏԱՆԻ ՀԱՆՐԱՊԵՏՈՒԹՅԱՆ ԿԱՌԱՎԱՐՈՒԹՅԱՆ 2013 ԹՎԱԿԱՆԻ ԴԵԿՏԵՄԲԵՐԻ 19-Ի N 1414-Ն ՈՐՈՇՄԱՆ N 11 ՀԱՎԵԼՎԱԾԻ N 11.52 ԱՂՅՈՒՍԱԿՈՒՄ ԿԱՏԱՐՎՈՂ ՓՈՓՈԽՈՒԹՅՈՒՆՆԵՐԸ ԵՎ ԼՐԱՑՈՒՄՆԵՐԸ
A5: ՄԱՍ Գ: Նախարարի պատասխանատվության ներքո իրականացվող քաղաքականության միջոցառումների և ֆինանսական կառավարման արդյունքների ցուցանիշները
A7: 1.2. Տրանսֆերտներ
A9: Չափորոշիչներ | D9: Ցուցանիշների փոփոխությունը (ավելացումները նշված են դրական նշանով, իսկ նվազեցումները՝ փակագծերում)
D10: Ոչ ֆինանսական ցուցանիշներ | F10: Ֆինանսական ցուցանիշներ
D11: Ինն ամիս | E11: Տարի | F11: Ինն ամիս | G11: Տարի
A12: Ծրագրային դասիչը | C12: Անվանումը
C13: Աջակցություն ՀՀ Արմավիրի մարզի համայնքներին
A14: 1047 | B14: ԾՏ48 | C14: Նկարագրություն՝
C15: Պետական անհատույց աջակցություն համայնքներին` ցրտահարությունից տուժած համայնքներին հողի հարկի և ջրի վարձավճարների փոխհատուցման նպատակով
A16: Շահառուների քանակը | C16: 1. Տրանսֆերտ ստացող ՏԻՄ-երի քանակը
A17: Գումարը (հազար դրամ) | D17: X | E17: X | F17: =SUM(Արմավիր!C15:C16) -> -10170 | G17: =SUM(Արմավիր!D15:D16) -> -10170
A18: Տրանսֆերտի վճարման հաճախականությունը
A19: Շահառուների ընտրության չափանիշները
A20: Համայնքի սոցիալական խնդիրների կարգավորման անհրաժեշտությունը
A21: Ծրագիրը (ծրագրերը), որի (որոնց) շրջանակներում իրականացվում է քաղաքականության միջոցառումը
A22: 1047 Աջակցություն համայնքային, միջհամայնքային, ոչ կառավարական, մասնավոր և այլ կազմակերպություններին և անհատներին
A23: Վերջնական արդյունքի նկարագրությունը
A24: Համայնքներում կյանքի ստանդարտների բարելավում
A26: 1.4. Ներդրումներ լիազոր կառավարման ներքո գտնվող պետական կազմակերպություններում
A28: Չափորոշիչներ | D28: Ցուցանիշների փոփոխությունը (ավելացումները նշված են դրական նշանով, իսկ նվազեցումները՝ փակագծերում)
D29: Ոչ ֆինանսական ցուցանիշներ | F29: Ֆինանսական ցուցանիշներ
D30: Առաջին կիսամյակ | E30: Տարի | F30: Առաջին կիսամյակ | G30: Տարի
A31: Ծրագրային դասիչը | C31: Անվանումը
C32: Կրթական օբյեկտների հիմնանորոգում
A33: 1146 | B33: ԵԿ16 | C33: Նկարագրություն՝
C34: Ներդրումներ ՀՀ Արմավիրի մարզպետի կառավարման լիազորությունների տակ գտնվող հանրակրթական դպրոցների շենքերի կապիտալ վերանորոգման նպատակով
A35: Ծախսերը (հազար դրամ) | D35: X | E35: X | F35: =SUM(Կապիտալ!H90,Կապիտալ!G104) -> 3325 | G35: =SUM(F35) -> 3325
A37: ՀՀ Արմավիրի մարզպետի ենթակայության թվով 3 հանրակրթական դպրոցներ
A38: Ներդրման հիմնավորումը, մասնավորապես, ազդեցությունը կարողությունների վրա`
A39: Քանակական, որակական, ժամկետայնության և այլ չափորոշիչների փոփոխության վրա | C39: Հիմնանորոգումն անհրաժեշտ է, որպեսզի դրանք ապահովեն ծառայությունների մատուցումը գործող չափորոշիչներին համապատասխան անհրաժեշտ ծավալով և որակով
A40: Ծախսային արդյունավետության բարելավման վրա
A41: Ծրագիրը (ծրագրերը), որի (որոնց) շրջանակներում իրականացվում է քաղաքականության միջոցառումը
A42: 1146 Հանրակրթության ծրագիր
A43: Վերջնական արդյունքի նկարագրությունը
A44: Հանրակարթական մակարդակում սովորողների ընդգրկվածության, գրագիտության և համակողմանի զարգացման բարձր մակարդակի ապահովում
A46: 1.6. Հանրության կողմից օգտագործվող ոչ ֆինանսական ակտիվներ
A47: 1.6.1. Հանրության կողմից օգտագործվող ոչ ֆինանսական ակտիվներ
A48: Չափորոշիչներ | D48: Ցուցանիշների փոփոխությունը (ավելացումները նշված են դրական նշանով, իսկ նվազեցումները՝ փակագծերում)
D49: Ոչ ֆինանսական ցուցանիշներ | F49: Ֆինանսական ցուցանիշներ
D50: Առաջին կիսամյակ | E50: Տարի | F50: Առաջին կիսամյակ | G50: Տարի
A51: Ծրագրային դասիչը | C51: Անվանումը
C52: Նախագծային աշխատանքներ
A53: 1047 | B53: ԱՁ09 | C53: Նկարագրություն՝
C54: Շինարարության (հիմնանորոգման) համար անհրաժեշտ նախագծա-նախահաշվային փաստաթղթերի մշակման (լրամշակման) աշխատանքներ
A55: Քանակական | C55: Նախագծա-նախահաշվային փատաթղթերի քանակը, հատ
A56: Որակական | C56: Համապատասխանություն ՀՀ քաղաքաշինական նորմատիվա-տեխնիկական փաստաթղթերին, տոկոս
A57: Տվյալ տարվա պետական բյուջեից ակտիվի ձեռք բերման, կառուցման կամ հիմնանորոգման վրա կատարվող ծախսերը (հազար դրամ) | F57: =SUM(Կապիտալ!I90) -> -3325 | G57: =SUM(F57) -> -3325
A58: Ակտիվի ընդհանուր արժեքը (հազար դրամ) | C58: =G57 -> -3325
A59: Տվյալ բյուջետային տարվան նախորդող բյուջետային տարիների ընթացքում ակտիվի վրա կատարված ծախսերը (հազար դրամ)
A60: Ծրագիրը (ծրագրերը), որի (որոնց) շրջանակներում իրականացվում է քաղաքականության միջոցառումը
A61: 1047 Աջակցություն համայնքային, միջհամայնքային, ոչ կառավարական, մասնավոր և այլ կազմակերպություններին և անհատներին
A62: Վերջնական արդյունքի նկարագրությունը
A63: Ծրագրային դասիչը | C63: Անվանումը
C64: Ջրամատակարաման օբյեկտներ
A65: 1047 | B65: ԱՁ10 | C65: Նկարագրություն՝
C66: Ջրամատակարարման օբյեկտների կառուցում / ջրագծերի անցկացում, խորքային հորանծքների կառուցում/
A67: Քանակական | C67: Կառուցվող օբյեկտների քանակը, միավոր
A68: Որակական
A69: Տվյալ տարվա պետական բյուջեից ակտիվի ձեռք բերման, կառուցման կամ հիմնանորոգման վրա կատարվող ծախսերը (հազար դրամ) | F69: =SUM(Արմավիր!C11:C12) -> 2370 | G69: =SUM(Արմավիր!D11:D12) -> 2370
A70: Ակտիվի ընդհանուր արժեքը (հազար դրամ) | C70: =G69 -> 2370
A71: Տվյալ բյուջետային տարվան նախորդող բյուջետային տարիների ընթացքում ակտիվի վրա կատարված ծախսերը (հազար դրամ)
A72: Ծրագիրը (ծրագրերը), որի (որոնց) շրջանակներում իրականացվում է քաղաքականության միջոցառումը
A73: 1047 Աջակցություն համայնքային, միջհամայնքային, ոչ կառավարական, մասնավոր և այլ կազմակերպություններին և անհատներին
A74: Վերջնական արդյունքի նկարագրությունը
A75: Համայնքներում կյանքի ստանդարտների բարելավում
A76: Ծրագրային դասիչը | C76: Անվանումը
C77: Բնակարանային ֆոնդ
C78: Նկարագրությունը
A79: 1098 | B79: ԱՁ03 | C79: ՀՀ Արմավիրի մարզի համայնքներում բազմաբնակարան բնակելի շենքերի տանիքների նորոգում և մարզպետարանի դահլիճի վերանորոգում
A80: Քանակական | C80: 1. Հիմնանորոգվող բազմաբնակարան բնակելի շենքերի քանակը, միավոր | D80: 4 | E80: 4
C81: 2. Հիմնանորոգվող տանիքների մակերեսը, քառ. մ
A82: Որակական
A83: Տվյալ տարվա ՀՀ պետական բյուջեից ակտիվի ձեռքբերման, կառուցման կամ հիմնանորոգման վրա կատարվող ծախսերը (հազ. դրամ) | F83: =SUM(Արմավիր!C19,Արմավիր!C22) -> 7800 | G83: =SUM(Արմավիր!D19,Արմավիր!D22) -> 7800
A84: Ակտիվի ընդհանուր արժեքը (հազ. դրամ) | C84: =SUM(G83) -> 7800
A85: Տվյալ բյուջետային տարվան նախորդող բյուջետային տարիների ընթացքում ակտիվի վրա կատարված ծախսերը (հազ. դրամ)
A86: Ծրագիրը (ծրագրերը), որի (որոնց) շրջանակներում իրականացվում է քաղաքականության միջոցառումը
A87: 1098 Բնակարանային ապահովում
A88: Վերջնական արդյունքի նկարագրությունը
A89: Ծրագրի իրականացումը կնպաստի բնակչության բնակության պայմանների բարելավվմանը

Sheet Գեղարքունիք
A1: Հավելված N 8
A2: ՀՀ կառավարության 2014 թվականի -ի N -Ն որոշման
A3: ՀԱՅԱՍՏԱՆԻ ՀԱՆՐԱՊԵՏՈՒԹՅԱՆ ԿԱՌԱՎԱՐՈՒԹՅԱՆ 2014 ԹՎԱԿԱՆԻ ՄԱՐՏԻ 19-Ի N 363-Ն ՈՐՈՇՄԱՆ N 10 ՀԱՎԵԼՎԱԾՈՒՄ ԿԱՏԱՐՎՈՂ ԼՐԱՑՈՒՄԸ
A4: հազար դրամներով
A5: Հ/Հ | B5: Բյուջետային ծախսերի տնտեսագիտական դասակարգման հոդվածների և աշխատանքների անվանումները | C5: Ցուցանիշների փոփոխությունը (ավելացումները նշված են դրական նշանով, իսկ նվազեցումները՝ փակագծերում)
C6: Ինն ամիս | D6: Տարի
B7: ԸՆԴԱՄԵՆԸ | C7: =C9+C12 -> 41390.7 | D7: =D9+D12 -> 41400
B8: այդ թվում՝
A9: 1 | B9: Շենքերի և շինությունների շինարարություն | C9: =SUM(C11:C11) -> 41400 | D9: =SUM(D11:D11) -> 41400
B10: որից`
A11: 1.2 | B11: Գավառ համայնքի կենտրոնական հրապարակի վերակառուցում | C11: 41400 | D11: 41400
A12: 4 | B12: Հատուկ նպատակային այլ նյութեր | C12: =SUM(C14:C14) -> -9.3 | D12: =SUM(D14:D14) -> 0
B13: որից`
A14: 4.1 | B14: Վարդենիսի համայնքում քամու հետևանքով վնասված բնակելի տների բնակիչներին աջակցելու նպատակով գույքի ձեռքբերում | C14: -9.3 | D14: 0

Sheet Գեղարքունիք ծր
A1: Աղյուսակ N 4
A3: ՀԱՅԱՍՏԱՆԻ ՀԱՆՐԱՊԵՏՈՒԹՅԱՆ ԿԱՌԱՎԱՐՈՒԹՅԱՆ 2013 ԹՎԱԿԱՆԻ ԴԵԿՏԵՄԲԵՐԻ 19-Ի N 1414-Ն ՈՐՈՇՄԱՆ N 11 ՀԱՎԵԼՎԱԾԻ N 11.53 ԱՂՅՈՒՍԱԿՈՒՄ ԿԱՏԱՐՎՈՂ ՓՈՓՈԽՈՒԹՅՈՒՆՆԵՐԸ ԵՎ ԼՐԱՑՈՒՄԸ
A5: ՄԱՍ Գ: Նախարարի պատասխանատվության ներքո իրականացվող քաղաքականության միջոցառումների և ֆինանսական կառավարման արդյունքների ցուցանիշները
A7: 1.4. Ներդրումներ լիազոր կառավարման ներքո գտնվող պետական կազմակերպություններում
A9: Չափորոշիչներ | D9: Ցուցանիշների փոփոխությունը (ավելացումները նշված են դրական նշանով, իսկ նվազեցումները՝ փակագծերում)
D10: Ոչ ֆինանսական ցուցանիշներ | F10: Ֆինանսական ցուցանիշներ
D11: Ինն ամիս | E11: Տարի | F11: Ինն ամիս | G11: Տարի
A12: Ծրագրային դասիչը | C12: Անվանումը
C13: Կրթական օբյեկտների հիմնանորոգում
A14: 1146 | B14: ԵԿ10 | C14: Նկարագրություն՝
C15: Ներդրումներ ՀՀ Գեղարքունիքի մարզպետի կառավարման լիազորությունների տակ գտնվող հանրակրթական դպրոցների շենքերի կապիտալ վերանորոգման նպատակով
A16: Ծախսերը (հազար դրամ) | D16: X | E16: X | F16: =SUM(Կապիտալ!H111) -> -41400 | G16: =SUM(F16) -> -41400
A18: ՀՀ Գեղարքունիքի մարզպետի ենթակայության թվով (2) հանրակրթական դպրոցներ
A19: Ներդրման հիմնավորումը, մասնավորապես, ազդեցությունը կարողությունների վրա`
A20: Քանակական, որակական, ժամկետայնության և այլ չափորոշիչների փոփոխության վրա | C20: Հիմնանորոգումն անհրաժեշտ է, որպեսզի դրանք ապահովեն ծառայությունների մատուցումը գործող չափորոշիչներին համապատասխան անհրաժեշտ ծավալով և որակով
A21: Ծախսային արդյունավետության բարելավման վրա
A22: Ծրագիրը (ծրագրերը), որի (որոնց) շրջանակներում իրականացվում է քաղաքականության միջոցառումը
A23: 1146 Հանրակրթության ծրագիր
A24: Վերջնական արդյունքի նկարագրությունը
A25: Հանրակարթական մակարդակում սովորողների ընդգրկվածության, գրագիտության և համակողմանի զարգացման բարձր մակարդակի ապահովում
A28: 1.6. Հանրության կողմից օգտագործվող ոչ ֆինանսական ակտիվներ
A30: 1.6.1. Հանրության կողմից օգտագործվող ոչ ֆինանսական ակտիվներ
A32: Չափորոշիչներ | D32: Ցուցանիշների փոփոխությունը (ավելացումները նշված են դրական նշանով)
D33: Ոչ ֆինանսական ցուցանիշներ | F33: Ֆինանսական ցուցանիշներ
D34: Ինն ամիս | E34: Տարի | F34: Ինն ամիս | G34: Տարի
A35: Ծրագրային դասիչը | C35: Անվանումը
C36: Տեղական նշանակության ճանապարհների և կամուրջների հիմնանորոգում
C37: Նկարագրությունը
A38: 1049 | B38: ԱՁ14 | C38: Ավտոճանապարհների քայքայված ծածկի նորոգում, մաշված ծածկի փոխարինում
A39: Քանակական | C39: Հիմնանորոգվող ավտոճանապարհների մակերեսը, հազ ք/մ,
A40: Որակական
A41: Տվյալ տարվա ՀՀ պետական բյուջեից ակտիվի ձեռքբերման, կառուցման կամ հիմնանորոգման վրա կատարվող ծախսերը (հազ. դրամ) | F41: =SUM(Գեղարքունիք!C11) -> 41400 | G41: =SUM(F41) -> 41400
A42: Ակտիվի ընդհանուր արժեքը (հազ. դրամ) | C42: =G41 -> 41400
A43: Տվյալ բյուջետային տարվան նախորդող բյուջետային տարիների ընթացքում ակտիվի վրա կատարված ծախսերը (հազ. դրամ)
A44: Ծրագիրը (ծրագրերը), որի (որոնց) շրջանակներում իրականացվում է քաղաքականության միջոցառումը
A45: 1049. Ճանապարհային ցանցի բարելավման և անվտանգ երթևկության ապահովման ծառայություններ
A46: Վերջնական արդյունքի նկարագրությունը
A47: Ճանապարհներին վթարների և դժբախտ պատահարների նվազում, ուղևորափոխադրումների և բեռնափոխադրումների ժամանակի կրճատում, տրանսպորտային միջոցների շահագործման ժամկետի երկարացում և վերանորոգման ծախսերի կրճատում

Sheet Լոռի
A1: Հավելված N 9
A2: ՀՀ կառավարության 2014 թվականի -ի N -Ն որոշման
A3: ՀԱՅԱՍՏԱՆԻ ՀԱՆՐԱՊԵՏՈՒԹՅԱՆ ԿԱՌԱՎԱՐՈՒԹՅԱՆ 2014 ԹՎԱԿԱՆԻ ՄԱՐՏԻ 19-Ի N 363-Ն ՈՐՈՇՄԱՆ N 11 ՀԱՎԵԼՎԱԾՈՒՄ ԿԱՏԱՐՎՈՂ ԼՐԱՑՈՒՄՆԵՐԸ
A4: հազար դրամներով
A5: Հ/Հ | B5: Բյուջետային ծախսերի տնտեսագիտական դասակարգման հոդվածների և աշխատանքների անվանումները | C5: Ցուցանիշների փոփոխությունը (ավելացումները նշված են դրական նշանով)
C6: Ինն ամիս | D6: Տարի
B7: ԸՆԴԱՄԵՆԸ | C7: =C9+C12+C15 -> 15960 | D7: =D9+D12+D15 -> 15960
B8: այդ թվում՝
A9: 2 | B9: Կապիտալ սուբվենցիաներ համայնքներին | C9: =SUM(C11:C11) -> 2460 | D9: =SUM(D11:D11) -> 2460
B10: որից`
A11: 2.2 | B11: Ալավերդի համայնքի <<Թումանյանի աշխարհ>> տուրիզմի գրասենյակի վերանորոգման նպատակով Ալավերդի համայնքին աջակցության ցուցաբերում | C11: 2460 | D11: 2460
A12: 4 | B12: Այլ ընթացիկ դրամաշնորհներ | C12: =SUM(C14:C14) -> 2667 | D12: =SUM(D14:D14) -> 2667
B13: որից`
A14: 4.1 | B14: Լոռու մարզի կարկտահարությունից տուժած գյուղացիական տնտեսությունների համար դիզելային վառելիքի ձեռք բերում | C14: 2667 | D14: 2667
A15: 5 | B15: Այլ նպաստներ բյուջեից | C15: =SUM(C17) -> 10833 | D15: =SUM(D17) -> 10833
B16: որից`
A17: 5.1 | B17: Լոռու մարզի կարկտահարությունից տուժած գյուղացիական տնտեսություններին հողի հարկի մասնակի փոխհատուցման նպատակով պետական աջակցության ցուցաբերում | C17: 10833 | D17: 10833

Sheet Լոռի ծր
A1: Աղյուսակ N 5
A3: ՀԱՅԱՍՏԱՆԻ ՀԱՆՐԱՊԵՏՈՒԹՅԱՆ ԿԱՌԱՎԱՐՈՒԹՅԱՆ 2013 ԹՎԱԿԱՆԻ ԴԵԿՏԵՄԲԵՐԻ 19-Ի N 1414-Ն ՈՐՈՇՄԱՆ N 11 ՀԱՎԵԼՎԱԾԻ N 11.54 ԱՂՅՈՒՍԱԿՈՒՄ ԿԱՏԱՐՎՈՂ ՓՈՓՈԽՈՒԹՅՈՒՆՆԵՐԸ ԵՎ ԼՐԱՑՈՒՄՆԵՐԸ
A5: ՄԱՍ Գ: Նախարարի պատասխանատվության ներքո իրականացվող քաղաքականության միջոցառումների և ֆինանսական կառավարման արդյունքների ցուցանիշները
A6: 1.2. Տրանսֆերտներ
A8: Չափորոշիչներ | D8: Ցուցանիշների փոփոխությունը (ավելացումները նշված են դրական նշանով, իսկ նվազեցումները՝ փակագծերում)
D9: Ոչ ֆինանսական ցուցանիշներ | F9: Ֆինանսական ցուցանիշներ
D10: Ինն ամիս | E10: Տարի | F10: Ինն ամիս | G10: Տարի
A11: 1047 | B11: ԾՏ15 | C11: Անվանումը
C12: Աջակցություն ՀՀ Լոռու մարզի համայնքներին
C13: Նկարագրություն՝
C14: Պետական անհատույց աջակցություն համայնքներին` կարկտահարությունից տուժած համայնքներին հողի հարկի մասնակի փոխհատուցման և դիզելային վառելիքի ձեռք բերման նպատակով
A15: Շահառուների քանակը | C15: 1. Տրանսֆերտ ստացող ՏԻՄ-երի քանակը
A16: Գումարը (հազար դրամ) | D16: X | E16: X | F16: =SUM(Լոռի!C14,Լոռի!C17) -> 13500 | G16: =SUM(Լոռի!D14,Լոռի!D17) -> 13500
A17: Տրանսֆերտի վճարման հաճախականությունը
A18: Շահառուների ընտրության չափանիշները
A19: Համայնքներում գյուղատնտեսությամբ զբաղվելու անհրաժեշտությունը
A20: Ծրագիրը (ծրագրերը), որի (որոնց) շրջանակներում իրականացվում է քաղաքականության միջոցառումը
A21: 1047 Աջակցություն համայնքային, միջհամայնքային, ոչ կառավարական, մասնավոր և այլ կազմակերպություններին և անհատներին
A22: Վերջնական արդյունքի նկարագրությունը
A23: Համայնքներում կյանքի ստանդարտների բարելավում
A24: Ծրագրային դասիչը | C24: Անվանումը
C25: Աջակցություն ՀՀ Լոռու մարզի Ալավերդի համայնքին
A26: 1047 | B26: ԾՏ16 | C26: Նկարագրություն՝
C27: Պետական անհատույց աջակցություն՝ Ալավերդի համայնքի <<Թումանյանի աշխարհ>> տուրիզմի գրասենյակի վերանորոգման համար
A28: Շահառուների քանակը | C28: 1. Տրանսֆերտ ստացող ՏԻՄ-երի քանակը | D28: 1 | E28: 1
A29: Գումարը (հազար դրամ) | D29: X | E29: X | F29: =SUM(Լոռի!C11) -> 2460 | G29: =SUM(Լոռի!D11) -> 2460
A30: Տրանսֆերտի վճարման հաճախականությունը
A31: Շահառուների ընտրության չափանիշները
A32: Վարչական օբյեկտների հիմնանորոգման և կառուցման անհրաժեշտությունը
A33: Ծրագիրը (ծրագրերը), որի (որոնց) շրջանակներում իրականացվում է քաղաքականության միջոցառումը
A34: 1047 Աջակցություն համայնքային, միջհամայնքային, ոչ կառավարական, մասնավոր և այլ կազմակերպություններին և անհատներին
A35: Վերջնական արդյունքի նկարագրությունը
A36: Համայնքներում կյանքի ստանդարտների բարելավում
A37: 1.4. Ներդրումներ լիազոր կառավարման ներքո գտնվող պետական կազմակերպություններում
A39: Չափորոշիչներ | D39: Ցուցանիշների փոփոխությունը (ավելացումները նշված են դրական նշանով, իսկ նվազեցումները՝ փակագծերում)
D40: Ոչ ֆինանսական ցուցանիշներ | F40: Ֆինանսական ցուցանիշներ
D41: Առաջին կիսամյակ | E41: Տարի | F41: Առաջին կիսամյակ | G41: Տարի
A42: Ծրագրային դասիչը | C42: Անվանումը
C43: Կրթական օբյեկտների հիմնանորոգում
A44: 1146 | B44: ԵԿ18 | C44: Նկարագրություն՝
C45: Ներդրումներ ՀՀ Լոռու մարզպետի կառավարման լիազորությունների տակ գտնվող հանրակրթական դպրոցների շենքերի կապիտալ վերանորոգման նպատակով
A46: Ծախսերը (հազար դրամ) | D46: X | E46: X | F46: =SUM(Կապիտալ!H133,Կապիտալ!G151) -> -6500 | G46: =SUM(F46) -> -6500
A48: ՀՀ Լոռու մարզպետի ենթակայության թվով հանրակրթական դպրոց
A49: Ներդրման հիմնավորումը, մասնավորապես, ազդեցությունը կարողությունների վրա`
A50: Քանակական, որակական, ժամկետայնության և այլ չափորոշիչների փոփոխության վրա | C50: Հիմնանորոգումն անհրաժեշտ է, որպեսզի դրանք ապահովեն ծառայությունների մատուցումը գործող չափորոշիչներին համապատասխան անհրաժեշտ ծավալով և որակով
A51: Ծախսային արդյունավետության բարելավման վրա
A52: Ծրագիրը (ծրագրերը), որի (որոնց) շրջանակներում իրականացվում է քաղաքականության միջոցառումը
A53: 1146 Հանրակրթության ծրագիր
A54: Վերջնական արդյունքի նկարագրությունը
A55: Հանրակարթական մակարդակում սովորողների ընդգրկվածության, գրագիտության և համակողմանի զարգացման բարձր մակարդակի ապահովում
A57: 1.6. Հանրության կողմից օգտագործվող ոչ ֆինանսական ակտիվներ
A58: 1.6.1. Հանրության կողմից օգտագործվող ոչ ֆինանսական ակտիվներ
A59: Չափորոշիչներ | D59: Ցուցանիշների փոփոխությունը (ավելացումները նշված են դրական նշանով, իսկ նվազեցումները՝ փակագծերում)
D60: Ոչ ֆինանսական ցուցանիշներ | F60: Ֆինանսական ցուցանիշներ
D61: Առաջին կիսամյակ | E61: Տարի | F61: Առաջին կիսամյակ | G61: Տարի
A62: Ծրագրային դասիչը | C62: Անվանումը
C63: Տեղական նշանակության ճանապարհների և կամուրջների հիմնանորոգում
C64: Նկարագրությունը
A65: 1049 | B65: ԱՁ15 | C65: Ավտոճանապարհների քայքայված ծածկի նորոգում, մաշված ծածկի փոխարինում
A66: Քանակական | C66: Հիմնանորոգվող ավտոճանապարհների մակերեսը, հազ ք/մ,
A67: Որակական
A68: Տվյալ տարվա ՀՀ պետական բյուջեից ակտիվի ձեռքբերման, կառուցման կամ հիմնանորոգման վրա կատարվող ծախսերը (հազ. դրամ) | F68: =SUM(Կապիտալ!H122) -> -9460 | G68: =SUM(F68) -> -9460
A69: Ակտիվի ընդհանուր արժեքը (հազ. դրամ) | C69: =G68 -> -9460
A70: Տվյալ բյուջետային տարվան նախորդող բյուջետային տարիների ընթացքում ակտիվի վրա կատարված ծախսերը (հազ. դրամ)
A71: Ծրագիրը (ծրագրերը), որի (որոնց) շրջանակներում իրականացվում է քաղաքականության միջոցառումը
A72: 1049. Ճանապարհային ցանցի բարելավման և անվտանգ երթևկության ապահովման ծառայություններ
A73: Վերջնական արդյունքի նկարագրությունը
A74: Ճանապարհներին վթարների և դժբախտ պատահարների նվազում, ուղևորափոխադրումների և բեռնափոխադրումների ժամանակի կրճատում, տրանսպորտային միջոցների շահագործման ժամկետի երկարացում և վերանորոգման ծախսերի կրճատում

Sheet Կոտայք
A1: Հավելված N 10
A2: ՀՀ կառավարության 2014 թվականի -ի N -Ն որոշման
A3: ՀԱՅԱՍՏԱՆԻ ՀԱՆՐԱՊԵՏՈՒԹՅԱՆ ԿԱՌԱՎԱՐՈՒԹՅԱՆ 2014 ԹՎԱԿԱՆԻ ՄԱՐՏԻ 19-Ի N 363-Ն ՈՐՈՇՄԱՆ N 12 ՀԱՎԵԼՎԱԾՈՒՄ ԿԱՏԱՐՎՈՂՓՈՓՈԽՈՒԹՅՈՒՆՆԵՐԸ ԵՎ ԼՐԱՑՈՒՄԸ
A4: հազար դրամներով
A5: Հ/Հ | B5: Բյուջետային ծախսերի տնտեսագիտական դասակարգման հոդվածների և աշխատանքների անվանումները | C5: Ցուցանիշների փոփոխությունը (ավելացումները նշված են դրական նշանով, իսկ նվազեցումները՝ փակագծերում)
C6: Ինն ամիս | D6: Տարի
B7: ԸՆԴԱՄԵՆԸ | C7: =SUM(C9,C12,C15,C16,C19) -> -2352.8 | D7: =SUM(D9,D12,D15,D16,D19) -> -2352.8
B8: այդ թվում՝
A9: 1 | B9: Շենքերի և շինությունների շինարարություն | C9: =SUM(C11:C11) -> -5900 | D9: =SUM(D11:D11) -> -5900
B10: որից`
A11: 1.1 | B11: Եղվարդի տարածաշրջանում հակակարկտային կայանների կառուցում | C11: -5900 | D11: -5900
A12: 2 | B12: Այլ ընթացիկ դրամաշնորհներ | C12: =SUM(C14:C14) -> -948 | D12: =SUM(D14:D14) -> -948
B13: որից`
A14: 2,2 | B14: Կոտայքի մարզի ցրտահարությունից տուժած համայնքների հողի հարկի չափով փոխհատուցման նպատակով Կոտայքի մարզի բնակիչներին պետական աջակցության ցուցաբերում | C14: -948 | D14: -948
A15: 3 | B15: Նախագծահետազոտական ծախսեր | C15: -1620 | D15: -1620
A16: 4 | B16: Կապիտալ սուբվենցիաներ համայնքներին | C16: =SUM(C18) -> 5000 | D16: =SUM(D18) -> 5000
B17: որից`
A18: 4.1 | B18: Զովունի համայնքում քամու հետևանքով քանդված թիվ 125 բազմաբնակարան բնակելի շենքի տանիքի վերանորոգման նպատակով Զովունի համայնքին պետական աջակցության ցուցաբերում | C18: 5000 | D18: 5000
A19: 5 | B19: Այլ նպաստներ բյուջեից | C19: =SUM(C21) -> 1115.2 | D19: =SUM(D21) -> 1115.2
B20: որից`
A21: 5.1 | B21: Կոտայքի մարզի ցրտահարությունից տուժած համայնքների ոռոգման ջրի վարձի 50 տոկոսի չափով փոխհատուցման նպատակով Կոտայքի մարզի բնակիչներին պետական աջակցության ցուցաբերում | C21: 1115.2 | D21: 1115.2

Sheet Կոտայք ծր
A1: Աղյուսակ N 6
A3: ՀԱՅԱՍՏԱՆԻ ՀԱՆՐԱՊԵՏՈՒԹՅԱՆ ԿԱՌԱՎԱՐՈՒԹՅԱՆ 2013 ԹՎԱԿԱՆԻ ԴԵԿՏԵՄԲԵՐԻ 19-Ի N 1414-Ն ՈՐՈՇՄԱՆ N 11 ՀԱՎԵԼՎԱԾԻ N 11.55 ԱՂՅՈՒՍԱԿՈՒՄ ԿԱՏԱՐՎՈՂ ՓՈՓՈԽՈՒԹՅՈՒՆՆԵՐԸ ԵՎ ԼՐԱՑՈՒՄՆԵՐԸ
A6: ՄԱՍ Գ: Նախարարի պատասխանատվության ներքո իրականացվող քաղաքականության միջոցառումների և ֆինանսական կառավարման արդյունքների ցուցանիշները
A7: 1.2. Տրանսֆերտներ
A9: Չափորոշիչներ | D9: Ցուցանիշների փոփոխությունը (ավելացումները նշված են դրական նշանով, իսկ նվազեցումները՝ փակագծերում)
D10: Ոչ ֆինանսական ցուցանիշներ | F10: Ֆինանսական ցուցանիշներ
D11: Ինն ամիս | E11: Տարի | F11: Ինն ամիս | G11: Տարի
A12: Ծրագրային դասիչը | C12: Անվանումը
C13: Աջակցություն ՀՀ Կոտայքի մարզի համայնքներին
A14: 1047 | B14: ԾՏ49 | C14: Նկարագրություն՝
C15: Պետական անհատույց աջակցություն համայնքներին` ցրտահարությունից և փոթորկից տուժված համայնքներին հողի և ջրի վարձավճարների փոխհատուցման նպատակով
A16: Շահառուների քանակը | C16: 1. Տրանսֆերտ ստացող ՏԻՄ-երի քանակը
A17: Գումարը (հազար դրամ) | D17: X | E17: X | F17: =SUM(Կոտայք!C14:C14,Կոտայք!C21) -> 167.2 | G17: =SUM(Կոտայք!D14:D14,Կոտայք!D21) -> 167.2
A18: Տրանսֆերտի վճարման հաճախականությունը
A19: Շահառուների ընտրության չափանիշները
A20: Համայնքի սոցիալական խնդիրների կարգավորման անհրաժեշտությունը
A21: Ծրագիրը (ծրագրերը), որի (որոնց) շրջանակներում իրականացվում է քաղաքականության միջոցառումը
A22: 1047 Աջակցություն համայնքային, միջհամայնքային, ոչ կառավարական, մասնավոր և այլ կազմակերպություններին և անհատներին
A23: Վերջնական արդյունքի նկարագրությունը
A24: Համայնքներում կյանքի ստանդարտների բարելավում
A25: Ծրագրային դասիչը | C25: Անվանումը
C26: Աջակցություն ՀՀ Կոտայքի մարզի համայնքներին հակակարկտային կայանների կառուցման համար
A27: 1047 | B27: ԾՏ19 | C27: Նկարագրություն՝
C28: Պետական անհատույց աջակցություն ՀՀ Կոտայքի մարզի համայնքներին
A29: Շահառուների քանակը | C29: 1. Տրանսֆերտ ստացող ՏԻՄ-երի քանակը
A30: Գումարը (հազար դրամ) | D30: X | E30: X | F30: =SUM(Կոտայք!C11) -> -5900 | G30: =SUM(Կոտայք!D11) -> -5900
A31: Տրանսֆերտի վճարման հաճախականությունը
A32: Շահառուների ընտրության չափանիշները
A33: Համայնքներում գյուղատնտեսությամբ զբաղվելու անհրաժեշտությունը
A34: Ծրագիրը (ծրագրերը), որի (որոնց) շրջանակներում իրականացվում է քաղաքականության միջոցառումը
A35: 1047 Աջակցություն համայնքային, միջհամայնքային, ոչ կառավարական, մասնավոր և այլ կազմակերպություններին և անհատներին
A36: Վերջնական արդյունքի նկարագրությունը
A37: Համայնքներում գյուղատնտեսությամբ զբաղվելու պայմանների բարելավում
A40: 1.4. Ներդրումներ լիազոր կառավարման ներքո գտնվող պետական կազմակերպություններում
A42: Չափորոշիչներ | D42: Ցուցանիշների փոփոխությունը (ավելացումները նշված են դրական նշանով, իսկ նվազեցումները՝ փակագծերում)
D43: Ոչ ֆինանսական ցուցանիշներ | F43: Ֆինանսական ցուցանիշներ
D44: Առաջին կիսամյակ | E44: Տարի | F44: Առաջին կիսամյակ | G44: Տարի
A45: Ծրագրային դասիչը | C45: Անվանումը
C46: Կրթական օբյեկտների հիմնանորոգում
A47: 1146 | B47: ԵԿ12 | C47: Նկարագրություն՝
C48: Ներդրումներ ՀՀ Կոտայքի մարզպետի կառավարման լիազորությունների տակ գտնվող հանրակրթական դպրոցների շենքերի կապիտալ վերանորոգման նպատակով
A49: Ծախսերը (հազար դրամ) | D49: X | E49: X | F49: =SUM(Կապիտալ!H169) -> -6188.6 | G49: =SUM(F49) -> -6188.6
A50: Կազմակերպությունը, որտեղ կատարվում է ներդրումը`
A51: ՀՀ Կոտայքի մարզպետի ենթակայության թվով հանրակրթական դպրոցներ
A52: Ներդրման հիմնավորումը, մասնավորապես, ազդեցությունը կարողությունների վրա`
A53: Քանակական, որակական, ժամկետայնության և այլ չափորոշիչների փոփոխության վրա | C53: Հիմնանորոգումն անհրաժեշտ է, որպեսզի դրանք ապահովեն ծառայությունների մատուցումը գործող չափորոշիչներին համապատասխան անհրաժեշտ ծավալով և որակով
A54: Ծախսային արդյունավետության բարելավման վրա
A55: Ծրագիրը (ծրագրերը), որի (որոնց) շրջանակներում իրականացվում է քաղաքականության միջոցառումը
A56: 1146 Հանրակրթության ծրագիր
A57: Վերջնական արդյունքի նկարագրությունը
A58: Հանրակարթական մակարդակում սովորողների ընդգրկվածության, գրագիտության և համակողմանի զարգացման բարձր մակարդակի ապահովում
A60: 1.6. Հանրության կողմից օգտագործվող ոչ ֆինանսական ակտիվներ
A61: 1.6.1. Հանրության կողմից օգտագործվող ոչ ֆինանսական ակտիվներ
A62: Չափորոշիչներ | D62: Ցուցանիշների փոփոխությունը (ավելացումները նշված են դրական նշանով, իսկ նվազեցումները՝ փակագծերում)
D63: Ոչ ֆինանսական ցուցանիշներ | F63: Ֆինանսական ցուցանիշներ
D64: Առաջին կիսամյակ | E64: Տարի | F64: Առաջին կիսամյակ | G64: Տարի
A65: Ծրագրային դասիչը | C65: Անվանումը
C66: Նախագծային աշխատանքներ
A67: 1047 | B67: ԱՁ19 | C67: Նկարագրություն՝
C68: Շինարարության (հիմնանորոգման) համար անհրաժեշտ նախագծա-նախահաշվային փաստաթղթերի մշակման (լրամշակման) աշխատանքներ
A69: Քանակական | C69: Նախագծա-նախահաշվային փատաթղթերի քանակը, հատ
A70: Որակական | C70: Համապատասխանություն ՀՀ քաղաքաշինական նորմատիվա-տեխնիկական փաստաթղթերին, տոկոս
A71: Տվյալ տարվա պետական բյուջեից ակտիվի ձեռք բերման, կառուցման կամ հիմնանորոգման վրա կատարվող ծախսերը (հազար դրամ) | F71: =SUM(Կապիտալ!I164,Կոտայք!C15) -> -1072.6 | G71: =SUM(F71) -> -1072.6
A72: Ակտիվի ընդհանուր արժեքը (հազար դրամ) | C72: =G71 -> -1072.6
A73: Տվյալ բյուջետային տարվան նախորդող բյուջետային տարիների ընթացքում ակտիվի վրա կատարված ծախսերը (հազար դրամ)
A74: Ծրագիրը (ծրագրերը), որի (որոնց) շրջանակներում իրականացվում է քաղաքականության միջոցառումը
A75: 1047 Աջակցություն համայնքային, միջհամայնքային, ոչ կառավարական, մասնավոր և այլ կազմակերպություններին և անհատներին
A76: Վերջնական արդյունքի նկարագրությունը
A77: Համայնքներում կյանքի ստանդարտների բարելավում
A78: Ծրագրային դասիչը | C78: Անվանումը
C79: Տեղական նշանակության ճանապարհների և կամուրջների հիմնանորոգում
C80: Նկարագրությունը
A81: 1049 | B81: ԱՁ16 | C81: Ավտոճանապարհների քայքայված ծածկի նորոգում, մաշված ծածկի փոխարինում
A82: Քանակական | C82: Հիմնանորոգվող ավտոճանապարհների մակերեսը, հազ ք/մ,
A83: Որակական
A84: Տվյալ տարվա ՀՀ պետական բյուջեից ակտիվի ձեռքբերման, կառուցման կամ հիմնանորոգման վրա կատարվող ծախսերը (հազ. դրամ) | F84: =SUM(Կապիտալ!H154) -> 7994 | G84: =SUM(F84) -> 7994
A85: Ակտիվի ընդհանուր արժեքը (հազ. դրամ) | C85: =G84 -> 7994
A86: Տվյալ բյուջետային տարվան նախորդող բյուջետային տարիների ընթացքում ակտիվի վրա կատարված ծախսերը (հազ. դրամ)
A87: Ծրագիրը (ծրագրերը), որի (որոնց) շրջանակներում իրականացվում է քաղաքականության միջոցառումը
A88: 1049. Ճանապարհային ցանցի բարելավման և անվտանգ երթևկության ապահովման ծառայություններ
A89: Վերջնական արդյունքի նկարագրությունը
A90: Ճանապարհներին վթարների և դժբախտ պատահարների նվազում, ուղևորափոխադրումների և բեռնափոխադրումների ժամանակի կրճատում, տրանսպորտային միջոցների շահագործման ժամկետի երկարացում և վերանորոգման ծախսերի կրճատում
A91: Ծրագրային դասիչը | C91: Անվանումը
C92: Բնակարանային ֆոնդ
C93: Նկարագրությունը
A94: 1098 | B94: ԱՁ04 | C94: ՀՀ Կոտայքի մարզի Զովունի համայնքնում բազմաբնակարան բնակելի շենքի տանիքի նորոգում
A95: Քանակական | C95: 1. Հիմնանորոգվող բազմաբնակարան բնակելի շենքերի քանակը, միավոր | D95: 1 | E95: 1
C96: 2. Հիմնանորոգվող տանիքների մակերեսը, քառ. մ
A97: Որակական
A98: Տվյալ տարվա ՀՀ պետական բյուջեից ակտիվի ձեռքբերման, կառուցման կամ հիմնանորոգման վրա կատարվող ծախսերը (հազ. դրամ) | F98: =SUM(Կոտայք!C18) -> 5000 | G98: =SUM(Կոտայք!D18) -> 5000
A99: Ակտիվի ընդհանուր արժեքը (հազ. դրամ) | C99: =SUM(G98) -> 5000
A100: Տվյալ բյուջետային տարվան նախորդող բյուջետային տարիների ընթացքում ակտիվի վրա կատարված ծախսերը (հազ. դրամ)
A101: Ծրագիրը (ծրագրերը), որի (որոնց) շրջանակներում իրականացվում է քաղաքականության միջոցառումը
A102: 1098 Բնակարանային ապահովում
A103: Վերջնական արդյունքի նկարագրությունը
A104: Ծրագրի իրականացումը կնպաստի բնակչության բնակության պայմանների բարելավվմանը

Sheet Շիրակ
A1: Հավելված N 11
A2: ՀՀ կառավարության 2014 թվականի -ի N -Ն որոշման
A3: ՀԱՅԱՍՏԱՆԻ ՀԱՆՐԱՊԵՏՈՒԹՅԱՆ ԿԱՌԱՎԱՐՈՒԹՅԱՆ 2014 ԹՎԱԿԱՆԻ ՄԱՐՏԻ 19-Ի N 363-Ն ՈՐՈՇՄԱՆ N 13 ՀԱՎԵԼՎԱԾՈՒՄ ԿԱՏԱՐՎՈՂ ԼՐԱՑՈՒՄՆԵՐԸ
A4: հազար դրամներով
A5: Հ/Հ | B5: Բյուջետային ծախսերի տնտեսագիտական դասակարգման հոդվածների և աշխատանքների անվանումները | C5: Ցուցանիշների փոփոխությունը (ավելացումները նշված են դրական նշանով)
C6: Ինն ամիս | D6: Տարի
B7: ԸՆԴԱՄԵՆԸ | C7: =SUM(C9,C25,C24) -> 55419 | D7: =SUM(D9,D25,D24) -> 55419
B8: այդ թվում՝
A9: 1 | B9: Կապիտալ սուբվենցիաներ համայնքներին | C9: =SUM(C11:C23) -> 45419 | D9: =SUM(D11:D23) -> 45419
B10: որից`
A11: 1,14 | B11: Շիրակի մարզի կարկտահարությունից տուժած Անուշավան համայնքի գյուղացիական տնտեսությունների կրած վնասներին մասնակի փոխհատուցման համար շինանյութի (տանիքի ազբոցեմենտյա թիթեղ, ապակի, տանիքի ցինկապատ թիթեղ, փայտանյութ) ձեռք բերման նպատակով Անուշավան համայնքին պետական աջակցության ցուցաբերում | C11: 1492 | D11: 1492
A12: 1,15 | B12: Շիրակի մարզի կարկտահարությունից տուժած Գեղանիստ համայնքի գյուղացիական տնտեսությունների կրած վնասներին մասնակի փոխհատուցման համար շինանյութի (տանիքի ազբոցեմենտյա թիթեղ, ապակի, տանիքի ցինկապատ թիթեղ, փայտանյութ) ձեռք բերման նպատակով Գեղանիստ համայնքին պետական աջակցության ցուցաբերում | C12: 5284 | D12: 5284
A13: 1,16 | B13: Շիրակի մարզի կարկտահարությունից տուժած Փանիկ համայնքի գյուղացիական տնտեսությունների կրած վնասներին մասնակի փոխհատուցման համար շինանյութի (տանիքի ազբոցեմենտյա թիթեղ, ապակի, տանիքի ցինկապատ թիթեղ, փայտանյութ) ձեռք բերման նպատակով Փանիկ համայնքին պետական աջակցության ցուցաբերում | C13: 4200 | D13: 4200
A14: 1,17 | B14: Շիրակի մարզի կարկտահարությունից տուժած Մեղրաշեն կհամայնքի գյուղացիական տնտեսությունների կրած վնասներին մասնակի փոխհատուցման համար շինանյութի (տանիքի ազբոցեմենտյա թիթեղ, ապակի, տանիքի ցինկապատ թիթեղ, փայտանյութ) ձեռք բերման նպատակով Մեղրաշեն համայնքին պետական աջակցության ցուցաբերում | C14: 3400 | D14: 3400
A15: 1,18 | B15: Շիրակի մարզի կարկտահարությունից տուժած Սպանդարյան կհամայնքի գյուղացիական տնտեսությունների կրած վնասներին մասնակի փոխհատուցման համար շինանյութի (տանիքի ազբոցեմենտյա թիթեղ, ապակի, տանիքի ցինկապատ թիթեղ, փայտանյութ) ձեռք բերման նպատակով Սպանդարյան համայնքին պետական աջակցության ցուցաբերում | C15: 3700 | D15: 3700
A16: 1,19 | B16: Շիրակի մարզի կարկտահարությունից տուժած Հովտաշեն համայնքի գյուղացիական տնտեսությունների կրած վնասներին մասնակի փոխհատուցման համար շինանյութի (տանիքի ազբոցեմենտյա թիթեղ, ապակի, տանիքի ցինկապատ թիթեղ, փայտանյութ) ձեռք բերման նպատակով Հովտաշեն համայնքին պետական աջակցության ցուցաբերում | C16: 2898 | D16: 2898
A17: 1,20 | B17: Շիրակի մարզի կարկտահարությունից տուժած Վարդաքար համայնքի գյուղացիական տնտեսությունների կրած վնասներին մասնակի փոխհատուցման համար շինանյութի (տանիքի ազբոցեմենտյա թիթեղ, ապակի, տանիքի ցինկապատ թիթեղ, փայտանյութ) ձեռք բերման նպատակով Վարդաքար համայնքին պետական աջակցության ցուցաբերում | C17: 1140 | D17: 1140
A18: 1,21 | B18: Շիրակի մարզի կարկտահարությունից տուժած Ախուրիկ մասնակի փոխհատուցման համար շինանյութի (տանիքի ազբոցեմենտյա թիթեղ, ապակի, տանիքի ցինկապատ թիթեղ, փայտանյութ) ձեռք բերման նպատակով Ախուրիկ համայնքին պետական աջակցության ցուցաբերում | C18: 9625 | D18: 9625
A19: 1,22 | B19: Շիրակի մարզի կարկտահարությունից տուժած Ոսկեհասկ մասնակի փոխհատուցման համար շինանյութի (տանիքի ազբոցեմենտյա թիթեղ, ապակի, տանիքի ցինկապատ թիթեղ, փայտանյութ) ձեռք բերման նպատակով Ոսկեհասկ համայնքին պետական աջակցության ցուցաբերում | C19: 6180 | D19: 6180
A20: 1,23 | B20: Զույգաղբյուր համայնքի կոյուղագծի վերանորոգում | C20: 2500 | D20: 2500
A21: 1,24 | B21: Աղին համայնքի կոյուղագծի վերանորոգում | C21: 2500 | D21: 2500
A22: 1,25 | B22: Ջաջուռավան համայնքի կոյուղագծի վերանորոգում | C22: 500 | D22: 500
A23: 1,26 | B23: Ջրափի համայնքի կոյուղագծի վերանորոգում | C23: 2000 | D23: 2000
A24: 2 | B24: Նախագծահետազոտական ծախսեր | C24: 350 | D24: 350
A25: 3 | B25: Շենքերի և շինությունների կապիտալ վերանորոգում | C25: =SUM(C27:C29) -> 9650 | D25: =SUM(D27:D29) -> 9650
B26: որից`
A27: 3,1 | B27: Վարդաքար համայնքի մշակույթի տան (ժամանակավոր գործող դպրոցի) տանիքի վերանորոգում | C27: 9650 | D27: 9650

Sheet Շիրակ ծր
A1: Աղյուսակ N 7
A3: ՀԱՅԱՍՏԱՆԻ ՀԱՆՐԱՊԵՏՈՒԹՅԱՆ ԿԱՌԱՎԱՐՈՒԹՅԱՆ 2013 ԹՎԱԿԱՆԻ ԴԵԿՏԵՄԲԵՐԻ 19-Ի N 1414-Ն ՈՐՈՇՄԱՆ N 11 ՀԱՎԵԼՎԱԾԻ N 11.56 ԱՂՅՈՒՍԱԿՈՒՄ ԿԱՏԱՐՎՈՂ ՓՈՓՈԽՈՒԹՅՈՒՆՆԵՐԸ ԵՎ ԼՐԱՑՈՒՄՆԵՐԸ
A4: ՄԱՍ Գ: Նախարարի պատասխանատվության ներքո իրականացվող քաղաքականության միջոցառումների և ֆինանսական կառավարման արդյունքների ցուցանիշները
A6: 1.2. Տրանսֆերտներ
A8: Չափորոշիչներ | D8: Ցուցանիշների փոփոխությունը (ավելացումները նշված են դրական նշանով, իսկ նվազեցումները՝ փակագծերում)
D9: Ոչ ֆինանսական ցուցանիշներ | F9: Ֆինանսական ցուցանիշներ
D10: Ինն ամիս | E10: Տարի | F10: Ինն ամիս | G10: Տարի
A11: Ծրագրային դասիչը | C11: Անվանումը
C12: Աջակցություն ՀՀ Շիրակի մարզի համայնքներին
A13: 1047 | B13: ԾՏ24 | C13: Նկարագրություն՝
C14: Պետական անհատույց աջակցություն համայնքներին` կարկտահարությունից տուժած համայնքների գյուղացիական տնտեսությունների կրած վնասների մասնակի փոխհատուցման համար
A15: Շահառուների քանակը | C15: 1. Տրանսֆերտ ստացող ՏԻՄ-երի քանակը | D15: 9 | E15: 9
A16: Գումարը (հազար դրամ) | D16: X | E16: X | F16: =SUM(Շիրակ!C11:C19) -> 37919 | G16: =SUM(Շիրակ!D11:D19) -> 37919
A17: Տրանսֆերտի վճարման հաճախականությունը
A18: Շահառուների ընտրության չափանիշները
A19: Համայնքի սոցիալական խնդիրների կարգավորման անհրաժեշտությունը
A20: Ծրագիրը (ծրագրերը), որի (որոնց) շրջանակներում իրականացվում է քաղաքականության միջոցառումը
A21: 1047 Աջակցություն համայնքային, միջհամայնքային, ոչ կառավարական, մասնավոր և այլ կազմակերպություններին և անհատներին
A22: Վերջնական արդյունքի նկարագրությունը
A23: Համայնքներում կյանքի ստանդարտների բարելավում
A24: 1.4. Ներդրումներ լիազոր կառավարման ներքո գտնվող պետական կազմակերպություններում
A26: Չափորոշիչներ | D26: Ցուցանիշների փոփոխությունը (ավելացումները նշված են դրական նշանով, իսկ նվազեցումները՝ փակագծերում)
D27: Ոչ ֆինանսական ցուցանիշներ | F27: Ֆինանսական ցուցանիշներ
D28: Ինն ամիս | E28: Տարի | F28: Ինն ամիս | G28: Տարի
A29: Ծրագրային դասիչը | C29: Անվանումը
C30: Կրթական օբյեկտների հիմնանորոգում
A31: 1146 | B31: ԵԿ05 | C31: Նկարագրություն՝
C32: Ներդրումներ ՀՀ Շիրակի մարզպետի կառավարման լիազորությունների տակ գտնվող հանրակրթական դպրոցների շենքերի կապիտալ վերանորոգման նպատակով
A33: Ծախսերը (հազար դրամ) | D33: X | E33: X | F33: =SUM(Կապիտալ!H202,Կապիտալ!G222) -> -43201 | G33: =SUM(F33) -> -43201
A34: Կազմակերպությունը, որտեղ կատարվում է ներդրումը`
A35: ՀՀ Շիրակի մարզպետի ենթակայության թվով (4) հանրակրթական դպրոցներ
A36: Ներդրման հիմնավորումը, մասնավորապես, ազդեցությունը կարողությունների վրա`
A37: Քանակական, որակական, ժամկետայնության և այլ չափորոշիչների փոփոխության վրա | C37: Հիմնանորոգումն անհրաժեշտ է, որպեսզի դրանք ապահովեն ծառայությունների մատուցումը գործող չափորոշիչներին համապատասխան անհրաժեշտ ծավալով և որակով
A38: Ծախսային արդյունավետության բարելավման վրա
A39: Ծրագիրը (ծրագրերը), որի (որոնց) շրջանակներում իրականացվում է քաղաքականության միջոցառումը
A40: 1146 Հանրակրթության ծրագիր
A41: Վերջնական արդյունքի նկարագրությունը
A42: Հանրակարթական մակարդակում սովորողների ընդգրկվածության, գրագիտության և համակողմանի զարգացման բարձր մակարդակի ապահովում
A43: Ծրագրային դասիչը | C43: Անվանումը
C44: Ներդրումներ մշակութային օբյեկտներում
A45: 1168 | B45: ԵԿ06 | C45: Նկարագրություն՝
C46: Ներդրումներ՝ ՀՀ Շիրակի մարզի մշակութային շենքերի կապիտալ վերանորոգման նպատակով
A47: Ծախսերը (հազար դրամ) | D47: X | E47: X | F47: =SUM(Շիրակ!C27) -> 9650 | G47: =SUM(Շիրակ!D27) -> 9650
A48: Կազմակերպությունը, որտեղ կատարվում է ներդրումը`
A49: ՀՀ Արագածոտնի մարզի թվով 1 մշակութային օբյեկտ
A50: Ներդրման հիմնավորումը, մասնավորապես, ազդեցությունը կարողությունների վրա`
A51: Քանակական, որակական, ժամկետայնության և այլ չափորոշիչների փոփոխության վրա | C51: Ներդրումներն անհրաժեշտ է, որպեսզի դրանք ապահովեն ծառայությունների մատուցումը գործող չափորոշիչներին համապատասխան անհրաժեշտ ծավալով և որակով
A52: Ծախսային արդյունավետության բարելավման վրա
A53: Ծրագիրը (ծրագրերը), որի (որոնց) շրջանակներում իրականացվում է քաղաքականության միջոցառումը
A54: 1168 Արվեստի պահպանման և զարգացման ծրագիր
A55: Վերջնական արդյունքի նկարագրությունը
A56: Քաղաքացիական հասարակության տեղեկացվածության և հաղորդակցման բարձրացում արվեստի ոլորտում
A58: 1.6. Հանրության կողմից օգտագործվող ոչ ֆինանսական ակտիվներ
A60: 1.6.1. Հանրության կողմից օգտագործվող ոչ ֆինանսական ակտիվներ
A61: Չափորոշիչներ | D61: Ցուցանիշների փոփոխությունը (ավելացումները նշված են դրական նշանով, իսկ նվազեցումները՝ փակագծերում)
D62: Ոչ ֆինանսական ցուցանիշներ | F62: Ֆինանսական ցուցանիշներ
D63: Ինն ամիս | E63: Տարի | F63: Ինն ամիս | G63: Տարի
A64: Ծրագրային դասիչը | C64: Անվանումը
C65: Նախագծային աշխատանքներ
A66: 1047 | B66: ԱՁ23 | C66: Նկարագրություն՝
C67: Շինարարության (հիմնանորոգման) համար անհրաժեշտ նախագծա-նախահաշվային փաստաթղթերի մշակման (լրամշակման) աշխատանքներ
A68: Քանակական | C68: Նախագծա-նախահաշվային փատաթղթերի քանակը, հատ | D68: 1 | E68: 1
A69: Որակական | C69: Համապատասխանություն ՀՀ քաղաքաշինական նորմատիվա-տեխնիկական փաստաթղթերին, տոկոս
A70: Տվյալ տարվա պետական բյուջեից ակտիվի ձեռք բերման, կառուցման կամ հիմնանորոգման վրա կատարվող ծախսերը (հազար դրամ) | F70: =SUM(Շիրակ!C24) -> 350 | G70: =SUM(F70) -> 350
A71: Ակտիվի ընդհանուր արժեքը (հազար դրամ) | C71: =G70 -> 350
A72: Տվյալ բյուջետային տարվան նախորդող բյուջետային տարիների ընթացքում ակտիվի վրա կատարված ծախսերը (հազար դրամ)
A73: Ծրագիրը (ծրագրերը), որի (որոնց) շրջանակներում իրականացվում է քաղաքականության միջոցառումը
A74: 1047 Աջակցություն համայնքային, միջհամայնքային, ոչ կառավարական, մասնավոր և այլ կազմակերպություններին և անհատներին
A75: Վերջնական արդյունքի նկարագրությունը
A76: Համայնքներում կյանքի ստանդարտների բարելավում
A77: Ծրագրային դասիչը | C77: Անվանումը
C78: Տեղական նշանակության ճանապարհների և կամուրջների հիմնանորոգում
C79: Նկարագրությունը
A80: 1049 | B80: ԱՁ17 | C80: Ավտոճանապարհների քայքայված ծածկի նորոգում, մաշված ծածկի փոխարինում
A81: Քանակական | C81: Հիմնանորոգվող ավտոճանապարհների մակերեսը, հազ ք/մ,
A82: Որակական
A83: Տվյալ տարվա ՀՀ պետական բյուջեից ակտիվի ձեռքբերման, կառուցման կամ հիմնանորոգման վրա կատարվող ծախսերը (հազ. դրամ) | F83: =SUM(Կապիտալ!H185) -> -12218 | G83: =SUM(F83) -> -12218
A84: Ակտիվի ընդհանուր արժեքը (հազ. դրամ) | C84: =G83 -> -12218
A85: Տվյալ բյուջետային տարվան նախորդող բյուջետային տարիների ընթացքում ակտիվի վրա կատարված ծախսերը (հազ. դրամ)
A86: Ծրագիրը (ծրագրերը), որի (որոնց) շրջանակներում իրականացվում է քաղաքականության միջոցառումը
A87: 1049. Ճանապարհային ցանցի բարելավման և անվտանգ երթևկության ապահովման ծառայություններ
A88: Վերջնական արդյունքի նկարագրությունը
A89: Ճանապարհներին վթարների և դժբախտ պատահարների նվազում, ուղևորափոխադրումների և բեռնափոխադրումների ժամանակի կրճատում, տրանսպորտային միջոցների շահագործման ժամկետի երկարացում և վերանորոգման ծախսերի կրճատում
A90: Ծրագրային դասիչը | C90: Անվանումը
C91: Ջրամատակարաման օբյեկտներ
A92: 1047 | B92: ԱՁ24 | C92: Նկարագրություն՝
C93: Ջրամատակարարման օբյեկտների կառուցում / ջրագծերի անցկացում, խորքային հորանծքների կառուցում/
A94: Քանակական | C94: Կառուցվող օբյեկտների քանակը, միավոր
A95: Որակական
A96: Տվյալ տարվա պետական բյուջեից ակտիվի ձեռք բերման, կառուցման կամ հիմնանորոգման վրա կատարվող ծախսերը (հազար դրամ) | F96: =SUM(Շիրակ!C20:C22,Շիրակ!C23) -> 7500 | G96: =SUM(Շիրակ!D20:D22,Շիրակ!D23) -> 7500
A97: Ակտիվի ընդհանուր արժեքը (հազար դրամ) | C97: =G96 -> 7500
A98: Տվյալ բյուջետային տարվան նախորդող բյուջետային տարիների ընթացքում ակտիվի վրա կատարված ծախսերը (հազար դրամ)
A99: Ծրագիրը (ծրագրերը), որի (որոնց) շրջանակներում իրականացվում է քաղաքականության միջոցառումը
A100: 1047 Աջակցություն համայնքային, միջհամայնքային, ոչ կառավարական, մասնավոր և այլ կազմակերպություններին և անհատներին
A101: Վերջնական արդյունքի նկարագրությունը
A102: Համայնքներում կյանքի ստանդարտների բարելավում

Sheet Սյունիք 
A1: Հավելված N 12
A2: ՀՀ կառավարության 2014 թվականի -ի N -Ն որոշման
A3: ՀԱՅԱՍՏԱՆԻ ՀԱՆՐԱՊԵՏՈՒԹՅԱՆ ԿԱՌԱՎԱՐՈՒԹՅԱՆ 2014 ԹՎԱԿԱՆԻ ՄԱՐՏԻ 19-Ի N 363-Ն ՈՐՈՇՄԱՆ N 14 ՀԱՎԵԼՎԱԾՈՒՄ ԿԱՏԱՐՎՈՂ ԼՐԱՑՈՒՄՆԵՐԸ
A4: հազար դրամներով
A5: Հ/Հ | B5: Բյուջետային ծախսերի տնտեսագիտական դասակարգման հոդվածների և աշխատանքների անվանումները | C5: Ցուցանիշների փոփոխությունը (ավելացումները նշված են դրական նշանով)
C6: Ինն ամիս | D6: Տարի
B7: ԸՆԴԱՄԵՆԸ | C7: =C9+C12+C15+C18 -> 15000 | D7: =D9+D12+D15+D18 -> 15000
B8: այդ թվում՝
A9: 1 | B9: Այլ ընթացիկ դրամաշնորհներ | C9: =C11 -> 9500 | D9: =D11 -> 9500
B10: որից`
A11: 1,3 | B11: Մ17, Մ2-Կապան-Ծավ-Շվանիձոր միջպետական այլընտրանքային ավտոճանապարհի կառուցման ժամանակ իրացված անշարժ գույքի փոխհատուցում | C11: 9500 | D11: 9500
A12: 2 | B12: Գեոդեզիական-քարտեզագրական ծախսեր | C12: =C14 -> 3400 | D12: =D14 -> 3400
B13: որից`
A14: 2,1 | B14: Մ17, Մ2-Կապան-Ծավ-Շվանիձոր միջպետական այլընտրանքային ավտոճանապարհի կառուցման հետևանքով իրացված մի շարք քաղաքացիների անշարժ գույքի փոխհատուցման նպատակով Մ17, Մ2-Կապան-Ծավ-Շվանիձոր միջպետական այլընտրանքային ավտոճանապարհի քարտեզագրման աշխատանքների իրականացում | C14: 3400 | D14: 3400
A15: 3 | B15: Պարտադիր վճարներ | C15: =C17 -> 550 | D15: =D17 -> 550
B16: որից`
A17: 3,1 | B17: Մ17, Մ2-Կապան-Ծավ-Շվանիձոր միջպետական այլընտրանքային ավտոճանապարհի կառուցման հետևանքով մի շարք քաղաքացիների անշարժ գույքի իրացումից ծագող իրավունքների պետական գրանցման համար առաջացող ֆինանսական պարտավորությունների վճարում | C17: 550 | D17: 550
A18: 4 | B18: Մասնագիտական ծառայություններ | C18: =C20 -> 1550 | D18: =D20 -> 1550
B19: որից`
A20: 1,4 | B20: Մ17, Մ2-Կապան-Ծավ-Շվանիձոր միջպետական այլընտրանքային ավտոճանապարհի կառուցման հետևանքով իրացված մի շարք քաղաքացիների անշարժ գույքի փոխհատուցման նպատակով փոխհատուցման ենթակա անշարժ գույքի գնահատման և ՀՀ կառավարությանն առընթեր անշարժ գույքի կադաստրի պետական կոմիտեի և նոտարի կողմից մատուցվող ծառայությունների փոխհատուցում | C20: 1550 | D20: 1550

Sheet Սյունիք ծր
A1: Աղյուսակ N 8
A3: ՀԱՅԱՍՏԱՆԻ ՀԱՆՐԱՊԵՏՈՒԹՅԱՆ ԿԱՌԱՎԱՐՈՒԹՅԱՆ 2013 ԹՎԱԿԱՆԻ ԴԵԿՏԵՄԲԵՐԻ 19-Ի N 1414-Ն ՈՐՈՇՄԱՆ N 11 ՀԱՎԵԼՎԱԾԻ N 11.57 ԱՂՅՈՒՍԱԿՈՒՄ ԿԱՏԱՐՎՈՂ ԿԱՏԱՐՎՈՂ ՓՈՓՈԽՈՒԹՅՈՒՆՆԵՐԸ ԵՎ ԼՐԱՑՈՒՄՆԵՐԸ
A4: ՄԱՍ Գ: Նախարարի պատասխանատվության ներքո իրականացվող քաղաքականության միջոցառումների և ֆինանսական կառավարման արդյունքների ցուցանիշները
A6: 1.2. Տրանսֆերտներ
A8: Չափորոշիչներ | D8: Ցուցանիշների փոփոխությունը (ավելացումները նշված են դրական նշանով, իսկ նվազեցումները՝ փակագծերում)
D9: Ոչ ֆինանսական ցուցանիշներ | F9: Ֆինանսական ցուցանիշներ
D10: Ինն ամիս | E10: Տարի | F10: Ինն ամիս | G10: Տարի
A11: Ծրագրային դասիչը | C11: Անվանումը
C12: Աջակցություն ՀՀ Սյունիքի մարզի համայնքներին
A13: 1047 | B13: ԾՏ51 | C13: Նկարագրություն՝
C14: Պետական անհատույց աջակցություն համայնքներին` Մ17, Մ2-Կապան-Ծավ-Շվանիձոր միջպետական այլընտրանքային ավտոճանապարհի կառուցման ժամանակ իրացված անշարժ գույքի փոխհատուցման, քարտեզագրման աշխատանքների իրականացման, անշարժ գույքի իրացումից ծագող իրավունքների պետական գրանցման համար առաջացող ֆինանսական պարտավորությունների վճարման և մի շարք մատուցվող ծառայությունների փոխհատուցման նպատակով
A15: Շահառուների քանակը | C15: 1. Տրանսֆերտ ստացող ՏԻՄ-երի քանակը
A16: Գումարը (հազար դրամ) | D16: X | E16: X | F16: =SUM('Սյունիք '!C11,'Սյունիք '!C14,'Սյունիք '!C17,'Սյունիք '!C20) -> 15000 | G16: =SUM('Սյունիք '!D11,'Սյունիք '!D14,'Սյունիք '!D17,'Սյունիք '!D20) -> 15000
A17: Տրանսֆերտի վճարման հաճախականությունը
A18: Շահառուների ընտրության չափանիշները
A19: Համայնքի սոցիալական խնդիրների կարգավորման անհրաժեշտությունը
A20: Ծրագիրը (ծրագրերը), որի (որոնց) շրջանակներում իրականացվում է քաղաքականության միջոցառումը
A21: 1047 Աջակցություն համայնքային, միջհամայնքային, ոչ կառավարական, մասնավոր և այլ կազմակերպություններին և անհատներին
A22: Վերջնական արդյունքի նկարագրությունը
A23: Համայնքներում կյանքի ստանդարտների բարելավում
A24: 1.4. Ներդրումներ լիազոր կառավարման ներքո գտնվող պետական կազմակերպություններում
A26: Չափորոշիչներ | D26: Ցուցանիշների փոփոխությունը (ավելացումները նշված են դրական նշանով, իսկ նվազեցումները՝ փակագծերում)
D27: Ոչ ֆինանսական ցուցանիշներ | F27: Ֆինանսական ցուցանիշներ
D28: Ինն ամիս | E28: Տարի | F28: Ինն ամիս | G28: Տարի
A29: Ծրագրային դասիչը | C29: Անվանումը
C30: Կրթական օբյեկտների հիմնանորոգում
A31: 1146 | B31: ԵԿ03 | C31: Նկարագրություն՝
C32: Ներդրումներ ՀՀ Սյունիքի մարզպետի կառավարման լիազորությունների տակ գտնվող հանրակրթական դպրոցների շենքերի կապիտալ վերանորոգման նպատակով
A33: Ծախսերը (հազար դրամ) | D33: X | E33: X | F33: =SUM(Կապիտալ!H247) -> 3532.5 | G33: =SUM(F33) -> 3532.5
A34: Կազմակերպությունը, որտեղ կատարվում է ներդրումը`
A35: ՀՀ Սյունիքի մարզպետի ենթակայության թվով 1 հանրակրթական դպրոցներ
A36: Ներդրման հիմնավորումը, մասնավորապես, ազդեցությունը կարողությունների վրա`
A37: Քանակական, որակական, ժամկետայնության և այլ չափորոշիչների փոփոխության վրա | C37: Հիմնանորոգումն անհրաժեշտ է, որպեսզի դրանք ապահովեն ծառայությունների մատուցումը գործող չափորոշիչներին համապատասխան անհրաժեշտ ծավալով և որակով
A38: Ծախսային արդյունավետության բարելավման վրա
A39: Ծրագիրը (ծրագրերը), որի (որոնց) շրջանակներում իրականացվում է քաղաքականության միջոցառումը
A40: 1146 Հանրակրթության ծրագիր
A41: Վերջնական արդյունքի նկարագրությունը
A42: Հանրակարթական մակարդակում սովորողների ընդգրկվածության, գրագիտության և համակողմանի զարգացման բարձր մակարդակի ապահովում
A46: 1.6. Հանրության կողմից օգտագործվող ոչ ֆինանսական ակտիվներ
A48: 1.6.1. Հանրության կողմից օգտագործվող ոչ ֆինանսական ակտիվներ
A49: Չափորոշիչներ | D49: Ցուցանիշների փոփոխությունը (ավելացումները նշված են դրական նշանով, իսկ նվազեցումները՝ փակագծերում)
D50: Ոչ ֆինանսական ցուցանիշներ | F50: Ֆինանսական ցուցանիշներ
D51: Ինն ամիս | E51: Տարի | F51: Ինն ամիս | G51: Տարի
A52: Ծրագրային դասիչը | C52: Անվանումը
C53: Նախագծային աշխատանքներ
A54: 1047 | B54: ԱՁ29 | C54: Նկարագրություն՝
C55: Շինարարության (հիմնանորոգման) համար անհրաժեշտ նախագծա-նախահաշվային փաստաթղթերի մշակման (լրամշակման) աշխատանքներ
A56: Քանակական | C56: Նախագծա-նախահաշվային փատաթղթերի քանակը, հատ | D56: 2 | E56: 2
A57: Որակական | C57: Համապատասխանություն ՀՀ քաղաքաշինական նորմատիվա-տեխնիկական փաստաթղթերին, տոկոս
A58: Տվյալ տարվա պետական բյուջեից ակտիվի ձեռք բերման, կառուցման կամ հիմնանորոգման վրա կատարվող ծախսերը (հազար դրամ) | F58: =SUM(Կապիտալ!I256,Կապիտալ!I246) -> 1500 | G58: =SUM(F58) -> 1500
A59: Ակտիվի ընդհանուր արժեքը (հազար դրամ) | C59: =G58 -> 1500
A60: Տվյալ բյուջետային տարվան նախորդող բյուջետային տարիների ընթացքում ակտիվի վրա կատարված ծախսերը (հազար դրամ)
A61: Ծրագիրը (ծրագրերը), որի (որոնց) շրջանակներում իրականացվում է քաղաքականության միջոցառումը
A62: 1047 Աջակցություն համայնքային, միջհամայնքային, ոչ կառավարական, մասնավոր և այլ կազմակերպություններին և անհատներին
A63: Վերջնական արդյունքի նկարագրությունը
A64: Համայնքներում կյանքի ստանդարտների բարելավում
A65: Ծրագրային դասիչը | C65: Անվանումը
C66: Տեղական նշանակության ճանապարհների և կամուրջների հիմնանորոգում
C67: Նկարագրությունը
A68: 1049 | B68: ԱՁ18 | C68: Ավտոճանապարհների քայքայված ծածկի նորոգում, մաշված ծածկի փոխարինում
A69: Քանակական | C69: Հիմնանորոգվող ավտոճանապարհների մակերեսը, հազ ք/մ,
A70: Որակական
A71: Տվյալ տարվա ՀՀ պետական բյուջեից ակտիվի ձեռքբերման, կառուցման կամ հիմնանորոգման վրա կատարվող ծախսերը (հազ. դրամ) | F71: =SUM(Կապիտալ!H232) -> -20031.2 | G71: =SUM(F71) -> -20031.2
A72: Ակտիվի ընդհանուր արժեքը (հազ. դրամ) | C72: =G71 -> -20031.2
A73: Տվյալ բյուջետային տարվան նախորդող բյուջետային տարիների ընթացքում ակտիվի վրա կատարված ծախսերը (հազ. դրամ)
A74: Ծրագիրը (ծրագրերը), որի (որոնց) շրջանակներում իրականացվում է քաղաքականության միջոցառումը
A75: 1049. Ճանապարհային ցանցի բարելավման և անվտանգ երթևկության ապահովման ծառայություններ
A76: Վերջնական արդյունքի նկարագրությունը
A77: Ճանապարհներին վթարների և դժբախտ պատահարների նվազում, ուղևորափոխադրումների և բեռնափոխադրումների ժամանակի կրճատում, տրանսպորտային միջոցների շահագործման ժամկետի երկարացում և վերանորոգման ծախսերի կրճատում

Sheet Վայոց ձ
A1: Հավելված N 13
A2: ՀՀ կառավարության 2014 թվականի -ի N -Ն որոշման
A3: ՀԱՅԱՍՏԱՆԻ ՀԱՆՐԱՊԵՏՈՒԹՅԱՆ ԿԱՌԱՎԱՐՈՒԹՅԱՆ 2014 ԹՎԱԿԱՆԻ ՄԱՐՏԻ 19-Ի N 363-Ն ՈՐՈՇՄԱՆ N 15 ՀԱՎԵԼՎԱԾՈՒՄ ԿԱՏԱՐՎՈՂ ԼՐԱՑՈՒՄԸ
A4: հազար դրամներով
A5: Հ/Հ | B5: Բյուջետային ծախսերի տնտեսագիտական դասակարգման հոդվածների և աշխատանքների անվանումները | C5: Ցուցանիշների փոփոխությունը (ավելացումները նշված են դրական նշանով)
C6: Ինն ամիս | D6: Տարի
B7: ԸՆԴԱՄԵՆԸ | C7: =SUM(C9,C10,C13) -> 54451.8 | D7: =SUM(D9,D10,D13) -> 54451.8
B8: այդ թվում՝
A9: 2 | B9: Նախագծահետազոտական ծախսեր | C9: 810 | D9: 810
A10: 3 | B10: Այլ նպաստներ բյուջեից | C10: =C12 -> 4451.8 | D10: =D12 -> 4451.8
B11: որից`
A12: 3.1 | B12: Վայոց ձորի մարզի ցրտահարությունից տուժած համայնքների հողի հարկի չափով փոխհատուցման նպատակով Վայոց ձորի մարզի բնակիչներին պետական աջակցության ցուցաբերում | C12: 4451.8 | D12: 4451.8
A13: 4 | B13: Շենքերի և շինությունների շինարարություն | C13: =SUM(C15:C17) -> 49190 | D13: =SUM(D15:D17) -> 49190
B14: որից`
A15: 4.1 | B15: Խնձորուտ համայնքում ոռոգման ջրագծի կառուցում | C15: 23000 | D15: 23000
A16: 4.2 | B16: Զառիթափ համայնքում ոռոգման ջրագծի կառուցում | C16: 11640 | D16: 11640
A17: 4.3 | B17: Նոր Ազնվաբերդ համայնքում ոռոգման ջրագծի կառուցում | C17: 14550 | D17: 14550

Sheet Վայոց ձ ծր
A1: Աղյուսակ N 9
A3: ՀԱՅԱՍՏԱՆԻ ՀԱՆՐԱՊԵՏՈՒԹՅԱՆ ԿԱՌԱՎԱՐՈՒԹՅԱՆ 2013 ԹՎԱԿԱՆԻ ԴԵԿՏԵՄԲԵՐԻ 19-Ի N 1414-Ն ՈՐՈՇՄԱՆ N 11 ՀԱՎԵԼՎԱԾԻ N 11.58 ԱՂՅՈՒՍԱԿՈՒՄ ԿԱՏԱՐՎՈՂ ՓՈՓՈԽՈՒԹՅՈՒՆՆԵՐԸ ԵՎ ԼՐԱՑՈՒՄՆԵՐԸ
A4: ՄԱՍ Գ: Նախարարի պատասխանատվության ներքո իրականացվող քաղաքականության միջոցառումների և ֆինանսական կառավարման արդյունքների ցուցանիշները
A5: 1.2. Տրանսֆերտներ
A7: Չափորոշիչներ | D7: Ցուցանիշների փոփոխությունը (ավելացումները նշված են դրական նշանով, իսկ նվազեցումները՝ փակագծերում)
D8: Ոչ ֆինանսական ցուցանիշներ | F8: Ֆինանսական ցուցանիշներ
D9: Ինն ամիս | E9: Տարի | F9: Ինն ամիս | G9: Տարի
A10: Ծրագրային դասիչը | C10: Անվանումը
C11: Աջակցություն ՀՀ Վայոց ձորի մարզի համայնքներին
A12: 1047 | B12: ԾՏ45 | C12: Նկարագրություն՝
C13: Պետական անհատույց աջակցություն համայնքներին` ցրտահարությունից տուժած համայնքներին հողի հարկի փոխհատուցման նպատակով
A14: Շահառուների քանակը | C14: 1. Տրանսֆերտ ստացող ՏԻՄ-երի քանակը
A15: Գումարը (հազար դրամ) | D15: X | E15: X | F15: =SUM('Վայոց ձ'!C12) -> 4451.8 | G15: =SUM('Վայոց ձ'!D12) -> 4451.8
A16: Տրանսֆերտի վճարման հաճախականությունը
A17: Շահառուների ընտրության չափանիշները
A18: Համայնքի սոցիալական խնդիրների կարգավորման անհրաժեշտությունը
A19: Ծրագիրը (ծրագրերը), որի (որոնց) շրջանակներում իրականացվում է քաղաքականության միջոցառումը
A20: 1047 Աջակցություն համայնքային, միջհամայնքային, ոչ կառավարական, մասնավոր և այլ կազմակերպություններին և անհատներին
A21: Վերջնական արդյունքի նկարագրությունը
A22: Համայնքներում կյանքի ստանդարտների բարելավում
A23: 1.4. Ներդրումներ լիազոր կառավարման ներքո գտնվող պետական կազմակերպություններում
A25: Չափորոշիչներ | D25: Ցուցանիշների փոփոխությունը (ավելացումները նշված են դրական նշանով, իսկ նվազեցումները՝ փակագծերում)
D26: Ոչ ֆինանսական ցուցանիշներ | F26: Ֆինանսական ցուցանիշներ
D27: Ինն ամիս | E27: Տարի | F27: Ինն ամիս | G27: Տարի
A28: Ծրագրային դասիչը | C28: Անվանումը
C29: Կրթական օբյեկտների հիմնանորոգում
A30: 1146 | B30: ԵԿ02 | C30: Նկարագրություն՝
C31: Ներդրումներ ՀՀ Վայոց Ձորի մարզպետի կառավարման լիազորությունների տակ գտնվող հանրակրթական դպրոցների շենքերի կապիտալ վերանորոգման նպատակով
A32: Ծախսերը (հազար դրամ) | D32: X | E32: X | F32: =SUM(Կապիտալ!H268) -> -1455 | G32: =SUM(F32) -> -1455
A33: Կազմակերպությունը, որտեղ կատարվում է ներդրումը`
A34: ՀՀ Վայոց Ձորի մարզպետի ենթակայության թվով հանրակրթական դպրոցներ
A35: Ներդրման հիմնավորումը, մասնավորապես, ազդեցությունը կարողությունների վրա`
A36: Քանակական, որակական, ժամկետայնության և այլ չափորոշիչների փոփոխության վրա | C36: Հիմնանորոգումն անհրաժեշտ է, որպեսզի դրանք ապահովեն ծառայությունների մատուցումը գործող չափորոշիչներին համապատասխան անհրաժեշտ ծավալով և որակով
A37: Ծախսային արդյունավետության բարելավման վրա
A38: Ծրագիրը (ծրագրերը), որի (որոնց) շրջանակներում իրականացվում է քաղաքականության միջոցառումը
A39: 1146 Հանրակրթության ծրագիր
A40: Վերջնական արդյունքի նկարագրությունը
A41: Հանրակարթական մակարդակում սովորողների ընդգրկվածության, գրագիտության և համակողմանի զարգացման բարձր մակարդակի ապահովում
A45: 1.6. Հանրության կողմից օգտագործվող ոչ ֆինանսական ակտիվներ
A47: 1.6.1. Հանրության կողմից օգտագործվող ոչ ֆինանսական ակտիվներ
A49: Չափորոշիչներ | D49: Ցուցանիշների փոփոխությունը (ավելացումները նշված են դրական նշանով, իսկ նվազեցումները՝ փակագծերում)
D50: Ոչ ֆինանսական ցուցանիշներ | F50: Ֆինանսական ցուցանիշներ
D51: Ինն ամիս | E51: Տարի | F51: Ինն ամիս | G51: Տարի
A52: Ծրագրային դասիչը | C52: Անվանումը
C53: Նախագծային աշխատանքներ
A54: 1047 | B54: ԱՁ26 | C54: Նկարագրություն՝
C55: Շինարարության (հիմնանորոգման) համար անհրաժեշտ նախագծա-նախահաշվային փաստաթղթերի մշակման (լրամշակման) աշխատանքներ
A56: Քանակական | C56: Նախագծա-նախահաշվային փատաթղթերի քանակը, հատ | D56: 2 | E56: 2
A57: Որակական | C57: Համապատասխանություն ՀՀ քաղաքաշինական նորմատիվա-տեխնիկական փաստաթղթերին, տոկոս
A58: Տվյալ տարվա պետական բյուջեից ակտիվի ձեռք բերման, կառուցման կամ հիմնանորոգման վրա կատարվող ծախսերը (հազար դրամ) | F58: =SUM(Կապիտալ!I265,Կապիտալ!I268,'Վայոց ձ'!C9) -> 696 | G58: =SUM(F58) -> 696
A59: Ակտիվի ընդհանուր արժեքը (հազար դրամ) | C59: =G58 -> 696
A60: Տվյալ բյուջետային տարվան նախորդող բյուջետային տարիների ընթացքում ակտիվի վրա կատարված ծախսերը (հազար դրամ)
A61: Ծրագիրը (ծրագրերը), որի (որոնց) շրջանակներում իրականացվում է քաղաքականության միջոցառումը
A62: 1047 Աջակցություն համայնքային, միջհամայնքային, ոչ կառավարական, մասնավոր և այլ կազմակերպություններին և անհատներին
A63: Վերջնական արդյունքի նկարագրությունը
A64: Համայնքներում կյանքի ստանդարտների բարելավում
A65: Ծրագրային դասիչը | C65: Անվանումը
C66: Տեղական նշանակության ճանապարհների և կամուրջների հիմնանորոգում
C67: Նկարագրությունը
A68: 1049 | B68: ԱՁ19 | C68: Ավտոճանապարհների քայքայված ծածկի նորոգում, մաշված ծածկի փոխարինում
A69: Քանակական | C69: Հիմնանորոգվող ավտոճանապարհների մակերեսը, հազ ք/մ,
A70: Որակական
A71: Տվյալ տարվա ՀՀ պետական բյուջեից ակտիվի ձեռքբերման, կառուցման կամ հիմնանորոգման վրա կատարվող ծախսերը (հազ. դրամ) | F71: =SUM(Կապիտալ!H263) -> -2882.8 | G71: =SUM(F71) -> -2882.8
A72: Ակտիվի ընդհանուր արժեքը (հազ. դրամ) | C72: =G71 -> -2882.8
A73: Տվյալ բյուջետային տարվան նախորդող բյուջետային տարիների ընթացքում ակտիվի վրա կատարված ծախսերը (հազ. դրամ)
A74: Ծրագիրը (ծրագրերը), որի (որոնց) շրջանակներում իրականացվում է քաղաքականության միջոցառումը
A75: 1049. Ճանապարհային ցանցի բարելավման և անվտանգ երթևկության ապահովման ծառայություններ
A76: Վերջնական արդյունքի նկարագրությունը
A77: Ճանապարհներին վթարների և դժբախտ պատահարների նվազում, ուղևորափոխադրումների և բեռնափոխադրումների ժամանակի կրճատում, տրանսպորտային միջոցների շահագործման ժամկետի երկարացում և վերանորոգման ծախսերի կրճատում
A78: Ծրագրային դասիչը | C78: Անվանումը
C79: Ոռոգման համակարգեր
A80: 1047 | B80: ԱՁ20 | C80: Նկարագրություն՝
C81: Ոռոգման համակարգերի հիմնանորոգում
A82: Քանակական | C82: Կառուցվող օբյեկտների քանակը, միավոր | D82: 3 | E82: 3
A83: Որակական
A84: Տվյալ տարվա պետական բյուջեից ակտիվի ձեռք բերման, կառուցման կամ հիմնանորոգման վրա կատարվող ծախսերը (հազար դրամ) | F84: =SUM('Վայոց ձ'!C15:C16,'Վայոց ձ'!C17) -> 49190 | G84: =SUM('Վայոց ձ'!D15:D16,'Վայոց ձ'!D17) -> 49190
A85: Ակտիվի ընդհանուր արժեքը (հազար դրամ) | C85: =G84 -> 49190
A86: Տվյալ բյուջետային տարվան նախորդող բյուջետային տարիների ընթացքում ակտիվի վրա կատարված ծախսերը (հազար դրամ)
A87: Ծրագիրը (ծրագրերը), որի (որոնց) շրջանակներում իրականացվում է քաղաքականության միջոցառումը
A88: 1047 Աջակցություն համայնքային, միջհամայնքային, ոչ կառավարական, մասնավոր և այլ կազմակերպություններին և անհատներին
A89: Վերջնական արդյունքի նկարագրությունը
A90: Համայնքներում կյանքի ստանդարտների բարելավում

Sheet Տավուշ
A1: Հավելված N 14
A2: ՀՀ կառավարության 2014թվականի -ի N -Ն որոշման
A4: ՀԱՅԱՍՏԱՆԻ ՀԱՆՐԱՊԵՏՈՒԹՅԱՆ ԿԱՌԱՎԱՐՈՒԹՅԱՆ 2014 ԹՎԱԿԱՆԻ ՄԱՐՏԻ 19-Ի N 363-Ն ՈՐՈՇՄԱՆ N 16 ՀԱՎԵԼՎԱԾՈՒՄ ԿԱՏԱՐՎՈՂ ՓՈՓՈԽՈՒԹՅՈՒՆԸ ԵՎ ԼՐԱՑՈՒՄՆԵՐԸ
A5: հազար դրամներով
A6: Հ/Հ | B6: Բյուջետային ծախսերի տնտեսագիտական դասակարգման հոդվածների և աշխատանքների անվանումները | C6: Ցուցանիշների փոփոխությունը (ավելացումները նշված են դրական նշանով, իսկ նվազեցումները՝ փակագծերում)
C7: Ինն ամիս | D7: Տարի
B8: ԸՆԴԱՄԵՆԸ | C8: =SUM(C10,C16)+C15 -> 7837 | D8: =SUM(D10,D16)+D15 -> 7837
B9: այդ թվում՝
A10: 2 | B10: Կապիտալ սուբվենցիաներ համայնքներին | C10: =SUM(C12:C14) -> 11000 | D10: =SUM(D12:D14) -> 11000
B11: որից`
A12: 2.6 | B12: Պտղավան համայնքի մանկապարտեզի վերանորոգման նպատակով Պտղավան համայնքին պետական աջակցության ցուցաբերում | C12: 1500 | D12: 1500
A13: 2.7 | B13: Չինարի համայնքի խմելու ջրատարի վերանորոգման նպատակով Չինարի համայնքին պետական աջակցության ցուցաբերում | C13: 5000 | D13: 5000
A14: 2.8 | B14: Չինչինի համայնքի դպրոցի հենապատի, ջրագծի և մանկապարտեզի տանիքի մասնակի վերանորոգման նպատակով Չինչին համայնքին պետական աջակցության ցուցաբերում | C14: 4500 | D14: 4500
A15: 3 | B15: Նախագծահետազոտական ծախսեր | C15: -4663 | D15: -4663
A16: 4 | B16: Ընթացիկ սուբվենցիաներ համայնքներին | C16: =SUM(C18:C18) -> 1500 | D16: =SUM(D18:D18) -> 1500
B17: որից`
A18: 4.1 | B18: Բարեկամավան համայնքի աշխատավարձի ֆոնդի պետական աջակցության տրամադրում | C18: 1500 | D18: 1500

Sheet Տավուշ ծր
A1: Աղյուսակ N 10
A3: ՀԱՅԱՍՏԱՆԻ ՀԱՆՐԱՊԵՏՈՒԹՅԱՆ ԿԱՌԱՎԱՐՈՒԹՅԱՆ 2013 ԹՎԱԿԱՆԻ ԴԵԿՏԵՄԲԵՐԻ 19-Ի N 1414-Ն ՈՐՈՇՄԱՆ N 11 ՀԱՎԵԼՎԱԾԻ N 11.59 ԱՂՅՈՒՍԱԿՈՒՄ ԿԱՏԱՐՎՈՂ ՓՈՓՈԽՈՒԹՅՈՒՆՆԵՐԸ ԵՎ ԼՐԱՑՈՒՄՆԵՐԸ
A6: ՄԱՍ Գ: Նախարարի պատասխանատվության ներքո իրականացվող քաղաքականության միջոցառումների և ֆինանսական կառավարման արդյունքների ցուցանիշները
A8: 1.2. Տրանսֆերտներ
A10: Չափորոշիչներ | D10: Ցուցանիշների փոփոխությունը (ավելացումները նշված են դրական նշանով, իսկ նվազեցումները՝ փակագծերում)
D11: Ոչ ֆինանսական ցուցանիշներ | F11: Ֆինանսական ցուցանիշներ
D12: Ինն ամիս | E12: Տարի | F12: Ինն ամիս | G12: Տարի
A13: Ծրագրային դասիչը | C13: Անվանումը
C14: Պետական անհատույց աջակցություն ՀՀ Տավուշի մարզի համայնքների նախադպրոցական շենքերի հիմնանորոգման համար
A15: 1047 | B15: ԾՏ30 | C15: Նկարագրություն՝
C16: Պետական անհատույց աջակցություն ՀՀ Տավուշի մարզի համայնքների նախադպրոցական շենքերի հիմնանորոգման համար
A17: Շահառուների քանակը | C17: 1. Տրանսֆերտ ստացող ՏԻՄ-երի քանակը | D17: 1 | E17: 1
A18: Գումարը (հազար դրամ) | D18: X | E18: X | F18: =SUM(Տավուշ!C12) -> 1500 | G18: =SUM(Տավուշ!D12) -> 1500
A19: Տրանսֆերտի վճարման հաճախականությունը
A20: Շահառուների ընտրության չափանիշները
A21: Նախադպրոցական հաստատությունների հիմնանորոգման անհրաժեշտությունը
A22: Ծրագիրը (ծրագրերը), որի (որոնց) շրջանակներում իրականացվում է քաղաքականության միջոցառումը
A23: 1047 Աջակցություն համայնքային, միջհամայնքային, ոչ կառավարական, մասնավոր և այլ կազմակերպություններին և անհատներին
A24: Վերջնական արդյունքի նկարագրությունը
A25: Համայնքներում կյանքի ստանդարտների բարելավում
A26: Ծրագրային դասիչը | C26: Անվանումը
C27: Աջակցություն ՀՀ Տավուշի մարզի Բարեկամավան համայնքին
A28: 1047 | B28: ԾՏ31 | C28: Նկարագրություն՝
C29: Բարեկամավան համայնքի աշխատավարձի ֆոնդի պետական աջակցության տրամադրում
A30: Շահառուների քանակը | C30: 1. Տրանսֆերտ ստացող ՏԻՄ-երի քանակը | D30: 1 | E30: 1
A31: Գումարը (հազար դրամ) | D31: X | E31: X | F31: =SUM(Տավուշ!C18) -> 1500 | G31: =SUM(Տավուշ!D18) -> 1500
A32: Տրանսֆերտի վճարման հաճախականությունը
A33: Շահառուների ընտրության չափանիշները
A34: Համայնքի սոցիալական խնդիրների կարգավորման անհրաժեշտությունը
A35: Ծրագիրը (ծրագրերը), որի (որոնց) շրջանակներում իրականացվում է քաղաքականության միջոցառումը
A36: 1047 Աջակցություն համայնքային, միջհամայնքային, ոչ կառավարական, մասնավոր և այլ կազմակերպություններին և անհատներին
A37: Վերջնական արդյունքի նկարագրությունը
A38: Համայնքներում կյանքի ստանդարտների բարելավում
A39: 1.4. Ներդրումներ լիազոր կառավարման ներքո գտնվող պետական կազմակերպություններում
A41: Չափորոշիչներ | D41: Ցուցանիշների փոփոխությունը (ավելացումները նշված են դրական նշանով, իսկ նվազեցումները՝ փակագծերում)
D42: Ոչ ֆինանսական ցուցանիշներ | F42: Ֆինանսական ցուցանիշներ
D43: Ինն ամիս | E43: Տարի | F43: Ինն ամիս | G43: Տարի
A44: Ծրագրային դասիչը | C44: Անվանումը
C45: Կրթական օբյեկտների հիմնանորոգում
A46: 1146 | B46: ԵԿ23 | C46: Նկարագրություն՝
C47: Ներդրումներ ՀՀ Տավուշի մարզպետի կառավարման լիազորությունների տակ գտնվող հանրակրթական դպրոցների շենքերի կապիտալ վերանորոգման նպատակով
A48: Ծախսերը (հազար դրամ) | D48: X | E48: X | F48: =SUM(Կապիտալ!H293) -> 12405.2 | G48: =SUM(F48) -> 12405.2
A49: Կազմակերպությունը, որտեղ կատարվում է ներդրումը`
A50: ՀՀ Տավուշի մարզպետի ենթակայության թվով հանրակրթական դպրոցներ
A51: Ներդրման հիմնավորումը, մասնավորապես, ազդեցությունը կարողությունների վրա`
A52: Քանակական, որակական, ժամկետայնության և այլ չափորոշիչների փոփոխության վրա | C52: Հիմնանորոգումն անհրաժեշտ է, որպեսզի դրանք ապահովեն ծառայությունների մատուցումը գործող չափորոշիչներին համապատասխան անհրաժեշտ ծավալով և որակով
A53: Ծախսային արդյունավետության բարելավման վրա
A54: Ծրագիրը (ծրագրերը), որի (որոնց) շրջանակներում իրականացվում է քաղաքականության միջոցառումը
A55: 1146 Հանրակրթության ծրագիր
A56: Վերջնական արդյունքի նկարագրությունը
A57: Հանրակարթական մակարդակում սովորողների ընդգրկվածության, գրագիտության և համակողմանի զարգացման բարձր մակարդակի ապահովում
A60: 1.6. Հանրության կողմից օգտագործվող ոչ ֆինանսական ակտիվներ
A62: 1.6.1. Հանրության կողմից օգտագործվող ոչ ֆինանսական ակտիվներ
A63: Չափորոշիչներ | D63: Ցուցանիշների փոփոխությունը (ավելացումները նշված են դրական նշանով, իսկ նվազեցումները՝ փակագծերում)
D64: Ոչ ֆինանսական ցուցանիշներ | F64: Ֆինանսական ցուցանիշներ
D65: Ինն ամիս | E65: Տարի | F65: Ինն ամիս | G65: Տարի
A66: Ծրագրային դասիչը | C66: Անվանումը
C67: Նախագծային աշխատանքներ
A68: 1047 | B68: ԱՁ33 | C68: Նկարագրություն՝
C69: Շինարարության (հիմնանորոգման) համար անհրաժեշտ նախագծա-նախահաշվային փաստաթղթերի մշակման (լրամշակման) աշխատանքներ
A70: Քանակական | C70: Նախագծա-նախահաշվային փատաթղթերի քանակը, հատ
A71: Որակական | C71: Համապատասխանություն ՀՀ քաղաքաշինական նորմատիվա-տեխնիկական փաստաթղթերին, տոկոս
A72: Տվյալ տարվա պետական բյուջեից ակտիվի ձեռք բերման, կառուցման կամ հիմնանորոգման վրա կատարվող ծախսերը (հազար դրամ) | F72: =SUM(Կապիտալ!I269,Տավուշ!C15) -> -2143 | G72: =SUM(F72) -> -2143
A73: Ակտիվի ընդհանուր արժեքը (հազար դրամ) | C73: =G72 -> -2143
A74: Տվյալ բյուջետային տարվան նախորդող բյուջետային տարիների ընթացքում ակտիվի վրա կատարված ծախսերը (հազար դրամ)
A75: Ծրագիրը (ծրագրերը), որի (որոնց) շրջանակներում իրականացվում է քաղաքականության միջոցառումը
A76: 1047 Աջակցություն համայնքային, միջհամայնքային, ոչ կառավարական, մասնավոր և այլ կազմակերպություններին և անհատներին
A77: Վերջնական արդյունքի նկարագրությունը
A78: Համայնքներում կյանքի ստանդարտների բարելավում
A79: Ծրագրային դասիչը | C79: Անվանումը
C80: Տեղական նշանակության ճանապարհների և կամուրջների հիմնանորոգում
C81: Նկարագրությունը
A82: 1049 | B82: ԱՁ20 | C82: Ավտոճանապարհների քայքայված ծածկի նորոգում, մաշված ծածկի փոխարինում
A83: Քանակական | C83: Հիմնանորոգվող ավտոճանապարհների մակերեսը, հազ ք/մ,
A84: Որակական
A85: Տվյալ տարվա ՀՀ պետական բյուջեից ակտիվի ձեռքբերման, կառուցման կամ հիմնանորոգման վրա կատարվող ծախսերը (հազ. դրամ) | F85: =SUM(Կապիտալ!H273,Տավուշ!C14) -> -18262 | G85: =SUM(F85) -> -18262
A86: Ակտիվի ընդհանուր արժեքը (հազ. դրամ) | C86: =G85 -> -18262
A87: Տվյալ բյուջետային տարվան նախորդող բյուջետային տարիների ընթացքում ակտիվի վրա կատարված ծախսերը (հազ. դրամ)
A88: Ծրագիրը (ծրագրերը), որի (որոնց) շրջանակներում իրականացվում է քաղաքականության միջոցառումը
A89: 1049. Ճանապարհային ցանցի բարելավման և անվտանգ երթևկության ապահովման ծառայություններ
A90: Վերջնական արդյունքի նկարագրությունը
A91: Ճանապարհներին վթարների և դժբախտ պատահարների նվազում, ուղևորափոխադրումների և բեռնափոխադրումների ժամանակի կրճատում, տրանսպորտային միջոցների շահագործման ժամկետի երկարացում և վերանորոգման ծախսերի կրճատում
A92: Ծրագրային դասիչը | C92: Անվանումը
C93: Ջրամատակարաման օբյեկտներ
A94: 1047 | B94: ԱՁ21 | C94: Նկարագրություն՝
C95: Ջրամատակարարման օբյեկտների կառուցում / ջրագծերի անցկացում, խորքային հորանծքների կառուցում/
A96: Քանակական | C96: Կառուցվող օբյեկտների քանակը, միավոր
A97: Որակական
A98: Տվյալ տարվա պետական բյուջեից ակտիվի ձեռք բերման, կառուցման կամ հիմնանորոգման վրա կատարվող ծախսերը (հազար դրամ) | F98: =SUM(Տավուշ!C13) -> 5000 | G98: =SUM(Տավուշ!D13) -> 5000
A99: Ակտիվի ընդհանուր արժեքը (հազար դրամ) | C99: =G98 -> 5000
A100: Տվյալ բյուջետային տարվան նախորդող բյուջետային տարիների ընթացքում ակտիվի վրա կատարված ծախսերը (հազար դրամ)
A101: Ծրագիրը (ծրագրերը), որի (որոնց) շրջանակներում իրականացվում է քաղաքականության միջոցառումը
A102: 1047 Աջակցություն համայնքային, միջհամայնքային, ոչ կառավարական, մասնավոր և այլ կազմակերպություններին և անհատներին
A103: Վերջնական արդյունքի նկարագրությունը
A104: Համայնքներում կյանքի ստանդարտների բարելավում

Sheet doc. 12
A1: Աղյուսակ N 11
A4: ՀԱՅԱՍՏԱՆԻ ՀԱՆՐԱՊԵՏՈՒԹՅԱՆ ԿԱՌԱՎԱՐՈՒԹՅԱՆ 2013 ԹՎԱԿԱՆԻ ԴԵԿՏԵՄԲԵՐԻ 19-Ի N 1414-Ն ՈՐՈՇՄԱՆ N 11 ՀԱՎԵԼՎԱԾԻ N 12 ԱՂՅՈՒՍԱԿՈՒՄ ԿԱՏԱՐՎՈՂ ՓՈՓՈԽՈՒԹՅՈՒՆՆԵՐԸ ԵՎ ԼՐԱՑՈՒՄՆԵՐԸ
A6: ՀՀ Արագածոտնի մարզպետարան
A7: Բաժին 2.
A8: Գերատեսչության կողմից իրականացվող քաղաքականության միջոցառումների ծրագրային խմբավորումը
A10: 1049 | D10: ԾՐԱԳԻՐ
D11: Ճանապարհային ցանցի բարելավման և անվտանգ երթևկության ապահովման ծառայություններ | E11: =SUM(E17) -> -3422.3
D12: Ծրագրի նկարագրությունը
D13: Ավտոճանապարհների և հարակից կառույցների ընթացիկ և ձմեռային պահպանություն
D14: Վերջնական արդյունքի նկարագրությունը
D15: Ճանապարհներին վթարների և դժբախտ պատահարների նվազում, ուղևորափոխադրումների և բեռնափոխադրումների ժամանակի կրճատում, տրանսպորտային միջոցների շահագործման ժամկետի երկարացում և վերանորոգման ծախսերի կրճատում
D16: Ոչ ֆինանսական ակտիվների գծով միջոցառումներ
B17: ԱՁ11 | D17: Պետական նշանակության ավտոճանապարհների հիմնանորոգում (ՀՀ Արագածոտնի մարզպետարան) | E17: =SUM('Արագածոտն ծր'!G87) -> -3422.3
D18: Ակտիվի նկարագրությունը
D19: Միջպետական և տեղական նշանակության ավտոճանապարհների քայքայված ծածկի նորոգում, մաշված ծածկի փոխարինում
D20: Ծրագիրը (ծրագրերը), որին (որոնց) առնչվում է ակտիվը
D21: 1049. Ճանապարհային ցանցի բարելավման և անվտանգ երթևկության ապահովման ծառայություններ
A22: 1146 | D22: ԾՐԱԳԻՐ
D23: Հանրակրթության ծրագիր | E23: =SUM(E29) -> -4240.4
D24: Ծրագրի նկարագրությունը
D25: Տարրական, հիմնական և միջնակարգ (լրիվ) ընդհանուր կրթության ծառայությունների մատուցում
D26: Վերջնական արդյունքի նկարագրությունը
D27: Հանրակրթական մակարդակում սովորողների ընդգրկվածության, գրագիտության և համակողմանի զարգացման բարձր մակարդակի ապահովում
D28: Պետական կազմակերպություններում ներդրումներ
B29: ԵԿ06 | D29: Ներդրումներ կրթական ոլորտի օբյեկտներում (ՀՀ Արագածոտնի մարզ) | E29: =SUM('Արագածոտն ծր'!G51) -> -4240.4
D30: Ներդրման նկարագրությունը
D31: ՀՀ Արագածոտնի մարզպետի ենթակայության հանրակրթական դպրոցների շենքերի (մասնաշենքերի) հիմնանորոգում (համաշինարարական աշխատանքներ,ջեռուցման համակարգի իրականացում, ներքին հարդարում,տարածքի բարեկարգում)
D32: Կազմակերպության անվանումը, որտեղ կատարվում է ներդրումը
D33: ՀՀ Արագածոտնի մարզպետի ենթակայության հանրակրթական դպրոցներ
D34: Տվյալ ներդրման հետ կապված ծրագիրը (ծրագրերը)
D35: 1146 Հանրակրթության ծրագիր
A36: 1168 | D36: ԾՐԱԳԻՐ
D37: Արվեստի պահպանման և զարգացման ծրագիր | E37: =SUM(E43) -> 6858.9
D38: Ծրագրի նկարագրությունը
D39: Թատերարվեստի, երաժշտարվեստի, պարարվեստի,կերպարվեստի, ժողարվեստի ոլորտի ծառայություններ
D40: Վերջնական արդյունքի նկարագրությունը
D41: Քաղաքացիական հասարակության տեղեկացվածության և հաղորդակցման բարձրացում արվեստի ոլորտում
D42: Պետական կազմակերպություններում ներդրումներ
B43: ԵԿ04 | D43: Ներդրումներ մշակութային օբյեկտներում (ՀՀ Արագածոտնի մարզպետարան) | E43: =SUM('Արագածոտն ծր'!G37) -> 6858.9
D44: Ներդրման նկարագրությունը
D45: ՀՀ Արագածոտնի մարզի մշակութային շենքերի կապիտալ վերանորոգում
D46: Տվյալ ներդրման հետ կապված ծրագիրը (ծրագրերը)
D47: 1168 Արվեստի պահպանման և զարգացման ծրագիր
A48: 1047 | D48: ԾՐԱԳԻՐ
D49: Աջակցություն համայնքային, միջհամայնքային, ոչ կառավարական, մասնավոր և այլ կազմակերպություններին և անհատներին | E49: =SUM(E55,E60) -> 757
D50: Ծրագրի նկարագրությունը
D51: Աջակցություն համայնքներին համայնքային օբյեկտների շենքային պայմանների բարելավման համար
D52: Վերջնական արդյունքի նկարագրությունը
D53: Համայնքներում կյանքի ստանդարտների բարելավում
D54: Քաղաքականության միջոցառումներ. Տրանսֆերտներ
B55: ԾՏ45 | D55: Աջակցություն ՀՀ Արագածոտնի մարզի համայնքներին (ՀՀ Արագածոտնի մարզպետարան) | E55: =SUM('Արագածոտն ծր'!G19) -> 6000
D56: Ֆինանսավորման ծախսի նկարագրությունը
D57: Պետական անհատույց աջակցություն համայնքներին` ցրտահարությունից և փոթորկից տուժված համայնքներին հողի և ջրի վարձավճարների փոխհատուցման նպատակով
D58: 1047 Աջակցություն համայնքային, միջհամայնքային, ոչ կառավարական, մասնավոր և այլ կազմակերպություններին և անհատներին
D59: Ոչ ֆինանսական ակտիվների գծով միջոցառումներ
B60: ԱՁ02 | D60: Նախագծային աշխատանքներ (ՀՀ Արագածոտնի մարզպետարան) | E60: =SUM('Արագածոտն ծր'!G74) -> -5243
D61: Ակտիվի նկարագրությունը
D62: Շինարարության (հիմնանորոգման) համար անհրաժեշտ նախագծա-նախահաշվային փաստաթղթերի մշակման (լրամշակման) աշխատանքներ
D63: Ծրագիրը (ծրագրերը), որին (որոնց) առնչվում է ակտիվը
D64: 1047 Աջակցություն համայնքային, միջհամայնքային, ոչ կառավարական, մասնավոր և այլ կազմակերպություններին և անհատներին
A66: ՀՀ Արարատի մարզպետարան
A67: Բաժին 2.
A68: Գերատեսչության կողմից իրականացվող քաղաքականության միջոցառումների ծրագրային խմբավորումը
A70: 1047 | D70: ԾՐԱԳԻՐ
D71: Աջակցություն համայնքային, միջհամայնքային, ոչ կառավարական, մասնավոր և այլ կազմակերպություններին և անհատներին | E71: =SUM(E77,E82) -> #REF!
D72: Ծրագրի նկարագրությունը
D73: Աջակցություն համայնքներին համայնքային օբյեկտների շենքային պայմանների բարելավման համար
D74: Վերջնական արդյունքի նկարագրությունը
D75: Համայնքներում կյանքի ստանդարտների բարելավում
D76: Քաղաքականության միջոցառումներ. Տրանսֆերտներ
B77: ԾՏ46 | D77: Աջակցություն ՀՀ Արարատի մարզի համայնքներին (ՀՀ Արարատի մարզպետարան) | E77: =SUM('Արարատ ծր'!#REF!) -> #REF!
D78: Ֆինանսավորման ծախսի նկարագրությունը
D79: Պետական անհատույց աջակցություն համայնքներին` ցրտահարությունից և փոթորկից տուժված համայնքներին հողի և ջրի վարձավճարների փոխհատուցման նպատակով
D80: 1047 Աջակցություն համայնքային, միջհամայնքային, ոչ կառավարական, մասնավոր և այլ կազմակերպություններին և անհատներին
D81: Ոչ ֆինանսական ակտիվների գծով միջոցառումներ
B82: ԱՁ07 | D82: Նախագծային աշխատանքներ (ՀՀ Արարատի մարզպետարան) | E82: =SUM('Արարատ ծր'!G37) -> -5967.6
D83: Ակտիվի նկարագրությունը
D84: Շինարարության (հիմնանորոգման) համար անհրաժեշտ նախագծա-նախահաշվային փաստաթղթերի մշակման (լրամշակման) աշխատանքներ
D85: Ծրագիրը (ծրագրերը), որին (որոնց) առնչվում է ակտիվը
D86: 1047 Աջակցություն համայնքային, միջհամայնքային, ոչ կառավարական, մասնավոր և այլ կազմակերպություններին և անհատներին
A87: 1049 | D87: ԾՐԱԳԻՐ
D88: Ճանապարհային ցանցի բարելավման և անվտանգ երթևկության ապահովման ծառայություններ | E88: =SUM(E94) -> -13230
D89: Ծրագրի նկարագրությունը
D90: Ավտոճանապարհների և հարակից կառույցների ընթացիկ և ձմեռային պահպանություն
D91: Վերջնական արդյունքի նկարագրությունը
D92: Ճանապարհներին վթարների և դժբախտ պատահարների նվազում, ուղևորափոխադրումների և բեռնափոխադրումների ժամանակի կրճատում, տրանսպորտային միջոցների շահագործման ժամկետի երկարացում և վերանորոգման ծախսերի կրճատում
D93: Ոչ ֆինանսական ակտիվների գծով միջոցառումներ
B94: ԱՁ12 | D94: Պետական նշանակության ավտոճանապարհների հիմնանորոգում (ՀՀ Արարատի մարզպետարան) | E94: =SUM('Արարատ ծր'!G50) -> -13230
D95: Ակտիվի նկարագրությունը
D96: Միջպետական և տեղական նշանակության ավտոճանապարհների քայքայված ծածկի նորոգում, մաշված ծածկի փոխարինում
D97: Ծրագիրը (ծրագրերը), որին (որոնց) առնչվում է ակտիվը
D98: 1049. Ճանապարհային ցանցի բարելավման և անվտանգ երթևկության ապահովման ծառայություններ
A99: 1146 | D99: ԾՐԱԳԻՐ
D100: Հանրակրթության ծրագիր | E100: =SUM(E106) -> 19197.6
D101: Ծրագրի նկարագրությունը
D102: Տարրական, հիմնական և միջնակարգ (լրիվ) ընդհանուր կրթության ծառայությունների մատուցում
D103: Վերջնական արդյունքի նկարագրությունը
D104: Հանրակրթական մակարդակում սովորողների ընդգրկվածության, գրագիտության և համակողմանի զարգացման բարձր մակարդակի ապահովում
D105: Պետական կազմակերպություններում ներդրումներ
B106: ԵԿ15 | D106: Ներդրումներ կրթական ոլորտի օբյեկտներում (ՀՀ Արարատի մարզպետարան) | E106: =SUM('Արարատ ծր'!G16) -> 19197.6
...
