Workbook
Name _edn1: '9.2'!$A$221
Name _edn10: '9.2'!$A$232
Name _edn11: '9.2'!$A$233
Name _edn12: '9.2'!$A$234
Name _edn13: '9.2'!$A$235
Name _edn14: '9.2'!$A$236
Name _edn15: '9.2'!$A$237
Name _edn2: '9.2'!$A$222
Name _edn3: '9.2'!$A$223
Name _edn4: '9.2'!$A$224
Name _edn5: '9.2'!$A$227
Name _edn6: '9.2'!$A$228
Name _edn7: '9.2'!$A$229
Name _edn8: '9.2'!$A$230
Name _edn9: '9.2'!$A$231
Name _ednref1: '9.2'!#REF!
Name _ednref10: '9.2'!#REF!
Name _ednref11: '9.2'!#REF!
Name _ednref12: '9.2'!#REF!
Name _ednref13: '9.2'!$A$131
Name _ednref14: '9.2'!$D$144
Name _ednref15: '9.2'!#REF!
Name _ednref2: '9.2'!#REF!
Name _ednref3: '9.2'!#REF!
Name _ednref4: '9.2'!#REF!
Name _ednref5: '9.2'!#REF!
Name _ednref6: '9.2'!#REF!
Name _ednref7: '9.2'!#REF!
Name _ednref8: '9.2'!#REF!
Name _ednref9: '9.2'!#REF!
Name g: '[1]DOC 3'!$A$16,'[1]DOC 3'!$A$128,'[1]DOC 3'!$A$311,'[1]DOC 3'!$A$328
Name OLE_LINK1: '9.2'!$A$3
Name par_qual: '[2]DOC 3'!$A$15,'[2]DOC 3'!$A$127,'[2]DOC 3'!$A$257,'[2]DOC 3'!$A$310,'[2]DOC 3'!$A$327
Name par_qual: '[3]DOC 3'!$A$15,'[3]DOC 3'!$A$127,'[3]DOC 3'!$A$257,'[3]DOC 3'!$A$310,'[3]DOC 3'!$A$327
Name par_qual: '[4]DOC 3'!$A$15,'[4]DOC 3'!$A$127,'[4]DOC 3'!$A$257,'[4]DOC 3'!$A$310,'[4]DOC 3'!$A$327
Name par_time: '[2]DOC 3'!$A$16,'[2]DOC 3'!$A$128,'[2]DOC 3'!$A$311,'[2]DOC 3'!$A$328
Name par_time: '[3]DOC 3'!$A$16,'[3]DOC 3'!$A$128,'[3]DOC 3'!$A$311,'[3]DOC 3'!$A$328
Name par_time: '[4]DOC 3'!$A$16,'[4]DOC 3'!$A$128,'[4]DOC 3'!$A$311,'[4]DOC 3'!$A$328
Name par2.5s: '[2]DOC 3'!$A$22,'[2]DOC 3'!$A$134
Name par2.5s: '[3]DOC 3'!$A$22,'[3]DOC 3'!$A$134
Name par2.5s: '[4]DOC 3'!$A$22,'[4]DOC 3'!$A$134
Name par2.6s: '[2]DOC 3'!$A$40,'[2]DOC 3'!$A$65,'[2]DOC 3'!$A$89,'[2]DOC 3'!$A$111
Name par2.6s: '[3]DOC 3'!$A$40,'[3]DOC 3'!$A$65,'[3]DOC 3'!$A$89,'[3]DOC 3'!$A$111
Name par2.6s: '[4]DOC 3'!$A$40,'[4]DOC 3'!$A$65,'[4]DOC 3'!$A$89,'[4]DOC 3'!$A$111
Name par2.7s: '[2]DOC 3'!$A$178,'[2]DOC 3'!$A$343
Name par2.7s: '[3]DOC 3'!$A$178,'[3]DOC 3'!$A$343
Name par2.7s: '[4]DOC 3'!$A$178,'[4]DOC 3'!$A$343
Name par4.10s: '[2]DOC 3'!$A$42,'[2]DOC 3'!$A$84
Name par4.10s: '[3]DOC 3'!$A$42,'[3]DOC 3'!$A$84
Name par4.10s: '[4]DOC 3'!$A$42,'[4]DOC 3'!$A$84
Name par4.11d: '[2]DOC 3'!$A$44,'[2]DOC 3'!$A$86,'[2]DOC 3'!$A$201,'[2]DOC 3'!$A$221,'[2]DOC 3'!$A$241
Name par4.11d: '[3]DOC 3'!$A$44,'[3]DOC 3'!$A$86,'[3]DOC 3'!$A$201,'[3]DOC 3'!$A$221,'[3]DOC 3'!$A$241
Name par4.11d: '[4]DOC 3'!$A$44,'[4]DOC 3'!$A$86,'[4]DOC 3'!$A$201,'[4]DOC 3'!$A$221,'[4]DOC 3'!$A$241
Name par4.14: '[2]DOC 3'!$A$38,'[2]DOC 3'!$A$82,'[2]DOC 3'!$A$199,'[2]DOC 3'!$A$219,'[2]DOC 3'!$A$239,'[2]DOC 3'!$A$259
Name par4.14: '[3]DOC 3'!$A$38,'[3]DOC 3'!$A$82,'[3]DOC 3'!$A$199,'[3]DOC 3'!$A$219,'[3]DOC 3'!$A$239,'[3]DOC 3'!$A$259
Name par4.14: '[4]DOC 3'!$A$38,'[4]DOC 3'!$A$82,'[4]DOC 3'!$A$199,'[4]DOC 3'!$A$219,'[4]DOC 3'!$A$239,'[4]DOC 3'!$A$259
Name par4.15: '[2]DOC 3'!$A$60,'[2]DOC 3'!$A$106,'[2]DOC 3'!$A$275
Name par4.15: '[3]DOC 3'!$A$60,'[3]DOC 3'!$A$106,'[3]DOC 3'!$A$275
Name par4.15: '[4]DOC 3'!$A$60,'[4]DOC 3'!$A$106,'[4]DOC 3'!$A$275
Name par4.16: '[2]DOC 3'!$A$61,'[2]DOC 3'!$A$107,'[2]DOC 3'!$A$276

Sheet N 1
C1: Հավելված N 1
C2: ՀՀ կառավարության
C3: 2018 թվականի __________
C4: N -Ն որոշման
B5: <<ՀԱՅԱՍՏԱՆԻ ՀԱՆՐԱՊԵՏՈՒԹՅԱՆ 2018 ԹՎԱԿԱՆԻ ՊԵՏԱԿԱՆ ԲՅՈՒՋԵԻ ՄԱՍԻՆ>> ՀԱՅԱՍՏԱՆԻ ՀԱՆՐԱՊԵՏՈՒԹՅԱՆ ՕՐԵՆՔԻ 2-ՐԴ ՀՈԴՎԱԾԻ ԱՂՅՈՒՍԱԿԻ ՑՈՒՑԱՆԻՇՆԵՐՈՒՄ ԿԱՏԱՐՎՈՂ ՓՈՓՈԽՈՒԹՅՈՒՆՆԵՐԸ
C7: հազար դրամներով
C8: Ցուցանիշների փոփոխությունը (գումարների ավելացումը նշված է դրական նշանով)
B9: 1. Եկամուտների գծով | C9: =+'N 3'!F9 -> 14324500
B10: 2. Ծախսերի գծով | C10: =+'N 4'!H9 -> 13916379
B11: 3. Դեֆիցիտը (պակասուրդը) | C11: ='N 2'!E16 -> -408121.3

Sheet N 2
E1: Հավելված N 2
E2: ՀՀ կառավարության
E3: 2018 թվականի __________
E4: N -Ն որոշման
A5: <<ՀԱՅՍՏԱՆԻ ՀԱՆՐԱՊԵՏՈՒԹՅԱՆ 2018 ԹՎԱԿԱՆԻ ՊԵՏԱԿԱՆ ԲՅՈՒՋԵԻ ՄԱՍԻՆ>> ՀԱՅԱՍՏԱՆԻ ՀԱՆՐԱՊԵՏՈՒԹՅԱՆ ՕՐԵՆՔԻ 3-ՐԴ ՀՈԴՎԱԾԻ ԱՂՅՈՒՍԱԿՈՒՄ, N 4 ՀԱՎԵԼՎԱԾԻ N 1 ԱՂՅՈՒՍԱԿՈՒՄ ԵՎ ՀԱՅԱՍՏԱՆԻ ՀԱՆՐԱՊԵՏՈՒԹՅԱՆ ԿԱՌԱՎԱՐՈՒԹՅԱՆ 2017 ԹՎԱԿԱՆԻ ԴԵԿՏԵՄԲԵՐԻ 28-Ի N 1717-Ն ՈՐՈՇՄԱՆ N 1 ՀԱՎԵԼՎԱԾԻ N 1 ԱՂՅՈՒՍԱԿՈՒՄ ԿԱՏԱՐՎՈՂ ՓՈՓՈԽՈՒԹՅՈՒՆՆԵՐԸ ԵՎ ԼՐԱՑՈՒՄՆԵՐԸ
D6: հազար դրամներով
A7: Պետական բյուջեի դեֆիցիտի ֆինանսավորման աղբյուրներն ու դրանց տարրերի անվանումները | B7: Ցուցանիշների փոփոխություն (մուտքերի նվազեցումը նշված է փակագծերում)
B8: Առաջին եռամսյակ | C8: Առաջին կիսամյակ | D8: Ինն ամիս | E8: Տարի
A9: ԸՆԴԱՄԵՆԸ | B9: =+B11 -> -2276.8 | C9: =+C11 -> -13117 | D9: =+D11 -> -424340.8 | E9: =+E11 -> -408121.3
A10: այդ թվում՝
A11: Ա. Ներքին աղբյուրներ-ընդամենը | B11: =+B13 -> -2276.8 | C11: =+C13 -> -13117 | D11: =+D13 -> -424340.8 | E11: =+E13 -> -408121.3
A12: այդ թվում՝
A13: 2. Ֆինանսական զուտ ակտիվներ | B13: =+B17 -> -2276.8 | C13: =+C17 -> -13117 | D13: =+D17 -> -424340.8 | E13: =+E16 -> -408121.3
A14: այդ թվում՝
A15: 2.6 Այլ | B15: =B17 -> -2276.8 | C15: =C17 -> -13117 | D15: =D17 -> -424340.8 | E15: =E16 -> -408121.3
A16: Արտաբյուջետային հաշվի միջոցների փոփոխություն | E16: ='N 4'!H9-'N 3'!F13 -> -408121.3
A17: Արտաբյուջետային հաշվի ժամանակավորապես ազատ միջոցներ | B17: ='N 4'!E9-'N 3'!C9 -> -2276.8 | C17: ='N 4'!F9-'N 3'!D9 -> -13117 | D17: ='N 4'!G9-'N 3'!E9 -> -424340.8

Sheet N 3
E1: Հավելված N 3
F2: ՀՀ կառավարության
F3: 2018 թվականի __________
F4: N -Ն որոշման
B5: <<ՀԱՅԱՍՏԱՆԻ ՀԱՆՐԱՊԵՏՈՒԹՅԱՆ 2018 ԹՎԱԿԱՆԻ ՊԵՏԱԿԱՆ ԲՅՈՒՋԵԻ ՄԱՍԻՆ>> ՀԱՅԱՍՏԱՆԻ ՀԱՆՐԱՊԵՏՈՒԹՅԱՆ ՕՐԵՆՔԻ 6-ՐԴ ՀՈԴՎԱԾԻ ԱՂՅՈՒՍԱԿՈՒՄ ԵՎ ՀԱՅԱՍՏԱՆԻ ՀԱՆՐԱՊԵՏՈՒԹՅԱՆ ԿԱՌԱՎԱՐՈՒԹՅԱՆ 2017 ԹՎԱԿԱՆԻ ԴԵԿՏԵՄԲԵՐԻ 28-Ի N 1717-Ն ՈՐՈՇՄԱՆ N 2 ՀԱՎԵԼՎԱԾՈՒՄ ԿԱՏԱՐՎՈՂ ՓՈՓՈԽՈՒԹՅՈՒՆՆԵՐԸ
E6: հազար դրամներով
B7: ՊԵՏԱԿԱՆ ԲՅՈՒՋԵԻ ԵԿԱՄՈՒՏՆԵՐ | C7: Ցուցանիշների փոփոխություն (գումարների ավելացումը նշված է դրական նշանով)
C8: Առաջին եռամսյակ | D8: Առաջին կիսամյակ | E8: Ինն ամիս | F8: Տարի
B9: ԸՆԴԱՄԵՆԸ | C9: =+C13 -> 2592513.7 | D9: =+D13 -> 6360337.5 | E9: =+E13 -> 9428301.5 | F9: =+F13 -> 14324500
B10: այդ թվում՝
B11: Հարկային եկամուտներ և պետական տուրք
B12: Պաշտոնական դրամաշնորհներ
B13: Այլ եկամուտներ | C13: =+'N 7'!D11 -> 2592513.7 | D13: =+'N 7'!E11 -> 6360337.5 | E13: =+'N 7'!F11 -> 9428301.5 | F13: =+'N 7'!G11 -> 14324500
B14: ՊԱՇՏՈՆԱԿԱՆ ՏՐԱՆՍՖԵՐՏՆԵՐ

Sheet N 4
G1: Հավելված N 4
H2: ՀՀ կառավարության
H3: 2018 թվականի _________-ի
H4: N -Ն որոշման
A5: <<ՀԱՅԱՍՏԱՆԻ ՀԱՆՐԱՊԵՏՈՒԹՅԱՆ 2018 ԹՎԱԿԱՆԻ ՊԵՏԱԿԱՆ ԲՅՈՒՋԵԻ ՄԱՍԻՆ>> ՀԱՅԱՍՏԱՆԻ ՀԱՆՐԱՊԵՏՈՒԹՅԱՆ ՕՐԵՆՔԻ 7-ՐԴ ՀՈԴՎԱԾԻ ԱՂՅՈՒՍԱԿԻ ԵՎ ՀԱՅԱՍՏԱՆԻ ՀԱՆՐԱՊԵՏՈՒԹՅԱՆ ԿԱՌԱՎԱՐՈՒԹՅԱՆ 2017 ԹՎԱԿԱՆԻ ԴԵԿՏԵՄԲԵՐԻ 28-Ի N 1717-Ն ՈՐՈՇՄԱՆ N 3 ՀԱՎԵԼՎԱԾԻ ՑՈՒՑԱՆԻՇՆԵՐՈՒՄ ԿԱՏԱՐՎՈՂ ՓՈՓՈԽՈՒԹՅՈՒՆՆԵՐԸ
G6: հազար դրամներով
A7: Բաժնի N | B7: Խմբի N | C7: Դասի N | D7: Բյուջետային ծախսերի գործառնական դասակարգման բաժինների, խմբերի և դասերի անվանումները | E7: Ցուցանիշների փոփոխությունը (ծախսերի ավելացումները նշված են դրական նշանով)
E8: Առաջին եռամսյակ | F8: Առաջին կիսամյակ | G8: Ինն ամիս | H8: Տարի
D9: ԸՆԴԱՄԵՆԸ ԾԱԽՍԵՐ | E9: =+E16 -> 2590236.9 | F9: =+F16 -> 6347220.5 | G9: =+G16 -> 9003960.7 | H9: =+H16 -> 13916379
D10: այդ թվում՝
D11: Այլ մարմիններ
D12: որից` ըստ բյուջետային ծախսերի տնտեսագիտական դասակարգման հոդվածների`
D13: ԱՅԼ ԾԱԽՍԵՐ
D14: այդ թվում`
D15: - այլ ծախսեր
A16: 03 | D16: ՀԱՍԱՐԱԿԱԿԱՆ ԿԱՐԳ, ԱՆՎՏԱՆԳՈՒԹՅՈՒՆ ԵՎ ԴԱՏԱԿԱՆ ԳՈՐԾՈՒՆԵՈՒԹՅՈՒՆ | E16: =+E18 -> 2590236.9 | F16: =+F18 -> 6347220.5 | G16: =+G18 -> 9003960.7 | H16: =+H18 -> 13916379
D17: այդ թվում՝
B18: 01 | D18: Հասարակական կարգ և անվտանգություն | E18: =+E20 -> 2590236.9 | F18: =+F20 -> 6347220.5 | G18: =+G20 -> 9003960.7 | H18: =+H20 -> 13916379
D19: այդ թվում՝
C20: 01 | D20: Ոստիկանություն | E20: ='N 5'!C11 -> 2590236.9 | F20: ='N 5'!D11 -> 6347220.5 | G20: ='N 5'!E11 -> 9003960.7 | H20: ='N 5'!F11 -> 13916379
D21: 04. ՀՀ կառավարությանն առընթեր ոստիկանության ճանապարհային ոստիկանության կողմից արձանագրված խախտումների համար վարչական տուգանքների գանձումներից, գրանցման-քննական ծառայությունների դիմաց վճարումներից և այլ վճարովի ծառայություններ | H21: =H22 -> 5244710
D22: ՀՀ կառավարությանն առընթեր ՀՀ ոստիկանություն | H22: =H24+H29+H32+H35+H40+H43+H53+H57+H50 -> 5244710
D23: որից ըստ բյուջետային ծախսերի տնտեսագիտական դասակարգման հոդվածների`
D24: ԱՇԽԱՏԱՆՔԻ ՎԱՐՁԱՏՐՈՒԹՅՈՒՆ | H24: =H27+H28+H26 -> 1859353.6
D25: այդ թվում`
D26: - Աշխատողների աշխատավարձեր և հավելավճարներ | H26: 1835353.6
D27: - Պարգևատրումներ, դրամական խրախուսումներ և հատուկ վճարներ | H27: 6000
D28: - Փաստացի սոցիալական ապահովության վճարներ (գործատուի կողմից) | H28: 18000
D29: Շարունակական ծախսեր | H29: =H31 -> 6228.4
D30: այդ թվում`
D31: - կապի ծառայություններ | H31: 6228.4
D32: Գործուղումների և շրջագայությունների ծախսեր | H32: =H34+H33 -> 2904
D33: - ներքին գործուղումներ | H33: 1904
D34: - արտասահմանյան գործուղումների գծով ծախսեր | H34: 1000
D35: Պայմանագրային այլ ծառայությունների ձեռքբերում | H35: =H37+H38+H39 -> 119500
D36: այդ թվում`
D37: - համակարգչային ծառայություններ | H37: 16500
D38: - ներկայացուցչական ծախսեր | H38: 3000
D39: - ընդհանուր բնույթի այլ ծառայություններ | H39: 100000
D40: Ընթացիկ նորոգում և պահպանում (ծառայություններ և նյութեր) | H40: =H42 -> 95000
...

Sheet N 5
F1: Հավելված N 5
F2: ՀՀ կառավարության
F3: 2018 թվականի _________-ի
F4: N ___ -Ն որոշման
B5: <<ՀԱՅԱՍՏԱՆԻ ՀԱՆՐԱՊԵՏՈՒԹՅԱՆ 2018 ԹՎԱԿԱՆԻ ՊԵՏԱԿԱՆ ԲՅՈՒՋԵԻ ՄԱՍԻՆ>> ՀԱՅԱՍՏԱՆԻ ՀԱՆՐԱՊԵՏՈՒԹՅԱՆ ՕՐԵՆՔԻ 8-ՐԴ ՀՈԴՎԱԾԻ ԱՂՅՈՒՍԱԿԻ ՑՈՒՑԱՆԻՇՆԵՐՈՒՄ ԵՎ ՀԱՅԱՍՏԱՆԻ ՀԱՆՐԱՊԵՏՈՒԹՅԱՆ ԿԱՌԱՎԱՐՈՒԹՅԱՆ 2017 ԹՎԱԿԱՆԻ ԴԵԿՏԵՄԲԵՐԻ 28-Ի N 1717-Ն ՈՐՈՇՄԱՆ N 4 ՀԱՎԵԼՎԱԾԻ ՑՈՒՑԱՆԻՇՆԵՐՈՒՄ ԿԱՏԱՐՎՈՂ ՓՈՓՈԽՈՒԹՅՈՒՆՆԵՐԸ
E8: հազար դրամներով
B9: Բյուջետային ծախսերի տնտեսագիտական դասակարգման հոդվածների անվանումները | C9: Ցուցանիշների փոփոխություն (ծախսերի ավելացումները նշված են դրական նշանով)
C10: Առաջին եռամսյակ | D10: առաջին կիսամյակ | E10: ինն ամիս | F10: տարի
B11: ԸՆԴԱՄԵՆԸ ԾԱԽՍԵՐ | C11: =SUM(C13+C81) -> 2590236.9 | D11: =SUM(D13+D81) -> 6347220.5 | E11: =SUM(E13+E81) -> 9003960.7 | F11: =SUM(F13+F81) -> 13916379
B12: այդ թվում`
B13: ԸՆԹԱՑԻԿ ԾԱԽՍԵՐ | C13: =+C15+C20+C36+C71 -> 2590236.9 | D13: =+D15+D20+D36+D71 -> 5042852.7 | E13: =+E15+E20+E36+E71 -> 7212610.8 | F13: =+F15+F20+F36+F71 -> 11933712
B14: այդ թվում`
B15: ԱՇԽԱՏԱՆՔԻ ՎԱՐՁԱՏՐՈՒԹՅՈՒՆ | C15: =SUM(C17) -> 524381.7 | D15: =SUM(D17) -> 1048763.4 | E15: =SUM(E17) -> 1573145.1 | F15: =SUM(F17) -> 2152100
B16: այդ թվում`
B17: Դրամով վճարվող աշխատավարձեր և հավելավճարներ | C17: ='N 6,1'!E21 -> 524381.7 | D17: ='N 6,1'!F21 -> 1048763.4 | E17: ='N 6,1'!G21 -> 1573145.1 | F17: ='N 6,1'!H21 -> 2152100
B18: Աշխատողների աշխատավարձեր և հավելավճարներ | C18: =1637336.95+0.05 -> 1637337 | D18: 3274673.9 | E18: =4912010.85+0.05 -> 4912010.9 | F18: ='[5]N 6,1'!I25 -> 6549347.7
B19: Այլ վարձատրություններ | C19: 38800 | D19: 77600 | E19: 116400 | F19: ='[5]N 6,1'!I27 -> 155200
B20: ԾԱՌԱՅՈՒԹՅՈՒՆՆԵՐԻ ԵՎ ԱՊՐԱՆՔՆԵՐԻ ՁԵՌՔԲԵՐՈՒՄ | C20: =SUM(C22:C27) -> 1439755.2 | D20: =SUM(D22:D27) -> 2851736.3 | E20: =SUM(E22:E27) -> 4459387.7 | F20: =SUM(F22:F27) -> 8563709.4
B21: այդ թվում`
B22: Շարունակական ծախսեր | C22: ='N 6,1'!E25 -> 170816.9 | D22: ='N 6,1'!F25 -> 311683.1 | E22: ='N 6,1'!G25 -> 576140.1 | F22: ='N 6,1'!H25 -> 761977.1
B23: Գործուղումների և շրջագայությունների ծախսեր | C23: ='N 6,1'!E34 -> 2500 | D23: ='N 6,1'!F34 -> 4219 | E23: ='N 6,1'!G34 -> 6328 | F23: ='N 6,1'!H34 -> 8437
B24: Պայմանագրային այլ ծառայությունների ձեռք բերում | C24: ='N 6,1'!E38 -> 641742 | D24: ='N 6,1'!F38 -> 1092211.8 | E24: ='N 6,1'!G38 -> 1600971.7 | F24: ='N 6,1'!H38 -> 4548977.8
B25: Այլ մասնագիտական ծառայությունների ձեռք բերում | C25: ='N 6,1'!E48 -> 24587 | D25: ='N 6,1'!F48 -> 26625 | E25: ='N 6,1'!G48 -> 30732 | F25: ='N 6,1'!H48 -> 121173
B26: Ընթացիկ նորոգում և պահպանում (ծառայություններ և նյութեր) | C26: ='N 6,1'!E51 -> 94425 | D26: ='N 6,1'!F51 -> 235307.4 | E26: ='N 6,1'!G51 -> 398020.4 | F26: ='N 6,1'!H51 -> 552614.3
B27: Նյութեր | C27: ='N 6,1'!E55 -> 505684.3 | D27: ='N 6,1'!F55 -> 1181690 | E27: ='N 6,1'!G55 -> 1847195.5 | F27: ='N 6,1'!H55 -> 2570530.2
B28: ՏՈԿՈՍԱՎՃԱՐՆԵՐ | C28: 0 | D28: 0 | E28: 0
B29: այդ թվում՝ | C29: 0 | D29: 0 | E29: 0
B30: - Ներքին տոկոսավճարներ | C30: 0 | D30: 0 | E30: 0
B31: - Արտաքին տոկոսավճարներ | C31: 0 | D31: 0 | E31: 0
B32: ՍՈՒԲՍԻԴԻԱՆԵՐ | C32: 0 | D32: 0 | E32: 0
B33: այդ թվում՝ | C33: 0 | D33: 0 | E33: 0
B34: Սուբսիդիաներ պետական կազմակերպություններին | C34: 0 | D34: 0 | E34: 0
B35: Սուբսիդիաներ ոչ պետական կազմակերպություններին | C35: 0 | D35: 0 | E35: 0
B36: ԴՐԱՄԱՇՆՈՐՀՆԵՐ | C36: =C44 -> 217500 | D36: =D44 -> 247500 | E36: =E44 -> 277500 | F36: =F44 -> 307500
B37: այդ թվում`
B38: Դրամաշնորհներ օտարերկրյա կառավարություններին | C38: 0 | D38: 0 | E38: 0
B39: -Ընթացիկ դրամաշնորհներ օտարերկրյա կառավարություններին | C39: 0 | D39: 0 | E39: 0
B40: -Կապիտալ դրամաշնորհներ օտարերկրյա կառավարություններին | C40: 0 | D40: 0 | E40: 0
B41: Դրամաշնորհներ միջազգային կազմակերպություններին | C41: 0 | D41: 0 | E41: 0
B42: -Ընթացիկ դրամաշնորհներ միջազգային կազմակերպություններին | C42: 0 | D42: 0 | E42: 0
...

Sheet N 6,1
F1: Հավելված N 6 ՀՀ կառավարության 2018 թվականի --------------- ի N ----- -Ն որոշման
H2: Աղյուuակ N 1
A3: ՀԱՅԱՍՏԱՆԻ ՀԱՆՐԱՊԵՏՈՒԹՅԱՆ ԿԱՌԱՎԱՐՈՒԹՅԱՆՆ ԱՌԸՆԹԵՐ ՈՍՏԻԿԱՆՈՒԹՅԱՆ <<ՀԱՅԱՍՏԱՆԻ ՀԱՆՐԱՊԵՏՈՒԹՅԱՆ ԿԱՌԱՎԱՐՈՒԹՅԱՆՆ ԱՌԸՆԹԵՐ ՈՍՏԻԿԱՆՈՒԹՅԱՆ ՃԱՆԱՊԱՐՀԱՅԻՆ ՈՍՏԻԿԱՆՈՒԹՅԱՆ ԿՈՂՄԻՑ ԱՐՁԱՆԱԳՐՎԱԾ ԽԱԽՏՈՒՄՆԵՐԻ ՀԱՄԱՐ ՎԱՐՉԱԿԱՆ ՏՈՒԳԱՆՔՆԵՐԻ ԳԱՆՁՈՒՄՆԵՐԻ, ԳՐԱՆՑՄԱՆ-ՔՆՆԱԿԱՆ ԾԱՌԱՅՈՒԹՅՈՒՆՆԵՐԻ ԴԻՄԱՑ ՎՃԱՐՈՒՄՆԵՐ ԵՎ ԱՅԼ ՎՃԱՐՈՎԻ ԾԱՌԱՅՈՒԹՅՈՒՆՆԵՐ>> ԾՐԱԳՐԻ ԱՐՏԱԲՅՈՒՋԵՏԱՅԻՆ ՀԱՇՎԻ ՄԻՋՈՑՆԵՐԻ 2018 ԹՎԱԿԱՆԻ ԾԱԽՍՄԱՆ ՆԱԽԱՀԱՇՎԻ ՑՈՒՑԱՆԻՇՆԵՐԸ, ԻՆՉՊԵՍ ՆԱԵՎ <<ՀԱՅԱՍՏԱՆԻ ՀԱՆՐԱՊԵՏՈՒԹՅԱՆ 2018 ԹՎԱԿԱՆԻ ՊԵՏԱԿԱՆ ԲՅՈՒՋԵԻ ՄԱՍԻՆ>> ՀԱՅԱՍՏԱՆԻ ՀԱՆՐԱՊԵՏՈՒԹՅԱՆ ՕՐԵՆՔԻ N 1 ՀԱՎԵԼՎԱԾՈՒՄ ԵՎ ՀԱՅԱՍՏԱՆԻ ՀԱՆՐԱՊԵՏՈՒԹՅԱՆ ԿԱՌԱՎԱՐՈՒԹՅԱՆ 2017 ԹՎԱԿԱՆԻ ԴԵԿՏԵՄԲԵՐԻ 28-Ի N 1717-Ն ՈՐՈՇՄԱՆ N 5 ՀԱՎԵԼՎԱԾՈՒՄ ԿԱՏԱՐՎՈՂ ՓՈՓՈԽՈՒԹՅՈՒՆՆԵՐԸ ԵՎ ԼՐԱՑՈՒՄՆԵՐԸ
G5: հազար դրամներով
A6: Բաժնի N | B6: Խմբի N | C6: Դասի N | D6: Բյուջետային ծախսերի գործառական դասակարգման բաժինների, խմբերի և դասերի, ֆինանսավորող ծրագրերի, դրանք իրականացնող մարմինների և տնտեսագիտական դասակարգման հոդվածի անվանումները | E6: Ցուցանիշների փոփոխություն (ծախսերի ավելացումները նշված են դրական նշանով)
E7: Առաջին եռամսյակ | F7: Առաջին կիսամյակ | G7: Ինն ամիս | H7: Տարի
D8: ԸՆԴԱՄԵՆԸ ԾԱԽՍԵՐ | E8: =E10 -> 2590236.9 | F8: =F10 -> 6347220.5 | G8: =G10 -> 9003960.7 | H8: =H10 -> 13916379
D9: այդ թվում`
A10: 03 | D10: ՀԱՍԱՐԱԿԱԿԱՆ ԿԱՐԳ, ԱՆՎՏԱՆԳՈՒԹՅՈՒՆ ԵՎ ԴԱՏԱԿԱՆ ԳՈՐԾՈՒՆԵՈՒԹՅՈՒՆ | E10: =E13 -> 2590236.9 | F10: =F13 -> 6347220.5 | G10: =G13 -> 9003960.7 | H10: =H13 -> 13916379
D11: այդ թվում`
B13: 01 | D13: Հասարակական կարգ և անվտանգություն | E13: =E15 -> 2590236.9 | F13: =F15 -> 6347220.5 | G13: =G15 -> 9003960.7 | H13: =H15 -> 13916379
D14: այդ թվում`
C15: 01 | D15: Ոստիկանություն | E15: =E16 -> 2590236.9 | F15: =F16 -> 6347220.5 | G15: =G16 -> 9003960.7 | H15: =H16 -> 13916379
D16: 07. ՀՀ կառավարությանն առընթեր ոստիկանության Ճանապարհային ոստիկանության կողմից արձանագրված խախտումների համար վարչական տուգանքների գանձումների, գրանցման-քննական ծառայությունների դիմաց վճարումներ և այլ վճարովի ծառայություններ | E16: =E17 -> 2590236.9 | F16: =F17 -> 6347220.5 | G16: =G17 -> 9003960.7 | H16: =H17 -> 13916379
D17: ՀՀ կառավարությանն առընթեր ոստիկանություն | E17: =E19+E25+E34+E38+E51+E55+E65+E83+E86+E98+E48+E95+E92 -> 2590236.9 | F17: =F19+F25+F34+F38+F51+F55+F65+F83+F86+F98+F48+F95+F92 -> 6347220.5 | G17: =G19+G25+G34+G38+G51+G55+G65+G83+G86+G98+G48+G95+G92 -> 9003960.7 | H17: =H19+H25+H34+H38+H51+H55+H65+H83+H86+H98+H48+H95+H92 -> 13916379
D18: որից ըստ բյուջետային ծախսերի տնտեսագիտական դասակարգման հոդվածների`
D19: ԱՇԽԱՏԱՆՔԻ ՎԱՐՁԱՏՐՈՒԹՅՈՒՆ | E19: =SUM(E21+E23) -> 524381.7 | F19: =SUM(F21+F23) -> 1048763.4 | G19: =SUM(G21+G23) -> 1573145.1 | H19: =SUM(H21+H23) -> 2152100
D20: այդ թվում`
C21: 4111 | D21: - Աշխատողների աշխատավարձեր և հավելավճարներ | E21: 524381.7 | F21: =E21*2 -> 1048763.4 | G21: =E21*3 -> 1573145.1 | H21: =2137100+15000 -> 2152100
D22: Պարգևատրումներ, դրամական խրախուսումներ և հատուկ վճարներ
D23: Այլ վարձատրություններ
D24: - Այդ թվում եկամտային հարկ
D25: Շարունակական ծախսեր | E25: =SUM(E27:E33) -> 170816.9 | F25: =SUM(F27:F33) -> 311683.1 | G25: =SUM(G27:G33) -> 576140.1 | H25: =SUM(H26:H33) -> 761977.1
D26: այդ թվում`
C27: 4211 | D27: -գործառնական և բանկային ծառայությունների ծախսեր | H27: =IFERROR(VLOOKUP(C27,'N 8'!A:J,10,FALSE),0) -> 0
D28: -էներգետիկ ծառայություններ | H28: =IFERROR(VLOOKUP(C28,'N 8'!A:J,10,FALSE),0) -> 0
C29: 4213 | D29: -Կոմունալ ծառայություններ | H29: =IFERROR(VLOOKUP(C29,'N 8'!A:J,10,FALSE),0) -> 0
C30: 4214 | D30: -Կապի ծառայություններ | E30: ='N 8'!G14+761 -> 160436.9 | F30: ='N 8'!H14+661+125+100 -> 265448.4 | G30: ='N 8'!I14+661+125+100 -> 516553.4 | H30: ='N 8'!J14+661+125+100 -> 689190.4
C31: 4215 | D31: -Ապահովագրական ծախսեր | E31: =+'N 8'!G26 -> 6180 | F31: =+'N 8'!H26 -> 29834.7 | G31: =+'N 8'!I26 -> 29834.7 | H31: =+'N 8'!J26 -> 29834.7
C32: 4216 | D32: -Գույքի և սարքավորումների վարձակալություն | E32: =+'N 8'!G33 -> 1860 | F32: =+'N 8'!H33 -> 11720 | G32: =+'N 8'!I33 -> 22732 | H32: =+'N 8'!J33 -> 33592
C33: 4217 | D33: -Արտագերատեսչական ծախսեր | E33: 2340 | F33: 4680 | G33: 7020 | H33: 9360
D34: Գործուղումների և շրջագայությունների ծախսեր | E34: =SUM(E36:E37) -> 2500 | F34: =SUM(F36:F37) -> 4219 | G34: =SUM(G36:G37) -> 6328 | H34: =SUM(H36:H37) -> 8437
D35: այդ թվում`
C36: 4221 | D36: - Ներքին գործուղումներ | E36: 2500 | F36: 4219 | G36: 6328 | H36: 8437
C37: 4222 | D37: - Արտասահմանյան գործուղումների գծով ծախսեր | H37: =IFERROR(VLOOKUP(C37,'N 8'!A:J,10,FALSE),0) -> 0
D38: Պայմանագրային այլ ծառայությունների ձեռքբերում | E38: =SUM(E40:E47) -> 641742 | F38: =SUM(F40:F47) -> 1092211.8 | G38: =SUM(G40:G47) -> 1600971.7 | H38: =SUM(H40:H47) -> 4548977.8
D39: այդ թվում`
C40: 4231 | D40: -Վարչական ծառայություններ | E40: =+'N 8'!G40 -> 0 | F40: =+'N 8'!H40 -> 150 | G40: =+'N 8'!I40 -> 350 | H40: =+'N 8'!J40 -> 500
C41: 4232 | D41: -Համակարգչային ծառայություններ | E41: =+'N 8'!G42 -> 6934.5 | F41: =+'N 8'!H42 -> 17049 | G41: =+'N 8'!I42 -> 31153.5 | H41: =+'N 8'!J42 -> 39618
C42: 4233 | D42: -Աշխատակազմի մասնագիտական զարգացման ծառայություններ | E42: =+'N 8'!G50 -> 0 | F42: =+'N 8'!H50 -> 0 | G42: =+'N 8'!I50 -> 0 | H42: =+'N 8'!J50 -> 0
...

Sheet N 6.2
J1: Հավելված N 6
J2: ՀՀ կառավարության
J3: 2018 թվականի _________-ի
J4: N ___ -Ն որոշման
J5: Աղյուսակ N 2
A6: <<ՀԱՅԱՍՏԱՆԻ ՀԱՆՐԱՊԵՏՈՒԹՅԱՆ 2018 ԹՎԱԿԱՆԻ ՊԵՏԱԿԱՆ ԲՅՈՒՋԵԻ ՄԱՍԻՆ>> ՀԱՅԱՍՏԱՆԻ ՀԱՆՐԱՊԵՏՈՒԹՅԱՆ ՕՐԵՆՔԻ N 1 ՀԱՎԵԼՎԱԾԻ N 13 ԱՂՅՈՒՍԱԿՈՒՄ ԿԱՏԱՐՎՈՂ ՓՈՓՈԽՈՒԹՅՈՒՆՆԵՐԸ ԵՎ ԼՐԱՑՈՒՄՆԵՐԸ
I7: հազար դրամներով
A8: Բյուջետային ծախսերի գործառնական դասակարգման | D8: Ծրագրի N | E8: ԾՐԱԳՐԵՐԻ ԵՎ ԿԱՏԱՐՈՂՆԵՐԻ ԱՆՎԱՆՈՒՄՆԵՐԸ | F8: Ցուցանիշների փոփոխությունը (ծախսերի ավելացումը բերված է դրական նշանով)
F9: Ընդամենը ոչ ֆինանսական ակտիվների գծով ծախսեր | G9: այդ թվում՝
G10: Շենքերի և շինությունների շինարարություն | H10: Շենքերի և շինությունների կապիտալ վերանորոգում | I10: Նախագծահետազոտական, գեոդեզիա-քարտեզագրական աշխատանքներ | J10: Ոչ ֆինանսական ակտիվների գծով այլ ծախսեր
A11: բաժինը | B11: խումբը | C11: դասը
E12: ԸՆԴԱՄԵՆԸ
E13: այդ թվում՝
E14: ՀՀ ԿԱՌԱՎԱՐՈՒԹՅԱՆՆ ԱՌԸՆԹԵՐ ՈՍՏԻԿԱՆՈՒԹՅՈՒՆ | F14: =+G14+H14+I14+J14 -> 1982666.3 | G14: =+G16 -> 326006.6 | H14: =+H16 -> 73564.2 | I14: =I16 -> 9435 | J14: =+J16 -> 1573660.5
E15: այդ թվում՝
A16: 03 | B16: 01 | C16: 01 | D16: 07 | E16: ՀՀ կառավարությանն առընթեր ոստիկանության Ճանապարհային ոստիկանության կողմից արձանագրված խախտումների համար վարչական տուգանքների գանձումների, գրանցման-քննական ծառայությունների դիմաց վճարումներ և այլ վճարովի ծառայություններ | F16: =+G16+H16+I16+J16 -> 1982666.3 | G16: =+'N 6,1'!H101 -> 326006.6 | H16: =+'N 6,1'!H102 -> 73564.2 | I16: =+'N 6,1'!H109 -> 9435 | J16: =+'N 6,1'!H103+'N 6,1'!H104+'N 6,1'!H105 -> 1573660.5
E17: որից՝
E18: ՀՀ ոստիկանության ՃՈ Իջևանի ՀՔԲ նոր վարչական շենքի կառուցում, հեղինակային և տեխնիկական հսկողություն | F18: =+G18+H18+I18+J18 -> 196816.1 | G18: =+'N 8'!J385+'N 8'!J390+'N 8'!J392 -> 196816.1
E19: ՀՀ ոստիկանության Շիրակի մարզային վարչության Կումայրիի բաժնի նոր վարչական շենքի կառուցում, տեխնիկական հսկողություն | F19: =+G19+H19+I19+J19 -> 87399.989 | G19: ='N 8'!J386+'N 8'!J388+'N 8'!J393 -> 87399.989
E20: Գյումրիի տեխնիկական հսկողություն | F20: =+G20+H20+I20+J20 -> 0 | G20: ='N 8'!J389 -> 0
E21: Գյումրիի հեղինակային հսկողություն | F21: =+G21+H21+I21+J21 -> 0 | G21: =+'N 8'!J395 -> 0
E22: ՀՀ ոստիկանության Երևան քաղաքի վարչության Էրեբունի ՈԲ հենակետի կառուցում, տեխնիական և հեղինակային հսկողություն, նախագծանախահաշվային փաստաթղթերի կազմում | F22: =+G22+H22+I22+J22 -> 17347 | G22: =+'N 8'!J387+'N 8'!J391+'N 8'!J394 -> 16557 | I22: =+'N 8'!J596 -> 790
E23: ՃՈ խորհրդակցությունների դահլիճի կապիտալ վերանորոգման աշխատանքներ, տեխնիկական և հեղինակային հսկողություն | F23: =+G23+H23+I23+J23 -> 30540 | H23: =+'N 8'!J397+'N 8'!J400+'N 8'!J403 -> 30540
E24: ՀՀ ոստիկանության ԿՀԴՊԳՎ նկուղային հարկի սպորտ դահլիճի վերանորոգում, տեխնիկական և հեղինակային հսկողություն, նախագծանախահաշվային փաստաթղթերի կազմում | F24: =+G24+H24+I24+J24 -> 15310 | H24: =+'N 8'!J398+'N 8'!J401+'N 8'!J407 -> 15235 | I24: =+'N 8'!J597 -> 75
E25: ՀՀ ոստիկանության ԿՀԴՊԳՎ խորհրդակցության դահլիճի վերանորոգման նախագծանախահաշվային փաստաթղթերի կազմում | F25: =+G25+H25+I25+J25 -> 27594.2 | H25: =+'N 8'!J399+'N 8'!J402+'N 8'!J408 -> 27354.2 | I25: =+'N 8'!J598 -> 240
E26: ՀՀ ոստիկանության ՊՊԾ գնդի զորանոց մասնաշենքի տանիքի կապիտալ վերանորոգման աշխատանքների հեղինակային հսկողություն | F26: =+G26+H26+I26+J26 -> 277 | H26: =+'N 8'!J404 -> 277
E27: ՀՀ ոստիկանության կապի և տեղեկատվական տեխնոլոգիաների վարչության 2-րդ բաժնի ռադիոկենտրոնի բաժանմունքի շենք-շինությունների վերանորոգման ջեռուցման և արտաքին գազամատակարարման հեղինակային հսկողություն | F27: =+G27+H27+I27+J27 -> 81 | H27: =+'N 8'!J405 -> 81
E28: ՀՀ ոստիկանության Արագածոտնի ՄՎ Ապարանի բաժնի հերթապահ մասի և ՁՊՎ-ի կապիտալ վերանորոգման աշխատանքների հեղինակային հսկողություն | F28: =+G28+H28+I28+J28 -> 77 | H28: =+'N 8'!J406 -> 77
E29: Էրեբունի-Աթոյան փողոցների խաչմերուկում նոր լուսացույցային օբյեկտի կառուցման աշխատանքների նախագծանախահաշվային փաստաթղթերի կազմում | F29: =+G29+H29+I29+J29 -> 230 | I29: ='N 8'!J590 -> 230
E30: Բաբաջանյան-Աշխաբադ փողոցների խաչմերուկում նոր լուսացույցային օբյեկտի կառուցման աշխատանքների նախագծանախահաշվային փաստաթղթերի կազմում | F30: =+G30+H30+I30+J30 -> 230 | I30: ='N 8'!J591 -> 230
E31: Բագրևանդ-Թևանյան, փողոցների խաչմերուկում նոր լուսացույցային օբյեկտի կառուցման աշխատանքների նախագծանախահաշվային փաստաթղթերի կազմում | F31: =+G31+H31+I31+J31 -> 230 | I31: ='N 8'!J592 -> 230
E32: Քանաքեռցի-Սարկավագի փողոցների խաչմերուկում նոր լուսացույցային օբյեկտի կառուցման աշխատանքների նախագծանախահաշվային փաստաթղթերի կազմում | F32: =+G32+H32+I32+J32 -> 230 | I32: ='N 8'!J593 -> 230
E33: Ա.Խաչատրյան-Հ.Հակոբյան փողոցների խաչմերուկում նոր լուսացույցային օբյեկտի կառուցման աշխատանքների նախագծանախահաշվային փաստաթղթերի կազմում | F33: =+G33+H33+I33+J33 -> 230 | I33: ='N 8'!J594 -> 230
E34: ՀՀ ոստիկանության Շիրակի ՄՎ Կումայրիի ՈԲ մուտքի կառուցման նախագծանախահաշվային փաստաթղթերի կազմում | F34: =+G34+H34+I34+J34 -> 1600 | I34: =+'N 8'!J595 -> 1600
E35: ՀՀ ոստիկանության ԱՎՎ Էջմիածնի բաժանմունքի կապիտալ վերանորոգման նախագծանախահաշվային փաստաթղթերի կազմում | F35: =+G35+H35+I35+J35 -> 650 | I35: =+'N 8'!J599 -> 650
E36: ՀՀ ոստիկանության ԱՎՎ Կապանի բաժանմունքի կապիտալ վերանորոգման նախագծանախահաշվային փաստաթղթերի կազմում | F36: =+G36+H36+I36+J36 -> 650 | I36: =+'N 8'!J600 -> 650
E37: ՀՀ ոստիկանության Սյունիքի ՄՎ Կապանի ՈԲ ՁՊՎ-ի կապիտալ վերանորոգման նախագծանախահաշվային փաստաթղթերի կազմում | F37: =+G37+H37+I37+J37 -> 650 | I37: =+'N 8'!J601 -> 650
E38: ՀՀ ոստիկանության Կոտայքի ՄՎ Կոտայքի ՈԲ ՁՊՎ-ի կապիտալ վերանորոգման նախագծանախահաշվային փաստաթղթերի կազմում | F38: =+G38+H38+I38+J38 -> 650 | I38: =+'N 8'!J602 -> 650
E39: ՀՀ ոստիկանության ԱՎՎ Շենգավիթի բաժանմունքի վերանորոգման նախագծանախահաշվային փաստաթղթերի կազմում | F39: =+G39+H39+I39+J39 -> 600 | I39: =+'N 8'!J603 -> 600
E40: ՀՀ ոստիկանության կապի և տեղեկատվական տեխնոլոգիաների վարչության 2-րդ բաժնի ռադիոկենտրոնի բաժանմունքի շենք-շինությունների վերանորոգման նախագծանախահաշվային փաստաթղթերի կազմում | F40: =+G40+H40+I40+J40 -> 1600 | I40: =+'N 8'!J604 -> 1600
...

Sheet N 6.3
A1: Հավելված N 6
I2: ՀՀ կառավարության
I3: 2018 թվականի _________-ի
I4: N ___ -Ն որոշման
I5: Աղյուսակ N 3
A6: ՀՀ ԿԱՌԱՎԱՐՈՒԹՅԱՆ 2017 ԹՎԱԿԱՆԻ ԴԵԿՏԵՄԲԵՐԻ 28-Ի N 1717-Ն ՈՐՈՇՄԱՆ N 5 ՀԱՎԵԼՎԱԾԻ N 12 ԱՂՅՈՒՍԱԿՈՒՄ ԿԱՏԱՐՎՈՂ ՓՈՓՈԽՈՒԹՅՈՒՆՆԵՐԸ ԵՎ ԼՐԱՑՈՒՄՆԵՐԸ
H7: հազար դրամներով
A8: Բյուջետային ծախսերի գործառնական դասակարգման | D8: Ծրագրի N | E8: ԾՐԱԳՐԵՐԻ ԵՎ ԿԱՏԱՐՈՂՆԵՐԻ ԱՆՎԱՆՈՒՄՆԵՐԸ | F8: Ցուցանիշների փոփոխությունը (ավելացումները բերված են դրական նշանով)
A9: բաժին | B9: խումբ | C9: դաս
F10: Առաջին եռամսյակ | G10: Առաջին կիսամյակ | H10: Ինն ամիս | I10: Տարի
E11: ԸՆԴԱՄԵՆԸ | F11: =+F13 -> 0 | G11: =+G13 -> 1304367.8 | H11: =+H13 -> 1791349.9 | I11: =+I13 -> 1982666.3
E12: այդ թվում՝
E13: ՀՀ ԿԱՌԱՎԱՐՈՒԹՅԱՆՆ ԱՌԸՆԹԵՐ ՈՍՏԻԿԱՆՈՒԹՅՈՒՆ | F13: =+F15 -> 0 | G13: =+G15 -> 1304367.8 | H13: =+H15 -> 1791349.9 | I13: =+I15 -> 1982666.3
E14: այդ թվում՝
A15: 03 | B15: 01 | C15: 01 | D15: 07 | E15: ='N 6.2'!E16 -> ՀՀ կառավարությանն առընթեր ոստիկանության Ճանապարհային ոստիկանության կողմից արձանագրված խախտումների համար վարչական տուգանքների գանձումների, գրանցման-քննական ծառայությունների դիմաց վճարումներ և այլ վճարովի ծառայություններ | F15: =+'N 5'!C83 -> 0 | G15: =+'N 5'!D83 -> 1304367.8 | H15: =+'N 5'!E83 -> 1791349.9 | I15: =+'N 5'!F83 -> 1982666.3
E16: որից՝
E17: ՀՀ ոստիկանության անձնագրային և վիզաների վարչության Մասիսի անձնագրային բաժանմունքի նոր վարչական շենքի կառուցում | F17: =#REF! -> #REF! | G17: =#REF! -> #REF! | H17: =#REF! -> #REF! | I17: =#REF! -> #REF!
E18: ՀՀ ոստիկանության անձնագրային և վիզաների վարչության Չարբախի անձնագրային խմբի վարչական շենքի կապիտալ վերանորոգում
E19: ՀՀ կառավարությանն առընթեր ՀՀ ոստիկանության անձնագրային և վիզաների վարչության Մասիսի անձն. բաժանմունքի վարչական շենքի կապիտալ վերանորոգման հետ կապված նախագծահետազոտական ծախսեր | F19: =#REF! -> #REF! | G19: =#REF! -> #REF! | H19: =#REF! -> #REF! | I19: =#REF! -> #REF!
E20: ՀՀ ոստիկանության ՓՔ վարչության վարչական մասնաշենքի կապիտալ վերանորոգում
E21: որից`
E22: =+'N 6.2'!E18 -> ՀՀ ոստիկանության ՃՈ Իջևանի ՀՔԲ նոր վարչական շենքի կառուցում, հեղինակային և տեխնիկական հսկողություն | F22: =+'N 8'!G385+'N 8'!G390+'N 8'!G392 -> 0 | G22: =+'N 8'!H385+'N 8'!H390+'N 8'!H392 -> 61875 | H22: =+'N 8'!I385+'N 8'!I390+'N 8'!I392 -> 122729.6 | I22: =+'N 8'!J385+'N 8'!J390+'N 8'!J392 -> 196816.1 | J22: =IF('N 6.2'!K18=0,"",'N 6.2'!K18)
E23: =+'N 6.2'!E19 -> ՀՀ ոստիկանության Շիրակի մարզային վարչության Կումայրիի բաժնի նոր վարչական շենքի կառուցում, տեխնիկական հսկողություն | F23: =+'N 8'!G386+'N 8'!G388+'N 8'!G393 -> 0 | G23: =+'N 8'!H386+'N 8'!H388+'N 8'!H393 -> 87399.989 | H23: =+'N 8'!I386+'N 8'!I388+'N 8'!I393 -> 87399.989 | I23: =+'N 8'!J386+'N 8'!J388+'N 8'!J393 -> 87399.989
E24: =+'N 6.2'!E20 -> Գյումրիի տեխնիկական հսկողություն | G24: ='N 8'!H389 -> 0 | H24: ='N 8'!I389 -> 0 | I24: ='N 8'!J389 -> 0
E25: =+'N 6.2'!E21 -> Գյումրիի հեղինակային հսկողություն | G25: =+'N 8'!H397+'N 8'!H398+'N 8'!H400 -> 18090 | H25: =+'N 8'!I397+'N 8'!I398+'N 8'!I400 -> 34842 | I25: =+'N 8'!J397+'N 8'!J398+'N 8'!J400 -> 45232
E26: =+'N 6.2'!E22 -> ՀՀ ոստիկանության Երևան քաղաքի վարչության Էրեբունի ՈԲ հենակետի կառուցում, տեխնիական և հեղինակային հսկողություն, նախագծանախահաշվային փաստաթղթերի կազմում | F26: =+'N 8'!G387+'N 8'!G391+'N 8'!G394+'N 8'!G596 -> 0 | G26: =+'N 8'!H387+'N 8'!H391+'N 8'!H394+'N 8'!H596 -> 790 | H26: =+'N 8'!I387+'N 8'!I391+'N 8'!I394+'N 8'!I596 -> 17347 | I26: =+'N 8'!J387+'N 8'!J391+'N 8'!J394+'N 8'!J596 -> 17347
E27: =+'N 6.2'!E23 -> ՃՈ խորհրդակցությունների դահլիճի կապիտալ վերանորոգման աշխատանքներ, տեխնիկական և հեղինակային հսկողություն | F27: =+'N 8'!G397+'N 8'!G400+'N 8'!G403 -> 0 | G27: =+'N 8'!H397+'N 8'!H400+'N 8'!H403 -> 10146 | H27: =+'N 8'!I397+'N 8'!I400+'N 8'!I403 -> 20092 | I27: =+'N 8'!J397+'N 8'!J400+'N 8'!J403 -> 30540
E28: =+'N 6.2'!E24 -> ՀՀ ոստիկանության ԿՀԴՊԳՎ նկուղային հարկի սպորտ դահլիճի վերանորոգում, տեխնիկական և հեղինակային հսկողություն, նախագծանախահաշվային փաստաթղթերի կազմում | F28: =+'N 8'!G398+'N 8'!G401+'N 8'!G407+'N 8'!G597 -> 0 | G28: =+'N 8'!H398+'N 8'!H401+'N 8'!H407+'N 8'!H597 -> 8075 | H28: =+'N 8'!I398+'N 8'!I401+'N 8'!I407+'N 8'!I597 -> 15310 | I28: =+'N 8'!J398+'N 8'!J401+'N 8'!J407+'N 8'!J597 -> 15310
E29: =+'N 6.2'!E25 -> ՀՀ ոստիկանության ԿՀԴՊԳՎ խորհրդակցության դահլիճի վերանորոգման նախագծանախահաշվային փաստաթղթերի կազմում | F29: =+'N 8'!G399+'N 8'!G402+'N 8'!G408+'N 8'!G598 -> 0 | G29: =+'N 8'!H399+'N 8'!H402+'N 8'!H408+'N 8'!H598 -> 12240 | H29: =+'N 8'!I399+'N 8'!I402+'N 8'!I408+'N 8'!I598 -> 27594.2 | I29: =+'N 8'!J399+'N 8'!J402+'N 8'!J408+'N 8'!J598 -> 27594.2
E30: =+'N 6.2'!E26 -> ՀՀ ոստիկանության ՊՊԾ գնդի զորանոց մասնաշենքի տանիքի կապիտալ վերանորոգման աշխատանքների հեղինակային հսկողություն | F30: =+'N 8'!G404 -> 0 | G30: =+'N 8'!H404 -> 277 | H30: =+'N 8'!I404 -> 277 | I30: =+'N 8'!J404 -> 277
E31: =+'N 6.2'!E27 -> ՀՀ ոստիկանության կապի և տեղեկատվական տեխնոլոգիաների վարչության 2-րդ բաժնի ռադիոկենտրոնի բաժանմունքի շենք-շինությունների վերանորոգման ջեռուցման և արտաքին գազամատակարարման հեղինակային հսկողություն | F31: =+'N 8'!G405 -> 0 | G31: =+'N 8'!H405 -> 81 | H31: =+'N 8'!I405 -> 81 | I31: =+'N 8'!J405 -> 81
E32: =+'N 6.2'!E28 -> ՀՀ ոստիկանության Արագածոտնի ՄՎ Ապարանի բաժնի հերթապահ մասի և ՁՊՎ-ի կապիտալ վերանորոգման աշխատանքների հեղինակային հսկողություն | F32: =+'N 8'!G406 -> 0 | G32: =+'N 8'!H406 -> 77 | H32: =+'N 8'!I406 -> 77 | I32: =+'N 8'!J406 -> 77
E33: =+'N 6.2'!E29 -> Էրեբունի-Աթոյան փողոցների խաչմերուկում նոր լուսացույցային օբյեկտի կառուցման աշխատանքների նախագծանախահաշվային փաստաթղթերի կազմում | F33: =+'N 8'!G590 -> 0 | G33: =+'N 8'!H590 -> 230 | H33: =+'N 8'!I590 -> 230 | I33: =+'N 8'!J590 -> 230
E34: =+'N 6.2'!E30 -> Բաբաջանյան-Աշխաբադ փողոցների խաչմերուկում նոր լուսացույցային օբյեկտի կառուցման աշխատանքների նախագծանախահաշվային փաստաթղթերի կազմում | F34: =+'N 8'!G591 -> 0 | G34: =+'N 8'!H591 -> 230 | H34: =+'N 8'!I591 -> 230 | I34: =+'N 8'!J591 -> 230
E35: =+'N 6.2'!E31 -> Բագրևանդ-Թևանյան, փողոցների խաչմերուկում նոր լուսացույցային օբյեկտի կառուցման աշխատանքների նախագծանախահաշվային փաստաթղթերի կազմում | F35: =+'N 8'!G592 -> 0 | G35: =+'N 8'!H592 -> 230 | H35: =+'N 8'!I592 -> 230 | I35: =+'N 8'!J592 -> 230
E36: =+'N 6.2'!E32 -> Քանաքեռցի-Սարկավագի փողոցների խաչմերուկում նոր լուսացույցային օբյեկտի կառուցման աշխատանքների նախագծանախահաշվային փաստաթղթերի կազմում | F36: =+'N 8'!G593 -> 0 | G36: =+'N 8'!H593 -> 230 | H36: =+'N 8'!I593 -> 230 | I36: =+'N 8'!J593 -> 230
E37: =+'N 6.2'!E33 -> Ա.Խաչատրյան-Հ.Հակոբյան փողոցների խաչմերուկում նոր լուսացույցային օբյեկտի կառուցման աշխատանքների նախագծանախահաշվային փաստաթղթերի կազմում | F37: =+'N 8'!G594 -> 0 | G37: =+'N 8'!H594 -> 230 | H37: =+'N 8'!I594 -> 230 | I37: =+'N 8'!J594 -> 230
E38: =+'N 6.2'!E34 -> ՀՀ ոստիկանության Շիրակի ՄՎ Կումայրիի ՈԲ մուտքի կառուցման նախագծանախահաշվային փաստաթղթերի կազմում | F38: =+'N 8'!G595 -> 0 | G38: =+'N 8'!H595 -> 1600 | H38: =+'N 8'!I595 -> 1600 | I38: =+'N 8'!J595 -> 1600
E39: =+'N 6.2'!E35 -> ՀՀ ոստիկանության ԱՎՎ Էջմիածնի բաժանմունքի կապիտալ վերանորոգման նախագծանախահաշվային փաստաթղթերի կազմում | F39: =+'N 8'!G599 -> 0 | G39: =+'N 8'!H599 -> 650 | H39: =+'N 8'!I599 -> 650 | I39: =+'N 8'!J599 -> 650
E40: =+'N 6.2'!E36 -> ՀՀ ոստիկանության ԱՎՎ Կապանի բաժանմունքի կապիտալ վերանորոգման նախագծանախահաշվային փաստաթղթերի կազմում | F40: =+'N 8'!G600 -> 0 | G40: =+'N 8'!H600 -> 650 | H40: =+'N 8'!I600 -> 650 | I40: =+'N 8'!J600 -> 650
...

Sheet N 6.4
G1: Հավելված N 6
G2: ՀՀ կառավարության
G3: 2018 թվականի _________-ի
G4: N ___ -Ն որոշման
G5: Աղյուսակ N 4
A7: <<ՀԱՅԱՍՏԱՆԻ ՀԱՆՐԱՊԵՏՈՒԹՅԱՆ 2018 ԹՎԱԿԱՆԻ ՊԵՏԱԿԱՆ ԲՅՈՒՋԵԻ ՄԱՍԻՆ>> ՀԱՅԱՍՏԱՆԻ ՀԱՆՐԱՊԵՏՈՒԹՅԱՆ ՕՐԵՆՔԻ N 1 ՀԱՎԵԼՎԱԾԻ N 16 ԱՂՅՈՒՍԱԿՈՒՄ ԿԱՏԱՐՎՈՂ ԼՐԱՑՈՒՄՆԵՐԸ
A9: Բյուջետային ծախսերի գործառնական դասակարգման | D9: Ծախսային ծրագրի անվանումը | E9: Ծախսային ծրագիրը կատարող ՀՀ պետական կառավարման մարմնի անվանումը | F9: Տնտեսվարող սուբյեկտներին տրամադրվող դրամաշնորհի գումարը (հազար դրամ) | G9: Դրամաշնորհ ստացող տնտեսվարող սուբյեկտի անվանումը
A10: Բաժին | B10: Խումբ | C10: Դաս
E11: ՀՀ կառավարությանն առընթեր ոստիկանություն | F11: =+F12+F13 -> 307500
A12: 03 | B12: 01 | C12: 01 | D12: ՀՀ կառավարությանն առընթեր ոստիկանության Ճանապարհային ոստիկանության կողմից արձանագրված խախտումների համար վարչական տուգանքների գանձումների, գրանցման-քննական ծառայությունների դիմաց վճարումներ և այլ վճարովի ծառայություններ | F12: =123000+64500 -> 187500 | G12: <<Լուսանշան>> ՊՈԱԿ
A13: 03 | B13: 01 | C13: 01 | D13: ՀՀ կառավարությանն առընթեր ոստիկանության Ճանապարհային ոստիկանության կողմից արձանագրված խախտումների համար վարչական տուգանքների գանձումների, գրանցման-քննական ծառայությունների դիմաց վճարումներ և այլ վճարովի ծառայություններ | F13: 120000 | G13: Հանրապետության ոստիկանության վետերանների և աշխատակիցների աջակցության <<Վահան>> բարեգործական հիմնադրամ
A14: 03 | B14: 01 | C14: 01 | D14: ՀՀ կառավարությանն առընթեր ոստիկանության Ճանապարհային ոստիկանության կողմից արձանագրված խախտումների համար վարչական տուգանքների գանձումներից, գրանցման-քննական ծառայությունների դիմաց վճարումներ և այլ վճարովի ծառայություններ | E14: ՀՀ կառավարությանն առընթեր ոստիկանություն | F14: 70000 | G14: <<Վահան բարեգործական հիմնադրամ>>

Sheet N 7
F1: Հավելված N 7
G2: ՀՀ կառավարության
G3: 2018 թվականի _________-ի
G4: N ___ -Ն որոշման
A6: ՀԱՅԱՍՏԱՆԻ ՀԱՆՐԱՊԵՏՈՒԹՅԱՆ ԿԱՌԱՎԱՐՈՒԹՅԱՆ 2017 ԹՎԱԿԱՆԻ ԴԵԿՏԵՄԲԵՐԻ 28-Ի N 1717-Ն ՈՐՈՇՄԱՆ N 6 ՀԱՎԵԼՎԱԾԻ ՑՈՒՑԱՆԻՇՆԵՐՈՒՄ ԿԱՏԱՐՎՈՂ ՓՈՓՈԽՈՒԹՅՈՒՆՆԵՐ
F8: հազար դրամներով
B9: Եկամտատեսակը | C9: Գանձման համար պատասխանատու պետական կառավարման մարմին(ներ)ը | D9: Ցուցանիշների փոփոխությունը (ավելացումները նշված են դրական նշանով)
D10: Առաջին եռամսյակ | E10: Առաջին կիսամյակ | F10: Ինն ամիս | G10: Տարի
A11: Այլ եկամուտներ, ընդամենը | D11: =+D17+D13+D20 -> 2592513.7 | E11: =+E17+E13+E20 -> 6360337.5 | F11: =+F17+F13+F20 -> 9428301.5 | G11: =+G17+G13+G20 -> 14324500
B12: այդ թվում`
A13: 4 | B13: Իրավախախտումների համար գործադիր, դատական մարմինների կողմից կիրառվող պատժամիջոցներից մուտքեր | D13: =D14 -> 1973810.8 | E13: =E14 -> 4686379 | F13: =F14 -> 7576063.2 | G13: =G14 -> 11023200
A14: 4.24 | B14: արտաբյուջետային միջոցներ, այդ թվում՝ | D14: =D15 -> 1973810.8 | E14: =E15 -> 4686379 | F14: =F15 -> 7576063.2 | G14: =G15 -> 11023200
A15: 4.24.2 | C15: ՀՀ կառավարությանն առընթեր ՀՀ ոստիկանություն (ճանապարհային ոստիկանություն) | D15: 1973810.8 | E15: =1111595+3424784+150000 -> 4686379 | F15: =1782583+5735324+42191+15965.2 -> 7576063.2 | G15: =2023200+9000000 -> 11023200
A17: 5 | B17: Ապրանքների մատակարարումից և ծառայությունների մատուցումից եկամուտներ | D17: =+D18 -> 618393 | E17: =+E18 -> 1673618.5 | F17: =+F18 -> 1851558.3 | G17: =+G18 -> 3300000
A18: 5.7 | B18: Արտաբյուջետային միջոցներ՝ այդ թվում | D18: =+D19 -> 618393 | E18: =+E19 -> 1673618.5 | F18: =+F19 -> 1851558.3 | G18: =+G19 -> 3300000
A19: 5.7.14 | C19: ՀՀ կառավարությանն առընթեր ՀՀ ոստիկանություն (ճանապարհային ոստիկանություն) | D19: =553893+64500 -> 618393 | E19: =1085713+50170+2000+5182.3+398200.1+56000.1+76353 -> 1673618.5 | F19: =1740169+50000+53207+3000+5182.3 -> 1851558.3 | G19: 3300000
A20: 6 | B20: Օրենքով և այլ իրավական ակտերով սահմանված պետական բյուջե մուտքագրվող այլ եկամուտներ | D20: =+D21 -> 309.9 | E20: =+E21 -> 340 | F20: =+F21 -> 680 | G20: =+G21 -> 1300
A21: 6.5 | B21: Արտաբյուջետային միջոցներ՝ այդ թվում | D21: =+D22 -> 309.9 | E21: =+E22 -> 340 | F21: =+F22 -> 680 | G21: =+G22 -> 1300
A22: 6.5.1 | C22: ՀՀ կառավարությանն առընթեր ՀՀ ոստիկանություն (ճանապարհային ոստիկանություն) | D22: 309.9 | E22: 340 | F22: 680 | G22: 1300

Sheet N 8
J1: Հավելված N 8
J2: ՀՀ կառավարության
J3: 2018 թվականի _________-ի
J4: N ___ -Ն որոշման
A5: ՀԱՅԱՍՏԱՆԻ ՀԱՆՐԱՊԵՏՈՒԹՅԱՆ ԿԱՌԱՎԱՐՈՒԹՅԱՆ 2017 ԹՎԱԿԱՆԻ ԴԵԿՏԵՄԲԵՐԻ 28-Ի N 1717-Ն ՈՐՈՇՄԱՆ N 12 ՀԱՎԵԼՎԱԾԻ ՑՈՒՑԱՆԻՇՆԵՐՈՒՄ ԿԱՏԱՐՎՈՂ ԼՐԱՑՈՒՄՆԵՐԸ
A6: Կոդը | B6: Անվանումը | C6: Գնման ձևը | D6: Չափի միավորը | E6: միավորի գինը | F6: Ցուցանիշների փոփոխությունները (ավելացումները նշված են դրական նշանով)
F7: քանակը | J7: գումարը (հազար դրամով)
A8: 1 | B8: 2 | C8: 3 | D8: 4 | E8: 5 | F8: 6 | J8: 7
A9: ՀՀ կառավարությանն առընթեր ՀՀ ոստիկանություն | J9: =J11 -> 10481665
A10: Բաժին N 03 Խումբ N 01 Դաս N 01 | J10: =J11 -> 10481665
A11: 07. ՀՀ կառավարությանն առընթեր ոստիկանության Ճանապարհային ոստիկանության կողմից արձանագրված խախտումների համար վարչական տուգանքների գանձումների, գրանցման-քննական ծառայությունների դիմաց վճարումներ և այլ վճարովի ծառայություններ | G11: =+G12 -> 1434154.2 | H11: =+H12 -> 4100291.2 | I11: =+I12 -> 6189875.7 | J11: =+J12 -> 10481665
G12: =+G14+G26+G33+G40+G42+G50+G52+G54+G57+G67+G79+G81+G110+G223+G278+G281+G332+G380+G384+G396+G409+G422+G570+G589 -> 1434154.2 | H12: =+H14+H26+H33+H40+H42+H50+H52+H54+H57+H67+H79+H81+H110+H223+H278+H281+H332+H380+H384+H396+H409+H422+H570+H589 -> 4100291.2 | I12: =+I14+I26+I33+I40+I42+I50+I52+I54+I57+I67+I79+I81+I110+I223+I278+I281+I332+I380+I384+I396+I409+I422+I570+I589 -> 6189875.7 | J12: =+J14+J26+J33+J40+J42+J50+J52+J54+J57+J67+J79+J81+J110+J223+J278+J281+J332+J380+J384+J396+J409+J422+J570+J589 -> 10481665
G13: 1 եռ. | H13: 2 եռ. | I13: 3 եռ. | J13: 4 եռ.
A14: 4214 | B14: Կապի ծառայություններ | G14: =SUBTOTAL(9,G15:G25) -> 159675.9 | H14: =SUBTOTAL(9,H15:H25) -> 264562.4 | I14: =SUBTOTAL(9,I15:I25) -> 515667.4 | J14: =SUBTOTAL(9,J15:J25) -> 688304.4
A15: 32411130/1 | B15: համացանց | C15: ԳՀ | D15: դրամ | E15: 2000000 | F15: 1 | G15: 200 | H15: 800 | I15: 1400 | J15: =+E15*F15/1000 -> 2000 | K15: 4214 | L15: ՃՈ
A16: 32411140/2 | B16: ներքին ծառայողական (ինտրանետ) ցանց | C16: ՄԱ | D16: դրամ | E16: 3589000 | F16: 1 | G16: 3589 | H16: 3589 | I16: 3589 | J16: =+E16*F16/1000 -> 3589 | K16: 4214 | L16: ՃՈ
A17: 32411140/3 | B17: ներքին ծառայողական (ինտրանետ) ցանց | C17: ՄԱ | D17: դրամ | E17: 13411000 | F17: 1 | G17: 0 | H17: 13411 | I17: 13411 | J17: =+E17*F17/1000 -> 13411 | K17: 4214 | L17: ՃՈ
A18: 32431100/8 | B18: գլոբալ ցանց | C18: ԳՀ | D18: դրամ | E18: 10944000 | F18: 1 | G18: 0 | H18: 10944 | I18: 10944 | J18: =+E18*F18/1000 -> 10944 | K18: 4214 | L18: ՈՍ
A19: 64111200/1 | B19: փոստային ծառայություններ` կապված նամակների հետ | C19: ՄԱ | D19: դրամ | E19: =595918000+78019700-16769300+1600+8347000-30000000 -> 635517000 | F19: 1 | G19: 154372.2 | H19: =256000-30000 -> 226000 | I19: =500000-30000 -> 470000 | J19: =+E19*F19/1000 -> 635517 | K19: 4214 | L19: ՃՈ
A20: 64211100/1 | B20: հանրային հեռախոսային ծառայություններ | C20: ՄԱ | D20: դրամ | E20: 2400000 | F20: 1 | G20: 800 | H20: 1200 | I20: 1800 | J20: =+E20*F20/1000 -> 2400 | K20: 4214 | L20: ՃՈ
A21: 64211140/1 | B21: կարճ հաղորդագրությունների (sms) ուղարկման ծառայություններ | C21: ԳՀ | D21: դրամ | E21: 1000000 | F21: 1 | G21: 250 | H21: 500 | I21: 750 | J21: =+E21*F21/1000 -> 1000 | K21: 4214 | L21: ՃՈ
A22: 64211200/1 | B22: երրորդ սերնդի բջջային ռադիոկապի ստանդարտների (umts) ծառայություններ | C22: ԳՀ | D22: դրամ | E22: =2756100+104700 -> 2860800 | F22: 1 | G22: =360+104.7 -> 464.7 | H22: =735+1256.1+104.7 -> 2095.8 | I22: =1110+1256.1+104.7 -> 2470.8 | J22: =+E22*F22/1000 -> 2860.8 | K22: 4214 | L22: ՃՈ
A23: 72311240/4 | B23: տվյալների փոխանցման ծառայություններ | C23: ԳՀ | D23: դրամ | E23: 672600 | F23: 1 | G23: 0 | H23: 672.6 | I23: 672.6 | J23: =+E23*F23/1000 -> 672.6 | K23: 4214 | L23: ՈՍ
A24: 72411500/1 | B24: համացանցային էջերի հոսթինգի ծառայություններ | C24: ԳՀ | D24: դրամ | E24: 70000 | F24: 1 | G24: 0 | H24: 70 | I24: 70 | J24: =+E24*F24/1000 -> 70 | K24: 4214 | L24: ՃՈ
A25: 79711140/1 | B25: հսկողության համակարգերի ծառայություններ | C25: ԳՀ | D25: դրամ | E25: 15840000 | F25: 1 | G25: 0 | H25: 5280 | I25: 10560 | J25: =+E25*F25/1000 -> 15840 | K25: 4214 | L25: ՃՈ
A26: 4215 | B26: Ապահովագրական ծախսեր | G26: =SUBTOTAL(9,G27:G32) -> 6180 | H26: =SUBTOTAL(9,H27:H32) -> 29834.7 | I26: =SUBTOTAL(9,I27:I32) -> 29834.7 | J26: =SUBTOTAL(9,J27:J32) -> 29834.7
A27: 66511110/2 | B27: պատահարներից ապահովագրման ծառայություններ | C27: ՄԱ | D27: դրամ | E27: 5000000 | F27: 1 | G27: 5000 | H27: 5000 | I27: 5000 | J27: =+E27*F27/1000 -> 5000 | K27: 4215 | L27: ՃՈ
A28: 66511180/2 | B28: շարժիչներով փոխադրամիջոցների ապահովագրման ծառայություններ | C28: ՄԱ | D28: դրամ | E28: 13510400 | F28: 1 | G28: 1180 | H28: 13510.4 | I28: 13510.4 | J28: =+E28*F28/1000 -> 13510.4 | K28: 4215 | L28: ՃՈ
A29: 66511180/1 | B29: շարժիչներով փոխադրամիջոցների ապահովագրման ծառայություններ | C29: ՄԱ | D29: դրամ | E29: 1580900 | F29: 1 | H29: 1580.9 | I29: 1580.9 | J29: =+E29*F29/1000 -> 1580.9 | K29: 4215 | L29: ՃՈ
A30: 66511180/6 | B30: շարժիչներով փոխադրամիջոցների ապահովագրման ծառայություններ | C30: ՄԱ | D30: դրամ | E30: 234000 | F30: 1 | H30: 234 | I30: 234 | J30: =+E30*F30/1000 -> 234 | K30: 4215 | L30: ՃՈ
A31: 66511180/3 | B31: շարժիչներով փոխադրամիջոցների ապահովագրման ծառայություններ | C31: ՄԱ | D31: դրամ | E31: 9356400 | F31: 1 | H31: 9356.4 | I31: 9356.4 | J31: =+E31*F31/1000 -> 9356.4 | K31: 4215 | L31: ՃՈ
A32: 66511180/5 | B32: շարժիչներով փոխադրամիջոցների ապահովագրման ծառայություններ | C32: ՄԱ | D32: դրամ | E32: 153000 | F32: 1 | H32: 153 | I32: 153 | J32: =+E32*F32/1000 -> 153 | K32: 4215 | L32: ՃՈ
A33: 4216 | B33: Գույքի և սարքավորումների վարձակալություն | G33: =SUBTOTAL(9,G34:G39) -> 1860 | H33: =SUBTOTAL(9,H34:H39) -> 11720 | I33: =SUBTOTAL(9,I34:I39) -> 22732 | J33: =SUBTOTAL(9,J34:J39) -> 33592
A34: 60171100/3 | B34: ուղևորափոխադրող ավտոմեքենաների վարձակալություն` վարորդի հետ միասին | C34: ԳՀ | D34: դրամ | E34: 25000000 | F34: 1 | G34: 0 | H34: 8000 | I34: 16000 | J34: =+E34*F34/1000 -> 25000 | K34: 4216 | L34: ՈՍ
A35: 70131100/4 | B35: անձնական անշարժ գույքը վարձակալության հանձնելու ծառայություններ | C35: ՄԱ | D35: դրամ | E35: 1440000 | F35: 1 | G35: 360 | H35: 720 | I35: 1080 | J35: =+E35*F35/1000 -> 1440 | K35: 4216 | L35: ՃՈ
A36: 70131100/1 | B36: անձնական անշարժ գույքը վարձակալության հանձնելու ծառայություններ | C36: ՄԱ | D36: դրամ | E36: 1200000 | F36: 1 | G36: 300 | H36: 600 | I36: 900 | J36: =+E36*F36/1000 -> 1200 | K36: 4216 | L36: ՃՈ
A37: 70131100/3 | B37: անձնական անշարժ գույքը վարձակալության հանձնելու ծառայություններ | C37: ՄԱ | D37: դրամ | E37: 1200000 | F37: 1 | G37: 300 | H37: 600 | I37: 900 | J37: =+E37*F37/1000 -> 1200 | K37: 4216 | L37: ՃՈ
A38: 70131100/2 | B38: անձնական անշարժ գույքը վարձակալության հանձնելու ծառայություններ | C38: ՄԱ | D38: դրամ | E38: 3600000 | F38: 1 | G38: 900 | H38: 1800 | I38: 2700 | J38: =+E38*F38/1000 -> 3600 | K38: 4216 | L38: ՃՈ
A39: 77111300/1 | B39: այլ սարքավորումների վարձակալություն | C39: ԳՀ | D39: դրամ | E39: 1152000 | F39: 1 | I39: 1152 | J39: =+E39*F39/1000 -> 1152 | K39: 4216 | L39: ՃՈ
A40: 4231 | B40: Վարչական ծառայություններ | C40: ԳՀ | G40: =SUBTOTAL(9,G41:G41) -> 0 | H40: =SUBTOTAL(9,H41:H41) -> 150 | I40: =SUBTOTAL(9,I41:I41) -> 350 | J40: =SUBTOTAL(9,J41:J41) -> 500
...

Sheet 9.1
J1: Հավելված N 9
I2: ՀՀ կառավարության
I3: 2017 թվականի __________
K4: N -Ն որոշման
J5: Աղյուսակ N 1
A6: ՀԱՅԱՍՏԱՆԻ ՀԱՆՐԱՊԵՏՈՒԹՅԱՆ ԿԱՌԱՎԱՐՈՒԹՅԱՆ 2017 ԹՎԱԿԱՆԻ ԴԵԿՏԵՄԲԵՐԻ 28-Ի N 1717-Ն ՈՐՈՇՄԱՆ N 11 ՀԱՎԵԼՎԱԾԻ N 11.40 ԱՂՅՈՒՍԱԿՈՒՄ ԿԱՏԱՐՎՈՂ ԼՐԱՑՈՒՄՆԵՐԸ
A7: ՄԱՍ Ա: ՌԱԶՄԱՎԱՐՈՒԹՅԱՆ ԸՆԴՀԱՆՈՒՐ ՆԿԱՐԱԳՐՈՒԹՅՈՒՆ Ճանապարհային երթևեկության կարգավորում, ճանապարհային երթևեկության անվտանգության ապահովման բնագավառի օրենսդրության, ճանա-պարհային երթևեկության կանոնների, տեխնիկական նորմերի պահանջների կատարման նկատմամբ վերահսկողություն, ճանապարհապարեկային ծառայության իրականացում, ճանապարհատրանսպորտային պատահարների եւ ճանապարհային երթեւեկության բնագավառում վարչական իրավա-խախտումների պետական հաշվառում, ճանապարհային անվտանգության կանխարգելում, երթեւեկության մասնակիցներին վարորդական վկայական ստանալու քննությունների ընդունում եւ վարորդական վկայականների տրամադրում
A8: Չափորոշիչներ | C8: Ցուցանիշների փոփոխությունը (ավելացումները նշված են դրական նշանով)
C9: Ոչ ֆինանսական ցուցանիշներ | G9: Ֆինանսական ցուցանիշներ (հազար դրամով)
C10: Առաջին եռամսյակ | D10: Առաջին կիսամյակ | E10: Ինն ամիս | F10: Տարի | G10: Առաջին եռամսյակ | H10: Առաջին կիսամյակ | I10: Ինն ամիս | J10: Տարի
A11: ՄԱՍ Գ: Նախարարի պատասխանատվության ներքո իրականացվող քաղաքականության միջոցառումների և ֆինանսական կառավարման արդյունքների ցուցանիշները 1. Քաղաքականության միջոցառումներ 1.1 Ծառայություններ
A12: Ծրագրային դասիչը | C12: Անվանումը՝ Շենքերի և շինությունների ձեռքբերում Նկարագրություն Նախատեսվում է ՀՀ ոստիկանության ԱՎՎ Վանաձոր քաղաքի Բազումի անձնագրային բաժանմունքի վարչական շենքի ձեռքբերում
A13: 1083 | B13: ԿՀ 01
A14: Քանակական | B14: ՀՀ ոստիկանության ԱՎՎ Վանաձոր քաղաքի Բազումի անձնագրային բաժանմունքի վարչական շենքի ձեռքբերում | C14: 0 | D14: 1 | E14: 1 | F14: 1
A15: Որակական | B15: մշակված չէ
A16: Ժամկետայնության | B16: մշակված չէ
A17: Մատուցվող ծառայության վրա կատարվող ծախսեր (հազար դրամ) | C17: x | D17: x | E17: x | F17: x | G17: =+'[6]N 6.1'!H71 -> 100 | H17: =+'[6]N 6.1'!I71 -> 200 | I17: =+'[6]N 6.1'!J71 -> 400 | J17: =+'[6]N 6.1'!K71 -> 500
A18: Ծրագիրը (ծրագրերը), որի (որոնց) շրջանակներում իրականացվում է քաղաքականության միջոցառումը 1083 ԿՀ01 Անձնագրերի և վիզաների տրամադրում, բնակչության պետական ռեգիստրի միասնական համակարգի կազմակերպում և վարում
A19: Վերջնական արդյունքի նկարագրությունը ՀՀ ոստիկանության տարածքային անձնագրային ստորաբաժանումների շենքային պայմանների բարելավում
A20: Ծառայություն մատուցողի (մատուցողների) անվանումը (անվանումները) ՀՀ կառավարությանն առընթեր ՀՀ ոստիկանության անձնագրային և վիզաների վարչություն
A21: Ծրագրային դասիչը | C21: Անվանումը՝ Շենքերի և շինությունների շինարարություն Նկարագրություն Նախատեսվում է ՀՀ ոստիկանության Շիրակի մարզային վարչության Կումայրիի բաժնի վարչական շենքի շինարարության 2016թ.-ի մասնաբաժնի ապահովման համար:
A22: 1083 | B22: ԿՀ 02
A23: Քանակական | B23: ՀՀ ոստիկանության Կումայրիի ՈԲ նոր վարչական շենքի կառուցում
A24: Որակական | B24: մշակված չէ
A25: Ժամկետայնության | B25: մշակված չէ
A26: Մատուցվող ծառայության վրա կատարվող ծախսեր (հազար դրամ) | C26: x | D26: x | E26: x | F26: x | G26: =+'[6]N 6.1'!H72 -> 0 | H26: =+'[6]N 6.1'!I72 -> 29800 | I26: =+'[6]N 6.1'!J72 -> 57800 | J26: =+'[6]N 6.1'!K72 -> 75435
A27: Ծրագիրը (ծրագրերը), որի (որոնց) շրջանակներում իրականացվում է քաղաքականության միջոցառումը 1083 ԿՀ02 Անձնագրերի և վիզաների տրամադրում, բնակչության պետական ռեգիստրի միասնական համակարգի կազմակերպում և վարում
A28: Վերջնական արդյունքի նկարագրությունը ՀՀ ոստիկանության տարածքային ստորաբաժանումների շենքային պայմանների բարելավում
A29: Ծառայություն մատուցողի (մատուցողների) անվանումը (անվանումները) ՀՀ կառավարությանն առընթեր ՀՀ ոստիկանության անձնագրային և վիզաների վարչություն
A30: Ծրագրային դասիչը | C30: Անվանումը՝ Շենքերի և շինությունների կապիտալ վերանորոգում Նկարագրություն Նախատեսվում է ՀՀ ոստիկանության ԱՎՎ Շենգավիթի և Տարոնի անձնագրային բաժանմունքների կապիտալ վերանորոգում
A31: 1083 | B31: ԿՀ 01
A32: Քանակական | B32: ՀՀ ոստիկանության ԱՎՎ Շենգավիթի և Տարոնի անձնագրային բաժանմունքներում կապիտալ վերանորոգման իրականացում
A33: Որակական | B33: մշակված չէ
A34: Ժամկետայնության | B34: մշակված չէ
A35: Մատուցվող ծառայության վրա կատարվող ծախսեր (հազար դրամ) | C35: x | D35: x | E35: x | F35: x | G35: =+'[6]N 6.1'!H73 -> #REF! | H35: =+'[6]N 6.1'!I73 -> #REF! | I35: =+'[6]N 6.1'!J73 -> #REF! | J35: =+'[6]N 6.1'!K73 -> #REF!
A36: Ծրագիրը (ծրագրերը), որի (որոնց) շրջանակներում իրականացվում է քաղաքականության միջոցառումը 1083 ԿՀ01 Անձնագրերի և վիզաների տրամադրում, բնակչության պետական ռեգիստրի միասնական համակարգի կազմակերպում և վարում
A37: Վերջնական արդյունքի նկարագրությունը ՀՀ քաղաքացու անձնագրի, քաղաքացիություն չունեցող անձի, փախստականի վկայականի, ճամփորդական փաստաթղթի, վիզայի և ՀՀ-ում կացության կարգավիճակի տրամադրման, քաղաքացիների ըստ բնակության վայրի հաշվառման ծառայությունների պատշաճ և ժամանակին իրականացում
A38: Ծառայություն մատուցողի (մատուցողների) անվանումը (անվանումները) ՀՀ կառավարությանն առընթեր ՀՀ ոստիկանության անձնագրային և վիզաների վարչություն
A39: ՄԱՍ Գ: Նախարարի պատասխանատվության ներքո իրականացվող քաղաքականության միջոցառումների և ֆինանսական կառավարման արդյունքների ցուցանիշները 1. Քաղաքականության միջոցառումներ 1.1 Ծառայություններ
A41: Ìñ³·ñ³ÛÇÝ ¹³ëÇãÁ | C41: Մատուցվող ծառայության անվանումը | D41: Ոչ ֆինանսական ցուցանիշներ | H41: Ֆինանսական ցուցանիշներ
...

Sheet 9.2
E1: ՀԱՎԵԼՎԱԾ N 9
D2: ՀՀ կառավարության 2017 թվականի------ -ի N -Ն որոշման
D3: Աղյուսակ N2
A5: ՀԱՅԱՍՏԱՆԻ ՀԱՆՐԱՊԵՏՈՒԹՅԱՆ ԿԱՌԱՎԱՐՈՒԹՅԱՆ 2017 ԹՎԱԿԱՆԻ ԴԵԿՏԵՄԲԵՐԻ 28-Ի N 1717-Ն ՈՐՈՇՄԱՆ N 11 ՀԱՎԵԼՎԱԾԻ N 12 ԱՂՅՈՒՍԱԿՈՒՄ ՀՀ ԿԱՌԱՎԱՐՈՒԹՅԱՆՆ ԱՌԸՆԹԵՐ ՀՀ ՈՍՏԻԿԱՆՈՒԹՅԱՆ ՄԱՍՈՎ ԿԱՏԱՐՎՈՂ ԼՐԱՑՈՒՄՆԵՐԸ
A8: Ծրագրային դասիչը | B8: Միջոցառումը | C8: Գործառական դասիչը | D8: Ծրագիր/Քաղաքականության միջոցառում | E8: Ցուցանիշների փոփոխությունը (ավելացումները նշված են դրական նշանով) 2018 թվականի պետական բյուջե (հազար դրամ)
A9: Ծրագիրը | C9: (Բաժին/Խումբ /Դաս)
A10: 1175 | D10: ԾՐԱԳԻՐ
C11: 03.01.01 | D11: Ճանապարհային երթևեկության անվտանգության կազմակերպում, իրականացում և ճանապարհատրանսպորտային պատահարների կանխարգելում | E11: =E36+E137 -> 13916379
D12: Ծրագրի նկարագրությունը
D13: Ճանապարհային երթևեկության կարգավորում, ճանապարհային երթևեկության անվտանգության ապահովման բնագավառի օրենսդրության, ճանապարհային երթեւեկության կանոնների, տեխնիկական նորմերի պահանջների կատարման նկատմամբ վերահսկողություն, ճանապարհապարեկային ծառայության իրականացում, ճանապարհատրանսպորտային պատահարների եւ ճանապարհային երթեւեկության բնագավառում վարչական իրավախախտումների պետական հաշվառում, ճանապարհային անվտանգության կանխարգելում, երթեւեկության մասնակիցներին վարորդական վկայական ստանալու քննությունների ընդունում եւ վարորդական վկայականների տրամադրում
D14: Վերջնական արդյունքի նկարագրությունը
D15: Ճանապարհային երթևեկության անվտանգության ապահովման պատշաճ մակարդակ
D16: Քաղաքականության միջոցառումներ. Ծառայություններ
D20: Ծառայություն մատուցողի անվանումը
D21: ՀՀ ոստիկանության ճանապարհային ոստիկանություն
B22: <լրացնել քաղաքականության միջոցառման դասիչը> | C22: < լրացնել գործառական դասիչը > | D22: <Լրացնել տրանսֆերտի անվանումը>
D23: Տրանսֆերտի նկարագրությունը
D24: <Լրացնել տրանսֆերտի նկարագրությունը>
D25: Քաղաքականության միջոցառումներ. Ֆինանսավորման ծախսեր
B26: <լրացնել քաղաքականության միջոցառման դասիչը> | C26: < լրացնել գործառական դասիչը > | D26: <Լրացնել ֆինանսավորման ծախսի անվանումը>
D27: Ֆինանսավորման ծախսի նկարագրությունը
D28: <Լրացնել ֆինանսավորման ծախսի նկարագրությունը>
A29: 1107 | D29: ԾՐԱԳԻՐ
D31: Ծրագրի նկարագրությունը
D33: Վերջնական արդյունքի նկարագրությունը
D35: Քաղաքականության միջոցառումներ. Ծառայություններ
B36: ԱԾ01 | D36: ՀՀ ոստիկանության ճանապարհային ոստիկանության և ոստիկանության այլ ստորաբաժանումների նյութական ապահովում, մատուցած ծառայությունների մակարդակի բարձրացում | E36: =+'N 5'!F13 -> 11933712
D37: Մատուցվող ծառայության նկարագրությունը
D38: Ճանապարհային երթևեկության կարգավորում, ճանապարհային երթևեկության անվտանգության ապահովման բնագավառի օրենսդրության, ճանապարհային երթեւեկության կանոնների, տեխնիկական նորմերի պահանջների կատարման նկատմամբ վերահսկողություն, ճանապարհապարեկային ծառայության իրականացում, ճանապարհատրանսպորտային պատահարների եւ ճանապարհային երթեւեկության բնագավառում վարչական իրավախախտումների պետական հաշվառում, ճանապարհային անվտանգության կանխարգելում, երթեւեկության մասնակիցներին վարորդական վկայական ստանալու քննությունների ընդունում եւ վարորդական վկայականների տրամադրում
D39: Ծառայություն մատուցողի անվանումը
D40: ՀՀ ոստիկանության ճանապարհային ոստիկանություն
D41: ԾՐԱԳԻՐ
D43: Ծրագրի նկարագրությունը
D45: Վերջնական արդյունքի նկարագրությունը
D47: Քաղաքականության միջոցառումներ. Ծառայություններ
D49: Մատուցվող ծառայության նկարագրությունը
D51: Ծառայություն մատուցողի անվանումը
D53: Քաղաքականության միջոցառումներ. Տրանսֆերտներ
B54: <լրացնել քաղաքականության միջոցառման դասիչը> | C54: < լրացնել գործառական դասիչը > | D54: <Լրացնել տրանսֆերտի անվանումը>
D55: Տրանսֆերտի նկարագրությունը
...
