Workbook
Name _edn1: '9.2'!$A$221
Name _edn10: '9.2'!$A$232
Name _edn11: '9.2'!$A$233
Name _edn12: '9.2'!$A$234
Name _edn13: '9.2'!$A$235
Name _edn14: '9.2'!$A$236
Name _edn15: '9.2'!$A$237
Name _edn2: '9.2'!$A$222
Name _edn3: '9.2'!$A$223
Name _edn4: '9.2'!$A$224
Name _edn5: '9.2'!$A$227
Name _edn6: '9.2'!$A$228
Name _edn7: '9.2'!$A$229
Name _edn8: '9.2'!$A$230
Name _edn9: '9.2'!$A$231
Name _ednref1: '9.2'!#REF!
Name _ednref10: '9.2'!#REF!
Name _ednref11: '9.2'!#REF!
Name _ednref12: '9.2'!#REF!
Name _ednref13: '9.2'!$A$131
Name _ednref14: '9.2'!$D$144
Name _ednref15: '9.2'!#REF!
Name _ednref2: '9.2'!#REF!
Name _ednref3: '9.2'!#REF!
Name _ednref4: '9.2'!#REF!
Name _ednref5: '9.2'!#REF!
Name _ednref6: '9.2'!#REF!
Name _ednref7: '9.2'!#REF!
Name _ednref8: '9.2'!#REF!
Name _ednref9: '9.2'!#REF!
Name g: '[1]DOC 3'!$A$16,'[1]DOC 3'!$A$128,'[1]DOC 3'!$A$311,'[1]DOC 3'!$A$328
Name OLE_LINK1: '9.2'!$A$3
Name par_qual: '[2]DOC 3'!$A$15,'[2]DOC 3'!$A$127,'[2]DOC 3'!$A$257,'[2]DOC 3'!$A$310,'[2]DOC 3'!$A$327
Name par_qual: '[3]DOC 3'!$A$15,'[3]DOC 3'!$A$127,'[3]DOC 3'!$A$257,'[3]DOC 3'!$A$310,'[3]DOC 3'!$A$327
Name par_qual: '[4]DOC 3'!$A$15,'[4]DOC 3'!$A$127,'[4]DOC 3'!$A$257,'[4]DOC 3'!$A$310,'[4]DOC 3'!$A$327
Name par_time: '[2]DOC 3'!$A$16,'[2]DOC 3'!$A$128,'[2]DOC 3'!$A$311,'[2]DOC 3'!$A$328
Name par_time: '[3]DOC 3'!$A$16,'[3]DOC 3'!$A$128,'[3]DOC 3'!$A$311,'[3]DOC 3'!$A$328
Name par_time: '[4]DOC 3'!$A$16,'[4]DOC 3'!$A$128,'[4]DOC 3'!$A$311,'[4]DOC 3'!$A$328
Name par2.5s: '[2]DOC 3'!$A$22,'[2]DOC 3'!$A$134
Name par2.5s: '[3]DOC 3'!$A$22,'[3]DOC 3'!$A$134
Name par2.5s: '[4]DOC 3'!$A$22,'[4]DOC 3'!$A$134
Name par2.6s: '[2]DOC 3'!$A$40,'[2]DOC 3'!$A$65,'[2]DOC 3'!$A$89,'[2]DOC 3'!$A$111
Name par2.6s: '[3]DOC 3'!$A$40,'[3]DOC 3'!$A$65,'[3]DOC 3'!$A$89,'[3]DOC 3'!$A$111
Name par2.6s: '[4]DOC 3'!$A$40,'[4]DOC 3'!$A$65,'[4]DOC 3'!$A$89,'[4]DOC 3'!$A$111
Name par2.7s: '[2]DOC 3'!$A$178,'[2]DOC 3'!$A$343
Name par2.7s: '[3]DOC 3'!$A$178,'[3]DOC 3'!$A$343
Name par2.7s: '[4]DOC 3'!$A$178,'[4]DOC 3'!$A$343
Name par4.10s: '[2]DOC 3'!$A$42,'[2]DOC 3'!$A$84
Name par4.10s: '[3]DOC 3'!$A$42,'[3]DOC 3'!$A$84
Name par4.10s: '[4]DOC 3'!$A$42,'[4]DOC 3'!$A$84
Name par4.11d: '[2]DOC 3'!$A$44,'[2]DOC 3'!$A$86,'[2]DOC 3'!$A$201,'[2]DOC 3'!$A$221,'[2]DOC 3'!$A$241
Name par4.11d: '[3]DOC 3'!$A$44,'[3]DOC 3'!$A$86,'[3]DOC 3'!$A$201,'[3]DOC 3'!$A$221,'[3]DOC 3'!$A$241
Name par4.11d: '[4]DOC 3'!$A$44,'[4]DOC 3'!$A$86,'[4]DOC 3'!$A$201,'[4]DOC 3'!$A$221,'[4]DOC 3'!$A$241
Name par4.14: '[2]DOC 3'!$A$38,'[2]DOC 3'!$A$82,'[2]DOC 3'!$A$199,'[2]DOC 3'!$A$219,'[2]DOC 3'!$A$239,'[2]DOC 3'!$A$259
Name par4.14: '[3]DOC 3'!$A$38,'[3]DOC 3'!$A$82,'[3]DOC 3'!$A$199,'[3]DOC 3'!$A$219,'[3]DOC 3'!$A$239,'[3]DOC 3'!$A$259
Name par4.14: '[4]DOC 3'!$A$38,'[4]DOC 3'!$A$82,'[4]DOC 3'!$A$199,'[4]DOC 3'!$A$219,'[4]DOC 3'!$A$239,'[4]DOC 3'!$A$259
Name par4.15: '[2]DOC 3'!$A$60,'[2]DOC 3'!$A$106,'[2]DOC 3'!$A$275
Name par4.15: '[3]DOC 3'!$A$60,'[3]DOC 3'!$A$106,'[3]DOC 3'!$A$275
Name par4.15: '[4]DOC 3'!$A$60,'[4]DOC 3'!$A$106,'[4]DOC 3'!$A$275
Name par4.16: '[2]DOC 3'!$A$61,'[2]DOC 3'!$A$107,'[2]DOC 3'!$A$276

Sheet N 1
C1: Հավելված N 1
C2: ՀՀ կառավարության
C3: 2018 թվականի __________
C4: N -Ն որոշման
B5: <<ՀԱՅԱՍՏԱՆԻ ՀԱՆՐԱՊԵՏՈՒԹՅԱՆ 2018 ԹՎԱԿԱՆԻ ՊԵՏԱԿԱՆ ԲՅՈՒՋԵԻ ՄԱՍԻՆ>> ՀԱՅԱՍՏԱՆԻ ՀԱՆՐԱՊԵՏՈՒԹՅԱՆ ՕՐԵՆՔԻ 2-ՐԴ ՀՈԴՎԱԾԻ ԱՂՅՈՒՍԱԿԻ ՑՈՒՑԱՆԻՇՆԵՐՈՒՄ ԿԱՏԱՐՎՈՂ ՓՈՓՈԽՈՒԹՅՈՒՆՆԵՐԸ
C7: հազար դրամներով
C8: Ցուցանիշների փոփոխությունը (գումարների ավելացումը նշված է դրական նշանով)
B9: 1. Եկամուտների գծով | C9: =+'N 3'!F9 -> 14324500
B10: 2. Ծախսերի գծով | C10: =+'N 4'!H9 -> 13916379
B11: 3. Դեֆիցիտը (պակասուրդը) | C11: ='N 2'!E16 -> -408121.3

Sheet N 2
E1: Հավելված N 2
E2: ՀՀ կառավարության
E3: 2018 թվականի __________
E4: N -Ն որոշման
A5: <<ՀԱՅՍՏԱՆԻ ՀԱՆՐԱՊԵՏՈՒԹՅԱՆ 2018 ԹՎԱԿԱՆԻ ՊԵՏԱԿԱՆ ԲՅՈՒՋԵԻ ՄԱՍԻՆ>> ՀԱՅԱՍՏԱՆԻ ՀԱՆՐԱՊԵՏՈՒԹՅԱՆ ՕՐԵՆՔԻ 3-ՐԴ ՀՈԴՎԱԾԻ ԱՂՅՈՒՍԱԿՈՒՄ, N 4 ՀԱՎԵԼՎԱԾԻ N 1 ԱՂՅՈՒՍԱԿՈՒՄ ԵՎ ՀԱՅԱՍՏԱՆԻ ՀԱՆՐԱՊԵՏՈՒԹՅԱՆ ԿԱՌԱՎԱՐՈՒԹՅԱՆ 2017 ԹՎԱԿԱՆԻ ԴԵԿՏԵՄԲԵՐԻ 28-Ի N 1717-Ն ՈՐՈՇՄԱՆ N 1 ՀԱՎԵԼՎԱԾԻ N 1 ԱՂՅՈՒՍԱԿՈՒՄ ԿԱՏԱՐՎՈՂ ՓՈՓՈԽՈՒԹՅՈՒՆՆԵՐԸ ԵՎ ԼՐԱՑՈՒՄՆԵՐԸ
D6: հազար դրամներով
A7: Պետական բյուջեի դեֆիցիտի ֆինանսավորման աղբյուրներն ու դրանց տարրերի անվանումները | B7: Ցուցանիշների փոփոխություն (մուտքերի նվազեցումը նշված է փակագծերում)
B8: Առաջին եռամսյակ | C8: Առաջին կիսամյակ | D8: Ինն ամիս | E8: Տարի
A9: ԸՆԴԱՄԵՆԸ | B9: =+B11 -> -2276.8 | C9: =+C11 -> -13117 | D9: =+D11 -> -424340.8 | E9: =+E11 -> -408121.3
A10: այդ թվում՝
A11: Ա. Ներքին աղբյուրներ-ընդամենը | B11: =+B13 -> -2276.8 | C11: =+C13 -> -13117 | D11: =+D13 -> -424340.8 | E11: =+E13 -> -408121.3
A12: այդ թվում՝
A13: 2. Ֆինանսական զուտ ակտիվներ | B13: =+B17 -> -2276.8 | C13: =+C17 -> -13117 | D13: =+D17 -> -424340.8 | E13: =+E16 -> -408121.3
A14: այդ թվում՝
A15: 2.6 Այլ | B15: =B17 -> -2276.8 | C15: =C17 -> -13117 | D15: =D17 -> -424340.8 | E15: =E16 -> -408121.3
A16: Արտաբյուջետային հաշվի միջոցների փոփոխություն | E16: ='N 4'!H9-'N 3'!F13 -> -408121.3
A17: Արտաբյուջետային հաշվի ժամանակավորապես ազատ միջոցներ | B17: ='N 4'!E9-'N 3'!C9 -> -2276.8 | C17: ='N 4'!F9-'N 3'!D9 -> -13117 | D17: ='N 4'!G9-'N 3'!E9 -> -424340.8

Sheet N 3
E1: Հավելված N 3
F2: ՀՀ կառավարության
F3: 2018 թվականի __________
F4: N -Ն որոշման
B5: <<ՀԱՅԱՍՏԱՆԻ ՀԱՆՐԱՊԵՏՈՒԹՅԱՆ 2018 ԹՎԱԿԱՆԻ ՊԵՏԱԿԱՆ ԲՅՈՒՋԵԻ ՄԱՍԻՆ>> ՀԱՅԱՍՏԱՆԻ ՀԱՆՐԱՊԵՏՈՒԹՅԱՆ ՕՐԵՆՔԻ 6-ՐԴ ՀՈԴՎԱԾԻ ԱՂՅՈՒՍԱԿՈՒՄ ԵՎ ՀԱՅԱՍՏԱՆԻ ՀԱՆՐԱՊԵՏՈՒԹՅԱՆ ԿԱՌԱՎԱՐՈՒԹՅԱՆ 2017 ԹՎԱԿԱՆԻ ԴԵԿՏԵՄԲԵՐԻ 28-Ի N 1717-Ն ՈՐՈՇՄԱՆ N 2 ՀԱՎԵԼՎԱԾՈՒՄ ԿԱՏԱՐՎՈՂ ՓՈՓՈԽՈՒԹՅՈՒՆՆԵՐԸ
E6: հազար դրամներով
B7: ՊԵՏԱԿԱՆ ԲՅՈՒՋԵԻ ԵԿԱՄՈՒՏՆԵՐ | C7: Ցուցանիշների փոփոխություն (գումարների ավելացումը նշված է դրական նշանով)
C8: Առաջին եռամսյակ | D8: Առաջին կիսամյակ | E8: Ինն ամիս | F8: Տարի
B9: ԸՆԴԱՄԵՆԸ | C9: =+C13 -> 2592513.7 | D9: =+D13 -> 6360337.5 | E9: =+E13 -> 9428301.5 | F9: =+F13 -> 14324500
B10: այդ թվում՝
B11: Հարկային եկամուտներ և պետական տուրք
B12: Պաշտոնական դրամաշնորհներ
B13: Այլ եկամուտներ | C13: =+'N 7'!D11 -> 2592513.7 | D13: =+'N 7'!E11 -> 6360337.5 | E13: =+'N 7'!F11 -> 9428301.5 | F13: =+'N 7'!G11 -> 14324500
B14: ՊԱՇՏՈՆԱԿԱՆ ՏՐԱՆՍՖԵՐՏՆԵՐ

Sheet N 4
G1: Հավելված N 4
H2: ՀՀ կառավարության
H3: 2018 թվականի _________-ի
H4: N -Ն որոշման
A5: <<ՀԱՅԱՍՏԱՆԻ ՀԱՆՐԱՊԵՏՈՒԹՅԱՆ 2018 ԹՎԱԿԱՆԻ ՊԵՏԱԿԱՆ ԲՅՈՒՋԵԻ ՄԱՍԻՆ>> ՀԱՅԱՍՏԱՆԻ ՀԱՆՐԱՊԵՏՈՒԹՅԱՆ ՕՐԵՆՔԻ 7-ՐԴ ՀՈԴՎԱԾԻ ԱՂՅՈՒՍԱԿԻ ԵՎ ՀԱՅԱՍՏԱՆԻ ՀԱՆՐԱՊԵՏՈՒԹՅԱՆ ԿԱՌԱՎԱՐՈՒԹՅԱՆ 2017 ԹՎԱԿԱՆԻ ԴԵԿՏԵՄԲԵՐԻ 28-Ի N 1717-Ն ՈՐՈՇՄԱՆ N 3 ՀԱՎԵԼՎԱԾԻ ՑՈՒՑԱՆԻՇՆԵՐՈՒՄ ԿԱՏԱՐՎՈՂ ՓՈՓՈԽՈՒԹՅՈՒՆՆԵՐԸ
G6: հազար դրամներով
A7: Բաժնի N | B7: Խմբի N | C7: Դասի N | D7: Բյուջետային ծախսերի գործառնական դասակարգման բաժինների, խմբերի և դասերի անվանումները | E7: Ցուցանիշների փոփոխությունը (ծախսերի ավելացումները նշված են դրական նշանով)
E8: Առաջին եռամսյակ | F8: Առաջին կիսամյակ | G8: Ինն ամիս | H8: Տարի
D9: ԸՆԴԱՄԵՆԸ ԾԱԽՍԵՐ | E9: =+E16 -> 2590236.9 | F9: =+F16 -> 6347220.5 | G9: =+G16 -> 9003960.7 | H9: =+H16 -> 13916379
D10: այդ թվում՝
D11: Այլ մարմիններ
D12: որից` ըստ բյուջետային ծախսերի տնտեսագիտական դասակարգման հոդվածների`
D13: ԱՅԼ ԾԱԽՍԵՐ
D14: այդ թվում`
D15: - այլ ծախսեր
A16: 03 | D16: ՀԱՍԱՐԱԿԱԿԱՆ ԿԱՐԳ, ԱՆՎՏԱՆԳՈՒԹՅՈՒՆ ԵՎ ԴԱՏԱԿԱՆ ԳՈՐԾՈՒՆԵՈՒԹՅՈՒՆ | E16: =+E18 -> 2590236.9 | F16: =+F18 -> 6347220.5 | G16: =+G18 -> 9003960.7 | H16: =+H18 -> 13916379
D17: այդ թվում՝
B18: 01 | D18: Հասարակական կարգ և անվտանգություն | E18: =+E20 -> 2590236.9 | F18: =+F20 -> 6347220.5 | G18: =+G20 -> 9003960.7 | H18: =+H20 -> 13916379
D19: այդ թվում՝
C20: 01 | D20: Ոստիկանություն | E20: ='N 5'!C11 -> 2590236.9 | F20: ='N 5'!D11 -> 6347220.5 | G20: ='N 5'!E11 -> 9003960.7 | H20: ='N 5'!F11 -> 13916379
D21: 04. ՀՀ կառավարությանն առընթեր ոստիկանության ճանապարհային ոստիկանության կողմից արձանագրված խախտումների համար վարչական տուգանքների գանձումներից, գրանցման-քննական ծառայությունների դիմաց վճարումներից և այլ վճարովի ծառայություններ | H21: =H22 -> 5244710
D22: ՀՀ կառավարությանն առընթեր ՀՀ ոստիկանություն | H22: =H24+H29+H32+H35+H40+H43+H53+H57+H50 -> 5244710
D23: որից ըստ բյուջետային ծախսերի տնտեսագիտական դասակարգման հոդվածների`
D24: ԱՇԽԱՏԱՆՔԻ ՎԱՐՁԱՏՐՈՒԹՅՈՒՆ | H24: =H27+H28+H26 -> 1859353.6
D25: այդ թվում`
D26: - Աշխատողների աշխատավարձեր և հավելավճարներ | H26: 1835353.6
D27: - Պարգևատրումներ, դրամական խրախուսումներ և հատուկ վճարներ | H27: 6000
D28: - Փաստացի սոցիալական ապահովության վճարներ (գործատուի կողմից) | H28: 18000
D29: Շարունակական ծախսեր | H29: =H31 -> 6228.4
D30: այդ թվում`
D31: - կապի ծառայություններ | H31: 6228.4
D32: Գործուղումների և շրջագայությունների ծախսեր | H32: =H34+H33 -> 2904
D33: - ներքին գործուղումներ | H33: 1904
D34: - արտասահմանյան գործուղումների գծով ծախսեր | H34: 1000
D35: Պայմանագրային այլ ծառայությունների ձեռքբերում | H35: =H37+H38+H39 -> 119500
D36: այդ թվում`
D37: - համակարգչային ծառայություններ | H37: 16500
D38: - ներկայացուցչական ծախսեր | H38: 3000
D39: - ընդհանուր բնույթի այլ ծառայություններ | H39: 100000
D40: Ընթացիկ նորոգում և պահպանում (ծառայություններ և նյութեր) | H40: =H42 -> 95000
D41: այդ թվում`
D42: - մեքենաների և սարքավորումների ընթացիկ նորոգում և պահպանում | H42: 95000
D43: Նյութեր | H43: =H45+H47+H48+H46+H49 -> 301319.9
D44: այդ թվում`
D45: - գրասենյակային նյութեր և հագուստ | H45: 237319.9
D46: - վերապատրաստման և ուսուցման նյութեր
D47: - տրանսպորտային նյութեր | H47: 60000
D48: - կենցաղային և հանրային սննդի նյութեր | H48: 2000
D49: - հատուկ նպատակային այլ նյութեր | H49: 2000
D50: ԴՐԱՄԱՇՆՈՐՀՆԵՐ | H50: =H52 -> 550000
D51: այդ թվում`
D52: Ընթացիկ դրամաշնորհներ պետական հատվածի այլ մակարդակներին | H52: 550000
D53: ԱՅԼ ԾԱԽՍԵՐ | H53: =H55 -> 1290
D54: այդ թվում`
D55: Հարկեր, պարտադիր վճարներ և տույժեր, որոնք կառավարման տարբեր մակարդակների կողմից կիրառվում են միմյանց նկատմամբ | H55: 1290
D56: - պարտադիր վճարներ | H56: 3000
D57: ՀԻՄՆԱԿԱՆ ՄԻՋՈՑՆԵՐ | H57: =H60+H61+H62+H63+H59 -> 2309114.1
D58: այդ թվում`
D59: - շենքերի և շինությունների կառուցում | H59: 150000
D60: - շենքերի և շինությունների կապիտալ վերանորոգում | H60: 207009.7
D61: - տրանսպորտային սարքավորումներ | H61: 663333.5
D62: - Վարչական սարքավորումներ | H62: 1251570.9
D63: - նախագծահետազոտական ծախսեր | H63: 37200
D64: 05.ՀՀ կառավարությանն առընթեր ոստիկանության ստորաբաժանումների կողմից պայմանագրային հիմունքներով պահպանության և անվտանգության ապահովման գծով իրականացվող ծառայությունների դիմաց ստացվող վճարների հաշվին կատարված ծախսեր | H64: =H65 -> 5450208.5
D65: ՀՀ կառավարությանն առընթեր ՀՀ ոստիկանություն | H65: =H67+H73+H79+H82+H88+H91+H95+H102+H107+H110 -> 5450208.5
D66: որից ըստ բյուջետային ծախսերի տնտեսագիտական դասակարգման հոդվածների`
D67: ԱՇԽԱՏԱՆՔԻ ՎԱՐՁԱՏՐՈՒԹՅՈՒՆ | H67: =H70+H72+H69+H71 -> 4491277.7
D68: այդ թվում`
D69: - Աշխատողների աշխատավարձեր և հավելավճարներ | H69: 3397238.3
D70: - Պարգևատրումներ, դրամական խրախուսումներ և հատուկ վճարներ | H70: 435081.4
D71: - այլ վարձատրություններ | H71: 451940
D72: - Փաստացի սոցիալական ապահովության վճարներ (գործատուի կողմից) | H72: 207018
D73: Շարունակական ծախսեր | H73: =H75+H76+H77+H78 -> 105138
D74: այդ թվում`
D75: - էներգետիկ ծառայություններ | H75: 30948
D76: - կոմունալ ծառայություններ | H76: 4774
D77: - կապի ծառայություններ | H77: 59952
D78: - գույքի և սարքավորումների վարձակալություն | H78: 9464
D79: Գործուղումների և շրջագայությունների ծախսեր | H79: =H81+H80 -> 29227
D80: - ներքին գործուղումներ | H80: 26227
D81: - արտասահմանյան գործուղումների գծով ծախսեր | H81: 3000
D82: Պայմանագրային այլ ծառայությունների ձեռքբերում | H82: =H84+H86+H87+H85 -> 23604
D83: այդ թվում`
D84: - համակարգչային ծառայություններ | H84: 500
D85: - տեղեկատվական ծառայություններ | H85: 2372
D86: - ներկայացուցչական ծախսեր | H86: 15400
D87: - ընդհանուր բնույթի այլ ծառայություններ | H87: 5332
D88: Այլ մասնագիտական ծառայությունների ձեռքբերում | H88: =H90 -> 600
D89: այդ թվում` | H89: 0
D90: - մասնագիտական ծառայություններ | H90: 600
D91: Ընթացիկ նորոգում և պահպանում (ծառայություններ և նյութեր) | H91: =H93+H94 -> 76623
D92: այդ թվում`
D93: - շենքերի և կառույցների ընթացիկ նորոգում և պահպանում | H93: 15319
D94: - մեքենաների և սարքավորումների ընթացիկ նորոգում և պահպանում | H94: 61304
D95: Նյութեր | H95: =H97+H98+H99+H100+H101 -> 473230
D96: այդ թվում`
D97: - գրասենյակային նյութեր և հագուստ | H97: 172283
D98: - տրանսպորտային նյութեր | H98: 236285
D99: - առողջապահական և լաբորատոր նյութեր | H99: 10170
D100: - կենցաղային և հանրային սննդի նյութեր | H100: 50308
...

Sheet N 5
F1: Հավելված N 5
F2: ՀՀ կառավարության
F3: 2018 թվականի _________-ի
F4: N ___ -Ն որոշման
B5: <<ՀԱՅԱՍՏԱՆԻ ՀԱՆՐԱՊԵՏՈՒԹՅԱՆ 2018 ԹՎԱԿԱՆԻ ՊԵՏԱԿԱՆ ԲՅՈՒՋԵԻ ՄԱՍԻՆ>> ՀԱՅԱՍՏԱՆԻ ՀԱՆՐԱՊԵՏՈՒԹՅԱՆ ՕՐԵՆՔԻ 8-ՐԴ ՀՈԴՎԱԾԻ ԱՂՅՈՒՍԱԿԻ ՑՈՒՑԱՆԻՇՆԵՐՈՒՄ ԵՎ ՀԱՅԱՍՏԱՆԻ ՀԱՆՐԱՊԵՏՈՒԹՅԱՆ ԿԱՌԱՎԱՐՈՒԹՅԱՆ 2017 ԹՎԱԿԱՆԻ ԴԵԿՏԵՄԲԵՐԻ 28-Ի N 1717-Ն ՈՐՈՇՄԱՆ N 4 ՀԱՎԵԼՎԱԾԻ ՑՈՒՑԱՆԻՇՆԵՐՈՒՄ ԿԱՏԱՐՎՈՂ ՓՈՓՈԽՈՒԹՅՈՒՆՆԵՐԸ
E8: հազար դրամներով
B9: Բյուջետային ծախսերի տնտեսագիտական դասակարգման հոդվածների անվանումները | C9: Ցուցանիշների փոփոխություն (ծախսերի ավելացումները նշված են դրական նշանով)
C10: Առաջին եռամսյակ | D10: առաջին կիսամյակ | E10: ինն ամիս | F10: տարի
B11: ԸՆԴԱՄԵՆԸ ԾԱԽՍԵՐ | C11: =SUM(C13+C81) -> 2590236.9 | D11: =SUM(D13+D81) -> 6347220.5 | E11: =SUM(E13+E81) -> 9003960.7 | F11: =SUM(F13+F81) -> 13916379
B12: այդ թվում`
B13: ԸՆԹԱՑԻԿ ԾԱԽՍԵՐ | C13: =+C15+C20+C36+C71 -> 2590236.9 | D13: =+D15+D20+D36+D71 -> 5042852.7 | E13: =+E15+E20+E36+E71 -> 7212610.8 | F13: =+F15+F20+F36+F71 -> 11933712
B14: այդ թվում`
B15: ԱՇԽԱՏԱՆՔԻ ՎԱՐՁԱՏՐՈՒԹՅՈՒՆ | C15: =SUM(C17) -> 524381.7 | D15: =SUM(D17) -> 1048763.4 | E15: =SUM(E17) -> 1573145.1 | F15: =SUM(F17) -> 2152100
B16: այդ թվում`
B17: Դրամով վճարվող աշխատավարձեր և հավելավճարներ | C17: ='N 6,1'!E21 -> 524381.7 | D17: ='N 6,1'!F21 -> 1048763.4 | E17: ='N 6,1'!G21 -> 1573145.1 | F17: ='N 6,1'!H21 -> 2152100
B18: Աշխատողների աշխատավարձեր և հավելավճարներ | C18: =1637336.95+0.05 -> 1637337 | D18: 3274673.9 | E18: =4912010.85+0.05 -> 4912010.9 | F18: ='[5]N 6,1'!I25 -> 6549347.7
B19: Այլ վարձատրություններ | C19: 38800 | D19: 77600 | E19: 116400 | F19: ='[5]N 6,1'!I27 -> 155200
B20: ԾԱՌԱՅՈՒԹՅՈՒՆՆԵՐԻ ԵՎ ԱՊՐԱՆՔՆԵՐԻ ՁԵՌՔԲԵՐՈՒՄ | C20: =SUM(C22:C27) -> 1439755.2 | D20: =SUM(D22:D27) -> 2851736.3 | E20: =SUM(E22:E27) -> 4459387.7 | F20: =SUM(F22:F27) -> 8563709.4
B21: այդ թվում`
B22: Շարունակական ծախսեր | C22: ='N 6,1'!E25 -> 170816.9 | D22: ='N 6,1'!F25 -> 311683.1 | E22: ='N 6,1'!G25 -> 576140.1 | F22: ='N 6,1'!H25 -> 761977.1
B23: Գործուղումների և շրջագայությունների ծախսեր | C23: ='N 6,1'!E34 -> 2500 | D23: ='N 6,1'!F34 -> 4219 | E23: ='N 6,1'!G34 -> 6328 | F23: ='N 6,1'!H34 -> 8437
B24: Պայմանագրային այլ ծառայությունների ձեռք բերում | C24: ='N 6,1'!E38 -> 641742 | D24: ='N 6,1'!F38 -> 1092211.8 | E24: ='N 6,1'!G38 -> 1600971.7 | F24: ='N 6,1'!H38 -> 4548977.8
B25: Այլ մասնագիտական ծառայությունների ձեռք բերում | C25: ='N 6,1'!E48 -> 24587 | D25: ='N 6,1'!F48 -> 26625 | E25: ='N 6,1'!G48 -> 30732 | F25: ='N 6,1'!H48 -> 121173
B26: Ընթացիկ նորոգում և պահպանում (ծառայություններ և նյութեր) | C26: ='N 6,1'!E51 -> 94425 | D26: ='N 6,1'!F51 -> 235307.4 | E26: ='N 6,1'!G51 -> 398020.4 | F26: ='N 6,1'!H51 -> 552614.3
B27: Նյութեր | C27: ='N 6,1'!E55 -> 505684.3 | D27: ='N 6,1'!F55 -> 1181690 | E27: ='N 6,1'!G55 -> 1847195.5 | F27: ='N 6,1'!H55 -> 2570530.2
B28: ՏՈԿՈՍԱՎՃԱՐՆԵՐ | C28: 0 | D28: 0 | E28: 0
B29: այդ թվում՝ | C29: 0 | D29: 0 | E29: 0
B30: - Ներքին տոկոսավճարներ | C30: 0 | D30: 0 | E30: 0
B31: - Արտաքին տոկոսավճարներ | C31: 0 | D31: 0 | E31: 0
B32: ՍՈՒԲՍԻԴԻԱՆԵՐ | C32: 0 | D32: 0 | E32: 0
B33: այդ թվում՝ | C33: 0 | D33: 0 | E33: 0
B34: Սուբսիդիաներ պետական կազմակերպություններին | C34: 0 | D34: 0 | E34: 0
B35: Սուբսիդիաներ ոչ պետական կազմակերպություններին | C35: 0 | D35: 0 | E35: 0
B36: ԴՐԱՄԱՇՆՈՐՀՆԵՐ | C36: =C44 -> 217500 | D36: =D44 -> 247500 | E36: =E44 -> 277500 | F36: =F44 -> 307500
B37: այդ թվում`
B38: Դրամաշնորհներ օտարերկրյա կառավարություններին | C38: 0 | D38: 0 | E38: 0
B39: -Ընթացիկ դրամաշնորհներ օտարերկրյա կառավարություններին | C39: 0 | D39: 0 | E39: 0
B40: -Կապիտալ դրամաշնորհներ օտարերկրյա կառավարություններին | C40: 0 | D40: 0 | E40: 0
B41: Դրամաշնորհներ միջազգային կազմակերպություններին | C41: 0 | D41: 0 | E41: 0
B42: -Ընթացիկ դրամաշնորհներ միջազգային կազմակերպություններին | C42: 0 | D42: 0 | E42: 0
B43: -Կապիտալ դրամաշնորհներ միջազգային կազմակերպություններին | C43: 0 | D43: 0 | E43: 0
B44: Ընթացիկ դրամաշնորհներ պետական հատվածի այլ մակարդակներին | C44: =+C46+C47 -> 217500 | D44: =+D46+D47 -> 247500 | E44: =+E46+E47 -> 277500 | F44: =+F46+F47 -> 307500
B45: որից`
B46: -Ընթացիկ դրամաշնորհներ պետական և համայնքային ոչ առևտրային կազմակերպություններին | C46: =+'N 6,1'!E79 -> 187500 | D46: =+'N 6,1'!F79 -> 187500 | E46: =+'N 6,1'!G79 -> 187500 | F46: =+'N 6,1'!H79 -> 187500
B47: -Այլ ընթացիկ դրամաշնորհներ | C47: ='N 6,1'!E81 -> 30000 | D47: ='N 6,1'!F81 -> 60000 | E47: ='N 6,1'!G81 -> 90000 | F47: ='N 6,1'!H81 -> 120000
B48: Կապիտալ դրամաշնորհներ պետական հատվածի այլ մակարդակներին | C48: 0 | D48: 0 | E48: 0
B49: -Կապիտալ դրամաշնորհներ պետական կառավարման հատվածին | C49: 0 | D49: 0 | E49: 0
B50: -Կապիտալ սուբվենցիաներ համայնքներին | C50: 0 | D50: 0 | E50: 0
B51: -Այլ կապիտալ դրամաշնորհներ համայնքներին | C51: 0 | D51: 0 | E51: 0
B52: Կապիտալ դրամաշնորհներ պետական կառավարման հատվածին | C52: 0 | D52: 0 | E52: 0
B53: -Կապիտալ դրամաշնորհներ պետական և համայնքային առևտրային կազմակերպություններին | C53: 0 | D53: 0 | E53: 0
B54: -Այլ կապիտալ դրամաշնորհներ | C54: 0 | D54: 0 | E54: 0
B55: ՍՈՑԻԱԼԱԿԱՆ ՆՊԱՍՏՆԵՐ ԵՎ ԿԵՆՍԱԹՈՇԱԿՆԵՐ | C55: =SUM(C58) -> 0 | D55: =SUM(D58) -> 0 | E55: =SUM(E58) -> 0 | F55: =SUM(F58) -> 0
B56: այդ թվում`
B57: Սոցիալական ապահովության նպաստներ | C57: 0 | D57: 0 | E57: 0
B58: Սոցիալական օգնության դրամական արտահայտությամբ նպաստներ (բյուջեից) | C58: =SUM(C67) -> 0 | D58: =SUM(D67) -> 0 | E58: =SUM(E67) -> 0 | F58: =SUM(F67) -> 0
B59: այդ թվում`
B60: - Հիվանդության և հաշմանդամության նպաստներ բյուջեից | C60: 0 | D60: 0 | E60: 0
B61: - Մայրության նպաստներ բյուջեից | C61: 0 | D61: 0 | E61: 0
B62: - Երեխաների կամ ընտանեկան նպաստներ բյուջեից | C62: 0 | D62: 0 | E62: 0
B63: - Գործազրկության նպաստներ բյուջեից | C63: 0 | D63: 0 | E63: 0
B64: - Կենսաթոշակի անցնելու հետ կապված և տարիքային նպաստներ բյուջեից | C64: 0 | D64: 0 | E64: 0
B65: - Հուղարկավորության նպաստներ բյուջեից | C65: 0 | D65: 0 | E65: 0
B66: - Կրթական, մշակութային և սպորտային նպաստներ բյուջեից | C66: 0 | D66: 0 | E66: 0
B67: Այլ նպաստներ բյուջեից | C67: ='N 6,1'!E85 -> 0 | D67: ='N 6,1'!F85 -> 0 | E67: ='N 6,1'!G85 -> 0 | F67: ='N 6,1'!H85 -> 0
B68: Կենսաթոշակներ | C68: 0 | D68: 0 | E68: 0
B69: այդ թվում՝ | C69: 0 | D69: 0 | E69: 0
B70: Կենսաթոշակներ | C70: 0 | D70: 0 | E70: 0
B71: ԱՅԼ ԾԱԽՍԵՐ | C71: =C73+C78+C77 -> 408600 | D71: =D73+D78+D77 -> 894853 | E71: =E73+E78+E77 -> 902578 | F71: =F73+F78+F77 -> 910403
B72: այդ թվում`
B73: Հարկեր, պարտադիր վճարներ և տույժեր, որոնք կառավարման տարբեր մակարդակների կողմից կիրառվում են միմյանց նկատմամբ | C73: ='N 6,1'!E88 -> 1600 | D73: ='N 6,1'!F88 -> 3100 | E73: ='N 6,1'!G88 -> 4425 | F73: ='N 6,1'!H88 -> 7650
B74: որից`
B75: Այլ հարկեր | F75: ='N 6,1'!H90 -> 2200
B76: Պարտադիր վճարներ | C76: ='N 6,1'!E91 -> 1350 | D76: ='N 6,1'!F91 -> 2000 | E76: ='N 6,1'!G91 -> 2775 | F76: ='N 6,1'!H91 -> 5450
B77: Կառավարման մարմինների գործունեության հետևանքով առաջացած վնասվածքների կամ վնասների վերականգնում | C77: =+'N 6,1'!E94 -> 407000 | D77: ='N 6,1'!F94 -> 890353 | E77: ='N 6,1'!G94 -> 895353 | F77: ='N 6,1'!H94 -> 897353
B78: ԱՅԼ ԾԱԽՍԵՐ | C78: =C80 -> 0 | D78: =D80 -> 1400 | E78: =E80 -> 2800 | F78: =F80 -> 5400
B79: որից`
B80: Այլ ծախսեր | C80: ='N 6,1'!E97 -> 0 | D80: ='N 6,1'!F97 -> 1400 | E80: ='N 6,1'!G97 -> 2800 | F80: ='N 6,1'!H97 -> 5400
B81: ՈՉ ՖԻՆԱՆՍԱԿԱՆ ԱԿՏԻՎՆԵՐԻ ՀԵՏ ԳՈՐԾԱՌՆՈՒԹՅՈՒՆՆԵՐ | C81: =SUM(C83) -> 0 | D81: =SUM(D83) -> 1304367.8 | E81: =SUM(E83) -> 1791349.9 | F81: =SUM(F83) -> 1982666.3
B82: այդ թվում`
B83: ՈՉ ՖԻՆԱՆՍԱԿԱՆ ԱԿՏԻՎՆԵՐԻ ԳԾՈՎ ԾԱԽՍԵՐ | C83: =SUM(C85) -> 0 | D83: =SUM(D85) -> 1304367.8 | E83: =SUM(E85) -> 1791349.9 | F83: =SUM(F85) -> 1982666.3
B84: այդ թվում`
B85: ՀԻՄՆԱԿԱՆ ՄԻՋՈՑՆԵՐ | C85: =C87+C92+C97 -> 0 | D85: =D87+D92+D97 -> 1304367.8 | E85: =E87+E92+E97 -> 1791349.9 | F85: =F87+F92+F97 -> 1982666.3
B86: այդ թվում`
B87: ՇԵՆՔԵՐ ԵՎ ՇԻՆՈՒԹՅՈՒՆՆԵՐ | C87: =C90+C91+C89 -> 0 | D87: =D90+D91+D89 -> 205089.5 | E87: =E90+E91+E89 -> 315036.3 | F87: =F90+F91+F89 -> 399570.8
B88: այդ թվում`
B89: Շենքերի և շինությունների ձեռքբերում | C89: =+'N 6,1'!E100 -> 0 | D89: =+'N 6,1'!F100 -> 0 | E89: =+'N 6,1'!G100 -> 0 | F89: =+'N 6,1'!H100 -> 0
B90: Շենքերի և շինությունների շինարարություն | C90: ='N 6,1'!E101 -> 0 | D90: ='N 6,1'!F101 -> 174508.5 | E90: ='N 6,1'!G101 -> 251920.1 | F90: ='N 6,1'!H101 -> 326006.6
B91: Շենքերի և շինությունների կապիտալ վերանորոգում | C91: =+'N 6,1'!E102 -> 0 | D91: =+'N 6,1'!F102 -> 30581 | E91: =+'N 6,1'!G102 -> 63116.2 | F91: =+'N 6,1'!H102 -> 73564.2
B92: ՄԵՔԵՆԱՆԵՐԻ ԵՎ ՍԱՐՔԱՎՈՐՈՒՄՆԵՐԻ ՁԵՌՔ ԲԵՐՈՒՄ, ՊԱՀՊԱՆՈՒՄ ԵՎ ՀԻՄՆԱՆՈՐՈԳՈՒՄ | C92: =C94+C95+C96 -> 0 | D92: =D94+D95+D96 -> 1091623.3 | E92: =E94+E95+E96 -> 1466878.6 | F92: =F94+F95+F96 -> 1573660.5
B93: այդ թվում`
B94: Տրանսպորտային սարքավորումներ | C94: ='N 6,1'!E103 -> 0 | D94: ='N 6,1'!F103 -> 722000 | E94: ='N 6,1'!G103 -> 821100 | F94: ='N 6,1'!H103 -> 822600
B95: Վարչական սարքավորումներ | C95: ='N 6,1'!E104 -> 0 | D95: ='N 6,1'!F104 -> 363308.9 | E95: ='N 6,1'!G104 -> 636884.4 | F95: ='N 6,1'!H104 -> 730645.9
B96: Այլ մեքենաներ և սարքավորումներ | C96: =+'N 6,1'!E105 -> 0 | D96: =+'N 6,1'!F105 -> 6314.4 | E96: =+'N 6,1'!G105 -> 8894.2 | F96: =+'N 6,1'!H105 -> 20414.6
B97: ԱՅԼ ՀԻՄՆԱԿԱՆ ՄԻՋՈՑՆԵՐ | C97: =C99 -> 0 | D97: =D99 -> 7655 | E97: =E99 -> 9435 | F97: =F99 -> 9435
B98: այդ թվում`
B99: -Նախագծահետազոտական ծախսեր | C99: =+'N 6,1'!E109 -> 0 | D99: =+'N 6,1'!F109 -> 7655 | E99: =+'N 6,1'!G109 -> 9435 | F99: =+'N 6,1'!H109 -> 9435

Sheet N 6,1
F1: Հավելված N 6 ՀՀ կառավարության 2018 թվականի --------------- ի N ----- -Ն որոշման
H2: Աղյուuակ N 1
A3: ՀԱՅԱՍՏԱՆԻ ՀԱՆՐԱՊԵՏՈՒԹՅԱՆ ԿԱՌԱՎԱՐՈՒԹՅԱՆՆ ԱՌԸՆԹԵՐ ՈՍՏԻԿԱՆՈՒԹՅԱՆ <<ՀԱՅԱՍՏԱՆԻ ՀԱՆՐԱՊԵՏՈՒԹՅԱՆ ԿԱՌԱՎԱՐՈՒԹՅԱՆՆ ԱՌԸՆԹԵՐ ՈՍՏԻԿԱՆՈՒԹՅԱՆ ՃԱՆԱՊԱՐՀԱՅԻՆ ՈՍՏԻԿԱՆՈՒԹՅԱՆ ԿՈՂՄԻՑ ԱՐՁԱՆԱԳՐՎԱԾ ԽԱԽՏՈՒՄՆԵՐԻ ՀԱՄԱՐ ՎԱՐՉԱԿԱՆ ՏՈՒԳԱՆՔՆԵՐԻ ԳԱՆՁՈՒՄՆԵՐԻ, ԳՐԱՆՑՄԱՆ-ՔՆՆԱԿԱՆ ԾԱՌԱՅՈՒԹՅՈՒՆՆԵՐԻ ԴԻՄԱՑ ՎՃԱՐՈՒՄՆԵՐ ԵՎ ԱՅԼ ՎՃԱՐՈՎԻ ԾԱՌԱՅՈՒԹՅՈՒՆՆԵՐ>> ԾՐԱԳՐԻ ԱՐՏԱԲՅՈՒՋԵՏԱՅԻՆ ՀԱՇՎԻ ՄԻՋՈՑՆԵՐԻ 2018 ԹՎԱԿԱՆԻ ԾԱԽՍՄԱՆ ՆԱԽԱՀԱՇՎԻ ՑՈՒՑԱՆԻՇՆԵՐԸ, ԻՆՉՊԵՍ ՆԱԵՎ <<ՀԱՅԱՍՏԱՆԻ ՀԱՆՐԱՊԵՏՈՒԹՅԱՆ 2018 ԹՎԱԿԱՆԻ ՊԵՏԱԿԱՆ ԲՅՈՒՋԵԻ ՄԱՍԻՆ>> ՀԱՅԱՍՏԱՆԻ ՀԱՆՐԱՊԵՏՈՒԹՅԱՆ ՕՐԵՆՔԻ N 1 ՀԱՎԵԼՎԱԾՈՒՄ ԵՎ ՀԱՅԱՍՏԱՆԻ ՀԱՆՐԱՊԵՏՈՒԹՅԱՆ ԿԱՌԱՎԱՐՈՒԹՅԱՆ 2017 ԹՎԱԿԱՆԻ ԴԵԿՏԵՄԲԵՐԻ 28-Ի N 1717-Ն ՈՐՈՇՄԱՆ N 5 ՀԱՎԵԼՎԱԾՈՒՄ ԿԱՏԱՐՎՈՂ ՓՈՓՈԽՈՒԹՅՈՒՆՆԵՐԸ ԵՎ ԼՐԱՑՈՒՄՆԵՐԸ
G5: հազար դրամներով
A6: Բաժնի N | B6: Խմբի N | C6: Դասի N | D6: Բյուջետային ծախսերի գործառական դասակարգման բաժինների, խմբերի և դասերի, ֆինանսավորող ծրագրերի, դրանք իրականացնող մարմինների և տնտեսագիտական դասակարգման հոդվածի անվանումները | E6: Ցուցանիշների փոփոխություն (ծախսերի ավելացումները նշված են դրական նշանով)
E7: Առաջին եռամսյակ | F7: Առաջին կիսամյակ | G7: Ինն ամիս | H7: Տարի
D8: ԸՆԴԱՄԵՆԸ ԾԱԽՍԵՐ | E8: =E10 -> 2590236.9 | F8: =F10 -> 6347220.5 | G8: =G10 -> 9003960.7 | H8: =H10 -> 13916379
D9: այդ թվում`
A10: 03 | D10: ՀԱՍԱՐԱԿԱԿԱՆ ԿԱՐԳ, ԱՆՎՏԱՆԳՈՒԹՅՈՒՆ ԵՎ ԴԱՏԱԿԱՆ ԳՈՐԾՈՒՆԵՈՒԹՅՈՒՆ | E10: =E13 -> 2590236.9 | F10: =F13 -> 6347220.5 | G10: =G13 -> 9003960.7 | H10: =H13 -> 13916379
D11: այդ թվում`
B13: 01 | D13: Հասարակական կարգ և անվտանգություն | E13: =E15 -> 2590236.9 | F13: =F15 -> 6347220.5 | G13: =G15 -> 9003960.7 | H13: =H15 -> 13916379
D14: այդ թվում`
C15: 01 | D15: Ոստիկանություն | E15: =E16 -> 2590236.9 | F15: =F16 -> 6347220.5 | G15: =G16 -> 9003960.7 | H15: =H16 -> 13916379
D16: 07. ՀՀ կառավարությանն առընթեր ոստիկանության Ճանապարհային ոստիկանության կողմից արձանագրված խախտումների համար վարչական տուգանքների գանձումների, գրանցման-քննական ծառայությունների դիմաց վճարումներ և այլ վճարովի ծառայություններ | E16: =E17 -> 2590236.9 | F16: =F17 -> 6347220.5 | G16: =G17 -> 9003960.7 | H16: =H17 -> 13916379
D17: ՀՀ կառավարությանն առընթեր ոստիկանություն | E17: =E19+E25+E34+E38+E51+E55+E65+E83+E86+E98+E48+E95+E92 -> 2590236.9 | F17: =F19+F25+F34+F38+F51+F55+F65+F83+F86+F98+F48+F95+F92 -> 6347220.5 | G17: =G19+G25+G34+G38+G51+G55+G65+G83+G86+G98+G48+G95+G92 -> 9003960.7 | H17: =H19+H25+H34+H38+H51+H55+H65+H83+H86+H98+H48+H95+H92 -> 13916379
D18: որից ըստ բյուջետային ծախսերի տնտեսագիտական դասակարգման հոդվածների`
D19: ԱՇԽԱՏԱՆՔԻ ՎԱՐՁԱՏՐՈՒԹՅՈՒՆ | E19: =SUM(E21+E23) -> 524381.7 | F19: =SUM(F21+F23) -> 1048763.4 | G19: =SUM(G21+G23) -> 1573145.1 | H19: =SUM(H21+H23) -> 2152100
D20: այդ թվում`
C21: 4111 | D21: - Աշխատողների աշխատավարձեր և հավելավճարներ | E21: 524381.7 | F21: =E21*2 -> 1048763.4 | G21: =E21*3 -> 1573145.1 | H21: =2137100+15000 -> 2152100
D22: Պարգևատրումներ, դրամական խրախուսումներ և հատուկ վճարներ
D23: Այլ վարձատրություններ
D24: - Այդ թվում եկամտային հարկ
D25: Շարունակական ծախսեր | E25: =SUM(E27:E33) -> 170816.9 | F25: =SUM(F27:F33) -> 311683.1 | G25: =SUM(G27:G33) -> 576140.1 | H25: =SUM(H26:H33) -> 761977.1
D26: այդ թվում`
C27: 4211 | D27: -գործառնական և բանկային ծառայությունների ծախսեր | H27: =IFERROR(VLOOKUP(C27,'N 8'!A:J,10,FALSE),0) -> 0
D28: -էներգետիկ ծառայություններ | H28: =IFERROR(VLOOKUP(C28,'N 8'!A:J,10,FALSE),0) -> 0
C29: 4213 | D29: -Կոմունալ ծառայություններ | H29: =IFERROR(VLOOKUP(C29,'N 8'!A:J,10,FALSE),0) -> 0
C30: 4214 | D30: -Կապի ծառայություններ | E30: ='N 8'!G14+761 -> 160436.9 | F30: ='N 8'!H14+661+125+100 -> 265448.4 | G30: ='N 8'!I14+661+125+100 -> 516553.4 | H30: ='N 8'!J14+661+125+100 -> 689190.4
C31: 4215 | D31: -Ապահովագրական ծախսեր | E31: =+'N 8'!G26 -> 6180 | F31: =+'N 8'!H26 -> 29834.7 | G31: =+'N 8'!I26 -> 29834.7 | H31: =+'N 8'!J26 -> 29834.7
C32: 4216 | D32: -Գույքի և սարքավորումների վարձակալություն | E32: =+'N 8'!G33 -> 1860 | F32: =+'N 8'!H33 -> 11720 | G32: =+'N 8'!I33 -> 22732 | H32: =+'N 8'!J33 -> 33592
C33: 4217 | D33: -Արտագերատեսչական ծախսեր | E33: 2340 | F33: 4680 | G33: 7020 | H33: 9360
D34: Գործուղումների և շրջագայությունների ծախսեր | E34: =SUM(E36:E37) -> 2500 | F34: =SUM(F36:F37) -> 4219 | G34: =SUM(G36:G37) -> 6328 | H34: =SUM(H36:H37) -> 8437
D35: այդ թվում`
C36: 4221 | D36: - Ներքին գործուղումներ | E36: 2500 | F36: 4219 | G36: 6328 | H36: 8437
C37: 4222 | D37: - Արտասահմանյան գործուղումների գծով ծախսեր | H37: =IFERROR(VLOOKUP(C37,'N 8'!A:J,10,FALSE),0) -> 0
D38: Պայմանագրային այլ ծառայությունների ձեռքբերում | E38: =SUM(E40:E47) -> 641742 | F38: =SUM(F40:F47) -> 1092211.8 | G38: =SUM(G40:G47) -> 1600971.7 | H38: =SUM(H40:H47) -> 4548977.8
D39: այդ թվում`
C40: 4231 | D40: -Վարչական ծառայություններ | E40: =+'N 8'!G40 -> 0 | F40: =+'N 8'!H40 -> 150 | G40: =+'N 8'!I40 -> 350 | H40: =+'N 8'!J40 -> 500
C41: 4232 | D41: -Համակարգչային ծառայություններ | E41: =+'N 8'!G42 -> 6934.5 | F41: =+'N 8'!H42 -> 17049 | G41: =+'N 8'!I42 -> 31153.5 | H41: =+'N 8'!J42 -> 39618
C42: 4233 | D42: -Աշխատակազմի մասնագիտական զարգացման ծառայություններ | E42: =+'N 8'!G50 -> 0 | F42: =+'N 8'!H50 -> 0 | G42: =+'N 8'!I50 -> 0 | H42: =+'N 8'!J50 -> 0
C43: 4234 | D43: -Տեղակատվական ծառայություններ | E43: =+'N 8'!G52 -> 0 | F43: =+'N 8'!H52 -> 3300 | G43: =+'N 8'!I52 -> 6600 | H43: =+'N 8'!J52 -> 10000
D44: -Կառավարչական ծառայություններ | F44: =IFERROR(ROUND(H44/2,0),0) -> 0 | G44: =IFERROR(ROUND(H44/4*3,0),0) -> 0
C45: 4236 | D45: - Կենցաղային և հանրային սննդի ծառայություններ | H45: =IFERROR(VLOOKUP(C45,'N 8'!A:J,10,FALSE),0) -> 0
C46: 4237 | D46: -Ներկայացուցչական ծախսեր | E46: =+'N 8'!G54 -> 0 | F46: =+'N 8'!H54 -> 6000 | G46: =+'N 8'!I54 -> 9500 | H46: =+'N 8'!J54 -> 13000
C47: 4239 | D47: -Ընդհանուր բնույթի այլ ծառայություններ | E47: =+'N 8'!G57 -> 634807.5 | F47: =+'N 8'!H57 -> 1065712.8 | G47: =+'N 8'!I57 -> 1553368.2 | H47: =+'N 8'!J57 -> 4485859.8
D48: Այլ մասնագիտական ծառայությունների ձեռք բերում | E48: =SUM(E50) -> 24587 | F48: =SUM(F50) -> 26625 | G48: =SUM(G50) -> 30732 | H48: =SUM(H50) -> 121173
D49: այդ թվում`
C50: 4241 | D50: -Մասնագիտական ծառայություններ | E50: =+'N 8'!G67 -> 24587 | F50: =+'N 8'!H67+18 -> 26625 | G50: =+'N 8'!I67+18 -> 30732 | H50: =+'N 8'!J67+18 -> 121173
D51: Ընթացիկ նորոգում և պահպանում (ծառայություններ և նյութեր) | E51: =SUM(E53:E54) -> 94425 | F51: =SUM(F53:F54) -> 235307.4 | G51: =SUM(G53:G54) -> 398020.4 | H51: =SUM(H53:H54) -> 552614.3
D52: այդ թվում`
C53: 4251 | D53: - Շենքերի և կառույցների ընթացիկ նորոգում և պահպանում | E53: =+'N 8'!G79 -> 5000 | F53: ='N 8'!H79+5182.4 -> 15182.4 | G53: ='N 8'!I79+5182.4 -> 20182.4 | H53: ='N 8'!J79+5182.4 -> 25182.4
C54: 4252 | D54: - Մեքենաների և սարքավորումների ընթացիկ նորոգում և պահպանում | E54: =+'N 8'!G81 -> 89425 | F54: ='N 8'!H81+2000 -> 220125 | G54: ='N 8'!I81+4000 -> 377838 | H54: ='N 8'!J81+6000 -> 527431.9
D55: Նյութեր | E55: =SUM(E57:E64) -> 505684.3 | F55: =SUM(F57:F64) -> 1181690 | G55: =SUM(G57:G64) -> 1847195.5 | H55: =SUM(H57:H64) -> 2570530.2
D56: այդ թվում`
C57: 4261 | D57: -Գրասենյակային նյութեր և հագուստ | E57: =+'N 8'!G110 -> 219049.5 | F57: =+'N 8'!H110 -> 573336.6 | G57: =+'N 8'!I110 -> 945940.9 | H57: =+'N 8'!J110 -> 1177526.7
C58: 4262 | D58: -Գյուղատնտեսական ապրանքներ | F58: =IFERROR(VLOOKUP($C58,'N 8'!$A:$J,8,FALSE),0) -> 0 | G58: =IFERROR(VLOOKUP($C58,'N 8'!$A:$J,9,FALSE),0) -> 0 | H58: =IFERROR(VLOOKUP(C58,'N 8'!A:J,10,FALSE),0) -> 0
C59: 4263 | D59: - Վերապատրաստման և ուսուցման նյութեր (աշխատողների զարգացման) | F59: =IFERROR(VLOOKUP($C59,'N 8'!$A:$J,8,FALSE),0) -> 0 | G59: =IFERROR(VLOOKUP($C59,'N 8'!$A:$J,9,FALSE),0) -> 0 | H59: =IFERROR(VLOOKUP(C59,'N 8'!A:J,10,FALSE),0) -> 0
C60: 4264 | D60: -Տրանսպորտային նյութեր | E60: =+'N 8'!G223 -> 195705.2 | F60: =+'N 8'!H223 -> 420668.2 | G60: =+'N 8'!I223 -> 686003.7 | H60: =+'N 8'!J223 -> 954674.2
C61: 4265 | D61: -Շրջակա միջավայրի պաշտպանության և գիտական նյութեր | F61: =IFERROR(VLOOKUP($C61,'N 8'!$A:$J,8,FALSE),0) -> 0 | G61: =IFERROR(VLOOKUP($C61,'N 8'!$A:$J,9,FALSE),0) -> 0 | H61: =IFERROR(VLOOKUP(C61,'N 8'!A:J,10,FALSE),0) -> 0
C62: 4266 | D62: -Առողջապահական և լաբորատոր նյութեր | E62: =+'N 8'!G278 -> 0 | F62: =+'N 8'!H278 -> 8099 | G62: =+'N 8'!I278 -> 16198 | H62: =+'N 8'!J278 -> 25198
C63: 4267 | D63: -Կենցաղային և հանրային սննդի նյութեր | E63: =+'N 8'!G281 -> 0 | F63: =+'N 8'!H281 -> 3706.3 | G63: =+'N 8'!I281 -> 8709.8 | H63: =+'N 8'!J281 -> 13541.5
C64: 4269 | D64: -Հատուկ նպատակային այլ նյութեր | E64: =+'N 8'!G332 -> 90929.6 | F64: ='N 8'!H332+9994 -> 175879.9 | G64: ='N 8'!I332+9994 -> 190343.1 | H64: ='N 8'!J332+9994 -> 399589.8
D65: ԴՐԱՄԱՇՆՈՐՀՆԵՐ | E65: =+E67+E73 -> 217500 | F65: =+F67+F73 -> 247500 | G65: =+G67+G73 -> 277500 | H65: =+H67+H73 -> 307500
D66: այդ թվում`
D67: Դրամաշնորհներ օտարերկրյա կառավարություններին | E67: =SUM(E68:E72) -> 0 | F67: =SUM(F68:F72) -> 0 | G67: =SUM(G68:G72) -> 0 | H67: =SUM(H68:H69) -> 0
C68: 4611 | D68: -Ընթացիկ դրամաշնորհներ օտարերկրյա կառավարություններին | H68: =IFERROR(VLOOKUP(C68,'N 8'!A:J,10,FALSE),0) -> 0
C69: 4612 | D69: -Կապիտալ դրամաշնորհներ օտարերկրյա կառավարություններին | H69: =IFERROR(VLOOKUP(C69,'N 8'!A:J,10,FALSE),0) -> 0
D70: Դրամաշնորհներ միջազգային կազմակերպություններին | H70: =SUM(H71:H72) -> 0
C71: 4621 | D71: -Ընթացիկ դրամաշնորհներ միջազգային կազմակերպություններին | H71: =IFERROR(VLOOKUP(C71,'N 8'!A:J,10,FALSE),0) -> 0
C72: 4622 | D72: -Կապիտալ դրամաշնորհներ միջազգային կազմակերպություններին | H72: =IFERROR(VLOOKUP(C72,'N 8'!A:J,10,FALSE),0) -> 0
D73: Ընթացիկ դրամաշնորհներ պետական հատվածի այլ մակարդակներին | E73: =SUM(E74:E81) -> 217500 | F73: =SUM(F74:F81) -> 247500 | G73: =SUM(G74:G81) -> 277500 | H73: =SUM(H74:H81) -> 307500
C74: 4631 | D74: -Ընթացիկ դրամաշնորհներ պետական կառավարման հատվածին | H74: =IFERROR(VLOOKUP(C74,'N 8'!A:J,10,FALSE),0) -> 0
C75: 4632 | D75: -Ընթացիկ սուբվենցիաներ համայնքներին | H75: =IFERROR(VLOOKUP(C75,'N 8'!A:J,10,FALSE),0) -> 0
C76: 4633 | D76: -Պետական բյուջեից համայնքների բյուջեներին ֆինանսական համահարթեցման սկզբունքով տրվող դոտացիաներ | H76: =IFERROR(VLOOKUP(C76,'N 8'!A:J,10,FALSE),0) -> 0
C77: 4634 | D77: -Օրենքների կիրարկման արդյունքում համայնքների բյուջեների կորուստների փոխհատուցում | H77: =IFERROR(VLOOKUP(C77,'N 8'!A:J,10,FALSE),0) -> 0
C78: 4635 | D78: -Այլ ընթացիկ դրամաշնորհներ համայնքներին | H78: =IFERROR(VLOOKUP(C78,'N 8'!A:J,10,FALSE),0) -> 0
D79: -Ընթացիկ դրամաշնորհներ պետական և համայնքային ոչ առևտրային կազմակերպություններին | E79: =+$H$79 -> 187500 | F79: =+$H$79 -> 187500 | G79: =+$H$79 -> 187500 | H79: =+'N 6.4'!F12 -> 187500
C80: 4638 | D80: -Ընթացիկ դրամաշնորհներ պետական և համայնքային առևտրային կազմակերպություններին | H80: =IFERROR(VLOOKUP(C80,'N 8'!A:J,10,FALSE),0) -> 0
D81: -Այլ ընթացիկ դրամաշնորհներ | E81: 30000 | F81: =IFERROR(ROUND(H81/2,0),0) -> 60000 | G81: =IFERROR(ROUND(H81/4*3,0),0) -> 90000 | H81: =+'N 6.4'!F13 -> 120000
D82: ՍՈՑԻԱԼԱԿԱՆ ՆՊԱՍՏՆԵՐ ԵՎ ԿԵՆՍԱԹՈՇԱԿՆԵՐ | E82: =E83 -> 0 | F82: =F83 -> 0 | G82: =G83 -> 0
D83: Սոցիալական օգնության դրամական արտահայտությամբ նպաստներ (բյուջեից) | E83: =SUM(E85) -> 0 | F83: =SUM(F85) -> 0 | G83: =SUM(G85) -> 0 | H83: =SUM(H85) -> 0
D84: այդ թվում`
C85: 4729 | D85: -Այլ նպաստներ բյուջեից | H85: =IFERROR(VLOOKUP(C85,'N 8'!A:J,10,FALSE),0) -> 0
D86: ԱՅԼ ԾԱԽՍԵՐ | E86: =SUM(E88) -> 1600 | F86: =SUM(F88) -> 3100 | G86: =SUM(G88) -> 4425 | H86: =SUM(H88) -> 7650
D87: այդ թվում`
D88: Հարկեր, պարտադիր վճարներ և տույժեր, որոնք կառավարման տարբեր մակարդակների կողմից կիրառվում են միմյանց նկատմամբ | E88: =SUM(E90:E91) -> 1600 | F88: =SUM(F90:F91) -> 3100 | G88: =SUM(G90:G91) -> 4425 | H88: =SUM(H90:H91) -> 7650
D89: որից`
D90: - Այլ հարկեր | E90: 250 | F90: =IFERROR(ROUND(H90/2,0),0) -> 1100 | G90: =IFERROR(ROUND(H90/4*3,0),0) -> 1650 | H90: =1200+1000 -> 2200
D91: - Պարտադիր վճարներ | E91: 1350 | F91: 2000 | G91: =2400+375 -> 2775 | H91: =3200+2250 -> 5450
D92: Կառավարման մարմինների գործունեության հետևանքով առաջացած վնասվածքների կամ վնասների վերականգնում | E92: =SUM(E94) -> 407000 | F92: =SUM(F94) -> 890353 | G92: =SUM(G94) -> 895353 | H92: =SUM(H94) -> 897353
D93: որից`
D94: - Կառավարման մարմինների գործունեության հետևանքով առաջացած վնասների կամ վնասվածքների վերականգնում | E94: 407000 | F94: =E94*2+76353 -> 890353 | G94: 895353 | H94: =15000+882353 -> 897353
D95: Այլ ծախսեր | E95: =SUM(E97) -> 0 | F95: =SUM(F97) -> 1400 | G95: =SUM(G97) -> 2800 | H95: =SUM(H97) -> 5400
D96: որից`
C97: 4861 | D97: - Այլ ծախսեր | E97: =+'N 8'!G380 -> 0 | F97: =+'N 8'!H380 -> 1400 | G97: =+'N 8'!I380 -> 2800 | H97: =+'N 8'!J380 -> 5400
D98: ՀԻՄՆԱԿԱՆ ՄԻՋՈՑՆԵՐ | E98: =SUM(E99:E109) -> 0 | F98: =SUM(F99:F109) -> 1304367.8 | G98: =SUM(G99:G109) -> 1791349.9 | H98: =SUM(H99:H109) -> 1982666.3
D99: այդ թվում`
C100: 5111 | D100: -Շենքերի և շինությունների ձեռք բերում | F100: =IFERROR(VLOOKUP($C100,'N 8'!$A:$J,8,FALSE),0) -> 0 | G100: =IFERROR(VLOOKUP($C100,'N 8'!$A:$J,9,FALSE),0) -> 0 | H100: =IFERROR(VLOOKUP(C100,'N 8'!A:J,10,FALSE),0) -> 0
C101: 5112 | D101: -Շենքերի և շինությունների շինարարություն | E101: =+'N 8'!G384 -> 0 | F101: ='N 8'!H384+24724.639+278.928+8.872+221.072 -> 174508.5 | G101: ='N 8'!I384+24724.639+278.928+8.872+221.072 -> 251920.1 | H101: ='N 8'!J384+24724.639+278.928+8.872+221.072 -> 326006.6
C102: 5113 | D102: -Շենքերի և շինությունների կապիտալ վերանորոգում | E102: =+'N 8'!G396 -> 0 | F102: =+'N 8'!H396 -> 30581 | G102: =+'N 8'!I396 -> 63116.2 | H102: =+'N 8'!J396 -> 73564.2
...

Sheet N 6.2
J1: Հավելված N 6
J2: ՀՀ կառավարության
J3: 2018 թվականի _________-ի
J4: N ___ -Ն որոշման
J5: Աղյուսակ N 2
A6: <<ՀԱՅԱՍՏԱՆԻ ՀԱՆՐԱՊԵՏՈՒԹՅԱՆ 2018 ԹՎԱԿԱՆԻ ՊԵՏԱԿԱՆ ԲՅՈՒՋԵԻ ՄԱՍԻՆ>> ՀԱՅԱՍՏԱՆԻ ՀԱՆՐԱՊԵՏՈՒԹՅԱՆ ՕՐԵՆՔԻ N 1 ՀԱՎԵԼՎԱԾԻ N 13 ԱՂՅՈՒՍԱԿՈՒՄ ԿԱՏԱՐՎՈՂ ՓՈՓՈԽՈՒԹՅՈՒՆՆԵՐԸ ԵՎ ԼՐԱՑՈՒՄՆԵՐԸ
I7: հազար դրամներով
A8: Բյուջետային ծախսերի գործառնական դասակարգման | D8: Ծրագրի N | E8: ԾՐԱԳՐԵՐԻ ԵՎ ԿԱՏԱՐՈՂՆԵՐԻ ԱՆՎԱՆՈՒՄՆԵՐԸ | F8: Ցուցանիշների փոփոխությունը (ծախսերի ավելացումը բերված է դրական նշանով)
F9: Ընդամենը ոչ ֆինանսական ակտիվների գծով ծախսեր | G9: այդ թվում՝
G10: Շենքերի և շինությունների շինարարություն | H10: Շենքերի և շինությունների կապիտալ վերանորոգում | I10: Նախագծահետազոտական, գեոդեզիա-քարտեզագրական աշխատանքներ | J10: Ոչ ֆինանսական ակտիվների գծով այլ ծախսեր
A11: բաժինը | B11: խումբը | C11: դասը
E12: ԸՆԴԱՄԵՆԸ
E13: այդ թվում՝
E14: ՀՀ ԿԱՌԱՎԱՐՈՒԹՅԱՆՆ ԱՌԸՆԹԵՐ ՈՍՏԻԿԱՆՈՒԹՅՈՒՆ | F14: =+G14+H14+I14+J14 -> 1982666.3 | G14: =+G16 -> 326006.6 | H14: =+H16 -> 73564.2 | I14: =I16 -> 9435 | J14: =+J16 -> 1573660.5
E15: այդ թվում՝
A16: 03 | B16: 01 | C16: 01 | D16: 07 | E16: ՀՀ կառավարությանն առընթեր ոստիկանության Ճանապարհային ոստիկանության կողմից արձանագրված խախտումների համար վարչական տուգանքների գանձումների, գրանցման-քննական ծառայությունների դիմաց վճարումներ և այլ վճարովի ծառայություններ | F16: =+G16+H16+I16+J16 -> 1982666.3 | G16: =+'N 6,1'!H101 -> 326006.6 | H16: =+'N 6,1'!H102 -> 73564.2 | I16: =+'N 6,1'!H109 -> 9435 | J16: =+'N 6,1'!H103+'N 6,1'!H104+'N 6,1'!H105 -> 1573660.5
E17: որից՝
E18: ՀՀ ոստիկանության ՃՈ Իջևանի ՀՔԲ նոր վարչական շենքի կառուցում, հեղինակային և տեխնիկական հսկողություն | F18: =+G18+H18+I18+J18 -> 196816.1 | G18: =+'N 8'!J385+'N 8'!J390+'N 8'!J392 -> 196816.1
E19: ՀՀ ոստիկանության Շիրակի մարզային վարչության Կումայրիի բաժնի նոր վարչական շենքի կառուցում, տեխնիկական հսկողություն | F19: =+G19+H19+I19+J19 -> 87399.989 | G19: ='N 8'!J386+'N 8'!J388+'N 8'!J393 -> 87399.989
E20: Գյումրիի տեխնիկական հսկողություն | F20: =+G20+H20+I20+J20 -> 0 | G20: ='N 8'!J389 -> 0
E21: Գյումրիի հեղինակային հսկողություն | F21: =+G21+H21+I21+J21 -> 0 | G21: =+'N 8'!J395 -> 0
E22: ՀՀ ոստիկանության Երևան քաղաքի վարչության Էրեբունի ՈԲ հենակետի կառուցում, տեխնիական և հեղինակային հսկողություն, նախագծանախահաշվային փաստաթղթերի կազմում | F22: =+G22+H22+I22+J22 -> 17347 | G22: =+'N 8'!J387+'N 8'!J391+'N 8'!J394 -> 16557 | I22: =+'N 8'!J596 -> 790
E23: ՃՈ խորհրդակցությունների դահլիճի կապիտալ վերանորոգման աշխատանքներ, տեխնիկական և հեղինակային հսկողություն | F23: =+G23+H23+I23+J23 -> 30540 | H23: =+'N 8'!J397+'N 8'!J400+'N 8'!J403 -> 30540
E24: ՀՀ ոստիկանության ԿՀԴՊԳՎ նկուղային հարկի սպորտ դահլիճի վերանորոգում, տեխնիկական և հեղինակային հսկողություն, նախագծանախահաշվային փաստաթղթերի կազմում | F24: =+G24+H24+I24+J24 -> 15310 | H24: =+'N 8'!J398+'N 8'!J401+'N 8'!J407 -> 15235 | I24: =+'N 8'!J597 -> 75
E25: ՀՀ ոստիկանության ԿՀԴՊԳՎ խորհրդակցության դահլիճի վերանորոգման նախագծանախահաշվային փաստաթղթերի կազմում | F25: =+G25+H25+I25+J25 -> 27594.2 | H25: =+'N 8'!J399+'N 8'!J402+'N 8'!J408 -> 27354.2 | I25: =+'N 8'!J598 -> 240
E26: ՀՀ ոստիկանության ՊՊԾ գնդի զորանոց մասնաշենքի տանիքի կապիտալ վերանորոգման աշխատանքների հեղինակային հսկողություն | F26: =+G26+H26+I26+J26 -> 277 | H26: =+'N 8'!J404 -> 277
E27: ՀՀ ոստիկանության կապի և տեղեկատվական տեխնոլոգիաների վարչության 2-րդ բաժնի ռադիոկենտրոնի բաժանմունքի շենք-շինությունների վերանորոգման ջեռուցման և արտաքին գազամատակարարման հեղինակային հսկողություն | F27: =+G27+H27+I27+J27 -> 81 | H27: =+'N 8'!J405 -> 81
E28: ՀՀ ոստիկանության Արագածոտնի ՄՎ Ապարանի բաժնի հերթապահ մասի և ՁՊՎ-ի կապիտալ վերանորոգման աշխատանքների հեղինակային հսկողություն | F28: =+G28+H28+I28+J28 -> 77 | H28: =+'N 8'!J406 -> 77
E29: Էրեբունի-Աթոյան փողոցների խաչմերուկում նոր լուսացույցային օբյեկտի կառուցման աշխատանքների նախագծանախահաշվային փաստաթղթերի կազմում | F29: =+G29+H29+I29+J29 -> 230 | I29: ='N 8'!J590 -> 230
E30: Բաբաջանյան-Աշխաբադ փողոցների խաչմերուկում նոր լուսացույցային օբյեկտի կառուցման աշխատանքների նախագծանախահաշվային փաստաթղթերի կազմում | F30: =+G30+H30+I30+J30 -> 230 | I30: ='N 8'!J591 -> 230
E31: Բագրևանդ-Թևանյան, փողոցների խաչմերուկում նոր լուսացույցային օբյեկտի կառուցման աշխատանքների նախագծանախահաշվային փաստաթղթերի կազմում | F31: =+G31+H31+I31+J31 -> 230 | I31: ='N 8'!J592 -> 230
E32: Քանաքեռցի-Սարկավագի փողոցների խաչմերուկում նոր լուսացույցային օբյեկտի կառուցման աշխատանքների նախագծանախահաշվային փաստաթղթերի կազմում | F32: =+G32+H32+I32+J32 -> 230 | I32: ='N 8'!J593 -> 230
E33: Ա.Խաչատրյան-Հ.Հակոբյան փողոցների խաչմերուկում նոր լուսացույցային օբյեկտի կառուցման աշխատանքների նախագծանախահաշվային փաստաթղթերի կազմում | F33: =+G33+H33+I33+J33 -> 230 | I33: ='N 8'!J594 -> 230
E34: ՀՀ ոստիկանության Շիրակի ՄՎ Կումայրիի ՈԲ մուտքի կառուցման նախագծանախահաշվային փաստաթղթերի կազմում | F34: =+G34+H34+I34+J34 -> 1600 | I34: =+'N 8'!J595 -> 1600
E35: ՀՀ ոստիկանության ԱՎՎ Էջմիածնի բաժանմունքի կապիտալ վերանորոգման նախագծանախահաշվային փաստաթղթերի կազմում | F35: =+G35+H35+I35+J35 -> 650 | I35: =+'N 8'!J599 -> 650
E36: ՀՀ ոստիկանության ԱՎՎ Կապանի բաժանմունքի կապիտալ վերանորոգման նախագծանախահաշվային փաստաթղթերի կազմում | F36: =+G36+H36+I36+J36 -> 650 | I36: =+'N 8'!J600 -> 650
E37: ՀՀ ոստիկանության Սյունիքի ՄՎ Կապանի ՈԲ ՁՊՎ-ի կապիտալ վերանորոգման նախագծանախահաշվային փաստաթղթերի կազմում | F37: =+G37+H37+I37+J37 -> 650 | I37: =+'N 8'!J601 -> 650
E38: ՀՀ ոստիկանության Կոտայքի ՄՎ Կոտայքի ՈԲ ՁՊՎ-ի կապիտալ վերանորոգման նախագծանախահաշվային փաստաթղթերի կազմում | F38: =+G38+H38+I38+J38 -> 650 | I38: =+'N 8'!J602 -> 650
E39: ՀՀ ոստիկանության ԱՎՎ Շենգավիթի բաժանմունքի վերանորոգման նախագծանախահաշվային փաստաթղթերի կազմում | F39: =+G39+H39+I39+J39 -> 600 | I39: =+'N 8'!J603 -> 600
E40: ՀՀ ոստիկանության կապի և տեղեկատվական տեխնոլոգիաների վարչության 2-րդ բաժնի ռադիոկենտրոնի բաժանմունքի շենք-շինությունների վերանորոգման նախագծանախահաշվային փաստաթղթերի կազմում | F40: =+G40+H40+I40+J40 -> 1600 | I40: =+'N 8'!J604 -> 1600
E41: ՀՀ ոստիկանության ԲՎ Հոսպիտալի Բ մասնաշենքի վիրահատության բաժնի միջանցքի, աշխպատասենյակների և հիվանդասենյակների վերանորոգման նախագծանախահաշվային փաստաթղթերի կազմում | F41: =+G41+H41+I41+J41 -> 600 | I41: =+'N 8'!J605 -> 600
E42: ՀՀ ոստիկանության վարչական շենքի կապիտալ վերանորոգման նախագծանախահաշվային փաստաթղթերի կազմում | F42: =+G42+H42+I42+J42 -> 180 | I42: =+'N 8'!J606 -> 180

Sheet N 6.3
A1: Հավելված N 6
I2: ՀՀ կառավարության
I3: 2018 թվականի _________-ի
I4: N ___ -Ն որոշման
I5: Աղյուսակ N 3
A6: ՀՀ ԿԱՌԱՎԱՐՈՒԹՅԱՆ 2017 ԹՎԱԿԱՆԻ ԴԵԿՏԵՄԲԵՐԻ 28-Ի N 1717-Ն ՈՐՈՇՄԱՆ N 5 ՀԱՎԵԼՎԱԾԻ N 12 ԱՂՅՈՒՍԱԿՈՒՄ ԿԱՏԱՐՎՈՂ ՓՈՓՈԽՈՒԹՅՈՒՆՆԵՐԸ ԵՎ ԼՐԱՑՈՒՄՆԵՐԸ
H7: հազար դրամներով
A8: Բյուջետային ծախսերի գործառնական դասակարգման | D8: Ծրագրի N | E8: ԾՐԱԳՐԵՐԻ ԵՎ ԿԱՏԱՐՈՂՆԵՐԻ ԱՆՎԱՆՈՒՄՆԵՐԸ | F8: Ցուցանիշների փոփոխությունը (ավելացումները բերված են դրական նշանով)
A9: բաժին | B9: խումբ | C9: դաս
F10: Առաջին եռամսյակ | G10: Առաջին կիսամյակ | H10: Ինն ամիս | I10: Տարի
E11: ԸՆԴԱՄԵՆԸ | F11: =+F13 -> 0 | G11: =+G13 -> 1304367.8 | H11: =+H13 -> 1791349.9 | I11: =+I13 -> 1982666.3
E12: այդ թվում՝
E13: ՀՀ ԿԱՌԱՎԱՐՈՒԹՅԱՆՆ ԱՌԸՆԹԵՐ ՈՍՏԻԿԱՆՈՒԹՅՈՒՆ | F13: =+F15 -> 0 | G13: =+G15 -> 1304367.8 | H13: =+H15 -> 1791349.9 | I13: =+I15 -> 1982666.3
E14: այդ թվում՝
A15: 03 | B15: 01 | C15: 01 | D15: 07 | E15: ='N 6.2'!E16 -> ՀՀ կառավարությանն առընթեր ոստիկանության Ճանապարհային ոստիկանության կողմից արձանագրված խախտումների համար վարչական տուգանքների գանձումների, գրանցման-քննական ծառայությունների դիմաց վճարումներ և այլ վճարովի ծառայություններ | F15: =+'N 5'!C83 -> 0 | G15: =+'N 5'!D83 -> 1304367.8 | H15: =+'N 5'!E83 -> 1791349.9 | I15: =+'N 5'!F83 -> 1982666.3
E16: որից՝
E17: ՀՀ ոստիկանության անձնագրային և վիզաների վարչության Մասիսի անձնագրային բաժանմունքի նոր վարչական շենքի կառուցում | F17: =#REF! -> #REF! | G17: =#REF! -> #REF! | H17: =#REF! -> #REF! | I17: =#REF! -> #REF!
E18: ՀՀ ոստիկանության անձնագրային և վիզաների վարչության Չարբախի անձնագրային խմբի վարչական շենքի կապիտալ վերանորոգում
E19: ՀՀ կառավարությանն առընթեր ՀՀ ոստիկանության անձնագրային և վիզաների վարչության Մասիսի անձն. բաժանմունքի վարչական շենքի կապիտալ վերանորոգման հետ կապված նախագծահետազոտական ծախսեր | F19: =#REF! -> #REF! | G19: =#REF! -> #REF! | H19: =#REF! -> #REF! | I19: =#REF! -> #REF!
E20: ՀՀ ոստիկանության ՓՔ վարչության վարչական մասնաշենքի կապիտալ վերանորոգում
E21: որից`
E22: =+'N 6.2'!E18 -> ՀՀ ոստիկանության ՃՈ Իջևանի ՀՔԲ նոր վարչական շենքի կառուցում, հեղինակային և տեխնիկական հսկողություն | F22: =+'N 8'!G385+'N 8'!G390+'N 8'!G392 -> 0 | G22: =+'N 8'!H385+'N 8'!H390+'N 8'!H392 -> 61875 | H22: =+'N 8'!I385+'N 8'!I390+'N 8'!I392 -> 122729.6 | I22: =+'N 8'!J385+'N 8'!J390+'N 8'!J392 -> 196816.1 | J22: =IF('N 6.2'!K18=0,"",'N 6.2'!K18)
E23: =+'N 6.2'!E19 -> ՀՀ ոստիկանության Շիրակի մարզային վարչության Կումայրիի բաժնի նոր վարչական շենքի կառուցում, տեխնիկական հսկողություն | F23: =+'N 8'!G386+'N 8'!G388+'N 8'!G393 -> 0 | G23: =+'N 8'!H386+'N 8'!H388+'N 8'!H393 -> 87399.989 | H23: =+'N 8'!I386+'N 8'!I388+'N 8'!I393 -> 87399.989 | I23: =+'N 8'!J386+'N 8'!J388+'N 8'!J393 -> 87399.989
E24: =+'N 6.2'!E20 -> Գյումրիի տեխնիկական հսկողություն | G24: ='N 8'!H389 -> 0 | H24: ='N 8'!I389 -> 0 | I24: ='N 8'!J389 -> 0
E25: =+'N 6.2'!E21 -> Գյումրիի հեղինակային հսկողություն | G25: =+'N 8'!H397+'N 8'!H398+'N 8'!H400 -> 18090 | H25: =+'N 8'!I397+'N 8'!I398+'N 8'!I400 -> 34842 | I25: =+'N 8'!J397+'N 8'!J398+'N 8'!J400 -> 45232
E26: =+'N 6.2'!E22 -> ՀՀ ոստիկանության Երևան քաղաքի վարչության Էրեբունի ՈԲ հենակետի կառուցում, տեխնիական և հեղինակային հսկողություն, նախագծանախահաշվային փաստաթղթերի կազմում | F26: =+'N 8'!G387+'N 8'!G391+'N 8'!G394+'N 8'!G596 -> 0 | G26: =+'N 8'!H387+'N 8'!H391+'N 8'!H394+'N 8'!H596 -> 790 | H26: =+'N 8'!I387+'N 8'!I391+'N 8'!I394+'N 8'!I596 -> 17347 | I26: =+'N 8'!J387+'N 8'!J391+'N 8'!J394+'N 8'!J596 -> 17347
E27: =+'N 6.2'!E23 -> ՃՈ խորհրդակցությունների դահլիճի կապիտալ վերանորոգման աշխատանքներ, տեխնիկական և հեղինակային հսկողություն | F27: =+'N 8'!G397+'N 8'!G400+'N 8'!G403 -> 0 | G27: =+'N 8'!H397+'N 8'!H400+'N 8'!H403 -> 10146 | H27: =+'N 8'!I397+'N 8'!I400+'N 8'!I403 -> 20092 | I27: =+'N 8'!J397+'N 8'!J400+'N 8'!J403 -> 30540
E28: =+'N 6.2'!E24 -> ՀՀ ոստիկանության ԿՀԴՊԳՎ նկուղային հարկի սպորտ դահլիճի վերանորոգում, տեխնիկական և հեղինակային հսկողություն, նախագծանախահաշվային փաստաթղթերի կազմում | F28: =+'N 8'!G398+'N 8'!G401+'N 8'!G407+'N 8'!G597 -> 0 | G28: =+'N 8'!H398+'N 8'!H401+'N 8'!H407+'N 8'!H597 -> 8075 | H28: =+'N 8'!I398+'N 8'!I401+'N 8'!I407+'N 8'!I597 -> 15310 | I28: =+'N 8'!J398+'N 8'!J401+'N 8'!J407+'N 8'!J597 -> 15310
E29: =+'N 6.2'!E25 -> ՀՀ ոստիկանության ԿՀԴՊԳՎ խորհրդակցության դահլիճի վերանորոգման նախագծանախահաշվային փաստաթղթերի կազմում | F29: =+'N 8'!G399+'N 8'!G402+'N 8'!G408+'N 8'!G598 -> 0 | G29: =+'N 8'!H399+'N 8'!H402+'N 8'!H408+'N 8'!H598 -> 12240 | H29: =+'N 8'!I399+'N 8'!I402+'N 8'!I408+'N 8'!I598 -> 27594.2 | I29: =+'N 8'!J399+'N 8'!J402+'N 8'!J408+'N 8'!J598 -> 27594.2
E30: =+'N 6.2'!E26 -> ՀՀ ոստիկանության ՊՊԾ գնդի զորանոց մասնաշենքի տանիքի կապիտալ վերանորոգման աշխատանքների հեղինակային հսկողություն | F30: =+'N 8'!G404 -> 0 | G30: =+'N 8'!H404 -> 277 | H30: =+'N 8'!I404 -> 277 | I30: =+'N 8'!J404 -> 277
E31: =+'N 6.2'!E27 -> ՀՀ ոստիկանության կապի և տեղեկատվական տեխնոլոգիաների վարչության 2-րդ բաժնի ռադիոկենտրոնի բաժանմունքի շենք-շինությունների վերանորոգման ջեռուցման և արտաքին գազամատակարարման հեղինակային հսկողություն | F31: =+'N 8'!G405 -> 0 | G31: =+'N 8'!H405 -> 81 | H31: =+'N 8'!I405 -> 81 | I31: =+'N 8'!J405 -> 81
E32: =+'N 6.2'!E28 -> ՀՀ ոստիկանության Արագածոտնի ՄՎ Ապարանի բաժնի հերթապահ մասի և ՁՊՎ-ի կապիտալ վերանորոգման աշխատանքների հեղինակային հսկողություն | F32: =+'N 8'!G406 -> 0 | G32: =+'N 8'!H406 -> 77 | H32: =+'N 8'!I406 -> 77 | I32: =+'N 8'!J406 -> 77
E33: =+'N 6.2'!E29 -> Էրեբունի-Աթոյան փողոցների խաչմերուկում նոր լուսացույցային օբյեկտի կառուցման աշխատանքների նախագծանախահաշվային փաստաթղթերի կազմում | F33: =+'N 8'!G590 -> 0 | G33: =+'N 8'!H590 -> 230 | H33: =+'N 8'!I590 -> 230 | I33: =+'N 8'!J590 -> 230
E34: =+'N 6.2'!E30 -> Բաբաջանյան-Աշխաբադ փողոցների խաչմերուկում նոր լուսացույցային օբյեկտի կառուցման աշխատանքների նախագծանախահաշվային փաստաթղթերի կազմում | F34: =+'N 8'!G591 -> 0 | G34: =+'N 8'!H591 -> 230 | H34: =+'N 8'!I591 -> 230 | I34: =+'N 8'!J591 -> 230
E35: =+'N 6.2'!E31 -> Բագրևանդ-Թևանյան, փողոցների խաչմերուկում նոր լուսացույցային օբյեկտի կառուցման աշխատանքների նախագծանախահաշվային փաստաթղթերի կազմում | F35: =+'N 8'!G592 -> 0 | G35: =+'N 8'!H592 -> 230 | H35: =+'N 8'!I592 -> 230 | I35: =+'N 8'!J592 -> 230
E36: =+'N 6.2'!E32 -> Քանաքեռցի-Սարկավագի փողոցների խաչմերուկում նոր լուսացույցային օբյեկտի կառուցման աշխատանքների նախագծանախահաշվային փաստաթղթերի կազմում | F36: =+'N 8'!G593 -> 0 | G36: =+'N 8'!H593 -> 230 | H36: =+'N 8'!I593 -> 230 | I36: =+'N 8'!J593 -> 230
E37: =+'N 6.2'!E33 -> Ա.Խաչատրյան-Հ.Հակոբյան փողոցների խաչմերուկում նոր լուսացույցային օբյեկտի կառուցման աշխատանքների նախագծանախահաշվային փաստաթղթերի կազմում | F37: =+'N 8'!G594 -> 0 | G37: =+'N 8'!H594 -> 230 | H37: =+'N 8'!I594 -> 230 | I37: =+'N 8'!J594 -> 230
E38: =+'N 6.2'!E34 -> ՀՀ ոստիկանության Շիրակի ՄՎ Կումայրիի ՈԲ մուտքի կառուցման նախագծանախահաշվային փաստաթղթերի կազմում | F38: =+'N 8'!G595 -> 0 | G38: =+'N 8'!H595 -> 1600 | H38: =+'N 8'!I595 -> 1600 | I38: =+'N 8'!J595 -> 1600
E39: =+'N 6.2'!E35 -> ՀՀ ոստիկանության ԱՎՎ Էջմիածնի բաժանմունքի կապիտալ վերանորոգման նախագծանախահաշվային փաստաթղթերի կազմում | F39: =+'N 8'!G599 -> 0 | G39: =+'N 8'!H599 -> 650 | H39: =+'N 8'!I599 -> 650 | I39: =+'N 8'!J599 -> 650
E40: =+'N 6.2'!E36 -> ՀՀ ոստիկանության ԱՎՎ Կապանի բաժանմունքի կապիտալ վերանորոգման նախագծանախահաշվային փաստաթղթերի կազմում | F40: =+'N 8'!G600 -> 0 | G40: =+'N 8'!H600 -> 650 | H40: =+'N 8'!I600 -> 650 | I40: =+'N 8'!J600 -> 650
E41: =+'N 6.2'!E37 -> ՀՀ ոստիկանության Սյունիքի ՄՎ Կապանի ՈԲ ՁՊՎ-ի կապիտալ վերանորոգման նախագծանախահաշվային փաստաթղթերի կազմում | F41: =+'N 8'!G601 -> 0 | G41: =+'N 8'!H601 -> 650 | H41: =+'N 8'!I601 -> 650 | I41: =+'N 8'!J601 -> 650
E42: =+'N 6.2'!E38 -> ՀՀ ոստիկանության Կոտայքի ՄՎ Կոտայքի ՈԲ ՁՊՎ-ի կապիտալ վերանորոգման նախագծանախահաշվային փաստաթղթերի կազմում | F42: =+'N 8'!G602 -> 0 | G42: =+'N 8'!H602 -> 650 | H42: =+'N 8'!I602 -> 650 | I42: =+'N 8'!J602 -> 650
E43: =+'N 6.2'!E39 -> ՀՀ ոստիկանության ԱՎՎ Շենգավիթի բաժանմունքի վերանորոգման նախագծանախահաշվային փաստաթղթերի կազմում | F43: =+'N 8'!G603 -> 0 | G43: =+'N 8'!H603 -> 600 | H43: =+'N 8'!I603 -> 600 | I43: =+'N 8'!J603 -> 600
E44: =+'N 6.2'!E40 -> ՀՀ ոստիկանության կապի և տեղեկատվական տեխնոլոգիաների վարչության 2-րդ բաժնի ռադիոկենտրոնի բաժանմունքի շենք-շինությունների վերանորոգման նախագծանախահաշվային փաստաթղթերի կազմում | F44: =+'N 8'!G604 -> 0 | G44: =+'N 8'!H604 -> 0 | H44: =+'N 8'!I604 -> 1600 | I44: =+'N 8'!J604 -> 1600
E45: =+'N 6.2'!E41 -> ՀՀ ոստիկանության ԲՎ Հոսպիտալի Բ մասնաշենքի վիրահատության բաժնի միջանցքի, աշխպատասենյակների և հիվանդասենյակների վերանորոգման նախագծանախահաշվային փաստաթղթերի կազմում | F45: =+'N 8'!G605 -> 0 | G45: =+'N 8'!H605 -> 600 | H45: =+'N 8'!I605 -> 600 | I45: =+'N 8'!J605 -> 600
E46: =+'N 6.2'!E42 -> ՀՀ ոստիկանության վարչական շենքի կապիտալ վերանորոգման նախագծանախահաշվային փաստաթղթերի կազմում | F46: =+'N 8'!G606 -> 0 | G46: =+'N 8'!H606 -> 0 | H46: =+'N 8'!I606 -> 180 | I46: =+'N 8'!J606 -> 180

Sheet N 6.4
G1: Հավելված N 6
G2: ՀՀ կառավարության
G3: 2018 թվականի _________-ի
G4: N ___ -Ն որոշման
G5: Աղյուսակ N 4
A7: <<ՀԱՅԱՍՏԱՆԻ ՀԱՆՐԱՊԵՏՈՒԹՅԱՆ 2018 ԹՎԱԿԱՆԻ ՊԵՏԱԿԱՆ ԲՅՈՒՋԵԻ ՄԱՍԻՆ>> ՀԱՅԱՍՏԱՆԻ ՀԱՆՐԱՊԵՏՈՒԹՅԱՆ ՕՐԵՆՔԻ N 1 ՀԱՎԵԼՎԱԾԻ N 16 ԱՂՅՈՒՍԱԿՈՒՄ ԿԱՏԱՐՎՈՂ ԼՐԱՑՈՒՄՆԵՐԸ
A9: Բյուջետային ծախսերի գործառնական դասակարգման | D9: Ծախսային ծրագրի անվանումը | E9: Ծախսային ծրագիրը կատարող ՀՀ պետական կառավարման մարմնի անվանումը | F9: Տնտեսվարող սուբյեկտներին տրամադրվող դրամաշնորհի գումարը (հազար դրամ) | G9: Դրամաշնորհ ստացող տնտեսվարող սուբյեկտի անվանումը
A10: Բաժին | B10: Խումբ | C10: Դաս
E11: ՀՀ կառավարությանն առընթեր ոստիկանություն | F11: =+F12+F13 -> 307500
A12: 03 | B12: 01 | C12: 01 | D12: ՀՀ կառավարությանն առընթեր ոստիկանության Ճանապարհային ոստիկանության կողմից արձանագրված խախտումների համար վարչական տուգանքների գանձումների, գրանցման-քննական ծառայությունների դիմաց վճարումներ և այլ վճարովի ծառայություններ | F12: =123000+64500 -> 187500 | G12: <<Լուսանշան>> ՊՈԱԿ
A13: 03 | B13: 01 | C13: 01 | D13: ՀՀ կառավարությանն առընթեր ոստիկանության Ճանապարհային ոստիկանության կողմից արձանագրված խախտումների համար վարչական տուգանքների գանձումների, գրանցման-քննական ծառայությունների դիմաց վճարումներ և այլ վճարովի ծառայություններ | F13: 120000 | G13: Հանրապետության ոստիկանության վետերանների և աշխատակիցների աջակցության <<Վահան>> բարեգործական հիմնադրամ
A14: 03 | B14: 01 | C14: 01 | D14: ՀՀ կառավարությանն առընթեր ոստիկանության Ճանապարհային ոստիկանության կողմից արձանագրված խախտումների համար վարչական տուգանքների գանձումներից, գրանցման-քննական ծառայությունների դիմաց վճարումներ և այլ վճարովի ծառայություններ | E14: ՀՀ կառավարությանն առընթեր ոստիկանություն | F14: 70000 | G14: <<Վահան բարեգործական հիմնադրամ>>

Sheet N 7
F1: Հավելված N 7
G2: ՀՀ կառավարության
G3: 2018 թվականի _________-ի
G4: N ___ -Ն որոշման
A6: ՀԱՅԱՍՏԱՆԻ ՀԱՆՐԱՊԵՏՈՒԹՅԱՆ ԿԱՌԱՎԱՐՈՒԹՅԱՆ 2017 ԹՎԱԿԱՆԻ ԴԵԿՏԵՄԲԵՐԻ 28-Ի N 1717-Ն ՈՐՈՇՄԱՆ N 6 ՀԱՎԵԼՎԱԾԻ ՑՈՒՑԱՆԻՇՆԵՐՈՒՄ ԿԱՏԱՐՎՈՂ ՓՈՓՈԽՈՒԹՅՈՒՆՆԵՐ
F8: հազար դրամներով
B9: Եկամտատեսակը | C9: Գանձման համար պատասխանատու պետական կառավարման մարմին(ներ)ը | D9: Ցուցանիշների փոփոխությունը (ավելացումները նշված են դրական նշանով)
D10: Առաջին եռամսյակ | E10: Առաջին կիսամյակ | F10: Ինն ամիս | G10: Տարի
A11: Այլ եկամուտներ, ընդամենը | D11: =+D17+D13+D20 -> 2592513.7 | E11: =+E17+E13+E20 -> 6360337.5 | F11: =+F17+F13+F20 -> 9428301.5 | G11: =+G17+G13+G20 -> 14324500
B12: այդ թվում`
A13: 4 | B13: Իրավախախտումների համար գործադիր, դատական մարմինների կողմից կիրառվող պատժամիջոցներից մուտքեր | D13: =D14 -> 1973810.8 | E13: =E14 -> 4686379 | F13: =F14 -> 7576063.2 | G13: =G14 -> 11023200
A14: 4.24 | B14: արտաբյուջետային միջոցներ, այդ թվում՝ | D14: =D15 -> 1973810.8 | E14: =E15 -> 4686379 | F14: =F15 -> 7576063.2 | G14: =G15 -> 11023200
A15: 4.24.2 | C15: ՀՀ կառավարությանն առընթեր ՀՀ ոստիկանություն (ճանապարհային ոստիկանություն) | D15: 1973810.8 | E15: =1111595+3424784+150000 -> 4686379 | F15: =1782583+5735324+42191+15965.2 -> 7576063.2 | G15: =2023200+9000000 -> 11023200
A17: 5 | B17: Ապրանքների մատակարարումից և ծառայությունների մատուցումից եկամուտներ | D17: =+D18 -> 618393 | E17: =+E18 -> 1673618.5 | F17: =+F18 -> 1851558.3 | G17: =+G18 -> 3300000
A18: 5.7 | B18: Արտաբյուջետային միջոցներ՝ այդ թվում | D18: =+D19 -> 618393 | E18: =+E19 -> 1673618.5 | F18: =+F19 -> 1851558.3 | G18: =+G19 -> 3300000
A19: 5.7.14 | C19: ՀՀ կառավարությանն առընթեր ՀՀ ոստիկանություն (ճանապարհային ոստիկանություն) | D19: =553893+64500 -> 618393 | E19: =1085713+50170+2000+5182.3+398200.1+56000.1+76353 -> 1673618.5 | F19: =1740169+50000+53207+3000+5182.3 -> 1851558.3 | G19: 3300000
A20: 6 | B20: Օրենքով և այլ իրավական ակտերով սահմանված պետական բյուջե մուտքագրվող այլ եկամուտներ | D20: =+D21 -> 309.9 | E20: =+E21 -> 340 | F20: =+F21 -> 680 | G20: =+G21 -> 1300
A21: 6.5 | B21: Արտաբյուջետային միջոցներ՝ այդ թվում | D21: =+D22 -> 309.9 | E21: =+E22 -> 340 | F21: =+F22 -> 680 | G21: =+G22 -> 1300
A22: 6.5.1 | C22: ՀՀ կառավարությանն առընթեր ՀՀ ոստիկանություն (ճանապարհային ոստիկանություն) | D22: 309.9 | E22: 340 | F22: 680 | G22: 1300

Sheet N 8
J1: Հավելված N 8
J2: ՀՀ կառավարության
J3: 2018 թվականի _________-ի
J4: N ___ -Ն որոշման
A5: ՀԱՅԱՍՏԱՆԻ ՀԱՆՐԱՊԵՏՈՒԹՅԱՆ ԿԱՌԱՎԱՐՈՒԹՅԱՆ 2017 ԹՎԱԿԱՆԻ ԴԵԿՏԵՄԲԵՐԻ 28-Ի N 1717-Ն ՈՐՈՇՄԱՆ N 12 ՀԱՎԵԼՎԱԾԻ ՑՈՒՑԱՆԻՇՆԵՐՈՒՄ ԿԱՏԱՐՎՈՂ ԼՐԱՑՈՒՄՆԵՐԸ
A6: Կոդը | B6: Անվանումը | C6: Գնման ձևը | D6: Չափի միավորը | E6: միավորի գինը | F6: Ցուցանիշների փոփոխությունները (ավելացումները նշված են դրական նշանով)
F7: քանակը | J7: գումարը (հազար դրամով)
A8: 1 | B8: 2 | C8: 3 | D8: 4 | E8: 5 | F8: 6 | J8: 7
A9: ՀՀ կառավարությանն առընթեր ՀՀ ոստիկանություն | J9: =J11 -> 10481665
A10: Բաժին N 03 Խումբ N 01 Դաս N 01 | J10: =J11 -> 10481665
A11: 07. ՀՀ կառավարությանն առընթեր ոստիկանության Ճանապարհային ոստիկանության կողմից արձանագրված խախտումների համար վարչական տուգանքների գանձումների, գրանցման-քննական ծառայությունների դիմաց վճարումներ և այլ վճարովի ծառայություններ | G11: =+G12 -> 1434154.2 | H11: =+H12 -> 4100291.2 | I11: =+I12 -> 6189875.7 | J11: =+J12 -> 10481665
G12: =+G14+G26+G33+G40+G42+G50+G52+G54+G57+G67+G79+G81+G110+G223+G278+G281+G332+G380+G384+G396+G409+G422+G570+G589 -> 1434154.2 | H12: =+H14+H26+H33+H40+H42+H50+H52+H54+H57+H67+H79+H81+H110+H223+H278+H281+H332+H380+H384+H396+H409+H422+H570+H589 -> 4100291.2 | I12: =+I14+I26+I33+I40+I42+I50+I52+I54+I57+I67+I79+I81+I110+I223+I278+I281+I332+I380+I384+I396+I409+I422+I570+I589 -> 6189875.7 | J12: =+J14+J26+J33+J40+J42+J50+J52+J54+J57+J67+J79+J81+J110+J223+J278+J281+J332+J380+J384+J396+J409+J422+J570+J589 -> 10481665
G13: 1 եռ. | H13: 2 եռ. | I13: 3 եռ. | J13: 4 եռ.
A14: 4214 | B14: Կապի ծառայություններ | G14: =SUBTOTAL(9,G15:G25) -> 159675.9 | H14: =SUBTOTAL(9,H15:H25) -> 264562.4 | I14: =SUBTOTAL(9,I15:I25) -> 515667.4 | J14: =SUBTOTAL(9,J15:J25) -> 688304.4
A15: 32411130/1 | B15: համացանց | C15: ԳՀ | D15: դրամ | E15: 2000000 | F15: 1 | G15: 200 | H15: 800 | I15: 1400 | J15: =+E15*F15/1000 -> 2000 | K15: 4214 | L15: ՃՈ
A16: 32411140/2 | B16: ներքին ծառայողական (ինտրանետ) ցանց | C16: ՄԱ | D16: դրամ | E16: 3589000 | F16: 1 | G16: 3589 | H16: 3589 | I16: 3589 | J16: =+E16*F16/1000 -> 3589 | K16: 4214 | L16: ՃՈ
A17: 32411140/3 | B17: ներքին ծառայողական (ինտրանետ) ցանց | C17: ՄԱ | D17: դրամ | E17: 13411000 | F17: 1 | G17: 0 | H17: 13411 | I17: 13411 | J17: =+E17*F17/1000 -> 13411 | K17: 4214 | L17: ՃՈ
A18: 32431100/8 | B18: գլոբալ ցանց | C18: ԳՀ | D18: դրամ | E18: 10944000 | F18: 1 | G18: 0 | H18: 10944 | I18: 10944 | J18: =+E18*F18/1000 -> 10944 | K18: 4214 | L18: ՈՍ
A19: 64111200/1 | B19: փոստային ծառայություններ` կապված նամակների հետ | C19: ՄԱ | D19: դրամ | E19: =595918000+78019700-16769300+1600+8347000-30000000 -> 635517000 | F19: 1 | G19: 154372.2 | H19: =256000-30000 -> 226000 | I19: =500000-30000 -> 470000 | J19: =+E19*F19/1000 -> 635517 | K19: 4214 | L19: ՃՈ
A20: 64211100/1 | B20: հանրային հեռախոսային ծառայություններ | C20: ՄԱ | D20: դրամ | E20: 2400000 | F20: 1 | G20: 800 | H20: 1200 | I20: 1800 | J20: =+E20*F20/1000 -> 2400 | K20: 4214 | L20: ՃՈ
A21: 64211140/1 | B21: կարճ հաղորդագրությունների (sms) ուղարկման ծառայություններ | C21: ԳՀ | D21: դրամ | E21: 1000000 | F21: 1 | G21: 250 | H21: 500 | I21: 750 | J21: =+E21*F21/1000 -> 1000 | K21: 4214 | L21: ՃՈ
A22: 64211200/1 | B22: երրորդ սերնդի բջջային ռադիոկապի ստանդարտների (umts) ծառայություններ | C22: ԳՀ | D22: դրամ | E22: =2756100+104700 -> 2860800 | F22: 1 | G22: =360+104.7 -> 464.7 | H22: =735+1256.1+104.7 -> 2095.8 | I22: =1110+1256.1+104.7 -> 2470.8 | J22: =+E22*F22/1000 -> 2860.8 | K22: 4214 | L22: ՃՈ
A23: 72311240/4 | B23: տվյալների փոխանցման ծառայություններ | C23: ԳՀ | D23: դրամ | E23: 672600 | F23: 1 | G23: 0 | H23: 672.6 | I23: 672.6 | J23: =+E23*F23/1000 -> 672.6 | K23: 4214 | L23: ՈՍ
A24: 72411500/1 | B24: համացանցային էջերի հոսթինգի ծառայություններ | C24: ԳՀ | D24: դրամ | E24: 70000 | F24: 1 | G24: 0 | H24: 70 | I24: 70 | J24: =+E24*F24/1000 -> 70 | K24: 4214 | L24: ՃՈ
A25: 79711140/1 | B25: հսկողության համակարգերի ծառայություններ | C25: ԳՀ | D25: դրամ | E25: 15840000 | F25: 1 | G25: 0 | H25: 5280 | I25: 10560 | J25: =+E25*F25/1000 -> 15840 | K25: 4214 | L25: ՃՈ
A26: 4215 | B26: Ապահովագրական ծախսեր | G26: =SUBTOTAL(9,G27:G32) -> 6180 | H26: =SUBTOTAL(9,H27:H32) -> 29834.7 | I26: =SUBTOTAL(9,I27:I32) -> 29834.7 | J26: =SUBTOTAL(9,J27:J32) -> 29834.7
A27: 66511110/2 | B27: պատահարներից ապահովագրման ծառայություններ | C27: ՄԱ | D27: դրամ | E27: 5000000 | F27: 1 | G27: 5000 | H27: 5000 | I27: 5000 | J27: =+E27*F27/1000 -> 5000 | K27: 4215 | L27: ՃՈ
A28: 66511180/2 | B28: շարժիչներով փոխադրամիջոցների ապահովագրման ծառայություններ | C28: ՄԱ | D28: դրամ | E28: 13510400 | F28: 1 | G28: 1180 | H28: 13510.4 | I28: 13510.4 | J28: =+E28*F28/1000 -> 13510.4 | K28: 4215 | L28: ՃՈ
A29: 66511180/1 | B29: շարժիչներով փոխադրամիջոցների ապահովագրման ծառայություններ | C29: ՄԱ | D29: դրամ | E29: 1580900 | F29: 1 | H29: 1580.9 | I29: 1580.9 | J29: =+E29*F29/1000 -> 1580.9 | K29: 4215 | L29: ՃՈ
A30: 66511180/6 | B30: շարժիչներով փոխադրամիջոցների ապահովագրման ծառայություններ | C30: ՄԱ | D30: դրամ | E30: 234000 | F30: 1 | H30: 234 | I30: 234 | J30: =+E30*F30/1000 -> 234 | K30: 4215 | L30: ՃՈ
A31: 66511180/3 | B31: շարժիչներով փոխադրամիջոցների ապահովագրման ծառայություններ | C31: ՄԱ | D31: դրամ | E31: 9356400 | F31: 1 | H31: 9356.4 | I31: 9356.4 | J31: =+E31*F31/1000 -> 9356.4 | K31: 4215 | L31: ՃՈ
A32: 66511180/5 | B32: շարժիչներով փոխադրամիջոցների ապահովագրման ծառայություններ | C32: ՄԱ | D32: դրամ | E32: 153000 | F32: 1 | H32: 153 | I32: 153 | J32: =+E32*F32/1000 -> 153 | K32: 4215 | L32: ՃՈ
A33: 4216 | B33: Գույքի և սարքավորումների վարձակալություն | G33: =SUBTOTAL(9,G34:G39) -> 1860 | H33: =SUBTOTAL(9,H34:H39) -> 11720 | I33: =SUBTOTAL(9,I34:I39) -> 22732 | J33: =SUBTOTAL(9,J34:J39) -> 33592
A34: 60171100/3 | B34: ուղևորափոխադրող ավտոմեքենաների վարձակալություն` վարորդի հետ միասին | C34: ԳՀ | D34: դրամ | E34: 25000000 | F34: 1 | G34: 0 | H34: 8000 | I34: 16000 | J34: =+E34*F34/1000 -> 25000 | K34: 4216 | L34: ՈՍ
A35: 70131100/4 | B35: անձնական անշարժ գույքը վարձակալության հանձնելու ծառայություններ | C35: ՄԱ | D35: դրամ | E35: 1440000 | F35: 1 | G35: 360 | H35: 720 | I35: 1080 | J35: =+E35*F35/1000 -> 1440 | K35: 4216 | L35: ՃՈ
A36: 70131100/1 | B36: անձնական անշարժ գույքը վարձակալության հանձնելու ծառայություններ | C36: ՄԱ | D36: դրամ | E36: 1200000 | F36: 1 | G36: 300 | H36: 600 | I36: 900 | J36: =+E36*F36/1000 -> 1200 | K36: 4216 | L36: ՃՈ
A37: 70131100/3 | B37: անձնական անշարժ գույքը վարձակալության հանձնելու ծառայություններ | C37: ՄԱ | D37: դրամ | E37: 1200000 | F37: 1 | G37: 300 | H37: 600 | I37: 900 | J37: =+E37*F37/1000 -> 1200 | K37: 4216 | L37: ՃՈ
A38: 70131100/2 | B38: անձնական անշարժ գույքը վարձակալության հանձնելու ծառայություններ | C38: ՄԱ | D38: դրամ | E38: 3600000 | F38: 1 | G38: 900 | H38: 1800 | I38: 2700 | J38: =+E38*F38/1000 -> 3600 | K38: 4216 | L38: ՃՈ
A39: 77111300/1 | B39: այլ սարքավորումների վարձակալություն | C39: ԳՀ | D39: դրամ | E39: 1152000 | F39: 1 | I39: 1152 | J39: =+E39*F39/1000 -> 1152 | K39: 4216 | L39: ՃՈ
A40: 4231 | B40: Վարչական ծառայություններ | C40: ԳՀ | G40: =SUBTOTAL(9,G41:G41) -> 0 | H40: =SUBTOTAL(9,H41:H41) -> 150 | I40: =SUBTOTAL(9,I41:I41) -> 350 | J40: =SUBTOTAL(9,J41:J41) -> 500
A41: 79531100/1 | B41: գրավոր թարգմանության ծառայություններ | C41: ԳՀ | D41: դրամ | E41: =150000+350000 -> 500000 | F41: 1 | H41: 150 | I41: 350 | J41: =+E41*F41/1000 -> 500 | K41: 4231 | L41: ՃՈ
A42: 4232 | B42: Համակարգչային ծառայություններ | G42: =SUBTOTAL(9,G43:G49) -> 6934.5 | H42: =SUBTOTAL(9,H43:H49) -> 17049 | I42: =SUBTOTAL(9,I43:I49) -> 31153.5 | J42: =SUBTOTAL(9,J43:J49) -> 39618
A43: 48211200/2 | B43: լիցենզիաների կառավարման համակարգչային ծրագրային փաթեթներ | C43: ԳՀ | D43: հավաքածու | E43: 550000 | F43: 2 | G43: 0 | H43: 350 | I43: 700 | J43: =+E43*F43/1000 -> 1100 | K43: 4232 | L43: ՈՍ
A44: 48761100/1 | B44: հակավիրուսային համակարգչային ծրագրային փաթեթներ | C44: ԳՀ | D44: դրամ | E44: 2500000 | F44: 1 | I44: 2500 | J44: =+E44*F44/1000 -> 2500 | K44: 4232 | L44: ՃՈ
A45: 72261110/7 | B45: ծրագրային ապահովման մշակման ծառայություններ | C45: ԳՀ | D45: դրամ | E45: 2000000 | F45: 1 | G45: 0 | H45: 2000 | I45: 2000 | J45: =+E45*F45/1000 -> 2000 | K45: 4232 | L45: ՈՍ
A46: 72261160/1 | B46: ծրագրային ապահովման սպասարկման ծառայություններ | C46: ԳՀ | D46: դրամ | E46: 3840000 | F46: 1 | I46: 3840 | J46: =+E46*F46/1000 -> 3840 | K46: 4232 | L46: ՃՈ
A47: 72411800/1 | B47: էլեկտրոնային ռեգիստրի սպասարկում | C47: ԳՀ | D47: դրամ | E47: 27738000 | F47: 1 | G47: 6934.5 | H47: 13869 | I47: 20803.5 | J47: =+E47*F47/1000 -> 27738 | K47: 4232 | L47: ՃՈ
A48: 50331240/1 | B48: օպտիկամանրաթելային մալուխի սպասարկման և վերանորոգման ծառայություններ | C48: ԳՀ | D48: դրամ | E48: 1000000 | F48: 1 | H48: 350 | I48: 350 | J48: =+E48*F48/1000 -> 1000 | K48: 4232 | L48: ՃՈ
A49: 50321800/1 | B49: Տրանսպորտային միջոցների հաշվառման համարանիշների ավտոմատ ճանաչման համակարգի սպասարկում | C49: ԳՀ | D49: դրամ | E49: 1440000 | F49: 1 | H49: 480 | I49: 960 | J49: =+E49*F49/1000 -> 1440 | K49: 4232 | L49: ՃՈ
A50: 4233 | B50: Աշխատակազմի մասնագիտական զարգացման ծառայություններ | G50: =SUBTOTAL(9,G51:G51) -> 0 | H50: =SUBTOTAL(9,H51:H51) -> 0 | I50: =SUBTOTAL(9,I51:I51) -> 0 | J50: =SUBTOTAL(9,J51:J51) -> 0
A52: 4234 | B52: Տեղեկատվական ծառայություններ | G52: =SUBTOTAL(9,G53:G53) -> 0 | H52: =SUBTOTAL(9,H53:H53) -> 3300 | I52: =SUBTOTAL(9,I53:I53) -> 6600 | J52: =SUBTOTAL(9,J53:J53) -> 10000
A53: 79821190/2 | B53: ձեռնարկների և բրոշյուրների տպագրման ծառայություններ | C53: ԳՀ | D53: դրամ | E53: 10000000 | F53: 1 | G53: 0 | H53: 3300 | I53: 6600 | J53: =+E53*F53/1000 -> 10000 | K53: 4234 | L53: ՈՍ
A54: 4237 | B54: Ներկայացուցչական ծախսեր | G54: =SUBTOTAL(9,G55:G56) -> 0 | H54: =SUBTOTAL(9,H55:H56) -> 6000 | I54: =SUBTOTAL(9,I55:I56) -> 9500 | J54: =SUBTOTAL(9,J55:J56) -> 13000
A55: 98391160/3 | B55: ներկայացուցչական, արարողակարգային ծառայություններ | C55: ՄԱ | D55: դրամ | E55: 10000000 | F55: 1 | G55: 0 | H55: 5000 | I55: 7500 | J55: =+E55*F55/1000 -> 10000 | K55: 4237 | L55: ՈՍ
A56: 98391160/4 | B56: ներկայացուցչական, արարողակարգային ծառայություններ | C56: ՄԱ | D56: դրամ | E56: 3000000 | F56: 1 | H56: 1000 | I56: 2000 | J56: =+E56*F56/1000 -> 3000 | K56: 4237 | L56: ՃՈ
A57: 4239 | B57: Ընդհանուր բնույթի այլ ծառայություններ | G57: =SUBTOTAL(9,G58:G66) -> 634807.5 | H57: =SUBTOTAL(9,H58:H66) -> 1065712.8 | I57: =SUBTOTAL(9,I58:I66) -> 1553368.2 | J57: =SUBTOTAL(9,J58:J66) -> 4485859.8
A58: 34921140/301 | B58: ճանապարհային գծանշումներ | C58: ԲՄ | D58: դրամ | E58: 469794900 | F58: 1 | H58: =175000-55045.1 -> 119954.9 | I58: =350000-55045.1 -> 294954.9 | J58: =+E58*F58/1000 -> 469794.9 | K58: 4239 | L58: ՃՈ
A59: 45231213/301 | B59: ճանապարհային նշանների տեղադրում | C59: ԲՄ | D59: դրամ | E59: 57705000 | F59: 1 | H59: =22000-7910.8 -> 14089.2 | I59: =44000-7910.8 -> 36089.2 | J59: =+E59*F59/1000 -> 57705 | K59: 4239 | L59: ՃՈ
A60: 50111180/1 | B60: ավտոմեքենաների լվացման և նմանատիպ ծառայություններ | C60: ԳՀ | D60: դրամ | E60: 28000000 | F60: 1 | G60: 15000 | H60: 18000 | I60: 23000 | J60: =+E60*F60/1000 -> 28000 | K60: 4239 | L60: ՃՈ
A61: 50111190/1 | B61: ավտոմեքենաների գունագրաֆիկ ձևավորման ծառայություններ | C61: ԳՀ | D61: դրամ | E61: 7000000 | F61: 1 | G61: 1250 | H61: 2500 | I61: 5000 | J61: =+E61*F61/1000 -> 7000 | K61: 4239 | L61: ՃՈ
A62: 50111190/5 | B62: ավտոմեքենաների գունագրաֆիկ ձևավորման ծառայություններ | C62: ԳՀ | D62: դրամ | E62: 11000000 | F62: 1 | G62: 0 | H62: 11000 | I62: 11000 | J62: =+E62*F62/1000 -> 11000 | K62: 4239 | L62: ՈՍ
A63: 50231300/301 | B63: լուսազդանշանների պահպանման ծառայություններ | C63: ԲՄ | D63: դրամ | E63: 321259900 | F63: 1 | H63: =107601.3-1544.1 -> 106057.2 | I63: =215202.7-1544.1 -> 213658.6 | J63: =+E63*F63/1000 -> 321259.9 | K63: 4239 | L63: ՃՈ
A64: 50761100/1 | B64: հանրային զուգարանների վերանորոգման և պահպանման ծառայություններ | C64: ԳՀ | D64: դրամ | E64: 1000000 | F64: 1 | G64: 0 | H64: 330 | I64: 660 | J64: =+E64*F64/1000 -> 1000 | K64: 4239 | L64: ՈՍ
A65: 66161100/2 | B65: հավատարմագրային կառավարման ծառայություններ | C65: ՄԱ | D65: դրամ | E65: 612100000 | F65: 1 | G65: 86427.5 | H65: 261651.5 | I65: 436875.5 | J65: =+E65*F65/1000 -> 612100 | K65: 4239 | L65: ՃՈ
A66: 66161100/3 | B66: հավատարմագրային կառավարման ծառայություններ | C66: ՄԱ | D66: դրամ | E66: 2978000000 | F66: 1 | G66: 532130 | H66: 532130 | I66: 532130 | J66: =+E66*F66/1000 -> 2978000 | K66: 4239 | L66: ՃՈ
A67: 4241 | B67: Մասնագիտական ծառայություններ | G67: =SUBTOTAL(9,G68:G78) -> 24587 | H67: =SUBTOTAL(9,H68:H78) -> 26607 | I67: =SUBTOTAL(9,I68:I78) -> 30714 | J67: =SUBTOTAL(9,J68:J78) -> 121155
A68: 50111400/2 | B68: ավտոմեքենաների վթարային տարահանման ծառայություններ | C68: ԲՄ | D68: դրամ | E68: 50000000 | F68: 1 | G68: 13000 | H68: 13000 | I68: 13000 | J68: =+E68*F68/1000 -> 50000 | K68: 4241 | L68: ՃՈ
A69: 50111400/1 | B69: ավտոմեքենաների վթարային տարահանման ծառայություններ | C69: ՀԲՄ | D69: դրամ | E69: 60000000 | F69: 1 | G69: 10800 | H69: 10800 | I69: 10800 | J69: =+E69*F69/1000 -> 60000 | K69: 4241 | L69: ՃՈ
A70: 71311360/1 | B70: շենքերի չափագրման ծառայություններ | C70: ԳՀ | D70: դրամ | E70: 2000000 | F70: 1 | G70: 0 | H70: 650 | I70: 1300 | J70: =+E70*F70/1000 -> 2000 | K70: 4241 | L70: ՈՍ
A71: 71351380/1 | B71: սեյսմիկ ծառայություններ | C71: ԳՀ | D71: դրամ | E71: 100000 | F71: 1 | I71: 100 | J71: =+E71*F71/1000 -> 100 | K71: 4241 | L71: ՃՈ
A72: 71631110/2 | B72: սարքերի ստուգման ծառայություններ | C72: ՄԱ | D72: դրամ | E72: 735000 | F72: 1 | H72: 245 | I72: 490 | J72: =+E72*F72/1000 -> 735 | K72: 4241 | L72: ՃՈ
A73: 71631110/1 | B73: սարքերի ստուգման ծառայություններ | C73: ՄԱ | D73: դրամ | E73: 2285000 | F73: 1 | G73: 730 | H73: 762 | I73: 1524 | J73: =+E73*F73/1000 -> 2285 | K73: 4241 | L73: ՃՈ
A74: 71631110/3 | B74: սարքերի ստուգման ծառայություններ | C74: ՄԱ | D74: դրամ | E74: 1500000 | F74: 1 | H74: 500 | I74: 1000 | J74: =+E74*F74/1000 -> 1500 | K74: 4241 | L74: ՃՈ
A75: 75251200/1 | B75: հակահրդեհային ծառայություններ | C75: ՄԱ | D75: դրամ | E75: 135000 | F75: 1 | H75: 0 | I75: 0 | J75: =+E75*F75/1000 -> 135 | K75: 4241 | L75: ՃՈ
A76: 79221300/1 | B76: մաքսային միջնորդի (բրոքեր) ծառայություններ | C76: ՄԱ | D76: դրամ | E76: 200000 | F76: 1 | G76: 57 | H76: 100 | I76: 150 | J76: =+E76*F76/1000 -> 200 | K76: 4241 | L76: ՃՈ
A77: 92111110/2 | B77: ուսուցողական ֆիլմերի և տեսաֆիլմերի արտադրություն | C77: ԳՀ | D77: դրամ | E77: 2500000 | F77: 1 | H77: 0 | I77: 1250 | J77: =+E77*F77/1000 -> 2500 | K77: 4241 | L77: ՃՈ
A78: 98341120/1 | B78: բեռնակրման ծառայություններ | C78: ԳՀ | D78: դրամ | E78: 1700000 | F78: 1 | H78: 550 | I78: 1100 | J78: =+E78*F78/1000 -> 1700 | K78: 4241 | L78: ՃՈ
A79: 4251 | B79: Շենքերի և կառույցների ընթացիկ նորոգում և պահպանում | G79: =SUBTOTAL(9,G80:G80) -> 5000 | H79: =SUBTOTAL(9,H80:H80) -> 10000 | I79: =SUBTOTAL(9,I80:I80) -> 15000 | J79: =SUBTOTAL(9,J80:J80) -> 20000
A80: 45461100/1 | B80: շենքերի, շինությունների ընթացիկ նորոգման աշխատանքներ | C80: ԳՀ | D80: դրամ | E80: 20000000 | F80: 1 | G80: 5000 | H80: 10000 | I80: 15000 | J80: =+E80*F80/1000 -> 20000 | K80: 4251 | L80: ՃՈ
A81: 4252 | B81: Մեքենաների և սարքավորումների ընթացիկ նորոգում և պահպանում | G81: =SUBTOTAL(9,G82:G109) -> 89425 | H81: =SUBTOTAL(9,H82:H109) -> 218125 | I81: =SUBTOTAL(9,I82:I109) -> 373838 | J81: =SUBTOTAL(9,J82:J109) -> 521431.9
A82: 45311149/1 | B82: էլեկտրականության բաշխման սարքերի էլեկտրական մոնտաժման աշխատանքներ | C82: ԳՀ | D82: դրամ | E82: 8000000 | F82: 1 | G82: 0 | H82: 4000 | I82: 8000 | J82: =+E82*F82/1000 -> 8000 | K82: 4252 | L82: ՈՍ
A83: 50111130/1 | B83: ավտոմեքենաների վերանորոգման ծառայություններ | C83: ՄԱ | D83: դրամ | E83: 82000000 | F83: 1 | G83: 20500 | H83: =41000-16100 -> 24900 | I83: =65000-7200 -> 57800 | J83: =+E83*F83/1000 -> 82000 | K83: 4252 | L83: ՃՈ
A84: 50111130/325 | B84: ավտոմեքենաների վերանորոգման ծառայություններ | C84: ԲՄ | D84: դրամ | E84: 112000000 | F84: 1 | G84: 28000 | H84: 45000 | I84: 75000 | J84: =+E84*F84/1000 -> 112000 | K84: 4252 | L84: ՃՈ
A85: 50111130/30 | B85: ավտոմեքենաների վերանորոգման ծառայություններ | C85: ՄԱ | D85: դրամ | E85: 40000000 | F85: 1 | G85: 0 | H85: 13000 | I85: 26000 | J85: =+E85*F85/1000 -> 40000 | K85: 4252 | L85: ՈՍ
A86: 50111130/326 | B86: ավտոմեքենաների վերանորոգման ծառայություններ | C86: ԲՄ | D86: դրամ | E86: 90000000 | F86: 1 | G86: 10000 | H86: 30000 | I86: 60000 | J86: =+E86*F86/1000 -> 90000 | K86: 4252 | L86: ՈՍ
A87: 50111250/1 | B87: մոտոցիկլետների պահպանման ծառայություններ | C87: ՄԱ | D87: դրամ | E87: 3000000 | F87: 1 | G87: 750 | H87: 1500 | I87: 2250 | J87: =+E87*F87/1000 -> 3000 | K87: 4252 | L87: ՃՈ
A88: 50111260/1 | B88: էլեկտրական սարքերի վերանորոգման ծառայություններ | C88: ՄԱ | D88: դրամ | E88: 8000000 | F88: 1 | G88: 8000 | H88: 8000 | I88: 8000 | J88: =+E88*F88/1000 -> 8000 | K88: 4252 | L88: ՃՈ
A89: 50111260/6 | B89: էլեկտրական սարքերի վերանորոգման ծառայություններ | C89: ՄԱ | D89: դրամ | E89: =25003900+17500000 -> 42503900 | F89: 1 | H89: =8000+10000 -> 18000 | I89: =16000+17500 -> 33500 | J89: =+E89*F89/1000 -> 42503.9 | K89: 4252 | L89: ՃՈ
A90: 50111260/3 | B90: էլեկտրական սարքերի վերանորոգման ծառայություններ | C90: ԳՀ | D90: դրամ | E90: 1500000 | F90: 1 | G90: 1500 | H90: 1500 | I90: 1500 | J90: =+E90*F90/1000 -> 1500 | K90: 4252 | L90: ՃՈ
A91: 50111260/4 | B91: էլեկտրական սարքերի վերանորոգման ծառայություններ | C91: ԳՀ | D91: դրամ | E91: 4500000 | F91: 1 | H91: 1500 | I91: 3000 | J91: =+E91*F91/1000 -> 4500 | K91: 4252 | L91: ՃՈ
A92: 50111260/5 | B92: էլեկտրական սարքերի վերանորոգման ծառայություններ | C92: ԳՀ | D92: դրամ | E92: 1250000 | F92: 1 | G92: 1250 | H92: 1250 | I92: 1250 | J92: =+E92*F92/1000 -> 1250 | K92: 4252 | L92: ՃՈ
A93: 50111260/7 | B93: էլեկտրական սարքերի վերանորոգման ծառայություններ | C93: ԳՀ | D93: դրամ | E93: 3750000 | F93: 1 | H93: 0 | I93: 1800 | J93: =+E93*F93/1000 -> 3750 | K93: 4252 | L93: ՃՈ
A94: 50111260/2 | B94: էլեկտրական սարքերի վերանորոգման ծառայություններ | C94: ԳՀ | D94: դրամ | E94: 2700000 | F94: 1 | G94: 0 | H94: 900 | I94: 1800 | J94: =+E94*F94/1000 -> 2700 | K94: 4252 | L94: ՈՍ
A95: 50231200/2 | B95: փողոցային լուսավորության սարքերի շահագործում | C95: ԳՀ | D95: դրամ | E95: 2800000 | F95: 1 | G95: 0 | H95: 900 | I95: 1800 | J95: =+E95*F95/1000 -> 2800 | K95: 4252 | L95: ՈՍ
A96: 50311100/1 | B96: գրասենյակային հաշվողական սարքերի պահպանման և վերանորոգման ծառայություններ | C96: ԳՀ | D96: դրամ | E96: 6000000 | F96: 1 | G96: 6000 | H96: 6000 | I96: 6000 | J96: =+E96*F96/1000 -> 6000 | K96: 4252 | L96: ՃՈ
A97: 50311100/3 | B97: գրասենյակային հաշվողական սարքերի պահպանման և վերանորոգման ծառայություններ | C97: ԳՀ | D97: դրամ | E97: 18000000 | F97: 1 | H97: 6000 | I97: 12000 | J97: =+E97*F97/1000 -> 18000 | K97: 4252 | L97: ՃՈ
A98: 50311100/2 | B98: գրասենյակային հաշվողական սարքերի պահպանման և վերանորոգման ծառայություններ | C98: ԳՀ | D98: դրամ | E98: 10000000 | F98: 1 | G98: 0 | H98: 3000 | I98: 6000 | J98: =+E98*F98/1000 -> 10000 | K98: 4252 | L98: ՈՍ
A99: 50311240/1 | B99: պատճենահանող սարքերի վերանորոգման ծառայություններ | C99: ԳՀ | D99: դրամ | E99: 3625000 | F99: 1 | G99: 3625 | H99: 3625 | I99: 3625 | J99: =+E99*F99/1000 -> 3625 | K99: 4252 | L99: ՃՈ
A100: 50311240/2 | B100: պատճենահանող սարքերի վերանորոգման ծառայություններ | C100: ԳՀ | D100: դրամ | E100: 10875000 | F100: 1 | H100: 3300 | I100: 7000 | J100: =+E100*F100/1000 -> 10875 | K100: 4252 | L100: ՃՈ
A101: 50311310/1 | B101: BLADE SERVER-ի ընթացիկ տեխնիկական սպասարկում | C101: ԳՀ | D101: դրամ | E101: 11200000 | F101: 1 | G101: 2800 | H101: 5600 | I101: 8400 | J101: =+E101*F101/1000 -> 11200 | K101: 4252 | L101: ՃՈ
...

Sheet 9.1
J1: Հավելված N 9
I2: ՀՀ կառավարության
I3: 2017 թվականի __________
K4: N -Ն որոշման
J5: Աղյուսակ N 1
A6: ՀԱՅԱՍՏԱՆԻ ՀԱՆՐԱՊԵՏՈՒԹՅԱՆ ԿԱՌԱՎԱՐՈՒԹՅԱՆ 2017 ԹՎԱԿԱՆԻ ԴԵԿՏԵՄԲԵՐԻ 28-Ի N 1717-Ն ՈՐՈՇՄԱՆ N 11 ՀԱՎԵԼՎԱԾԻ N 11.40 ԱՂՅՈՒՍԱԿՈՒՄ ԿԱՏԱՐՎՈՂ ԼՐԱՑՈՒՄՆԵՐԸ
A7: ՄԱՍ Ա: ՌԱԶՄԱՎԱՐՈՒԹՅԱՆ ԸՆԴՀԱՆՈՒՐ ՆԿԱՐԱԳՐՈՒԹՅՈՒՆ Ճանապարհային երթևեկության կարգավորում, ճանապարհային երթևեկության անվտանգության ապահովման բնագավառի օրենսդրության, ճանա-պարհային երթևեկության կանոնների, տեխնիկական նորմերի պահանջների կատարման նկատմամբ վերահսկողություն, ճանապարհապարեկային ծառայության իրականացում, ճանապարհատրանսպորտային պատահարների եւ ճանապարհային երթեւեկության բնագավառում վարչական իրավա-խախտումների պետական հաշվառում, ճանապարհային անվտանգության կանխարգելում, երթեւեկության մասնակիցներին վարորդական վկայական ստանալու քննությունների ընդունում եւ վարորդական վկայականների տրամադրում
A8: Չափորոշիչներ | C8: Ցուցանիշների փոփոխությունը (ավելացումները նշված են դրական նշանով)
C9: Ոչ ֆինանսական ցուցանիշներ | G9: Ֆինանսական ցուցանիշներ (հազար դրամով)
C10: Առաջին եռամսյակ | D10: Առաջին կիսամյակ | E10: Ինն ամիս | F10: Տարի | G10: Առաջին եռամսյակ | H10: Առաջին կիսամյակ | I10: Ինն ամիս | J10: Տարի
A11: ՄԱՍ Գ: Նախարարի պատասխանատվության ներքո իրականացվող քաղաքականության միջոցառումների և ֆինանսական կառավարման արդյունքների ցուցանիշները 1. Քաղաքականության միջոցառումներ 1.1 Ծառայություններ
A12: Ծրագրային դասիչը | C12: Անվանումը՝ Շենքերի և շինությունների ձեռքբերում Նկարագրություն Նախատեսվում է ՀՀ ոստիկանության ԱՎՎ Վանաձոր քաղաքի Բազումի անձնագրային բաժանմունքի վարչական շենքի ձեռքբերում
A13: 1083 | B13: ԿՀ 01
A14: Քանակական | B14: ՀՀ ոստիկանության ԱՎՎ Վանաձոր քաղաքի Բազումի անձնագրային բաժանմունքի վարչական շենքի ձեռքբերում | C14: 0 | D14: 1 | E14: 1 | F14: 1
A15: Որակական | B15: մշակված չէ
A16: Ժամկետայնության | B16: մշակված չէ
A17: Մատուցվող ծառայության վրա կատարվող ծախսեր (հազար դրամ) | C17: x | D17: x | E17: x | F17: x | G17: =+'[6]N 6.1'!H71 -> 100 | H17: =+'[6]N 6.1'!I71 -> 200 | I17: =+'[6]N 6.1'!J71 -> 400 | J17: =+'[6]N 6.1'!K71 -> 500
A18: Ծրագիրը (ծրագրերը), որի (որոնց) շրջանակներում իրականացվում է քաղաքականության միջոցառումը 1083 ԿՀ01 Անձնագրերի և վիզաների տրամադրում, բնակչության պետական ռեգիստրի միասնական համակարգի կազմակերպում և վարում
A19: Վերջնական արդյունքի նկարագրությունը ՀՀ ոստիկանության տարածքային անձնագրային ստորաբաժանումների շենքային պայմանների բարելավում
A20: Ծառայություն մատուցողի (մատուցողների) անվանումը (անվանումները) ՀՀ կառավարությանն առընթեր ՀՀ ոստիկանության անձնագրային և վիզաների վարչություն
A21: Ծրագրային դասիչը | C21: Անվանումը՝ Շենքերի և շինությունների շինարարություն Նկարագրություն Նախատեսվում է ՀՀ ոստիկանության Շիրակի մարզային վարչության Կումայրիի բաժնի վարչական շենքի շինարարության 2016թ.-ի մասնաբաժնի ապահովման համար:
A22: 1083 | B22: ԿՀ 02
A23: Քանակական | B23: ՀՀ ոստիկանության Կումայրիի ՈԲ նոր վարչական շենքի կառուցում
A24: Որակական | B24: մշակված չէ
A25: Ժամկետայնության | B25: մշակված չէ
A26: Մատուցվող ծառայության վրա կատարվող ծախսեր (հազար դրամ) | C26: x | D26: x | E26: x | F26: x | G26: =+'[6]N 6.1'!H72 -> 0 | H26: =+'[6]N 6.1'!I72 -> 29800 | I26: =+'[6]N 6.1'!J72 -> 57800 | J26: =+'[6]N 6.1'!K72 -> 75435
A27: Ծրագիրը (ծրագրերը), որի (որոնց) շրջանակներում իրականացվում է քաղաքականության միջոցառումը 1083 ԿՀ02 Անձնագրերի և վիզաների տրամադրում, բնակչության պետական ռեգիստրի միասնական համակարգի կազմակերպում և վարում
A28: Վերջնական արդյունքի նկարագրությունը ՀՀ ոստիկանության տարածքային ստորաբաժանումների շենքային պայմանների բարելավում
A29: Ծառայություն մատուցողի (մատուցողների) անվանումը (անվանումները) ՀՀ կառավարությանն առընթեր ՀՀ ոստիկանության անձնագրային և վիզաների վարչություն
A30: Ծրագրային դասիչը | C30: Անվանումը՝ Շենքերի և շինությունների կապիտալ վերանորոգում Նկարագրություն Նախատեսվում է ՀՀ ոստիկանության ԱՎՎ Շենգավիթի և Տարոնի անձնագրային բաժանմունքների կապիտալ վերանորոգում
A31: 1083 | B31: ԿՀ 01
A32: Քանակական | B32: ՀՀ ոստիկանության ԱՎՎ Շենգավիթի և Տարոնի անձնագրային բաժանմունքներում կապիտալ վերանորոգման իրականացում
A33: Որակական | B33: մշակված չէ
A34: Ժամկետայնության | B34: մշակված չէ
A35: Մատուցվող ծառայության վրա կատարվող ծախսեր (հազար դրամ) | C35: x | D35: x | E35: x | F35: x | G35: =+'[6]N 6.1'!H73 -> #REF! | H35: =+'[6]N 6.1'!I73 -> #REF! | I35: =+'[6]N 6.1'!J73 -> #REF! | J35: =+'[6]N 6.1'!K73 -> #REF!
A36: Ծրագիրը (ծրագրերը), որի (որոնց) շրջանակներում իրականացվում է քաղաքականության միջոցառումը 1083 ԿՀ01 Անձնագրերի և վիզաների տրամադրում, բնակչության պետական ռեգիստրի միասնական համակարգի կազմակերպում և վարում
A37: Վերջնական արդյունքի նկարագրությունը ՀՀ քաղաքացու անձնագրի, քաղաքացիություն չունեցող անձի, փախստականի վկայականի, ճամփորդական փաստաթղթի, վիզայի և ՀՀ-ում կացության կարգավիճակի տրամադրման, քաղաքացիների ըստ բնակության վայրի հաշվառման ծառայությունների պատշաճ և ժամանակին իրականացում
A38: Ծառայություն մատուցողի (մատուցողների) անվանումը (անվանումները) ՀՀ կառավարությանն առընթեր ՀՀ ոստիկանության անձնագրային և վիզաների վարչություն
A39: ՄԱՍ Գ: Նախարարի պատասխանատվության ներքո իրականացվող քաղաքականության միջոցառումների և ֆինանսական կառավարման արդյունքների ցուցանիշները 1. Քաղաքականության միջոցառումներ 1.1 Ծառայություններ
A41: Ìñ³·ñ³ÛÇÝ ¹³ëÇãÁ | C41: Մատուցվող ծառայության անվանումը | D41: Ոչ ֆինանսական ցուցանիշներ | H41: Ֆինանսական ցուցանիշներ
C42: Ճանապարհային երթևեկության անվտանգության ապահովում և ճանապարհատրանսպորտային պատահարների կանխարգելում
A43: 1175 | B43: ԱԾ01 | C43: Նկարագրություն
C44: Ճանապարհային երթևեկության կարգավորում, ճանապարհային երթևեկության անվտանգության ապահովման բնագավառի օրենսդրության, (ճա-նապարհային երթևեկության կանոնների, տեխնի-կական նորմերի) պահանջների կատարման նկատ-մամբ վերահսկողության, ճանապարհապարեկա-յին ծառայության իրականացում, ճանապարհա-տրանսպորտային պատահարների և ճանապար-հային երթևեկության անվտանգության ապահով-ման բնագավառում վարչական իրավախախտում-ների պետական հաշվառում, ճանապարհատրանս-
C45: պորտային պատահարների կանխարգելում, վա-րորդական վկայական ստանալու քննությունների ընդունում և վարորդական վկայականների տրամադրում
A46: Չափորոշիչներ | D46: I եռամսյակ | E46: I կիսամյակ | F46: 9 ամիս | G46: Տարի | H46: I եռամսյակ | I46: I կիսամյակ | J46: 9 ամիս | K46: Տարի
A47: ø³Ý³Ï³Ï³Ý | C47: 1. ՀՀ ոստիկանության ճանապարհային ոստիկանության ՃՊԾ կողմից նշանակված տուգանքների քանակը | D47: =+E47/2 -> 79500 | E47: 159000 | F47: 238500 | G47: 318000 | H47: X | I47: X | J47: X | K47: X
C49: 2. Ճանապարհներին տեղադրված արագաչափերով հայտնաբերված խախտումների համար նշանակված տուգանքների քանակը | D49: =+E49/2 -> 146559 | E49: 293118 | F49: 439677 | G49: 586236
C50: 3. Խաչմերուկներում տեղադրված դիտարկման տեսախցիկներով հայտնաբերված խախտումների համար նշանակված տուգանքների քանակը | D50: =+E50/2 -> 269216.5 | E50: 538433 | F50: 807650 | G50: 1076866
C51: 4. Տրամադրված վարորդական վկայականների քանակը | D51: =+E51/2 -> 20750 | E51: 41500 | F51: 62000 | G51: 83000
C52: 5.Տրամադրված հաշվառման վկայագրերի քանակը | D52: =+E52/2 -> 32500 | E52: 65000 | F52: 97500 | G52: 130000
C53: 6. Ընդունված տեսական և գործնական քննությունների քանակը | D53: =+E53/2 -> 11500 | E53: 23000 | F53: 34500 | G53: 46000
C54: 7. Տրամադրվող տրանսպորտային միջոցների հաշվառման մեծ պահանջարկ ունեցող համարանիշերի քանակը | D54: =+E54/2 -> 1900 | E54: 3800 | F54: 5700 | G54: 7600
C55: 8. Տրամադրվող տրանսպորտային միջոցների ցանկալի համարանիշերի քանակը | D55: =+E55/2 -> 5500 | E55: 11000 | F55: 17000 | G55: 22000
C56: 9. Տրանսպորտային միջոցների վերասարքավորման համար տրամադրվող թույլտվությունների քանակը | D56: =+E56/2 -> 625 | E56: 1250 | F56: 1800 | G56: 2500
A57: Որակական | C57: 1.Ծանր հետևանքներով ճանապարհատրանսպոտային պատահարների (3 և ավելի զոհ և/կամ 10 և ավելի վիրավոր) քանակի նվազում/%/ | D57: 20 | E57: 20 | F57: 20 | G57: 20 | H57: X | I57: X | J57: X | K57: X
C58: 2. ՀՀ պետական սահմանի անցակետերում օտար-երկրյա պետություններում անձնագրի վավերակա-նության ժամկետի մասին նշումի կատարում /%/ | D58: 100 | E58: 100 | F58: 100 | G58: 100
A59: Ժամկետայնության | C59: 1. Վարորդական վկայականի տրամադրելու միջին ժամկետը /օր/ | D59: 1 | E59: 1 | F59: 1 | G59: 1 | H59: X | I59: X | J59: X | K59: X
C60: 2. Հաշվառման վկայագրերի տրամադրելու միջին ժամկետը /օր/ | D60: 1 | E60: 1 | F60: 1 | G60: 1
A61: Մատուցվող ծառայության վրա կատարվող ծախսը (հազար դրամ) | D61: X | E61: X | F61: X | G61: X | H61: =+'N 5'!C13 -> 2590236.9 | I61: =+'N 5'!D13 -> 5042852.7 | J61: =+'N 5'!E13 -> 7212610.8 | K61: =+'N 5'!F13 -> 11933712
A62: Ծրագիրը (ծրագրերը), որի (որոնց) շրջանակներում իրականացվում է քաղաքականության միջոցառումը
A63: 1175 ԱԾ01 Ճանապարհային անվտանգության ապահովում
A64: Վերջնական արդյունքի նկարագրությունը
A65: Ճանապարհային երթեւեկության անվտանգության ապահովման պատշաճ մակարդակ
A66: Ծառայություն մատուցողի (մատուցողների) անվանումը
A67: ՀՀ Ոստիկանության ճանապարհային ոստիկանություն
A68: 2. Հանրային սեփականության կառավարման արդյունքների ցուցանիշները
A69: 2.1. Կարողությունների զարգացում
A70: 2.1.1.Ֆիզիկական կապիտալ. կառավարչական հիմնարկի կողմից ուղղակիորեն օգտագործվող ակտիվներ (ակտիվների ձեռք բերում,
A71: կառուցում կամ հիմնանորոգում)
A72: Ծրագրային դասիչը | C72: Ակտիվի անվանումը | D72: Ոչ ֆինանսական ցուցանիշներ | H72: Ֆինանսական ցուցանիշներ
C73: Շենքերի և շինությունների շինարարություն
A74: 1175 | B74: ԿՀ01 | C74: Նկարագրություն
C75: Նախատեսվում է ՀՀ ոստիկանության ՃՈ Իջևանի ՀՔԲ և ՀՀ ոստիկանության Շիրակի մարզային վարչության Կումայրիի բաժնի նոր վարչական շենքերի կառուցման 2018թ. չափաբաժնի և ՀՀ ոստիկանության Էրեբունու ՈԲ հենակետի կառուցման ֆինանսավորման համար
A76: Չափորոշիչներ | D76: I եռամսյակ | E76: I կիսամյակ | F76: 9 ամիս | G76: Տարի | H76: I եռամսյակ | I76: I կիսամյակ | J76: 9 ամիս | K76: Տարի
A77: Քանակական | C77: ՀՀ ոստիկանության ՃՈ Իջևանի ՀՔԲ նոր վարչական շենքերի կառուցում, հեղինակային և տեխնիկական հսկողություն | D77: 0 | E77: 1 | F77: 1 | G77: 1 | H77: X | I77: X | J77: X | K77: X
C78: ՀՀ ոստիկանության Շիրակի մարզային վարչության Կումայրիի բաժնի նոր վարչական շենքերի կառուցում, հեղինակային և տեխնիկական հսկողություն | D78: 0 | E78: 1 | F78: 1 | G78: 1 | H78: X | I78: X | J78: X | K78: X
C79: ՀՀ ոստիկանության Երևան քաղաքի վարչության Էրեբունի ՈԲ հենակետի կառուցում, տեխնիական և հեղինակային հսկողություն | D79: 0 | E79: 0 | F79: 1 | G79: 1 | H79: X | I79: X | J79: X | K79: X
A80: Տվյալ տարվա պետական բյուջեից ակտիվի ձեռք բերման, կառուցման կամ հիմնանորոգման վրա կատարվող ծախսերը (հազար դրամ) | D80: X | E80: X | F80: X | G80: X | H80: =+'N 6,1'!E101 -> 0 | I80: =+'N 6,1'!F101 -> 174508.5 | J80: =+'N 6,1'!G101 -> 251920.1 | K80: =+'N 6,1'!H101 -> 326006.6
A81: Ակտիվի ծառայության կանխատեսվող ժամկետը | C81: 20 տարի
A82: Ակտիվի ընդհանուր արժեքը (հազար դրամ) | C82: =+K80 -> 326006.6
A83: Տվյալ բյուջետային տարվան նախորդող բյուջետային տարիների ընթացքում ակտիվի վրա կատարված ծախսերը (հազար դրամ) | C83: 2017թ.- 447,531.5
A84: Ակտիվն օգտագործող կազմակերպության անվանումը
A85: ՀՀ կառավարությանն առընթեր ոստիկանություն, ՀՀ ոստիկանության ճանապարհային ոստիկանություն
A86: Փոխարինվող ակտիվների նկարագրությունը
A87: Մշակված չէ
A88: Ազդեցությունը կազմակերպության կարողությունների զարգացման վրա, մասնավորապես
A89: Քանակական, որակական, ժամկետայնության և այլ չափորոշիչների փոփոխության վրա | C89: մշակված չէ
A90: Ծախսային արդյունավետության բարելավման վրա | C90: մշակված չէ
A91: Ծրագիրը (ծրագրերը), որի (որոնց) շրջանակներում իրականացվում է քաղաքականության միջոցառումը
A92: 1175 ԿՀ01 Ճանապարհային անվտանգության ապահովում
A93: Վերջնական արդյունքի նկարագրությունը
A94: ՀՀ ոստիկանության Ճանապարհային ոստիկանության և այլ ստորաբաժանումների շենքային պայմանների բարելավում
A95: Ծրագրային դասիչը | C95: Ակտիվի անվանումը | D95: Ոչ ֆինանսական ցուցանիշներ | H95: Ֆինանսական ցուցանիշներ
C96: Շենքերի և շինությունների կապիտալ վերանորոգում
A97: 1175 | B97: ԿՀ02 | C97: Նկարագրություն
C98: Նախատեսվում է ՃՈ խորհրդակցությունների դահլիճի, ԿՀԴՊԳՎ նկուղային հարկի սպորտ դահլիճի և խորհրդակցությունների դահլիճի կապիտալ վերանորոգման կապիտալ վերանորոգում, տեխնիկական և հեղինակային հսկողություն
A99: Չափորոշիչներ | D99: I եռամսյակ | E99: I կիսամյակ | F99: 9 ամիս | G99: Տարի | H99: I եռամսյակ | I99: I կիսամյակ | J99: 9 ամիս | K99: Տարի
A100: Քանակական | C100: ՃՈ խորհրդակցությունների դահլիճի կապիտալ շինարարական աշխատանքներ, տեխնիկական և հեղինակային հսկողություն | D100: 0 | E100: 1 | F100: 1 | G100: 1 | H100: X | I100: X | J100: X | K100: X
C101: ՀՀ ոստիկանության ԿՀԴՊԳՎ նկուղային հարկի սպորտ դահլիճի վերանորոգում, տեխնիկական և հեղինակային հսկողություն, նախագծանախահաշվային փաստաթղթերի կազմում | D101: 0 | E101: 1 | F101: 1 | G101: 1 | H101: X | I101: X | J101: X | K101: X
C102: ՀՀ ոստիկանության ԿՀԴՊԳՎ խորհրդակցության դահլիճի վերանորոգման նախագծանախահաշվային փաստաթղթերի կազմում | D102: 0 | E102: 1 | F102: 1 | G102: 1 | H102: X | I102: X | J102: X | K102: X
...

Sheet 9.2
E1: ՀԱՎԵԼՎԱԾ N 9
D2: ՀՀ կառավարության 2017 թվականի------ -ի N -Ն որոշման
D3: Աղյուսակ N2
A5: ՀԱՅԱՍՏԱՆԻ ՀԱՆՐԱՊԵՏՈՒԹՅԱՆ ԿԱՌԱՎԱՐՈՒԹՅԱՆ 2017 ԹՎԱԿԱՆԻ ԴԵԿՏԵՄԲԵՐԻ 28-Ի N 1717-Ն ՈՐՈՇՄԱՆ N 11 ՀԱՎԵԼՎԱԾԻ N 12 ԱՂՅՈՒՍԱԿՈՒՄ ՀՀ ԿԱՌԱՎԱՐՈՒԹՅԱՆՆ ԱՌԸՆԹԵՐ ՀՀ ՈՍՏԻԿԱՆՈՒԹՅԱՆ ՄԱՍՈՎ ԿԱՏԱՐՎՈՂ ԼՐԱՑՈՒՄՆԵՐԸ
A8: Ծրագրային դասիչը | B8: Միջոցառումը | C8: Գործառական դասիչը | D8: Ծրագիր/Քաղաքականության միջոցառում | E8: Ցուցանիշների փոփոխությունը (ավելացումները նշված են դրական նշանով) 2018 թվականի պետական բյուջե (հազար դրամ)
A9: Ծրագիրը | C9: (Բաժին/Խումբ /Դաս)
A10: 1175 | D10: ԾՐԱԳԻՐ
C11: 03.01.01 | D11: Ճանապարհային երթևեկության անվտանգության կազմակերպում, իրականացում և ճանապարհատրանսպորտային պատահարների կանխարգելում | E11: =E36+E137 -> 13916379
D12: Ծրագրի նկարագրությունը
D13: Ճանապարհային երթևեկության կարգավորում, ճանապարհային երթևեկության անվտանգության ապահովման բնագավառի օրենսդրության, ճանապարհային երթեւեկության կանոնների, տեխնիկական նորմերի պահանջների կատարման նկատմամբ վերահսկողություն, ճանապարհապարեկային ծառայության իրականացում, ճանապարհատրանսպորտային պատահարների եւ ճանապարհային երթեւեկության բնագավառում վարչական իրավախախտումների պետական հաշվառում, ճանապարհային անվտանգության կանխարգելում, երթեւեկության մասնակիցներին վարորդական վկայական ստանալու քննությունների ընդունում եւ վարորդական վկայականների տրամադրում
D14: Վերջնական արդյունքի նկարագրությունը
D15: Ճանապարհային երթևեկության անվտանգության ապահովման պատշաճ մակարդակ
D16: Քաղաքականության միջոցառումներ. Ծառայություններ
D20: Ծառայություն մատուցողի անվանումը
D21: ՀՀ ոստիկանության ճանապարհային ոստիկանություն
B22: <լրացնել քաղաքականության միջոցառման դասիչը> | C22: < լրացնել գործառական դասիչը > | D22: <Լրացնել տրանսֆերտի անվանումը>
D23: Տրանսֆերտի նկարագրությունը
D24: <Լրացնել տրանսֆերտի նկարագրությունը>
D25: Քաղաքականության միջոցառումներ. Ֆինանսավորման ծախսեր
B26: <լրացնել քաղաքականության միջոցառման դասիչը> | C26: < լրացնել գործառական դասիչը > | D26: <Լրացնել ֆինանսավորման ծախսի անվանումը>
D27: Ֆինանսավորման ծախսի նկարագրությունը
D28: <Լրացնել ֆինանսավորման ծախսի նկարագրությունը>
A29: 1107 | D29: ԾՐԱԳԻՐ
D31: Ծրագրի նկարագրությունը
D33: Վերջնական արդյունքի նկարագրությունը
D35: Քաղաքականության միջոցառումներ. Ծառայություններ
B36: ԱԾ01 | D36: ՀՀ ոստիկանության ճանապարհային ոստիկանության և ոստիկանության այլ ստորաբաժանումների նյութական ապահովում, մատուցած ծառայությունների մակարդակի բարձրացում | E36: =+'N 5'!F13 -> 11933712
D37: Մատուցվող ծառայության նկարագրությունը
D38: Ճանապարհային երթևեկության կարգավորում, ճանապարհային երթևեկության անվտանգության ապահովման բնագավառի օրենսդրության, ճանապարհային երթեւեկության կանոնների, տեխնիկական նորմերի պահանջների կատարման նկատմամբ վերահսկողություն, ճանապարհապարեկային ծառայության իրականացում, ճանապարհատրանսպորտային պատահարների եւ ճանապարհային երթեւեկության բնագավառում վարչական իրավախախտումների պետական հաշվառում, ճանապարհային անվտանգության կանխարգելում, երթեւեկության մասնակիցներին վարորդական վկայական ստանալու քննությունների ընդունում եւ վարորդական վկայականների տրամադրում
D39: Ծառայություն մատուցողի անվանումը
D40: ՀՀ ոստիկանության ճանապարհային ոստիկանություն
D41: ԾՐԱԳԻՐ
D43: Ծրագրի նկարագրությունը
D45: Վերջնական արդյունքի նկարագրությունը
D47: Քաղաքականության միջոցառումներ. Ծառայություններ
D49: Մատուցվող ծառայության նկարագրությունը
D51: Ծառայություն մատուցողի անվանումը
D53: Քաղաքականության միջոցառումներ. Տրանսֆերտներ
B54: <լրացնել քաղաքականության միջոցառման դասիչը> | C54: < լրացնել գործառական դասիչը > | D54: <Լրացնել տրանսֆերտի անվանումը>
D55: Տրանսֆերտի նկարագրությունը
D56: <Լրացնել տրանսֆերտի նկարագրությունը>
D57: Քաղաքականության միջոցառումներ. Ֆինանսավորման ծախսեր
B58: <լրացնել քաղաքականության միջոցառման դասիչը> | C58: < լրացնել գործառական դասիչը > | D58: <Լրացնել ֆինանսավորման ծախսի անվանումը>
D59: Ֆինանսավորման ծախսի նկարագրությունը
D60: <Լրացնել ֆինանսավորման ծախսի նկարագրությունը>
D61: ԾՐԱԳԻՐ
D63: Ծրագրի նկարագրությունը
D65: Վերջնական արդյունքի նկարագրությունը
D67: Քաղաքականության միջոցառումներ. Ծառայություններ
D69: Մատուցվող ծառայության նկարագրությունը
D71: Ծառայություն մատուցողի անվանումը
D73: Քաղաքականության միջոցառումներ. Տրանսֆերտներ
B74: <լրացնել քաղաքականության միջոցառման դասիչը> | C74: < լրացնել գործառական դասիչը > | D74: <Լրացնել տրանսֆերտի անվանումը>
D75: Տրանսֆերտի նկարագրությունը
D76: <Լրացնել տրանսֆերտի նկարագրությունը>
D77: Քաղաքականության միջոցառումներ. Ֆինանսավորման ծախսեր
B78: <լրացնել քաղաքականության միջոցառման դասիչը> | C78: < լրացնել գործառական դասիչը > | D78: <Լրացնել ֆինանսավորման ծախսի անվանումը>
D79: Ֆինանսավորման ծախսի նկարագրությունը
D80: <Լրացնել ֆինանսավորման ծախսի նկարագրությունը>
D81: ԾՐԱԳԻՐ
D83: Ծրագրի նկարագրությունը
D85: Վերջնական արդյունքի նկարագրությունը
D87: Քաղաքականության միջոցառումներ. Ծառայություններ
D89: Մատուցվող ծառայության նկարագրությունը
D91: Ծառայություն մատուցողի անվանումը
D93: Քաղաքականության միջոցառումներ. Տրանսֆերտներ
B94: <լրացնել քաղաքականության միջոցառման դասիչը> | C94: < լրացնել գործառական դասիչը > | D94: <Լրացնել տրանսֆերտի անվանումը>
D95: Տրանսֆերտի նկարագրությունը
D96: <Լրացնել տրանսֆերտի նկարագրությունը>
D97: Քաղաքականության միջոցառումներ. Ֆինանսավորման ծախսեր
B98: <լրացնել քաղաքականության միջոցառման դասիչը> | C98: < լրացնել գործառական դասիչը > | D98: <Լրացնել ֆինանսավորման ծախսի անվանումը>
D99: Ֆինանսավորման ծախսի նկարագրությունը
D100: <Լրացնել ֆինանսավորման ծախսի նկարագրությունը>
D101: ԾՐԱԳԻՐ
D103: Ծրագրի նկարագրությունը
D105: Վերջնական արդյունքի նկարագրությունը
D107: Քաղաքականության միջոցառումներ. Ծառայություններ
D109: Մատուցվող ծառայության նկարագրությունը
D111: Ծառայություն մատուցողի անվանումը
D113: ԾՐԱԳԻՐ
D115: Ծրագրի նկարագրությունը
D117: Վերջնական արդյունքի նկարագրությունը
D119: Քաղաքականության միջոցառումներ. Ծառայություններ
... D123: Ծառայություն մատուցողի անվանումը
A129: 3. Կապիտալ ծրագրեր և քաղաքականության միջոցառումներ
A131: Աղյուսակ 3. Հանրության կողմից օգտագործվող ոչ ֆինանսական ակտիվների ձեռքբերման, կառուցման կամ հիմնանորոգման գծով ծրագրեր և քաղաքականության միջոցառումներ
A134: Ծրագրային դասիչը | C134: Գործառական դասիչը | D134: Ծրագիր/Քաղաքականության միջոցառում | E134: 2014 Բյուջե
A135: Ծրագիրը | B135: Միջոցառումը | C135: (Բաժին/Խումբ/Դաս) | E135: (հազ. դրամ)
D136: ՀԱՆՐՈՒԹՅԱՆ ԿՈՂՄԻՑ ՕԳՏԱԳՈՐԾՎՈՂ ՈՉ ՖԻՆԱՆՍԱԿԱՆ ԱԿՏԻՎՆԵՐ
D137: Ճանապարհային անվտանգության ապահովում | E137: =E144+E149+E154+E159+E139+E164+E169 -> 1982666.3
D138: Կառավարչական հիմնարկի կողմից օգտագործվող ակտիվներ
B139: ԿՀ 01 | C139: 03.01.01 | D139: Շենքերի և շինությունների շինարարություն | E139: =+'9.1'!K80 -> 326006.6
D140: Ակտիվի նկարագրությունը
D141: Նախատեսվում է ՀՀ ոստիկանության ՃՈ Իջևանի ՀՔԲ և ՀՀ ոստիկանության Շիրակի մարզային վարչության Կումայրիի բաժնի նոր վարչական շենքերի կառուցման 2018թ. չափաբաժնի և ՀՀ ոստիկանության Էրեբունու ՈԲ հենակետի կառուցման ֆինանսավորման համար
D142: Ծրագիրը (ծրագրերը), որին (որոնց) առնչվում է ակտիվը
D143: 1175 Ճանապարհային անվտանգության ապահովում
B144: ԿՀ 02 | C144: 03.01.01 | D144: Շենքերի և շինությունների կապիտալ վերանորոգում | E144: =+'9.1'!K104 -> 73564.2
D145: Ակտիվի նկարագրությունը
D146: Նախատեսվում է ՃՈ խորհրդակցությունների դահլիճի, ԿՀԴՊԳՎ նկուղային հարկի սպորտ դահլիճի և խորհրդակցությունների դահլիճի կապիտալ վերանորոգման կապիտալ վերանորոգում, տեխնիկական և հեղինակային հսկողություն
D147: Ծրագիրը (ծրագրերը), որին (որոնց) առնչվում է ակտիվը
...
