Workbook

Sheet 1
E1: Հավելված N 1
E2: Կառավարության
E3: 2018 թվականի ----- N ----Ն որոշման
A5: «ՀԱՅԱՍՏԱՆԻ ՀԱՆՐԱՊԵՏՈՒԹՅԱՆ 2018 ԹՎԱԿԱՆԻ ՊԵՏԱԿԱՆ ԲՅՈՒՋԵԻ ՄԱՍԻՆ» ՕՐԵՆՔԻ N 1 ՀԱՎԵԼՎԱԾՈՒՄ ԿԱՏԱՐՎՈՂ ՎԵՐԱԲԱՇԽՈՒՄԸ ԵՎ ԿԱՌԱՎԱՐՈՒԹՅԱՆ 2017 ԹՎԱԿԱՆԻ ԴԵԿՏԵՄԲԵՐԻ 28-Ի N 1717-Ն ՈՐՈՇՄԱՆ N 5 ՀԱՎԵԼՎԱԾՈՒՄ ԿԱՏԱՐՎՈՂ ՓՈՓՈԽՈՒԹՅՈՒՆՆԵՐԸ
A7: Բաժինը | B7: Խումբը | C7: Դասը | D7: Բյուջետային ծախսերի գործառական դասակարգման բաժինների, խմբերի և դասերի անվանումները | E7: Ցուցանիշների փոփոխությունը (ավելացումները նշված են դրական նշանով, իսկ նվազեցումները` փակագծերում)
E8: Տարի
A9: 1 | B9: 2 | C9: 3 | D9: 4 | E9: 5
D10: ԸՆԴԱՄԵՆԸ` ԾԱԽՍԵՐ | E10: =E12 -> 0
D11: այդ թվում`
A12: 07 | D12: ԱՌՈՂՋԱՊԱՀՈՒԹՅՈՒՆ | E12: =E14+E22+E54+E102+E110 -> 0
D13: այդ թվում`
B14: 01 | D14: Բժշկական ապրանքներ, սարքեր և սարքավորումներ | E14: =E16 -> -100000
D15: այդ թվում`
C16: 01 | D16: Դեղագործական ապրանքներ | E16: =E18 -> -100000
D17: այդ թվում`
D18: 01.Դեղորայքի տրամադրում ամբուլատոր-պոլիկլինիկական, հիվանդանոցային բուժօգնություն ստացողներին և հատուկ խմբերում ընդգրկված ֆիզիկական անձանց | E18: =E19 -> -100000
D19: ՀՀ առողջապահության նախարարություն | E19: =E21 -> -100000
D20: որից`
D21: Առողջապահական և լաբորատոր նյութեր | E21: -100000
B22: 02 | D22: Արտահիվանդանոցային ծառայություններ | E22: =E24+E30+E48 -> -360000
D23: այդ թվում`
C24: 01 | D24: Ընդհանուր բնույթի բժշկական ծառայություններ | E24: =E26 -> -360000
D25: այդ թվում`
D26: 01. Ամբուլատոր պոլիկլինիկական բժշկական օգնության ծառայություններ | E26: =E27 -> -360000
D27: ՀՀ առողջապահության նախարարություն | E27: =E29 -> -360000
D28: որից`
D29: Ընդհանուր բնույթի այլ ծառայություններ | E29: -360000
C30: 02 | D30: Մասնագիտացված բժշկական ծառայություններ | E30: =E36+E44+E32+E40 -> -120000
D31: այդ թվում`
D32: 01. Մտավոր, հոգեկան (վարքագծային), լսողական, ֆիզիկական (շարժողական) և զարգացման այլ խանգարումներով երեխաների գնահատման և վերականգնողական բուժման ծառայություններ | E32: =E33 -> 15000
D33: ՀՀ առողջապահության նախարարություն | E33: =E35 -> 15000
D34: որից`
D35: Ընդհանուր բնույթի այլ ծառայություններ | E35: 15000
D36: 02. Հեմոդիալիզի և պերիտոնիալ դիալիզի անցկացման ծառայություններ | E36: =E37 -> -160000
D37: ՀՀ առողջապահության նախարարություն | E37: =E39 -> -160000
D38: որից`
D39: Ընդհանուր բնույթի այլ ծառայություններ | E39: -160000
D40: 05. Շարունակական հսկողություն պահանջող և առանձին հիվանդությունների բուժման ծառայություններ | E40: =E41 -> 35000
D41: ՀՀ առողջապահության նախարարություն | E41: =E43 -> 35000
D42: որից`
D43: Ընդհանուր բնույթի այլ ծառայություններ | E43: 35000
D44: 06. Բնածին հիպոթիրեոզի, ֆենիլկենտոնուրիայի և լսողության խանգարումների վաղ հայտնաբերման նպատակով նորածնային սկրինինգի անցկացում | E44: =E45 -> -10000
D45: ՀՀ առողջապահության նախարարություն | E45: =E47 -> -10000
D46: որից`
D47: Ընդհանուր բնույթի այլ ծառայություններ | E47: -10000
C48: 04 | D48: Պարաբժշկական ծառայություններ | E48: =E50 -> 120000
D49: այդ թվում`
D50: 01.Շտապ բժշկական օգնության ծառայություններ | E50: =E51 -> 120000
D51: ՀՀ առողջապահության նախարարություն | E51: =E53 -> 120000
D52: որից`
D53: Ընդհանուր բնույթի այլ ծառայություններ | E53: 120000
B54: 03 | D54: Հիվանդանոցային ծառայություններ | E54: =E56+E70+E92 -> 642800
D55: այդ թվում`
C56: 01 | D56: Ընդհանուր բնույթի հիվանդանոցային ծառայություններ | E56: =E58+E62+E66 -> 170000
D57: այդ թվում`
D58: 01. Անհետաձգելի բժշկական օգնության ծառայություններ | E58: =E59 -> 400000
D59: ՀՀ առողջապահության նախարարություն | E59: =E61 -> 400000
D60: որից`
D61: Ընդհանուր բնույթի այլ ծառայություններ | E61: 400000
D62: 02. Սոցիալապես անապահով և հատուկ խմբերում ընդգրկվածներին բժշկական օգնության ծառայություններ | E62: =E63 -> -100000
D63: ՀՀ առողջապահության նախարարություն | E63: =E65 -> -100000
D64: որից`
D65: Ընդհանուր բնույթի այլ ծառայություններ | E65: -100000
D66: 04. Պետական հիմնարկների և կազմակերպությունների աշխատողների բժշկական օգնության և սպասարկման ծառայություններ | E66: =E67 -> -130000
D67: ՀՀ առողջապահության նախարարություն | E67: =E69 -> -130000
D68: որից`
D69: Ընդհանուր բնույթի այլ ծառայություններ | E69: -130000
C70: 02 | D70: Մասնագիտացված հիվանդանոցային ծառայություններ | E70: =E72+E76+E80+E84+E88 -> -82000
D71: այդ թվում`
D72: 01.Տուբերկուլյոզի բժշկական օգնության ծառայություններ | E72: =E73 -> -280000
D73: ՀՀ առողջապահության նախարարություն | E73: =E75 -> -280000
D74: որից`
D75: Ընդհանուր բնույթի այլ ծառայություններ | E75: -280000
D76: 02. Աղիքային և այլ ինֆեկցիոն հիվանդությունների բժշկական օգնության ծառայություններ | E76: =E77 -> 100000
D77: ՀՀ առողջապահության նախարարություն | E77: =E79 -> 100000
D78: որից`
D79: Ընդհանուր բնույթի այլ ծառայություններ | E79: 100000
D80: 03. Հոգեկան և նարկոլոգիական հիվանդների բժշկական օգնության ծառայություններ | E80: =E81 -> -100000
D81: ՀՀ առողջապահության նախարարություն | E81: =E83 -> -100000
D82: որից`
D83: Ընդհանուր բնույթի այլ ծառայություններ | E83: -100000
D84: 04. Ուռուցքաբանական և արյունաբանական հիվանդությունների բժշկական օգնության ծառայություններ | E84: =E85 -> 200000
D85: ՀՀ առողջապահության նախարարություն | E85: =E87 -> 200000
D86: որից`
D87: Ընդհանուր բնույթի այլ ծառայություններ | E87: 200000
D88: 05.Թրաֆիքինգի զոհերին բժշկական օգնության ծառայություններ | E88: =E89 -> -2000
D89: ՀՀ առողջապահության նախարարություն | E89: =E91 -> -2000
D90: որից`
D91: Ընդհանուր բնույթի այլ ծառայություններ | E91: -2000
C92: 03 | D92: Մոր և մանկան բժշկական ծառայություններ | E92: =E94+E98 -> 554800
D93: այդ թվում`
D94: 02. Գինեկոլոգիական հիվանդությունների բժշկական օգնության ծառայություններ | E94: =E95 -> -20000
D95: ՀՀ առողջապահության նախարարություն | E95: =E97 -> -20000
D96: որից`
D97: Ընդհանուր բնույթի այլ ծառայություններ | E97: -20000
D98: 03. Երեխաներին բժշկական օգնության ծառայություններ | E98: =E99 -> 574800
D99: ՀՀ առողջապահության նախարարություն | E99: =E101 -> 574800
D100: որից`
D101: Ընդհանուր բնույթի այլ ծառայություններ | E101: 574800
B102: 04 | D102: Հանրային առողջապահական ծառայություններ | E102: =E104 -> -158800
...

Sheet 2
E1: Հավելված N 2
E2: Կառավարության
E3: 2018 թվականի ----- N ----Ն որոշման
E4: Աղյուսակ 1
A5: ԿԱՌԱՎԱՐՈՒԹՅԱՆ 2017 ԹՎԱԿԱՆԻ ԴԵԿՏԵՄԲԵՐԻ 28-Ի N 1717-Ն ՈՐՈՇՄԱՆ N 11 ՀԱՎԵԼՎԱԾԻ N 11.9 ԱՂՅՈՒՍԱԿՈՒՄ ԿԱՏԱՐՎՈՂ ՓՈՓՈԽՈՒԹՅՈՒՆՆԵՐԸ
A7: Չափորոշիչներ | D7: Ցուցանիշների փոփոխությունը (ավելացումները նշված են դրական նշանով, իսկ նվազեցումները` փակագծերում)
D8: ոչ ֆինանսական ցուցանիշներ | E8: ֆինանսական ցուցանիշներ
D9: Տարի | E9: Տարի
A10: ՄԱՍ Գ: Մարմնի ղեկավարի պատասխանատվության ներքո իրականացվող քաղաքականության միջոցառումների և ֆինանսական կառավարման արդյունքների ցուցանիշները
A11: 1. Քաղաքականության միջոցառումներ
A12: 1.1.Ծառայություններ
A13: Ծրագրային դասիչը | C13: Անվանումը
C14: Առողջ ապրելակերպի խթանման և հանրային իրազեկման ծառայություններ
C15: Նկարագրությունը
C16: Ամենամյա պետական նպատակային ծրագրերի շրջանակներում «Պետության կողմից երաշխավորված անվճար բժշկական օգնության և սպասարկման մասին» ՀՀ կառավարության որոշման ու դրանից բխող` ՀՀ առողջապահության նախարարության կողմից մշակված և ընդունված նորմատիվային ակտերի լուսաբանման աշխատանքներ
A17: 1001 | B17: ԱԾ17
A18: Քանակական | C18: Պատրաստվող և մետրային հեռուստատեսությամբ` ուղիղ եթերի և ինտերակտիվ կապի միջոցներով հեռարձակվող առողջապահական հեռուստահաղորդումների (մեկ հաղորդումը միջինը 35 րոպեի հաշվարկով) թիվը
C19: Բնակչության առողջության պահպանման, բուժկանխարգելման, առողջապահության ոլորտի կառավարման հարցերի վերաբերյալ մշակված և մամուլում հրապարակված մեթոդական ձեռնարկների (16 էջի հաշվարկով) թիվը
C20: Առողջապահական հիմնական վիճակագրական տվյալների հավաքագրում և համակարգում
A21: Որակական | C21: Մշակված չէ
A22: Ժամկետայնության | C22: Մշակված չէ
A23: Մատուցվող ծառայության վրա կատարվող ծախսը (հազար դրամ) | D23: X | E23: ='1'!E114 -> -10000
A24: Ծրագիրը (ծրագրերը), որի (որոնց) շրջանակներում իրականացվում է քաղաքականության միջոցառումը
A25: 1001 Պետական քաղաքականության մշակման, ծրագրերի համակարգման և մոնիտորինգի ծրագիր
A26: Վերջնական արդյունքի նկարագրությունը
A27: Ծրագիրը նպաստում է ՀՀ նախարարության կողմից իրականացվող ծրագրերի գծով նախատեսված արդյունքների ապահովմանը
A28: Ծառայություն մատոցողի (մատուցողների) անվանումը
A29: Առողջապահական կազմակերպություններ, ԶԼՄ-ներ
A30: Ծրագրային դասիչը | C30: Անվանումը
C31: Իմունականխարգելման ազգային ծրագիր
C32: Նկարագրությունը
C33: Բնակչության շրջանում սահմանված կառավարելի վարակիչ հիվանդությունների իմունականխարգելում` կառավարելի վարակիչ հիվանդություններով հիվանդացության նվազեցման և մահվան դեպքերի կանխման, ինչպես նաև կառավարելի վարակիչ հիվանդությունների նկատմամբ բնակչության կոլեկտիվ անընկալության ապահովման նպատակով
A34: 1003 | B34: ԱԾ02
A35: Քանակական | C35: Հեպատիտ Բ և ԲՑԺ պատվաստում ստացած նորածինների թիվը
C36: Հնգավալենտ /ԱԿԴՓ-ՀԲ-Հիբ/ 3 դեղաչափ պատվաստում ստացած երեխաների թիվը
C37: Պնևմոկոկային 3 դեղաչափ պատվաստում ստացած երեխաների թիվը
C38: Ռոտավիրուսային 2 դեղաչափ պատվաստում ստացած երեխաների թիվը
C39: Պոլիոմիելիտի 3 դեղաչափ պատվաստում ստացած երեխաների թիվը
C40: Կարմրուկի, կարմրախտի և խոզուկի դեմ 1 դեղաչափը պատվաստում ստացած երեխաների թիվը
C41: Նախազորակոչային /15-16 տարեկան/ և զորակոչային /18 տարեկան/ պատվաստվածների թիվը
A42: Որակական | C42: Տուբերկուլոզի և հեպատիտ Բ-ի դեմ պատվաստված երեխաների մասնաբաժինը 11 ամսական 29 օրական երեխաների թվում (տոկոս)
C43: Կարմրուկի, կարմրախտի և խոզուկի դեմ առաջին դեղաչափը պատվաստված երեխաների մասնաբաժինը 23 ամսական 29 օրական երեխաների թվում (տոկոս)
C44: Հնգավալենտ /ԱԿԴՓ-Հեպ Բ-Հիբ/ 3 դեղաչափ պատվաստում ստացած երեխաների մասնաբաժինը 11 ամսական 29 օրական տարեկան երեխաների թվում (տոկոս)
C45: Ռոտավիրուսային 2 դեղաչափ պատվաստում ստացած երեխաների մասնաբաժինը 11 ամսական 29 օրական երեխաների թվում (տոկոս)
C46: Պոլիոմիելիտի 3 դեղաչափ պատվաստում ստացած երեխաների մասնաբաժինը 11 ամսական 29 օրական երեխաների թվում (տոկոս)
A47: Ժամկետայնության | C47: Ազգային մակարդակում պատվաստանյութերի մատակարարման ընդհատում, ամիս
A48: Մատուցվող ծառայության վրա կատարվող ծախսը (հազար դրամ) | D48: X | E48: ='1'!E106 -> -158800
A49: Ծրագիրը (ծրագրերը), որի (որոնց) շրջանակներում իրականացվում է քաղաքականության միջոցառումը
A50: 1003 Հանրային առողջության պահպանման ծրագիր
A51: Վերջնական արդյունքի նկարագրությունը
A52: Հայաստանի Հանրապետությունում բնակչության սանիտարահամաճարակային անվտանգության կայուն ապահովում, «Պոլիոմիելիտից ազատ» երկրի կարգավիճակի պահպանում, կարմրուկի և կարմրախտի տեղական և փայտացման դեպքերի, ինչպես նաև մինչև 14 տարեկան երեխաների շրջանում սուր հեպատիտ Բ-ի դեպքերի բացակայություն, մալարիայի կրկին արմատավորման կանխարգելում, կառավարելի վարակիչ հիվանդությունների նկատմամբ բնակչության անընկալության ապահովում, վարակիչ հիվանդությունների օջախներում երկրորդ գաղտնի շրջանում կրկնակի դեպքերի բացառում, մարդու օրգանիզմի շրջակա միջավայրի վնասակար և վտանգավոր գործոնների ազդեցության բացառում և նվազեցում, մարդու և նրա ապագա սերունդների կենսունակության համար բարենպաստ պայմանների ապահովում (հիվանդությունների տարածման արգելակում և հակադարձում), դոնորական արյան վարակային անվտանգության ապահովում
A53: Ծառայություն մատոցողի (մատուցողների) անվանումը
A54: «Հիվանդությունների վերահսկման և կանխարգելման ազգային կենտրոն» ՊՈԱԿ
A55: Ծրագրային դասիչը | C55: Անվանումը
C56: Ամբուլատոր-պոլիկլինիկական բժշկական օգնության ծառայություններ
C57: Նկարագրությունը
C58: Հանրապետության ողջ բնակչության համար հիվանդությունների կանխարգելման, վաղ հայտնաբերման, բուժման և վերականգնողական համալիր միջոցառումների իրականացում, սոցիալական նշանակության հատուկ հիվանդություններով տառապող, սոցիալապես անապահով ու հատուկ խմբերում ընդգրկված անձանց դեղորայքային ապահովում, նեղ մասնագիտացված ամբուլատոր ծառայություններ, արտահիվանդանոցային մանկաբարձագինիկոլոգիական բժշկական օգնության և սպասարկման ծառայությունների մատուցում (հղիների նախա- և հետծննդյան հսկողության իրականացում, գինիկոլոգիական հիվանդությունների կանխարգելում, ախտորոշում, բուժում), ամբուլատոր պայմաններում լաբարատոր-գործիքայի ախտորոշիչ հետազոտություններ, զորակոչային և նախազորակոչային տարիքի անձանց բուժման և փորձաքննության ծառայություններ ամբուլատոր պայմաններում
A59: 1099 | B59: ԱԾ01
A60: Քանակական | C60: Բնակչության առողջության առաջնային պահպանման գծով ծառայություններից օգտվող բնակիչների թիվը, այդ թվում`
C61: ա) տեղամասային թերապևտի, ընտանեկան բժշկի, նեղ մասնագետի կողմից բուժօգնություն ստացող և դիսպնսեր բուժօգնության մեջ ընդգրկվող մինչև 18 և ավելի բարձր տարիքի բնակիչների թիվը | D61: -62900
C62: բ) տեղամասային մանկաբուժների, ընտանեկան բժշկի կողմից բուժօգնություն ստացող մինչև 18 տարեկան (նախազորակոչային տարիքի անձանց) բնակիչների թիվը | D62: -1300
C63: գ) դեռահասների բժիշկ-մասնագետի, ընտանեկան բժշկի, նեղ մասնագետի կողմից բուժօգնություն ստացող և դիսպանսերային բուժօգնության մեջ ընդգրկվող զորակոչային և նախազորակոչային տարիքի բնակիչների թիվը
C64: դ) դպրոցում բժշկական օգնություն և սպասարկում ստացող աշակերտների թիվը
C65: ե) անվճար և արտոնյալ պայմաններով դեղորայք ստացողների թիվը
C66: զ) տեղամասային թերապևտների, տեղամասային մանկաբուժների, ընտանեկան բժիշկների մոտ 1 բնակչի հաշվով հաճախումների թիվը
C67: է) դիաբետով հիվանդների դեղերով ապահովվածության մակարդակը, որից
C68: - ինսուլինով (%)
C69: - հակադիաբետիկ հաբերով (%)
C70: ը) սակավարության վերաբերյալ սկրինինգներում ընդգրկված 9-ից 13 ամսական երեխաներ (%)
C71: թ) մանկաբարձագինիկոլոգիական բժշկական օգնության գծով ծառայություններից օգտվող բնակիչների թիվը
C72: ժ) բնակչությանը (առանց զորակոչային և նախազորակոչային տարիքի անձանց) իրականացվող լաբարատոր-գործիքային ախտորոշիչ հոտազոտությունների թիվը
C73: ի) հղիներին և կանանց իրականացվող լաբարատոր-գործիքային ախտորոշիչ հոտազոտությունների թիվը
C74: լ) զորակոչային և նախազորակոչային տարիքի անձանց իրականացվող լաբարատոր-գործիքային ախտորոշիչ հոտազոտությունների թիվը
C75: խ) բժշկական օգնությն և փորձաքննության գծով ծառայություններից օգտվող զորակոչային և նախազորակոչային տարիքի անձանց թիվը
A76: Որակական | C76: շաքարային դիաբետով հիվանդների համար` դիաբետով հիվանդների վարման համապատասխանությունը սահմանված ցուցանիշներին (%)
C77: մինչև 12 շաբաթական ժամկետը հղիների վաղ ընդգրկվածությունը (%)
A78: Ժամկետայնության | C78: Մշակված չէ
A79: Մատուցվող ծառայության վրա կատարվող ծախսը (հազար դրամ) | D79: X | E79: ='1'!E26 -> -360000
A80: Ծրագիրը (ծրագրերը), որի (որոնց) շրջանակներում իրականացվում է քաղաքականության միջոցառումը
A81: 1099 Արտահիվանդանոցային բուժօգնության ծառայություններ
A82: Վերջնական արդյունքի նկարագրությունը
A83: Բնակչության առողջության պահպանում և բարելավում` հիվանդությունների վաղ հայտնաբերման և կանխարգելման ցուցանիշի աճ, հիվանդանոցային դեպքերի աստիճանական կրճատում
A84: Ծառայություն մատոցողի (մատուցողների) անվանումը
A85: Բուժմիավորումների կազմում գործող և ինքնուրույն պոլիկլինիկաներ, գյուղական բժշկական ամբուլատորիաներ, գյուղական առողջության կենտրոններ, առողջության առաջնային պահպանման կենտրոններ, ընտանեկան բժշկության անկախ պրակտիկաներ
A86: Ծրագրային դասիչը | C86: Անվանումը
C87: Շարունակական հսկողություն պահանջող և առանձին հիվանդությունների բուժման ծառայություններ
C88: Նկարագրությունը
C89: Առանձին հիվանդությունների (քրոնիկ, դիսպանսեր հսկողություն պահանջող) բժշկական օգնության համալիր միջոցառումների իրականացում (հետազոտում, ախտորոշում,բուժում)
A90: 1099 | B90: ԱԾ02
A91: Քանակական | C91: Շարունակական հսկողություն պահանջող և առանձին հիվանդությունների բուժման գծով ծառայություններից օգտվելու դեպքերի թիվը | D91: 1800
A92: Որակական | C92: Մշակված չէ
A93: Ժամկետայնության | C93: Մշակված չէ
A94: Մատուցվող ծառայության վրա կատարվող ծախսը (հազար դրամ) | D94: X | E94: 35000
A95: Ծրագիրը (ծրագրերը), որի (որոնց) շրջանակներում իրականացվում է քաղաքականության միջոցառումը
A96: 1099 Արտահիվանդանոցային բուժօգնության ծառայություններ
A97: Վերջնական արդյունքի նկարագրությունը
A98: Բնակչության առողջության պահպանում և բարելավում
A99: Ծառայություն մատոցողի (մատուցողների) անվանումը
A100: Առողջապահական կազմակերպություններ (բժշկական միավորումներ, ամբուլատորիաներ, պոլիկլինիկաներ, դիսպանսերներ, ընտանեկան բժշկի գրասենյակներ)
A101: Ծրագրային դասիչը | C101: Անվանումը
...

Sheet 3
E1: Հավելված N 2
E2: Կառավարության
E3: 2018 թվականի ----- N ----Ն որոշման
E5: Աղյուսակ 2
A6: ԿԱՌԱՎԱՐՈՒԹՅԱՆ 2017 ԹՎԱԿԱՆԻ ԴԵԿՏԵՄԲԵՐԻ 28-Ի N 1717-Ն ՈՐՈՇՄԱՆ N 11 ՀԱՎԵԼՎԱԾԻ N 12 ԱՂՅՈՒՍԱԿՈՒՄ ԿԱՏԱՐՎՈՂ ՓՈՓՈԽՈՒԹՅՈՒՆՆԵՐԸ
A8: Առողջապահության նախարարություն
A9: Բաժին 2
A10: Գերատեսչության կողմից իրականացվող քաղաքականության միջոցառումների ծրագրային խմբավորումը
A11: Ծրագրային դասիչը | C11: Գործառական դասիչը (բաժին/խումբ/դաս) | D11: Ծրագիրը/քաղաքականության միջոցառումը | E11: ՀՀ 2018 թվականի պետական բյուջե (հազար դրամ)
A12: ծրագիրը | B12: միջոցառումը | E12: Ցուցանիշների փոփոխությունը (ավելացումները նշված են դրական նշանով, իսկ նվազեցումները` փակագծերում)
A13: 1001 | D13: ԾՐԱԳԻՐ
D14: Պետական քաղաքականության մշակման, ծրագրերի համակարգման և մոնիտորինգի ծրագիր | E14: =E20 -> -10000
D15: Ծրագրի նկարագրությունը
D16: Քաղաքականության մշակման և դրա կատարման համակարգման, պետական ծրագրերի պլանավորման, մշակման, իրականացման և մոնիտորինգի (վերահսկման) ծառայություններ
D17: Վերջնական արդյունքի նկարագրությունը
D18: Ծրագիրը նպաստում է ՀՀ նախարարությունների կողմից իրականացվող ծրագրերի գծով նախատեսված արդյունքների ապահովմանը
D19: Քաղաքականության միջոցառումներ. Ծառայություններ
B20: =+'2'!B17 -> ԱԾ17 | D20: Առողջ ապրելակերպի խթանման և հանրային իրազեկման ծառայություններ | E20: ='2'!E23 -> -10000
D21: Մատուցվող ծրագրի նկարագրությունը
D22: Ամենամյա պետական նպատակային ծրագրերի շրջանակներում «Պետության կողմից երաշխավորված անվճար բժշկական օգնության և սպասարկման մասին» ՀՀ կառավարության որոշման ու դրանից բխող` ՀՀ առողջապահության նախարարության կողմից մշակված և ընդունված նորմատիվային ակտերի լուսաբանման աշխատանքներ
D23: Ծառայություն մատուցող անվանումը
D24: Առողջապահական կազմակերպություններ, ԶԼՄ-ներ
A25: 1003 | D25: ԾՐԱԳԻՐ
D26: Հանրային առողջության պահպանման ծրագիր | E26: =E32 -> -158800
D27: Ծրագրի նկարագրությունը
D28: Հանրային առողջության պահպանման, հիգիենիկ և հակահամաճարակային անվտանգության և մոնիտորինգի ծառայություններ
D29: Վերջնական արդյունքի նկարագրությունը
D30: Հայաստանի Հանրապետությունում բնակչության սանիտարահամաճարակային անվտանգության կայուն ապահովում, «Պոլիոմիելիտից ազատ» երկրի կարգավիճակի պահպանում, կարմրուկի և կարմրախտի տեղական և փայտացման դեպքերի, ինչպես նաև մինչև 14 տարեկան երեխաների շրջանում սուր հեպատիտ Բ-ի դեպքերի բացակայություն, մալարիայի կրկին արմատավորման կանխարգելում, կառավարելի վարակիչ հիվանդությունների նկատմամբ բնակչության անընկալության ապահովում, վարակիչ հիվանդությունների օջախներում երկրորդ գաղտնի շրջանում կրկնակի դեպքերի բացառում, մարդու օրգանիզմի շրջակա միջավայրի վնասակար և վտանգավոր գործոնների ազդեցության բացառում և նվազեցում, մարդու և նրա ապագա սերունդների կենսունակության համար բարենպաստ պայմանների ապահովում (հիվանդությունների տարածման արգելակում և հակադարձում), դոնորական արյան վարակային անվտանգության ապահովում
D31: Քաղաքականության միջոցառումներ. Ծառայություններ
B32: =+'2'!B34 -> ԱԾ02 | D32: Ինունականխարգելման ազգային ծրագիր | E32: ='2'!E48 -> -158800
D33: Մատուցվող ծրագրի նկարագրությունը
D34: Բնակչության շրջանում սահմանված կառավարելի վարակիչ հիվանդությունների իմունականխարգելում` կառավարելի վարակիչ հիվանդություններով հիվանդացության նվազեցման և մահվան դեպքերի կանխման, ինչպես նաև կառավարելի վարակիչ հիվանդությունների նկատմամբ բնակչության կոլեկտիվ անընկալության ապահովման նպատակով
D35: Ծառայություն մատուցող անվանումը
D36: «Հիվանդությունների վերահսկման և կանխարգելման ազգային կենտրոն» ՊՈԱԿ
A37: 1099 | D37: ԾՐԱԳԻՐ
D38: Արտահիվանդանոցային բուժօգնության ծառայություններ | E38: =E44+E49+E54+E59+E64+E69 -> -360000
D39: Ծրագրի նկարագրությունը
D40: Հանրապետության ողջ բնակչության համար արտահիվանդանոցային բժշկական օգնության և ծառայությունների իրականացում, այդ թվում անվճար ամբուլատոր-պոլիկլինիկական բուժօգնության կազմակերպում առաջնային (ամբուլատոր-պոլիկլինիկական) օղակի բոլոր մակարդակներում, արտահիվանդանոցային անհետաձգելի բժշկական օգնություն և սպասարկում (շտապ բժշկական օգնություն), ստոմատոլոգիական բժշկական օգնություն (բնակչության սոցիալապես ապահով և առանձին (հատուկ խմբերի) համար) և արտահիվանդանոցային հարբժշկական այլ ծառայություններ
D41: Վերջնական արդյունքի նկարագրությունը
D42: Բնակչության առողջության պահպանում և բարելավում, արտահիվանդանոցային բուժօգնության ծառայություններից օգտվելու իրավունքի ապահովում, հիվանդությունների վաղ հայտնաբերման և կանխարգելման ցուցանիշների աճ, բժշկական օգնության որակի բարելավում, հիվանդանոցային դեպքերի աստիճանական կրճատում
D43: Քաղաքականության միջոցառումներ. Ծառայություններ
B44: ='2'!B59 -> ԱԾ01 | D44: Ամբուլատոր-պոլիկլինիկական բժշկական օգնության ծառայություններ | E44: ='2'!E79 -> -360000
D45: Մատուցվող ծրագրի նկարագրությունը
D46: Հանրապետության ողջ բնակչության համար հիվանդությունների կանխարգելման, վաղ հայտնաբերման, բուժման և վերականգնողական համալիր միջոցառումների իրականացում, սոցիալական նշանակության հատուկ հիվանդություններով տառապող, սոցիալապես անապահով ու հատուկ խմբերում ընդգրկված անձանց դեղորայքային ապահովում, նեղ մասնագիտացված ամբուլատոր ծառայություններ, արտահիվանդանոցային մանկաբարձագինիկոլոգիական բժշկական օգնության և սպասարկման ծառայությունների մատուցում (հղիների նախա- և հետծննդյան հսկողության իրականացում, գինիկոլոգիական հիվանդությունների կանխարգելում, ախտորոշում, բուժում), ամբուլատոր պայմաններում լաբարատոր-գործիքայի ախտորոշիչ հետազոտություններ, զորակոչային և նախազորակոչային տարիքի անձանց բուժման և փորձաքննության ծառայություններ ամբուլատոր պայմաններում
D47: Ծառայություն մատուցող անվանումը
D48: Բուժմիավորումների կազմում գործող և ինքնուրույն պոլիկլինիկաներ, գյուղական բժշկական ամբուլատորիաներ, գյուղական առողջության կենտրոններ, առողջության առաջնային պահպանման կենտրոններ, ընտանեկան բժշկության անկախ պրակտիկաներ
B49: ='2'!B90 -> ԱԾ02 | D49: Շարունակական հսկողություն պահանջող և առանձին հիվանդությունների բուժման ծառայություններ | E49: ='2'!E94 -> 35000
D50: Մատուցվող ծրագրի նկարագրությունը
D51: Առանձին հիվանդությունների (քրոնիկ, դիսպանսեր հսկողություն պահանջող) բժշկական օգնության համալիր միջոցառումների իրականացում (հետազոտում, ախտորոշում,բուժում)
D52: Ծառայություն մատուցող անվանումը
D53: Առողջապահական կազմակերպություններ (բժշկական միավորումներ, ամբուլատորիաներ, պոլիկլինիկաներ, դիսպանսերներ, ընտանեկան բժշկի գրասենյակներ)
B54: ='2'!B105 -> ԱԾ03 | D54: Մտավոր, հոգեկան (վարքագծային), լսողական, ֆիզիկական (շարժողական) և զարգացման այլ խանգարումներով երեխաների գնահատման և վերականգնողական բուժման ծառայություններ | E54: ='2'!E109 -> 15000
D55: Մատուցվող ծրագրի նկարագրությունը
D56: Մտավոր, հոգեկան (վարքագծային), լսողական, ֆիզիկական (շարժողական) և զարգացման այլ խանգարումներով երեխաների առողջական վիճակի գնահատումը և վերականգնողական բուժման ամբուլատոր կազմակերպումը
D57: Ծառայություն մատուցող անվանումը
D58: Առողջապահական կազմակերպություններ (հիվանդանոցներ)
B59: ='2'!B120 -> ԱԾ04 | D59: Հեմոդիալիզի և պերիտոնիալ դիալիզի անցկացման ծառայություններ | E59: ='2'!E124 -> -160000
D60: Մատուցվող ծրագրի նկարագրությունը
D61: Հեմոդիալիզի կարիք ունեցող հիվանդների բժշկական օգնության համալիր միջոցառումների իրականացում
D62: Ծառայություն մատուցող անվանումը
D63: Առողջապահական կազմակերպություններ (հիվանդանոցներ) և այլ կազմակերպություններ
B64: ='2'!B135 -> ԱԾ06 | D64: Բնածին հիպոթիրեոզի ֆենիլկետոնուրիայի և լսողության խանգարումների վաղ հայտնաբերման նպատակով նորածնային սկրինգի անցկացում | E64: ='2'!E139 -> -10000
D65: Մատուցվող ծրագրի նկարագրությունը
D66: Բնածին հիպոթիրեոզի ֆենիլկետոնուրիայի և լսողության խանգարումների վաղ հայտնաբերման նպատակով նորածնային սկրինգի շրջանակում լաբարատոր և գործիքային ախտորոշիչ հետազոտությունների անցկացում
D67: Ծառայություն մատուցող անվանումը
D68: Բուժմիավորումների կազմում գործող և ինքնուրույն պոլիկլինիկաներ, գյուղական բժշկական ամբուլատորիաներ, գյուղական առողջության կենտրոններ, առողջության առաջնային պահպանման կենտրոններ, ընտանեկան բժշկության անկախ պրակտիկաներ, մասնագիտացված ախտորոշման կենտրոններ, պոլիկլինիկաներ, հիվանդանոցներ
B69: ='2'!B150 -> ԱԾ10 | D69: Շտապ բժշկական օգնության ծառայություններ | E69: ='2'!E154 -> 120000
D70: Մատուցվող ծրագրի նկարագրությունը
D71: Շտապ բժշկական օգնության իրականացում
D72: Ծառայություն մատուցող անվանումը
D73: Առողջապահական կազմակերպություններ (հիվանդանոցներ, շտապ բժշկական օգնության կայաններ, ընտանեկան բժշկի գրասենյակներ)
A74: 1142 | D74: ԾՐԱԳԻՐ
D75: Բժշկական օգնություն, հարբժշկական, փորձագիտական ծառայությունների ծրագիր | E75: =E81+E87+E90 -> -114000
D76: Ծրագրի նկարագրությունը
D77: Բժշկական օգնություն և ծառայություններ հանրապետության բարձրաստիճան պաշտոնյաների համար, հատուկ խմբերում ընդգրկված անձանց պրոթեզավորում, դժվարամատչելի ախտորոշիչ զննման, պաթանատոմիական, դատական և գենետիկական փորձաքննություններ և այլ ծառայություններ
D78: Վերջնական արդյունքի նկարագրությունը
D79: Բնակչության առողջության պահպանում, բարելավում, հիվանդությունների արգելակում և հակադարձում, բուժօգնության և ծառայությունների որակի ու մատչելիության բարձրացում
D80: Քաղաքականության միջոցառումներ. Ծառայություններ
B81: ='2'!B165 -> ԱԾ04 | D81: Բժշկական օգնության մասնագիտական, խորհրդատվական և կազմակերպամեթոդական աջակցության ծառայություններ | E81: ='2'!E177 -> -9000
D82: Մատուցվող ծրագրի նկարագրությունը
D83: Կազմակերպչամեթոդական օգնության ծառայություններ, կլինիկական ու բժշկատնտեսագիտական ստանդարտների մշակման, առողջապահության ոլորտի նորմատիվային բազայի բարելավման ծառայություններ: Բնակչության առողջության պահպանման առողջապահության ոլորտի կազմակերպման մեթոդական հարցերի, ձեռնարկների մշակում տպագրում
D84: Ծառայություն մատուցող անվանումը
D85: Առողջապահական կազմակերպություններ (դիսպանսերներ, «Ակադեմիկոս Ս.Խ.Ավդալբեկյանի անվան առողջապահության ազգային ինստիտուտ» ՓԲԸ, այլ կազմակերպություններ)
D86: Քաղաքականության միջոցառումներ. Տրանսֆերտներ
B87: ='2'!B340 -> ԾՏ01 | D87: Դեղորայքի տրամադրում ամբուլատոր-պոլիկլինիկական, հիվանդանոցային բուժօգնություն ստացողներին և հատուկ խմբերում ընդգրկված ֆիզիկական անձանց | E87: ='2'!E342 -> -100000
D88: Տրանսֆերտի նկարագրությունը
D89: Կենտրոնացված կարգով դեղորայքի ձեռքբերում հիվանդանոցային բուժօգնություն ստացողներին և հատուկ խմբերում ընդգրկված ֆիզիկական անձանց տրամադրելու նպատակով
B90: ='2'!B354 -> ԾՏ02 | D90: Անցանկալի հղիությունների կանխարգելման նպատակով հակաբեղմնավորիչ ժամանակակից միջոցների մատչելիության ապահովում | E90: ='2'!E356 -> -5000
D91: Տրանսֆերտի նկարագրությունը
D92: Անցանկալի հղիությունների կանխարգելման նպատակով հակաբեղմնավորիչ ժամանակակից միջոցների ձեռքբերում և բաշխում
A93: 1150 | D93: ԾՐԱԳԻՐ
D94: Հիվանդանոցային բուժօգնության ծրագիր | E94: =E105+E110+E115+E120+E125+E130+E135+E140+E145+E100 -> 642800
D95: Ծրագրի նկարագրությունը
D96: Սոցիալական նշանակության հիվանդությունների հիվանդանոցային բուժում, հարակից բժշկական և ախտորոշիչ ծառայությունների կարիք և իրավունք ունեցող անձանց հիվանդանոցային բուժում և ախտորոշիչ փորձաքննություն
D97: Վերջնական արդյունքի նկարագրությունը
D98: Հիվանդացության և մահացության կրճատում
D99: Քաղաքականության միջոցառումներ. Ծառայություններ
B100: ='2'!B188 -> ԱԾ01 | D100: Սոցիալապես անապահով և հատուկ խմբերում ընդգրկվածներին բժշկական օգնության ծառայություններ | E100: ='2'!E192 -> -100000
D101: Մատուցվող ծրագրի նկարագրությունը
D102: Բնակչության սոցիալապես անապահով և հատուկ խմբերում ընդգրկվածներին բժշկական օգնության իրականացում` ՀՀ կառավարության որոշմամբ հաստատված ցանկի համաձայն
...

Sheet 4
J1: Հավելված N 4
J2: Կառավարության
J3: 2018 թվականի ----- N ----Ն որոշման
B5: ԿԱՌԱՎԱՐՈՒԹՅԱՆ 2017 ԹՎԱԿԱՆԻ ԴԵԿՏԵՄԲԵՐԻ 28-Ի N 1717-Ն ՈՐՈՇՄԱՆ N 12 ՀԱՎԵԼՎԱԾՈՒՄ ԿԱՏԱՐՎՈՂ ՓՈՓՈԽՈՒԹՅՈՒՆՆԵՐԸ
B6: Առողջապահության նախարարություն
B8: Գնման առարկայի | F8: Գնման ձևը (ընթացակարգը) | G8: Չափի միավորը | H8: Միավորի գինը (ՀՀ դրամ) | I8: Քանակը | J8: Ցուցանիշների փոփոխությունը (ավելացումները նշված են դրական նշանով, իսկ նվազեցումները` փակագծերում) (հազ. դրամ)
B9: Միջանցիկ կոդը` ըստ CPV դասակարգման | C9: անվանումը
B10: 1 | C10: 2 | F10: 3 | G10: 4 | H10: 5 | I10: 6 | J10: 7
B11: Բաժին 07 | C11: Խումբ 01 | D11: Դաս 01 | E11: Դեղագործական ապրանքներ | J11: =+J12 -> -99999.996
B12: 1. Դեղորայքի տրամադրում ամբուլատոր-պոլիկլինիկական, հիվանդանոցային բուժօգնություն ստացողներին և հատուկ խմբերում ընդգրկված ֆիզիկական անձանց | J12: =J14+J15+J16+J17+J18+J19+J20+J21 -> -99999.996
C13: ՄԱՍ I. ԱՊՐԱՆՔՆԵՐ
B14: 33621170-5 | C14: viii գործոնի խտանյութ | F14: ԳՀ | G14: սրվակ | H14: 40500 | I14: -640 | J14: =H14*I14/1000 -> -25920
B15: 33631420-1 | C15: կոլխիցին | F15: ԲՄ | G15: դեղահատ | H15: 13.2 | I15: -731817 | J15: =H15*I15/1000 -> -9659.9844
B16: 33661129-12 | C16: վալպրոյաթթու | F16: ԳՀ | G16: դեղահատ | H16: 50.9 | I16: -255000 | J16: =H16*I16/1000 -> -12979.5
B17: 33671100-5 | C17: սուրֆակտանտ | F17: ԳՀ | G17: սրվակ | H17: 188000 | I17: -90 | J17: =H17*I17/1000 -> -16920
B18: 33691183-1 | C18: ֆենիլ ալանին չպարունակող մանկական կեր-15 տարեկանից բարձր երեխաների համար | F18: ԲՄ | G18: գրամ | H18: 66 | I18: -217999 | J18: =H18*I18/1000 -> -14387.934
B19: 33661137-1 | C19: լորազեպամ | F19: ԲՄ | G19: դեղահատ | H19: 12.8 | I19: -500000 | J19: =H19*I19/1000 -> -6400
B20: 33661141-1 | C20: ֆլյուֆենազին | F20: ԲՄ | G20: սրվակ | H20: 540 | I20: -12037 | J20: =H20*I20/1000 -> -6499.98
B21: 33611290-1 | C21: գլիմեպիրիդ, մետֆորմին (մետֆորմինի հիդրոքլորիդ) | F21: ԲՄ | G21: հատ | H21: 14.47 | I21: -499834 | J21: =H21*I21/1000 -> -7232.598
B22: Բաժին 07 | C22: Խումբ 02 | D22: Դաս 01 | E22: Ընդհանուր բնույթի բժշկական ծառայություններ | J22: =+J23 -> -360000
B23: 1. Ամբուլատոր պոլիկլինիկական բժշկական օգնության ծառայություններ | J23: =J25 -> -360000
C24: ՄԱՍ III. ԾԱՌԱՅՈՒԹՅՈՒՆՆԵՐ
B25: 85121120-1 | C25: ամբուլատոր-բժշկական ծառայություններ | F25: ՄԱ | G25: դրամ | J25: ='1'!E26 -> -360000
B26: Բաժին 07 | C26: Խումբ 02 | D26: Դաս 02 | E26: Մասնագիտացված բժշկական ծառայություններ | J26: =+J30+J36+J27+J35 -> -120000
B27: 1. Մտավոր, հոգեկան (վարքագծային), լսողական, ֆիզիկական (շարժողական) և զարգացման այլ խանգարումներով երեխաների գնահատման և վերականգնողական բուժման ծառայություններ | J27: =J29 -> 15000
C28: ՄԱՍ III. ԾԱՌԱՅՈՒԹՅՈՒՆՆԵՐ
B29: 85121100-1 | C29: բժշկական ծառայություններ | F29: ՄԱ | G29: դրամ | J29: ='1'!E33 -> 15000
B30: 2. Հեմոդիալիզի և պերիտոնիալ դիալիզի անցկացման ծառայություններ | J30: =J32 -> -160000
C31: ՄԱՍ III. ԾԱՌԱՅՈՒԹՅՈՒՆՆԵՐ
B32: 85111230-1 | C32: հիվանդանոցային պայմաններում դիալիզի ծառայություններ | F32: ՄԱ | G32: դրամ | J32: ='1'!E36 -> -160000
B33: 4. Շարունակական հսկողություն պահանջող և առանձին հիվանդությունների բուժման ծառայություններ | J33: =J35 -> 35000
C34: ՄԱՍ III. ԾԱՌԱՅՈՒԹՅՈՒՆՆԵՐ
B35: 85121100-1 | C35: բժշկական ծառայություններ | F35: ՄԱ | G35: դրամ | J35: ='1'!E41 -> 35000
B36: 5. Բնածին հիպոթիրեոզի, ֆենիլկենտոնուրիայի և լսողության խանգարումների վաղ հայտնաբերման նպատակով նորածնային սկրինինգի անցկացում | J36: =J38 -> -10000
C37: ՄԱՍ III. ԾԱՌԱՅՈՒԹՅՈՒՆՆԵՐ
B38: 85121100-1 | C38: բժշկական ծառայություններ | F38: ՄԱ | G38: դրամ | J38: ='1'!E44 -> -10000
B39: Բաժին 07 | C39: Խումբ 02 | D39: Դաս 04 | E39: Պարաբժշկական ծառայություններ | J39: =J40 -> 120000
B40: 1. Շտապ բժշկական օգնության ծառայություններ | J40: =J42 -> 120000
C41: ՄԱՍ III. ԾԱՌԱՅՈՒԹՅՈՒՆՆԵՐ
B42: 85141210-1 | C42: շտապ օգնության ծառայություններ | F42: ՄԱ | G42: դրամ | J42: ='1'!E53 -> 120000
B43: Բաժին 07 | C43: Խումբ 03 | D43: Դաս 01 | E43: Ընդհանուր բնույթի հիվանդանոցային ծառայություններ | J43: =J44+J47+J50 -> 170000
B44: 1. Անհետաձգելի բժշկական օգնության ծառայություններ | J44: =J46 -> 400000
C45: ՄԱՍ III. ԾԱՌԱՅՈՒԹՅՈՒՆՆԵՐ
B46: 85111100-1 | C46: հիվանդանոցային ծառայություններ | F46: ՄԱ | G46: դրամ | J46: ='1'!E58 -> 400000
B47: 2. Սոցիալապես անապահով և հատուկ խմբերում ընդգրկվածներին բժշկական օգնության ծառայություններ | J47: =J49 -> -100000
C48: ՄԱՍ III. ԾԱՌԱՅՈՒԹՅՈՒՆՆԵՐ
B49: 85111100-1 | C49: հիվանդանոցային ծառայություններ | F49: ՄԱ | G49: դրամ | J49: ='1'!E62 -> -100000
B50: 4. Պետական հիմնարկների և կազմակերպությունների աշխատողների բժշկական օգնության և սպասարկման ծառայություններ | J50: =J52 -> -130000
C51: ՄԱՍ III. ԾԱՌԱՅՈՒԹՅՈՒՆՆԵՐ
B52: 85111100-1 | C52: հիվանդանոցային ծառայություններ | F52: ՄԱ | G52: դրամ | J52: ='1'!E66 -> -130000
B53: Բաժին 07 | C53: Խումբ 03 | D53: Դաս 02 | E53: Մասնագիտացված հիվանդանոցային ծառայություններ | J53: =J54+J57+J60+J63+J66 -> -82000
B54: 1. Տուբերկուլյոզի բժշկական օգնության ծառայություններ | J54: =J56 -> -280000
C55: ՄԱՍ III. ԾԱՌԱՅՈՒԹՅՈՒՆՆԵՐ
B56: 85111120-1 | C56: հիվանդանոցների կողմից մատուցվող բժշկական ծառայություններ | F56: ՄԱ | G56: դրամ | J56: ='1'!E72 -> -280000
B57: 2.Աղիքային և այլ ինֆեկցիոն հիվանդությունների բժշկական օգնության ծառայություններ | J57: =J59 -> 100000
C58: ՄԱՍ III. ԾԱՌԱՅՈՒԹՅՈՒՆՆԵՐ
B59: 85111120-1 | C59: հիվանդանոցների կողմից մատուցվող բժշկական ծառայություններ | F59: ՄԱ | G59: դրամ | J59: ='1'!E76 -> 100000
B60: 3. Հոգեկան և նարկոլոգիական հիվանդների բժշկական օգնության ծառայություններ | J60: =J62 -> -100000
C61: ՄԱՍ III. ԾԱՌԱՅՈՒԹՅՈՒՆՆԵՐ
B62: 85111170-1 | C62: հոգեբուժական հիվանդանոցների կողմից մատուցվող ծառայություններ | F62: ՄԱ | G62: դրամ | J62: ='1'!E80 -> -100000
B63: 4. Ուռուցքաբանական և արյունաբանական հիվանդությունների բժշկական օգնության ծառայություններ | J63: =J65 -> 200000
C64: ՄԱՍ III. ԾԱՌԱՅՈՒԹՅՈՒՆՆԵՐ
B65: 85121310-1 | C65: ուրոլոգիական ծառայություններ | F65: ՄԱ | G65: դրամ | J65: ='1'!E84 -> 200000
B66: 5.Թրաֆիքինգի զոհերին բժշկական օգնության ծառայություններ | J66: =J68 -> -2000
C67: ՄԱՍ III. ԾԱՌԱՅՈՒԹՅՈՒՆՆԵՐ
B68: 85111120-1 | C68: հիվանդանոցների կողմից մատուցվող բժշկական ծառայություններ | F68: ՄԱ | G68: դրամ | J68: ='1'!E88 -> -2000
B69: Բաժին 07 | C69: Խումբ 03 | D69: Դաս 03 | E69: Մոր և մանկան բժշկական ծառայություններ | J69: =+J70+J73 -> 554800
B70: 2. Գինեկոլոգիական հիվանդությունների բժշկական օգնության ծառայություններ | J70: =J72 -> -20000
C71: ՄԱՍ III. ԾԱՌԱՅՈՒԹՅՈՒՆՆԵՐ
B72: 85111130-1 | C72: հիվանդանոցների կողմից մատուցվող գինեկոլոգիական ծառայություններ | F72: ՄԱ | G72: դրամ | J72: ='1'!E94 -> -20000
B73: 3. Երեխաներին բժշկական օգնության ծառայություններ | J73: =J75 -> 574800
C74: ՄԱՍ III. ԾԱՌԱՅՈՒԹՅՈՒՆՆԵՐ
B75: 85111120-1 | C75: հիվանդանոցների կողմից մատուցվող բժշկական ծառայություններ | F75: ՄԱ | G75: դրամ | J75: ='1'!E98 -> 574800
B76: Բաժին 07 | C76: Խումբ 04 | D76: Դաս 01 | E76: Հանրային առողջապահական ծառայություններ | J76: =+J77 -> -158800
B77: 2.Իմունականխարգելման ազգային ծրագիր | J77: =J79+J80+J81+J83+J82 -> -158800
C78: ՄԱՍ I. ԱՊՐԱՆՔՆԵՐ
B79: 33651200-7 | C79: մենինգակոկային մենինգիտի դեմ պատվաստանյութ | F79: ՀԲՄ | G79: հատ | J79: -17500
B80: 33651220-4 | C80: գրիպի դեմ պատվաստանյութ | F80: ՀԲՄ | G80: հատ | J80: -42500
B81: 33651260-1 | C81: հեպատիտ Ա-ի պատվաստանյութ | F81: ԲՄ | G81: դոզա | J81: -65000
B82: 33651263-1 | C82: Վեցավալենտ/դիֆթերիա, կապույտ հազ, փայտացում, հեպատիտ Բ, ՀԻԲ, պոլիոմիելիտ/ պատվաստանյութ | F82: ԲՄ | G82: դոզա | H82: 11000 | I82: -300 | J82: =H82*I82/1000 -> -3300
B83: 33651263-3 | C83: Վեցավալենտ/դիֆթերիա, կապույտ հազ, փայտացում, հեպատիտ Բ, ՀԻԲ, պոլիոմիելիտ/ պատվաստանյութ | F83: ՀԲՄ | G83: հատ | J83: -30500
B85: Բաժին 07 | C85: Խումբ 06 | D85: Դաս 01 | E85: Առողջապահական հարակից ծառայություններ և ծրագրեր | J85: =+J86+J91+J95 -> -24000
B86: 4.Առողջ ապրելակերպի խթանման և հանրային իրազեկման ծառայություններ | J86: =J88+J89+J90 -> -10000
C87: ՄԱՍ III. ԾԱՌԱՅՈՒԹՅՈՒՆՆԵՐ
B88: 79821180-6 | C88: տպագրական և բաշխման ծառայություններ | F88: ԳՀ | G88: դրամ | J88: -2400
B89: 92421100-1 | C89: թերթերում հայտարարությունների տպագրման ծառայություններ | F89: ԳՀ | G89: դրամ | H89: 4600000 | I89: -1 | J89: -4600
B90: 85141290-1 | C90: բժշկական վերլուծության ծառայություններ | F90: ԳՀ | G90: դրամ | J90: -3000
B91: 5. Բժշկական օգնության մասնագիտական, խորհրդատվական և կազմակերպամեթոդական աջակցության ծառայություններ | J91: =J94+J93 -> -9000
C92: ՄԱՍ III. ԾԱՌԱՅՈՒԹՅՈՒՆՆԵՐ
B93: 79821180-1 | C93: տպագրական և բաշխման ծառայություններ | F93: ԳՀ | G93: դրամ | J93: -3000
B94: 85141280-1 | C94: աշխատանքի հիգիենայի պաշտպանության ծառայություններ | F94: ԳՀ | G94: դրամ | J94: -6000
B95: 8. Անցանկալի հղիությունների կանխարգելման նպատակով հակաբեղմնավորիչ ժամանակակից միջոցների մատչելիության ապահովում | J95: =J97 -> -5000
C96: ՄԱՍ III. ԾԱՌԱՅՈՒԹՅՈՒՆՆԵՐ
B97: 85121130-1 | C97: բժիշկ-մասնագետների կողմից մատուցվող ծառայություններ | F97: ԳՀ | G97: դրամ | H97: -5000000 | I97: 1 | J97: ='1'!E124 -> -5000
