Workbook

Sheet 1
E1: Հավելված N 1
E2: Կառավարության
E3: 2018 թվականի ----- N ----Ն որոշման
A5: «ՀԱՅԱՍՏԱՆԻ ՀԱՆՐԱՊԵՏՈՒԹՅԱՆ 2018 ԹՎԱԿԱՆԻ ՊԵՏԱԿԱՆ ԲՅՈՒՋԵԻ ՄԱՍԻՆ» ՕՐԵՆՔԻ N 1 ՀԱՎԵԼՎԱԾՈՒՄ ԿԱՏԱՐՎՈՂ ՎԵՐԱԲԱՇԽՈՒՄԸ ԵՎ ԿԱՌԱՎԱՐՈՒԹՅԱՆ 2017 ԹՎԱԿԱՆԻ ԴԵԿՏԵՄԲԵՐԻ 28-Ի N 1717-Ն ՈՐՈՇՄԱՆ N 5 ՀԱՎԵԼՎԱԾՈՒՄ ԿԱՏԱՐՎՈՂ ՓՈՓՈԽՈՒԹՅՈՒՆՆԵՐԸ
A7: Բաժինը | B7: Խումբը | C7: Դասը | D7: Բյուջետային ծախսերի գործառական դասակարգման բաժինների, խմբերի և դասերի անվանումները | E7: Ցուցանիշների փոփոխությունը (ավելացումները նշված են դրական նշանով, իսկ նվազեցումները` փակագծերում)
E8: Տարի
A9: 1 | B9: 2 | C9: 3 | D9: 4 | E9: 5
D10: ԸՆԴԱՄԵՆԸ` ԾԱԽՍԵՐ | E10: =E12 -> 0
D11: այդ թվում`
A12: 07 | D12: ԱՌՈՂՋԱՊԱՀՈՒԹՅՈՒՆ | E12: =E14+E22+E54+E102+E110 -> 0
D13: այդ թվում`
B14: 01 | D14: Բժշկական ապրանքներ, սարքեր և սարքավորումներ | E14: =E16 -> -100000
D15: այդ թվում`
C16: 01 | D16: Դեղագործական ապրանքներ | E16: =E18 -> -100000
D17: այդ թվում`
D18: 01.Դեղորայքի տրամադրում ամբուլատոր-պոլիկլինիկական, հիվանդանոցային բուժօգնություն ստացողներին և հատուկ խմբերում ընդգրկված ֆիզիկական անձանց | E18: =E19 -> -100000
D19: ՀՀ առողջապահության նախարարություն | E19: =E21 -> -100000
D20: որից`
D21: Առողջապահական և լաբորատոր նյութեր | E21: -100000
B22: 02 | D22: Արտահիվանդանոցային ծառայություններ | E22: =E24+E30+E48 -> -360000
D23: այդ թվում`
C24: 01 | D24: Ընդհանուր բնույթի բժշկական ծառայություններ | E24: =E26 -> -360000
D25: այդ թվում`
D26: 01. Ամբուլատոր պոլիկլինիկական բժշկական օգնության ծառայություններ | E26: =E27 -> -360000
D27: ՀՀ առողջապահության նախարարություն | E27: =E29 -> -360000
D28: որից`
D29: Ընդհանուր բնույթի այլ ծառայություններ | E29: -360000
C30: 02 | D30: Մասնագիտացված բժշկական ծառայություններ | E30: =E36+E44+E32+E40 -> -120000
D31: այդ թվում`
D32: 01. Մտավոր, հոգեկան (վարքագծային), լսողական, ֆիզիկական (շարժողական) և զարգացման այլ խանգարումներով երեխաների գնահատման և վերականգնողական բուժման ծառայություններ | E32: =E33 -> 15000
D33: ՀՀ առողջապահության նախարարություն | E33: =E35 -> 15000
D34: որից`
D35: Ընդհանուր բնույթի այլ ծառայություններ | E35: 15000
D36: 02. Հեմոդիալիզի և պերիտոնիալ դիալիզի անցկացման ծառայություններ | E36: =E37 -> -160000
D37: ՀՀ առողջապահության նախարարություն | E37: =E39 -> -160000
D38: որից`
D39: Ընդհանուր բնույթի այլ ծառայություններ | E39: -160000
D40: 05. Շարունակական հսկողություն պահանջող և առանձին հիվանդությունների բուժման ծառայություններ | E40: =E41 -> 35000
D41: ՀՀ առողջապահության նախարարություն | E41: =E43 -> 35000
D42: որից`
...

Sheet 2
E1: Հավելված N 2
E2: Կառավարության
E3: 2018 թվականի ----- N ----Ն որոշման
E4: Աղյուսակ 1
A5: ԿԱՌԱՎԱՐՈՒԹՅԱՆ 2017 ԹՎԱԿԱՆԻ ԴԵԿՏԵՄԲԵՐԻ 28-Ի N 1717-Ն ՈՐՈՇՄԱՆ N 11 ՀԱՎԵԼՎԱԾԻ N 11.9 ԱՂՅՈՒՍԱԿՈՒՄ ԿԱՏԱՐՎՈՂ ՓՈՓՈԽՈՒԹՅՈՒՆՆԵՐԸ
A7: Չափորոշիչներ | D7: Ցուցանիշների փոփոխությունը (ավելացումները նշված են դրական նշանով, իսկ նվազեցումները` փակագծերում)
D8: ոչ ֆինանսական ցուցանիշներ | E8: ֆինանսական ցուցանիշներ
D9: Տարի | E9: Տարի
A10: ՄԱՍ Գ: Մարմնի ղեկավարի պատասխանատվության ներքո իրականացվող քաղաքականության միջոցառումների և ֆինանսական կառավարման արդյունքների ցուցանիշները
A11: 1. Քաղաքականության միջոցառումներ
A12: 1.1.Ծառայություններ
A13: Ծրագրային դասիչը | C13: Անվանումը
C14: Առողջ ապրելակերպի խթանման և հանրային իրազեկման ծառայություններ
C15: Նկարագրությունը
C16: Ամենամյա պետական նպատակային ծրագրերի շրջանակներում «Պետության կողմից երաշխավորված անվճար բժշկական օգնության և սպասարկման մասին» ՀՀ կառավարության որոշման ու դրանից բխող` ՀՀ առողջապահության նախարարության կողմից մշակված և ընդունված նորմատիվային ակտերի լուսաբանման աշխատանքներ
A17: 1001 | B17: ԱԾ17
A18: Քանակական | C18: Պատրաստվող և մետրային հեռուստատեսությամբ` ուղիղ եթերի և ինտերակտիվ կապի միջոցներով հեռարձակվող առողջապահական հեռուստահաղորդումների (մեկ հաղորդումը միջինը 35 րոպեի հաշվարկով) թիվը
C19: Բնակչության առողջության պահպանման, բուժկանխարգելման, առողջապահության ոլորտի կառավարման հարցերի վերաբերյալ մշակված և մամուլում հրապարակված մեթոդական ձեռնարկների (16 էջի հաշվարկով) թիվը
C20: Առողջապահական հիմնական վիճակագրական տվյալների հավաքագրում և համակարգում
A21: Որակական | C21: Մշակված չէ
A22: Ժամկետայնության | C22: Մշակված չէ
A23: Մատուցվող ծառայության վրա կատարվող ծախսը (հազար դրամ) | D23: X | E23: ='1'!E114 -> -10000
A24: Ծրագիրը (ծրագրերը), որի (որոնց) շրջանակներում իրականացվում է քաղաքականության միջոցառումը
A25: 1001 Պետական քաղաքականության մշակման, ծրագրերի համակարգման և մոնիտորինգի ծրագիր
A26: Վերջնական արդյունքի նկարագրությունը
A27: Ծրագիրը նպաստում է ՀՀ նախարարության կողմից իրականացվող ծրագրերի գծով նախատեսված արդյունքների ապահովմանը
A28: Ծառայություն մատոցողի (մատուցողների) անվանումը
A29: Առողջապահական կազմակերպություններ, ԶԼՄ-ներ
A30: Ծրագրային դասիչը | C30: Անվանումը
C31: Իմունականխարգելման ազգային ծրագիր
C32: Նկարագրությունը
C33: Բնակչության շրջանում սահմանված կառավարելի վարակիչ հիվանդությունների իմունականխարգելում` կառավարելի վարակիչ հիվանդություններով հիվանդացության նվազեցման և մահվան դեպքերի կանխման, ինչպես նաև կառավարելի վարակիչ հիվանդությունների նկատմամբ բնակչության կոլեկտիվ անընկալության ապահովման նպատակով
A34: 1003 | B34: ԱԾ02
A35: Քանակական | C35: Հեպատիտ Բ և ԲՑԺ պատվաստում ստացած նորածինների թիվը
C36: Հնգավալենտ /ԱԿԴՓ-ՀԲ-Հիբ/ 3 դեղաչափ պատվաստում ստացած երեխաների թիվը
C37: Պնևմոկոկային 3 դեղաչափ պատվաստում ստացած երեխաների թիվը
C38: Ռոտավիրուսային 2 դեղաչափ պատվաստում ստացած երեխաների թիվը
C39: Պոլիոմիելիտի 3 դեղաչափ պատվաստում ստացած երեխաների թիվը
C40: Կարմրուկի, կարմրախտի և խոզուկի դեմ 1 դեղաչափը պատվաստում ստացած երեխաների թիվը
C41: Նախազորակոչային /15-16 տարեկան/ և զորակոչային /18 տարեկան/ պատվաստվածների թիվը
...

Sheet 3
E1: Հավելված N 2
E2: Կառավարության
E3: 2018 թվականի ----- N ----Ն որոշման
E5: Աղյուսակ 2
A6: ԿԱՌԱՎԱՐՈՒԹՅԱՆ 2017 ԹՎԱԿԱՆԻ ԴԵԿՏԵՄԲԵՐԻ 28-Ի N 1717-Ն ՈՐՈՇՄԱՆ N 11 ՀԱՎԵԼՎԱԾԻ N 12 ԱՂՅՈՒՍԱԿՈՒՄ ԿԱՏԱՐՎՈՂ ՓՈՓՈԽՈՒԹՅՈՒՆՆԵՐԸ
A8: Առողջապահության նախարարություն
A9: Բաժին 2
A10: Գերատեսչության կողմից իրականացվող քաղաքականության միջոցառումների ծրագրային խմբավորումը
A11: Ծրագրային դասիչը | C11: Գործառական դասիչը (բաժին/խումբ/դաս) | D11: Ծրագիրը/քաղաքականության միջոցառումը | E11: ՀՀ 2018 թվականի պետական բյուջե (հազար դրամ)
A12: ծրագիրը | B12: միջոցառումը | E12: Ցուցանիշների փոփոխությունը (ավելացումները նշված են դրական նշանով, իսկ նվազեցումները` փակագծերում)
A13: 1001 | D13: ԾՐԱԳԻՐ
D14: Պետական քաղաքականության մշակման, ծրագրերի համակարգման և մոնիտորինգի ծրագիր | E14: =E20 -> -10000
D15: Ծրագրի նկարագրությունը
D16: Քաղաքականության մշակման և դրա կատարման համակարգման, պետական ծրագրերի պլանավորման, մշակման, իրականացման և մոնիտորինգի (վերահսկման) ծառայություններ
D17: Վերջնական արդյունքի նկարագրությունը
D18: Ծրագիրը նպաստում է ՀՀ նախարարությունների կողմից իրականացվող ծրագրերի գծով նախատեսված արդյունքների ապահովմանը
D19: Քաղաքականության միջոցառումներ. Ծառայություններ
B20: =+'2'!B17 -> ԱԾ17 | D20: Առողջ ապրելակերպի խթանման և հանրային իրազեկման ծառայություններ | E20: ='2'!E23 -> -10000
D21: Մատուցվող ծրագրի նկարագրությունը
D22: Ամենամյա պետական նպատակային ծրագրերի շրջանակներում «Պետության կողմից երաշխավորված անվճար բժշկական օգնության և սպասարկման մասին» ՀՀ կառավարության որոշման ու դրանից բխող` ՀՀ առողջապահության նախարարության կողմից մշակված և ընդունված նորմատիվային ակտերի լուսաբանման աշխատանքներ
D23: Ծառայություն մատուցող անվանումը
D24: Առողջապահական կազմակերպություններ, ԶԼՄ-ներ
A25: 1003 | D25: ԾՐԱԳԻՐ
D26: Հանրային առողջության պահպանման ծրագիր | E26: =E32 -> -158800
D27: Ծրագրի նկարագրությունը
D28: Հանրային առողջության պահպանման, հիգիենիկ և հակահամաճարակային անվտանգության և մոնիտորինգի ծառայություններ
D29: Վերջնական արդյունքի նկարագրությունը
D30: Հայաստանի Հանրապետությունում բնակչության սանիտարահամաճարակային անվտանգության կայուն ապահովում, «Պոլիոմիելիտից ազատ» երկրի կարգավիճակի պահպանում, կարմրուկի և կարմրախտի տեղական և փայտացման դեպքերի, ինչպես նաև մինչև 14 տարեկան երեխաների շրջանում սուր հեպատիտ Բ-ի դեպքերի բացակայություն, մալարիայի կրկին արմատավորման կանխարգելում, կառավարելի վարակիչ հիվանդությունների նկատմամբ բնակչության անընկալության ապահովում, վարակիչ հիվանդությունների օջախներում երկրորդ գաղտնի շրջանում կրկնակի դեպքերի բացառում, մարդու օրգանիզմի շրջակա միջավայրի վնասակար և վտանգավոր գործոնների ազդեցության բացառում և նվազեցում, մարդու և նրա ապագա սերունդների կենսունակության համար բարենպաստ պայմանների ապահովում (հիվանդությունների տարածման արգելակում և հակադարձում), դոնորական արյան վարակային անվտանգության ապահովում
D31: Քաղաքականության միջոցառումներ. Ծառայություններ
B32: =+'2'!B34 -> ԱԾ02 | D32: Ինունականխարգելման ազգային ծրագիր | E32: ='2'!E48 -> -158800
D33: Մատուցվող ծրագրի նկարագրությունը
D34: Բնակչության շրջանում սահմանված կառավարելի վարակիչ հիվանդությունների իմունականխարգելում` կառավարելի վարակիչ հիվանդություններով հիվանդացության նվազեցման և մահվան դեպքերի կանխման, ինչպես նաև կառավարելի վարակիչ հիվանդությունների նկատմամբ բնակչության կոլեկտիվ անընկալության ապահովման նպատակով
D35: Ծառայություն մատուցող անվանումը
D36: «Հիվանդությունների վերահսկման և կանխարգելման ազգային կենտրոն» ՊՈԱԿ
A37: 1099 | D37: ԾՐԱԳԻՐ
D38: Արտահիվանդանոցային բուժօգնության ծառայություններ | E38: =E44+E49+E54+E59+E64+E69 -> -360000
D39: Ծրագրի նկարագրությունը
D40: Հանրապետության ողջ բնակչության համար արտահիվանդանոցային բժշկական օգնության և ծառայությունների իրականացում, այդ թվում անվճար ամբուլատոր-պոլիկլինիկական բուժօգնության կազմակերպում առաջնային (ամբուլատոր-պոլիկլինիկական) օղակի բոլոր մակարդակներում, արտահիվանդանոցային անհետաձգելի բժշկական օգնություն և սպասարկում (շտապ բժշկական օգնություն), ստոմատոլոգիական բժշկական օգնություն (բնակչության սոցիալապես ապահով և առանձին (հատուկ խմբերի) համար) և արտահիվանդանոցային հարբժշկական այլ ծառայություններ
D41: Վերջնական արդյունքի նկարագրությունը
D42: Բնակչության առողջության պահպանում և բարելավում, արտահիվանդանոցային բուժօգնության ծառայություններից օգտվելու իրավունքի ապահովում, հիվանդությունների վաղ հայտնաբերման և կանխարգելման ցուցանիշների աճ, բժշկական օգնության որակի բարելավում, հիվանդանոցային դեպքերի աստիճանական կրճատում
...

Sheet 4
J1: Հավելված N 4
J2: Կառավարության
J3: 2018 թվականի ----- N ----Ն որոշման
B5: ԿԱՌԱՎԱՐՈՒԹՅԱՆ 2017 ԹՎԱԿԱՆԻ ԴԵԿՏԵՄԲԵՐԻ 28-Ի N 1717-Ն ՈՐՈՇՄԱՆ N 12 ՀԱՎԵԼՎԱԾՈՒՄ ԿԱՏԱՐՎՈՂ ՓՈՓՈԽՈՒԹՅՈՒՆՆԵՐԸ
B6: Առողջապահության նախարարություն
B8: Գնման առարկայի | F8: Գնման ձևը (ընթացակարգը) | G8: Չափի միավորը | H8: Միավորի գինը (ՀՀ դրամ) | I8: Քանակը | J8: Ցուցանիշների փոփոխությունը (ավելացումները նշված են դրական նշանով, իսկ նվազեցումները` փակագծերում) (հազ. դրամ)
B9: Միջանցիկ կոդը` ըստ CPV դասակարգման | C9: անվանումը
B10: 1 | C10: 2 | F10: 3 | G10: 4 | H10: 5 | I10: 6 | J10: 7
B11: Բաժին 07 | C11: Խումբ 01 | D11: Դաս 01 | E11: Դեղագործական ապրանքներ | J11: =+J12 -> -99999.996
B12: 1. Դեղորայքի տրամադրում ամբուլատոր-պոլիկլինիկական, հիվանդանոցային բուժօգնություն ստացողներին և հատուկ խմբերում ընդգրկված ֆիզիկական անձանց | J12: =J14+J15+J16+J17+J18+J19+J20+J21 -> -99999.996
C13: ՄԱՍ I. ԱՊՐԱՆՔՆԵՐ
B14: 33621170-5 | C14: viii գործոնի խտանյութ | F14: ԳՀ | G14: սրվակ | H14: 40500 | I14: -640 | J14: =H14*I14/1000 -> -25920
B15: 33631420-1 | C15: կոլխիցին | F15: ԲՄ | G15: դեղահատ | H15: 13.2 | I15: -731817 | J15: =H15*I15/1000 -> -9659.9844
B16: 33661129-12 | C16: վալպրոյաթթու | F16: ԳՀ | G16: դեղահատ | H16: 50.9 | I16: -255000 | J16: =H16*I16/1000 -> -12979.5
B17: 33671100-5 | C17: սուրֆակտանտ | F17: ԳՀ | G17: սրվակ | H17: 188000 | I17: -90 | J17: =H17*I17/1000 -> -16920
B18: 33691183-1 | C18: ֆենիլ ալանին չպարունակող մանկական կեր-15 տարեկանից բարձր երեխաների համար | F18: ԲՄ | G18: գրամ | H18: 66 | I18: -217999 | J18: =H18*I18/1000 -> -14387.934
B19: 33661137-1 | C19: լորազեպամ | F19: ԲՄ | G19: դեղահատ | H19: 12.8 | I19: -500000 | J19: =H19*I19/1000 -> -6400
B20: 33661141-1 | C20: ֆլյուֆենազին | F20: ԲՄ | G20: սրվակ | H20: 540 | I20: -12037 | J20: =H20*I20/1000 -> -6499.98
B21: 33611290-1 | C21: գլիմեպիրիդ, մետֆորմին (մետֆորմինի հիդրոքլորիդ) | F21: ԲՄ | G21: հատ | H21: 14.47 | I21: -499834 | J21: =H21*I21/1000 -> -7232.598
B22: Բաժին 07 | C22: Խումբ 02 | D22: Դաս 01 | E22: Ընդհանուր բնույթի բժշկական ծառայություններ | J22: =+J23 -> -360000
B23: 1. Ամբուլատոր պոլիկլինիկական բժշկական օգնության ծառայություններ | J23: =J25 -> -360000
C24: ՄԱՍ III. ԾԱՌԱՅՈՒԹՅՈՒՆՆԵՐ
B25: 85121120-1 | C25: ամբուլատոր-բժշկական ծառայություններ | F25: ՄԱ | G25: դրամ | J25: ='1'!E26 -> -360000
B26: Բաժին 07 | C26: Խումբ 02 | D26: Դաս 02 | E26: Մասնագիտացված բժշկական ծառայություններ | J26: =+J30+J36+J27+J35 -> -120000
B27: 1. Մտավոր, հոգեկան (վարքագծային), լսողական, ֆիզիկական (շարժողական) և զարգացման այլ խանգարումներով երեխաների գնահատման և վերականգնողական բուժման ծառայություններ | J27: =J29 -> 15000
C28: ՄԱՍ III. ԾԱՌԱՅՈՒԹՅՈՒՆՆԵՐ
B29: 85121100-1 | C29: բժշկական ծառայություններ | F29: ՄԱ | G29: դրամ | J29: ='1'!E33 -> 15000
B30: 2. Հեմոդիալիզի և պերիտոնիալ դիալիզի անցկացման ծառայություններ | J30: =J32 -> -160000
C31: ՄԱՍ III. ԾԱՌԱՅՈՒԹՅՈՒՆՆԵՐ
B32: 85111230-1 | C32: հիվանդանոցային պայմաններում դիալիզի ծառայություններ | F32: ՄԱ | G32: դրամ | J32: ='1'!E36 -> -160000
B33: 4. Շարունակական հսկողություն պահանջող և առանձին հիվանդությունների բուժման ծառայություններ | J33: =J35 -> 35000
C34: ՄԱՍ III. ԾԱՌԱՅՈՒԹՅՈՒՆՆԵՐ
B35: 85121100-1 | C35: բժշկական ծառայություններ | F35: ՄԱ | G35: դրամ | J35: ='1'!E41 -> 35000
B36: 5. Բնածին հիպոթիրեոզի, ֆենիլկենտոնուրիայի և լսողության խանգարումների վաղ հայտնաբերման նպատակով նորածնային սկրինինգի անցկացում | J36: =J38 -> -10000
C37: ՄԱՍ III. ԾԱՌԱՅՈՒԹՅՈՒՆՆԵՐ
B38: 85121100-1 | C38: բժշկական ծառայություններ | F38: ՄԱ | G38: դրամ | J38: ='1'!E44 -> -10000
B39: Բաժին 07 | C39: Խումբ 02 | D39: Դաս 04 | E39: Պարաբժշկական ծառայություններ | J39: =J40 -> 120000
B40: 1. Շտապ բժշկական օգնության ծառայություններ | J40: =J42 -> 120000
C41: ՄԱՍ III. ԾԱՌԱՅՈՒԹՅՈՒՆՆԵՐ
B42: 85141210-1 | C42: շտապ օգնության ծառայություններ | F42: ՄԱ | G42: դրամ | J42: ='1'!E53 -> 120000
...
