Workbook

Sheet Sep
A1: ԲՀ անվանում | B1: ԲՀ տիպ | C1: Մարզ | D1: Ամսեկան ֆիքսված գումար | E1: Հիվ. Այցերի քանակ | F1: Հիվ. Այցերի գումար | G1: Ամբ. Այցերի քանակ | H1: Ամբ. Այցերի գումար | I1: Օգտվողների քանակ | J1: Օգտվողների վճար | K1: Գումար առանց ԱԱՀ | L1: Գումար ներառյալԱԱՀ | M1: Ամսեկան սահմանաչափ | N1: Կցագրված բնակչություն | O1: Գումար առանց ԱԱՀ | P1: Գումար ներառյալԱԱՀ | Q1: % ՍԱՀՄԱՆԱՉԱՓԻՑ
A2: Ագարակի բժշկական ամբուլատորիա ՀՈԱԿ | B2: Ամբուլատորիա | C2: Արագածոտն | D2: 5000 | F2: =IF(E2="","",E2*1000) | G2: 175 | H2: =G2*30 -> 5250 | I2: 3 | J2: =I2*500 -> 1500 | K2: =IF(F2="",SUM(D2+H2+J2),SUM(D2+F2+H2+J2)) -> 11750 | L2: =K2*1.2 -> 14100 | M2: 1452257.3 | N2: 3151 | O2: =ROUND(P2*0.833333,0) -> 10503 | P2: =IF(N2="",L2,IF(B2="Ամբուլատորիա",IF(N2*4>15000,15000,N2*4),IF(B2="Պոլիկլինիկա",IF(N2*4>75000,75000,N2*4),IF(B2="Բժշկական կենտրոն",IF(N2*4>75000,75000+80000+F2*1.2+J2*1.2,N2*4+80000+F2*1.2+J2*1.2),L2)))) -> 12604 | Q2: =IF(M2="",0,ROUND(P2*100/M2,2)) -> 0.87
A3: Աշտարակի բժշկական կենտրոն ՓԲԸ | B3: Բժշկական կենտրոն | C3: Արագածոտն | D3: 130000 | E3: 177 | F3: =IF(E3="","",E3*1000) -> 177000 | G3: 1428 | H3: =G3*30 -> 42840 | I3: 16 | J3: =I3*500 -> 8000 | K3: =IF(F3="",SUM(D3+H3+J3),SUM(D3+F3+H3+J3)) -> 357840 | L3: =K3*1.2 -> 429408 | M3: 32887999 | N3: 18981 | O3: =ROUND(P3*0.833333,0) -> 314167 | P3: =IF(N3="",L3,IF(B3="Ամբուլատորիա",IF(N3*4>15000,15000,N3*4),IF(B3="Պոլիկլինիկա",IF(N3*4>75000,75000,N3*4),IF(B3="Բժշկական կենտրոն",IF(N3*4>75000,75000+80000+F3*1.2+J3*1.2,N3*4+80000+F3*1.2+J3*1.2),L3)))) -> 377000 | Q3: =IF(M3="",0,ROUND(P3*100/M3,2)) -> 1.15
A4: Ապարանի բժշկական կենտրոն ՓԲԸ | B4: Բժշկական կենտրոն | C4: Արագածոտն | D4: 130000 | E4: 82 | F4: =IF(E4="","",E4*1000) -> 82000 | G4: 679 | H4: =G4*30 -> 20370 | I4: 15 | J4: =I4*500 -> 7500 | K4: =IF(F4="",SUM(D4+H4+J4),SUM(D4+F4+H4+J4)) -> 239870 | L4: =K4*1.2 -> 287844 | M4: 19700040 | N4: 8650 | O4: =ROUND(P4*0.833333,0) -> 185000 | P4: =IF(N4="",L4,IF(B4="Ամբուլատորիա",IF(N4*4>15000,15000,N4*4),IF(B4="Պոլիկլինիկա",IF(N4*4>75000,75000,N4*4),IF(B4="Բժշկական կենտրոն",IF(N4*4>75000,75000+80000+F4*1.2+J4*1.2,N4*4+80000+F4*1.2+J4*1.2),L4)))) -> 222000 | Q4: =IF(M4="",0,ROUND(P4*100/M4,2)) -> 1.13
A5: Ասյա Մարկոսյանի անվան Կոշ բժշկական ամբուլատորիա ՀՈԱԿ | B5: Ամբուլատորիա | C5: Արագածոտն | D5: 5000 | F5: =IF(E5="","",E5*1000) | G5: 408 | H5: =G5*30 -> 12240 | I5: 3 | J5: =I5*500 -> 1500 | K5: =IF(F5="",SUM(D5+H5+J5),SUM(D5+F5+H5+J5)) -> 18740 | L5: =K5*1.2 -> 22488 | M5: 1833788.8 | N5: 3962 | O5: =ROUND(P5*0.833333,0) -> 12500 | P5: =IF(N5="",L5,IF(B5="Ամբուլատորիա",IF(N5*4>15000,15000,N5*4),IF(B5="Պոլիկլինիկա",IF(N5*4>75000,75000,N5*4),IF(B5="Բժշկական կենտրոն",IF(N5*4>75000,75000+80000+F5*1.2+J5*1.2,N5*4+80000+F5*1.2+J5*1.2),L5)))) -> 15000 | Q5: =IF(M5="",0,ROUND(P5*100/M5,2)) -> 0.82
A6: Արագածավանի առողջության կենտրոն ՀՈԱԿ | B6: Ամբուլատորիա | C6: Արագածոտն | D6: 5000 | F6: =IF(E6="","",E6*1000) | G6: 752 | H6: =G6*30 -> 22560 | I6: 3 | J6: =I6*500 -> 1500 | K6: =IF(F6="",SUM(D6+H6+J6),SUM(D6+F6+H6+J6)) -> 29060 | L6: =K6*1.2 -> 34872 | M6: 2528046.9 | N6: 5265 | O6: =ROUND(P6*0.833333,0) -> 12500 | P6: =IF(N6="",L6,IF(B6="Ամբուլատորիա",IF(N6*4>15000,15000,N6*4),IF(B6="Պոլիկլինիկա",IF(N6*4>75000,75000,N6*4),IF(B6="Բժշկական կենտրոն",IF(N6*4>75000,75000+80000+F6*1.2+J6*1.2,N6*4+80000+F6*1.2+J6*1.2),L6)))) -> 15000 | Q6: =IF(M6="",0,ROUND(P6*100/M6,2)) -> 0.59
A7: Արագածի առողջության կենտրոն ՀՈԱԿ | B7: Բժշկական կենտրոն | C7: Արագածոտն | D7: 130000 | E7: 5 | F7: =IF(E7="","",E7*1000) -> 5000 | G7: 267 | H7: =G7*30 -> 8010 | I7: 3 | J7: =I7*500 -> 1500 | K7: =IF(F7="",SUM(D7+H7+J7),SUM(D7+F7+H7+J7)) -> 144510 | L7: =K7*1.2 -> 173412 | M7: 3082298.4 | N7: 3863 | O7: =ROUND(P7*0.833333,0) -> 86043 | P7: =IF(N7="",L7,IF(B7="Ամբուլատորիա",IF(N7*4>15000,15000,N7*4),IF(B7="Պոլիկլինիկա",IF(N7*4>75000,75000,N7*4),IF(B7="Բժշկական կենտրոն",IF(N7*4>75000,75000+80000+F7*1.2+J7*1.2,N7*4+80000+F7*1.2+J7*1.2),L7)))) -> 103252 | Q7: =IF(M7="",0,ROUND(P7*100/M7,2)) -> 3.35
A8: Արմենակ և Աննա Թադեոսեանների բժշկական կենտրոն հիմնադրամ | B8: Բժշկական կենտրոն | C8: Արագածոտն | D8: 130000 | E8: 8 | F8: =IF(E8="","",E8*1000) -> 8000 | G8: 9 | H8: =G8*30 -> 270 | I8: 4 | J8: =I8*500 -> 2000 | K8: =IF(F8="",SUM(D8+H8+J8),SUM(D8+F8+H8+J8)) -> 140270 | L8: =K8*1.2 -> 168324 | M8: 2488650 | O8: =ROUND(P8*0.833333,0) -> 140270 | P8: =IF(N8="",L8,IF(B8="Ամբուլատորիա",IF(N8*4>15000,15000,N8*4),IF(B8="Պոլիկլինիկա",IF(N8*4>75000,75000,N8*4),IF(B8="Բժշկական կենտրոն",IF(N8*4>75000,75000+80000+F8*1.2+J8*1.2,N8*4+80000+F8*1.2+J8*1.2),L8)))) -> 168324 | Q8: =IF(M8="",0,ROUND(P8*100/M8,2)) -> 6.76
A9: Արուճի բժշկական ամբուլատորիա ՀՈԱԿ | B9: Ամբուլատորիա | C9: Արագածոտն | D9: 5000 | F9: =IF(E9="","",E9*1000) | G9: 508 | H9: =G9*30 -> 15240 | I9: 5 | J9: =I9*500 -> 2500 | K9: =IF(F9="",SUM(D9+H9+J9),SUM(D9+F9+H9+J9)) -> 22740 | L9: =K9*1.2 -> 27288 | M9: 1343089.5 | N9: 2481 | O9: =ROUND(P9*0.833333,0) -> 8270 | P9: =IF(N9="",L9,IF(B9="Ամբուլատորիա",IF(N9*4>15000,15000,N9*4),IF(B9="Պոլիկլինիկա",IF(N9*4>75000,75000,N9*4),IF(B9="Բժշկական կենտրոն",IF(N9*4>75000,75000+80000+F9*1.2+J9*1.2,N9*4+80000+F9*1.2+J9*1.2),L9)))) -> 9924 | Q9: =IF(M9="",0,ROUND(P9*100/M9,2)) -> 0.74
A10: Արտենիի առողջության կենտրոն ՊՈԱԿ | B10: Բժշկական կենտրոն | C10: Արագածոտն | D10: 130000 | E10: 5 | F10: =IF(E10="","",E10*1000) -> 5000 | G10: 381 | H10: =G10*30 -> 11430 | I10: 5 | J10: =I10*500 -> 2500 | K10: =IF(F10="",SUM(D10+H10+J10),SUM(D10+F10+H10+J10)) -> 148930 | L10: =K10*1.2 -> 178716 | M10: 2012014.7 | N10: 3170 | O10: =ROUND(P10*0.833333,0) -> 84733 | P10: =IF(N10="",L10,IF(B10="Ամբուլատորիա",IF(N10*4>15000,15000,N10*4),IF(B10="Պոլիկլինիկա",IF(N10*4>75000,75000,N10*4),IF(B10="Բժշկական կենտրոն",IF(N10*4>75000,75000+80000+F10*1.2+J10*1.2,N10*4+80000+F10*1.2+J10*1.2),L10)))) -> 101680 | Q10: =IF(M10="",0,ROUND(P10*100/M10,2)) -> 5.05
A11: Բյուրականի բժշկական ամբուլատորիա ՓԲԸ | B11: Ամբուլատորիա | C11: Արագածոտն | D11: 5000 | F11: =IF(E11="","",E11*1000) | G11: 403 | H11: =G11*30 -> 12090 | I11: 3 | J11: =I11*500 -> 1500 | K11: =IF(F11="",SUM(D11+H11+J11),SUM(D11+F11+H11+J11)) -> 18590 | L11: =K11*1.2 -> 22308 | M11: 2223764.4 | N11: 4546 | O11: =ROUND(P11*0.833333,0) -> 12500 | P11: =IF(N11="",L11,IF(B11="Ամբուլատորիա",IF(N11*4>15000,15000,N11*4),IF(B11="Պոլիկլինիկա",IF(N11*4>75000,75000,N11*4),IF(B11="Բժշկական կենտրոն",IF(N11*4>75000,75000+80000+F11*1.2+J11*1.2,N11*4+80000+F11*1.2+J11*1.2),L11)))) -> 15000 | Q11: =IF(M11="",0,ROUND(P11*100/M11,2)) -> 0.67
A12: Թալինի բժշկական կենտրոն ՓԲԸ | B12: Բժշկական կենտրոն | C12: Արագածոտն | D12: 130000 | E12: 89 | F12: =IF(E12="","",E12*1000) -> 89000 | G12: 1225 | H12: =G12*30 -> 36750 | I12: 10 | J12: =I12*500 -> 5000 | K12: =IF(F12="",SUM(D12+H12+J12),SUM(D12+F12+H12+J12)) -> 260750 | L12: =K12*1.2 -> 312900 | M12: 25461690 | N12: 11539 | O12: =ROUND(P12*0.833333,0) -> 199130 | P12: =IF(N12="",L12,IF(B12="Ամբուլատորիա",IF(N12*4>15000,15000,N12*4),IF(B12="Պոլիկլինիկա",IF(N12*4>75000,75000,N12*4),IF(B12="Բժշկական կենտրոն",IF(N12*4>75000,75000+80000+F12*1.2+J12*1.2,N12*4+80000+F12*1.2+J12*1.2),L12)))) -> 238956 | Q12: =IF(M12="",0,ROUND(P12*100/M12,2)) -> 0.94
A13: Լիլիդենտիս ՍՊԸ | B13: Ատամնաբուժարան | C13: Արագածոտն | D13: 7000 | F13: =IF(E13="","",E13*1000) | G13: 29 | H13: =G13*30 -> 870 | I13: 3 | J13: =I13*500 -> 1500 | K13: =IF(F13="",SUM(D13+H13+J13),SUM(D13+F13+H13+J13)) -> 9370 | L13: =K13*1.2 -> 11244 | M13: 725275 | O13: =ROUND(P13*0.833333,0) -> 9370 | P13: =IF(N13="",L13,IF(B13="Ամբուլատորիա",IF(N13*4>15000,15000,N13*4),IF(B13="Պոլիկլինիկա",IF(N13*4>75000,75000,N13*4),IF(B13="Բժշկական կենտրոն",IF(N13*4>75000,75000+80000+F13*1.2+J13*1.2,N13*4+80000+F13*1.2+J13*1.2),L13)))) -> 11244 | Q13: =IF(M13="",0,ROUND(P13*100/M13,2)) -> 1.55
A14: Ծաղկահովիտի բժշկական կենտրոն ՓԲԸ | B14: Բժշկական կենտրոն | C14: Արագածոտն | D14: 130000 | E14: 15 | F14: =IF(E14="","",E14*1000) -> 15000 | G14: 577 | H14: =G14*30 -> 17310 | I14: 7 | J14: =I14*500 -> 3500 | K14: =IF(F14="",SUM(D14+H14+J14),SUM(D14+F14+H14+J14)) -> 165810 | L14: =K14*1.2 -> 198972 | M14: 14418427 | N14: 8976 | O14: =ROUND(P14*0.833333,0) -> 115087 | P14: =IF(N14="",L14,IF(B14="Ամբուլատորիա",IF(N14*4>15000,15000,N14*4),IF(B14="Պոլիկլինիկա",IF(N14*4>75000,75000,N14*4),IF(B14="Բժշկական կենտրոն",IF(N14*4>75000,75000+80000+F14*1.2+J14*1.2,N14*4+80000+F14*1.2+J14*1.2),L14)))) -> 138104 | Q14: =IF(M14="",0,ROUND(P14*100/M14,2)) -> 0.96
A15: Կարբիի բժշկական ամբուլատորիա ՀՈԱԿ | B15: Ամբուլատորիա | C15: Արագածոտն | D15: 5000 | F15: =IF(E15="","",E15*1000) | G15: 411 | H15: =G15*30 -> 12330 | I15: 3 | J15: =I15*500 -> 1500 | K15: =IF(F15="",SUM(D15+H15+J15),SUM(D15+F15+H15+J15)) -> 18830 | L15: =K15*1.2 -> 22596 | M15: 3173412.4 | N15: 6677 | O15: =ROUND(P15*0.833333,0) -> 12500 | P15: =IF(N15="",L15,IF(B15="Ամբուլատորիա",IF(N15*4>15000,15000,N15*4),IF(B15="Պոլիկլինիկա",IF(N15*4>75000,75000,N15*4),IF(B15="Բժշկական կենտրոն",IF(N15*4>75000,75000+80000+F15*1.2+J15*1.2,N15*4+80000+F15*1.2+J15*1.2),L15)))) -> 15000 | Q15: =IF(M15="",0,ROUND(P15*100/M15,2)) -> 0.47
A16: Մաստարայի բժշկական ամբուլատորիա ՀՈԱԿ | B16: Ամբուլատորիա | C16: Արագածոտն | D16: 5000 | F16: =IF(E16="","",E16*1000) | G16: 197 | H16: =G16*30 -> 5910 | I16: 3 | J16: =I16*500 -> 1500 | K16: =IF(F16="",SUM(D16+H16+J16),SUM(D16+F16+H16+J16)) -> 12410 | L16: =K16*1.2 -> 14892 | M16: 1694406.1 | N16: 3370 | O16: =ROUND(P16*0.833333,0) -> 11233 | P16: =IF(N16="",L16,IF(B16="Ամբուլատորիա",IF(N16*4>15000,15000,N16*4),IF(B16="Պոլիկլինիկա",IF(N16*4>75000,75000,N16*4),IF(B16="Բժշկական կենտրոն",IF(N16*4>75000,75000+80000+F16*1.2+J16*1.2,N16*4+80000+F16*1.2+J16*1.2),L16)))) -> 13480 | Q16: =IF(M16="",0,ROUND(P16*100/M16,2)) -> 0.8
A17: Ն. Բազմաբերդի բժշկական ամբուլատորիա ՀՈԱԿ | B17: Ամբուլատորիա | C17: Արագածոտն | D17: 5000 | F17: =IF(E17="","",E17*1000) | G17: 731 | H17: =G17*30 -> 21930 | I17: 4 | J17: =I17*500 -> 2000 | K17: =IF(F17="",SUM(D17+H17+J17),SUM(D17+F17+H17+J17)) -> 28930 | L17: =K17*1.2 -> 34716 | M17: 3306338.1 | N17: 5107 | O17: =ROUND(P17*0.833333,0) -> 12500 | P17: =IF(N17="",L17,IF(B17="Ամբուլատորիա",IF(N17*4>15000,15000,N17*4),IF(B17="Պոլիկլինիկա",IF(N17*4>75000,75000,N17*4),IF(B17="Բժշկական կենտրոն",IF(N17*4>75000,75000+80000+F17*1.2+J17*1.2,N17*4+80000+F17*1.2+J17*1.2),L17)))) -> 15000 | Q17: =IF(M17="",0,ROUND(P17*100/M17,2)) -> 0.45
A18: Նարեկ ԱԿ ՍՊԸ | B18: Ամբուլատորիա | C18: Արագածոտն | D18: 5000 | F18: =IF(E18="","",E18*1000) | G18: 215 | H18: =G18*30 -> 6450 | I18: 7 | J18: =I18*500 -> 3500 | K18: =IF(F18="",SUM(D18+H18+J18),SUM(D18+F18+H18+J18)) -> 14950 | L18: =K18*1.2 -> 17940 | M18: 816936.67 | N18: 3011 | O18: =ROUND(P18*0.833333,0) -> 10037 | P18: =IF(N18="",L18,IF(B18="Ամբուլատորիա",IF(N18*4>15000,15000,N18*4),IF(B18="Պոլիկլինիկա",IF(N18*4>75000,75000,N18*4),IF(B18="Բժշկական կենտրոն",IF(N18*4>75000,75000+80000+F18*1.2+J18*1.2,N18*4+80000+F18*1.2+J18*1.2),L18)))) -> 12044 | Q18: =IF(M18="",0,ROUND(P18*100/M18,2)) -> 1.47
A19: Շենավանի բժշկական ամբուլատորիա ՀՈԱԿ | B19: Ամբուլատորիա | C19: Արագածոտն | D19: 5000 | F19: =IF(E19="","",E19*1000) | G19: 208 | H19: =G19*30 -> 6240 | I19: 3 | J19: =I19*500 -> 1500 | K19: =IF(F19="",SUM(D19+H19+J19),SUM(D19+F19+H19+J19)) -> 12740 | L19: =K19*1.2 -> 15288 | M19: 1851919.8 | N19: 3283 | O19: =ROUND(P19*0.833333,0) -> 10943 | P19: =IF(N19="",L19,IF(B19="Ամբուլատորիա",IF(N19*4>15000,15000,N19*4),IF(B19="Պոլիկլինիկա",IF(N19*4>75000,75000,N19*4),IF(B19="Բժշկական կենտրոն",IF(N19*4>75000,75000+80000+F19*1.2+J19*1.2,N19*4+80000+F19*1.2+J19*1.2),L19)))) -> 13132 | Q19: =IF(M19="",0,ROUND(P19*100/M19,2)) -> 0.71
A20: Ոսկեվազի բժշկական ամբուլատորիա ՀՈԱԿ | B20: Ամբուլատորիա | C20: Արագածոտն | D20: 5000 | F20: =IF(E20="","",E20*1000) | G20: 769 | H20: =G20*30 -> 23070 | I20: 3 | J20: =I20*500 -> 1500 | K20: =IF(F20="",SUM(D20+H20+J20),SUM(D20+F20+H20+J20)) -> 29570 | L20: =K20*1.2 -> 35484 | M20: 2017988.3 | N20: 4585 | O20: =ROUND(P20*0.833333,0) -> 12500 | P20: =IF(N20="",L20,IF(B20="Ամբուլատորիա",IF(N20*4>15000,15000,N20*4),IF(B20="Պոլիկլինիկա",IF(N20*4>75000,75000,N20*4),IF(B20="Բժշկական կենտրոն",IF(N20*4>75000,75000+80000+F20*1.2+J20*1.2,N20*4+80000+F20*1.2+J20*1.2),L20)))) -> 15000 | Q20: =IF(M20="",0,ROUND(P20*100/M20,2)) -> 0.74
A21: Ուշիի առողջության ԱԱՊԿ ՀՈԱԿ | B21: Ամբուլատորիա | C21: Արագածոտն | D21: 5000 | F21: =IF(E21="","",E21*1000) | G21: 50 | H21: =G21*30 -> 1500 | I21: 3 | J21: =I21*500 -> 1500 | K21: =IF(F21="",SUM(D21+H21+J21),SUM(D21+F21+H21+J21)) -> 8000 | L21: =K21*1.2 -> 9600 | M21: 630174.17 | N21: 1365 | O21: =ROUND(P21*0.833333,0) -> 4550 | P21: =IF(N21="",L21,IF(B21="Ամբուլատորիա",IF(N21*4>15000,15000,N21*4),IF(B21="Պոլիկլինիկա",IF(N21*4>75000,75000,N21*4),IF(B21="Բժշկական կենտրոն",IF(N21*4>75000,75000+80000+F21*1.2+J21*1.2,N21*4+80000+F21*1.2+J21*1.2),L21)))) -> 5460 | Q21: =IF(M21="",0,ROUND(P21*100/M21,2)) -> 0.87
A22: ՈՒջանի բժշկական ամբուլատորիա ՀՈԱԿ | B22: Ամբուլատորիա | C22: Արագածոտն | D22: 5000 | F22: =IF(E22="","",E22*1000) | G22: 230 | H22: =G22*30 -> 6900 | I22: 4 | J22: =I22*500 -> 2000 | K22: =IF(F22="",SUM(D22+H22+J22),SUM(D22+F22+H22+J22)) -> 13900 | L22: =K22*1.2 -> 16680 | M22: 2038298.6 | N22: 4134 | O22: =ROUND(P22*0.833333,0) -> 12500 | P22: =IF(N22="",L22,IF(B22="Ամբուլատորիա",IF(N22*4>15000,15000,N22*4),IF(B22="Պոլիկլինիկա",IF(N22*4>75000,75000,N22*4),IF(B22="Բժշկական կենտրոն",IF(N22*4>75000,75000+80000+F22*1.2+J22*1.2,N22*4+80000+F22*1.2+J22*1.2),L22)))) -> 15000 | Q22: =IF(M22="",0,ROUND(P22*100/M22,2)) -> 0.74
A23: Սասունիկի բժշկական ամբուլատորիա ՀՈԱԿ | B23: Ամբուլատորիա | C23: Արագածոտն | D23: 5000 | F23: =IF(E23="","",E23*1000) | G23: 74 | H23: =G23*30 -> 2220 | I23: 3 | J23: =I23*500 -> 1500 | K23: =IF(F23="",SUM(D23+H23+J23),SUM(D23+F23+H23+J23)) -> 8720 | L23: =K23*1.2 -> 10464 | M23: 1160713.8 | N23: 2227 | O23: =ROUND(P23*0.833333,0) -> 7423 | P23: =IF(N23="",L23,IF(B23="Ամբուլատորիա",IF(N23*4>15000,15000,N23*4),IF(B23="Պոլիկլինիկա",IF(N23*4>75000,75000,N23*4),IF(B23="Բժշկական կենտրոն",IF(N23*4>75000,75000+80000+F23*1.2+J23*1.2,N23*4+80000+F23*1.2+J23*1.2),L23)))) -> 8908 | Q23: =IF(M23="",0,ROUND(P23*100/M23,2)) -> 0.77
A24: Փարպիի բժշկական ամբուլատորիա ՀՈԱԿ | B24: Ամբուլատորիա | C24: Արագածոտն | D24: 5000 | F24: =IF(E24="","",E24*1000) | G24: 344 | H24: =G24*30 -> 10320 | I24: 5 | J24: =I24*500 -> 2500 | K24: =IF(F24="",SUM(D24+H24+J24),SUM(D24+F24+H24+J24)) -> 17820 | L24: =K24*1.2 -> 21384 | M24: 1558845.4 | N24: 3123 | O24: =ROUND(P24*0.833333,0) -> 10410 | P24: =IF(N24="",L24,IF(B24="Ամբուլատորիա",IF(N24*4>15000,15000,N24*4),IF(B24="Պոլիկլինիկա",IF(N24*4>75000,75000,N24*4),IF(B24="Բժշկական կենտրոն",IF(N24*4>75000,75000+80000+F24*1.2+J24*1.2,N24*4+80000+F24*1.2+J24*1.2),L24)))) -> 12492 | Q24: =IF(M24="",0,ROUND(P24*100/M24,2)) -> 0.8
A25: Քուչակի բժշկական ամբուլատորիա ՀՈԱԿ | B25: Ամբուլատորիա | C25: Արագածոտն | D25: 5000 | F25: =IF(E25="","",E25*1000) | G25: 40 | H25: =G25*30 -> 1200 | I25: 3 | J25: =I25*500 -> 1500 | K25: =IF(F25="",SUM(D25+H25+J25),SUM(D25+F25+H25+J25)) -> 7700 | L25: =K25*1.2 -> 9240 | M25: 1223480.7 | N25: 1895 | O25: =ROUND(P25*0.833333,0) -> 6317 | P25: =IF(N25="",L25,IF(B25="Ամբուլատորիա",IF(N25*4>15000,15000,N25*4),IF(B25="Պոլիկլինիկա",IF(N25*4>75000,75000,N25*4),IF(B25="Բժշկական կենտրոն",IF(N25*4>75000,75000+80000+F25*1.2+J25*1.2,N25*4+80000+F25*1.2+J25*1.2),L25)))) -> 7580 | Q25: =IF(M25="",0,ROUND(P25*100/M25,2)) -> 0.62
A26: Օշականի բժշկական ամբուլատորիա ՀՈԱԿ | B26: Ամբուլատորիա | C26: Արագածոտն | D26: 5000 | F26: =IF(E26="","",E26*1000) | G26: 439 | H26: =G26*30 -> 13170 | I26: 3 | J26: =I26*500 -> 1500 | K26: =IF(F26="",SUM(D26+H26+J26),SUM(D26+F26+H26+J26)) -> 19670 | L26: =K26*1.2 -> 23604 | M26: 2066402.7 | N26: 4584 | O26: =ROUND(P26*0.833333,0) -> 12500 | P26: =IF(N26="",L26,IF(B26="Ամբուլատորիա",IF(N26*4>15000,15000,N26*4),IF(B26="Պոլիկլինիկա",IF(N26*4>75000,75000,N26*4),IF(B26="Բժշկական կենտրոն",IF(N26*4>75000,75000+80000+F26*1.2+J26*1.2,N26*4+80000+F26*1.2+J26*1.2),L26)))) -> 15000 | Q26: =IF(M26="",0,ROUND(P26*100/M26,2)) -> 0.73
A27: Օշականի մանկական առողջարան ՓԲԸ | B27: Առողջարան | C27: Արագածոտն | D27: 50000 | F27: =IF(E27="","",E27*1000) | G27: 0 | H27: =G27*30 -> 0 | I27: 5 | J27: =I27*500 -> 2500 | K27: =IF(F27="",SUM(D27+H27+J27),SUM(D27+F27+H27+J27)) -> 52500 | L27: =K27*1.2 -> 63000 | M27: 1158333.3 | O27: =ROUND(P27*0.833333,0) -> 52500 | P27: =IF(N27="",L27,IF(B27="Ամբուլատորիա",IF(N27*4>15000,15000,N27*4),IF(B27="Պոլիկլինիկա",IF(N27*4>75000,75000,N27*4),IF(B27="Բժշկական կենտրոն",IF(N27*4>75000,75000+80000+F27*1.2+J27*1.2,N27*4+80000+F27*1.2+J27*1.2),L27)))) -> 63000 | Q27: =IF(M27="",0,ROUND(P27*100/M27,2)) -> 5.44
A28: Ազատավանի ԱԱՊԿ ՓԲԸ | B28: Ամբուլատորիա | C28: Արարատ | D28: 5000 | F28: =IF(E28="","",E28*1000) | G28: 221 | H28: =G28*30 -> 6630 | I28: 4 | J28: =I28*500 -> 2000 | K28: =IF(F28="",SUM(D28+H28+J28),SUM(D28+F28+H28+J28)) -> 13630 | L28: =K28*1.2 -> 16356 | M28: 2178739.4 | N28: 3376 | O28: =ROUND(P28*0.833333,0) -> 11253 | P28: =IF(N28="",L28,IF(B28="Ամբուլատորիա",IF(N28*4>15000,15000,N28*4),IF(B28="Պոլիկլինիկա",IF(N28*4>75000,75000,N28*4),IF(B28="Բժշկական կենտրոն",IF(N28*4>75000,75000+80000+F28*1.2+J28*1.2,N28*4+80000+F28*1.2+J28*1.2),L28)))) -> 13504 | Q28: =IF(M28="",0,ROUND(P28*100/M28,2)) -> 0.62
A29: Ակ. Ա.Հայրիյանի անվան Արմաշի ԱԿ ՓԲԸ | B29: Բժշկական կենտրոն | C29: Արարատ | D29: 130000 | E29: 82 | F29: =IF(E29="","",E29*1000) -> 82000 | G29: 81 | H29: =G29*30 -> 2430 | I29: 8 | J29: =I29*500 -> 4000 | K29: =IF(F29="",SUM(D29+H29+J29),SUM(D29+F29+H29+J29)) -> 218430 | L29: =K29*1.2 -> 262116 | M29: 13184614 | N29: 3392 | O29: =ROUND(P29*0.833333,0) -> 163973 | P29: =IF(N29="",L29,IF(B29="Ամբուլատորիա",IF(N29*4>15000,15000,N29*4),IF(B29="Պոլիկլինիկա",IF(N29*4>75000,75000,N29*4),IF(B29="Բժշկական կենտրոն",IF(N29*4>75000,75000+80000+F29*1.2+J29*1.2,N29*4+80000+F29*1.2+J29*1.2),L29)))) -> 196768 | Q29: =IF(M29="",0,ROUND(P29*100/M29,2)) -> 1.49
A30: Այգավանի ԲԱ ՓԲԸ | B30: Ամբուլատորիա | C30: Արարատ | D30: 5000 | F30: =IF(E30="","",E30*1000) | G30: 205 | H30: =G30*30 -> 6150 | I30: 3 | J30: =I30*500 -> 1500 | K30: =IF(F30="",SUM(D30+H30+J30),SUM(D30+F30+H30+J30)) -> 12650 | L30: =K30*1.2 -> 15180 | M30: 1691597.2 | N30: 3392 | O30: =ROUND(P30*0.833333,0) -> 11307 | P30: =IF(N30="",L30,IF(B30="Ամբուլատորիա",IF(N30*4>15000,15000,N30*4),IF(B30="Պոլիկլինիկա",IF(N30*4>75000,75000,N30*4),IF(B30="Բժշկական կենտրոն",IF(N30*4>75000,75000+80000+F30*1.2+J30*1.2,N30*4+80000+F30*1.2+J30*1.2),L30)))) -> 13568 | Q30: =IF(M30="",0,ROUND(P30*100/M30,2)) -> 0.8
A31: Այգեզարդի ԱԱՊԿ ՊՈԱԿ | B31: Ամբուլատորիա | C31: Արարատ | D31: 5000 | F31: =IF(E31="","",E31*1000) | G31: 394 | H31: =G31*30 -> 11820 | I31: 3 | J31: =I31*500 -> 1500 | K31: =IF(F31="",SUM(D31+H31+J31),SUM(D31+F31+H31+J31)) -> 18320 | L31: =K31*1.2 -> 21984 | M31: 2091990 | N31: 4456 | O31: =ROUND(P31*0.833333,0) -> 12500 | P31: =IF(N31="",L31,IF(B31="Ամբուլատորիա",IF(N31*4>15000,15000,N31*4),IF(B31="Պոլիկլինիկա",IF(N31*4>75000,75000,N31*4),IF(B31="Բժշկական կենտրոն",IF(N31*4>75000,75000+80000+F31*1.2+J31*1.2,N31*4+80000+F31*1.2+J31*1.2),L31)))) -> 15000 | Q31: =IF(M31="",0,ROUND(P31*100/M31,2)) -> 0.72
A32: Այգեստանի ԱԱՊԿ ՓԲԸ | B32: Ամբուլատորիա | C32: Արարատ | D32: 5000 | F32: =IF(E32="","",E32*1000) | G32: 186 | H32: =G32*30 -> 5580 | I32: 3 | J32: =I32*500 -> 1500 | K32: =IF(F32="",SUM(D32+H32+J32),SUM(D32+F32+H32+J32)) -> 12080 | L32: =K32*1.2 -> 14496 | M32: 1467014.6 | N32: 3209 | O32: =ROUND(P32*0.833333,0) -> 10697 | P32: =IF(N32="",L32,IF(B32="Ամբուլատորիա",IF(N32*4>15000,15000,N32*4),IF(B32="Պոլիկլինիկա",IF(N32*4>75000,75000,N32*4),IF(B32="Բժշկական կենտրոն",IF(N32*4>75000,75000+80000+F32*1.2+J32*1.2,N32*4+80000+F32*1.2+J32*1.2),L32)))) -> 12836 | Q32: =IF(M32="",0,ROUND(P32*100/M32,2)) -> 0.87
A33: Այնթապի ԲԱ ՀՈԱԿ | B33: Ամբուլատորիա | C33: Արարատ | D33: 5000 | F33: =IF(E33="","",E33*1000) | G33: 427 | H33: =G33*30 -> 12810 | I33: 4 | J33: =I33*500 -> 2000 | K33: =IF(F33="",SUM(D33+H33+J33),SUM(D33+F33+H33+J33)) -> 19810 | L33: =K33*1.2 -> 23772 | M33: 3002123.5 | N33: 6940 | O33: =ROUND(P33*0.833333,0) -> 12500 | P33: =IF(N33="",L33,IF(B33="Ամբուլատորիա",IF(N33*4>15000,15000,N33*4),IF(B33="Պոլիկլինիկա",IF(N33*4>75000,75000,N33*4),IF(B33="Բժշկական կենտրոն",IF(N33*4>75000,75000+80000+F33*1.2+J33*1.2,N33*4+80000+F33*1.2+J33*1.2),L33)))) -> 15000 | Q33: =IF(M33="",0,ROUND(P33*100/M33,2)) -> 0.5
A34: Ավշարի ԲԱ ՓԲԸ | B34: Ամբուլատորիա | C34: Արարատ | D34: 5000 | F34: =IF(E34="","",E34*1000) | G34: 215 | H34: =G34*30 -> 6450 | I34: 3 | J34: =I34*500 -> 1500 | K34: =IF(F34="",SUM(D34+H34+J34),SUM(D34+F34+H34+J34)) -> 12950 | L34: =K34*1.2 -> 15540 | M34: 1685987.5 | N34: 3661 | O34: =ROUND(P34*0.833333,0) -> 12203 | P34: =IF(N34="",L34,IF(B34="Ամբուլատորիա",IF(N34*4>15000,15000,N34*4),IF(B34="Պոլիկլինիկա",IF(N34*4>75000,75000,N34*4),IF(B34="Բժշկական կենտրոն",IF(N34*4>75000,75000+80000+F34*1.2+J34*1.2,N34*4+80000+F34*1.2+J34*1.2),L34)))) -> 14644 | Q34: =IF(M34="",0,ROUND(P34*100/M34,2)) -> 0.87
A35: Արալեզի ԲԱ ՀՈԱԿ | B35: Ամբուլատորիա | C35: Արարատ | D35: 5000 | F35: =IF(E35="","",E35*1000) | G35: 100 | H35: =G35*30 -> 3000 | I35: 3 | J35: =I35*500 -> 1500 | K35: =IF(F35="",SUM(D35+H35+J35),SUM(D35+F35+H35+J35)) -> 9500 | L35: =K35*1.2 -> 11400 | M35: 968995.75 | N35: 1930 | O35: =ROUND(P35*0.833333,0) -> 6433 | P35: =IF(N35="",L35,IF(B35="Ամբուլատորիա",IF(N35*4>15000,15000,N35*4),IF(B35="Պոլիկլինիկա",IF(N35*4>75000,75000,N35*4),IF(B35="Բժշկական կենտրոն",IF(N35*4>75000,75000+80000+F35*1.2+J35*1.2,N35*4+80000+F35*1.2+J35*1.2),L35)))) -> 7720 | Q35: =IF(M35="",0,ROUND(P35*100/M35,2)) -> 0.8
A36: Արարատի ԲԱ ՓԲԸ | B36: Ամբուլատորիա | C36: Արարատ | D36: 5000 | F36: =IF(E36="","",E36*1000) | G36: 376 | H36: =G36*30 -> 11280 | I36: 5 | J36: =I36*500 -> 2500 | K36: =IF(F36="",SUM(D36+H36+J36),SUM(D36+F36+H36+J36)) -> 18780 | L36: =K36*1.2 -> 22536 | M36: 2694963 | N36: 4518 | O36: =ROUND(P36*0.833333,0) -> 12500 | P36: =IF(N36="",L36,IF(B36="Ամբուլատորիա",IF(N36*4>15000,15000,N36*4),IF(B36="Պոլիկլինիկա",IF(N36*4>75000,75000,N36*4),IF(B36="Բժշկական կենտրոն",IF(N36*4>75000,75000+80000+F36*1.2+J36*1.2,N36*4+80000+F36*1.2+J36*1.2),L36)))) -> 15000 | Q36: =IF(M36="",0,ROUND(P36*100/M36,2)) -> 0.56
A37: Արարատի հիվանդանոց ԲԿ ՓԲԸ | B37: Բժշկական կենտրոն | C37: Արարատ | D37: 130000 | E37: 138 | F37: =IF(E37="","",E37*1000) -> 138000 | G37: 2206 | H37: =G37*30 -> 66180 | I37: 16 | J37: =I37*500 -> 8000 | K37: =IF(F37="",SUM(D37+H37+J37),SUM(D37+F37+H37+J37)) -> 342180 | L37: =K37*1.2 -> 410616 | M37: 26250958 | N37: 13701 | O37: =ROUND(P37*0.833333,0) -> 258337 | P37: =IF(N37="",L37,IF(B37="Ամբուլատորիա",IF(N37*4>15000,15000,N37*4),IF(B37="Պոլիկլինիկա",IF(N37*4>75000,75000,N37*4),IF(B37="Բժշկական կենտրոն",IF(N37*4>75000,75000+80000+F37*1.2+J37*1.2,N37*4+80000+F37*1.2+J37*1.2),L37)))) -> 310004 | Q37: =IF(M37="",0,ROUND(P37*100/M37,2)) -> 1.18
A38: Արբաթի ԲԱ ՀՈԱԿ | B38: Ամբուլատորիա | C38: Արարատ | D38: 5000 | F38: =IF(E38="","",E38*1000) | G38: 142 | H38: =G38*30 -> 4260 | I38: 3 | J38: =I38*500 -> 1500 | K38: =IF(F38="",SUM(D38+H38+J38),SUM(D38+F38+H38+J38)) -> 10760 | L38: =K38*1.2 -> 12912 | M38: 728678.58 | N38: 1525 | O38: =ROUND(P38*0.833333,0) -> 5083 | P38: =IF(N38="",L38,IF(B38="Ամբուլատորիա",IF(N38*4>15000,15000,N38*4),IF(B38="Պոլիկլինիկա",IF(N38*4>75000,75000,N38*4),IF(B38="Բժշկական կենտրոն",IF(N38*4>75000,75000+80000+F38*1.2+J38*1.2,N38*4+80000+F38*1.2+J38*1.2),L38)))) -> 6100 | Q38: =IF(M38="",0,ROUND(P38*100/M38,2)) -> 0.84
A39: Արգավանդի ԱԱՊԿ ՓԲԸ | B39: Ամբուլատորիա | C39: Արարատ | D39: 5000 | F39: =IF(E39="","",E39*1000) | G39: 152 | H39: =G39*30 -> 4560 | I39: 3 | J39: =I39*500 -> 1500 | K39: =IF(F39="",SUM(D39+H39+J39),SUM(D39+F39+H39+J39)) -> 11060 | L39: =K39*1.2 -> 13272 | M39: 951992.5 | N39: 1572 | O39: =ROUND(P39*0.833333,0) -> 5240 | P39: =IF(N39="",L39,IF(B39="Ամբուլատորիա",IF(N39*4>15000,15000,N39*4),IF(B39="Պոլիկլինիկա",IF(N39*4>75000,75000,N39*4),IF(B39="Բժշկական կենտրոն",IF(N39*4>75000,75000+80000+F39*1.2+J39*1.2,N39*4+80000+F39*1.2+J39*1.2),L39)))) -> 6288 | Q39: =IF(M39="",0,ROUND(P39*100/M39,2)) -> 0.66
A40: Արևշատի ԱԱՊԿ ՊՈԱԿ | B40: Ամբուլատորիա | C40: Արարատ | D40: 5000 | F40: =IF(E40="","",E40*1000) | G40: 315 | H40: =G40*30 -> 9450 | I40: 5 | J40: =I40*500 -> 2500 | K40: =IF(F40="",SUM(D40+H40+J40),SUM(D40+F40+H40+J40)) -> 16950 | L40: =K40*1.2 -> 20340 | M40: 2298498 | N40: 4918 | O40: =ROUND(P40*0.833333,0) -> 12500 | P40: =IF(N40="",L40,IF(B40="Ամբուլատորիա",IF(N40*4>15000,15000,N40*4),IF(B40="Պոլիկլինիկա",IF(N40*4>75000,75000,N40*4),IF(B40="Բժշկական կենտրոն",IF(N40*4>75000,75000+80000+F40*1.2+J40*1.2,N40*4+80000+F40*1.2+J40*1.2),L40)))) -> 15000 | Q40: =IF(M40="",0,ROUND(P40*100/M40,2)) -> 0.65
A41: Արտաշատի ԲԿ ՓԲԸ | B41: Բժշկական կենտրոն | C41: Արարատ | D41: 130000 | E41: 301 | F41: =IF(E41="","",E41*1000) -> 301000 | G41: 2699 | H41: =G41*30 -> 80970 | I41: 15 | J41: =I41*500 -> 7500 | K41: =IF(F41="",SUM(D41+H41+J41),SUM(D41+F41+H41+J41)) -> 519470 | L41: =K41*1.2 -> 623364 | M41: 56435845 | N41: 26130 | O41: =ROUND(P41*0.833333,0) -> 437666 | P41: =IF(N41="",L41,IF(B41="Ամբուլատորիա",IF(N41*4>15000,15000,N41*4),IF(B41="Պոլիկլինիկա",IF(N41*4>75000,75000,N41*4),IF(B41="Բժշկական կենտրոն",IF(N41*4>75000,75000+80000+F41*1.2+J41*1.2,N41*4+80000+F41*1.2+J41*1.2),L41)))) -> 525200 | Q41: =IF(M41="",0,ROUND(P41*100/M41,2)) -> 0.93
A42: Բուրաստանի ԱԱՊԿ ՊՈԱԿ | B42: Ամբուլատորիա | C42: Արարատ | D42: 5000 | F42: =IF(E42="","",E42*1000) | G42: 270 | H42: =G42*30 -> 8100 | I42: 4 | J42: =I42*500 -> 2000 | K42: =IF(F42="",SUM(D42+H42+J42),SUM(D42+F42+H42+J42)) -> 15100 | L42: =K42*1.2 -> 18120 | M42: 1716526.8 | N42: 3441 | O42: =ROUND(P42*0.833333,0) -> 11470 | P42: =IF(N42="",L42,IF(B42="Ամբուլատորիա",IF(N42*4>15000,15000,N42*4),IF(B42="Պոլիկլինիկա",IF(N42*4>75000,75000,N42*4),IF(B42="Բժշկական կենտրոն",IF(N42*4>75000,75000+80000+F42*1.2+J42*1.2,N42*4+80000+F42*1.2+J42*1.2),L42)))) -> 13764 | Q42: =IF(M42="",0,ROUND(P42*100/M42,2)) -> 0.8
A43: Գեղանիստի ԱԱՊԿ ՓԲԸ | B43: Ամբուլատորիա | C43: Արարատ | D43: 5000 | F43: =IF(E43="","",E43*1000) | G43: 158 | H43: =G43*30 -> 4740 | I43: 4 | J43: =I43*500 -> 2000 | K43: =IF(F43="",SUM(D43+H43+J43),SUM(D43+F43+H43+J43)) -> 11740 | L43: =K43*1.2 -> 14088 | M43: 1407427.2 | N43: 2708 | O43: =ROUND(P43*0.833333,0) -> 9027 | P43: =IF(N43="",L43,IF(B43="Ամբուլատորիա",IF(N43*4>15000,15000,N43*4),IF(B43="Պոլիկլինիկա",IF(N43*4>75000,75000,N43*4),IF(B43="Բժշկական կենտրոն",IF(N43*4>75000,75000+80000+F43*1.2+J43*1.2,N43*4+80000+F43*1.2+J43*1.2),L43)))) -> 10832 | Q43: =IF(M43="",0,ROUND(P43*100/M43,2)) -> 0.77
A44: Գետազատի ԱԱՊԿ ՊՈԱԿ | B44: Ամբուլատորիա | C44: Արարատ | D44: 5000 | F44: =IF(E44="","",E44*1000) | G44: 155 | H44: =G44*30 -> 4650 | I44: 3 | J44: =I44*500 -> 1500 | K44: =IF(F44="",SUM(D44+H44+J44),SUM(D44+F44+H44+J44)) -> 11150 | L44: =K44*1.2 -> 13380 | M44: 1619693.8 | N44: 3345 | O44: =ROUND(P44*0.833333,0) -> 11150 | P44: =IF(N44="",L44,IF(B44="Ամբուլատորիա",IF(N44*4>15000,15000,N44*4),IF(B44="Պոլիկլինիկա",IF(N44*4>75000,75000,N44*4),IF(B44="Բժշկական կենտրոն",IF(N44*4>75000,75000+80000+F44*1.2+J44*1.2,N44*4+80000+F44*1.2+J44*1.2),L44)))) -> 13380 | Q44: =IF(M44="",0,ROUND(P44*100/M44,2)) -> 0.83
A45: Դալարի ԱԱՊԿ ՓԲԸ | B45: Ամբուլատորիա | C45: Արարատ | D45: 5000 | F45: =IF(E45="","",E45*1000) | G45: 203 | H45: =G45*30 -> 6090 | I45: 3 | J45: =I45*500 -> 1500 | K45: =IF(F45="",SUM(D45+H45+J45),SUM(D45+F45+H45+J45)) -> 12590 | L45: =K45*1.2 -> 15108 | M45: 1810839.2 | N45: 3693 | O45: =ROUND(P45*0.833333,0) -> 12310 | P45: =IF(N45="",L45,IF(B45="Ամբուլատորիա",IF(N45*4>15000,15000,N45*4),IF(B45="Պոլիկլինիկա",IF(N45*4>75000,75000,N45*4),IF(B45="Բժշկական կենտրոն",IF(N45*4>75000,75000+80000+F45*1.2+J45*1.2,N45*4+80000+F45*1.2+J45*1.2),L45)))) -> 14772 | Q45: =IF(M45="",0,ROUND(P45*100/M45,2)) -> 0.82
A46: Դաշտավանի ԱԱՊԿ ՓԲԸ | B46: Ամբուլատորիա | C46: Արարատ | D46: 5000 | F46: =IF(E46="","",E46*1000) | G46: 346 | H46: =G46*30 -> 10380 | I46: 3 | J46: =I46*500 -> 1500 | K46: =IF(F46="",SUM(D46+H46+J46),SUM(D46+F46+H46+J46)) -> 16880 | L46: =K46*1.2 -> 20256 | M46: 1616721.6 | N46: 3476 | O46: =ROUND(P46*0.833333,0) -> 11587 | P46: =IF(N46="",L46,IF(B46="Ամբուլատորիա",IF(N46*4>15000,15000,N46*4),IF(B46="Պոլիկլինիկա",IF(N46*4>75000,75000,N46*4),IF(B46="Բժշկական կենտրոն",IF(N46*4>75000,75000+80000+F46*1.2+J46*1.2,N46*4+80000+F46*1.2+J46*1.2),L46)))) -> 13904 | Q46: =IF(M46="",0,ROUND(P46*100/M46,2)) -> 0.86
A47: Դարակերտի ԱԱՊԿ ՊՈԱԿ | B47: Ամբուլատորիա | C47: Արարատ | D47: 5000 | F47: =IF(E47="","",E47*1000) | G47: 166 | H47: =G47*30 -> 4980 | I47: 4 | J47: =I47*500 -> 2000 | K47: =IF(F47="",SUM(D47+H47+J47),SUM(D47+F47+H47+J47)) -> 11980 | L47: =K47*1.2 -> 14376 | M47: 1689295.9 | N47: 1843 | O47: =ROUND(P47*0.833333,0) -> 6143 | P47: =IF(N47="",L47,IF(B47="Ամբուլատորիա",IF(N47*4>15000,15000,N47*4),IF(B47="Պոլիկլինիկա",IF(N47*4>75000,75000,N47*4),IF(B47="Բժշկական կենտրոն",IF(N47*4>75000,75000+80000+F47*1.2+J47*1.2,N47*4+80000+F47*1.2+J47*1.2),L47)))) -> 7372 | Q47: =IF(M47="",0,ROUND(P47*100/M47,2)) -> 0.44
A48: Դիմիտրովի ԱԱՊԿ ՓԲԸ | B48: Ամբուլատորիա | C48: Արարատ | D48: 5000 | F48: =IF(E48="","",E48*1000) | G48: 144 | H48: =G48*30 -> 4320 | I48: 3 | J48: =I48*500 -> 1500 | K48: =IF(F48="",SUM(D48+H48+J48),SUM(D48+F48+H48+J48)) -> 10820 | L48: =K48*1.2 -> 12984 | M48: 1155609.5 | N48: 2522 | O48: =ROUND(P48*0.833333,0) -> 8407 | P48: =IF(N48="",L48,IF(B48="Ամբուլատորիա",IF(N48*4>15000,15000,N48*4),IF(B48="Պոլիկլինիկա",IF(N48*4>75000,75000,N48*4),IF(B48="Բժշկական կենտրոն",IF(N48*4>75000,75000+80000+F48*1.2+J48*1.2,N48*4+80000+F48*1.2+J48*1.2),L48)))) -> 10088 | Q48: =IF(M48="",0,ROUND(P48*100/M48,2)) -> 0.87
A49: Դվինի ԱԱՊԿ ՊՈԱԿ | B49: Ամբուլատորիա | C49: Արարատ | D49: 5000 | F49: =IF(E49="","",E49*1000) | G49: 206 | H49: =G49*30 -> 6180 | I49: 3 | J49: =I49*500 -> 1500 | K49: =IF(F49="",SUM(D49+H49+J49),SUM(D49+F49+H49+J49)) -> 12680 | L49: =K49*1.2 -> 15216 | M49: 1073362.8 | N49: 2473 | O49: =ROUND(P49*0.833333,0) -> 8243 | P49: =IF(N49="",L49,IF(B49="Ամբուլատորիա",IF(N49*4>15000,15000,N49*4),IF(B49="Պոլիկլինիկա",IF(N49*4>75000,75000,N49*4),IF(B49="Բժշկական կենտրոն",IF(N49*4>75000,75000+80000+F49*1.2+J49*1.2,N49*4+80000+F49*1.2+J49*1.2),L49)))) -> 9892 | Q49: =IF(M49="",0,ROUND(P49*100/M49,2)) -> 0.92
A50: Զանգակատան ԱԱՊԿ ՓԲԸ | B50: Ամբուլատորիա | C50: Արարատ | D50: 5000 | F50: =IF(E50="","",E50*1000) | G50: 83 | H50: =G50*30 -> 2490 | I50: 5 | J50: =I50*500 -> 2500 | K50: =IF(F50="",SUM(D50+H50+J50),SUM(D50+F50+H50+J50)) -> 9990 | L50: =K50*1.2 -> 11988 | M50: 1264252.8 | N50: 1697 | O50: =ROUND(P50*0.833333,0) -> 5657 | P50: =IF(N50="",L50,IF(B50="Ամբուլատորիա",IF(N50*4>15000,15000,N50*4),IF(B50="Պոլիկլինիկա",IF(N50*4>75000,75000,N50*4),IF(B50="Բժշկական կենտրոն",IF(N50*4>75000,75000+80000+F50*1.2+J50*1.2,N50*4+80000+F50*1.2+J50*1.2),L50)))) -> 6788 | Q50: =IF(M50="",0,ROUND(P50*100/M50,2)) -> 0.54
A51: Լանջազատի ԱԱՊԿ ՓԲԸ | B51: Ամբուլատորիա | C51: Արարատ | D51: 5000 | F51: =IF(E51="","",E51*1000) | G51: 220 | H51: =G51*30 -> 6600 | I51: 4 | J51: =I51*500 -> 2000 | K51: =IF(F51="",SUM(D51+H51+J51),SUM(D51+F51+H51+J51)) -> 13600 | L51: =K51*1.2 -> 16320 | M51: 858300.5 | N51: 2256 | O51: =ROUND(P51*0.833333,0) -> 7520 | P51: =IF(N51="",L51,IF(B51="Ամբուլատորիա",IF(N51*4>15000,15000,N51*4),IF(B51="Պոլիկլինիկա",IF(N51*4>75000,75000,N51*4),IF(B51="Բժշկական կենտրոն",IF(N51*4>75000,75000+80000+F51*1.2+J51*1.2,N51*4+80000+F51*1.2+J51*1.2),L51)))) -> 9024 | Q51: =IF(M51="",0,ROUND(P51*100/M51,2)) -> 1.05
A52: Լուսառատի ԲԱ ՀՈԱԿ | B52: Ամբուլատորիա | C52: Արարատ | D52: 5000 | F52: =IF(E52="","",E52*1000) | G52: 149 | H52: =G52*30 -> 4470 | I52: 3 | J52: =I52*500 -> 1500 | K52: =IF(F52="",SUM(D52+H52+J52),SUM(D52+F52+H52+J52)) -> 10970 | L52: =K52*1.2 -> 13164 | M52: 970697.75 | N52: 2169 | O52: =ROUND(P52*0.833333,0) -> 7230 | P52: =IF(N52="",L52,IF(B52="Ամբուլատորիա",IF(N52*4>15000,15000,N52*4),IF(B52="Պոլիկլինիկա",IF(N52*4>75000,75000,N52*4),IF(B52="Բժշկական կենտրոն",IF(N52*4>75000,75000+80000+F52*1.2+J52*1.2,N52*4+80000+F52*1.2+J52*1.2),L52)))) -> 8676 | Q52: =IF(M52="",0,ROUND(P52*100/M52,2)) -> 0.89
A53: Խաչփարի ԲԱ ՀՈԱԿ | B53: Ամբուլատորիա | C53: Արարատ | D53: 5000 | F53: =IF(E53="","",E53*1000) | G53: 92 | H53: =G53*30 -> 2760 | I53: 3 | J53: =I53*500 -> 1500 | K53: =IF(F53="",SUM(D53+H53+J53),SUM(D53+F53+H53+J53)) -> 9260 | L53: =K53*1.2 -> 11112 | M53: 628086.58 | N53: 1451 | O53: =ROUND(P53*0.833333,0) -> 4837 | P53: =IF(N53="",L53,IF(B53="Ամբուլատորիա",IF(N53*4>15000,15000,N53*4),IF(B53="Պոլիկլինիկա",IF(N53*4>75000,75000,N53*4),IF(B53="Բժշկական կենտրոն",IF(N53*4>75000,75000+80000+F53*1.2+J53*1.2,N53*4+80000+F53*1.2+J53*1.2),L53)))) -> 5804 | Q53: =IF(M53="",0,ROUND(P53*100/M53,2)) -> 0.92
... A56: Հովտաշատի ԱԱՊԿ ՓԲԸ | B56: Ամբուլատորիա | C56: Արարատ | D56: 5000 | F56: =IF(E56="","",E56*1000) | G56: 168 | H56: =G56*30 -> 5040 | I56: 4 | J56: =I56*500 -> 2000 | K56: =IF(F56="",SUM(D56+H56+J56),SUM(D56+F56+H56+J56)) -> 12040 | L56: =K56*1.2 -> 14448 | M56: 1672381 | N56: 3280 | O56: =ROUND(P56*0.833333,0) -> 10933 | P56: =IF(N56="",L56,IF(B56="Ամբուլատորիա",IF(N56*4>15000,15000,N56*4),IF(B56="Պոլիկլինիկա",IF(N56*4>75000,75000,N56*4),IF(B56="Բժշկական կենտրոն",IF(N56*4>75000,75000+80000+F56*1.2+J56*1.2,N56*4+80000+F56*1.2+J56*1.2),L56)))) -> 13120 | Q56: =IF(M56="",0,ROUND(P56*100/M56,2)) -> 0.78
A57: Մասիս մանկական օրթոպեդիկ հիվանդանոց ՓԲԸ | B57: Հիվանդանոց | C57: Արարատ | D57: 80000 | F57: =IF(E57="","",E57*1000) | G57: 0 | H57: =G57*30 -> 0 | I57: 3 | J57: =I57*500 -> 1500 | K57: =IF(F57="",SUM(D57+H57+J57),SUM(D57+F57+H57+J57)) -> 81500 | L57: =K57*1.2 -> 97800 | O57: =ROUND(P57*0.833333,0) -> 81500 | P57: =IF(N57="",L57,IF(B57="Ամբուլատորիա",IF(N57*4>15000,15000,N57*4),IF(B57="Պոլիկլինիկա",IF(N57*4>75000,75000,N57*4),IF(B57="Բժշկական կենտրոն",IF(N57*4>75000,75000+80000+F57*1.2+J57*1.2,N57*4+80000+F57*1.2+J57*1.2),L57)))) -> 97800 | Q57: =IF(M57="",0,ROUND(P57*100/M57,2)) -> 0
A58: Մասիսի ԲԿ ՓԲԸ | B58: Բժշկական կենտրոն | C58: Արարատ | D58: 130000 | E58: 257 | F58: =IF(E58="","",E58*1000) -> 257000 | G58: 3190 | H58: =G58*30 -> 95700 | I58: 9 | J58: =I58*500 -> 4500 | K58: =IF(F58="",SUM(D58+H58+J58),SUM(D58+F58+H58+J58)) -> 487200 | L58: =K58*1.2 -> 584640 | M58: 44777666 | N58: 17802 | O58: =ROUND(P58*0.833333,0) -> 387507 | P58: =IF(N58="",L58,IF(B58="Ամբուլատորիա",IF(N58*4>15000,15000,N58*4),IF(B58="Պոլիկլինիկա",IF(N58*4>75000,75000,N58*4),IF(B58="Բժշկական կենտրոն",IF(N58*4>75000,75000+80000+F58*1.2+J58*1.2,N58*4+80000+F58*1.2+J58*1.2),L58)))) -> 465008 | Q58: =IF(M58="",0,ROUND(P58*100/M58,2)) -> 1.04
A59: Մասիսի ստոմատոլոգիական պոլիկլինիկա ՓԲԸ | B59: Ատամնաբուժարան | C59: Արարատ | D59: 7000 | F59: =IF(E59="","",E59*1000) | G59: 142 | H59: =G59*30 -> 4260 | I59: 3 | J59: =I59*500 -> 1500 | K59: =IF(F59="",SUM(D59+H59+J59),SUM(D59+F59+H59+J59)) -> 12760 | L59: =K59*1.2 -> 15312 | M59: 1117525 | O59: =ROUND(P59*0.833333,0) -> 12760 | P59: =IF(N59="",L59,IF(B59="Ամբուլատորիա",IF(N59*4>15000,15000,N59*4),IF(B59="Պոլիկլինիկա",IF(N59*4>75000,75000,N59*4),IF(B59="Բժշկական կենտրոն",IF(N59*4>75000,75000+80000+F59*1.2+J59*1.2,N59*4+80000+F59*1.2+J59*1.2),L59)))) -> 15312 | Q59: =IF(M59="",0,ROUND(P59*100/M59,2)) -> 1.37
A60: Մարմարաշենի ԱԱՊԿ ՓԲԸ | B60: Ամբուլատորիա | C60: Արարատ | D60: 5000 | F60: =IF(E60="","",E60*1000) | G60: 265 | H60: =G60*30 -> 7950 | I60: 3 | J60: =I60*500 -> 1500 | K60: =IF(F60="",SUM(D60+H60+J60),SUM(D60+F60+H60+J60)) -> 14450 | L60: =K60*1.2 -> 17340 | M60: 2642765.7 | N60: 4620 | O60: =ROUND(P60*0.833333,0) -> 12500 | P60: =IF(N60="",L60,IF(B60="Ամբուլատորիա",IF(N60*4>15000,15000,N60*4),IF(B60="Պոլիկլինիկա",IF(N60*4>75000,75000,N60*4),IF(B60="Բժշկական կենտրոն",IF(N60*4>75000,75000+80000+F60*1.2+J60*1.2,N60*4+80000+F60*1.2+J60*1.2),L60)))) -> 15000 | Q60: =IF(M60="",0,ROUND(P60*100/M60,2)) -> 0.57
A61: Մխչյանի ԱԱՊԿ ՊՈԱԿ | B61: Ամբուլատորիա | C61: Արարատ | D61: 5000 | F61: =IF(E61="","",E61*1000) | G61: 523 | H61: =G61*30 -> 15690 | I61: 3 | J61: =I61*500 -> 1500 | K61: =IF(F61="",SUM(D61+H61+J61),SUM(D61+F61+H61+J61)) -> 22190 | L61: =K61*1.2 -> 26628 | M61: 3331171.5 | N61: 7465 | O61: =ROUND(P61*0.833333,0) -> 12500 | P61: =IF(N61="",L61,IF(B61="Ամբուլատորիա",IF(N61*4>15000,15000,N61*4),IF(B61="Պոլիկլինիկա",IF(N61*4>75000,75000,N61*4),IF(B61="Բժշկական կենտրոն",IF(N61*4>75000,75000+80000+F61*1.2+J61*1.2,N61*4+80000+F61*1.2+J61*1.2),L61)))) -> 15000 | Q61: =IF(M61="",0,ROUND(P61*100/M61,2)) -> 0.45
A62: Մրգավանի ԲԱ ՀՈԱԿ | B62: Ամբուլատորիա | C62: Արարատ | D62: 5000 | F62: =IF(E62="","",E62*1000) | G62: 137 | H62: =G62*30 -> 4110 | I62: 3 | J62: =I62*500 -> 1500 | K62: =IF(F62="",SUM(D62+H62+J62),SUM(D62+F62+H62+J62)) -> 10610 | L62: =K62*1.2 -> 12732 | M62: 783919.25 | N62: 1805 | O62: =ROUND(P62*0.833333,0) -> 6017 | P62: =IF(N62="",L62,IF(B62="Ամբուլատորիա",IF(N62*4>15000,15000,N62*4),IF(B62="Պոլիկլինիկա",IF(N62*4>75000,75000,N62*4),IF(B62="Բժշկական կենտրոն",IF(N62*4>75000,75000+80000+F62*1.2+J62*1.2,N62*4+80000+F62*1.2+J62*1.2),L62)))) -> 7220 | Q62: =IF(M62="",0,ROUND(P62*100/M62,2)) -> 0.92
A63: Նշավանի ԱԱՊԿ ՊՈԱԿ | B63: Ամբուլատորիա | C63: Արարատ | D63: 5000 | F63: =IF(E63="","",E63*1000) | G63: 160 | H63: =G63*30 -> 4800 | I63: 4 | J63: =I63*500 -> 2000 | K63: =IF(F63="",SUM(D63+H63+J63),SUM(D63+F63+H63+J63)) -> 11800 | L63: =K63*1.2 -> 14160 | M63: 1059617.6 | N63: 1969 | O63: =ROUND(P63*0.833333,0) -> 6563 | P63: =IF(N63="",L63,IF(B63="Ամբուլատորիա",IF(N63*4>15000,15000,N63*4),IF(B63="Պոլիկլինիկա",IF(N63*4>75000,75000,N63*4),IF(B63="Բժշկական կենտրոն",IF(N63*4>75000,75000+80000+F63*1.2+J63*1.2,N63*4+80000+F63*1.2+J63*1.2),L63)))) -> 7876 | Q63: =IF(M63="",0,ROUND(P63*100/M63,2)) -> 0.74
A64: Նոյակերտի ԱԱՊԿ ՊՈԱԿ | B64: Ամբուլատորիա | C64: Արարատ | D64: 5000 | F64: =IF(E64="","",E64*1000) | G64: 261 | H64: =G64*30 -> 7830 | I64: 3 | J64: =I64*500 -> 1500 | K64: =IF(F64="",SUM(D64+H64+J64),SUM(D64+F64+H64+J64)) -> 14330 | L64: =K64*1.2 -> 17196 | M64: 1292976.9 | N64: 2846 | O64: =ROUND(P64*0.833333,0) -> 9487 | P64: =IF(N64="",L64,IF(B64="Ամբուլատորիա",IF(N64*4>15000,15000,N64*4),IF(B64="Պոլիկլինիկա",IF(N64*4>75000,75000,N64*4),IF(B64="Բժշկական կենտրոն",IF(N64*4>75000,75000+80000+F64*1.2+J64*1.2,N64*4+80000+F64*1.2+J64*1.2),L64)))) -> 11384 | Q64: =IF(M64="",0,ROUND(P64*100/M64,2)) -> 0.88
A65: Նոր Խարբերդի ԱԱՊԿ ՓԲԸ | B65: Ամբուլատորիա | C65: Արարատ | D65: 5000 | F65: =IF(E65="","",E65*1000) | G65: 336 | H65: =G65*30 -> 10080 | I65: 4 | J65: =I65*500 -> 2000 | K65: =IF(F65="",SUM(D65+H65+J65),SUM(D65+F65+H65+J65)) -> 17080 | L65: =K65*1.2 -> 20496 | M65: 2327877.3 | N65: 4647 | O65: =ROUND(P65*0.833333,0) -> 12500 | P65: =IF(N65="",L65,IF(B65="Ամբուլատորիա",IF(N65*4>15000,15000,N65*4),IF(B65="Պոլիկլինիկա",IF(N65*4>75000,75000,N65*4),IF(B65="Բժշկական կենտրոն",IF(N65*4>75000,75000+80000+F65*1.2+J65*1.2,N65*4+80000+F65*1.2+J65*1.2),L65)))) -> 15000 | Q65: =IF(M65="",0,ROUND(P65*100/M65,2)) -> 0.64
A66: Նոր Կյանքի ԲԱ ՀՈԱԿ | B66: Ամբուլատորիա | C66: Արարատ | D66: 5000 | F66: =IF(E66="","",E66*1000) | G66: 85 | H66: =G66*30 -> 2550 | I66: 3 | J66: =I66*500 -> 1500 | K66: =IF(F66="",SUM(D66+H66+J66),SUM(D66+F66+H66+J66)) -> 9050 | L66: =K66*1.2 -> 10860 | M66: 1093371 | N66: 2501 | O66: =ROUND(P66*0.833333,0) -> 8337 | P66: =IF(N66="",L66,IF(B66="Ամբուլատորիա",IF(N66*4>15000,15000,N66*4),IF(B66="Պոլիկլինիկա",IF(N66*4>75000,75000,N66*4),IF(B66="Բժշկական կենտրոն",IF(N66*4>75000,75000+80000+F66*1.2+J66*1.2,N66*4+80000+F66*1.2+J66*1.2),L66)))) -> 10004 | Q66: =IF(M66="",0,ROUND(P66*100/M66,2)) -> 0.91
A67: Նորաբացի ԲԱ ՀՈԱԿ | B67: Ամբուլատորիա | C67: Արարատ | D67: 5000 | F67: =IF(E67="","",E67*1000) | G67: 91 | H67: =G67*30 -> 2730 | I67: 3 | J67: =I67*500 -> 1500 | K67: =IF(F67="",SUM(D67+H67+J67),SUM(D67+F67+H67+J67)) -> 9230 | L67: =K67*1.2 -> 11076 | M67: 768995.67 | N67: 1713 | O67: =ROUND(P67*0.833333,0) -> 5710 | P67: =IF(N67="",L67,IF(B67="Ամբուլատորիա",IF(N67*4>15000,15000,N67*4),IF(B67="Պոլիկլինիկա",IF(N67*4>75000,75000,N67*4),IF(B67="Բժշկական կենտրոն",IF(N67*4>75000,75000+80000+F67*1.2+J67*1.2,N67*4+80000+F67*1.2+J67*1.2),L67)))) -> 6852 | Q67: =IF(M67="",0,ROUND(P67*100/M67,2)) -> 0.89
A68: Նորամարգի ԱԱՊԿ ՊՈԱԿ | B68: Ամբուլատորիա | C68: Արարատ | D68: 5000 | F68: =IF(E68="","",E68*1000) | G68: 112 | H68: =G68*30 -> 3360 | I68: 3 | J68: =I68*500 -> 1500 | K68: =IF(F68="",SUM(D68+H68+J68),SUM(D68+F68+H68+J68)) -> 9860 | L68: =K68*1.2 -> 11832 | M68: 904290.42 | N68: 1869 | O68: =ROUND(P68*0.833333,0) -> 6230 | P68: =IF(N68="",L68,IF(B68="Ամբուլատորիա",IF(N68*4>15000,15000,N68*4),IF(B68="Պոլիկլինիկա",IF(N68*4>75000,75000,N68*4),IF(B68="Բժշկական կենտրոն",IF(N68*4>75000,75000+80000+F68*1.2+J68*1.2,N68*4+80000+F68*1.2+J68*1.2),L68)))) -> 7476 | Q68: =IF(M68="",0,ROUND(P68*100/M68,2)) -> 0.83
A69: Նորաշենի ԱԱՊԿ ՓԲԸ | B69: Ամբուլատորիա | C69: Արարատ | D69: 5000 | F69: =IF(E69="","",E69*1000) | G69: 225 | H69: =G69*30 -> 6750 | I69: 3 | J69: =I69*500 -> 1500 | K69: =IF(F69="",SUM(D69+H69+J69),SUM(D69+F69+H69+J69)) -> 13250 | L69: =K69*1.2 -> 15900 | M69: 1371388.2 | N69: 3251 | O69: =ROUND(P69*0.833333,0) -> 10837 | P69: =IF(N69="",L69,IF(B69="Ամբուլատորիա",IF(N69*4>15000,15000,N69*4),IF(B69="Պոլիկլինիկա",IF(N69*4>75000,75000,N69*4),IF(B69="Բժշկական կենտրոն",IF(N69*4>75000,75000+80000+F69*1.2+J69*1.2,N69*4+80000+F69*1.2+J69*1.2),L69)))) -> 13004 | Q69: =IF(M69="",0,ROUND(P69*100/M69,2)) -> 0.95
A70: Շահումյանի ԱԱՊ ՊՈԱԿ | B70: Ամբուլատորիա | C70: Արարատ | D70: 5000 | F70: =IF(E70="","",E70*1000) | G70: 411 | H70: =G70*30 -> 12330 | I70: 5 | J70: =I70*500 -> 2500 | K70: =IF(F70="",SUM(D70+H70+J70),SUM(D70+F70+H70+J70)) -> 19830 | L70: =K70*1.2 -> 23796 | M70: 1772018.4 | N70: 3903 | O70: =ROUND(P70*0.833333,0) -> 12500 | P70: =IF(N70="",L70,IF(B70="Ամբուլատորիա",IF(N70*4>15000,15000,N70*4),IF(B70="Պոլիկլինիկա",IF(N70*4>75000,75000,N70*4),IF(B70="Բժշկական կենտրոն",IF(N70*4>75000,75000+80000+F70*1.2+J70*1.2,N70*4+80000+F70*1.2+J70*1.2),L70)))) -> 15000 | Q70: =IF(M70="",0,ROUND(P70*100/M70,2)) -> 0.85
A71: ՈԿՖ Բանավանի ԱԱՊԿ ՓԲԸ | B71: Ամբուլատորիա | C71: Արարատ | D71: 5000 | F71: =IF(E71="","",E71*1000) | G71: 477 | H71: =G71*30 -> 14310 | I71: 4 | J71: =I71*500 -> 2000 | K71: =IF(F71="",SUM(D71+H71+J71),SUM(D71+F71+H71+J71)) -> 21310 | L71: =K71*1.2 -> 25572 | M71: 1629433.9 | N71: 2999 | O71: =ROUND(P71*0.833333,0) -> 9997 | P71: =IF(N71="",L71,IF(B71="Ամբուլատորիա",IF(N71*4>15000,15000,N71*4),IF(B71="Պոլիկլինիկա",IF(N71*4>75000,75000,N71*4),IF(B71="Բժշկական կենտրոն",IF(N71*4>75000,75000+80000+F71*1.2+J71*1.2,N71*4+80000+F71*1.2+J71*1.2),L71)))) -> 11996 | Q71: =IF(M71="",0,ROUND(P71*100/M71,2)) -> 0.74
... A78: Սուրենավանի ԲԱ ՀՈԱԿ | B78: Ամբուլատորիա | C78: Արարատ | D78: 5000 | F78: =IF(E78="","",E78*1000) | G78: 219 | H78: =G78*30 -> 6570 | I78: 3 | J78: =I78*500 -> 1500 | K78: =IF(F78="",SUM(D78+H78+J78),SUM(D78+F78+H78+J78)) -> 13070 | L78: =K78*1.2 -> 15684 | M78: 1021809.2 | N78: 2032 | O78: =ROUND(P78*0.833333,0) -> 6773 | P78: =IF(N78="",L78,IF(B78="Ամբուլատորիա",IF(N78*4>15000,15000,N78*4),IF(B78="Պոլիկլինիկա",IF(N78*4>75000,75000,N78*4),IF(B78="Բժշկական կենտրոն",IF(N78*4>75000,75000+80000+F78*1.2+J78*1.2,N78*4+80000+F78*1.2+J78*1.2),L78)))) -> 8128 | Q78: =IF(M78="",0,ROUND(P78*100/M78,2)) -> 0.8
A79: Ստոմատոլոգ ՓԲԸ | B79: Ատամնաբուժարան | C79: Արարատ | D79: 7000 | F79: =IF(E79="","",E79*1000) | G79: 109 | H79: =G79*30 -> 3270 | I79: 3 | J79: =I79*500 -> 1500 | K79: =IF(F79="",SUM(D79+H79+J79),SUM(D79+F79+H79+J79)) -> 11770 | L79: =K79*1.2 -> 14124 | M79: 3115075 | O79: =ROUND(P79*0.833333,0) -> 11770 | P79: =IF(N79="",L79,IF(B79="Ամբուլատորիա",IF(N79*4>15000,15000,N79*4),IF(B79="Պոլիկլինիկա",IF(N79*4>75000,75000,N79*4),IF(B79="Բժշկական կենտրոն",IF(N79*4>75000,75000+80000+F79*1.2+J79*1.2,N79*4+80000+F79*1.2+J79*1.2),L79)))) -> 14124 | Q79: =IF(M79="",0,ROUND(P79*100/M79,2)) -> 0.45
A80: Վ. Արտաշատի ԲԱ ՓԲԸ | B80: Ամբուլատորիա | C80: Արարատ | D80: 5000 | F80: =IF(E80="","",E80*1000) | G80: 404 | H80: =G80*30 -> 12120 | I80: 3 | J80: =I80*500 -> 1500 | K80: =IF(F80="",SUM(D80+H80+J80),SUM(D80+F80+H80+J80)) -> 18620 | L80: =K80*1.2 -> 22344 | M80: 2002883.6 | N80: 4366 | O80: =ROUND(P80*0.833333,0) -> 12500 | P80: =IF(N80="",L80,IF(B80="Ամբուլատորիա",IF(N80*4>15000,15000,N80*4),IF(B80="Պոլիկլինիկա",IF(N80*4>75000,75000,N80*4),IF(B80="Բժշկական կենտրոն",IF(N80*4>75000,75000+80000+F80*1.2+J80*1.2,N80*4+80000+F80*1.2+J80*1.2),L80)))) -> 15000 | Q80: =IF(M80="",0,ROUND(P80*100/M80,2)) -> 0.75
A81: Վեդու ԲԿ ՓԲԸ | B81: Բժշկական կենտրոն | C81: Արարատ | D81: 130000 | E81: 136 | F81: =IF(E81="","",E81*1000) -> 136000 | G81: 2117 | H81: =G81*30 -> 63510 | I81: 6 | J81: =I81*500 -> 3000 | K81: =IF(F81="",SUM(D81+H81+J81),SUM(D81+F81+H81+J81)) -> 332510 | L81: =K81*1.2 -> 399012 | M81: 27928830 | N81: 20145 | O81: =ROUND(P81*0.833333,0) -> 268167 | P81: =IF(N81="",L81,IF(B81="Ամբուլատորիա",IF(N81*4>15000,15000,N81*4),IF(B81="Պոլիկլինիկա",IF(N81*4>75000,75000,N81*4),IF(B81="Բժշկական կենտրոն",IF(N81*4>75000,75000+80000+F81*1.2+J81*1.2,N81*4+80000+F81*1.2+J81*1.2),L81)))) -> 321800 | Q81: =IF(M81="",0,ROUND(P81*100/M81,2)) -> 1.15
A82: Վեդու ծննդատուն ՓԲԸ | B82: Հիվանդանոց | C82: Արարատ | D82: 80000 | E82: 133 | F82: =IF(E82="","",E82*1000) -> 133000 | G82: 252 | H82: =G82*30 -> 7560 | I82: 5 | J82: =I82*500 -> 2500 | K82: =IF(F82="",SUM(D82+H82+J82),SUM(D82+F82+H82+J82)) -> 223060 | L82: =K82*1.2 -> 267672 | M82: 15620798 | O82: =ROUND(P82*0.833333,0) -> 223060 | P82: =IF(N82="",L82,IF(B82="Ամբուլատորիա",IF(N82*4>15000,15000,N82*4),IF(B82="Պոլիկլինիկա",IF(N82*4>75000,75000,N82*4),IF(B82="Բժշկական կենտրոն",IF(N82*4>75000,75000+80000+F82*1.2+J82*1.2,N82*4+80000+F82*1.2+J82*1.2),L82)))) -> 267672 | Q82: =IF(M82="",0,ROUND(P82*100/M82,2)) -> 1.71
A83: Վերին Դվինի ԲԱ ՀՈԱԿ | B83: Ամբուլատորիա | C83: Արարատ | D83: 5000 | F83: =IF(E83="","",E83*1000) | G83: 144 | H83: =G83*30 -> 4320 | I83: 3 | J83: =I83*500 -> 1500 | K83: =IF(F83="",SUM(D83+H83+J83),SUM(D83+F83+H83+J83)) -> 10820 | L83: =K83*1.2 -> 12984 | M83: 1051050.7 | N83: 2334 | O83: =ROUND(P83*0.833333,0) -> 7780 | P83: =IF(N83="",L83,IF(B83="Ամբուլատորիա",IF(N83*4>15000,15000,N83*4),IF(B83="Պոլիկլինիկա",IF(N83*4>75000,75000,N83*4),IF(B83="Բժշկական կենտրոն",IF(N83*4>75000,75000+80000+F83*1.2+J83*1.2,N83*4+80000+F83*1.2+J83*1.2),L83)))) -> 9336 | Q83: =IF(M83="",0,ROUND(P83*100/M83,2)) -> 0.89
A84: <<Տափերականի ԱԱՊԿ>> ՊՈԱԿ | B84: Ամբուլատորիա | C84: Արարատ | D84: 5000 | F84: =IF(E84="","",E84*1000) | G84: 306 | H84: =G84*30 -> 9180 | I84: 5 | J84: =I84*500 -> 2500 | K84: =IF(F84="",SUM(D84+H84+J84),SUM(D84+F84+H84+J84)) -> 16680 | L84: =K84*1.2 -> 20016 | M84: 2144414.2 | N84: 4502 | O84: =ROUND(P84*0.833333,0) -> 12500 | P84: =IF(N84="",L84,IF(B84="Ամբուլատորիա",IF(N84*4>15000,15000,N84*4),IF(B84="Պոլիկլինիկա",IF(N84*4>75000,75000,N84*4),IF(B84="Բժշկական կենտրոն",IF(N84*4>75000,75000+80000+F84*1.2+J84*1.2,N84*4+80000+F84*1.2+J84*1.2),L84)))) -> 15000 | Q84: =IF(M84="",0,ROUND(P84*100/M84,2)) -> 0.7
A85: Փ. Վեդու ԱԱՊԿ ՓԲԸ | B85: Ամբուլատորիա | C85: Արարատ | D85: 5000 | F85: =IF(E85="","",E85*1000) | G85: 126 | H85: =G85*30 -> 3780 | I85: 3 | J85: =I85*500 -> 1500 | K85: =IF(F85="",SUM(D85+H85+J85),SUM(D85+F85+H85+J85)) -> 10280 | L85: =K85*1.2 -> 12336 | M85: 1211960.7 | N85: 2894 | O85: =ROUND(P85*0.833333,0) -> 9647 | P85: =IF(N85="",L85,IF(B85="Ամբուլատորիա",IF(N85*4>15000,15000,N85*4),IF(B85="Պոլիկլինիկա",IF(N85*4>75000,75000,N85*4),IF(B85="Բժշկական կենտրոն",IF(N85*4>75000,75000+80000+F85*1.2+J85*1.2,N85*4+80000+F85*1.2+J85*1.2),L85)))) -> 11576 | Q85: =IF(M85="",0,ROUND(P85*100/M85,2)) -> 0.96
A86: Քաղցրաշենի ԱԱՊԿ ՊՈԱԿ | B86: Ամբուլատորիա | C86: Արարատ | D86: 5000 | F86: =IF(E86="","",E86*1000) | G86: 250 | H86: =G86*30 -> 7500 | I86: 3 | J86: =I86*500 -> 1500 | K86: =IF(F86="",SUM(D86+H86+J86),SUM(D86+F86+H86+J86)) -> 14000 | L86: =K86*1.2 -> 16800 | M86: 1755499.9 | N86: 3827 | O86: =ROUND(P86*0.833333,0) -> 12500 | P86: =IF(N86="",L86,IF(B86="Ամբուլատորիա",IF(N86*4>15000,15000,N86*4),IF(B86="Պոլիկլինիկա",IF(N86*4>75000,75000,N86*4),IF(B86="Բժշկական կենտրոն",IF(N86*4>75000,75000+80000+F86*1.2+J86*1.2,N86*4+80000+F86*1.2+J86*1.2),L86)))) -> 15000 | Q86: =IF(M86="",0,ROUND(P86*100/M86,2)) -> 0.85
A87: Ալաշկերտի ԲԱ ՀՈԱԿ | B87: Ամբուլատորիա | C87: Արմավիր | D87: 5000 | F87: =IF(E87="","",E87*1000) | G87: 356 | H87: =G87*30 -> 10680 | I87: 3 | J87: =I87*500 -> 1500 | K87: =IF(F87="",SUM(D87+H87+J87),SUM(D87+F87+H87+J87)) -> 17180 | L87: =K87*1.2 -> 20616 | M87: 790861.75 | N87: 1741 | O87: =ROUND(P87*0.833333,0) -> 5803 | P87: =IF(N87="",L87,IF(B87="Ամբուլատորիա",IF(N87*4>15000,15000,N87*4),IF(B87="Պոլիկլինիկա",IF(N87*4>75000,75000,N87*4),IF(B87="Բժշկական կենտրոն",IF(N87*4>75000,75000+80000+F87*1.2+J87*1.2,N87*4+80000+F87*1.2+J87*1.2),L87)))) -> 6964 | Q87: =IF(M87="",0,ROUND(P87*100/M87,2)) -> 0.88
A88: Ակնալիճ ԲԱ ՀՈԱԿ | B88: Ամբուլատորիա | C88: Արմավիր | D88: 5000 | F88: =IF(E88="","",E88*1000) | G88: 216 | H88: =G88*30 -> 6480 | I88: 3 | J88: =I88*500 -> 1500 | K88: =IF(F88="",SUM(D88+H88+J88),SUM(D88+F88+H88+J88)) -> 12980 | L88: =K88*1.2 -> 15576 | M88: 1222606.2 | N88: 2632 | O88: =ROUND(P88*0.833333,0) -> 8773 | P88: =IF(N88="",L88,IF(B88="Ամբուլատորիա",IF(N88*4>15000,15000,N88*4),IF(B88="Պոլիկլինիկա",IF(N88*4>75000,75000,N88*4),IF(B88="Բժշկական կենտրոն",IF(N88*4>75000,75000+80000+F88*1.2+J88*1.2,N88*4+80000+F88*1.2+J88*1.2),L88)))) -> 10528 | Q88: =IF(M88="",0,ROUND(P88*100/M88,2)) -> 0.86
A89: Աղավնատան ԲԱ ՀՈԱԿ | B89: Ամբուլատորիա | C89: Արմավիր | D89: 5000 | F89: =IF(E89="","",E89*1000) | G89: 711 | H89: =G89*30 -> 21330 | I89: 4 | J89: =I89*500 -> 2000 | K89: =IF(F89="",SUM(D89+H89+J89),SUM(D89+F89+H89+J89)) -> 28330 | L89: =K89*1.2 -> 33996 | M89: 2646085.7 | N89: 5859 | O89: =ROUND(P89*0.833333,0) -> 12500 | P89: =IF(N89="",L89,IF(B89="Ամբուլատորիա",IF(N89*4>15000,15000,N89*4),IF(B89="Պոլիկլինիկա",IF(N89*4>75000,75000,N89*4),IF(B89="Բժշկական կենտրոն",IF(N89*4>75000,75000+80000+F89*1.2+J89*1.2,N89*4+80000+F89*1.2+J89*1.2),L89)))) -> 15000 | Q89: =IF(M89="",0,ROUND(P89*100/M89,2)) -> 0.57
A90: Այգեվանի ԲԱ ՀՈԱԿ | B90: Ամբուլատորիա | C90: Արմավիր | D90: 5000 | F90: =IF(E90="","",E90*1000) | G90: 113 | H90: =G90*30 -> 3390 | I90: 3 | J90: =I90*500 -> 1500 | K90: =IF(F90="",SUM(D90+H90+J90),SUM(D90+F90+H90+J90)) -> 9890 | L90: =K90*1.2 -> 11868 | M90: 719464.08 | N90: 1485 | O90: =ROUND(P90*0.833333,0) -> 4950 | P90: =IF(N90="",L90,IF(B90="Ամբուլատորիա",IF(N90*4>15000,15000,N90*4),IF(B90="Պոլիկլինիկա",IF(N90*4>75000,75000,N90*4),IF(B90="Բժշկական կենտրոն",IF(N90*4>75000,75000+80000+F90*1.2+J90*1.2,N90*4+80000+F90*1.2+J90*1.2),L90)))) -> 5940 | Q90: =IF(M90="",0,ROUND(P90*100/M90,2)) -> 0.83
A91: Ապագայի ԲԱ ՀՈԱԿ | B91: Ամբուլատորիա | C91: Արմավիր | D91: 5000 | F91: =IF(E91="","",E91*1000) | G91: 196 | H91: =G91*30 -> 5880 | I91: 3 | J91: =I91*500 -> 1500 | K91: =IF(F91="",SUM(D91+H91+J91),SUM(D91+F91+H91+J91)) -> 12380 | L91: =K91*1.2 -> 14856 | M91: 1153639.7 | N91: 2387 | O91: =ROUND(P91*0.833333,0) -> 7957 | P91: =IF(N91="",L91,IF(B91="Ամբուլատորիա",IF(N91*4>15000,15000,N91*4),IF(B91="Պոլիկլինիկա",IF(N91*4>75000,75000,N91*4),IF(B91="Բժշկական կենտրոն",IF(N91*4>75000,75000+80000+F91*1.2+J91*1.2,N91*4+80000+F91*1.2+J91*1.2),L91)))) -> 9548 | Q91: =IF(M91="",0,ROUND(P91*100/M91,2)) -> 0.83
A92: Առատաշենի ԲԱ ՀՈԱԿ | B92: Ամբուլատորիա | C92: Արմավիր | D92: 5000 | F92: =IF(E92="","",E92*1000) | G92: 207 | H92: =G92*30 -> 6210 | I92: 5 | J92: =I92*500 -> 2500 | K92: =IF(F92="",SUM(D92+H92+J92),SUM(D92+F92+H92+J92)) -> 13710 | L92: =K92*1.2 -> 16452 | M92: 996434.08 | N92: 2229 | O92: =ROUND(P92*0.833333,0) -> 7430 | P92: =IF(N92="",L92,IF(B92="Ամբուլատորիա",IF(N92*4>15000,15000,N92*4),IF(B92="Պոլիկլինիկա",IF(N92*4>75000,75000,N92*4),IF(B92="Բժշկական կենտրոն",IF(N92*4>75000,75000+80000+F92*1.2+J92*1.2,N92*4+80000+F92*1.2+J92*1.2),L92)))) -> 8916 | Q92: =IF(M92="",0,ROUND(P92*100/M92,2)) -> 0.89
A93: Արագածի ԲԱ ՀՈԱԿ | B93: Ամբուլատորիա | C93: Արմավիր | D93: 5000 | F93: =IF(E93="","",E93*1000) | G93: 514 | H93: =G93*30 -> 15420 | I93: 3 | J93: =I93*500 -> 1500 | K93: =IF(F93="",SUM(D93+H93+J93),SUM(D93+F93+H93+J93)) -> 21920 | L93: =K93*1.2 -> 26304 | M93: 1658093.6 | N93: 3915 | O93: =ROUND(P93*0.833333,0) -> 12500 | P93: =IF(N93="",L93,IF(B93="Ամբուլատորիա",IF(N93*4>15000,15000,N93*4),IF(B93="Պոլիկլինիկա",IF(N93*4>75000,75000,N93*4),IF(B93="Բժշկական կենտրոն",IF(N93*4>75000,75000+80000+F93*1.2+J93*1.2,N93*4+80000+F93*1.2+J93*1.2),L93)))) -> 15000 | Q93: =IF(M93="",0,ROUND(P93*100/M93,2)) -> 0.9
A94: Արաքսի ԲԱ ՀՈԱԿ | B94: Ամբուլատորիա | C94: Արմավիր | D94: 5000 | F94: =IF(E94="","",E94*1000) | G94: 184 | H94: =G94*30 -> 5520 | I94: 3 | J94: =I94*500 -> 1500 | K94: =IF(F94="",SUM(D94+H94+J94),SUM(D94+F94+H94+J94)) -> 12020 | L94: =K94*1.2 -> 14424 | M94: 735780.58 | N94: 1267 | O94: =ROUND(P94*0.833333,0) -> 4223 | P94: =IF(N94="",L94,IF(B94="Ամբուլատորիա",IF(N94*4>15000,15000,N94*4),IF(B94="Պոլիկլինիկա",IF(N94*4>75000,75000,N94*4),IF(B94="Բժշկական կենտրոն",IF(N94*4>75000,75000+80000+F94*1.2+J94*1.2,N94*4+80000+F94*1.2+J94*1.2),L94)))) -> 5068 | Q94: =IF(M94="",0,ROUND(P94*100/M94,2)) -> 0.69
... A97: Արմավիրի ԱԿ ՀՈԱԿ | B97: Ամբուլատորիա | C97: Արմավիր | D97: 5000 | F97: =IF(E97="","",E97*1000) | G97: 300 | H97: =G97*30 -> 9000 | I97: 4 | J97: =I97*500 -> 2000 | K97: =IF(F97="",SUM(D97+H97+J97),SUM(D97+F97+H97+J97)) -> 16000 | L97: =K97*1.2 -> 19200 | M97: 1495200.2 | N97: 3587 | O97: =ROUND(P97*0.833333,0) -> 11957 | P97: =IF(N97="",L97,IF(B97="Ամբուլատորիա",IF(N97*4>15000,15000,N97*4),IF(B97="Պոլիկլինիկա",IF(N97*4>75000,75000,N97*4),IF(B97="Բժշկական կենտրոն",IF(N97*4>75000,75000+80000+F97*1.2+J97*1.2,N97*4+80000+F97*1.2+J97*1.2),L97)))) -> 14348 | Q97: =IF(M97="",0,ROUND(P97*100/M97,2)) -> 0.96
A98: Արմավիրի ստոմատոլոգիական պոլիկլինիկա ՓԲԸ | B98: Ատամնաբուժարան | C98: Արմավիր | D98: 7000 | F98: =IF(E98="","",E98*1000) | G98: 78 | H98: =G98*30 -> 2340 | I98: 4 | J98: =I98*500 -> 2000 | K98: =IF(F98="",SUM(D98+H98+J98),SUM(D98+F98+H98+J98)) -> 11340 | L98: =K98*1.2 -> 13608 | M98: 523033.33 | O98: =ROUND(P98*0.833333,0) -> 11340 | P98: =IF(N98="",L98,IF(B98="Ամբուլատորիա",IF(N98*4>15000,15000,N98*4),IF(B98="Պոլիկլինիկա",IF(N98*4>75000,75000,N98*4),IF(B98="Բժշկական կենտրոն",IF(N98*4>75000,75000+80000+F98*1.2+J98*1.2,N98*4+80000+F98*1.2+J98*1.2),L98)))) -> 13608 | Q98: =IF(M98="",0,ROUND(P98*100/M98,2)) -> 2.6
A99: Արշալույսի ԲԱ ՀՈԱԿ | B99: Ամբուլատորիա | C99: Արմավիր | D99: 5000 | F99: =IF(E99="","",E99*1000) | G99: 332 | H99: =G99*30 -> 9960 | I99: 3 | J99: =I99*500 -> 1500 | K99: =IF(F99="",SUM(D99+H99+J99),SUM(D99+F99+H99+J99)) -> 16460 | L99: =K99*1.2 -> 19752 | M99: 1475931.8 | N99: 3423 | O99: =ROUND(P99*0.833333,0) -> 11410 | P99: =IF(N99="",L99,IF(B99="Ամբուլատորիա",IF(N99*4>15000,15000,N99*4),IF(B99="Պոլիկլինիկա",IF(N99*4>75000,75000,N99*4),IF(B99="Բժշկական կենտրոն",IF(N99*4>75000,75000+80000+F99*1.2+J99*1.2,N99*4+80000+F99*1.2+J99*1.2),L99)))) -> 13692 | Q99: =IF(M99="",0,ROUND(P99*100/M99,2)) -> 0.93
A100: Բաղրամյան1 ԲԱ ՀՈԱԿ | B100: Ամբուլատորիա | C100: Արմավիր | D100: 5000 | F100: =IF(E100="","",E100*1000) | G100: 245 | H100: =G100*30 -> 7350 | I100: 3 | J100: =I100*500 -> 1500 | K100: =IF(F100="",SUM(D100+H100+J100),SUM(D100+F100+H100+J100)) -> 13850 | L100: =K100*1.2 -> 16620 | M100: 1063561.2 | N100: 1812 | O100: =ROUND(P100*0.833333,0) -> 6040 | P100: =IF(N100="",L100,IF(B100="Ամբուլատորիա",IF(N100*4>15000,15000,N100*4),IF(B100="Պոլիկլինիկա",IF(N100*4>75000,75000,N100*4),IF(B100="Բժշկական կենտրոն",IF(N100*4>75000,75000+80000+F100*1.2+J100*1.2,N100*4+80000+F100*1.2+J100*1.2),L100)))) -> 7248 | Q100: =IF(M100="",0,ROUND(P100*100/M100,2)) -> 0.68
A101: Բաղրամյանի ԲԱ ՀՈԱԿ | B101: Ամբուլատորիա | C101: Արմավիր | D101: 5000 | F101: =IF(E101="","",E101*1000) | G101: 138 | H101: =G101*30 -> 4140 | I101: 3 | J101: =I101*500 -> 1500 | K101: =IF(F101="",SUM(D101+H101+J101),SUM(D101+F101+H101+J101)) -> 10640 | L101: =K101*1.2 -> 12768 | M101: 1074864.6 | N101: 2492 | O101: =ROUND(P101*0.833333,0) -> 8307 | P101: =IF(N101="",L101,IF(B101="Ամբուլատորիա",IF(N101*4>15000,15000,N101*4),IF(B101="Պոլիկլինիկա",IF(N101*4>75000,75000,N101*4),IF(B101="Բժշկական կենտրոն",IF(N101*4>75000,75000+80000+F101*1.2+J101*1.2,N101*4+80000+F101*1.2+J101*1.2),L101)))) -> 9968 | Q101: =IF(M101="",0,ROUND(P101*100/M101,2)) -> 0.93
A102: Բամբակաշատի ԲԱ ՀՈԱԿ | B102: Ամբուլատորիա | C102: Արմավիր | D102: 5000 | F102: =IF(E102="","",E102*1000) | G102: 127 | H102: =G102*30 -> 3810 | I102: 4 | J102: =I102*500 -> 2000 | K102: =IF(F102="",SUM(D102+H102+J102),SUM(D102+F102+H102+J102)) -> 10810 | L102: =K102*1.2 -> 12972 | M102: 1403186.9 | N102: 3340 | O102: =ROUND(P102*0.833333,0) -> 11133 | P102: =IF(N102="",L102,IF(B102="Ամբուլատորիա",IF(N102*4>15000,15000,N102*4),IF(B102="Պոլիկլինիկա",IF(N102*4>75000,75000,N102*4),IF(B102="Բժշկական կենտրոն",IF(N102*4>75000,75000+80000+F102*1.2+J102*1.2,N102*4+80000+F102*1.2+J102*1.2),L102)))) -> 13360 | Q102: =IF(M102="",0,ROUND(P102*100/M102,2)) -> 0.95
A103: Գայի ԲԱ ՀՈԱԿ | B103: Ամբուլատորիա | C103: Արմավիր | D103: 5000 | F103: =IF(E103="","",E103*1000) | G103: 561 | H103: =G103*30 -> 16830 | I103: 3 | J103: =I103*500 -> 1500 | K103: =IF(F103="",SUM(D103+H103+J103),SUM(D103+F103+H103+J103)) -> 23330 | L103: =K103*1.2 -> 27996 | M103: 3330701.4 | N103: 6718 | O103: =ROUND(P103*0.833333,0) -> 12500 | P103: =IF(N103="",L103,IF(B103="Ամբուլատորիա",IF(N103*4>15000,15000,N103*4),IF(B103="Պոլիկլինիկա",IF(N103*4>75000,75000,N103*4),IF(B103="Բժշկական կենտրոն",IF(N103*4>75000,75000+80000+F103*1.2+J103*1.2,N103*4+80000+F103*1.2+J103*1.2),L103)))) -> 15000 | Q103: =IF(M103="",0,ROUND(P103*100/M103,2)) -> 0.45
A104: Գեղակերտի ԲԱ ՀՈԱԿ | B104: Ամբուլատորիա | C104: Արմավիր | D104: 5000 | F104: =IF(E104="","",E104*1000) | G104: 566 | H104: =G104*30 -> 16980 | I104: 3 | J104: =I104*500 -> 1500 | K104: =IF(F104="",SUM(D104+H104+J104),SUM(D104+F104+H104+J104)) -> 23480 | L104: =K104*1.2 -> 28176 | M104: 2829591.8 | N104: 5224 | O104: =ROUND(P104*0.833333,0) -> 12500 | P104: =IF(N104="",L104,IF(B104="Ամբուլատորիա",IF(N104*4>15000,15000,N104*4),IF(B104="Պոլիկլինիկա",IF(N104*4>75000,75000,N104*4),IF(B104="Բժշկական կենտրոն",IF(N104*4>75000,75000+80000+F104*1.2+J104*1.2,N104*4+80000+F104*1.2+J104*1.2),L104)))) -> 15000 | Q104: =IF(M104="",0,ROUND(P104*100/M104,2)) -> 0.53
A105: Գետաշենի ԲԱ ՀՈԱԿ | B105: Ամբուլատորիա | C105: Արմավիր | D105: 5000 | F105: =IF(E105="","",E105*1000) | G105: 188 | H105: =G105*30 -> 5640 | I105: 3 | J105: =I105*500 -> 1500 | K105: =IF(F105="",SUM(D105+H105+J105),SUM(D105+F105+H105+J105)) -> 12140 | L105: =K105*1.2 -> 14568 | M105: 1139999.3 | N105: 2405 | O105: =ROUND(P105*0.833333,0) -> 8017 | P105: =IF(N105="",L105,IF(B105="Ամբուլատորիա",IF(N105*4>15000,15000,N105*4),IF(B105="Պոլիկլինիկա",IF(N105*4>75000,75000,N105*4),IF(B105="Բժշկական կենտրոն",IF(N105*4>75000,75000+80000+F105*1.2+J105*1.2,N105*4+80000+F105*1.2+J105*1.2),L105)))) -> 9620 | Q105: =IF(M105="",0,ROUND(P105*100/M105,2)) -> 0.84
A106: Գրիբոյեդովի ԲԱ ՀՈԱԿ | B106: Ամբուլատորիա | C106: Արմավիր | D106: 5000 | F106: =IF(E106="","",E106*1000) | G106: 183 | H106: =G106*30 -> 5490 | I106: 3 | J106: =I106*500 -> 1500 | K106: =IF(F106="",SUM(D106+H106+J106),SUM(D106+F106+H106+J106)) -> 11990 | L106: =K106*1.2 -> 14388 | M106: 894316.25 | N106: 1920 | O106: =ROUND(P106*0.833333,0) -> 6400 | P106: =IF(N106="",L106,IF(B106="Ամբուլատորիա",IF(N106*4>15000,15000,N106*4),IF(B106="Պոլիկլինիկա",IF(N106*4>75000,75000,N106*4),IF(B106="Բժշկական կենտրոն",IF(N106*4>75000,75000+80000+F106*1.2+J106*1.2,N106*4+80000+F106*1.2+J106*1.2),L106)))) -> 7680 | Q106: =IF(M106="",0,ROUND(P106*100/M106,2)) -> 0.86
A107: Դալարիկի ԲԱ ՀՈԱԿ | B107: Ամբուլատորիա | C107: Արմավիր | D107: 5000 | F107: =IF(E107="","",E107*1000) | G107: 297 | H107: =G107*30 -> 8910 | I107: 3 | J107: =I107*500 -> 1500 | K107: =IF(F107="",SUM(D107+H107+J107),SUM(D107+F107+H107+J107)) -> 15410 | L107: =K107*1.2 -> 18492 | M107: 1532572.7 | N107: 3732 | O107: =ROUND(P107*0.833333,0) -> 12440 | P107: =IF(N107="",L107,IF(B107="Ամբուլատորիա",IF(N107*4>15000,15000,N107*4),IF(B107="Պոլիկլինիկա",IF(N107*4>75000,75000,N107*4),IF(B107="Բժշկական կենտրոն",IF(N107*4>75000,75000+80000+F107*1.2+J107*1.2,N107*4+80000+F107*1.2+J107*1.2),L107)))) -> 14928 | Q107: =IF(M107="",0,ROUND(P107*100/M107,2)) -> 0.97
A108: Երվանդաշատի ԱԿ ՀՈԱԿ | B108: Ամբուլատորիա | C108: Արմավիր | D108: 5000 | F108: =IF(E108="","",E108*1000) | G108: 190 | H108: =G108*30 -> 5700 | I108: 3 | J108: =I108*500 -> 1500 | K108: =IF(F108="",SUM(D108+H108+J108),SUM(D108+F108+H108+J108)) -> 12200 | L108: =K108*1.2 -> 14640 | M108: 1266896.3 | N108: 2033 | O108: =ROUND(P108*0.833333,0) -> 6777 | P108: =IF(N108="",L108,IF(B108="Ամբուլատորիա",IF(N108*4>15000,15000,N108*4),IF(B108="Պոլիկլինիկա",IF(N108*4>75000,75000,N108*4),IF(B108="Բժշկական կենտրոն",IF(N108*4>75000,75000+80000+F108*1.2+J108*1.2,N108*4+80000+F108*1.2+J108*1.2),L108)))) -> 8132 | Q108: =IF(M108="",0,ROUND(P108*100/M108,2)) -> 0.64
A109: Զարթոնքի ԲԱ ՀՈԱԿ | B109: Ամբուլատորիա | C109: Արմավիր | D109: 5000 | F109: =IF(E109="","",E109*1000) | G109: 532 | H109: =G109*30 -> 15960 | I109: 3 | J109: =I109*500 -> 1500 | K109: =IF(F109="",SUM(D109+H109+J109),SUM(D109+F109+H109+J109)) -> 22460 | L109: =K109*1.2 -> 26952 | M109: 2137290.2 | N109: 4766 | O109: =ROUND(P109*0.833333,0) -> 12500 | P109: =IF(N109="",L109,IF(B109="Ամբուլատորիա",IF(N109*4>15000,15000,N109*4),IF(B109="Պոլիկլինիկա",IF(N109*4>75000,75000,N109*4),IF(B109="Բժշկական կենտրոն",IF(N109*4>75000,75000+80000+F109*1.2+J109*1.2,N109*4+80000+F109*1.2+J109*1.2),L109)))) -> 15000 | Q109: =IF(M109="",0,ROUND(P109*100/M109,2)) -> 0.7
A110: Զարիշատ /Արամ/ Մարտինի Մկրտչյանի անվան Արմավիրի ԲԿ ՓԲԸ | B110: Բժշկական կենտրոն | C110: Արմավիր | D110: 130000 | E110: 358 | F110: =IF(E110="","",E110*1000) -> 358000 | G110: 4048 | H110: =G110*30 -> 121440 | I110: 8 | J110: =I110*500 -> 4000 | K110: =IF(F110="",SUM(D110+H110+J110),SUM(D110+F110+H110+J110)) -> 613440 | L110: =K110*1.2 -> 736128 | M110: 70379765 | N110: 33523 | O110: =ROUND(P110*0.833333,0) -> 491166 | P110: =IF(N110="",L110,IF(B110="Ամբուլատորիա",IF(N110*4>15000,15000,N110*4),IF(B110="Պոլիկլինիկա",IF(N110*4>75000,75000,N110*4),IF(B110="Բժշկական կենտրոն",IF(N110*4>75000,75000+80000+F110*1.2+J110*1.2,N110*4+80000+F110*1.2+J110*1.2),L110)))) -> 589400 | Q110: =IF(M110="",0,ROUND(P110*100/M110,2)) -> 0.84
...

Sheet Sheet 1
E2: ԸՆԴԱՄԵՆԸ | F2: =SUM(F4:F469) -> 5.4414312e+09 | G2: =SUM(G4:G469) -> 2726612 | H2: =SUM(H4:H469) -> 2755316 | I2: =SUM(I4:I469) -> 7951868 | J2: =SUM(J4:J469) -> 17332800 | K2: =SUM(K4:K469) -> 2671 | L2: =SUM(L4:L469) -> 698400 | M2: =SUM(M4:M469) -> 23141 | ... Q2: =SUM(Q4:Q469) -> 49234177 | R2: =S2/Q2 -> 0.67619651 | S2: =SUM(S4:S469) -> 33291979 | T2: =SUM(T4:T469) -> 15942198 | U2: =SUM(U4:U469) -> 5.9081012e+08 | V2: =SUM(V4:V469) -> 3.9950374e+08 | W2: =SUM(W4:W469) -> 1.9130638e+08
A3: ԲՀ ԱՆՎԱՆՈՒՄ | B3: ՄԱՐԶ | C3: ԲՀ ՏԻՊ | E3: Կարգավիճակ | F3: ԱՄՍԱԿԱՆ ՇՐՋԱՆԱՌՈՒԹՅՈՒՆ | G3: ԿՑԱԳՐՈՒՄ_AUG | H3: ԿՑԱԳՐՈՒՄ_SEP | I3: ԱՄԲՈՒԼԱՏՈՐ ԾԱՌԱՅՈՒԹՅՈՒՆՆԵՐ | J3: ՀԻՎԱՆԴԱՆՈՑ Ա | K3: ԳՐԱՆՑՎԱԾ ՕԳՏԱՏԵՐԵՐԻ ՔԱՆԱԿ | L3: ՀԻՎԱՆԴԱՆՈՑ Բ | M3: ԱՅՑԵՐԻ ՔԱՆԱԿ | N3: ՀԻՎԱՆԴԱՆՈՑ Գ | O3: ԸՆԴԱՄԵՆԸ ՆԵՐԱՌՅԱԼ ԱԱՀ | P3: ԱՄՍԵԿԱՆ ՇՐՋԱՆԱՌՈՒԹՅԱՆ 1.5% | Q3: ԸՆԴԱՄԵՆԸ | R3: Սուբսիդիա % | S3: ՍՈՒԲՍԻԴԻԱ | T3: ՎՃԱՐՄԱՆ ԵՆԹԱԿԱ ԳՈՒՄԱՐ | U3: Տարի _ Գումար | V3: Տարի _ սուբսիդիա | W3: Տարի _ զուտ
A4: Արաբկիր Բժշկական ՀամալիրԵԴԱԻ ՍՊԸ | B4: Երևան | C4: Բժշկական կենտրոն | D4: 1 | E4: Հիվանդանոց Երևան >100m շրջ. ՄԱՍՆԱՎՈՐ | F4: 2.4181664e+08 | H4: =SUMIF(Sep!A:A,'Sheet 1'!A4,Sep!N:N) -> 0 | I4: =IF(H4>0,(IF(H4<=10000,MIN(15000,H4*4),MIN(H4*4,75000))),0) -> 0 | J4: =IF(C4="Հիվանդանոց",80000,IF(C4="Բժշկական կենտրոն",IF(M4>2000,150000,130000),IF(C4="Շտապ բուժօգնություն",50000,IF(C4="ատամնաբուժարան",IF(M4<=200,7000,IF(AND(M4>200,M4<=500),15000,2000)),IF(C4="առողջարան",50000)))))*1.2 -> 156000 | K4: =SUMIF(Sep!A:A,'Sheet 1'!A4,Sep!I:I) -> 19 | L4: =IF(AND(C4<>"Ամբուլատորիա",C4<>"Պոլիկլինիկա"),500*K4*1.2,0) -> 11400 | M4: =SUMIF(Sep!A:A,'Sheet 1'!A4,Sep!E:E) -> 1201 | N4: =M4*1000*1.2 -> 1441200 | O4: =I4+J4+L4+N4 -> 1608600 | P4: =+F4*1.5% -> 3627249.6 | Q4: =MIN(O4,P4) -> 1608600 | R4: 0.5 | S4: =Q4*R4 -> 804300 | T4: =Q4-S4 -> 804300 | U4: =+Q4*12 -> 19303200 | V4: =S4*12 -> 9651600 | W4: =T4*12 -> 9651600
A5: Արմենիա հանրապետական բժշկական կենտրոն ՓԲԸ | B5: Երևան | C5: Բժշկական կենտրոն | D5: 1 | E5: Հիվանդանոց Երևան >100m շրջ. ՄԱՍՆԱՎՈՐ | F5: 1.4324586e+08 | G5: 60748 | H5: =SUMIF(Sep!A:A,'Sheet 1'!A5,Sep!N:N) -> 60782 | I5: =IF(H5>0,(IF(H5<=10000,MIN(15000,H5*4),MIN(H5*4,75000))),0) -> 75000 | J5: =IF(C5="Հիվանդանոց",80000,IF(C5="Բժշկական կենտրոն",IF(M5>2000,150000,130000),IF(C5="Շտապ բուժօգնություն",50000,IF(C5="ատամնաբուժարան",IF(M5<=200,7000,IF(AND(M5>200,M5<=500),15000,2000)),IF(C5="առողջարան",50000)))))*1.2 -> 156000 | K5: =SUMIF(Sep!A:A,'Sheet 1'!A5,Sep!I:I) -> 16 | L5: =IF(AND(C5<>"Ամբուլատորիա",C5<>"Պոլիկլինիկա"),500*K5*1.2,0) -> 9600 | M5: =+SUMIF(Sep!A:A,'Sheet 1'!A5,Sep!E:E) -> 1059 | N5: =M5*1000*1.2 -> 1270800 | O5: =I5+J5+L5+N5 -> 1511400 | P5: =+F5*1.5% -> 2148688 | Q5: =MIN(O5,P5) -> 1511400 | R5: 0.5 | S5: =Q5*R5 -> 755700 | T5: =Q5-S5 -> 755700 | U5: =+Q5*12 -> 18136800 | V5: =S5*12 -> 9068400 | W5: =T5*12 -> 9068400
A6: Էրեբունի բժշկական կենտրոն ՓԲԸ | B6: Երևան | C6: Բժշկական կենտրոն | D6: 1 | E6: Հիվանդանոց Երևան >100m շրջ. ՄԱՍՆԱՎՈՐ | F6: 2.8183831e+08 | G6: 32708 | H6: =SUMIF(Sep!A:A,'Sheet 1'!A6,Sep!N:N) -> 32716 | I6: =IF(H6>0,(IF(H6<=10000,MIN(15000,H6*4),MIN(H6*4,75000))),0) -> 75000 | J6: =IF(C6="Հիվանդանոց",80000,IF(C6="Բժշկական կենտրոն",IF(M6>2000,150000,130000),IF(C6="Շտապ բուժօգնություն",50000,IF(C6="ատամնաբուժարան",IF(M6<=200,7000,IF(AND(M6>200,M6<=500),15000,2000)),IF(C6="առողջարան",50000)))))*1.2 -> 156000 | K6: =SUMIF(Sep!A:A,'Sheet 1'!A6,Sep!I:I) -> 16 | L6: =IF(AND(C6<>"Ամբուլատորիա",C6<>"Պոլիկլինիկա"),500*K6*1.2,0) -> 9600 | M6: =+SUMIF(Sep!A:A,'Sheet 1'!A6,Sep!E:E) -> 1205 | N6: =M6*1000*1.2 -> 1446000 | O6: =I6+J6+L6+N6 -> 1686600 | P6: =+F6*1.5% -> 4227574.6 | Q6: =MIN(O6,P6) -> 1686600 | R6: 0.5 | S6: =Q6*R6 -> 843300 | T6: =Q6-S6 -> 843300 | U6: =+Q6*12 -> 20239200 | V6: =S6*12 -> 10119600 | W6: =T6*12 -> 10119600
A7: Նաթալի ֆարմ ՍՊԸ Աստղիկ բժշկական կենտրոն | B7: Երևան | C7: Բժշկական կենտրոն | D7: 1 | E7: Հիվանդանոց Երևան >100m շրջ. ՄԱՍՆԱՎՈՐ | F7: 1.2615379e+08 | G7: 21273 | H7: =SUMIF(Sep!A:A,'Sheet 1'!A7,Sep!N:N) -> 21328 | I7: =IF(H7>0,(IF(H7<=10000,MIN(15000,H7*4),MIN(H7*4,75000))),0) -> 75000 | J7: =IF(C7="Հիվանդանոց",80000,IF(C7="Բժշկական կենտրոն",IF(M7>2000,150000,130000),IF(C7="Շտապ բուժօգնություն",50000,IF(C7="ատամնաբուժարան",IF(M7<=200,7000,IF(AND(M7>200,M7<=500),15000,2000)),IF(C7="առողջարան",50000)))))*1.2 -> 156000 | K7: =SUMIF(Sep!A:A,'Sheet 1'!A7,Sep!I:I) -> 6 | L7: =IF(AND(C7<>"Ամբուլատորիա",C7<>"Պոլիկլինիկա"),500*K7*1.2,0) -> 3600 | M7: =+SUMIF(Sep!A:A,'Sheet 1'!A7,Sep!E:E) -> 405 | N7: =M7*1000*1.2 -> 486000 | O7: =I7+J7+L7+N7 -> 720600 | P7: =+F7*1.5% -> 1892306.8 | Q7: =MIN(O7,P7) -> 720600 | R7: 0.5 | S7: =Q7*R7 -> 360300 | T7: =Q7-S7 -> 360300 | U7: =+Q7*12 -> 8647200 | V7: =S7*12 -> 4323600 | W7: =T7*12 -> 4323600
A8: Վերարտադրողական առողջության, պերինատալոգիայի, մանկաբարձության և գինեկոլոգիայի հանրապետական ինստիտուտ ՓԲԸ | B8: Երևան | C8: Բժշկական կենտրոն | D8: 1 | E8: Հիվանդանոց Երևան >100m շրջ. ՄԱՍՆԱՎՈՐ | F8: 1.4509563e+08 | H8: =SUMIF(Sep!A:A,'Sheet 1'!A8,Sep!N:N) -> 973 | I8: =IF(H8>0,(IF(H8<=10000,MIN(15000,H8*4),MIN(H8*4,75000))),0) -> 3892 | J8: =IF(C8="Հիվանդանոց",80000,IF(C8="Բժշկական կենտրոն",IF(M8>2000,150000,130000),IF(C8="Շտապ բուժօգնություն",50000,IF(C8="ատամնաբուժարան",IF(M8<=200,7000,IF(AND(M8>200,M8<=500),15000,2000)),IF(C8="առողջարան",50000)))))*1.2 -> 156000 | K8: =SUMIF(Sep!A:A,'Sheet 1'!A8,Sep!I:I) -> 9 | L8: =IF(AND(C8<>"Ամբուլատորիա",C8<>"Պոլիկլինիկա"),500*K8*1.2,0) -> 5400 | M8: =+SUMIF(Sep!A:A,'Sheet 1'!A8,Sep!E:E) -> 660 | N8: =M8*1000*1.2 -> 792000 | O8: =I8+J8+L8+N8 -> 957292 | P8: =+F8*1.5% -> 2176434.4 | Q8: =MIN(O8,P8) -> 957292 | R8: 0.5 | S8: =Q8*R8 -> 478646 | T8: =Q8-S8 -> 478646 | U8: =+Q8*12 -> 11487504 | V8: =S8*12 -> 5743752 | W8: =T8*12 -> 5743752
A9: Երեւանի Մխիթար Հերացու անվան պետական բժշկական համալսարան Հիմնադրամ | B9: Երևան | C9: Բժշկական կենտրոն | D9: 2 | E9: Հիվանդանոց Երևան >100m շրջ. ՊԵՏԱԿԱՆ | F9: 1.757473e+08 | G9: 31590 | H9: =SUMIF(Sep!A:A,'Sheet 1'!A9,Sep!N:N) -> 31640 | I9: =IF(H9>0,(IF(H9<=10000,MIN(15000,H9*4),MIN(H9*4,75000))),0) -> 75000 | J9: =IF(C9="Հիվանդանոց",80000,IF(C9="Բժշկական կենտրոն",IF(M9>2000,150000,130000),IF(C9="Շտապ բուժօգնություն",50000,IF(C9="ատամնաբուժարան",IF(M9<=200,7000,IF(AND(M9>200,M9<=500),15000,2000)),IF(C9="առողջարան",50000)))))*1.2 -> 156000 | K9: =SUMIF(Sep!A:A,'Sheet 1'!A9,Sep!I:I) -> 20 | L9: =IF(AND(C9<>"Ամբուլատորիա",C9<>"Պոլիկլինիկա"),500*K9*1.2,0) -> 12000 | M9: =+SUMIF(Sep!A:A,'Sheet 1'!A9,Sep!E:E) -> 1135 | N9: =M9*1000*1.2 -> 1362000 | O9: =I9+J9+L9+N9 -> 1605000 | P9: =+F9*1.5% -> 2636209.5 | Q9: =MIN(O9,P9) -> 1605000 | R9: 0.5 | S9: =Q9*R9 -> 802500 | T9: =Q9-S9 -> 802500 | U9: =+Q9*12 -> 19260000 | V9: =S9*12 -> 9630000 | W9: =T9*12 -> 9630000
A10: Նորք-Մարաշ բժշկական կենտրոն ՓԲԸ | B10: Երևան | C10: Բժշկական կենտրոն | D10: 2 | E10: Հիվանդանոց Երևան >100m շրջ. ՊԵՏԱԿԱՆ | F10: 1.0321952e+08 | H10: =SUMIF(Sep!A:A,'Sheet 1'!A10,Sep!N:N) -> 0 | I10: =IF(H10>0,(IF(H10<=10000,MIN(15000,H10*4),MIN(H10*4,75000))),0) -> 0 | J10: =IF(C10="Հիվանդանոց",80000,IF(C10="Բժշկական կենտրոն",IF(M10>2000,150000,130000),IF(C10="Շտապ բուժօգնություն",50000,IF(C10="ատամնաբուժարան",IF(M10<=200,7000,IF(AND(M10>200,M10<=500),15000,2000)),IF(C10="առողջարան",50000)))))*1.2 -> 156000 | K10: =SUMIF(Sep!A:A,'Sheet 1'!A10,Sep!I:I) -> 5 | L10: =IF(AND(C10<>"Ամբուլատորիա",C10<>"Պոլիկլինիկա"),500*K10*1.2,0) -> 3000 | M10: =+SUMIF(Sep!A:A,'Sheet 1'!A10,Sep!E:E) -> 154 | N10: =M10*1000*1.2 -> 184800 | O10: =I10+J10+L10+N10 -> 343800 | P10: =+F10*1.5% -> 1548292.8 | Q10: =MIN(O10,P10) -> 343800 | R10: 0.5 | S10: =Q10*R10 -> 171900 | T10: =Q10-S10 -> 171900 | U10: =+Q10*12 -> 4125600 | V10: =S10*12 -> 2062800 | W10: =T10*12 -> 2062800
A11: Սուրբ Աստվածամայր բժշկական կենտրոն ՓԲԸ | B11: Երևան | C11: Բժշկական կենտրոն | D11: 2 | E11: Հիվանդանոց Երևան >100m շրջ. ՊԵՏԱԿԱՆ | F11: 1.184294e+08 | G11: 42818 | H11: =SUMIF(Sep!A:A,'Sheet 1'!A11,Sep!N:N) -> 42837 | I11: =IF(H11>0,(IF(H11<=10000,MIN(15000,H11*4),MIN(H11*4,75000))),0) -> 75000 | J11: =IF(C11="Հիվանդանոց",80000,IF(C11="Բժշկական կենտրոն",IF(M11>2000,150000,130000),IF(C11="Շտապ բուժօգնություն",50000,IF(C11="ատամնաբուժարան",IF(M11<=200,7000,IF(AND(M11>200,M11<=500),15000,2000)),IF(C11="առողջարան",50000)))))*1.2 -> 156000 | K11: =SUMIF(Sep!A:A,'Sheet 1'!A11,Sep!I:I) -> 3 | L11: =IF(AND(C11<>"Ամբուլատորիա",C11<>"Պոլիկլինիկա"),500*K11*1.2,0) -> 1800 | M11: =+SUMIF(Sep!A:A,'Sheet 1'!A11,Sep!E:E) -> 794 | N11: =M11*1000*1.2 -> 952800 | O11: =I11+J11+L11+N11 -> 1185600 | P11: =+F11*1.5% -> 1776440.9 | Q11: =MIN(O11,P11) -> 1185600 | R11: 0.5 | S11: =Q11*R11 -> 592800 | T11: =Q11-S11 -> 592800 | U11: =+Q11*12 -> 14227200 | V11: =S11*12 -> 7113600 | W11: =T11*12 -> 7113600
A12: Սուրբ Գրիգոր Լուսավորիչ բժշկական կենտրոն ՓԲԸ | B12: Երևան | C12: Բժշկական կենտրոն | D12: 2 | E12: Հիվանդանոց Երևան >100m շրջ. ՊԵՏԱԿԱՆ | F12: 4.1749907e+08 | G12: 77673 | H12: =SUMIF(Sep!A:A,'Sheet 1'!A12,Sep!N:N) -> 78083 | I12: =IF(H12>0,(IF(H12<=10000,MIN(15000,H12*4),MIN(H12*4,75000))),0) -> 75000 | J12: =IF(C12="Հիվանդանոց",80000,IF(C12="Բժշկական կենտրոն",IF(M12>2000,150000,130000),IF(C12="Շտապ բուժօգնություն",50000,IF(C12="ատամնաբուժարան",IF(M12<=200,7000,IF(AND(M12>200,M12<=500),15000,2000)),IF(C12="առողջարան",50000)))))*1.2 -> 180000 | K12: =SUMIF(Sep!A:A,'Sheet 1'!A12,Sep!I:I) -> 17 | L12: =IF(AND(C12<>"Ամբուլատորիա",C12<>"Պոլիկլինիկա"),500*K12*1.2,0) -> 10200 | M12: =+SUMIF(Sep!A:A,'Sheet 1'!A12,Sep!E:E) -> 3053 | N12: =M12*1000*1.2 -> 3663600 | O12: =I12+J12+L12+N12 -> 3928800 | P12: =+F12*1.5% -> 6262486 | Q12: =MIN(O12,P12) -> 3928800 | R12: 0.5 | S12: =Q12*R12 -> 1964400 | T12: =Q12-S12 -> 1964400 | U12: =+Q12*12 -> 47145600 | V12: =S12*12 -> 23572800 | W12: =T12*12 -> 23572800
A13: Շտապ բուժօգնություն ՓԲԸ | B13: Երևան | C13: Շտապ բուժօգնություն | D13: 2 | E13: Հիվանդանոց Երևան >100m շրջ. ՊԵՏԱԿԱՆ | F13: 1.1185921e+08 | H13: =SUMIF(Sep!A:A,'Sheet 1'!A13,Sep!N:N) -> 0 | I13: =IF(H13>0,(IF(H13<=10000,MIN(15000,H13*4),MIN(H13*4,75000))),0) -> 0 | J13: =IF(C13="Հիվանդանոց",80000,IF(C13="Բժշկական կենտրոն",IF(M13>2000,150000,130000),IF(C13="Շտապ բուժօգնություն",50000,IF(C13="ատամնաբուժարան",IF(M13<=200,7000,IF(AND(M13>200,M13<=500),15000,2000)),IF(C13="առողջարան",50000)))))*1.2 -> 60000 | K13: =SUMIF(Sep!A:A,'Sheet 1'!A13,Sep!I:I) -> 3 | L13: =IF(AND(C13<>"Ամբուլատորիա",C13<>"Պոլիկլինիկա"),500*K13*1.2,0) -> 1800 | M13: =+SUMIF(Sep!A:A,'Sheet 1'!A13,Sep!E:E) -> 0 | N13: =M13*1000*1.2 -> 0 | O13: =I13+J13+L13+N13 -> 61800 | P13: =+F13*1.5% -> 1677888.1 | Q13: =MIN(O13,P13) -> 61800 | R13: 0.5 | S13: =Q13*R13 -> 30900 | T13: =Q13-S13 -> 30900 | U13: =+Q13*12 -> 741600 | V13: =S13*12 -> 370800 | W13: =T13*12 -> 370800
A14: Առողջ ապագա բժշկական կենտրոն ՍՊԸ | B14: Երևան | C14: Առողջարան | D14: 3 | E14: Հիվանդանոց Երևան <=100m շրջ. ՄԱՍՆԱՎՈՐ | F14: 22765004 | H14: =SUMIF(Sep!A:A,'Sheet 1'!A14,Sep!N:N) -> 0 | I14: =IF(H14>0,(IF(H14<=10000,MIN(15000,H14*4),MIN(H14*4,75000))),0) -> 0 | J14: =IF(C14="Հիվանդանոց",80000,IF(C14="Բժշկական կենտրոն",IF(M14>2000,150000,130000),IF(C14="Շտապ բուժօգնություն",50000,IF(C14="ատամնաբուժարան",IF(M14<=200,7000,IF(AND(M14>200,M14<=500),15000,2000)),IF(C14="առողջարան",50000)))))*1.2 -> 60000 | K14: =SUMIF(Sep!A:A,'Sheet 1'!A14,Sep!I:I) -> 3 | L14: =IF(AND(C14<>"Ամբուլատորիա",C14<>"Պոլիկլինիկա"),500*K14*1.2,0) -> 1800 | M14: =+SUMIF(Sep!A:A,'Sheet 1'!A14,Sep!E:E) -> 0 | N14: =M14*1000*1.2 -> 0 | O14: =I14+J14+L14+N14 -> 61800 | P14: =+F14*1.5% -> 341475.06 | Q14: =MIN(O14,P14) -> 61800 | R14: 0.7 | S14: =Q14*R14 -> 43260 | T14: =Q14-S14 -> 18540 | U14: =+Q14*12 -> 741600 | V14: =S14*12 -> 519120 | W14: =T14*12 -> 222480
A15: Արթմեդ բժշկական վերականգնողական կենտրոն ՓԲԸ | B15: Երևան | C15: Բժշկական կենտրոն | D15: 3 | E15: Հիվանդանոց Երևան <=100m շրջ. ՄԱՍՆԱՎՈՐ | F15: 10920559 | G15: 1974 | H15: =SUMIF(Sep!A:A,'Sheet 1'!A15,Sep!N:N) -> 1973 | I15: =IF(H15>0,(IF(H15<=10000,MIN(15000,H15*4),MIN(H15*4,75000))),0) -> 7892 | J15: =IF(C15="Հիվանդանոց",80000,IF(C15="Բժշկական կենտրոն",IF(M15>2000,150000,130000),IF(C15="Շտապ բուժօգնություն",50000,IF(C15="ատամնաբուժարան",IF(M15<=200,7000,IF(AND(M15>200,M15<=500),15000,2000)),IF(C15="առողջարան",50000)))))*1.2 -> 156000 | K15: =SUMIF(Sep!A:A,'Sheet 1'!A15,Sep!I:I) -> 6 | L15: =IF(AND(C15<>"Ամբուլատորիա",C15<>"Պոլիկլինիկա"),500*K15*1.2,0) -> 3600 | M15: =+SUMIF(Sep!A:A,'Sheet 1'!A15,Sep!E:E) -> 82 | N15: =M15*1000*1.2 -> 98400 | O15: =I15+J15+L15+N15 -> 265892 | P15: =+F15*1.5% -> 163808.38 | Q15: =MIN(O15,P15) -> 163808.38 | R15: 0.7 | S15: =Q15*R15 -> 114665.87 | T15: =Q15-S15 -> 49142.516 | U15: =+Q15*12 -> 1965700.6 | V15: =S15*12 -> 1375990.4 | W15: =T15*12 -> 589710.19
A16: Արմամաքս ՍՊԸ | B16: Երևան | C16: Բժշկական կենտրոն | D16: 3 | E16: Հիվանդանոց Երևան <=100m շրջ. ՄԱՍՆԱՎՈՐ | F16: 17727437 | H16: =SUMIF(Sep!A:A,'Sheet 1'!A16,Sep!N:N) -> 0 | I16: =IF(H16>0,(IF(H16<=10000,MIN(15000,H16*4),MIN(H16*4,75000))),0) -> 0 | J16: =IF(C16="Հիվանդանոց",80000,IF(C16="Բժշկական կենտրոն",IF(M16>2000,150000,130000),IF(C16="Շտապ բուժօգնություն",50000,IF(C16="ատամնաբուժարան",IF(M16<=200,7000,IF(AND(M16>200,M16<=500),15000,2000)),IF(C16="առողջարան",50000)))))*1.2 -> 156000 | K16: =SUMIF(Sep!A:A,'Sheet 1'!A16,Sep!I:I) -> 6 | L16: =IF(AND(C16<>"Ամբուլատորիա",C16<>"Պոլիկլինիկա"),500*K16*1.2,0) -> 3600 | M16: =+SUMIF(Sep!A:A,'Sheet 1'!A16,Sep!E:E) -> 0 | N16: =M16*1000*1.2 -> 0 | O16: =I16+J16+L16+N16 -> 159600 | P16: =+F16*1.5% -> 265911.55 | Q16: =MIN(O16,P16) -> 159600 | R16: 0.7 | S16: =Q16*R16 -> 111720 | T16: =Q16-S16 -> 47880 | U16: =+Q16*12 -> 1915200 | V16: =S16*12 -> 1340640 | W16: =T16*12 -> 574560
A17: Բժշկական գենետիկայի և առողջության առաջնային պահպանման կենտրոն ՍՊԸ | B17: Երևան | C17: Բժշկական կենտրոն | D17: 3 | E17: Հիվանդանոց Երևան <=100m շրջ. ՄԱՍՆԱՎՈՐ | F17: 4040283.8 | H17: =SUMIF(Sep!A:A,'Sheet 1'!A17,Sep!N:N) -> 0 | I17: =IF(H17>0,(IF(H17<=10000,MIN(15000,H17*4),MIN(H17*4,75000))),0) -> 0 | J17: =IF(C17="Հիվանդանոց",80000,IF(C17="Բժշկական կենտրոն",IF(M17>2000,150000,130000),IF(C17="Շտապ բուժօգնություն",50000,IF(C17="ատամնաբուժարան",IF(M17<=200,7000,IF(AND(M17>200,M17<=500),15000,2000)),IF(C17="առողջարան",50000)))))*1.2 -> 156000 | K17: =SUMIF(Sep!A:A,'Sheet 1'!A17,Sep!I:I) -> 8 | L17: =IF(AND(C17<>"Ամբուլատորիա",C17<>"Պոլիկլինիկա"),500*K17*1.2,0) -> 4800 | M17: =+SUMIF(Sep!A:A,'Sheet 1'!A17,Sep!E:E) -> 0 | N17: =M17*1000*1.2 -> 0 | O17: =I17+J17+L17+N17 -> 160800 | P17: =+F17*1.5% -> 60604.256 | Q17: =MIN(O17,P17) -> 60604.256 | R17: 0.7 | S17: =Q17*R17 -> 42422.979 | T17: =Q17-S17 -> 18181.277 | U17: =+Q17*12 -> 727251.07 | V17: =S17*12 -> 509075.75 | W17: =T17*12 -> 218175.32
A18: Դիագնոստիկա բժշկական միավորում ԲԲԸ | B18: Երևան | C18: Բժշկական կենտրոն | D18: 3 | E18: Հիվանդանոց Երևան <=100m շրջ. ՄԱՍՆԱՎՈՐ | F18: 4529935.5 | H18: =SUMIF(Sep!A:A,'Sheet 1'!A18,Sep!N:N) -> 1934 | I18: =IF(H18>0,(IF(H18<=10000,MIN(15000,H18*4),MIN(H18*4,75000))),0) -> 7736 | J18: =IF(C18="Հիվանդանոց",80000,IF(C18="Բժշկական կենտրոն",IF(M18>2000,150000,130000),IF(C18="Շտապ բուժօգնություն",50000,IF(C18="ատամնաբուժարան",IF(M18<=200,7000,IF(AND(M18>200,M18<=500),15000,2000)),IF(C18="առողջարան",50000)))))*1.2 -> 156000 | K18: =SUMIF(Sep!A:A,'Sheet 1'!A18,Sep!I:I) -> 5 | L18: =IF(AND(C18<>"Ամբուլատորիա",C18<>"Պոլիկլինիկա"),500*K18*1.2,0) -> 3000 | M18: =+SUMIF(Sep!A:A,'Sheet 1'!A18,Sep!E:E) -> 0 | N18: =M18*1000*1.2 -> 0 | O18: =I18+J18+L18+N18 -> 166736 | P18: =+F18*1.5% -> 67949.033 | Q18: =MIN(O18,P18) -> 67949.033 | R18: 0.7 | S18: =Q18*R18 -> 47564.323 | T18: =Q18-S18 -> 20384.71 | U18: =+Q18*12 -> 815388.39 | V18: =S18*12 -> 570771.87 | W18: =T18*12 -> 244616.52
A19: Թիվ 2 բուժմիավորում ՓԲԸ | B19: Երևան | C19: Բժշկական կենտրոն | D19: 3 | E19: Հիվանդանոց Երևան <=100m շրջ. ՄԱՍՆԱՎՈՐ | F19: 25694099 | G19: 30941 | H19: =SUMIF(Sep!A:A,'Sheet 1'!A19,Sep!N:N) -> 31059 | I19: =IF(H19>0,(IF(H19<=10000,MIN(15000,H19*4),MIN(H19*4,75000))),0) -> 75000 | J19: =IF(C19="Հիվանդանոց",80000,IF(C19="Բժշկական կենտրոն",IF(M19>2000,150000,130000),IF(C19="Շտապ բուժօգնություն",50000,IF(C19="ատամնաբուժարան",IF(M19<=200,7000,IF(AND(M19>200,M19<=500),15000,2000)),IF(C19="առողջարան",50000)))))*1.2 -> 156000 | K19: =SUMIF(Sep!A:A,'Sheet 1'!A19,Sep!I:I) -> 8 | L19: =IF(AND(C19<>"Ամբուլատորիա",C19<>"Պոլիկլինիկա"),500*K19*1.2,0) -> 4800 | M19: =+SUMIF(Sep!A:A,'Sheet 1'!A19,Sep!E:E) -> 150 | N19: =M19*1000*1.2 -> 180000 | O19: =I19+J19+L19+N19 -> 415800 | P19: =+F19*1.5% -> 385411.48 | Q19: =MIN(O19,P19) -> 385411.48 | R19: 0.7 | S19: =Q19*R19 -> 269788.04 | T19: =Q19-S19 -> 115623.44 | U19: =+Q19*12 -> 4624937.8 | V19: =S19*12 -> 3237456.4 | W19: =T19*12 -> 1387481.3
A20: Իզմիրլյան | B20: Երևան | C20: Բժշկական կենտրոն | D20: 3 | E20: Հիվանդանոց Երևան <=100m շրջ. ՄԱՍՆԱՎՈՐ | F20: 30059505 | H20: =SUMIF(Sep!A:A,'Sheet 1'!A20,Sep!N:N) -> 0 | I20: =IF(H20>0,(IF(H20<=10000,MIN(15000,H20*4),MIN(H20*4,75000))),0) -> 0 | J20: =IF(C20="Հիվանդանոց",80000,IF(C20="Բժշկական կենտրոն",IF(M20>2000,150000,130000),IF(C20="Շտապ բուժօգնություն",50000,IF(C20="ատամնաբուժարան",IF(M20<=200,7000,IF(AND(M20>200,M20<=500),15000,2000)),IF(C20="առողջարան",50000)))))*1.2 -> 156000 | K20: =SUMIF(Sep!A:A,'Sheet 1'!A20,Sep!I:I) -> 7 | L20: =IF(AND(C20<>"Ամբուլատորիա",C20<>"Պոլիկլինիկա"),500*K20*1.2,0) -> 4200 | M20: =+SUMIF(Sep!A:A,'Sheet 1'!A20,Sep!E:E) -> 103 | N20: =M20*1000*1.2 -> 123600 | O20: =I20+J20+L20+N20 -> 283800 | P20: =+F20*1.5% -> 450892.58 | Q20: =MIN(O20,P20) -> 283800 | R20: 0.7 | S20: =Q20*R20 -> 198660 | T20: =Q20-S20 -> 85140 | U20: =+Q20*12 -> 3405600 | V20: =S20*12 -> 2383920 | W20: =T20*12 -> 1021680
A21: ՀԿԽԸ «Գրացիա» միջազգային վերականգնողական կենտրոն ՍՊԸ | B21: Երևան | C21: Բժշկական կենտրոն | D21: 3 | E21: Հիվանդանոց Երևան <=100m շրջ. ՄԱՍՆԱՎՈՐ | F21: 16681375 | H21: =SUMIF(Sep!A:A,'Sheet 1'!A21,Sep!N:N) -> 0 | I21: =IF(H21>0,(IF(H21<=10000,MIN(15000,H21*4),MIN(H21*4,75000))),0) -> 0 | J21: =IF(C21="Հիվանդանոց",80000,IF(C21="Բժշկական կենտրոն",IF(M21>2000,150000,130000),IF(C21="Շտապ բուժօգնություն",50000,IF(C21="ատամնաբուժարան",IF(M21<=200,7000,IF(AND(M21>200,M21<=500),15000,2000)),IF(C21="առողջարան",50000)))))*1.2 -> 156000 | K21: =SUMIF(Sep!A:A,'Sheet 1'!A21,Sep!I:I) -> 3 | L21: =IF(AND(C21<>"Ամբուլատորիա",C21<>"Պոլիկլինիկա"),500*K21*1.2,0) -> 1800 | M21: =+SUMIF(Sep!A:A,'Sheet 1'!A21,Sep!E:E) -> 89 | N21: =M21*1000*1.2 -> 106800 | O21: =I21+J21+L21+N21 -> 264600 | P21: =+F21*1.5% -> 250220.62 | Q21: =MIN(O21,P21) -> 250220.62 | R21: 0.7 | S21: =Q21*R21 -> 175154.44 | T21: =Q21-S21 -> 75066.188 | U21: =+Q21*12 -> 3002647.5 | V21: =S21*12 -> 2101853.2 | W21: =T21*12 -> 900794.25
A22: Մեդլայն կլինիկ ՍՊԸ | B22: Երևան | C22: Բժշկական կենտրոն | D22: 3 | E22: Հիվանդանոց Երևան <=100m շրջ. ՄԱՍՆԱՎՈՐ | F22: 15545410 | G22: 6441 | H22: =SUMIF(Sep!A:A,'Sheet 1'!A22,Sep!N:N) -> 6446 | I22: =IF(H22>0,(IF(H22<=10000,MIN(15000,H22*4),MIN(H22*4,75000))),0) -> 15000 | J22: =IF(C22="Հիվանդանոց",80000,IF(C22="Բժշկական կենտրոն",IF(M22>2000,150000,130000),IF(C22="Շտապ բուժօգնություն",50000,IF(C22="ատամնաբուժարան",IF(M22<=200,7000,IF(AND(M22>200,M22<=500),15000,2000)),IF(C22="առողջարան",50000)))))*1.2 -> 156000 | K22: =SUMIF(Sep!A:A,'Sheet 1'!A22,Sep!I:I) -> 6 | L22: =IF(AND(C22<>"Ամբուլատորիա",C22<>"Պոլիկլինիկա"),500*K22*1.2,0) -> 3600 | M22: =+SUMIF(Sep!A:A,'Sheet 1'!A22,Sep!E:E) -> 49 | N22: =M22*1000*1.2 -> 58800 | O22: =I22+J22+L22+N22 -> 233400 | P22: =+F22*1.5% -> 233181.15 | Q22: =MIN(O22,P22) -> 233181.15 | R22: 0.7 | S22: =Q22*R22 -> 163226.8 | T22: =Q22-S22 -> 69954.344 | U22: =+Q22*12 -> 2798173.8 | V22: =S22*12 -> 1958721.6 | W22: =T22*12 -> 839452.13
A23: Մոր և մանկան առողջության պահպանման ԳՀԿ ՓԲԸ | B23: Երևան | C23: Բժշկական կենտրոն | D23: 3 | E23: Հիվանդանոց Երևան <=100m շրջ. ՄԱՍՆԱՎՈՐ | F23: 63462011 | H23: =SUMIF(Sep!A:A,'Sheet 1'!A23,Sep!N:N) -> 0 | I23: =IF(H23>0,(IF(H23<=10000,MIN(15000,H23*4),MIN(H23*4,75000))),0) -> 0 | J23: =IF(C23="Հիվանդանոց",80000,IF(C23="Բժշկական կենտրոն",IF(M23>2000,150000,130000),IF(C23="Շտապ բուժօգնություն",50000,IF(C23="ատամնաբուժարան",IF(M23<=200,7000,IF(AND(M23>200,M23<=500),15000,2000)),IF(C23="առողջարան",50000)))))*1.2 -> 156000 | K23: =SUMIF(Sep!A:A,'Sheet 1'!A23,Sep!I:I) -> 25 | L23: =IF(AND(C23<>"Ամբուլատորիա",C23<>"Պոլիկլինիկա"),500*K23*1.2,0) -> 15000 | M23: =+SUMIF(Sep!A:A,'Sheet 1'!A23,Sep!E:E) -> 372 | N23: =M23*1000*1.2 -> 446400 | O23: =I23+J23+L23+N23 -> 617400 | P23: =+F23*1.5% -> 951930.16 | Q23: =MIN(O23,P23) -> 617400 | R23: 0.7 | S23: =Q23*R23 -> 432180 | T23: =Q23-S23 -> 185220 | U23: =+Q23*12 -> 7408800 | V23: =S23*12 -> 5186160 | W23: =T23*12 -> 2222640
A24: Նորմեդ ՍՊԸ | B24: Երևան | C24: Բժշկական կենտրոն | D24: 3 | E24: Հիվանդանոց Երևան <=100m շրջ. ՄԱՍՆԱՎՈՐ | F24: 538040.08 | H24: =SUMIF(Sep!A:A,'Sheet 1'!A24,Sep!N:N) -> 0 | I24: =IF(H24>0,(IF(H24<=10000,MIN(15000,H24*4),MIN(H24*4,75000))),0) -> 0 | J24: =IF(C24="Հիվանդանոց",80000,IF(C24="Բժշկական կենտրոն",IF(M24>2000,150000,130000),IF(C24="Շտապ բուժօգնություն",50000,IF(C24="ատամնաբուժարան",IF(M24<=200,7000,IF(AND(M24>200,M24<=500),15000,2000)),IF(C24="առողջարան",50000)))))*1.2 -> 156000 | K24: =SUMIF(Sep!A:A,'Sheet 1'!A24,Sep!I:I) -> 4 | L24: =IF(AND(C24<>"Ամբուլատորիա",C24<>"Պոլիկլինիկա"),500*K24*1.2,0) -> 2400 | M24: =+SUMIF(Sep!A:A,'Sheet 1'!A24,Sep!E:E) -> 0 | N24: =M24*1000*1.2 -> 0 | O24: =I24+J24+L24+N24 -> 158400 | P24: =+F24*1.5% -> 8070.6013 | Q24: =MIN(O24,P24) -> 8070.6013 | R24: 0.7 | S24: =Q24*R24 -> 5649.4209 | T24: =Q24-S24 -> 2421.1804 | U24: =+Q24*12 -> 96847.215 | V24: =S24*12 -> 67793.05 | W24: =T24*12 -> 29054.165
A25: Շենգավիթ բժշկական կենտրոն ՓԲԸ | B25: Երևան | C25: Բժշկական կենտրոն | D25: 3 | E25: Հիվանդանոց Երևան <=100m շրջ. ՄԱՍՆԱՎՈՐ | F25: 52988144 | H25: =SUMIF(Sep!A:A,'Sheet 1'!A25,Sep!N:N) -> 0 | I25: =IF(H25>0,(IF(H25<=10000,MIN(15000,H25*4),MIN(H25*4,75000))),0) -> 0 | J25: =IF(C25="Հիվանդանոց",80000,IF(C25="Բժշկական կենտրոն",IF(M25>2000,150000,130000),IF(C25="Շտապ բուժօգնություն",50000,IF(C25="ատամնաբուժարան",IF(M25<=200,7000,IF(AND(M25>200,M25<=500),15000,2000)),IF(C25="առողջարան",50000)))))*1.2 -> 156000 | K25: =SUMIF(Sep!A:A,'Sheet 1'!A25,Sep!I:I) -> 14 | L25: =IF(AND(C25<>"Ամբուլատորիա",C25<>"Պոլիկլինիկա"),500*K25*1.2,0) -> 8400 | M25: =+SUMIF(Sep!A:A,'Sheet 1'!A25,Sep!E:E) -> 276 | N25: =M25*1000*1.2 -> 331200 | O25: =I25+J25+L25+N25 -> 495600 | P25: =+F25*1.5% -> 794822.15 | Q25: =MIN(O25,P25) -> 495600 | R25: 0.7 | S25: =Q25*R25 -> 346920 | T25: =Q25-S25 -> 148680 | U25: =+Q25*12 -> 5947200 | V25: =S25*12 -> 4163040 | W25: =T25*12 -> 1784160
A26: Ուլտրաիմիջինգ գիտամեթոդական կենտրոն ՍՊԸ | B26: Երևան | C26: Բժշկական կենտրոն | D26: 3 | E26: Հիվանդանոց Երևան <=100m շրջ. ՄԱՍՆԱՎՈՐ | F26: 4119689.2 | H26: =SUMIF(Sep!A:A,'Sheet 1'!A26,Sep!N:N) -> 0 | I26: =IF(H26>0,(IF(H26<=10000,MIN(15000,H26*4),MIN(H26*4,75000))),0) -> 0 | J26: =IF(C26="Հիվանդանոց",80000,IF(C26="Բժշկական կենտրոն",IF(M26>2000,150000,130000),IF(C26="Շտապ բուժօգնություն",50000,IF(C26="ատամնաբուժարան",IF(M26<=200,7000,IF(AND(M26>200,M26<=500),15000,2000)),IF(C26="առողջարան",50000)))))*1.2 -> 156000 | K26: =SUMIF(Sep!A:A,'Sheet 1'!A26,Sep!I:I) -> 8 | L26: =IF(AND(C26<>"Ամբուլատորիա",C26<>"Պոլիկլինիկա"),500*K26*1.2,0) -> 4800 | M26: =+SUMIF(Sep!A:A,'Sheet 1'!A26,Sep!E:E) -> 0 | N26: =M26*1000*1.2 -> 0 | O26: =I26+J26+L26+N26 -> 160800 | P26: =+F26*1.5% -> 61795.337 | Q26: =MIN(O26,P26) -> 61795.337 | R26: 0.7 | S26: =Q26*R26 -> 43256.736 | T26: =Q26-S26 -> 18538.601 | U26: =+Q26*12 -> 741544.05 | V26: =S26*12 -> 519080.83 | W26: =T26*12 -> 222463.21
A27: Ս.Վ. Մալայանի անվան ակնաբուժական կենտրոն ՓԲԸ | B27: Երևան | C27: Բժշկական կենտրոն | D27: 3 | E27: Հիվանդանոց Երևան <=100m շրջ. ՄԱՍՆԱՎՈՐ | F27: 24940152 | H27: =SUMIF(Sep!A:A,'Sheet 1'!A27,Sep!N:N) -> 0 | I27: =IF(H27>0,(IF(H27<=10000,MIN(15000,H27*4),MIN(H27*4,75000))),0) -> 0 | J27: =IF(C27="Հիվանդանոց",80000,IF(C27="Բժշկական կենտրոն",IF(M27>2000,150000,130000),IF(C27="Շտապ բուժօգնություն",50000,IF(C27="ատամնաբուժարան",IF(M27<=200,7000,IF(AND(M27>200,M27<=500),15000,2000)),IF(C27="առողջարան",50000)))))*1.2 -> 156000 | K27: =SUMIF(Sep!A:A,'Sheet 1'!A27,Sep!I:I) -> 3 | L27: =IF(AND(C27<>"Ամբուլատորիա",C27<>"Պոլիկլինիկա"),500*K27*1.2,0) -> 1800 | M27: =+SUMIF(Sep!A:A,'Sheet 1'!A27,Sep!E:E) -> 281 | N27: =M27*1000*1.2 -> 337200 | O27: =I27+J27+L27+N27 -> 495000 | P27: =+F27*1.5% -> 374102.27 | Q27: =MIN(O27,P27) -> 374102.27 | R27: 0.7 | S27: =Q27*R27 -> 261871.59 | T27: =Q27-S27 -> 112230.68 | U27: =+Q27*12 -> 4489227.3 | V27: =S27*12 -> 3142459.1 | W27: =T27*12 -> 1346768.2
A28: Վ. Ավագյանի անվան բժշկական կենտրոն ՍՊԸ | B28: Երևան | C28: Բժշկական կենտրոն | D28: 3 | E28: Հիվանդանոց Երևան <=100m շրջ. ՄԱՍՆԱՎՈՐ | F28: 14769641 | G28: 3720 | H28: =SUMIF(Sep!A:A,'Sheet 1'!A28,Sep!N:N) -> 3704 | I28: =IF(H28>0,(IF(H28<=10000,MIN(15000,H28*4),MIN(H28*4,75000))),0) -> 14816 | J28: =IF(C28="Հիվանդանոց",80000,IF(C28="Բժշկական կենտրոն",IF(M28>2000,150000,130000),IF(C28="Շտապ բուժօգնություն",50000,IF(C28="ատամնաբուժարան",IF(M28<=200,7000,IF(AND(M28>200,M28<=500),15000,2000)),IF(C28="առողջարան",50000)))))*1.2 -> 156000 | K28: =SUMIF(Sep!A:A,'Sheet 1'!A28,Sep!I:I) -> 6 | L28: =IF(AND(C28<>"Ամբուլատորիա",C28<>"Պոլիկլինիկա"),500*K28*1.2,0) -> 3600 | M28: =+SUMIF(Sep!A:A,'Sheet 1'!A28,Sep!E:E) -> 42 | N28: =M28*1000*1.2 -> 50400 | O28: =I28+J28+L28+N28 -> 224816 | P28: =+F28*1.5% -> 221544.61 | Q28: =MIN(O28,P28) -> 221544.61 | R28: 0.7 | S28: =Q28*R28 -> 155081.23 | T28: =Q28-S28 -> 66463.383 | U28: =+Q28*12 -> 2658535.3 | V28: =S28*12 -> 1860974.7 | W28: =T28*12 -> 797560.6
A29: Արամյանց բժշկական կենտրոն ՓԲԸ | B29: Երևան | C29: Հիվանդանոց | D29: 3 | E29: Հիվանդանոց Երևան <=100m շրջ. ՄԱՍՆԱՎՈՐ | F29: 13760720 | H29: =SUMIF(Sep!A:A,'Sheet 1'!A29,Sep!N:N) -> 0 | I29: =IF(H29>0,(IF(H29<=10000,MIN(15000,H29*4),MIN(H29*4,75000))),0) -> 0 | J29: =IF(C29="Հիվանդանոց",80000,IF(C29="Բժշկական կենտրոն",IF(M29>2000,150000,130000),IF(C29="Շտապ բուժօգնություն",50000,IF(C29="ատամնաբուժարան",IF(M29<=200,7000,IF(AND(M29>200,M29<=500),15000,2000)),IF(C29="առողջարան",50000)))))*1.2 -> 96000 | K29: =SUMIF(Sep!A:A,'Sheet 1'!A29,Sep!I:I) -> 3 | L29: =IF(AND(C29<>"Ամբուլատորիա",C29<>"Պոլիկլինիկա"),500*K29*1.2,0) -> 1800 | M29: =+SUMIF(Sep!A:A,'Sheet 1'!A29,Sep!E:E) -> 76 | N29: =M29*1000*1.2 -> 91200 | O29: =I29+J29+L29+N29 -> 189000 | P29: =+F29*1.5% -> 206410.8 | Q29: =MIN(O29,P29) -> 189000 | R29: 0.7 | S29: =Q29*R29 -> 132300 | T29: =Q29-S29 -> 56700 | U29: =+Q29*12 -> 2268000 | V29: =S29*12 -> 1587600 | W29: =T29*12 -> 680400
A30: Բեգլարյան բժշկական կենտրոն ՓԲԸ | B30: Երևան | C30: Հիվանդանոց | D30: 3 | E30: Հիվանդանոց Երևան <=100m շրջ. ՄԱՍՆԱՎՈՐ | F30: 30245731 | H30: =SUMIF(Sep!A:A,'Sheet 1'!A30,Sep!N:N) -> 0 | I30: =IF(H30>0,(IF(H30<=10000,MIN(15000,H30*4),MIN(H30*4,75000))),0) -> 0 | J30: =IF(C30="Հիվանդանոց",80000,IF(C30="Բժշկական կենտրոն",IF(M30>2000,150000,130000),IF(C30="Շտապ բուժօգնություն",50000,IF(C30="ատամնաբուժարան",IF(M30<=200,7000,IF(AND(M30>200,M30<=500),15000,2000)),IF(C30="առողջարան",50000)))))*1.2 -> 96000 | K30: =SUMIF(Sep!A:A,'Sheet 1'!A30,Sep!I:I) -> 10 | L30: =IF(AND(C30<>"Ամբուլատորիա",C30<>"Պոլիկլինիկա"),500*K30*1.2,0) -> 6000 | M30: =+SUMIF(Sep!A:A,'Sheet 1'!A30,Sep!E:E) -> 217 | N30: =M30*1000*1.2 -> 260400 | O30: =I30+J30+L30+N30 -> 362400 | P30: =+F30*1.5% -> 453685.97 | Q30: =MIN(O30,P30) -> 362400 | R30: 0.7 | S30: =Q30*R30 -> 253680 | T30: =Q30-S30 -> 108720 | U30: =+Q30*12 -> 4348800 | V30: =S30*12 -> 3044160 | W30: =T30*12 -> 1304640
A31: ԷլենՆարե ծննդօգնության կենտրոն ՍՊԸ | B31: Երևան | C31: Հիվանդանոց | D31: 3 | E31: Հիվանդանոց Երևան <=100m շրջ. ՄԱՍՆԱՎՈՐ | F31: 11379475 | H31: =SUMIF(Sep!A:A,'Sheet 1'!A31,Sep!N:N) -> 0 | I31: =IF(H31>0,(IF(H31<=10000,MIN(15000,H31*4),MIN(H31*4,75000))),0) -> 0 | J31: =IF(C31="Հիվանդանոց",80000,IF(C31="Բժշկական կենտրոն",IF(M31>2000,150000,130000),IF(C31="Շտապ բուժօգնություն",50000,IF(C31="ատամնաբուժարան",IF(M31<=200,7000,IF(AND(M31>200,M31<=500),15000,2000)),IF(C31="առողջարան",50000)))))*1.2 -> 96000 | K31: =SUMIF(Sep!A:A,'Sheet 1'!A31,Sep!I:I) -> 5 | L31: =IF(AND(C31<>"Ամբուլատորիա",C31<>"Պոլիկլինիկա"),500*K31*1.2,0) -> 3000 | M31: =+SUMIF(Sep!A:A,'Sheet 1'!A31,Sep!E:E) -> 99 | N31: =M31*1000*1.2 -> 118800 | O31: =I31+J31+L31+N31 -> 217800 | P31: =+F31*1.5% -> 170692.12 | Q31: =MIN(O31,P31) -> 170692.12 | R31: 0.7 | S31: =Q31*R31 -> 119484.49 | T31: =Q31-S31 -> 51207.638 | U31: =+Q31*12 -> 2048305.5 | V31: =S31*12 -> 1433813.8 | W31: =T31*12 -> 614491.65
A32: Հանրապետական անձավաբուժական կենտրոն ՓԲԸ | B32: Երևան | C32: Հիվանդանոց | D32: 3 | E32: Հիվանդանոց Երևան <=100m շրջ. ՄԱՍՆԱՎՈՐ | F32: 2399512.5 | H32: =SUMIF(Sep!A:A,'Sheet 1'!A32,Sep!N:N) -> 0 | I32: =IF(H32>0,(IF(H32<=10000,MIN(15000,H32*4),MIN(H32*4,75000))),0) -> 0 | J32: =IF(C32="Հիվանդանոց",80000,IF(C32="Բժշկական կենտրոն",IF(M32>2000,150000,130000),IF(C32="Շտապ բուժօգնություն",50000,IF(C32="ատամնաբուժարան",IF(M32<=200,7000,IF(AND(M32>200,M32<=500),15000,2000)),IF(C32="առողջարան",50000)))))*1.2 -> 96000 | K32: =SUMIF(Sep!A:A,'Sheet 1'!A32,Sep!I:I) -> 3 | L32: =IF(AND(C32<>"Ամբուլատորիա",C32<>"Պոլիկլինիկա"),500*K32*1.2,0) -> 1800 | M32: =+SUMIF(Sep!A:A,'Sheet 1'!A32,Sep!E:E) -> 0 | N32: =M32*1000*1.2 -> 0 | O32: =I32+J32+L32+N32 -> 97800 | P32: =+F32*1.5% -> 35992.688 | Q32: =MIN(O32,P32) -> 35992.688 | R32: 0.7 | S32: =Q32*R32 -> 25194.881 | T32: =Q32-S32 -> 10797.806 | U32: =+Q32*12 -> 431912.25 | V32: =S32*12 -> 302338.57 | W32: =T32*12 -> 129573.68
A33: Հանրապետական մանկական վերականգնողական կենտրոն ՓԲԸ | B33: Երևան | C33: Հիվանդանոց | D33: 3 | E33: Հիվանդանոց Երևան <=100m շրջ. ՄԱՍՆԱՎՈՐ | F33: 8676315.8 | H33: =SUMIF(Sep!A:A,'Sheet 1'!A33,Sep!N:N) -> 0 | I33: =IF(H33>0,(IF(H33<=10000,MIN(15000,H33*4),MIN(H33*4,75000))),0) -> 0 | J33: =IF(C33="Հիվանդանոց",80000,IF(C33="Բժշկական կենտրոն",IF(M33>2000,150000,130000),IF(C33="Շտապ բուժօգնություն",50000,IF(C33="ատամնաբուժարան",IF(M33<=200,7000,IF(AND(M33>200,M33<=500),15000,2000)),IF(C33="առողջարան",50000)))))*1.2 -> 96000 | K33: =SUMIF(Sep!A:A,'Sheet 1'!A33,Sep!I:I) -> 5 | L33: =IF(AND(C33<>"Ամբուլատորիա",C33<>"Պոլիկլինիկա"),500*K33*1.2,0) -> 3000 | M33: =+SUMIF(Sep!A:A,'Sheet 1'!A33,Sep!E:E) -> 11 | N33: =M33*1000*1.2 -> 13200 | O33: =I33+J33+L33+N33 -> 112200 | P33: =+F33*1.5% -> 130144.74 | Q33: =MIN(O33,P33) -> 112200 | R33: 0.7 | S33: =Q33*R33 -> 78540 | T33: =Q33-S33 -> 33660 | U33: =+Q33*12 -> 1346400 | V33: =S33*12 -> 942480 | W33: =T33*12 -> 403920
A34: Միքայելյան վիրաբուժության ինստիտուտ ՓԲԸ | B34: Երևան | C34: Հիվանդանոց | D34: 3 | E34: Հիվանդանոց Երևան <=100m շրջ. ՄԱՍՆԱՎՈՐ | F34: 9892949.7 | H34: =SUMIF(Sep!A:A,'Sheet 1'!A34,Sep!N:N) -> 0 | I34: =IF(H34>0,(IF(H34<=10000,MIN(15000,H34*4),MIN(H34*4,75000))),0) -> 0 | J34: =IF(C34="Հիվանդանոց",80000,IF(C34="Բժշկական կենտրոն",IF(M34>2000,150000,130000),IF(C34="Շտապ բուժօգնություն",50000,IF(C34="ատամնաբուժարան",IF(M34<=200,7000,IF(AND(M34>200,M34<=500),15000,2000)),IF(C34="առողջարան",50000)))))*1.2 -> 96000 | K34: =SUMIF(Sep!A:A,'Sheet 1'!A34,Sep!I:I) -> 6 | L34: =IF(AND(C34<>"Ամբուլատորիա",C34<>"Պոլիկլինիկա"),500*K34*1.2,0) -> 3600 | M34: =+SUMIF(Sep!A:A,'Sheet 1'!A34,Sep!E:E) -> 59 | N34: =M34*1000*1.2 -> 70800 | O34: =I34+J34+L34+N34 -> 170400 | P34: =+F34*1.5% -> 148394.24 | Q34: =MIN(O34,P34) -> 148394.24 | R34: 0.7 | S34: =Q34*R34 -> 103875.97 | T34: =Q34-S34 -> 44518.274 | U34: =+Q34*12 -> 1780730.9 | V34: =S34*12 -> 1246511.7 | W34: =T34*12 -> 534219.28
A35: Նաիրի ԲԱՄ ՓԲԸ | B35: Երևան | C35: Հիվանդանոց | D35: 3 | E35: Հիվանդանոց Երևան <=100m շրջ. ՄԱՍՆԱՎՈՐ | F35: 14059170 | H35: =SUMIF(Sep!A:A,'Sheet 1'!A35,Sep!N:N) -> 0 | I35: =IF(H35>0,(IF(H35<=10000,MIN(15000,H35*4),MIN(H35*4,75000))),0) -> 0 | J35: =IF(C35="Հիվանդանոց",80000,IF(C35="Բժշկական կենտրոն",IF(M35>2000,150000,130000),IF(C35="Շտապ բուժօգնություն",50000,IF(C35="ատամնաբուժարան",IF(M35<=200,7000,IF(AND(M35>200,M35<=500),15000,2000)),IF(C35="առողջարան",50000)))))*1.2 -> 96000 | K35: =SUMIF(Sep!A:A,'Sheet 1'!A35,Sep!I:I) -> 5 | L35: =IF(AND(C35<>"Ամբուլատորիա",C35<>"Պոլիկլինիկա"),500*K35*1.2,0) -> 3000 | M35: =+SUMIF(Sep!A:A,'Sheet 1'!A35,Sep!E:E) -> 42 | N35: =M35*1000*1.2 -> 50400 | O35: =I35+J35+L35+N35 -> 149400 | P35: =+F35*1.5% -> 210887.55 | Q35: =MIN(O35,P35) -> 149400 | R35: 0.7 | S35: =Q35*R35 -> 104580 | T35: =Q35-S35 -> 44820 | U35: =+Q35*12 -> 1792800 | V35: =S35*12 -> 1254960 | W35: =T35*12 -> 537840
A36: Ս. Սարգսյան և գործընկերներ ՍՊԸ | B36: Երևան | C36: Հիվանդանոց | D36: 3 | E36: Հիվանդանոց Երևան <=100m շրջ. ՄԱՍՆԱՎՈՐ | F36: 6391607.2 | H36: =SUMIF(Sep!A:A,'Sheet 1'!A36,Sep!N:N) -> 0 | I36: =IF(H36>0,(IF(H36<=10000,MIN(15000,H36*4),MIN(H36*4,75000))),0) -> 0 | J36: =IF(C36="Հիվանդանոց",80000,IF(C36="Բժշկական կենտրոն",IF(M36>2000,150000,130000),IF(C36="Շտապ բուժօգնություն",50000,IF(C36="ատամնաբուժարան",IF(M36<=200,7000,IF(AND(M36>200,M36<=500),15000,2000)),IF(C36="առողջարան",50000)))))*1.2 -> 96000 | K36: =SUMIF(Sep!A:A,'Sheet 1'!A36,Sep!I:I) -> 2 | L36: =IF(AND(C36<>"Ամբուլատորիա",C36<>"Պոլիկլինիկա"),500*K36*1.2,0) -> 1200 | M36: =+SUMIF(Sep!A:A,'Sheet 1'!A36,Sep!E:E) -> 70 | N36: =M36*1000*1.2 -> 84000 | O36: =I36+J36+L36+N36 -> 181200 | P36: =+F36*1.5% -> 95874.109 | Q36: =MIN(O36,P36) -> 95874.109 | R36: 0.7 | S36: =Q36*R36 -> 67111.876 | T36: =Q36-S36 -> 28762.233 | U36: =+Q36*12 -> 1150489.3 | V36: =S36*12 -> 805342.51 | W36: =T36*12 -> 345146.79
A37: Սլավմեդ ՍՊԸ | B37: Երևան | C37: Հիվանդանոց | D37: 3 | E37: Հիվանդանոց Երևան <=100m շրջ. ՄԱՍՆԱՎՈՐ | F37: 8891838.7 | H37: =SUMIF(Sep!A:A,'Sheet 1'!A37,Sep!N:N) -> 0 | I37: =IF(H37>0,(IF(H37<=10000,MIN(15000,H37*4),MIN(H37*4,75000))),0) -> 0 | J37: =IF(C37="Հիվանդանոց",80000,IF(C37="Բժշկական կենտրոն",IF(M37>2000,150000,130000),IF(C37="Շտապ բուժօգնություն",50000,IF(C37="ատամնաբուժարան",IF(M37<=200,7000,IF(AND(M37>200,M37<=500),15000,2000)),IF(C37="առողջարան",50000)))))*1.2 -> 96000 | K37: =SUMIF(Sep!A:A,'Sheet 1'!A37,Sep!I:I) -> 4 | L37: =IF(AND(C37<>"Ամբուլատորիա",C37<>"Պոլիկլինիկա"),500*K37*1.2,0) -> 2400 | M37: =+SUMIF(Sep!A:A,'Sheet 1'!A37,Sep!E:E) -> 54 | N37: =M37*1000*1.2 -> 64800 | O37: =I37+J37+L37+N37 -> 163200 | P37: =+F37*1.5% -> 133377.58 | Q37: =MIN(O37,P37) -> 133377.58 | R37: 0.7 | S37: =Q37*R37 -> 93364.306 | T37: =Q37-S37 -> 40013.274 | U37: =+Q37*12 -> 1600531 | V37: =S37*12 -> 1120371.7 | W37: =T37*12 -> 480159.29
A38: Քանկոր սիրտ-անոթային բժշկական կենտրոն ՍՊԸ | B38: Երևան | C38: Հիվանդանոց | D38: 3 | E38: Հիվանդանոց Երևան <=100m շրջ. ՄԱՍՆԱՎՈՐ | F38: 5890012.2 | H38: =SUMIF(Sep!A:A,'Sheet 1'!A38,Sep!N:N) -> 0 | I38: =IF(H38>0,(IF(H38<=10000,MIN(15000,H38*4),MIN(H38*4,75000))),0) -> 0 | J38: =IF(C38="Հիվանդանոց",80000,IF(C38="Բժշկական կենտրոն",IF(M38>2000,150000,130000),IF(C38="Շտապ բուժօգնություն",50000,IF(C38="ատամնաբուժարան",IF(M38<=200,7000,IF(AND(M38>200,M38<=500),15000,2000)),IF(C38="առողջարան",50000)))))*1.2 -> 96000 | K38: =SUMIF(Sep!A:A,'Sheet 1'!A38,Sep!I:I) -> 3 | L38: =IF(AND(C38<>"Ամբուլատորիա",C38<>"Պոլիկլինիկա"),500*K38*1.2,0) -> 1800 | M38: =+SUMIF(Sep!A:A,'Sheet 1'!A38,Sep!E:E) -> 0 | N38: =M38*1000*1.2 -> 0 | O38: =I38+J38+L38+N38 -> 97800 | P38: =+F38*1.5% -> 88350.182 | Q38: =MIN(O38,P38) -> 88350.182 | R38: 0.7 | S38: =Q38*R38 -> 61845.128 | T38: =Q38-S38 -> 26505.055 | U38: =+Q38*12 -> 1060202.2 | V38: =S38*12 -> 742141.53 | W38: =T38*12 -> 318060.66
A39: Ավան հոգեկան առողջության կենտրոն ՓԲԸ | B39: Երևան | C39: Բժշկական կենտրոն | D39: 4 | E39: Հիվանդանոց Երևան <=100m շրջ. ՊԵՏԱԿԱՆ | F39: 24935917 | H39: =SUMIF(Sep!A:A,'Sheet 1'!A39,Sep!N:N) -> 0 | I39: =IF(H39>0,(IF(H39<=10000,MIN(15000,H39*4),MIN(H39*4,75000))),0) -> 0 | J39: =IF(C39="Հիվանդանոց",80000,IF(C39="Բժշկական կենտրոն",IF(M39>2000,150000,130000),IF(C39="Շտապ բուժօգնություն",50000,IF(C39="ատամնաբուժարան",IF(M39<=200,7000,IF(AND(M39>200,M39<=500),15000,2000)),IF(C39="առողջարան",50000)))))*1.2 -> 156000 | K39: =SUMIF(Sep!A:A,'Sheet 1'!A39,Sep!I:I) -> 3 | L39: =IF(AND(C39<>"Ամբուլատորիա",C39<>"Պոլիկլինիկա"),500*K39*1.2,0) -> 1800 | M39: =+SUMIF(Sep!A:A,'Sheet 1'!A39,Sep!E:E) -> 93 | N39: =M39*1000*1.2 -> 111600 | O39: =I39+J39+L39+N39 -> 269400 | P39: =+F39*1.5% -> 374038.75 | Q39: =MIN(O39,P39) -> 269400 | R39: 0.7 | S39: =Q39*R39 -> 188580 | T39: =Q39-S39 -> 80820 | U39: =+Q39*12 -> 3232800 | V39: =S39*12 -> 2262960 | W39: =T39*12 -> 969840
A40: Մաշկաբանության և սեռավարակաբանության ԲԳԿ ՓԲԸ | B40: Երևան | C40: Բժշկական կենտրոն | D40: 4 | E40: Հիվանդանոց Երևան <=100m շրջ. ՊԵՏԱԿԱՆ | F40: 12556750 | H40: =SUMIF(Sep!A:A,'Sheet 1'!A40,Sep!N:N) -> 0 | I40: =IF(H40>0,(IF(H40<=10000,MIN(15000,H40*4),MIN(H40*4,75000))),0) -> 0 | J40: =IF(C40="Հիվանդանոց",80000,IF(C40="Բժշկական կենտրոն",IF(M40>2000,150000,130000),IF(C40="Շտապ բուժօգնություն",50000,IF(C40="ատամնաբուժարան",IF(M40<=200,7000,IF(AND(M40>200,M40<=500),15000,2000)),IF(C40="առողջարան",50000)))))*1.2 -> 156000 | K40: =SUMIF(Sep!A:A,'Sheet 1'!A40,Sep!I:I) -> 5 | L40: =IF(AND(C40<>"Ամբուլատորիա",C40<>"Պոլիկլինիկա"),500*K40*1.2,0) -> 3000 | M40: =+SUMIF(Sep!A:A,'Sheet 1'!A40,Sep!E:E) -> 44 | N40: =M40*1000*1.2 -> 52800 | O40: =I40+J40+L40+N40 -> 211800 | P40: =+F40*1.5% -> 188351.25 | Q40: =MIN(O40,P40) -> 188351.25 | R40: 0.7 | S40: =Q40*R40 -> 131845.88 | T40: =Q40-S40 -> 56505.375 | U40: =+Q40*12 -> 2260215 | V40: =S40*12 -> 1582150.5 | W40: =T40*12 -> 678064.5
... A44: Սուրբ Աստվածածին ծննդատուն ՓԲԸ | B44: Երևան | C44: Բժշկական կենտրոն | D44: 4 | E44: Հիվանդանոց Երևան <=100m շրջ. ՊԵՏԱԿԱՆ | F44: 4931110.8 | H44: =SUMIF(Sep!A:A,'Sheet 1'!A44,Sep!N:N) -> 720 | I44: =IF(H44>0,(IF(H44<=10000,MIN(15000,H44*4),MIN(H44*4,75000))),0) -> 2880 | J44: =IF(C44="Հիվանդանոց",80000,IF(C44="Բժշկական կենտրոն",IF(M44>2000,150000,130000),IF(C44="Շտապ բուժօգնություն",50000,IF(C44="ատամնաբուժարան",IF(M44<=200,7000,IF(AND(M44>200,M44<=500),15000,2000)),IF(C44="առողջարան",50000)))))*1.2 -> 156000 | K44: =SUMIF(Sep!A:A,'Sheet 1'!A44,Sep!I:I) -> 7 | L44: =IF(AND(C44<>"Ամբուլատորիա",C44<>"Պոլիկլինիկա"),500*K44*1.2,0) -> 4200 | M44: =+SUMIF(Sep!A:A,'Sheet 1'!A44,Sep!E:E) -> 33 | N44: =M44*1000*1.2 -> 39600 | O44: =I44+J44+L44+N44 -> 202680 | P44: =+F44*1.5% -> 73966.661 | Q44: =MIN(O44,P44) -> 73966.661 | R44: 0.7 | S44: =Q44*R44 -> 51776.663 | T44: =Q44-S44 -> 22189.998 | U44: =+Q44*12 -> 887599.93 | V44: =S44*12 -> 621319.95 | W44: =T44*12 -> 266279.98
A45: Գրիգոր Նարեկացի բժշկական կենտրոն ՓԲԸ | B45: Երևան | C45: Բժշկական կենտրոն | D45: 4 | E45: Հիվանդանոց Երևան <=100m շրջ. ՊԵՏԱԿԱՆ | F45: 32842450 | G45: 11357 | H45: =SUMIF(Sep!A:A,'Sheet 1'!A45,Sep!N:N) -> 11371 | I45: =IF(H45>0,(IF(H45<=10000,MIN(15000,H45*4),MIN(H45*4,75000))),0) -> 45484 | J45: =IF(C45="Հիվանդանոց",80000,IF(C45="Բժշկական կենտրոն",IF(M45>2000,150000,130000),IF(C45="Շտապ բուժօգնություն",50000,IF(C45="ատամնաբուժարան",IF(M45<=200,7000,IF(AND(M45>200,M45<=500),15000,2000)),IF(C45="առողջարան",50000)))))*1.2 -> 156000 | K45: =SUMIF(Sep!A:A,'Sheet 1'!A45,Sep!I:I) -> 6 | L45: =IF(AND(C45<>"Ամբուլատորիա",C45<>"Պոլիկլինիկա"),500*K45*1.2,0) -> 3600 | M45: =+SUMIF(Sep!A:A,'Sheet 1'!A45,Sep!E:E) -> 190 | N45: =M45*1000*1.2 -> 228000 | O45: =I45+J45+L45+N45 -> 433084 | P45: =+F45*1.5% -> 492636.75 | Q45: =MIN(O45,P45) -> 433084 | R45: 0.7 | S45: =Q45*R45 -> 303158.8 | T45: =Q45-S45 -> 129925.2 | U45: =+Q45*12 -> 5197008 | V45: =S45*12 -> 3637905.6 | W45: =T45*12 -> 1559102.4
A46: Վ.Ա.Ֆանարջյանի անվան ուռուցքաբանության ազգային կենտրոն ՓԲԸ | B46: Երևան | C46: Բժշկական կենտրոն | D46: 4 | E46: Հիվանդանոց Երևան <=100m շրջ. ՊԵՏԱԿԱՆ | F46: 78548694 | H46: =SUMIF(Sep!A:A,'Sheet 1'!A46,Sep!N:N) -> 0 | I46: =IF(H46>0,(IF(H46<=10000,MIN(15000,H46*4),MIN(H46*4,75000))),0) -> 0 | J46: =IF(C46="Հիվանդանոց",80000,IF(C46="Բժշկական կենտրոն",IF(M46>2000,150000,130000),IF(C46="Շտապ բուժօգնություն",50000,IF(C46="ատամնաբուժարան",IF(M46<=200,7000,IF(AND(M46>200,M46<=500),15000,2000)),IF(C46="առողջարան",50000)))))*1.2 -> 156000 | K46: =SUMIF(Sep!A:A,'Sheet 1'!A46,Sep!I:I) -> 11 | L46: =IF(AND(C46<>"Ամբուլատորիա",C46<>"Պոլիկլինիկա"),500*K46*1.2,0) -> 6600 | M46: =+SUMIF(Sep!A:A,'Sheet 1'!A46,Sep!E:E) -> 321 | N46: =M46*1000*1.2 -> 385200 | O46: =I46+J46+L46+N46 -> 547800 | P46: =+F46*1.5% -> 1178230.4 | Q46: =MIN(O46,P46) -> 547800 | R46: 0.7 | S46: =Q46*R46 -> 383460 | T46: =Q46-S46 -> 164340 | U46: =+Q46*12 -> 6573600 | V46: =S46*12 -> 4601520 | W46: =T46*12 -> 1972080
A47: Արմենիկում ՓԲԸ | B47: Երևան | C47: Հիվանդանոց | D47: 4 | E47: Հիվանդանոց Երևան <=100m շրջ. ՊԵՏԱԿԱՆ | F47: 15746007 | H47: =SUMIF(Sep!A:A,'Sheet 1'!A47,Sep!N:N) -> 0 | I47: =IF(H47>0,(IF(H47<=10000,MIN(15000,H47*4),MIN(H47*4,75000))),0) -> 0 | J47: =IF(C47="Հիվանդանոց",80000,IF(C47="Բժշկական կենտրոն",IF(M47>2000,150000,130000),IF(C47="Շտապ բուժօգնություն",50000,IF(C47="ատամնաբուժարան",IF(M47<=200,7000,IF(AND(M47>200,M47<=500),15000,2000)),IF(C47="առողջարան",50000)))))*1.2 -> 96000 | K47: =SUMIF(Sep!A:A,'Sheet 1'!A47,Sep!I:I) -> 3 | L47: =IF(AND(C47<>"Ամբուլատորիա",C47<>"Պոլիկլինիկա"),500*K47*1.2,0) -> 1800 | M47: =+SUMIF(Sep!A:A,'Sheet 1'!A47,Sep!E:E) -> 77 | N47: =M47*1000*1.2 -> 92400 | O47: =I47+J47+L47+N47 -> 190200 | P47: =+F47*1.5% -> 236190.1 | Q47: =MIN(O47,P47) -> 190200 | R47: 0.7 | S47: =Q47*R47 -> 133140 | T47: =Q47-S47 -> 57060 | U47: =+Q47*12 -> 2282400 | V47: =S47*12 -> 1597680 | W47: =T47*12 -> 684720
A48: Լ.Հովհաննիսյանի անվան սրտաբանության գիտահետազոտական ինստիտուտ ՓԲԸ | B48: Երևան | C48: Հիվանդանոց | D48: 4 | E48: Հիվանդանոց Երևան <=100m շրջ. ՊԵՏԱԿԱՆ | F48: 22100829 | H48: =SUMIF(Sep!A:A,'Sheet 1'!A48,Sep!N:N) -> 0 | I48: =IF(H48>0,(IF(H48<=10000,MIN(15000,H48*4),MIN(H48*4,75000))),0) -> 0 | J48: =IF(C48="Հիվանդանոց",80000,IF(C48="Բժշկական կենտրոն",IF(M48>2000,150000,130000),IF(C48="Շտապ բուժօգնություն",50000,IF(C48="ատամնաբուժարան",IF(M48<=200,7000,IF(AND(M48>200,M48<=500),15000,2000)),IF(C48="առողջարան",50000)))))*1.2 -> 96000 | K48: =SUMIF(Sep!A:A,'Sheet 1'!A48,Sep!I:I) -> 6 | L48: =IF(AND(C48<>"Ամբուլատորիա",C48<>"Պոլիկլինիկա"),500*K48*1.2,0) -> 3600 | M48: =+SUMIF(Sep!A:A,'Sheet 1'!A48,Sep!E:E) -> 48 | N48: =M48*1000*1.2 -> 57600 | O48: =I48+J48+L48+N48 -> 157200 | P48: =+F48*1.5% -> 331512.44 | Q48: =MIN(O48,P48) -> 157200 | R48: 0.7 | S48: =Q48*R48 -> 110040 | T48: =Q48-S48 -> 47160 | U48: =+Q48*12 -> 1886400 | V48: =S48*12 -> 1320480 | W48: =T48*12 -> 565920
A49: Կուրորտաբանության և ֆիզիկական բժշկության ԳՀԻ ՓԲԸ | B49: Երևան | C49: Հիվանդանոց | D49: 4 | E49: Հիվանդանոց Երևան <=100m շրջ. ՊԵՏԱԿԱՆ | F49: 25137892 | H49: =SUMIF(Sep!A:A,'Sheet 1'!A49,Sep!N:N) -> 0 | I49: =IF(H49>0,(IF(H49<=10000,MIN(15000,H49*4),MIN(H49*4,75000))),0) -> 0 | J49: =IF(C49="Հիվանդանոց",80000,IF(C49="Բժշկական կենտրոն",IF(M49>2000,150000,130000),IF(C49="Շտապ բուժօգնություն",50000,IF(C49="ատամնաբուժարան",IF(M49<=200,7000,IF(AND(M49>200,M49<=500),15000,2000)),IF(C49="առողջարան",50000)))))*1.2 -> 96000 | K49: =SUMIF(Sep!A:A,'Sheet 1'!A49,Sep!I:I) -> 5 | L49: =IF(AND(C49<>"Ամբուլատորիա",C49<>"Պոլիկլինիկա"),500*K49*1.2,0) -> 3000 | M49: =+SUMIF(Sep!A:A,'Sheet 1'!A49,Sep!E:E) -> 198 | N49: =M49*1000*1.2 -> 237600 | O49: =I49+J49+L49+N49 -> 336600 | P49: =+F49*1.5% -> 377068.38 | Q49: =MIN(O49,P49) -> 336600 | R49: 0.7 | S49: =Q49*R49 -> 235620 | T49: =Q49-S49 -> 100980 | U49: =+Q49*12 -> 4039200 | V49: =S49*12 -> 2827440 | W49: =T49*12 -> 1211760
A50: Հակատուբերկուլյոզային դիսպանսեր ՓԲԸ | B50: Երևան | C50: Հիվանդանոց | D50: 4 | E50: Հիվանդանոց Երևան <=100m շրջ. ՊԵՏԱԿԱՆ | F50: 14641283 | H50: =SUMIF(Sep!A:A,'Sheet 1'!A50,Sep!N:N) -> 0 | I50: =IF(H50>0,(IF(H50<=10000,MIN(15000,H50*4),MIN(H50*4,75000))),0) -> 0 | J50: =IF(C50="Հիվանդանոց",80000,IF(C50="Բժշկական կենտրոն",IF(M50>2000,150000,130000),IF(C50="Շտապ բուժօգնություն",50000,IF(C50="ատամնաբուժարան",IF(M50<=200,7000,IF(AND(M50>200,M50<=500),15000,2000)),IF(C50="առողջարան",50000)))))*1.2 -> 96000 | K50: =SUMIF(Sep!A:A,'Sheet 1'!A50,Sep!I:I) -> 3 | L50: =IF(AND(C50<>"Ամբուլատորիա",C50<>"Պոլիկլինիկա"),500*K50*1.2,0) -> 1800 | M50: =+SUMIF(Sep!A:A,'Sheet 1'!A50,Sep!E:E) -> 30 | N50: =M50*1000*1.2 -> 36000 | O50: =I50+J50+L50+N50 -> 133800 | P50: =+F50*1.5% -> 219619.24 | Q50: =MIN(O50,P50) -> 133800 | R50: 0.7 | S50: =Q50*R50 -> 93660 | T50: =Q50-S50 -> 40140 | U50: =+Q50*12 -> 1605600 | V50: =S50*12 -> 1123920 | W50: =T50*12 -> 481680
A51: Ճառագայթային բժշկության և այրվածքների գիտական կենտրոն ՓԲԸ | B51: Երևան | C51: Հիվանդանոց | D51: 4 | E51: Հիվանդանոց Երևան <=100m շրջ. ՊԵՏԱԿԱՆ | F51: 26911133 | H51: =SUMIF(Sep!A:A,'Sheet 1'!A51,Sep!N:N) -> 0 | I51: =IF(H51>0,(IF(H51<=10000,MIN(15000,H51*4),MIN(H51*4,75000))),0) -> 0 | J51: =IF(C51="Հիվանդանոց",80000,IF(C51="Բժշկական կենտրոն",IF(M51>2000,150000,130000),IF(C51="Շտապ բուժօգնություն",50000,IF(C51="ատամնաբուժարան",IF(M51<=200,7000,IF(AND(M51>200,M51<=500),15000,2000)),IF(C51="առողջարան",50000)))))*1.2 -> 96000 | K51: =SUMIF(Sep!A:A,'Sheet 1'!A51,Sep!I:I) -> 3 | L51: =IF(AND(C51<>"Ամբուլատորիա",C51<>"Պոլիկլինիկա"),500*K51*1.2,0) -> 1800 | M51: =+SUMIF(Sep!A:A,'Sheet 1'!A51,Sep!E:E) -> 89 | N51: =M51*1000*1.2 -> 106800 | O51: =I51+J51+L51+N51 -> 204600 | P51: =+F51*1.5% -> 403666.99 | Q51: =MIN(O51,P51) -> 204600 | R51: 0.7 | S51: =Q51*R51 -> 143220 | T51: =Q51-S51 -> 61380 | U51: =+Q51*12 -> 2455200 | V51: =S51*12 -> 1718640 | W51: =T51*12 -> 736560
A52: Նևրոզների կլինիկա ՓԲԸ | B52: Երևան | C52: Հիվանդանոց | D52: 4 | E52: Հիվանդանոց Երևան <=100m շրջ. ՊԵՏԱԿԱՆ | F52: 6317713 | H52: =SUMIF(Sep!A:A,'Sheet 1'!A52,Sep!N:N) -> 0 | I52: =IF(H52>0,(IF(H52<=10000,MIN(15000,H52*4),MIN(H52*4,75000))),0) -> 0 | J52: =IF(C52="Հիվանդանոց",80000,IF(C52="Բժշկական կենտրոն",IF(M52>2000,150000,130000),IF(C52="Շտապ բուժօգնություն",50000,IF(C52="ատամնաբուժարան",IF(M52<=200,7000,IF(AND(M52>200,M52<=500),15000,2000)),IF(C52="առողջարան",50000)))))*1.2 -> 96000 | K52: =SUMIF(Sep!A:A,'Sheet 1'!A52,Sep!I:I) -> 3 | L52: =IF(AND(C52<>"Ամբուլատորիա",C52<>"Պոլիկլինիկա"),500*K52*1.2,0) -> 1800 | M52: =+SUMIF(Sep!A:A,'Sheet 1'!A52,Sep!E:E) -> 36 | N52: =M52*1000*1.2 -> 43200 | O52: =I52+J52+L52+N52 -> 141000 | P52: =+F52*1.5% -> 94765.695 | Q52: =MIN(O52,P52) -> 94765.695 | R52: 0.7 | S52: =Q52*R52 -> 66335.986 | T52: =Q52-S52 -> 28429.709 | U52: =+Q52*12 -> 1137188.3 | V52: =S52*12 -> 796031.84 | W52: =T52*12 -> 341156.5
A53: Նորք ինֆեկցիոն կլինիկական հիվանդանոց ՓԲԸ | B53: Երևան | C53: Հիվանդանոց | D53: 4 | E53: Հիվանդանոց Երևան <=100m շրջ. ՊԵՏԱԿԱՆ | F53: 45139865 | H53: =SUMIF(Sep!A:A,'Sheet 1'!A53,Sep!N:N) -> 0 | I53: =IF(H53>0,(IF(H53<=10000,MIN(15000,H53*4),MIN(H53*4,75000))),0) -> 0 | J53: =IF(C53="Հիվանդանոց",80000,IF(C53="Բժշկական կենտրոն",IF(M53>2000,150000,130000),IF(C53="Շտապ բուժօգնություն",50000,IF(C53="ատամնաբուժարան",IF(M53<=200,7000,IF(AND(M53>200,M53<=500),15000,2000)),IF(C53="առողջարան",50000)))))*1.2 -> 96000 | K53: =SUMIF(Sep!A:A,'Sheet 1'!A53,Sep!I:I) -> 9 | L53: =IF(AND(C53<>"Ամբուլատորիա",C53<>"Պոլիկլինիկա"),500*K53*1.2,0) -> 5400 | M53: =+SUMIF(Sep!A:A,'Sheet 1'!A53,Sep!E:E) -> 812 | N53: =M53*1000*1.2 -> 974400 | O53: =I53+J53+L53+N53 -> 1075800 | P53: =+F53*1.5% -> 677097.97 | Q53: =MIN(O53,P53) -> 677097.97 | R53: 0.7 | S53: =Q53*R53 -> 473968.58 | T53: =Q53-S53 -> 203129.39 | U53: =+Q53*12 -> 8125175.7 | V53: =S53*12 -> 5687623 | W53: =T53*12 -> 2437552.7
A54: Նորք հոգեբուժական կենտրոն ՓԲԸ | B54: Երևան | C54: Հիվանդանոց | D54: 4 | E54: Հիվանդանոց Երևան <=100m շրջ. ՊԵՏԱԿԱՆ | F54: 34113083 | H54: =SUMIF(Sep!A:A,'Sheet 1'!A54,Sep!N:N) -> 0 | I54: =IF(H54>0,(IF(H54<=10000,MIN(15000,H54*4),MIN(H54*4,75000))),0) -> 0 | J54: =IF(C54="Հիվանդանոց",80000,IF(C54="Բժշկական կենտրոն",IF(M54>2000,150000,130000),IF(C54="Շտապ բուժօգնություն",50000,IF(C54="ատամնաբուժարան",IF(M54<=200,7000,IF(AND(M54>200,M54<=500),15000,2000)),IF(C54="առողջարան",50000)))))*1.2 -> 96000 | K54: =SUMIF(Sep!A:A,'Sheet 1'!A54,Sep!I:I) -> 3 | L54: =IF(AND(C54<>"Ամբուլատորիա",C54<>"Պոլիկլինիկա"),500*K54*1.2,0) -> 1800 | M54: =+SUMIF(Sep!A:A,'Sheet 1'!A54,Sep!E:E) -> 57 | N54: =M54*1000*1.2 -> 68400 | O54: =I54+J54+L54+N54 -> 166200 | P54: =+F54*1.5% -> 511696.25 | Q54: =MIN(O54,P54) -> 166200 | R54: 0.7 | S54: =Q54*R54 -> 116340 | T54: =Q54-S54 -> 49860 | U54: =+Q54*12 -> 1994400 | V54: =S54*12 -> 1396080 | W54: =T54*12 -> 598320
A55: Նուբարաշեն հոգեբուժական կենտրոն ՓԲԸ | B55: Երևան | C55: Հիվանդանոց | D55: 4 | E55: Հիվանդանոց Երևան <=100m շրջ. ՊԵՏԱԿԱՆ | F55: 65864333 | H55: =SUMIF(Sep!A:A,'Sheet 1'!A55,Sep!N:N) -> 0 | I55: =IF(H55>0,(IF(H55<=10000,MIN(15000,H55*4),MIN(H55*4,75000))),0) -> 0 | J55: =IF(C55="Հիվանդանոց",80000,IF(C55="Բժշկական կենտրոն",IF(M55>2000,150000,130000),IF(C55="Շտապ բուժօգնություն",50000,IF(C55="ատամնաբուժարան",IF(M55<=200,7000,IF(AND(M55>200,M55<=500),15000,2000)),IF(C55="առողջարան",50000)))))*1.2 -> 96000 | K55: =SUMIF(Sep!A:A,'Sheet 1'!A55,Sep!I:I) -> 3 | L55: =IF(AND(C55<>"Ամբուլատորիա",C55<>"Պոլիկլինիկա"),500*K55*1.2,0) -> 1800 | M55: =+SUMIF(Sep!A:A,'Sheet 1'!A55,Sep!E:E) -> 124 | N55: =M55*1000*1.2 -> 148800 | O55: =I55+J55+L55+N55 -> 246600 | P55: =+F55*1.5% -> 987965 | Q55: =MIN(O55,P55) -> 246600 | R55: 0.7 | S55: =Q55*R55 -> 172620 | T55: =Q55-S55 -> 73980 | U55: =+Q55*12 -> 2959200 | V55: =S55*12 -> 2071440 | W55: =T55*12 -> 887760
A56: Վնասվածքաբանության և օրթոպեդիայի գիտական կենտրոն ՊՓԲԸ | B56: Երևան | C56: Հիվանդանոց | D56: 4 | E56: Հիվանդանոց Երևան <=100m շրջ. ՊԵՏԱԿԱՆ | F56: 31611063 | H56: =SUMIF(Sep!A:A,'Sheet 1'!A56,Sep!N:N) -> 0 | I56: =IF(H56>0,(IF(H56<=10000,MIN(15000,H56*4),MIN(H56*4,75000))),0) -> 0 | J56: =IF(C56="Հիվանդանոց",80000,IF(C56="Բժշկական կենտրոն",IF(M56>2000,150000,130000),IF(C56="Շտապ բուժօգնություն",50000,IF(C56="ատամնաբուժարան",IF(M56<=200,7000,IF(AND(M56>200,M56<=500),15000,2000)),IF(C56="առողջարան",50000)))))*1.2 -> 96000 | K56: =SUMIF(Sep!A:A,'Sheet 1'!A56,Sep!I:I) -> 35 | L56: =IF(AND(C56<>"Ամբուլատորիա",C56<>"Պոլիկլինիկա"),500*K56*1.2,0) -> 21000 | M56: =+SUMIF(Sep!A:A,'Sheet 1'!A56,Sep!E:E) -> 276 | N56: =M56*1000*1.2 -> 331200 | O56: =I56+J56+L56+N56 -> 448200 | P56: =+F56*1.5% -> 474165.95 | Q56: =MIN(O56,P56) -> 448200 | R56: 0.7 | S56: =Q56*R56 -> 313740 | T56: =Q56-S56 -> 134460 | U56: =+Q56*12 -> 5378400 | V56: =S56*12 -> 3764880 | W56: =T56*12 -> 1613520
A57: Տուբերկուլոզի դեմ պայքարի ազգային կենտրոն ՊՈԱԿ | B57: Երևան | C57: Հիվանդանոց | D57: 4 | E57: Հիվանդանոց Երևան <=100m շրջ. ՊԵՏԱԿԱՆ | F57: 66605308 | H57: =SUMIF(Sep!A:A,'Sheet 1'!A57,Sep!N:N) -> 0 | I57: =IF(H57>0,(IF(H57<=10000,MIN(15000,H57*4),MIN(H57*4,75000))),0) -> 0 | J57: =IF(C57="Հիվանդանոց",80000,IF(C57="Բժշկական կենտրոն",IF(M57>2000,150000,130000),IF(C57="Շտապ բուժօգնություն",50000,IF(C57="ատամնաբուժարան",IF(M57<=200,7000,IF(AND(M57>200,M57<=500),15000,2000)),IF(C57="առողջարան",50000)))))*1.2 -> 96000 | K57: =SUMIF(Sep!A:A,'Sheet 1'!A57,Sep!I:I) -> 5 | L57: =IF(AND(C57<>"Ամբուլատորիա",C57<>"Պոլիկլինիկա"),500*K57*1.2,0) -> 3000 | M57: =+SUMIF(Sep!A:A,'Sheet 1'!A57,Sep!E:E) -> 97 | N57: =M57*1000*1.2 -> 116400 | O57: =I57+J57+L57+N57 -> 215400 | P57: =+F57*1.5% -> 999079.62 | Q57: =MIN(O57,P57) -> 215400 | R57: 0.7 | S57: =Q57*R57 -> 150780 | T57: =Q57-S57 -> 64620 | U57: =+Q57*12 -> 2584800 | V57: =S57*12 -> 1809360 | W57: =T57*12 -> 775440
... A60: Օշականի մանկական առողջարան ՓԲԸ | B60: Արագածոտն | C60: Առողջարան | D60: 5 | E60: Հիվանդանոց Մարզ | F60: 1158333.3 | H60: =SUMIF(Sep!A:A,'Sheet 1'!A60,Sep!N:N) -> 0 | I60: =IF(H60>0,(IF(H60<=10000,MIN(15000,H60*4),MIN(H60*4,75000))),0) -> 0 | J60: =IF(C60="Հիվանդանոց",80000,IF(C60="Բժշկական կենտրոն",IF(M60>2000,150000,130000),IF(C60="Շտապ բուժօգնություն",50000,IF(C60="ատամնաբուժարան",IF(M60<=200,7000,IF(AND(M60>200,M60<=500),15000,2000)),IF(C60="առողջարան",50000)))))*1.2 -> 60000 | K60: =SUMIF(Sep!A:A,'Sheet 1'!A60,Sep!I:I) -> 5 | L60: =IF(AND(C60<>"Ամբուլատորիա",C60<>"Պոլիկլինիկա"),500*K60*1.2,0) -> 3000 | M60: =+SUMIF(Sep!A:A,'Sheet 1'!A60,Sep!E:E) -> 0 | N60: =M60*1000*1.2 -> 0 | O60: =I60+J60+L60+N60 -> 63000 | P60: =+F60*1.5% -> 17375 | Q60: =MIN(O60,P60) -> 17375 | R60: 0.7 | S60: =Q60*R60 -> 12162.5 | T60: =Q60-S60 -> 5212.5 | U60: =+Q60*12 -> 208500 | V60: =S60*12 -> 145950 | W60: =T60*12 -> 62550
A61: Աշտարակի բժշկական կենտրոն ՓԲԸ | B61: Արագածոտն | C61: Բժշկական կենտրոն | D61: 5 | E61: Հիվանդանոց Մարզ | F61: 32887999 | G61: 18972 | H61: =SUMIF(Sep!A:A,'Sheet 1'!A61,Sep!N:N) -> 18981 | I61: =IF(H61>0,(IF(H61<=10000,MIN(15000,H61*4),MIN(H61*4,75000))),0) -> 75000 | J61: =IF(C61="Հիվանդանոց",80000,IF(C61="Բժշկական կենտրոն",IF(M61>2000,150000,130000),IF(C61="Շտապ բուժօգնություն",50000,IF(C61="ատամնաբուժարան",IF(M61<=200,7000,IF(AND(M61>200,M61<=500),15000,2000)),IF(C61="առողջարան",50000)))))*1.2 -> 156000 | K61: =SUMIF(Sep!A:A,'Sheet 1'!A61,Sep!I:I) -> 16 | L61: =IF(AND(C61<>"Ամբուլատորիա",C61<>"Պոլիկլինիկա"),500*K61*1.2,0) -> 9600 | M61: =+SUMIF(Sep!A:A,'Sheet 1'!A61,Sep!E:E) -> 177 | N61: =M61*1000*1.2 -> 212400 | O61: =I61+J61+L61+N61 -> 453000 | P61: =+F61*1.5% -> 493319.99 | Q61: =MIN(O61,P61) -> 453000 | R61: 0.7 | S61: =Q61*R61 -> 317100 | T61: =Q61-S61 -> 135900 | U61: =+Q61*12 -> 5436000 | V61: =S61*12 -> 3805200 | W61: =T61*12 -> 1630800
A62: Ապարանի բժշկական կենտրոն ՓԲԸ | B62: Արագածոտն | C62: Բժշկական կենտրոն | D62: 5 | E62: Հիվանդանոց Մարզ | F62: 19700040 | G62: 8635 | H62: =SUMIF(Sep!A:A,'Sheet 1'!A62,Sep!N:N) -> 8650 | I62: =IF(H62>0,(IF(H62<=10000,MIN(15000,H62*4),MIN(H62*4,75000))),0) -> 15000 | J62: =IF(C62="Հիվանդանոց",80000,IF(C62="Բժշկական կենտրոն",IF(M62>2000,150000,130000),IF(C62="Շտապ բուժօգնություն",50000,IF(C62="ատամնաբուժարան",IF(M62<=200,7000,IF(AND(M62>200,M62<=500),15000,2000)),IF(C62="առողջարան",50000)))))*1.2 -> 156000 | K62: =SUMIF(Sep!A:A,'Sheet 1'!A62,Sep!I:I) -> 15 | L62: =IF(AND(C62<>"Ամբուլատորիա",C62<>"Պոլիկլինիկա"),500*K62*1.2,0) -> 9000 | M62: =+SUMIF(Sep!A:A,'Sheet 1'!A62,Sep!E:E) -> 82 | N62: =M62*1000*1.2 -> 98400 | O62: =I62+J62+L62+N62 -> 278400 | P62: =+F62*1.5% -> 295500.6 | Q62: =MIN(O62,P62) -> 278400 | R62: 0.7 | S62: =Q62*R62 -> 194880 | T62: =Q62-S62 -> 83520 | U62: =+Q62*12 -> 3340800 | V62: =S62*12 -> 2338560 | W62: =T62*12 -> 1002240
A63: Արագածի առողջության կենտրոն ՀՈԱԿ | B63: Արագածոտն | C63: Բժշկական կենտրոն | D63: 5 | E63: Հիվանդանոց Մարզ | F63: 3082298.4 | G63: 3861 | H63: =SUMIF(Sep!A:A,'Sheet 1'!A63,Sep!N:N) -> 3863 | I63: =IF(H63>0,(IF(H63<=10000,MIN(15000,H63*4),MIN(H63*4,75000))),0) -> 15000 | J63: =IF(C63="Հիվանդանոց",80000,IF(C63="Բժշկական կենտրոն",IF(M63>2000,150000,130000),IF(C63="Շտապ բուժօգնություն",50000,IF(C63="ատամնաբուժարան",IF(M63<=200,7000,IF(AND(M63>200,M63<=500),15000,2000)),IF(C63="առողջարան",50000)))))*1.2 -> 156000 | K63: =SUMIF(Sep!A:A,'Sheet 1'!A63,Sep!I:I) -> 3 | L63: =IF(AND(C63<>"Ամբուլատորիա",C63<>"Պոլիկլինիկա"),500*K63*1.2,0) -> 1800 | M63: =+SUMIF(Sep!A:A,'Sheet 1'!A63,Sep!E:E) -> 5 | N63: =M63*1000*1.2 -> 6000 | O63: =I63+J63+L63+N63 -> 178800 | P63: =+F63*1.5% -> 46234.476 | Q63: =MIN(O63,P63) -> 46234.476 | R63: 0.7 | S63: =Q63*R63 -> 32364.133 | T63: =Q63-S63 -> 13870.343 | U63: =+Q63*12 -> 554813.71 | V63: =S63*12 -> 388369.6 | W63: =T63*12 -> 166444.11
A64: Արմենակ և Աննա Թադեոսեանների բժշկական կենտրոն հիմնադրամ | B64: Արագածոտն | C64: Բժշկական կենտրոն | D64: 5 | E64: Հիվանդանոց Մարզ | F64: 2488650 | H64: =SUMIF(Sep!A:A,'Sheet 1'!A64,Sep!N:N) -> 0 | I64: =IF(H64>0,(IF(H64<=10000,MIN(15000,H64*4),MIN(H64*4,75000))),0) -> 0 | J64: =IF(C64="Հիվանդանոց",80000,IF(C64="Բժշկական կենտրոն",IF(M64>2000,150000,130000),IF(C64="Շտապ բուժօգնություն",50000,IF(C64="ատամնաբուժարան",IF(M64<=200,7000,IF(AND(M64>200,M64<=500),15000,2000)),IF(C64="առողջարան",50000)))))*1.2 -> 156000 | K64: =SUMIF(Sep!A:A,'Sheet 1'!A64,Sep!I:I) -> 4 | L64: =IF(AND(C64<>"Ամբուլատորիա",C64<>"Պոլիկլինիկա"),500*K64*1.2,0) -> 2400 | M64: =+SUMIF(Sep!A:A,'Sheet 1'!A64,Sep!E:E) -> 8 | N64: =M64*1000*1.2 -> 9600 | O64: =I64+J64+L64+N64 -> 168000 | P64: =+F64*1.5% -> 37329.75 | Q64: =MIN(O64,P64) -> 37329.75 | R64: 0.7 | S64: =Q64*R64 -> 26130.825 | T64: =Q64-S64 -> 11198.925 | U64: =+Q64*12 -> 447957 | V64: =S64*12 -> 313569.9 | W64: =T64*12 -> 134387.1
A65: Արտենիի առողջության կենտրոն ՊՈԱԿ | B65: Արագածոտն | C65: Բժշկական կենտրոն | D65: 5 | E65: Հիվանդանոց Մարզ | F65: 2012014.7 | G65: 3170 | H65: =SUMIF(Sep!A:A,'Sheet 1'!A65,Sep!N:N) -> 3170 | I65: =IF(H65>0,(IF(H65<=10000,MIN(15000,H65*4),MIN(H65*4,75000))),0) -> 12680 | J65: =IF(C65="Հիվանդանոց",80000,IF(C65="Բժշկական կենտրոն",IF(M65>2000,150000,130000),IF(C65="Շտապ բուժօգնություն",50000,IF(C65="ատամնաբուժարան",IF(M65<=200,7000,IF(AND(M65>200,M65<=500),15000,2000)),IF(C65="առողջարան",50000)))))*1.2 -> 156000 | K65: =SUMIF(Sep!A:A,'Sheet 1'!A65,Sep!I:I) -> 5 | L65: =IF(AND(C65<>"Ամբուլատորիա",C65<>"Պոլիկլինիկա"),500*K65*1.2,0) -> 3000 | M65: =+SUMIF(Sep!A:A,'Sheet 1'!A65,Sep!E:E) -> 5 | N65: =M65*1000*1.2 -> 6000 | O65: =I65+J65+L65+N65 -> 177680 | P65: =+F65*1.5% -> 30180.22 | Q65: =MIN(O65,P65) -> 30180.22 | R65: 0.7 | S65: =Q65*R65 -> 21126.154 | T65: =Q65-S65 -> 9054.066 | U65: =+Q65*12 -> 362162.64 | V65: =S65*12 -> 253513.85 | W65: =T65*12 -> 108648.79
A66: Թալինի բժշկական կենտրոն ՓԲԸ | B66: Արագածոտն | C66: Բժշկական կենտրոն | D66: 5 | E66: Հիվանդանոց Մարզ | F66: 25461690 | G66: 11539 | H66: =SUMIF(Sep!A:A,'Sheet 1'!A66,Sep!N:N) -> 11539 | I66: =IF(H66>0,(IF(H66<=10000,MIN(15000,H66*4),MIN(H66*4,75000))),0) -> 46156 | J66: =IF(C66="Հիվանդանոց",80000,IF(C66="Բժշկական կենտրոն",IF(M66>2000,150000,130000),IF(C66="Շտապ բուժօգնություն",50000,IF(C66="ատամնաբուժարան",IF(M66<=200,7000,IF(AND(M66>200,M66<=500),15000,2000)),IF(C66="առողջարան",50000)))))*1.2 -> 156000 | K66: =SUMIF(Sep!A:A,'Sheet 1'!A66,Sep!I:I) -> 10 | L66: =IF(AND(C66<>"Ամբուլատորիա",C66<>"Պոլիկլինիկա"),500*K66*1.2,0) -> 6000 | M66: =+SUMIF(Sep!A:A,'Sheet 1'!A66,Sep!E:E) -> 89 | N66: =M66*1000*1.2 -> 106800 | O66: =I66+J66+L66+N66 -> 314956 | P66: =+F66*1.5% -> 381925.35 | Q66: =MIN(O66,P66) -> 314956 | R66: 0.7 | S66: =Q66*R66 -> 220469.2 | T66: =Q66-S66 -> 94486.8 | U66: =+Q66*12 -> 3779472 | V66: =S66*12 -> 2645630.4 | W66: =T66*12 -> 1133841.6
A67: Ծաղկահովիտի բժշկական կենտրոն ՓԲԸ | B67: Արագածոտն | C67: Բժշկական կենտրոն | D67: 5 | E67: Հիվանդանոց Մարզ | F67: 14418427 | G67: 8976 | H67: =SUMIF(Sep!A:A,'Sheet 1'!A67,Sep!N:N) -> 8976 | I67: =IF(H67>0,(IF(H67<=10000,MIN(15000,H67*4),MIN(H67*4,75000))),0) -> 15000 | J67: =IF(C67="Հիվանդանոց",80000,IF(C67="Բժշկական կենտրոն",IF(M67>2000,150000,130000),IF(C67="Շտապ բուժօգնություն",50000,IF(C67="ատամնաբուժարան",IF(M67<=200,7000,IF(AND(M67>200,M67<=500),15000,2000)),IF(C67="առողջարան",50000)))))*1.2 -> 156000 | K67: =SUMIF(Sep!A:A,'Sheet 1'!A67,Sep!I:I) -> 7 | L67: =IF(AND(C67<>"Ամբուլատորիա",C67<>"Պոլիկլինիկա"),500*K67*1.2,0) -> 4200 | M67: =+SUMIF(Sep!A:A,'Sheet 1'!A67,Sep!E:E) -> 15 | N67: =M67*1000*1.2 -> 18000 | O67: =I67+J67+L67+N67 -> 193200 | P67: =+F67*1.5% -> 216276.4 | Q67: =MIN(O67,P67) -> 193200 | R67: 0.7 | S67: =Q67*R67 -> 135240 | T67: =Q67-S67 -> 57960 | U67: =+Q67*12 -> 2318400 | V67: =S67*12 -> 1622880 | W67: =T67*12 -> 695520
A68: Ակ. Ա.Հայրիյանի անվան Արմաշի ԱԿ ՓԲԸ | B68: Արարատ | C68: Բժշկական կենտրոն | D68: 5 | E68: Հիվանդանոց Մարզ | F68: 13184614 | G68: 3393 | H68: =SUMIF(Sep!A:A,'Sheet 1'!A68,Sep!N:N) -> 3392 | I68: =IF(H68>0,(IF(H68<=10000,MIN(15000,H68*4),MIN(H68*4,75000))),0) -> 13568 | J68: =IF(C68="Հիվանդանոց",80000,IF(C68="Բժշկական կենտրոն",IF(M68>2000,150000,130000),IF(C68="Շտապ բուժօգնություն",50000,IF(C68="ատամնաբուժարան",IF(M68<=200,7000,IF(AND(M68>200,M68<=500),15000,2000)),IF(C68="առողջարան",50000)))))*1.2 -> 156000 | K68: =SUMIF(Sep!A:A,'Sheet 1'!A68,Sep!I:I) -> 8 | L68: =IF(AND(C68<>"Ամբուլատորիա",C68<>"Պոլիկլինիկա"),500*K68*1.2,0) -> 4800 | M68: =+SUMIF(Sep!A:A,'Sheet 1'!A68,Sep!E:E) -> 82 | N68: =M68*1000*1.2 -> 98400 | O68: =I68+J68+L68+N68 -> 272768 | P68: =+F68*1.5% -> 197769.21 | Q68: =MIN(O68,P68) -> 197769.21 | R68: 0.7 | S68: =Q68*R68 -> 138438.45 | T68: =Q68-S68 -> 59330.763 | U68: =+Q68*12 -> 2373230.5 | V68: =S68*12 -> 1661261.4 | W68: =T68*12 -> 711969.15
A69: Արարատի հիվանդանոց ԲԿ ՓԲԸ | B69: Արարատ | C69: Բժշկական կենտրոն | D69: 5 | E69: Հիվանդանոց Մարզ | F69: 26250958 | G69: 13702 | H69: =SUMIF(Sep!A:A,'Sheet 1'!A69,Sep!N:N) -> 13701 | I69: =IF(H69>0,(IF(H69<=10000,MIN(15000,H69*4),MIN(H69*4,75000))),0) -> 54804 | J69: =IF(C69="Հիվանդանոց",80000,IF(C69="Բժշկական կենտրոն",IF(M69>2000,150000,130000),IF(C69="Շտապ բուժօգնություն",50000,IF(C69="ատամնաբուժարան",IF(M69<=200,7000,IF(AND(M69>200,M69<=500),15000,2000)),IF(C69="առողջարան",50000)))))*1.2 -> 156000 | K69: =SUMIF(Sep!A:A,'Sheet 1'!A69,Sep!I:I) -> 16 | L69: =IF(AND(C69<>"Ամբուլատորիա",C69<>"Պոլիկլինիկա"),500*K69*1.2,0) -> 9600 | M69: =+SUMIF(Sep!A:A,'Sheet 1'!A69,Sep!E:E) -> 138 | N69: =M69*1000*1.2 -> 165600 | O69: =I69+J69+L69+N69 -> 386004 | P69: =+F69*1.5% -> 393764.37 | Q69: =MIN(O69,P69) -> 386004 | R69: 0.7 | S69: =Q69*R69 -> 270202.8 | T69: =Q69-S69 -> 115801.2 | U69: =+Q69*12 -> 4632048 | V69: =S69*12 -> 3242433.6 | W69: =T69*12 -> 1389614.4
A70: Արտաշատի ԲԿ ՓԲԸ | B70: Արարատ | C70: Բժշկական կենտրոն | D70: 5 | E70: Հիվանդանոց Մարզ | F70: 56435845 | G70: 26114 | H70: =SUMIF(Sep!A:A,'Sheet 1'!A70,Sep!N:N) -> 26130 | I70: =IF(H70>0,(IF(H70<=10000,MIN(15000,H70*4),MIN(H70*4,75000))),0) -> 75000 | J70: =IF(C70="Հիվանդանոց",80000,IF(C70="Բժշկական կենտրոն",IF(M70>2000,150000,130000),IF(C70="Շտապ բուժօգնություն",50000,IF(C70="ատամնաբուժարան",IF(M70<=200,7000,IF(AND(M70>200,M70<=500),15000,2000)),IF(C70="առողջարան",50000)))))*1.2 -> 156000 | K70: =SUMIF(Sep!A:A,'Sheet 1'!A70,Sep!I:I) -> 15 | L70: =IF(AND(C70<>"Ամբուլատորիա",C70<>"Պոլիկլինիկա"),500*K70*1.2,0) -> 9000 | M70: =+SUMIF(Sep!A:A,'Sheet 1'!A70,Sep!E:E) -> 301 | N70: =M70*1000*1.2 -> 361200 | O70: =I70+J70+L70+N70 -> 601200 | P70: =+F70*1.5% -> 846537.67 | Q70: =MIN(O70,P70) -> 601200 | R70: 0.7 | S70: =Q70*R70 -> 420840 | T70: =Q70-S70 -> 180360 | U70: =+Q70*12 -> 7214400 | V70: =S70*12 -> 5050080 | W70: =T70*12 -> 2164320
A71: Մասիսի ԲԿ ՓԲԸ | B71: Արարատ | C71: Բժշկական կենտրոն | D71: 5 | E71: Հիվանդանոց Մարզ | F71: 44777666 | G71: 17796 | H71: =SUMIF(Sep!A:A,'Sheet 1'!A71,Sep!N:N) -> 17802 | I71: =IF(H71>0,(IF(H71<=10000,MIN(15000,H71*4),MIN(H71*4,75000))),0) -> 71208 | J71: =IF(C71="Հիվանդանոց",80000,IF(C71="Բժշկական կենտրոն",IF(M71>2000,150000,130000),IF(C71="Շտապ բուժօգնություն",50000,IF(C71="ատամնաբուժարան",IF(M71<=200,7000,IF(AND(M71>200,M71<=500),15000,2000)),IF(C71="առողջարան",50000)))))*1.2 -> 156000 | K71: =SUMIF(Sep!A:A,'Sheet 1'!A71,Sep!I:I) -> 9 | L71: =IF(AND(C71<>"Ամբուլատորիա",C71<>"Պոլիկլինիկա"),500*K71*1.2,0) -> 5400 | M71: =+SUMIF(Sep!A:A,'Sheet 1'!A71,Sep!E:E) -> 257 | N71: =M71*1000*1.2 -> 308400 | O71: =I71+J71+L71+N71 -> 541008 | P71: =+F71*1.5% -> 671664.99 | Q71: =MIN(O71,P71) -> 541008 | R71: 0.7 | S71: =Q71*R71 -> 378705.6 | T71: =Q71-S71 -> 162302.4 | U71: =+Q71*12 -> 6492096 | V71: =S71*12 -> 4544467.2 | W71: =T71*12 -> 1947628.8
A72: Վեդու ԲԿ ՓԲԸ | B72: Արարատ | C72: Բժշկական կենտրոն | D72: 5 | E72: Հիվանդանոց Մարզ | F72: 27928830 | G72: 20138 | H72: =SUMIF(Sep!A:A,'Sheet 1'!A72,Sep!N:N) -> 20145 | I72: =IF(H72>0,(IF(H72<=10000,MIN(15000,H72*4),MIN(H72*4,75000))),0) -> 75000 | J72: =IF(C72="Հիվանդանոց",80000,IF(C72="Բժշկական կենտրոն",IF(M72>2000,150000,130000),IF(C72="Շտապ բուժօգնություն",50000,IF(C72="ատամնաբուժարան",IF(M72<=200,7000,IF(AND(M72>200,M72<=500),15000,2000)),IF(C72="առողջարան",50000)))))*1.2 -> 156000 | K72: =SUMIF(Sep!A:A,'Sheet 1'!A72,Sep!I:I) -> 6 | L72: =IF(AND(C72<>"Ամբուլատորիա",C72<>"Պոլիկլինիկա"),500*K72*1.2,0) -> 3600 | M72: =+SUMIF(Sep!A:A,'Sheet 1'!A72,Sep!E:E) -> 136 | N72: =M72*1000*1.2 -> 163200 | O72: =I72+J72+L72+N72 -> 397800 | P72: =+F72*1.5% -> 418932.46 | Q72: =MIN(O72,P72) -> 397800 | R72: 0.7 | S72: =Q72*R72 -> 278460 | T72: =Q72-S72 -> 119340 | U72: =+Q72*12 -> 4773600 | V72: =S72*12 -> 3341520 | W72: =T72*12 -> 1432080
A73: Վեդու ծննդատուն ՓԲԸ | B73: Արարատ | C73: Հիվանդանոց | D73: 5 | E73: Հիվանդանոց Մարզ | F73: 15620798 | H73: =SUMIF(Sep!A:A,'Sheet 1'!A73,Sep!N:N) -> 0 | I73: =IF(H73>0,(IF(H73<=10000,MIN(15000,H73*4),MIN(H73*4,75000))),0) -> 0 | J73: =IF(C73="Հիվանդանոց",80000,IF(C73="Բժշկական կենտրոն",IF(M73>2000,150000,130000),IF(C73="Շտապ բուժօգնություն",50000,IF(C73="ատամնաբուժարան",IF(M73<=200,7000,IF(AND(M73>200,M73<=500),15000,2000)),IF(C73="առողջարան",50000)))))*1.2 -> 96000 | K73: =SUMIF(Sep!A:A,'Sheet 1'!A73,Sep!I:I) -> 5 | L73: =IF(AND(C73<>"Ամբուլատորիա",C73<>"Պոլիկլինիկա"),500*K73*1.2,0) -> 3000 | M73: =+SUMIF(Sep!A:A,'Sheet 1'!A73,Sep!E:E) -> 133 | N73: =M73*1000*1.2 -> 159600 | O73: =I73+J73+L73+N73 -> 258600 | P73: =+F73*1.5% -> 234311.97 | Q73: =MIN(O73,P73) -> 234311.97 | R73: 0.7 | S73: =Q73*R73 -> 164018.38 | T73: =Q73-S73 -> 70293.59 | U73: =+Q73*12 -> 2811743.6 | V73: =S73*12 -> 1968220.5 | W73: =T73*12 -> 843523.08
A74: Զարիշատ /Արամ/ Մարտինի Մկրտչյանի անվան Արմավիրի ԲԿ ՓԲԸ | B74: Արմավիր | C74: Բժշկական կենտրոն | D74: 5 | E74: Հիվանդանոց Մարզ | F74: 70379765 | G74: 32801 | H74: =SUMIF(Sep!A:A,'Sheet 1'!A74,Sep!N:N) -> 33523 | I74: =IF(H74>0,(IF(H74<=10000,MIN(15000,H74*4),MIN(H74*4,75000))),0) -> 75000 | J74: =IF(C74="Հիվանդանոց",80000,IF(C74="Բժշկական կենտրոն",IF(M74>2000,150000,130000),IF(C74="Շտապ բուժօգնություն",50000,IF(C74="ատամնաբուժարան",IF(M74<=200,7000,IF(AND(M74>200,M74<=500),15000,2000)),IF(C74="առողջարան",50000)))))*1.2 -> 156000 | K74: =SUMIF(Sep!A:A,'Sheet 1'!A74,Sep!I:I) -> 8 | L74: =IF(AND(C74<>"Ամբուլատորիա",C74<>"Պոլիկլինիկա"),500*K74*1.2,0) -> 4800 | M74: =+SUMIF(Sep!A:A,'Sheet 1'!A74,Sep!E:E) -> 358 | N74: =M74*1000*1.2 -> 429600 | O74: =I74+J74+L74+N74 -> 665400 | P74: =+F74*1.5% -> 1055696.5 | Q74: =MIN(O74,P74) -> 665400 | R74: 0.7 | S74: =Q74*R74 -> 465780 | T74: =Q74-S74 -> 199620 | U74: =+Q74*12 -> 7984800 | V74: =S74*12 -> 5589360 | W74: =T74*12 -> 2395440
A75: Մեծամորի ԲԿ ՓԲԸ | B75: Արմավիր | C75: Բժշկական կենտրոն | D75: 5 | E75: Հիվանդանոց Մարզ | F75: 17853298 | G75: 9380 | H75: =SUMIF(Sep!A:A,'Sheet 1'!A75,Sep!N:N) -> 9388 | I75: =IF(H75>0,(IF(H75<=10000,MIN(15000,H75*4),MIN(H75*4,75000))),0) -> 15000 | J75: =IF(C75="Հիվանդանոց",80000,IF(C75="Բժշկական կենտրոն",IF(M75>2000,150000,130000),IF(C75="Շտապ բուժօգնություն",50000,IF(C75="ատամնաբուժարան",IF(M75<=200,7000,IF(AND(M75>200,M75<=500),15000,2000)),IF(C75="առողջարան",50000)))))*1.2 -> 156000 | K75: =SUMIF(Sep!A:A,'Sheet 1'!A75,Sep!I:I) -> 18 | L75: =IF(AND(C75<>"Ամբուլատորիա",C75<>"Պոլիկլինիկա"),500*K75*1.2,0) -> 10800 | M75: =+SUMIF(Sep!A:A,'Sheet 1'!A75,Sep!E:E) -> 106 | N75: =M75*1000*1.2 -> 127200 | O75: =I75+J75+L75+N75 -> 309000 | P75: =+F75*1.5% -> 267799.47 | Q75: =MIN(O75,P75) -> 267799.47 | R75: 0.7 | S75: =Q75*R75 -> 187459.63 | T75: =Q75-S75 -> 80339.841 | U75: =+Q75*12 -> 3213593.7 | V75: =S75*12 -> 2249515.6 | W75: =T75*12 -> 964078.1
A76: Էջմիածին բժշկական կենտրոն ՓԲԸ | B76: Արմավիր | C76: Բժշկական կենտրոն | D76: 5 | E76: Հիվանդանոց Մարզ | F76: 38104155 | G76: 45111 | H76: =SUMIF(Sep!A:A,'Sheet 1'!A76,Sep!N:N) -> 45119 | I76: =IF(H76>0,(IF(H76<=10000,MIN(15000,H76*4),MIN(H76*4,75000))),0) -> 75000 | J76: =IF(C76="Հիվանդանոց",80000,IF(C76="Բժշկական կենտրոն",IF(M76>2000,150000,130000),IF(C76="Շտապ բուժօգնություն",50000,IF(C76="ատամնաբուժարան",IF(M76<=200,7000,IF(AND(M76>200,M76<=500),15000,2000)),IF(C76="առողջարան",50000)))))*1.2 -> 156000 | K76: =SUMIF(Sep!A:A,'Sheet 1'!A76,Sep!I:I) -> 11 | L76: =IF(AND(C76<>"Ամբուլատորիա",C76<>"Պոլիկլինիկա"),500*K76*1.2,0) -> 6600 | M76: =+SUMIF(Sep!A:A,'Sheet 1'!A76,Sep!E:E) -> 91 | N76: =M76*1000*1.2 -> 109200 | O76: =I76+J76+L76+N76 -> 346800 | P76: =+F76*1.5% -> 571562.32 | Q76: =MIN(O76,P76) -> 346800 | R76: 0.7 | S76: =Q76*R76 -> 242760 | T76: =Q76-S76 -> 104040 | U76: =+Q76*12 -> 4161600 | V76: =S76*12 -> 2913120 | W76: =T76*12 -> 1248480
A77: Վաղարշապատի հիվանդանոց ՊՓԲԸ | B77: Արմավիր | C77: Հիվանդանոց | D77: 5 | E77: Հիվանդանոց Մարզ | F77: 32518975 | H77: =SUMIF(Sep!A:A,'Sheet 1'!A77,Sep!N:N) -> 0 | I77: =IF(H77>0,(IF(H77<=10000,MIN(15000,H77*4),MIN(H77*4,75000))),0) -> 0 | J77: =IF(C77="Հիվանդանոց",80000,IF(C77="Բժշկական կենտրոն",IF(M77>2000,150000,130000),IF(C77="Շտապ բուժօգնություն",50000,IF(C77="ատամնաբուժարան",IF(M77<=200,7000,IF(AND(M77>200,M77<=500),15000,2000)),IF(C77="առողջարան",50000)))))*1.2 -> 96000 | K77: =SUMIF(Sep!A:A,'Sheet 1'!A77,Sep!I:I) -> 5 | L77: =IF(AND(C77<>"Ամբուլատորիա",C77<>"Պոլիկլինիկա"),500*K77*1.2,0) -> 3000 | M77: =+SUMIF(Sep!A:A,'Sheet 1'!A77,Sep!E:E) -> 255 | N77: =M77*1000*1.2 -> 306000 | O77: =I77+J77+L77+N77 -> 405000 | P77: =+F77*1.5% -> 487784.62 | Q77: =MIN(O77,P77) -> 405000 | R77: 0.7 | S77: =Q77*R77 -> 283500 | T77: =Q77-S77 -> 121500 | U77: =+Q77*12 -> 4860000 | V77: =S77*12 -> 3402000 | W77: =T77*12 -> 1458000
A78: Գավառի ԲԿ ՓԲԸ | B78: Գեղարքունիք | C78: Բժշկական կենտրոն | D78: 5 | E78: Հիվանդանոց Մարզ | F78: 28619563 | H78: =SUMIF(Sep!A:A,'Sheet 1'!A78,Sep!N:N) -> 0 | I78: =IF(H78>0,(IF(H78<=10000,MIN(15000,H78*4),MIN(H78*4,75000))),0) -> 0 | J78: =IF(C78="Հիվանդանոց",80000,IF(C78="Բժշկական կենտրոն",IF(M78>2000,150000,130000),IF(C78="Շտապ բուժօգնություն",50000,IF(C78="ատամնաբուժարան",IF(M78<=200,7000,IF(AND(M78>200,M78<=500),15000,2000)),IF(C78="առողջարան",50000)))))*1.2 -> 156000 | K78: =SUMIF(Sep!A:A,'Sheet 1'!A78,Sep!I:I) -> 3 | L78: =IF(AND(C78<>"Ամբուլատորիա",C78<>"Պոլիկլինիկա"),500*K78*1.2,0) -> 1800 | M78: =+SUMIF(Sep!A:A,'Sheet 1'!A78,Sep!E:E) -> 163 | N78: =M78*1000*1.2 -> 195600 | O78: =I78+J78+L78+N78 -> 353400 | P78: =+F78*1.5% -> 429293.45 | Q78: =MIN(O78,P78) -> 353400 | R78: 0.7 | S78: =Q78*R78 -> 247380 | T78: =Q78-S78 -> 106020 | U78: =+Q78*12 -> 4240800 | V78: =S78*12 -> 2968560 | W78: =T78*12 -> 1272240
A79: Մարտունու ԲԿ ՊՓԲԸ | B79: Գեղարքունիք | C79: Բժշկական կենտրոն | D79: 5 | E79: Հիվանդանոց Մարզ | F79: 35747454 | G79: 11258 | H79: =SUMIF(Sep!A:A,'Sheet 1'!A79,Sep!N:N) -> 11263 | I79: =IF(H79>0,(IF(H79<=10000,MIN(15000,H79*4),MIN(H79*4,75000))),0) -> 45052 | J79: =IF(C79="Հիվանդանոց",80000,IF(C79="Բժշկական կենտրոն",IF(M79>2000,150000,130000),IF(C79="Շտապ բուժօգնություն",50000,IF(C79="ատամնաբուժարան",IF(M79<=200,7000,IF(AND(M79>200,M79<=500),15000,2000)),IF(C79="առողջարան",50000)))))*1.2 -> 156000 | K79: =SUMIF(Sep!A:A,'Sheet 1'!A79,Sep!I:I) -> 11 | L79: =IF(AND(C79<>"Ամբուլատորիա",C79<>"Պոլիկլինիկա"),500*K79*1.2,0) -> 6600 | M79: =+SUMIF(Sep!A:A,'Sheet 1'!A79,Sep!E:E) -> 231 | N79: =M79*1000*1.2 -> 277200 | O79: =I79+J79+L79+N79 -> 484852 | P79: =+F79*1.5% -> 536211.82 | Q79: =MIN(O79,P79) -> 484852 | R79: 0.7 | S79: =Q79*R79 -> 339396.4 | T79: =Q79-S79 -> 145455.6 | U79: =+Q79*12 -> 5818224 | V79: =S79*12 -> 4072756.8 | W79: =T79*12 -> 1745467.2
A80: Սևանի ԲԿ ՓԲԸ | B80: Գեղարքունիք | C80: Բժշկական կենտրոն | D80: 5 | E80: Հիվանդանոց Մարզ | F80: 30721438 | G80: 24433 | H80: =SUMIF(Sep!A:A,'Sheet 1'!A80,Sep!N:N) -> 24439 | I80: =IF(H80>0,(IF(H80<=10000,MIN(15000,H80*4),MIN(H80*4,75000))),0) -> 75000 | J80: =IF(C80="Հիվանդանոց",80000,IF(C80="Բժշկական կենտրոն",IF(M80>2000,150000,130000),IF(C80="Շտապ բուժօգնություն",50000,IF(C80="ատամնաբուժարան",IF(M80<=200,7000,IF(AND(M80>200,M80<=500),15000,2000)),IF(C80="առողջարան",50000)))))*1.2 -> 156000 | K80: =SUMIF(Sep!A:A,'Sheet 1'!A80,Sep!I:I) -> 9 | L80: =IF(AND(C80<>"Ամբուլատորիա",C80<>"Պոլիկլինիկա"),500*K80*1.2,0) -> 5400 | M80: =+SUMIF(Sep!A:A,'Sheet 1'!A80,Sep!E:E) -> 173 | N80: =M80*1000*1.2 -> 207600 | O80: =I80+J80+L80+N80 -> 444000 | P80: =+F80*1.5% -> 460821.57 | Q80: =MIN(O80,P80) -> 444000 | R80: 0.7 | S80: =Q80*R80 -> 310800 | T80: =Q80-S80 -> 133200 | U80: =+Q80*12 -> 5328000 | V80: =S80*12 -> 3729600 | W80: =T80*12 -> 1598400
A81: Լայոնս ՄԱԿ | B81: Գեղարքունիք | C81: Հիվանդանոց | D81: 5 | E81: Հիվանդանոց Մարզ | F81: 333333.33 | H81: =SUMIF(Sep!A:A,'Sheet 1'!A81,Sep!N:N) -> 0 | I81: =IF(H81>0,(IF(H81<=10000,MIN(15000,H81*4),MIN(H81*4,75000))),0) -> 0 | J81: =IF(C81="Հիվանդանոց",80000,IF(C81="Բժշկական կենտրոն",IF(M81>2000,150000,130000),IF(C81="Շտապ բուժօգնություն",50000,IF(C81="ատամնաբուժարան",IF(M81<=200,7000,IF(AND(M81>200,M81<=500),15000,2000)),IF(C81="առողջարան",50000)))))*1.2 -> 96000 | K81: =SUMIF(Sep!A:A,'Sheet 1'!A81,Sep!I:I) -> 4 | L81: =IF(AND(C81<>"Ամբուլատորիա",C81<>"Պոլիկլինիկա"),500*K81*1.2,0) -> 2400 | M81: =+SUMIF(Sep!A:A,'Sheet 1'!A81,Sep!E:E) -> 8 | N81: =M81*1000*1.2 -> 9600 | O81: =I81+J81+L81+N81 -> 108000 | P81: =+F81*1.5% -> 5000 | Q81: =MIN(O81,P81) -> 5000 | R81: 0.7 | S81: =Q81*R81 -> 3500 | T81: =Q81-S81 -> 1500 | U81: =+Q81*12 -> 60000 | V81: =S81*12 -> 42000 | W81: =T81*12 -> 18000
A82: Մարտունու ծննդատուն | B82: Գեղարքունիք | C82: Հիվանդանոց | D82: 5 | E82: Հիվանդանոց Մարզ | F82: 16381091 | H82: =SUMIF(Sep!A:A,'Sheet 1'!A82,Sep!N:N) -> 0 | I82: =IF(H82>0,(IF(H82<=10000,MIN(15000,H82*4),MIN(H82*4,75000))),0) -> 0 | J82: =IF(C82="Հիվանդանոց",80000,IF(C82="Բժշկական կենտրոն",IF(M82>2000,150000,130000),IF(C82="Շտապ բուժօգնություն",50000,IF(C82="ատամնաբուժարան",IF(M82<=200,7000,IF(AND(M82>200,M82<=500),15000,2000)),IF(C82="առողջարան",50000)))))*1.2 -> 96000 | K82: =SUMIF(Sep!A:A,'Sheet 1'!A82,Sep!I:I) -> 4 | L82: =IF(AND(C82<>"Ամբուլատորիա",C82<>"Պոլիկլինիկա"),500*K82*1.2,0) -> 2400 | M82: =+SUMIF(Sep!A:A,'Sheet 1'!A82,Sep!E:E) -> 221 | N82: =M82*1000*1.2 -> 265200 | O82: =I82+J82+L82+N82 -> 363600 | P82: =+F82*1.5% -> 245716.36 | Q82: =MIN(O82,P82) -> 245716.36 | R82: 0.7 | S82: =Q82*R82 -> 172001.45 | T82: =Q82-S82 -> 73714.908 | U82: =+Q82*12 -> 2948596.3 | V82: =S82*12 -> 2064017.4 | W82: =T82*12 -> 884578.89
A83: Վարդենիսի հիվանդանոց ՓԲԸ | B83: Գեղարքունիք | C83: Հիվանդանոց | D83: 5 | E83: Հիվանդանոց Մարզ | F83: 10443503 | H83: =SUMIF(Sep!A:A,'Sheet 1'!A83,Sep!N:N) -> 0 | I83: =IF(H83>0,(IF(H83<=10000,MIN(15000,H83*4),MIN(H83*4,75000))),0) -> 0 | J83: =IF(C83="Հիվանդանոց",80000,IF(C83="Բժշկական կենտրոն",IF(M83>2000,150000,130000),IF(C83="Շտապ բուժօգնություն",50000,IF(C83="ատամնաբուժարան",IF(M83<=200,7000,IF(AND(M83>200,M83<=500),15000,2000)),IF(C83="առողջարան",50000)))))*1.2 -> 96000 | K83: =SUMIF(Sep!A:A,'Sheet 1'!A83,Sep!I:I) -> 8 | L83: =IF(AND(C83<>"Ամբուլատորիա",C83<>"Պոլիկլինիկա"),500*K83*1.2,0) -> 4800 | M83: =+SUMIF(Sep!A:A,'Sheet 1'!A83,Sep!E:E) -> 74 | N83: =M83*1000*1.2 -> 88800 | O83: =I83+J83+L83+N83 -> 189600 | P83: =+F83*1.5% -> 156652.54 | Q83: =MIN(O83,P83) -> 156652.54 | R83: 0.7 | S83: =Q83*R83 -> 109656.78 | T83: =Q83-S83 -> 46995.764 | U83: =+Q83*12 -> 1879830.5 | V83: =S83*12 -> 1315881.4 | W83: =T83*12 -> 563949.16
A84: Ալավերդու բժշկական կենտրոն | B84: Լոռի | C84: Բժշկական կենտրոն | D84: 5 | E84: Հիվանդանոց Մարզ | F84: 29038866 | G84: 19034 | H84: =SUMIF(Sep!A:A,'Sheet 1'!A84,Sep!N:N) -> 19039 | I84: =IF(H84>0,(IF(H84<=10000,MIN(15000,H84*4),MIN(H84*4,75000))),0) -> 75000 | J84: =IF(C84="Հիվանդանոց",80000,IF(C84="Բժշկական կենտրոն",IF(M84>2000,150000,130000),IF(C84="Շտապ բուժօգնություն",50000,IF(C84="ատամնաբուժարան",IF(M84<=200,7000,IF(AND(M84>200,M84<=500),15000,2000)),IF(C84="առողջարան",50000)))))*1.2 -> 156000 | K84: =SUMIF(Sep!A:A,'Sheet 1'!A84,Sep!I:I) -> 14 | L84: =IF(AND(C84<>"Ամբուլատորիա",C84<>"Պոլիկլինիկա"),500*K84*1.2,0) -> 8400 | M84: =+SUMIF(Sep!A:A,'Sheet 1'!A84,Sep!E:E) -> 135 | N84: =M84*1000*1.2 -> 162000 | O84: =I84+J84+L84+N84 -> 401400 | P84: =+F84*1.5% -> 435582.98 | Q84: =MIN(O84,P84) -> 401400 | R84: 0.7 | S84: =Q84*R84 -> 280980 | T84: =Q84-S84 -> 120420 | U84: =+Q84*12 -> 4816800 | V84: =S84*12 -> 3371760 | W84: =T84*12 -> 1445040
A85: Լոռու մարզ. հոգենյարդ. դիսպանսեր | B85: Լոռի | C85: Բժշկական կենտրոն | D85: 5 | E85: Հիվանդանոց Մարզ | F85: 6685811.6 | H85: =SUMIF(Sep!A:A,'Sheet 1'!A85,Sep!N:N) -> 0 | I85: =IF(H85>0,(IF(H85<=10000,MIN(15000,H85*4),MIN(H85*4,75000))),0) -> 0 | J85: =IF(C85="Հիվանդանոց",80000,IF(C85="Բժշկական կենտրոն",IF(M85>2000,150000,130000),IF(C85="Շտապ բուժօգնություն",50000,IF(C85="ատամնաբուժարան",IF(M85<=200,7000,IF(AND(M85>200,M85<=500),15000,2000)),IF(C85="առողջարան",50000)))))*1.2 -> 156000 | K85: =SUMIF(Sep!A:A,'Sheet 1'!A85,Sep!I:I) -> 4 | L85: =IF(AND(C85<>"Ամբուլատորիա",C85<>"Պոլիկլինիկա"),500*K85*1.2,0) -> 2400 | M85: =+SUMIF(Sep!A:A,'Sheet 1'!A85,Sep!E:E) -> 17 | N85: =M85*1000*1.2 -> 20400 | O85: =I85+J85+L85+N85 -> 178800 | P85: =+F85*1.5% -> 100287.17 | Q85: =MIN(O85,P85) -> 100287.17 | R85: 0.7 | S85: =Q85*R85 -> 70201.022 | T85: =Q85-S85 -> 30086.152 | U85: =+Q85*12 -> 1203446.1 | V85: =S85*12 -> 842412.26 | W85: =T85*12 -> 361033.83
A86: Սպիտակի ԲԿ | B86: Լոռի | C86: Բժշկական կենտրոն | D86: 5 | E86: Հիվանդանոց Մարզ | F86: 28382673 | G86: 16227 | H86: =SUMIF(Sep!A:A,'Sheet 1'!A86,Sep!N:N) -> 16232 | I86: =IF(H86>0,(IF(H86<=10000,MIN(15000,H86*4),MIN(H86*4,75000))),0) -> 64928 | J86: =IF(C86="Հիվանդանոց",80000,IF(C86="Բժշկական կենտրոն",IF(M86>2000,150000,130000),IF(C86="Շտապ բուժօգնություն",50000,IF(C86="ատամնաբուժարան",IF(M86<=200,7000,IF(AND(M86>200,M86<=500),15000,2000)),IF(C86="առողջարան",50000)))))*1.2 -> 156000 | K86: =SUMIF(Sep!A:A,'Sheet 1'!A86,Sep!I:I) -> 13 | L86: =IF(AND(C86<>"Ամբուլատորիա",C86<>"Պոլիկլինիկա"),500*K86*1.2,0) -> 7800 | M86: =+SUMIF(Sep!A:A,'Sheet 1'!A86,Sep!E:E) -> 136 | N86: =M86*1000*1.2 -> 163200 | O86: =I86+J86+L86+N86 -> 391928 | P86: =+F86*1.5% -> 425740.09 | Q86: =MIN(O86,P86) -> 391928 | R86: 0.7 | S86: =Q86*R86 -> 274349.6 | T86: =Q86-S86 -> 117578.4 | U86: =+Q86*12 -> 4703136 | V86: =S86*12 -> 3292195.2 | W86: =T86*12 -> 1410940.8
A87: Ստեփանավանի ԲԿ | B87: Լոռի | C87: Բժշկական կենտրոն | D87: 5 | E87: Հիվանդանոց Մարզ | F87: 28877394 | G87: 21588 | H87: =SUMIF(Sep!A:A,'Sheet 1'!A87,Sep!N:N) -> 21591 | I87: =IF(H87>0,(IF(H87<=10000,MIN(15000,H87*4),MIN(H87*4,75000))),0) -> 75000 | J87: =IF(C87="Հիվանդանոց",80000,IF(C87="Բժշկական կենտրոն",IF(M87>2000,150000,130000),IF(C87="Շտապ բուժօգնություն",50000,IF(C87="ատամնաբուժարան",IF(M87<=200,7000,IF(AND(M87>200,M87<=500),15000,2000)),IF(C87="առողջարան",50000)))))*1.2 -> 156000 | K87: =SUMIF(Sep!A:A,'Sheet 1'!A87,Sep!I:I) -> 10 | L87: =IF(AND(C87<>"Ամբուլատորիա",C87<>"Պոլիկլինիկա"),500*K87*1.2,0) -> 6000 | M87: =+SUMIF(Sep!A:A,'Sheet 1'!A87,Sep!E:E) -> 152 | N87: =M87*1000*1.2 -> 182400 | O87: =I87+J87+L87+N87 -> 419400 | P87: =+F87*1.5% -> 433160.91 | Q87: =MIN(O87,P87) -> 419400 | R87: 0.7 | S87: =Q87*R87 -> 293580 | T87: =Q87-S87 -> 125820 | U87: =+Q87*12 -> 5032800 | V87: =S87*12 -> 3522960 | W87: =T87*12 -> 1509840
A88: Վանաձորի բժշկական կենտրոն | B88: Լոռի | C88: Բժշկական կենտրոն | D88: 5 | E88: Հիվանդանոց Մարզ | F88: 83301686 | H88: =SUMIF(Sep!A:A,'Sheet 1'!A88,Sep!N:N) -> 0 | I88: =IF(H88>0,(IF(H88<=10000,MIN(15000,H88*4),MIN(H88*4,75000))),0) -> 0 | J88: =IF(C88="Հիվանդանոց",80000,IF(C88="Բժշկական կենտրոն",IF(M88>2000,150000,130000),IF(C88="Շտապ բուժօգնություն",50000,IF(C88="ատամնաբուժարան",IF(M88<=200,7000,IF(AND(M88>200,M88<=500),15000,2000)),IF(C88="առողջարան",50000)))))*1.2 -> 156000 | K88: =SUMIF(Sep!A:A,'Sheet 1'!A88,Sep!I:I) -> 12 | L88: =IF(AND(C88<>"Ամբուլատորիա",C88<>"Պոլիկլինիկա"),500*K88*1.2,0) -> 7200 | M88: =+SUMIF(Sep!A:A,'Sheet 1'!A88,Sep!E:E) -> 568 | N88: =M88*1000*1.2 -> 681600 | O88: =I88+J88+L88+N88 -> 844800 | P88: =+F88*1.5% -> 1249525.3 | Q88: =MIN(O88,P88) -> 844800 | R88: 0.7 | S88: =Q88*R88 -> 591360 | T88: =Q88-S88 -> 253440 | U88: =+Q88*12 -> 10137600 | V88: =S88*12 -> 7096320 | W88: =T88*12 -> 3041280
A89: Տաշիրի ԲԿ | B89: Լոռի | C89: Բժշկական կենտրոն | D89: 5 | E89: Հիվանդանոց Մարզ | F89: 21047332 | G89: 18181 | H89: =SUMIF(Sep!A:A,'Sheet 1'!A89,Sep!N:N) -> 18182 | I89: =IF(H89>0,(IF(H89<=10000,MIN(15000,H89*4),MIN(H89*4,75000))),0) -> 72728 | J89: =IF(C89="Հիվանդանոց",80000,IF(C89="Բժշկական կենտրոն",IF(M89>2000,150000,130000),IF(C89="Շտապ բուժօգնություն",50000,IF(C89="ատամնաբուժարան",IF(M89<=200,7000,IF(AND(M89>200,M89<=500),15000,2000)),IF(C89="առողջարան",50000)))))*1.2 -> 156000 | K89: =SUMIF(Sep!A:A,'Sheet 1'!A89,Sep!I:I) -> 21 | L89: =IF(AND(C89<>"Ամբուլատորիա",C89<>"Պոլիկլինիկա"),500*K89*1.2,0) -> 12600 | M89: =+SUMIF(Sep!A:A,'Sheet 1'!A89,Sep!E:E) -> 81 | N89: =M89*1000*1.2 -> 97200 | O89: =I89+J89+L89+N89 -> 338528 | P89: =+F89*1.5% -> 315709.98 | Q89: =MIN(O89,P89) -> 315709.98 | R89: 0.7 | S89: =Q89*R89 -> 220996.98 | T89: =Q89-S89 -> 94712.993 | U89: =+Q89*12 -> 3788519.7 | V89: =S89*12 -> 2651963.8 | W89: =T89*12 -> 1136555.9
A90: Վանաձոր ԱՍԱՐ | B90: Լոռի | C90: Հիվանդանոց | D90: 5 | E90: Հիվանդանոց Մարզ | F90: 2001950.8 | H90: =SUMIF(Sep!A:A,'Sheet 1'!A90,Sep!N:N) -> 0 | I90: =IF(H90>0,(IF(H90<=10000,MIN(15000,H90*4),MIN(H90*4,75000))),0) -> 0 | J90: =IF(C90="Հիվանդանոց",80000,IF(C90="Բժշկական կենտրոն",IF(M90>2000,150000,130000),IF(C90="Շտապ բուժօգնություն",50000,IF(C90="ատամնաբուժարան",IF(M90<=200,7000,IF(AND(M90>200,M90<=500),15000,2000)),IF(C90="առողջարան",50000)))))*1.2 -> 96000 | K90: =SUMIF(Sep!A:A,'Sheet 1'!A90,Sep!I:I) -> 3 | L90: =IF(AND(C90<>"Ամբուլատորիա",C90<>"Պոլիկլինիկա"),500*K90*1.2,0) -> 1800 | M90: =+SUMIF(Sep!A:A,'Sheet 1'!A90,Sep!E:E) -> 0 | N90: =M90*1000*1.2 -> 0 | O90: =I90+J90+L90+N90 -> 97800 | P90: =+F90*1.5% -> 30029.262 | Q90: =MIN(O90,P90) -> 30029.262 | R90: 0.7 | S90: =Q90*R90 -> 21020.484 | T90: =Q90-S90 -> 9008.7788 | U90: =+Q90*12 -> 360351.15 | V90: =S90*12 -> 252245.8 | W90: =T90*12 -> 108105.35
A91: Վանաձորի ինֆեկցիոն հիվանդանոց | B91: Լոռի | C91: Հիվանդանոց | D91: 5 | E91: Հիվանդանոց Մարզ | F91: 10134548 | H91: =SUMIF(Sep!A:A,'Sheet 1'!A91,Sep!N:N) -> 0 | I91: =IF(H91>0,(IF(H91<=10000,MIN(15000,H91*4),MIN(H91*4,75000))),0) -> 0 | J91: =IF(C91="Հիվանդանոց",80000,IF(C91="Բժշկական կենտրոն",IF(M91>2000,150000,130000),IF(C91="Շտապ բուժօգնություն",50000,IF(C91="ատամնաբուժարան",IF(M91<=200,7000,IF(AND(M91>200,M91<=500),15000,2000)),IF(C91="առողջարան",50000)))))*1.2 -> 96000 | K91: =SUMIF(Sep!A:A,'Sheet 1'!A91,Sep!I:I) -> 3 | L91: =IF(AND(C91<>"Ամբուլատորիա",C91<>"Պոլիկլինիկա"),500*K91*1.2,0) -> 1800 | M91: =+SUMIF(Sep!A:A,'Sheet 1'!A91,Sep!E:E) -> 75 | N91: =M91*1000*1.2 -> 90000 | O91: =I91+J91+L91+N91 -> 187800 | P91: =+F91*1.5% -> 152018.23 | Q91: =MIN(O91,P91) -> 152018.23 | R91: 0.7 | S91: =Q91*R91 -> 106412.76 | T91: =Q91-S91 -> 45605.468 | U91: =+Q91*12 -> 1824218.7 | V91: =S91*12 -> 1276953.1 | W91: =T91*12 -> 547265.61
A92: Հրազդանի ԲԿ ՓԲԸ | B92: Կոտայք | C92: Բժշկական կենտրոն | D92: 5 | E92: Հիվանդանոց Մարզ | F92: 58429334 | G92: 45753 | H92: =SUMIF(Sep!A:A,'Sheet 1'!A92,Sep!N:N) -> 45789 | I92: =IF(H92>0,(IF(H92<=10000,MIN(15000,H92*4),MIN(H92*4,75000))),0) -> 75000 | J92: =IF(C92="Հիվանդանոց",80000,IF(C92="Բժշկական կենտրոն",IF(M92>2000,150000,130000),IF(C92="Շտապ բուժօգնություն",50000,IF(C92="ատամնաբուժարան",IF(M92<=200,7000,IF(AND(M92>200,M92<=500),15000,2000)),IF(C92="առողջարան",50000)))))*1.2 -> 156000 | K92: =SUMIF(Sep!A:A,'Sheet 1'!A92,Sep!I:I) -> 12 | L92: =IF(AND(C92<>"Ամբուլատորիա",C92<>"Պոլիկլինիկա"),500*K92*1.2,0) -> 7200 | M92: =+SUMIF(Sep!A:A,'Sheet 1'!A92,Sep!E:E) -> 230 | N92: =M92*1000*1.2 -> 276000 | O92: =I92+J92+L92+N92 -> 514200 | P92: =+F92*1.5% -> 876440.02 | Q92: =MIN(O92,P92) -> 514200 | R92: 0.7 | S92: =Q92*R92 -> 359940 | T92: =Q92-S92 -> 154260 | U92: =+Q92*12 -> 6170400 | V92: =S92*12 -> 4319280 | W92: =T92*12 -> 1851120
A93: Նաիրիի ԲԿ ՓԲԸ | B93: Կոտայք | C93: Բժշկական կենտրոն | D93: 5 | E93: Հիվանդանոց Մարզ | F93: 25031145 | G93: 12797 | H93: =SUMIF(Sep!A:A,'Sheet 1'!A93,Sep!N:N) -> 12808 | I93: =IF(H93>0,(IF(H93<=10000,MIN(15000,H93*4),MIN(H93*4,75000))),0) -> 51232 | J93: =IF(C93="Հիվանդանոց",80000,IF(C93="Բժշկական կենտրոն",IF(M93>2000,150000,130000),IF(C93="Շտապ բուժօգնություն",50000,IF(C93="ատամնաբուժարան",IF(M93<=200,7000,IF(AND(M93>200,M93<=500),15000,2000)),IF(C93="առողջարան",50000)))))*1.2 -> 156000 | K93: =SUMIF(Sep!A:A,'Sheet 1'!A93,Sep!I:I) -> 3 | L93: =IF(AND(C93<>"Ամբուլատորիա",C93<>"Պոլիկլինիկա"),500*K93*1.2,0) -> 1800 | M93: =+SUMIF(Sep!A:A,'Sheet 1'!A93,Sep!E:E) -> 113 | N93: =M93*1000*1.2 -> 135600 | O93: =I93+J93+L93+N93 -> 344632 | P93: =+F93*1.5% -> 375467.17 | Q93: =MIN(O93,P93) -> 344632 | R93: 0.7 | S93: =Q93*R93 -> 241242.4 | T93: =Q93-S93 -> 103389.6 | U93: =+Q93*12 -> 4135584 | V93: =S93*12 -> 2894908.8 | W93: =T93*12 -> 1240675.2
A94: Չարենցավանի ԲԿ ՓԲԸ | B94: Կոտայք | C94: Բժշկական կենտրոն | D94: 5 | E94: Հիվանդանոց Մարզ | F94: 28957006 | G94: 24784 | H94: =SUMIF(Sep!A:A,'Sheet 1'!A94,Sep!N:N) -> 24801 | I94: =IF(H94>0,(IF(H94<=10000,MIN(15000,H94*4),MIN(H94*4,75000))),0) -> 75000 | J94: =IF(C94="Հիվանդանոց",80000,IF(C94="Բժշկական կենտրոն",IF(M94>2000,150000,130000),IF(C94="Շտապ բուժօգնություն",50000,IF(C94="ատամնաբուժարան",IF(M94<=200,7000,IF(AND(M94>200,M94<=500),15000,2000)),IF(C94="առողջարան",50000)))))*1.2 -> 156000 | K94: =SUMIF(Sep!A:A,'Sheet 1'!A94,Sep!I:I) -> 3 | L94: =IF(AND(C94<>"Ամբուլատորիա",C94<>"Պոլիկլինիկա"),500*K94*1.2,0) -> 1800 | M94: =+SUMIF(Sep!A:A,'Sheet 1'!A94,Sep!E:E) -> 135 | N94: =M94*1000*1.2 -> 162000 | O94: =I94+J94+L94+N94 -> 394800 | P94: =+F94*1.5% -> 434355.09 | Q94: =MIN(O94,P94) -> 394800 | R94: 0.7 | S94: =Q94*R94 -> 276360 | T94: =Q94-S94 -> 118440 | U94: =+Q94*12 -> 4737600 | V94: =S94*12 -> 3316320 | W94: =T94*12 -> 1421280
A95: Ռ.Հ. անվ. Աբովյանի ԲԿ ՓԲԸ | B95: Կոտայք | C95: Բժշկական կենտրոն | D95: 5 | E95: Հիվանդանոց Մարզ | F95: 47542123 | G95: 41749 | H95: =SUMIF(Sep!A:A,'Sheet 1'!A95,Sep!N:N) -> 41810 | I95: =IF(H95>0,(IF(H95<=10000,MIN(15000,H95*4),MIN(H95*4,75000))),0) -> 75000 | J95: =IF(C95="Հիվանդանոց",80000,IF(C95="Բժշկական կենտրոն",IF(M95>2000,150000,130000),IF(C95="Շտապ բուժօգնություն",50000,IF(C95="ատամնաբուժարան",IF(M95<=200,7000,IF(AND(M95>200,M95<=500),15000,2000)),IF(C95="առողջարան",50000)))))*1.2 -> 156000 | K95: =SUMIF(Sep!A:A,'Sheet 1'!A95,Sep!I:I) -> 29 | L95: =IF(AND(C95<>"Ամբուլատորիա",C95<>"Պոլիկլինիկա"),500*K95*1.2,0) -> 17400 | M95: =+SUMIF(Sep!A:A,'Sheet 1'!A95,Sep!E:E) -> 198 | N95: =M95*1000*1.2 -> 237600 | O95: =I95+J95+L95+N95 -> 486000 | P95: =+F95*1.5% -> 713131.84 | Q95: =MIN(O95,P95) -> 486000 | R95: 0.7 | S95: =Q95*R95 -> 340200 | T95: =Q95-S95 -> 145800 | U95: =+Q95*12 -> 5832000 | V95: =S95*12 -> 4082400 | W95: =T95*12 -> 1749600
A96: Աբովյանի ծննդատուն ՊՓԲԸ | B96: Կոտայք | C96: Հիվանդանոց | D96: 5 | E96: Հիվանդանոց Մարզ | F96: 16166876 | H96: =SUMIF(Sep!A:A,'Sheet 1'!A96,Sep!N:N) -> 0 | I96: =IF(H96>0,(IF(H96<=10000,MIN(15000,H96*4),MIN(H96*4,75000))),0) -> 0 | J96: =IF(C96="Հիվանդանոց",80000,IF(C96="Բժշկական կենտրոն",IF(M96>2000,150000,130000),IF(C96="Շտապ բուժօգնություն",50000,IF(C96="ատամնաբուժարան",IF(M96<=200,7000,IF(AND(M96>200,M96<=500),15000,2000)),IF(C96="առողջարան",50000)))))*1.2 -> 96000 | K96: =SUMIF(Sep!A:A,'Sheet 1'!A96,Sep!I:I) -> 8 | L96: =IF(AND(C96<>"Ամբուլատորիա",C96<>"Պոլիկլինիկա"),500*K96*1.2,0) -> 4800 | M96: =+SUMIF(Sep!A:A,'Sheet 1'!A96,Sep!E:E) -> 100 | N96: =M96*1000*1.2 -> 120000 | O96: =I96+J96+L96+N96 -> 220800 | P96: =+F96*1.5% -> 242503.13 | Q96: =MIN(O96,P96) -> 220800 | R96: 0.7 | S96: =Q96*R96 -> 154560 | T96: =Q96-S96 -> 66240 | U96: =+Q96*12 -> 2649600 | V96: =S96*12 -> 1854720 | W96: =T96*12 -> 794880
A97: Կ.Խ. անվան Գառնիի ԱԿ ՊՈԱԿ | B97: Կոտայք | C97: Հիվանդանոց | D97: 5 | E97: Հիվանդանոց Մարզ | F97: 6214766.8 | G97: 9356 | H97: =SUMIF(Sep!A:A,'Sheet 1'!A97,Sep!N:N) -> 9385 | I97: =IF(H97>0,(IF(H97<=10000,MIN(15000,H97*4),MIN(H97*4,75000))),0) -> 15000 | J97: =IF(C97="Հիվանդանոց",80000,IF(C97="Բժշկական կենտրոն",IF(M97>2000,150000,130000),IF(C97="Շտապ բուժօգնություն",50000,IF(C97="ատամնաբուժարան",IF(M97<=200,7000,IF(AND(M97>200,M97<=500),15000,2000)),IF(C97="առողջարան",50000)))))*1.2 -> 96000 | K97: =SUMIF(Sep!A:A,'Sheet 1'!A97,Sep!I:I) -> 5 | L97: =IF(AND(C97<>"Ամբուլատորիա",C97<>"Պոլիկլինիկա"),500*K97*1.2,0) -> 3000 | M97: =+SUMIF(Sep!A:A,'Sheet 1'!A97,Sep!E:E) -> 0 | N97: =M97*1000*1.2 -> 0 | O97: =I97+J97+L97+N97 -> 114000 | P97: =+F97*1.5% -> 93221.501 | Q97: =MIN(O97,P97) -> 93221.501 | R97: 0.7 | S97: =Q97*R97 -> 65255.051 | T97: =Q97-S97 -> 27966.45 | U97: =+Q97*12 -> 1118658 | V97: =S97*12 -> 783060.61 | W97: =T97*12 -> 335597.4
A98: Ախուրյանի ԲԿ ՓԲԸ | B98: Շիրակ | C98: Բժշկական կենտրոն | D98: 5 | E98: Հիվանդանոց Մարզ | F98: 10652528 | H98: =SUMIF(Sep!A:A,'Sheet 1'!A98,Sep!N:N) -> 7932 | I98: =IF(H98>0,(IF(H98<=10000,MIN(15000,H98*4),MIN(H98*4,75000))),0) -> 15000 | J98: =IF(C98="Հիվանդանոց",80000,IF(C98="Բժշկական կենտրոն",IF(M98>2000,150000,130000),IF(C98="Շտապ բուժօգնություն",50000,IF(C98="ատամնաբուժարան",IF(M98<=200,7000,IF(AND(M98>200,M98<=500),15000,2000)),IF(C98="առողջարան",50000)))))*1.2 -> 156000 | K98: =SUMIF(Sep!A:A,'Sheet 1'!A98,Sep!I:I) -> 5 | L98: =IF(AND(C98<>"Ամբուլատորիա",C98<>"Պոլիկլինիկա"),500*K98*1.2,0) -> 3000 | M98: =+SUMIF(Sep!A:A,'Sheet 1'!A98,Sep!E:E) -> 1 | N98: =M98*1000*1.2 -> 1200 | O98: =I98+J98+L98+N98 -> 175200 | P98: =+F98*1.5% -> 159787.91 | Q98: =MIN(O98,P98) -> 159787.91 | R98: 0.7 | S98: =Q98*R98 -> 111851.54 | T98: =Q98-S98 -> 47936.374 | U98: =+Q98*12 -> 1917455 | V98: =S98*12 -> 1342218.5 | W98: =T98*12 -> 575236.49
A99: Ախուրյանի մոր և մանկան ԱԿ հիմնադրամ | B99: Շիրակ | C99: Բժշկական կենտրոն | D99: 5 | E99: Հիվանդանոց Մարզ | F99: 20782143 | G99: 4470 | H99: =SUMIF(Sep!A:A,'Sheet 1'!A99,Sep!N:N) -> 4472 | I99: =IF(H99>0,(IF(H99<=10000,MIN(15000,H99*4),MIN(H99*4,75000))),0) -> 15000 | J99: =IF(C99="Հիվանդանոց",80000,IF(C99="Բժշկական կենտրոն",IF(M99>2000,150000,130000),IF(C99="Շտապ բուժօգնություն",50000,IF(C99="ատամնաբուժարան",IF(M99<=200,7000,IF(AND(M99>200,M99<=500),15000,2000)),IF(C99="առողջարան",50000)))))*1.2 -> 156000 | K99: =SUMIF(Sep!A:A,'Sheet 1'!A99,Sep!I:I) -> 14 | L99: =IF(AND(C99<>"Ամբուլատորիա",C99<>"Պոլիկլինիկա"),500*K99*1.2,0) -> 8400 | M99: =+SUMIF(Sep!A:A,'Sheet 1'!A99,Sep!E:E) -> 156 | N99: =M99*1000*1.2 -> 187200 | O99: =I99+J99+L99+N99 -> 366600 | P99: =+F99*1.5% -> 311732.15 | Q99: =MIN(O99,P99) -> 311732.15 | R99: 0.7 | S99: =Q99*R99 -> 218212.5 | T99: =Q99-S99 -> 93519.645 | U99: =+Q99*12 -> 3740785.8 | V99: =S99*12 -> 2618550 | W99: =T99*12 -> 1122235.7
A100: Արթիկի ԲԿ ՓԲԸ | B100: Շիրակ | C100: Բժշկական կենտրոն | D100: 5 | E100: Հիվանդանոց Մարզ | F100: 18934222 | G100: 18587 | H100: =SUMIF(Sep!A:A,'Sheet 1'!A100,Sep!N:N) -> 18601 | I100: =IF(H100>0,(IF(H100<=10000,MIN(15000,H100*4),MIN(H100*4,75000))),0) -> 74404 | J100: =IF(C100="Հիվանդանոց",80000,IF(C100="Բժշկական կենտրոն",IF(M100>2000,150000,130000),IF(C100="Շտապ բուժօգնություն",50000,IF(C100="ատամնաբուժարան",IF(M100<=200,7000,IF(AND(M100>200,M100<=500),15000,2000)),IF(C100="առողջարան",50000)))))*1.2 -> 156000 | K100: =SUMIF(Sep!A:A,'Sheet 1'!A100,Sep!I:I) -> 12 | L100: =IF(AND(C100<>"Ամբուլատորիա",C100<>"Պոլիկլինիկա"),500*K100*1.2,0) -> 7200 | M100: =+SUMIF(Sep!A:A,'Sheet 1'!A100,Sep!E:E) -> 44 | N100: =M100*1000*1.2 -> 52800 | O100: =I100+J100+L100+N100 -> 290404 | P100: =+F100*1.5% -> 284013.32 | Q100: =MIN(O100,P100) -> 284013.32 | R100: 0.7 | S100: =Q100*R100 -> 198809.33 | T100: =Q100-S100 -> 85203.997 | U100: =+Q100*12 -> 3408159.9 | V100: =S100*12 -> 2385711.9 | W100: =T100*12 -> 1022448
A101: Արթիկի մոր և մանկան առողջության պահպանման կենտրոն ՓԲԸ | B101: Շիրակ | C101: Բժշկական կենտրոն | D101: 5 | E101: Հիվանդանոց Մարզ | F101: 11918338 | H101: =SUMIF(Sep!A:A,'Sheet 1'!A101,Sep!N:N) -> 0 | I101: =IF(H101>0,(IF(H101<=10000,MIN(15000,H101*4),MIN(H101*4,75000))),0) -> 0 | J101: =IF(C101="Հիվանդանոց",80000,IF(C101="Բժշկական կենտրոն",IF(M101>2000,150000,130000),IF(C101="Շտապ բուժօգնություն",50000,IF(C101="ատամնաբուժարան",IF(M101<=200,7000,IF(AND(M101>200,M101<=500),15000,2000)),IF(C101="առողջարան",50000)))))*1.2 -> 156000 | K101: =SUMIF(Sep!A:A,'Sheet 1'!A101,Sep!I:I) -> 4 | L101: =IF(AND(C101<>"Ամբուլատորիա",C101<>"Պոլիկլինիկա"),500*K101*1.2,0) -> 2400 | M101: =+SUMIF(Sep!A:A,'Sheet 1'!A101,Sep!E:E) -> 63 | N101: =M101*1000*1.2 -> 75600 | O101: =I101+J101+L101+N101 -> 234000 | P101: =+F101*1.5% -> 178775.06 | Q101: =MIN(O101,P101) -> 178775.06 | R101: 0.7 | S101: =Q101*R101 -> 125142.55 | T101: =Q101-S101 -> 53632.519 | U101: =+Q101*12 -> 2145300.8 | V101: =S101*12 -> 1501710.5 | W101: =T101*12 -> 643590.23
A102: Գյումրիի Ինֆենկցիոն-Հակատուբերկուլյոզային հիվանդանոց ՓԲԸ | B102: Շիրակ | C102: Բժշկական կենտրոն | D102: 5 | E102: Հիվանդանոց Մարզ | F102: 14020417 | H102: =SUMIF(Sep!A:A,'Sheet 1'!A102,Sep!N:N) -> 0 | I102: =IF(H102>0,(IF(H102<=10000,MIN(15000,H102*4),MIN(H102*4,75000))),0) -> 0 | J102: =IF(C102="Հիվանդանոց",80000,IF(C102="Բժշկական կենտրոն",IF(M102>2000,150000,130000),IF(C102="Շտապ բուժօգնություն",50000,IF(C102="ատամնաբուժարան",IF(M102<=200,7000,IF(AND(M102>200,M102<=500),15000,2000)),IF(C102="առողջարան",50000)))))*1.2 -> 156000 | K102: =SUMIF(Sep!A:A,'Sheet 1'!A102,Sep!I:I) -> 4 | L102: =IF(AND(C102<>"Ամբուլատորիա",C102<>"Պոլիկլինիկա"),500*K102*1.2,0) -> 2400 | M102: =+SUMIF(Sep!A:A,'Sheet 1'!A102,Sep!E:E) -> 89 | N102: =M102*1000*1.2 -> 106800 | O102: =I102+J102+L102+N102 -> 265200 | P102: =+F102*1.5% -> 210306.25 | Q102: =MIN(O102,P102) -> 210306.25 | R102: 0.7 | S102: =Q102*R102 -> 147214.38 | T102: =Q102-S102 -> 63091.876 | U102: =+Q102*12 -> 2523675 | V102: =S102*12 -> 1766572.5 | W102: =T102*12 -> 757102.51
A103: Գյումրիի Ծննդատուն ՓԲԸ | B103: Շիրակ | C103: Բժշկական կենտրոն | D103: 5 | E103: Հիվանդանոց Մարզ | F103: 12202676 | H103: =SUMIF(Sep!A:A,'Sheet 1'!A103,Sep!N:N) -> 0 | I103: =IF(H103>0,(IF(H103<=10000,MIN(15000,H103*4),MIN(H103*4,75000))),0) -> 0 | J103: =IF(C103="Հիվանդանոց",80000,IF(C103="Բժշկական կենտրոն",IF(M103>2000,150000,130000),IF(C103="Շտապ բուժօգնություն",50000,IF(C103="ատամնաբուժարան",IF(M103<=200,7000,IF(AND(M103>200,M103<=500),15000,2000)),IF(C103="առողջարան",50000)))))*1.2 -> 156000 | K103: =SUMIF(Sep!A:A,'Sheet 1'!A103,Sep!I:I) -> 5 | L103: =IF(AND(C103<>"Ամբուլատորիա",C103<>"Պոլիկլինիկա"),500*K103*1.2,0) -> 3000 | M103: =+SUMIF(Sep!A:A,'Sheet 1'!A103,Sep!E:E) -> 100 | N103: =M103*1000*1.2 -> 120000 | O103: =I103+J103+L103+N103 -> 279000 | P103: =+F103*1.5% -> 183040.13 | Q103: =MIN(O103,P103) -> 183040.13 | R103: 0.7 | S103: =Q103*R103 -> 128128.09 | T103: =Q103-S103 -> 54912.04 | U103: =+Q103*12 -> 2196481.6 | V103: =S103*12 -> 1537537.1 | W103: =T103*12 -> 658944.48
A104: Գյումրու բժշկական կենտրոն ՓԲԸ | B104: Շիրակ | C104: Բժշկական կենտրոն | D104: 5 | E104: Հիվանդանոց Մարզ | F104: 53268635 | H104: =SUMIF(Sep!A:A,'Sheet 1'!A104,Sep!N:N) -> 0 | I104: =IF(H104>0,(IF(H104<=10000,MIN(15000,H104*4),MIN(H104*4,75000))),0) -> 0 | J104: =IF(C104="Հիվանդանոց",80000,IF(C104="Բժշկական կենտրոն",IF(M104>2000,150000,130000),IF(C104="Շտապ բուժօգնություն",50000,IF(C104="ատամնաբուժարան",IF(M104<=200,7000,IF(AND(M104>200,M104<=500),15000,2000)),IF(C104="առողջարան",50000)))))*1.2 -> 156000 | K104: =SUMIF(Sep!A:A,'Sheet 1'!A104,Sep!I:I) -> 6 | L104: =IF(AND(C104<>"Ամբուլատորիա",C104<>"Պոլիկլինիկա"),500*K104*1.2,0) -> 3600 | M104: =+SUMIF(Sep!A:A,'Sheet 1'!A104,Sep!E:E) -> 359 | N104: =M104*1000*1.2 -> 430800 | O104: =I104+J104+L104+N104 -> 590400 | P104: =+F104*1.5% -> 799029.52 | Q104: =MIN(O104,P104) -> 590400 | R104: 0.7 | S104: =Q104*R104 -> 413280 | T104: =Q104-S104 -> 177120 | U104: =+Q104*12 -> 7084800 | V104: =S104*12 -> 4959360 | W104: =T104*12 -> 2125440
A105: Գյումրու մոր և մանկան ավստրիական հիվանդանոց ՓԲԸ | B105: Շիրակ | C105: Բժշկական կենտրոն | D105: 5 | E105: Հիվանդանոց Մարզ | F105: 30506062 | H105: =SUMIF(Sep!A:A,'Sheet 1'!A105,Sep!N:N) -> 0 | I105: =IF(H105>0,(IF(H105<=10000,MIN(15000,H105*4),MIN(H105*4,75000))),0) -> 0 | J105: =IF(C105="Հիվանդանոց",80000,IF(C105="Բժշկական կենտրոն",IF(M105>2000,150000,130000),IF(C105="Շտապ բուժօգնություն",50000,IF(C105="ատամնաբուժարան",IF(M105<=200,7000,IF(AND(M105>200,M105<=500),15000,2000)),IF(C105="առողջարան",50000)))))*1.2 -> 156000 | K105: =SUMIF(Sep!A:A,'Sheet 1'!A105,Sep!I:I) -> 5 | L105: =IF(AND(C105<>"Ամբուլատորիա",C105<>"Պոլիկլինիկա"),500*K105*1.2,0) -> 3000 | M105: =+SUMIF(Sep!A:A,'Sheet 1'!A105,Sep!E:E) -> 249 | N105: =M105*1000*1.2 -> 298800 | O105: =I105+J105+L105+N105 -> 457800 | P105: =+F105*1.5% -> 457590.92 | Q105: =MIN(O105,P105) -> 457590.92 | R105: 0.7 | S105: =Q105*R105 -> 320313.65 | T105: =Q105-S105 -> 137277.28 | U105: =+Q105*12 -> 5491091.1 | V105: =S105*12 -> 3843763.8 | W105: =T105*12 -> 1647327.3
A106: Հոգեկան առողջության կենտրոն ՓԲԸ | B106: Շիրակ | C106: Բժշկական կենտրոն | D106: 5 | E106: Հիվանդանոց Մարզ | F106: 10750958 | H106: =SUMIF(Sep!A:A,'Sheet 1'!A106,Sep!N:N) -> 0 | I106: =IF(H106>0,(IF(H106<=10000,MIN(15000,H106*4),MIN(H106*4,75000))),0) -> 0 | J106: =IF(C106="Հիվանդանոց",80000,IF(C106="Բժշկական կենտրոն",IF(M106>2000,150000,130000),IF(C106="Շտապ բուժօգնություն",50000,IF(C106="ատամնաբուժարան",IF(M106<=200,7000,IF(AND(M106>200,M106<=500),15000,2000)),IF(C106="առողջարան",50000)))))*1.2 -> 156000 | K106: =SUMIF(Sep!A:A,'Sheet 1'!A106,Sep!I:I) -> 3 | L106: =IF(AND(C106<>"Ամբուլատորիա",C106<>"Պոլիկլինիկա"),500*K106*1.2,0) -> 1800 | M106: =+SUMIF(Sep!A:A,'Sheet 1'!A106,Sep!E:E) -> 46 | N106: =M106*1000*1.2 -> 55200 | O106: =I106+J106+L106+N106 -> 213000 | P106: =+F106*1.5% -> 161264.36 | Q106: =MIN(O106,P106) -> 161264.36 | R106: 0.7 | S106: =Q106*R106 -> 112885.06 | T106: =Q106-S106 -> 48379.31 | U106: =+Q106*12 -> 1935172.4 | V106: =S106*12 -> 1354620.7 | W106: =T106*12 -> 580551.71
...

Sheet Sheet2

Sheet Sheet1
A1: 17427088 | B1: 1452257.3 | C1: =ROUND(B1,1) -> 1452257.3
A2: 22005466 | B2: 1833788.8
A3: 30336563 | B3: 2528046.9
A4: 16117074 | B4: 1343089.5
A5: 26685173 | B5: 2223764.4
A6: 38080949 | B6: 3173412.4
A7: 20332873 | B7: 1694406.1
A8: 39676057 | B8: 3306338.1
A9: 9803240 | B9: 816936.67
A10: 22223037 | B10: 1851919.8
A11: 24215860 | B11: 2017988.3
A12: 7562090 | B12: 630174.17
A13: 24459583 | B13: 2038298.6
... A26: 173021121 | B26: 14418427
B27: 0
A28: 26144873 | B28: 2178739.4
A29: 20299167 | B29: 1691597.2
A30: 25103880 | B30: 2091990
A31: 17604175 | B31: 1467014.6
A32: 36025482 | B32: 3002123.5
A33: 20231850 | B33: 1685987.5
A34: 11627949 | B34: 968995.75
A35: 32339556 | B35: 2694963
A36: 8744143 | B36: 728678.58
A37: 11423910 | B37: 951992.5
A38: 27581976 | B38: 2298498
A39: 20598321 | B39: 1716526.8
... A85: 187449574 | B85: 15620798
B86: 0
A87: 9490341 | B87: 790861.75
A88: 14671275 | B88: 1222606.2
A89: 31753028 | B89: 2646085.7
A90: 8633569 | B90: 719464.08
A91: 13843676 | B91: 1153639.7
A92: 11957209 | B92: 996434.08
A93: 19897123 | B93: 1658093.6
A94: 8829367 | B94: 735780.58
A95: 12169479 | B95: 1014123.2
A96: 13825284 | B96: 1152107
A97: 17942403 | B97: 1495200.2
A98: 17711181 | B98: 1475931.8
... A146: 60285061 | B146: 5023755.1
B147: 0
A148: 21805667 | B148: 1817138.9
A149: 19430693 | B149: 1619224.4
A150: 14350356 | B150: 1195863
A151: 21026059 | B151: 1752171.6
A152: 26247828 | B152: 2187319
A153: 28071788 | B153: 2339315.7
A154: 19917693 | B154: 1659807.8
A155: 14987064 | B155: 1248922
A156: 29551307 | B156: 2462608.9
A157: 38323548 | B157: 3193629
A158: 25395589 | B158: 2116299.1
A159: 22945141 | B159: 1912095.1
... A188: 129787304 | B188: 10815609
B189: 0
A190: 18889746 | B190: 1574145.5
A191: 11847207 | B191: 987267.25
A192: 13042226 | B192: 1086852.2
A193: 14261508 | B193: 1188459
A194: 21817407 | B194: 1818117.2
A195: 30417167 | B195: 2534763.9
A196: 12499114 | B196: 1041592.8
A197: 10248185 | B197: 854015.42
A198: 8726980 | B198: 727248.33
A199: 27741311 | B199: 2311775.9
A200: 92374168 | B200: 7697847.3
A201: 9872358 | B201: 822696.5
... A227: 124041469 | B227: 10336789
B228: 0
A229: 9927023 | B229: 827251.92
A230: 10382269 | B230: 865189.08
A231: 25043202 | B231: 2086933.5
A232: 8312841 | B232: 692736.75
A233: 21623371 | B233: 1801947.6
A234: 23574989 | B234: 1964582.4
A235: 12288712 | B235: 1024059.3
A236: 11152065 | B236: 929338.75
A237: 20853587 | B237: 1737798.9
A238: 9074720 | B238: 756226.67
A239: 11977369 | B239: 998114.08
A240: 31828526 | B240: 2652377.2
... A273: 99042139 | B273: 8253511.6
B274: 0
A275: 30364755 | B275: 2530396.2
A276: 52088214 | B276: 4340684.5
A277: 26281148 | B277: 2190095.7
A278: 8261057 | B278: 688421.42
A279: 42960893 | B279: 3580074.4
A280: 23868300 | B280: 1989025
A281: 19130632 | B281: 1594219.3
A282: 24711273 | B282: 2059272.8
A283: 27395098 | B283: 2282924.8
A284: 28908522 | B284: 2409043.5
A285: 17372010 | B285: 1447667.5
A286: 58287734 | B286: 4857311.2
... A312: 173556272 | B312: 14463023
B313: 0
A314: 19453711 | B314: 1621142.6
...

Sheet Sum
A2: Էլ առողջապահություն համակարգի օգտատերեր | B2: Քանակ | C2: Պետական պատվեր | D2: 2017 4 ամիս | G2: 2018 | J2: 2019
D3: ԸՆԴԱՄԵՆԸ | E3: սուբսիդավորում | G3: ԸՆԴԱՄԵՆԸ | H3: սուբսիդավորում | J3: ԸՆԴԱՄԵՆԸ | K3: սուբսիդավորում
A5: Հիվանդանոց, այդ թվում` | B5: =SUM(B6:B11) -> 126 | C5: =SUM(C6:C11) -> 5.2899245e+10 | D5: =SUM(D6:D11) -> 1.7390153e+08 | E5: =SUM(E6:E11) -> 1.7390153e+08 | F5: =E5/D5 -> 1 | G5: =SUM(G6:G11) -> 5.9996029e+08 | H5: =SUM(H6:H11) -> 3.8464236e+08 | I5: =H5/G5 -> 0.64111302 | J5: =SUM(J6:J11) -> 6.3070242e+08 | K5: =SUM(K6:K11) -> 4.0461859e+08 | L5: =K5/J5 -> 0.64153645
A6: Հիվանդանոց Երևան >100m շրջ. ՄԱՍՆԱՎՈՐ | B6: =COUNTIF('Sheet 1'!$E$4:$E$469,Sum!A6) -> 5 | C6: =SUMIFS('Sheet 1'!F:F,'Sheet 1'!E:E,Sum!A6)*12 -> 1.1257803e+10 | D6: =SUMIF('Sheet 1'!$E:$E,Sum!$A6,'Sheet 1'!Q:Q)*4 -> 25937968 | E6: =D6*F6 -> 25937968 | F6: 1 | G6: =SUMIF('Sheet 1'!$E:$E,Sum!$A6,'Sheet 1'!Q:Q)*12*1.15 -> 89485990 | H6: =G6*I6 -> 44742995 | I6: 0.5 | J6: =G6*1.05 -> 93960289 | K6: =J6*L6 -> 46980145 | L6: 0.5
A7: Հիվանդանոց Երևան >100m շրջ. ՊԵՏԱԿԱՆ | B7: =COUNTIF('Sheet 1'!$E$4:$E$469,Sum!A7) -> 5 | C7: =SUMIFS('Sheet 1'!F:F,'Sheet 1'!E:E,Sum!A7)*12 -> 11121053894 | D7: =SUMIF('Sheet 1'!$E:$E,Sum!$A7,'Sheet 1'!Q:Q)*4 -> 28500000 | E7: =D7*F7 -> 28500000 | F7: 1 | G7: =SUMIF('Sheet 1'!$E:$E,Sum!$A7,'Sheet 1'!Q:Q)*12*1.15 -> 98325000 | H7: =G7*I7 -> 49162500 | I7: 0.5 | J7: =G7*1.05 -> 1.0324125e+08 | K7: =J7*L7 -> 51620625 | L7: 0.5
A8: Հիվանդանոց Երևան <=100m շրջ. ՄԱՍՆԱՎՈՐ | B8: =COUNTIF('Sheet 1'!$E$4:$E$469,Sum!A8) -> 25 | C8: =SUMIFS('Sheet 1'!F:F,'Sheet 1'!E:E,Sum!A8)*12 -> 5044423402 | D8: =SUMIF('Sheet 1'!$E:$E,Sum!$A8,'Sheet 1'!Q:Q)*4 -> 19722275 | E8: =D8*F8 -> 19722275 | F8: 1 | G8: =SUMIF('Sheet 1'!$E:$E,Sum!$A8,'Sheet 1'!Q:Q)*12*1.15 -> 68041848 | H8: =G8*I8 -> 47629293 | I8: 0.7 | J8: =G8*1.05 -> 71443940 | K8: =J8*L8 -> 50010758 | L8: 0.7
A9: Հիվանդանոց Երևան <=100m շրջ. ՊԵՏԱԿԱՆ | B9: =COUNTIF('Sheet 1'!$E$4:$E$469,Sum!A9) -> 21 | C9: =SUMIFS('Sheet 1'!F:F,'Sheet 1'!E:E,Sum!A9)*12 -> 7689781679 | D9: =SUMIF('Sheet 1'!$E:$E,Sum!$A9,'Sheet 1'!Q:Q)*4 -> 23890034 | E9: =D9*F9 -> 23890034 | F9: 1 | G9: =SUMIF('Sheet 1'!$E:$E,Sum!$A9,'Sheet 1'!Q:Q)*12*1.15 -> 82420617 | H9: =G9*I9 -> 57694432 | I9: 0.7 | J9: =G9*1.05 -> 86541648 | K9: =J9*L9 -> 60579154 | L9: 0.7
A10: Հիվանդանոց Մարզ | B10: =COUNTIF('Sheet 1'!$E$4:$E$469,Sum!A10) -> 67 | C10: =SUMIFS('Sheet 1'!F:F,'Sheet 1'!E:E,Sum!A10)*12 -> 1.7294954e+10 | D10: =SUMIF('Sheet 1'!$E:$E,Sum!$A10,'Sheet 1'!Q:Q)*4 -> 73694397 | E10: =D10*F10 -> 73694397 | F10: 1 | G10: =SUMIF('Sheet 1'!$E:$E,Sum!$A10,'Sheet 1'!Q:Q)*12*1.15 -> 2.5424567e+08 | H10: =G10*I10 -> 1.7797197e+08 | I10: 0.7 | J10: =G10*1.05 -> 2.6695795e+08 | K10: =J10*L10 -> 1.8687057e+08 | L10: 0.7
A11: Հիվանդանոց Սահմանապահ | B11: =COUNTIF('Sheet 1'!$E$4:$E$469,Sum!A11) -> 3 | C11: =SUMIFS('Sheet 1'!F:F,'Sheet 1'!E:E,Sum!A11)*12 -> 491228745 | D11: =SUMIF('Sheet 1'!$E:$E,Sum!$A11,'Sheet 1'!Q:Q)*4 -> 2156860.7 | E11: =D11*F11 -> 2156860.7 | F11: 1 | G11: =SUMIF('Sheet 1'!$E:$E,Sum!$A11,'Sheet 1'!Q:Q)*12*1.15 -> 7441169.5 | H11: =G11*I11 -> 7441169.5 | I11: 1 | J11: =G11*1.15 -> 8557344.9 | K11: =J11*L11 -> 8557344.9 | L11: 1
A12: Պոլիկլինիկաներ և գյուղական ամբուլատորիաներ | B12: =SUM(B13:B15) -> 298 | C12: =SUM(C13:C15) -> 1.1855536e+10 | D12: =SUM(D13:D15) -> 21677376 | E12: =SUM(E13:E15) -> 21677376 | F12: =+E12/D12 -> 1 | G12: =SUM(G13:G15) -> 74786947 | H12: =SUM(H13:H15) -> 74786947 | I12: =+H12/G12 -> 1 | J12: =SUM(J13:J15) -> 78526295 | K12: =J12 -> 78526295 | L12: =+K12/J12 -> 1
A13: Պոլիկլինիկա Երևան | B13: =COUNTIF('Sheet 1'!$E$4:$E$469,Sum!A13) -> 30 | C13: =SUMIFS('Sheet 1'!F:F,'Sheet 1'!E:E,Sum!A13)*12 -> 4.570368e+09 | D13: =SUMIF('Sheet 1'!$E:$E,Sum!$A13,'Sheet 1'!Q:Q)*4 -> 6106960 | E13: =D13*F13 -> 6106960 | F13: 1 | G13: =SUMIF('Sheet 1'!$E:$E,Sum!$A13,'Sheet 1'!Q:Q)*12*1.15 -> 21069012 | H13: =G13*I13 -> 21069012 | I13: 1 | J13: =G13*1.05 -> 22122463 | K13: =J13*30% -> 6636738.8 | L13: 1
A14: Պոլիկլինիկա մարզ | B14: =COUNTIF('Sheet 1'!$E$4:$E$469,Sum!A14) -> 20 | C14: =SUMIFS('Sheet 1'!F:F,'Sheet 1'!E:E,Sum!A14)*12 -> 2292145837 | D14: =SUMIF('Sheet 1'!$E:$E,Sum!$A14,'Sheet 1'!Q:Q)*4 -> 4017056 | E14: =D14*F14 -> 4017056 | F14: 1 | G14: =SUMIF('Sheet 1'!$E:$E,Sum!$A14,'Sheet 1'!Q:Q)*12*1.15 -> 13858843 | H14: =G14*I14 -> 13858843 | I14: 1 | J14: =G14*1.05 -> 14551785 | K14: =J14*30% -> 4365535.6 | L14: 1
A15: Գյուղական ամբուլատորիա | B15: =COUNTIF('Sheet 1'!$E$4:$E$469,Sum!A15) -> 248 | C15: =SUMIFS('Sheet 1'!F:F,'Sheet 1'!E:E,Sum!A15)*12 -> 4.9930224e+09 | D15: =SUMIF('Sheet 1'!$E:$E,Sum!$A15,'Sheet 1'!Q:Q)*4 -> 11553360 | E15: =D15*F15 -> 11553360 | F15: 1 | G15: =SUMIF('Sheet 1'!$E:$E,Sum!$A15,'Sheet 1'!Q:Q)*12*1.15 -> 39859092 | H15: =G15*I15 -> 39859092 | I15: 1 | J15: =G15*1.05 -> 41852047 | K15: =J15*30% -> 12555614 | L15: 1
A16: Ատամնաբուժարան | B16: =COUNTIF('Sheet 1'!$E$4:$E$469,Sum!A16) -> 42 | C16: =SUMIFS('Sheet 1'!F:F,'Sheet 1'!E:E,Sum!A16)*12 -> 542393300 | D16: =SUMIF('Sheet 1'!$E:$E,Sum!$A16,'Sheet 1'!Q:Q)*4 -> 1357796.5 | E16: =F16*D16 -> 0 | F16: 0 | G16: =1500*5000*6 -> 45000000 | H16: 0 | I16: 0 | J16: =1500*5000*12 -> 90000000 | K16: 0 | L16: 0
A17: Դեղատուն | B17: =COUNTIF('Sheet 1'!$E$4:$E$469,Sum!A17) -> 0 | C17: 0 | D17: =SUMIF('Sheet 1'!$E:$E,Sum!$A17,'Sheet 1'!Q:Q)*4 -> 0 | E17: =D17*30% -> 0 | F17: 0 | G17: =6500000*6 -> 39000000 | H17: 0 | I17: 0 | J17: =8000000*12 -> 96000000 | K17: 0 | L17: 0
A18: Ապահովագրական | B18: =COUNTIF('Sheet 1'!$E$4:$E$469,Sum!A18) -> 0 | C18: 0 | D18: =94000*25*4 -> 9400000 | E18: 0 | F18: =+E18/D18 -> 0 | G18: =94000*30*12+612000*30*6 -> 144000000 | H18: 0 | I18: =+H18/G18 -> 0 | J18: =94000*30*12+612000*30*12 -> 254160000 | K18: 0 | L18: =+K18/J18 -> 0
A19: ԸՆԴԱՄԵՆԸ | B19: =B5+B12+B16+B17+B18 -> 466 | C19: =C5+C12+C16+C17+C18 -> 6.5297174e+10 | D19: =D5+D12+D16+D17+D18 -> 2.0633671e+08 | E19: =E5+E12+E16+E17+E18 -> 1.9557891e+08 | F19: =+E19/D19 -> 0.9478629 | G19: =G5+G12+G16+G17+G18 -> 9.0274724e+08 | H19: =H5+H12+H16+H17+H18 -> 4.594293e+08 | I19: =+H19/G19 -> 0.50892352 | J19: =J5+J12+J16+J17+J18 -> 1.1493887e+09 | K19: =K5+K12+K16+K17+K18 -> 4.8314489e+08 | L19: =+K19/J19 -> 0.42034942
A21: 100% ՍՈՒԲՍԻԴԱՎՈՐՈՒՄ
A22: 70% ՍՈՒԲՍԻԴԱՎՈՐՈՒՄ
A23: 50% ՍՈՒԲՍԻԴԱՎՈՐՈՒՄ
A24: 0% ՍՈՒԲՍԻԴԱՎՈՐՈՒՄ
A29: Հիմք ընդունելով համակարգում գրանցումների թվաքանակի դինամիկ աճը և ծառայությունների քանակը, մինչև տարեվերջ կանխատեսվող անհրաժեշտ գումարը` | D29: 233525500

Sheet Sheet4

Sheet Sheet3
B1: Մարզ | C1: Ամսեկան վճար (սեպտեմբերի օրինակով) | D1: Սուբսիդիա | E1: % | F1: Վճարում
B2: Երևան | C2: =SUMIF('Sheet 1'!B:B,Sheet3!B2,'Sheet 1'!Q:Q) -> 26222284 | D2: =SUMIF('Sheet 1'!B:B,Sheet3!B2,'Sheet 1'!S:S) -> 15963640 | E2: =D2/C2 -> 0.60878144 | F2: =SUMIF('Sheet 1'!B:B,Sheet3!B2,'Sheet 1'!T:T) -> 10258644
B3: Արագածոտն | C3: =SUMIF('Sheet 1'!B:B,Sheet3!B3,'Sheet 1'!Q:Q) -> 1596499.4 | D3: =SUMIF('Sheet 1'!B:B,Sheet3!B3,'Sheet 1'!S:S) -> 1175096.8 | E3: =D3/C3 -> 0.73604586 | F3: =SUMIF('Sheet 1'!B:B,Sheet3!B3,'Sheet 1'!T:T) -> 421402.63
B4: Արարատ | C4: =SUMIF('Sheet 1'!B:B,Sheet3!B4,'Sheet 1'!Q:Q) -> 2933117.2 | D4: =SUMIF('Sheet 1'!B:B,Sheet3!B4,'Sheet 1'!S:S) -> 2205289.2 | E4: =D4/C4 -> 0.75185855 | F4: =SUMIF('Sheet 1'!B:B,Sheet3!B4,'Sheet 1'!T:T) -> 727827.95
B5: Արմավիր | C5: =SUMIF('Sheet 1'!B:B,Sheet3!B5,'Sheet 1'!Q:Q) -> 2281745.8 | D5: =SUMIF('Sheet 1'!B:B,Sheet3!B5,'Sheet 1'!S:S) -> 1759171.6 | E5: =D5/C5 -> 0.77097615 | F5: =SUMIF('Sheet 1'!B:B,Sheet3!B5,'Sheet 1'!T:T) -> 522574.22
B6: Գեղարքունիք | C6: =SUMIF('Sheet 1'!B:B,Sheet3!B6,'Sheet 1'!Q:Q) -> 2405102.9 | D6: =SUMIF('Sheet 1'!B:B,Sheet3!B6,'Sheet 1'!S:S) -> 1884229.1 | E6: =D6/C6 -> 0.78342973 | F6: =SUMIF('Sheet 1'!B:B,Sheet3!B6,'Sheet 1'!T:T) -> 520873.77
B7: Լոռի | C7: =SUMIF('Sheet 1'!B:B,Sheet3!B7,'Sheet 1'!Q:Q) -> 3241039.4 | D7: =SUMIF('Sheet 1'!B:B,Sheet3!B7,'Sheet 1'!S:S) -> 2415448.8 | E7: =D7/C7 -> 0.74526982 | F7: =SUMIF('Sheet 1'!B:B,Sheet3!B7,'Sheet 1'!T:T) -> 825590.54
B8: Կոտայք | C8: =SUMIF('Sheet 1'!B:B,Sheet3!B8,'Sheet 1'!Q:Q) -> 2496898.5 | D8: =SUMIF('Sheet 1'!B:B,Sheet3!B8,'Sheet 1'!S:S) -> 1848613.5 | E8: =D8/C8 -> 0.74036388 | F8: =SUMIF('Sheet 1'!B:B,Sheet3!B8,'Sheet 1'!T:T) -> 648285.05
B9: Շիրակ | C9: =SUMIF('Sheet 1'!B:B,Sheet3!B9,'Sheet 1'!Q:Q) -> 3687506.7 | D9: =SUMIF('Sheet 1'!B:B,Sheet3!B9,'Sheet 1'!S:S) -> 2749407 | E9: =D9/C9 -> 0.74560054 | F9: =SUMIF('Sheet 1'!B:B,Sheet3!B9,'Sheet 1'!T:T) -> 938099.7
B10: Սյունիք | C10: =SUMIF('Sheet 1'!B:B,Sheet3!B10,'Sheet 1'!Q:Q) -> 2279393.4 | D10: =SUMIF('Sheet 1'!B:B,Sheet3!B10,'Sheet 1'!S:S) -> 1623265.5 | E10: =D10/C10 -> 0.71214803 | F10: =SUMIF('Sheet 1'!B:B,Sheet3!B10,'Sheet 1'!T:T) -> 656127.87
B11: Վայոց Ձոր | C11: =SUMIF('Sheet 1'!B:B,Sheet3!B11,'Sheet 1'!Q:Q) -> 699565.02 | D11: =SUMIF('Sheet 1'!B:B,Sheet3!B11,'Sheet 1'!S:S) -> 507847.91 | E11: =D11/C11 -> 0.72594812 | F11: =SUMIF('Sheet 1'!B:B,Sheet3!B11,'Sheet 1'!T:T) -> 191717.1
B12: Տավուշ | C12: =SUMIF('Sheet 1'!B:B,Sheet3!B12,'Sheet 1'!Q:Q) -> 1391024.1 | D12: =SUMIF('Sheet 1'!B:B,Sheet3!B12,'Sheet 1'!S:S) -> 1159969.1 | E12: =D12/C12 -> 0.83389575 | F12: =SUMIF('Sheet 1'!B:B,Sheet3!B12,'Sheet 1'!T:T) -> 231055.02
B13: ԸՆԴԱՄԵՆԸ | C13: =SUM(C2:C12) -> 49234177 | D13: =SUM(D2:D12) -> 33291979 | E13: =D13/C13 -> 0.67619651 | F13: =SUM(F2:F12) -> 15942198
