Workbook

Sheet Sep
A1: ԲՀ անվանում | B1: ԲՀ տիպ | C1: Մարզ | D1: Ամսեկան ֆիքսված գումար | E1: Հիվ. Այցերի քանակ | F1: Հիվ. Այցերի գումար | G1: Ամբ. Այցերի քանակ | H1: Ամբ. Այցերի գումար | I1: Օգտվողների քանակ | J1: Օգտվողների վճար | K1: Գումար առանց ԱԱՀ | L1: Գումար ներառյալԱԱՀ | M1: Ամսեկան սահմանաչափ | N1: Կցագրված բնակչություն | O1: Գումար առանց ԱԱՀ | P1: Գումար ներառյալԱԱՀ | Q1: % ՍԱՀՄԱՆԱՉԱՓԻՑ
A2: Ագարակի բժշկական ամբուլատորիա ՀՈԱԿ | B2: Ամբուլատորիա | C2: Արագածոտն | D2: 5000 | F2: =IF(E2="","",E2*1000) | G2: 175 | H2: =G2*30 -> 5250 | I2: 3 | J2: =I2*500 -> 1500 | K2: =IF(F2="",SUM(D2+H2+J2),SUM(D2+F2+H2+J2)) -> 11750 | L2: =K2*1.2 -> 14100 | M2: 1452257.3 | N2: 3151 | O2: =ROUND(P2*0.833333,0) -> 10503 | P2: =IF(N2="",L2,IF(B2="Ամբուլատորիա",IF(N2*4>15000,15000,N2*4),IF(B2="Պոլիկլինիկա",IF(N2*4>75000,75000,N2*4),IF(B2="Բժշկական կենտրոն",IF(N2*4>75000,75000+80000+F2*1.2+J2*1.2,N2*4+80000+F2*1.2+J2*1.2),L2)))) -> 12604 | Q2: =IF(M2="",0,ROUND(P2*100/M2,2)) -> 0.87
A3: Աշտարակի բժշկական կենտրոն ՓԲԸ | B3: Բժշկական կենտրոն | C3: Արագածոտն | D3: 130000 | E3: 177 | F3: =IF(E3="","",E3*1000) -> 177000 | G3: 1428 | H3: =G3*30 -> 42840 | I3: 16 | J3: =I3*500 -> 8000 | K3: =IF(F3="",SUM(D3+H3+J3),SUM(D3+F3+H3+J3)) -> 357840 | L3: =K3*1.2 -> 429408 | M3: 32887999 | N3: 18981 | O3: =ROUND(P3*0.833333,0) -> 314167 | P3: =IF(N3="",L3,IF(B3="Ամբուլատորիա",IF(N3*4>15000,15000,N3*4),IF(B3="Պոլիկլինիկա",IF(N3*4>75000,75000,N3*4),IF(B3="Բժշկական կենտրոն",IF(N3*4>75000,75000+80000+F3*1.2+J3*1.2,N3*4+80000+F3*1.2+J3*1.2),L3)))) -> 377000 | Q3: =IF(M3="",0,ROUND(P3*100/M3,2)) -> 1.15
A4: Ապարանի բժշկական կենտրոն ՓԲԸ | B4: Բժշկական կենտրոն | C4: Արագածոտն | D4: 130000 | E4: 82 | F4: =IF(E4="","",E4*1000) -> 82000 | G4: 679 | H4: =G4*30 -> 20370 | I4: 15 | J4: =I4*500 -> 7500 | K4: =IF(F4="",SUM(D4+H4+J4),SUM(D4+F4+H4+J4)) -> 239870 | L4: =K4*1.2 -> 287844 | M4: 19700040 | N4: 8650 | O4: =ROUND(P4*0.833333,0) -> 185000 | P4: =IF(N4="",L4,IF(B4="Ամբուլատորիա",IF(N4*4>15000,15000,N4*4),IF(B4="Պոլիկլինիկա",IF(N4*4>75000,75000,N4*4),IF(B4="Բժշկական կենտրոն",IF(N4*4>75000,75000+80000+F4*1.2+J4*1.2,N4*4+80000+F4*1.2+J4*1.2),L4)))) -> 222000 | Q4: =IF(M4="",0,ROUND(P4*100/M4,2)) -> 1.13
A5: Ասյա Մարկոսյանի անվան Կոշ բժշկական ամբուլատորիա ՀՈԱԿ | B5: Ամբուլատորիա | C5: Արագածոտն | D5: 5000 | F5: =IF(E5="","",E5*1000) | G5: 408 | H5: =G5*30 -> 12240 | I5: 3 | J5: =I5*500 -> 1500 | K5: =IF(F5="",SUM(D5+H5+J5),SUM(D5+F5+H5+J5)) -> 18740 | L5: =K5*1.2 -> 22488 | M5: 1833788.8 | N5: 3962 | O5: =ROUND(P5*0.833333,0) -> 12500 | P5: =IF(N5="",L5,IF(B5="Ամբուլատորիա",IF(N5*4>15000,15000,N5*4),IF(B5="Պոլիկլինիկա",IF(N5*4>75000,75000,N5*4),IF(B5="Բժշկական կենտրոն",IF(N5*4>75000,75000+80000+F5*1.2+J5*1.2,N5*4+80000+F5*1.2+J5*1.2),L5)))) -> 15000 | Q5: =IF(M5="",0,ROUND(P5*100/M5,2)) -> 0.82
A6: Արագածավանի առողջության կենտրոն ՀՈԱԿ | B6: Ամբուլատորիա | C6: Արագածոտն | D6: 5000 | F6: =IF(E6="","",E6*1000) | G6: 752 | H6: =G6*30 -> 22560 | I6: 3 | J6: =I6*500 -> 1500 | K6: =IF(F6="",SUM(D6+H6+J6),SUM(D6+F6+H6+J6)) -> 29060 | L6: =K6*1.2 -> 34872 | M6: 2528046.9 | N6: 5265 | O6: =ROUND(P6*0.833333,0) -> 12500 | P6: =IF(N6="",L6,IF(B6="Ամբուլատորիա",IF(N6*4>15000,15000,N6*4),IF(B6="Պոլիկլինիկա",IF(N6*4>75000,75000,N6*4),IF(B6="Բժշկական կենտրոն",IF(N6*4>75000,75000+80000+F6*1.2+J6*1.2,N6*4+80000+F6*1.2+J6*1.2),L6)))) -> 15000 | Q6: =IF(M6="",0,ROUND(P6*100/M6,2)) -> 0.59
A7: Արագածի առողջության կենտրոն ՀՈԱԿ | B7: Բժշկական կենտրոն | C7: Արագածոտն | D7: 130000 | E7: 5 | F7: =IF(E7="","",E7*1000) -> 5000 | G7: 267 | H7: =G7*30 -> 8010 | I7: 3 | J7: =I7*500 -> 1500 | K7: =IF(F7="",SUM(D7+H7+J7),SUM(D7+F7+H7+J7)) -> 144510 | L7: =K7*1.2 -> 173412 | M7: 3082298.4 | N7: 3863 | O7: =ROUND(P7*0.833333,0) -> 86043 | P7: =IF(N7="",L7,IF(B7="Ամբուլատորիա",IF(N7*4>15000,15000,N7*4),IF(B7="Պոլիկլինիկա",IF(N7*4>75000,75000,N7*4),IF(B7="Բժշկական կենտրոն",IF(N7*4>75000,75000+80000+F7*1.2+J7*1.2,N7*4+80000+F7*1.2+J7*1.2),L7)))) -> 103252 | Q7: =IF(M7="",0,ROUND(P7*100/M7,2)) -> 3.35
A8: Արմենակ և Աննա Թադեոսեանների բժշկական կենտրոն հիմնադրամ | B8: Բժշկական կենտրոն | C8: Արագածոտն | D8: 130000 | E8: 8 | F8: =IF(E8="","",E8*1000) -> 8000 | G8: 9 | H8: =G8*30 -> 270 | I8: 4 | J8: =I8*500 -> 2000 | K8: =IF(F8="",SUM(D8+H8+J8),SUM(D8+F8+H8+J8)) -> 140270 | L8: =K8*1.2 -> 168324 | M8: 2488650 | O8: =ROUND(P8*0.833333,0) -> 140270 | P8: =IF(N8="",L8,IF(B8="Ամբուլատորիա",IF(N8*4>15000,15000,N8*4),IF(B8="Պոլիկլինիկա",IF(N8*4>75000,75000,N8*4),IF(B8="Բժշկական կենտրոն",IF(N8*4>75000,75000+80000+F8*1.2+J8*1.2,N8*4+80000+F8*1.2+J8*1.2),L8)))) -> 168324 | Q8: =IF(M8="",0,ROUND(P8*100/M8,2)) -> 6.76
A9: Արուճի բժշկական ամբուլատորիա ՀՈԱԿ | B9: Ամբուլատորիա | C9: Արագածոտն | D9: 5000 | F9: =IF(E9="","",E9*1000) | G9: 508 | H9: =G9*30 -> 15240 | I9: 5 | J9: =I9*500 -> 2500 | K9: =IF(F9="",SUM(D9+H9+J9),SUM(D9+F9+H9+J9)) -> 22740 | L9: =K9*1.2 -> 27288 | M9: 1343089.5 | N9: 2481 | O9: =ROUND(P9*0.833333,0) -> 8270 | P9: =IF(N9="",L9,IF(B9="Ամբուլատորիա",IF(N9*4>15000,15000,N9*4),IF(B9="Պոլիկլինիկա",IF(N9*4>75000,75000,N9*4),IF(B9="Բժշկական կենտրոն",IF(N9*4>75000,75000+80000+F9*1.2+J9*1.2,N9*4+80000+F9*1.2+J9*1.2),L9)))) -> 9924 | Q9: =IF(M9="",0,ROUND(P9*100/M9,2)) -> 0.74
A10: Արտենիի առողջության կենտրոն ՊՈԱԿ | B10: Բժշկական կենտրոն | C10: Արագածոտն | D10: 130000 | E10: 5 | F10: =IF(E10="","",E10*1000) -> 5000 | G10: 381 | H10: =G10*30 -> 11430 | I10: 5 | J10: =I10*500 -> 2500 | K10: =IF(F10="",SUM(D10+H10+J10),SUM(D10+F10+H10+J10)) -> 148930 | L10: =K10*1.2 -> 178716 | M10: 2012014.7 | N10: 3170 | O10: =ROUND(P10*0.833333,0) -> 84733 | P10: =IF(N10="",L10,IF(B10="Ամբուլատորիա",IF(N10*4>15000,15000,N10*4),IF(B10="Պոլիկլինիկա",IF(N10*4>75000,75000,N10*4),IF(B10="Բժշկական կենտրոն",IF(N10*4>75000,75000+80000+F10*1.2+J10*1.2,N10*4+80000+F10*1.2+J10*1.2),L10)))) -> 101680 | Q10: =IF(M10="",0,ROUND(P10*100/M10,2)) -> 5.05
A11: Բյուրականի բժշկական ամբուլատորիա ՓԲԸ | B11: Ամբուլատորիա | C11: Արագածոտն | D11: 5000 | F11: =IF(E11="","",E11*1000) | G11: 403 | H11: =G11*30 -> 12090 | I11: 3 | J11: =I11*500 -> 1500 | K11: =IF(F11="",SUM(D11+H11+J11),SUM(D11+F11+H11+J11)) -> 18590 | L11: =K11*1.2 -> 22308 | M11: 2223764.4 | N11: 4546 | O11: =ROUND(P11*0.833333,0) -> 12500 | P11: =IF(N11="",L11,IF(B11="Ամբուլատորիա",IF(N11*4>15000,15000,N11*4),IF(B11="Պոլիկլինիկա",IF(N11*4>75000,75000,N11*4),IF(B11="Բժշկական կենտրոն",IF(N11*4>75000,75000+80000+F11*1.2+J11*1.2,N11*4+80000+F11*1.2+J11*1.2),L11)))) -> 15000 | Q11: =IF(M11="",0,ROUND(P11*100/M11,2)) -> 0.67
A12: Թալինի բժշկական կենտրոն ՓԲԸ | B12: Բժշկական կենտրոն | C12: Արագածոտն | D12: 130000 | E12: 89 | F12: =IF(E12="","",E12*1000) -> 89000 | G12: 1225 | H12: =G12*30 -> 36750 | I12: 10 | J12: =I12*500 -> 5000 | K12: =IF(F12="",SUM(D12+H12+J12),SUM(D12+F12+H12+J12)) -> 260750 | L12: =K12*1.2 -> 312900 | M12: 25461690 | N12: 11539 | O12: =ROUND(P12*0.833333,0) -> 199130 | P12: =IF(N12="",L12,IF(B12="Ամբուլատորիա",IF(N12*4>15000,15000,N12*4),IF(B12="Պոլիկլինիկա",IF(N12*4>75000,75000,N12*4),IF(B12="Բժշկական կենտրոն",IF(N12*4>75000,75000+80000+F12*1.2+J12*1.2,N12*4+80000+F12*1.2+J12*1.2),L12)))) -> 238956 | Q12: =IF(M12="",0,ROUND(P12*100/M12,2)) -> 0.94
A13: Լիլիդենտիս ՍՊԸ | B13: Ատամնաբուժարան | C13: Արագածոտն | D13: 7000 | F13: =IF(E13="","",E13*1000) | G13: 29 | H13: =G13*30 -> 870 | I13: 3 | J13: =I13*500 -> 1500 | K13: =IF(F13="",SUM(D13+H13+J13),SUM(D13+F13+H13+J13)) -> 9370 | L13: =K13*1.2 -> 11244 | M13: 725275 | O13: =ROUND(P13*0.833333,0) -> 9370 | P13: =IF(N13="",L13,IF(B13="Ամբուլատորիա",IF(N13*4>15000,15000,N13*4),IF(B13="Պոլիկլինիկա",IF(N13*4>75000,75000,N13*4),IF(B13="Բժշկական կենտրոն",IF(N13*4>75000,75000+80000+F13*1.2+J13*1.2,N13*4+80000+F13*1.2+J13*1.2),L13)))) -> 11244 | Q13: =IF(M13="",0,ROUND(P13*100/M13,2)) -> 1.55
A14: Ծաղկահովիտի բժշկական կենտրոն ՓԲԸ | B14: Բժշկական կենտրոն | C14: Արագածոտն | D14: 130000 | E14: 15 | F14: =IF(E14="","",E14*1000) -> 15000 | G14: 577 | H14: =G14*30 -> 17310 | I14: 7 | J14: =I14*500 -> 3500 | K14: =IF(F14="",SUM(D14+H14+J14),SUM(D14+F14+H14+J14)) -> 165810 | L14: =K14*1.2 -> 198972 | M14: 14418427 | N14: 8976 | O14: =ROUND(P14*0.833333,0) -> 115087 | P14: =IF(N14="",L14,IF(B14="Ամբուլատորիա",IF(N14*4>15000,15000,N14*4),IF(B14="Պոլիկլինիկա",IF(N14*4>75000,75000,N14*4),IF(B14="Բժշկական կենտրոն",IF(N14*4>75000,75000+80000+F14*1.2+J14*1.2,N14*4+80000+F14*1.2+J14*1.2),L14)))) -> 138104 | Q14: =IF(M14="",0,ROUND(P14*100/M14,2)) -> 0.96
A15: Կարբիի բժշկական ամբուլատորիա ՀՈԱԿ | B15: Ամբուլատորիա | C15: Արագածոտն | D15: 5000 | F15: =IF(E15="","",E15*1000) | G15: 411 | H15: =G15*30 -> 12330 | I15: 3 | J15: =I15*500 -> 1500 | K15: =IF(F15="",SUM(D15+H15+J15),SUM(D15+F15+H15+J15)) -> 18830 | L15: =K15*1.2 -> 22596 | M15: 3173412.4 | N15: 6677 | O15: =ROUND(P15*0.833333,0) -> 12500 | P15: =IF(N15="",L15,IF(B15="Ամբուլատորիա",IF(N15*4>15000,15000,N15*4),IF(B15="Պոլիկլինիկա",IF(N15*4>75000,75000,N15*4),IF(B15="Բժշկական կենտրոն",IF(N15*4>75000,75000+80000+F15*1.2+J15*1.2,N15*4+80000+F15*1.2+J15*1.2),L15)))) -> 15000 | Q15: =IF(M15="",0,ROUND(P15*100/M15,2)) -> 0.47
A16: Մաստարայի բժշկական ամբուլատորիա ՀՈԱԿ | B16: Ամբուլատորիա | C16: Արագածոտն | D16: 5000 | F16: =IF(E16="","",E16*1000) | G16: 197 | H16: =G16*30 -> 5910 | I16: 3 | J16: =I16*500 -> 1500 | K16: =IF(F16="",SUM(D16+H16+J16),SUM(D16+F16+H16+J16)) -> 12410 | L16: =K16*1.2 -> 14892 | M16: 1694406.1 | N16: 3370 | O16: =ROUND(P16*0.833333,0) -> 11233 | P16: =IF(N16="",L16,IF(B16="Ամբուլատորիա",IF(N16*4>15000,15000,N16*4),IF(B16="Պոլիկլինիկա",IF(N16*4>75000,75000,N16*4),IF(B16="Բժշկական կենտրոն",IF(N16*4>75000,75000+80000+F16*1.2+J16*1.2,N16*4+80000+F16*1.2+J16*1.2),L16)))) -> 13480 | Q16: =IF(M16="",0,ROUND(P16*100/M16,2)) -> 0.8
A17: Ն. Բազմաբերդի բժշկական ամբուլատորիա ՀՈԱԿ | B17: Ամբուլատորիա | C17: Արագածոտն | D17: 5000 | F17: =IF(E17="","",E17*1000) | G17: 731 | H17: =G17*30 -> 21930 | I17: 4 | J17: =I17*500 -> 2000 | K17: =IF(F17="",SUM(D17+H17+J17),SUM(D17+F17+H17+J17)) -> 28930 | L17: =K17*1.2 -> 34716 | M17: 3306338.1 | N17: 5107 | O17: =ROUND(P17*0.833333,0) -> 12500 | P17: =IF(N17="",L17,IF(B17="Ամբուլատորիա",IF(N17*4>15000,15000,N17*4),IF(B17="Պոլիկլինիկա",IF(N17*4>75000,75000,N17*4),IF(B17="Բժշկական կենտրոն",IF(N17*4>75000,75000+80000+F17*1.2+J17*1.2,N17*4+80000+F17*1.2+J17*1.2),L17)))) -> 15000 | Q17: =IF(M17="",0,ROUND(P17*100/M17,2)) -> 0.45
A18: Նարեկ ԱԿ ՍՊԸ | B18: Ամբուլատորիա | C18: Արագածոտն | D18: 5000 | F18: =IF(E18="","",E18*1000) | G18: 215 | H18: =G18*30 -> 6450 | I18: 7 | J18: =I18*500 -> 3500 | K18: =IF(F18="",SUM(D18+H18+J18),SUM(D18+F18+H18+J18)) -> 14950 | L18: =K18*1.2 -> 17940 | M18: 816936.67 | N18: 3011 | O18: =ROUND(P18*0.833333,0) -> 10037 | P18: =IF(N18="",L18,IF(B18="Ամբուլատորիա",IF(N18*4>15000,15000,N18*4),IF(B18="Պոլիկլինիկա",IF(N18*4>75000,75000,N18*4),IF(B18="Բժշկական կենտրոն",IF(N18*4>75000,75000+80000+F18*1.2+J18*1.2,N18*4+80000+F18*1.2+J18*1.2),L18)))) -> 12044 | Q18: =IF(M18="",0,ROUND(P18*100/M18,2)) -> 1.47
A19: Շենավանի բժշկական ամբուլատորիա ՀՈԱԿ | B19: Ամբուլատորիա | C19: Արագածոտն | D19: 5000 | F19: =IF(E19="","",E19*1000) | G19: 208 | H19: =G19*30 -> 6240 | I19: 3 | J19: =I19*500 -> 1500 | K19: =IF(F19="",SUM(D19+H19+J19),SUM(D19+F19+H19+J19)) -> 12740 | L19: =K19*1.2 -> 15288 | M19: 1851919.8 | N19: 3283 | O19: =ROUND(P19*0.833333,0) -> 10943 | P19: =IF(N19="",L19,IF(B19="Ամբուլատորիա",IF(N19*4>15000,15000,N19*4),IF(B19="Պոլիկլինիկա",IF(N19*4>75000,75000,N19*4),IF(B19="Բժշկական կենտրոն",IF(N19*4>75000,75000+80000+F19*1.2+J19*1.2,N19*4+80000+F19*1.2+J19*1.2),L19)))) -> 13132 | Q19: =IF(M19="",0,ROUND(P19*100/M19,2)) -> 0.71
A20: Ոսկեվազի բժշկական ամբուլատորիա ՀՈԱԿ | B20: Ամբուլատորիա | C20: Արագածոտն | D20: 5000 | F20: =IF(E20="","",E20*1000) | G20: 769 | H20: =G20*30 -> 23070 | I20: 3 | J20: =I20*500 -> 1500 | K20: =IF(F20="",SUM(D20+H20+J20),SUM(D20+F20+H20+J20)) -> 29570 | L20: =K20*1.2 -> 35484 | M20: 2017988.3 | N20: 4585 | O20: =ROUND(P20*0.833333,0) -> 12500 | P20: =IF(N20="",L20,IF(B20="Ամբուլատորիա",IF(N20*4>15000,15000,N20*4),IF(B20="Պոլիկլինիկա",IF(N20*4>75000,75000,N20*4),IF(B20="Բժշկական կենտրոն",IF(N20*4>75000,75000+80000+F20*1.2+J20*1.2,N20*4+80000+F20*1.2+J20*1.2),L20)))) -> 15000 | Q20: =IF(M20="",0,ROUND(P20*100/M20,2)) -> 0.74
A21: Ուշիի առողջության ԱԱՊԿ ՀՈԱԿ | B21: Ամբուլատորիա | C21: Արագածոտն | D21: 5000 | F21: =IF(E21="","",E21*1000) | G21: 50 | H21: =G21*30 -> 1500 | I21: 3 | J21: =I21*500 -> 1500 | K21: =IF(F21="",SUM(D21+H21+J21),SUM(D21+F21+H21+J21)) -> 8000 | L21: =K21*1.2 -> 9600 | M21: 630174.17 | N21: 1365 | O21: =ROUND(P21*0.833333,0) -> 4550 | P21: =IF(N21="",L21,IF(B21="Ամբուլատորիա",IF(N21*4>15000,15000,N21*4),IF(B21="Պոլիկլինիկա",IF(N21*4>75000,75000,N21*4),IF(B21="Բժշկական կենտրոն",IF(N21*4>75000,75000+80000+F21*1.2+J21*1.2,N21*4+80000+F21*1.2+J21*1.2),L21)))) -> 5460 | Q21: =IF(M21="",0,ROUND(P21*100/M21,2)) -> 0.87
A22: ՈՒջանի բժշկական ամբուլատորիա ՀՈԱԿ | B22: Ամբուլատորիա | C22: Արագածոտն | D22: 5000 | F22: =IF(E22="","",E22*1000) | G22: 230 | H22: =G22*30 -> 6900 | I22: 4 | J22: =I22*500 -> 2000 | K22: =IF(F22="",SUM(D22+H22+J22),SUM(D22+F22+H22+J22)) -> 13900 | L22: =K22*1.2 -> 16680 | M22: 2038298.6 | N22: 4134 | O22: =ROUND(P22*0.833333,0) -> 12500 | P22: =IF(N22="",L22,IF(B22="Ամբուլատորիա",IF(N22*4>15000,15000,N22*4),IF(B22="Պոլիկլինիկա",IF(N22*4>75000,75000,N22*4),IF(B22="Բժշկական կենտրոն",IF(N22*4>75000,75000+80000+F22*1.2+J22*1.2,N22*4+80000+F22*1.2+J22*1.2),L22)))) -> 15000 | Q22: =IF(M22="",0,ROUND(P22*100/M22,2)) -> 0.74
A23: Սասունիկի բժշկական ամբուլատորիա ՀՈԱԿ | B23: Ամբուլատորիա | C23: Արագածոտն | D23: 5000 | F23: =IF(E23="","",E23*1000) | G23: 74 | H23: =G23*30 -> 2220 | I23: 3 | J23: =I23*500 -> 1500 | K23: =IF(F23="",SUM(D23+H23+J23),SUM(D23+F23+H23+J23)) -> 8720 | L23: =K23*1.2 -> 10464 | M23: 1160713.8 | N23: 2227 | O23: =ROUND(P23*0.833333,0) -> 7423 | P23: =IF(N23="",L23,IF(B23="Ամբուլատորիա",IF(N23*4>15000,15000,N23*4),IF(B23="Պոլիկլինիկա",IF(N23*4>75000,75000,N23*4),IF(B23="Բժշկական կենտրոն",IF(N23*4>75000,75000+80000+F23*1.2+J23*1.2,N23*4+80000+F23*1.2+J23*1.2),L23)))) -> 8908 | Q23: =IF(M23="",0,ROUND(P23*100/M23,2)) -> 0.77
A24: Փարպիի բժշկական ամբուլատորիա ՀՈԱԿ | B24: Ամբուլատորիա | C24: Արագածոտն | D24: 5000 | F24: =IF(E24="","",E24*1000) | G24: 344 | H24: =G24*30 -> 10320 | I24: 5 | J24: =I24*500 -> 2500 | K24: =IF(F24="",SUM(D24+H24+J24),SUM(D24+F24+H24+J24)) -> 17820 | L24: =K24*1.2 -> 21384 | M24: 1558845.4 | N24: 3123 | O24: =ROUND(P24*0.833333,0) -> 10410 | P24: =IF(N24="",L24,IF(B24="Ամբուլատորիա",IF(N24*4>15000,15000,N24*4),IF(B24="Պոլիկլինիկա",IF(N24*4>75000,75000,N24*4),IF(B24="Բժշկական կենտրոն",IF(N24*4>75000,75000+80000+F24*1.2+J24*1.2,N24*4+80000+F24*1.2+J24*1.2),L24)))) -> 12492 | Q24: =IF(M24="",0,ROUND(P24*100/M24,2)) -> 0.8
A25: Քուչակի բժշկական ամբուլատորիա ՀՈԱԿ | B25: Ամբուլատորիա | C25: Արագածոտն | D25: 5000 | F25: =IF(E25="","",E25*1000) | G25: 40 | H25: =G25*30 -> 1200 | I25: 3 | J25: =I25*500 -> 1500 | K25: =IF(F25="",SUM(D25+H25+J25),SUM(D25+F25+H25+J25)) -> 7700 | L25: =K25*1.2 -> 9240 | M25: 1223480.7 | N25: 1895 | O25: =ROUND(P25*0.833333,0) -> 6317 | P25: =IF(N25="",L25,IF(B25="Ամբուլատորիա",IF(N25*4>15000,15000,N25*4),IF(B25="Պոլիկլինիկա",IF(N25*4>75000,75000,N25*4),IF(B25="Բժշկական կենտրոն",IF(N25*4>75000,75000+80000+F25*1.2+J25*1.2,N25*4+80000+F25*1.2+J25*1.2),L25)))) -> 7580 | Q25: =IF(M25="",0,ROUND(P25*100/M25,2)) -> 0.62
A26: Օշականի բժշկական ամբուլատորիա ՀՈԱԿ | B26: Ամբուլատորիա | C26: Արագածոտն | D26: 5000 | F26: =IF(E26="","",E26*1000) | G26: 439 | H26: =G26*30 -> 13170 | I26: 3 | J26: =I26*500 -> 1500 | K26: =IF(F26="",SUM(D26+H26+J26),SUM(D26+F26+H26+J26)) -> 19670 | L26: =K26*1.2 -> 23604 | M26: 2066402.7 | N26: 4584 | O26: =ROUND(P26*0.833333,0) -> 12500 | P26: =IF(N26="",L26,IF(B26="Ամբուլատորիա",IF(N26*4>15000,15000,N26*4),IF(B26="Պոլիկլինիկա",IF(N26*4>75000,75000,N26*4),IF(B26="Բժշկական կենտրոն",IF(N26*4>75000,75000+80000+F26*1.2+J26*1.2,N26*4+80000+F26*1.2+J26*1.2),L26)))) -> 15000 | Q26: =IF(M26="",0,ROUND(P26*100/M26,2)) -> 0.73
A27: Օշականի մանկական առողջարան ՓԲԸ | B27: Առողջարան | C27: Արագածոտն | D27: 50000 | F27: =IF(E27="","",E27*1000) | G27: 0 | H27: =G27*30 -> 0 | I27: 5 | J27: =I27*500 -> 2500 | K27: =IF(F27="",SUM(D27+H27+J27),SUM(D27+F27+H27+J27)) -> 52500 | L27: =K27*1.2 -> 63000 | M27: 1158333.3 | O27: =ROUND(P27*0.833333,0) -> 52500 | P27: =IF(N27="",L27,IF(B27="Ամբուլատորիա",IF(N27*4>15000,15000,N27*4),IF(B27="Պոլիկլինիկա",IF(N27*4>75000,75000,N27*4),IF(B27="Բժշկական կենտրոն",IF(N27*4>75000,75000+80000+F27*1.2+J27*1.2,N27*4+80000+F27*1.2+J27*1.2),L27)))) -> 63000 | Q27: =IF(M27="",0,ROUND(P27*100/M27,2)) -> 5.44
A28: Ազատավանի ԱԱՊԿ ՓԲԸ | B28: Ամբուլատորիա | C28: Արարատ | D28: 5000 | F28: =IF(E28="","",E28*1000) | G28: 221 | H28: =G28*30 -> 6630 | I28: 4 | J28: =I28*500 -> 2000 | K28: =IF(F28="",SUM(D28+H28+J28),SUM(D28+F28+H28+J28)) -> 13630 | L28: =K28*1.2 -> 16356 | M28: 2178739.4 | N28: 3376 | O28: =ROUND(P28*0.833333,0) -> 11253 | P28: =IF(N28="",L28,IF(B28="Ամբուլատորիա",IF(N28*4>15000,15000,N28*4),IF(B28="Պոլիկլինիկա",IF(N28*4>75000,75000,N28*4),IF(B28="Բժշկական կենտրոն",IF(N28*4>75000,75000+80000+F28*1.2+J28*1.2,N28*4+80000+F28*1.2+J28*1.2),L28)))) -> 13504 | Q28: =IF(M28="",0,ROUND(P28*100/M28,2)) -> 0.62
A29: Ակ. Ա.Հայրիյանի անվան Արմաշի ԱԿ ՓԲԸ | B29: Բժշկական կենտրոն | C29: Արարատ | D29: 130000 | E29: 82 | F29: =IF(E29="","",E29*1000) -> 82000 | G29: 81 | H29: =G29*30 -> 2430 | I29: 8 | J29: =I29*500 -> 4000 | K29: =IF(F29="",SUM(D29+H29+J29),SUM(D29+F29+H29+J29)) -> 218430 | L29: =K29*1.2 -> 262116 | M29: 13184614 | N29: 3392 | O29: =ROUND(P29*0.833333,0) -> 163973 | P29: =IF(N29="",L29,IF(B29="Ամբուլատորիա",IF(N29*4>15000,15000,N29*4),IF(B29="Պոլիկլինիկա",IF(N29*4>75000,75000,N29*4),IF(B29="Բժշկական կենտրոն",IF(N29*4>75000,75000+80000+F29*1.2+J29*1.2,N29*4+80000+F29*1.2+J29*1.2),L29)))) -> 196768 | Q29: =IF(M29="",0,ROUND(P29*100/M29,2)) -> 1.49
A30: Այգավանի ԲԱ ՓԲԸ | B30: Ամբուլատորիա | C30: Արարատ | D30: 5000 | F30: =IF(E30="","",E30*1000) | G30: 205 | H30: =G30*30 -> 6150 | I30: 3 | J30: =I30*500 -> 1500 | K30: =IF(F30="",SUM(D30+H30+J30),SUM(D30+F30+H30+J30)) -> 12650 | L30: =K30*1.2 -> 15180 | M30: 1691597.2 | N30: 3392 | O30: =ROUND(P30*0.833333,0) -> 11307 | P30: =IF(N30="",L30,IF(B30="Ամբուլատորիա",IF(N30*4>15000,15000,N30*4),IF(B30="Պոլիկլինիկա",IF(N30*4>75000,75000,N30*4),IF(B30="Բժշկական կենտրոն",IF(N30*4>75000,75000+80000+F30*1.2+J30*1.2,N30*4+80000+F30*1.2+J30*1.2),L30)))) -> 13568 | Q30: =IF(M30="",0,ROUND(P30*100/M30,2)) -> 0.8
A31: Այգեզարդի ԱԱՊԿ ՊՈԱԿ | B31: Ամբուլատորիա | C31: Արարատ | D31: 5000 | F31: =IF(E31="","",E31*1000) | G31: 394 | H31: =G31*30 -> 11820 | I31: 3 | J31: =I31*500 -> 1500 | K31: =IF(F31="",SUM(D31+H31+J31),SUM(D31+F31+H31+J31)) -> 18320 | L31: =K31*1.2 -> 21984 | M31: 2091990 | N31: 4456 | O31: =ROUND(P31*0.833333,0) -> 12500 | P31: =IF(N31="",L31,IF(B31="Ամբուլատորիա",IF(N31*4>15000,15000,N31*4),IF(B31="Պոլիկլինիկա",IF(N31*4>75000,75000,N31*4),IF(B31="Բժշկական կենտրոն",IF(N31*4>75000,75000+80000+F31*1.2+J31*1.2,N31*4+80000+F31*1.2+J31*1.2),L31)))) -> 15000 | Q31: =IF(M31="",0,ROUND(P31*100/M31,2)) -> 0.72
A32: Այգեստանի ԱԱՊԿ ՓԲԸ | B32: Ամբուլատորիա | C32: Արարատ | D32: 5000 | F32: =IF(E32="","",E32*1000) | G32: 186 | H32: =G32*30 -> 5580 | I32: 3 | J32: =I32*500 -> 1500 | K32: =IF(F32="",SUM(D32+H32+J32),SUM(D32+F32+H32+J32)) -> 12080 | L32: =K32*1.2 -> 14496 | M32: 1467014.6 | N32: 3209 | O32: =ROUND(P32*0.833333,0) -> 10697 | P32: =IF(N32="",L32,IF(B32="Ամբուլատորիա",IF(N32*4>15000,15000,N32*4),IF(B32="Պոլիկլինիկա",IF(N32*4>75000,75000,N32*4),IF(B32="Բժշկական կենտրոն",IF(N32*4>75000,75000+80000+F32*1.2+J32*1.2,N32*4+80000+F32*1.2+J32*1.2),L32)))) -> 12836 | Q32: =IF(M32="",0,ROUND(P32*100/M32,2)) -> 0.87
A33: Այնթապի ԲԱ ՀՈԱԿ | B33: Ամբուլատորիա | C33: Արարատ | D33: 5000 | F33: =IF(E33="","",E33*1000) | G33: 427 | H33: =G33*30 -> 12810 | I33: 4 | J33: =I33*500 -> 2000 | K33: =IF(F33="",SUM(D33+H33+J33),SUM(D33+F33+H33+J33)) -> 19810 | L33: =K33*1.2 -> 23772 | M33: 3002123.5 | N33: 6940 | O33: =ROUND(P33*0.833333,0) -> 12500 | P33: =IF(N33="",L33,IF(B33="Ամբուլատորիա",IF(N33*4>15000,15000,N33*4),IF(B33="Պոլիկլինիկա",IF(N33*4>75000,75000,N33*4),IF(B33="Բժշկական կենտրոն",IF(N33*4>75000,75000+80000+F33*1.2+J33*1.2,N33*4+80000+F33*1.2+J33*1.2),L33)))) -> 15000 | Q33: =IF(M33="",0,ROUND(P33*100/M33,2)) -> 0.5
A34: Ավշարի ԲԱ ՓԲԸ | B34: Ամբուլատորիա | C34: Արարատ | D34: 5000 | F34: =IF(E34="","",E34*1000) | G34: 215 | H34: =G34*30 -> 6450 | I34: 3 | J34: =I34*500 -> 1500 | K34: =IF(F34="",SUM(D34+H34+J34),SUM(D34+F34+H34+J34)) -> 12950 | L34: =K34*1.2 -> 15540 | M34: 1685987.5 | N34: 3661 | O34: =ROUND(P34*0.833333,0) -> 12203 | P34: =IF(N34="",L34,IF(B34="Ամբուլատորիա",IF(N34*4>15000,15000,N34*4),IF(B34="Պոլիկլինիկա",IF(N34*4>75000,75000,N34*4),IF(B34="Բժշկական կենտրոն",IF(N34*4>75000,75000+80000+F34*1.2+J34*1.2,N34*4+80000+F34*1.2+J34*1.2),L34)))) -> 14644 | Q34: =IF(M34="",0,ROUND(P34*100/M34,2)) -> 0.87
A35: Արալեզի ԲԱ ՀՈԱԿ | B35: Ամբուլատորիա | C35: Արարատ | D35: 5000 | F35: =IF(E35="","",E35*1000) | G35: 100 | H35: =G35*30 -> 3000 | I35: 3 | J35: =I35*500 -> 1500 | K35: =IF(F35="",SUM(D35+H35+J35),SUM(D35+F35+H35+J35)) -> 9500 | L35: =K35*1.2 -> 11400 | M35: 968995.75 | N35: 1930 | O35: =ROUND(P35*0.833333,0) -> 6433 | P35: =IF(N35="",L35,IF(B35="Ամբուլատորիա",IF(N35*4>15000,15000,N35*4),IF(B35="Պոլիկլինիկա",IF(N35*4>75000,75000,N35*4),IF(B35="Բժշկական կենտրոն",IF(N35*4>75000,75000+80000+F35*1.2+J35*1.2,N35*4+80000+F35*1.2+J35*1.2),L35)))) -> 7720 | Q35: =IF(M35="",0,ROUND(P35*100/M35,2)) -> 0.8
A36: Արարատի ԲԱ ՓԲԸ | B36: Ամբուլատորիա | C36: Արարատ | D36: 5000 | F36: =IF(E36="","",E36*1000) | G36: 376 | H36: =G36*30 -> 11280 | I36: 5 | J36: =I36*500 -> 2500 | K36: =IF(F36="",SUM(D36+H36+J36),SUM(D36+F36+H36+J36)) -> 18780 | L36: =K36*1.2 -> 22536 | M36: 2694963 | N36: 4518 | O36: =ROUND(P36*0.833333,0) -> 12500 | P36: =IF(N36="",L36,IF(B36="Ամբուլատորիա",IF(N36*4>15000,15000,N36*4),IF(B36="Պոլիկլինիկա",IF(N36*4>75000,75000,N36*4),IF(B36="Բժշկական կենտրոն",IF(N36*4>75000,75000+80000+F36*1.2+J36*1.2,N36*4+80000+F36*1.2+J36*1.2),L36)))) -> 15000 | Q36: =IF(M36="",0,ROUND(P36*100/M36,2)) -> 0.56
A37: Արարատի հիվանդանոց ԲԿ ՓԲԸ | B37: Բժշկական կենտրոն | C37: Արարատ | D37: 130000 | E37: 138 | F37: =IF(E37="","",E37*1000) -> 138000 | G37: 2206 | H37: =G37*30 -> 66180 | I37: 16 | J37: =I37*500 -> 8000 | K37: =IF(F37="",SUM(D37+H37+J37),SUM(D37+F37+H37+J37)) -> 342180 | L37: =K37*1.2 -> 410616 | M37: 26250958 | N37: 13701 | O37: =ROUND(P37*0.833333,0) -> 258337 | P37: =IF(N37="",L37,IF(B37="Ամբուլատորիա",IF(N37*4>15000,15000,N37*4),IF(B37="Պոլիկլինիկա",IF(N37*4>75000,75000,N37*4),IF(B37="Բժշկական կենտրոն",IF(N37*4>75000,75000+80000+F37*1.2+J37*1.2,N37*4+80000+F37*1.2+J37*1.2),L37)))) -> 310004 | Q37: =IF(M37="",0,ROUND(P37*100/M37,2)) -> 1.18
A38: Արբաթի ԲԱ ՀՈԱԿ | B38: Ամբուլատորիա | C38: Արարատ | D38: 5000 | F38: =IF(E38="","",E38*1000) | G38: 142 | H38: =G38*30 -> 4260 | I38: 3 | J38: =I38*500 -> 1500 | K38: =IF(F38="",SUM(D38+H38+J38),SUM(D38+F38+H38+J38)) -> 10760 | L38: =K38*1.2 -> 12912 | M38: 728678.58 | N38: 1525 | O38: =ROUND(P38*0.833333,0) -> 5083 | P38: =IF(N38="",L38,IF(B38="Ամբուլատորիա",IF(N38*4>15000,15000,N38*4),IF(B38="Պոլիկլինիկա",IF(N38*4>75000,75000,N38*4),IF(B38="Բժշկական կենտրոն",IF(N38*4>75000,75000+80000+F38*1.2+J38*1.2,N38*4+80000+F38*1.2+J38*1.2),L38)))) -> 6100 | Q38: =IF(M38="",0,ROUND(P38*100/M38,2)) -> 0.84
A39: Արգավանդի ԱԱՊԿ ՓԲԸ | B39: Ամբուլատորիա | C39: Արարատ | D39: 5000 | F39: =IF(E39="","",E39*1000) | G39: 152 | H39: =G39*30 -> 4560 | I39: 3 | J39: =I39*500 -> 1500 | K39: =IF(F39="",SUM(D39+H39+J39),SUM(D39+F39+H39+J39)) -> 11060 | L39: =K39*1.2 -> 13272 | M39: 951992.5 | N39: 1572 | O39: =ROUND(P39*0.833333,0) -> 5240 | P39: =IF(N39="",L39,IF(B39="Ամբուլատորիա",IF(N39*4>15000,15000,N39*4),IF(B39="Պոլիկլինիկա",IF(N39*4>75000,75000,N39*4),IF(B39="Բժշկական կենտրոն",IF(N39*4>75000,75000+80000+F39*1.2+J39*1.2,N39*4+80000+F39*1.2+J39*1.2),L39)))) -> 6288 | Q39: =IF(M39="",0,ROUND(P39*100/M39,2)) -> 0.66
A40: Արևշատի ԱԱՊԿ ՊՈԱԿ | B40: Ամբուլատորիա | C40: Արարատ | D40: 5000 | F40: =IF(E40="","",E40*1000) | G40: 315 | H40: =G40*30 -> 9450 | I40: 5 | J40: =I40*500 -> 2500 | K40: =IF(F40="",SUM(D40+H40+J40),SUM(D40+F40+H40+J40)) -> 16950 | L40: =K40*1.2 -> 20340 | M40: 2298498 | N40: 4918 | O40: =ROUND(P40*0.833333,0) -> 12500 | P40: =IF(N40="",L40,IF(B40="Ամբուլատորիա",IF(N40*4>15000,15000,N40*4),IF(B40="Պոլիկլինիկա",IF(N40*4>75000,75000,N40*4),IF(B40="Բժշկական կենտրոն",IF(N40*4>75000,75000+80000+F40*1.2+J40*1.2,N40*4+80000+F40*1.2+J40*1.2),L40)))) -> 15000 | Q40: =IF(M40="",0,ROUND(P40*100/M40,2)) -> 0.65
...

Sheet Sheet 1
E2: ԸՆԴԱՄԵՆԸ | F2: =SUM(F4:F469) -> 5.4414312e+09 | G2: =SUM(G4:G469) -> 2726612 | H2: =SUM(H4:H469) -> 2755316 | I2: =SUM(I4:I469) -> 7951868 | J2: =SUM(J4:J469) -> 17332800 | K2: =SUM(K4:K469) -> 2671 | L2: =SUM(L4:L469) -> 698400 | M2: =SUM(M4:M469) -> 23141 | ... Q2: =SUM(Q4:Q469) -> 49234177 | R2: =S2/Q2 -> 0.67619651 | S2: =SUM(S4:S469) -> 33291979 | T2: =SUM(T4:T469) -> 15942198 | U2: =SUM(U4:U469) -> 5.9081012e+08 | V2: =SUM(V4:V469) -> 3.9950374e+08 | W2: =SUM(W4:W469) -> 1.9130638e+08
A3: ԲՀ ԱՆՎԱՆՈՒՄ | B3: ՄԱՐԶ | C3: ԲՀ ՏԻՊ | E3: Կարգավիճակ | F3: ԱՄՍԱԿԱՆ ՇՐՋԱՆԱՌՈՒԹՅՈՒՆ | G3: ԿՑԱԳՐՈՒՄ_AUG | H3: ԿՑԱԳՐՈՒՄ_SEP | I3: ԱՄԲՈՒԼԱՏՈՐ ԾԱՌԱՅՈՒԹՅՈՒՆՆԵՐ | J3: ՀԻՎԱՆԴԱՆՈՑ Ա | K3: ԳՐԱՆՑՎԱԾ ՕԳՏԱՏԵՐԵՐԻ ՔԱՆԱԿ | L3: ՀԻՎԱՆԴԱՆՈՑ Բ | M3: ԱՅՑԵՐԻ ՔԱՆԱԿ | N3: ՀԻՎԱՆԴԱՆՈՑ Գ | O3: ԸՆԴԱՄԵՆԸ ՆԵՐԱՌՅԱԼ ԱԱՀ | P3: ԱՄՍԵԿԱՆ ՇՐՋԱՆԱՌՈՒԹՅԱՆ 1.5% | Q3: ԸՆԴԱՄԵՆԸ | R3: Սուբսիդիա % | S3: ՍՈՒԲՍԻԴԻԱ | T3: ՎՃԱՐՄԱՆ ԵՆԹԱԿԱ ԳՈՒՄԱՐ | U3: Տարի _ Գումար | V3: Տարի _ սուբսիդիա | W3: Տարի _ զուտ
A4: Արաբկիր Բժշկական ՀամալիրԵԴԱԻ ՍՊԸ | B4: Երևան | C4: Բժշկական կենտրոն | D4: 1 | E4: Հիվանդանոց Երևան >100m շրջ. ՄԱՍՆԱՎՈՐ | F4: 2.4181664e+08 | H4: =SUMIF(Sep!A:A,'Sheet 1'!A4,Sep!N:N) -> 0 | I4: =IF(H4>0,(IF(H4<=10000,MIN(15000,H4*4),MIN(H4*4,75000))),0) -> 0 | J4: =IF(C4="Հիվանդանոց",80000,IF(C4="Բժշկական կենտրոն",IF(M4>2000,150000,130000),IF(C4="Շտապ բուժօգնություն",50000,IF(C4="ատամնաբուժարան",IF(M4<=200,7000,IF(AND(M4>200,M4<=500),15000,2000)),IF(C4="առողջարան",50000)))))*1.2 -> 156000 | K4: =SUMIF(Sep!A:A,'Sheet 1'!A4,Sep!I:I) -> 19 | L4: =IF(AND(C4<>"Ամբուլատորիա",C4<>"Պոլիկլինիկա"),500*K4*1.2,0) -> 11400 | M4: =SUMIF(Sep!A:A,'Sheet 1'!A4,Sep!E:E) -> 1201 | N4: =M4*1000*1.2 -> 1441200 | O4: =I4+J4+L4+N4 -> 1608600 | P4: =+F4*1.5% -> 3627249.6 | Q4: =MIN(O4,P4) -> 1608600 | R4: 0.5 | S4: =Q4*R4 -> 804300 | T4: =Q4-S4 -> 804300 | U4: =+Q4*12 -> 19303200 | V4: =S4*12 -> 9651600 | W4: =T4*12 -> 9651600
A5: Արմենիա հանրապետական բժշկական կենտրոն ՓԲԸ | B5: Երևան | C5: Բժշկական կենտրոն | D5: 1 | E5: Հիվանդանոց Երևան >100m շրջ. ՄԱՍՆԱՎՈՐ | F5: 1.4324586e+08 | G5: 60748 | H5: =SUMIF(Sep!A:A,'Sheet 1'!A5,Sep!N:N) -> 60782 | I5: =IF(H5>0,(IF(H5<=10000,MIN(15000,H5*4),MIN(H5*4,75000))),0) -> 75000 | J5: =IF(C5="Հիվանդանոց",80000,IF(C5="Բժշկական կենտրոն",IF(M5>2000,150000,130000),IF(C5="Շտապ բուժօգնություն",50000,IF(C5="ատամնաբուժարան",IF(M5<=200,7000,IF(AND(M5>200,M5<=500),15000,2000)),IF(C5="առողջարան",50000)))))*1.2 -> 156000 | K5: =SUMIF(Sep!A:A,'Sheet 1'!A5,Sep!I:I) -> 16 | L5: =IF(AND(C5<>"Ամբուլատորիա",C5<>"Պոլիկլինիկա"),500*K5*1.2,0) -> 9600 | M5: =+SUMIF(Sep!A:A,'Sheet 1'!A5,Sep!E:E) -> 1059 | N5: =M5*1000*1.2 -> 1270800 | O5: =I5+J5+L5+N5 -> 1511400 | P5: =+F5*1.5% -> 2148688 | Q5: =MIN(O5,P5) -> 1511400 | R5: 0.5 | S5: =Q5*R5 -> 755700 | T5: =Q5-S5 -> 755700 | U5: =+Q5*12 -> 18136800 | V5: =S5*12 -> 9068400 | W5: =T5*12 -> 9068400
A6: Էրեբունի բժշկական կենտրոն ՓԲԸ | B6: Երևան | C6: Բժշկական կենտրոն | D6: 1 | E6: Հիվանդանոց Երևան >100m շրջ. ՄԱՍՆԱՎՈՐ | F6: 2.8183831e+08 | G6: 32708 | H6: =SUMIF(Sep!A:A,'Sheet 1'!A6,Sep!N:N) -> 32716 | I6: =IF(H6>0,(IF(H6<=10000,MIN(15000,H6*4),MIN(H6*4,75000))),0) -> 75000 | J6: =IF(C6="Հիվանդանոց",80000,IF(C6="Բժշկական կենտրոն",IF(M6>2000,150000,130000),IF(C6="Շտապ բուժօգնություն",50000,IF(C6="ատամնաբուժարան",IF(M6<=200,7000,IF(AND(M6>200,M6<=500),15000,2000)),IF(C6="առողջարան",50000)))))*1.2 -> 156000 | K6: =SUMIF(Sep!A:A,'Sheet 1'!A6,Sep!I:I) -> 16 | L6: =IF(AND(C6<>"Ամբուլատորիա",C6<>"Պոլիկլինիկա"),500*K6*1.2,0) -> 9600 | M6: =+SUMIF(Sep!A:A,'Sheet 1'!A6,Sep!E:E) -> 1205 | N6: =M6*1000*1.2 -> 1446000 | O6: =I6+J6+L6+N6 -> 1686600 | P6: =+F6*1.5% -> 4227574.6 | Q6: =MIN(O6,P6) -> 1686600 | R6: 0.5 | S6: =Q6*R6 -> 843300 | T6: =Q6-S6 -> 843300 | U6: =+Q6*12 -> 20239200 | V6: =S6*12 -> 10119600 | W6: =T6*12 -> 10119600
A7: Նաթալի ֆարմ ՍՊԸ Աստղիկ բժշկական կենտրոն | B7: Երևան | C7: Բժշկական կենտրոն | D7: 1 | E7: Հիվանդանոց Երևան >100m շրջ. ՄԱՍՆԱՎՈՐ | F7: 1.2615379e+08 | G7: 21273 | H7: =SUMIF(Sep!A:A,'Sheet 1'!A7,Sep!N:N) -> 21328 | I7: =IF(H7>0,(IF(H7<=10000,MIN(15000,H7*4),MIN(H7*4,75000))),0) -> 75000 | J7: =IF(C7="Հիվանդանոց",80000,IF(C7="Բժշկական կենտրոն",IF(M7>2000,150000,130000),IF(C7="Շտապ բուժօգնություն",50000,IF(C7="ատամնաբուժարան",IF(M7<=200,7000,IF(AND(M7>200,M7<=500),15000,2000)),IF(C7="առողջարան",50000)))))*1.2 -> 156000 | K7: =SUMIF(Sep!A:A,'Sheet 1'!A7,Sep!I:I) -> 6 | L7: =IF(AND(C7<>"Ամբուլատորիա",C7<>"Պոլիկլինիկա"),500*K7*1.2,0) -> 3600 | M7: =+SUMIF(Sep!A:A,'Sheet 1'!A7,Sep!E:E) -> 405 | N7: =M7*1000*1.2 -> 486000 | O7: =I7+J7+L7+N7 -> 720600 | P7: =+F7*1.5% -> 1892306.8 | Q7: =MIN(O7,P7) -> 720600 | R7: 0.5 | S7: =Q7*R7 -> 360300 | T7: =Q7-S7 -> 360300 | U7: =+Q7*12 -> 8647200 | V7: =S7*12 -> 4323600 | W7: =T7*12 -> 4323600
A8: Վերարտադրողական առողջության, պերինատալոգիայի, մանկաբարձության և գինեկոլոգիայի հանրապետական ինստիտուտ ՓԲԸ | B8: Երևան | C8: Բժշկական կենտրոն | D8: 1 | E8: Հիվանդանոց Երևան >100m շրջ. ՄԱՍՆԱՎՈՐ | F8: 1.4509563e+08 | H8: =SUMIF(Sep!A:A,'Sheet 1'!A8,Sep!N:N) -> 973 | I8: =IF(H8>0,(IF(H8<=10000,MIN(15000,H8*4),MIN(H8*4,75000))),0) -> 3892 | J8: =IF(C8="Հիվանդանոց",80000,IF(C8="Բժշկական կենտրոն",IF(M8>2000,150000,130000),IF(C8="Շտապ բուժօգնություն",50000,IF(C8="ատամնաբուժարան",IF(M8<=200,7000,IF(AND(M8>200,M8<=500),15000,2000)),IF(C8="առողջարան",50000)))))*1.2 -> 156000 | K8: =SUMIF(Sep!A:A,'Sheet 1'!A8,Sep!I:I) -> 9 | L8: =IF(AND(C8<>"Ամբուլատորիա",C8<>"Պոլիկլինիկա"),500*K8*1.2,0) -> 5400 | M8: =+SUMIF(Sep!A:A,'Sheet 1'!A8,Sep!E:E) -> 660 | N8: =M8*1000*1.2 -> 792000 | O8: =I8+J8+L8+N8 -> 957292 | P8: =+F8*1.5% -> 2176434.4 | Q8: =MIN(O8,P8) -> 957292 | R8: 0.5 | S8: =Q8*R8 -> 478646 | T8: =Q8-S8 -> 478646 | U8: =+Q8*12 -> 11487504 | V8: =S8*12 -> 5743752 | W8: =T8*12 -> 5743752
A9: Երեւանի Մխիթար Հերացու անվան պետական բժշկական համալսարան Հիմնադրամ | B9: Երևան | C9: Բժշկական կենտրոն | D9: 2 | E9: Հիվանդանոց Երևան >100m շրջ. ՊԵՏԱԿԱՆ | F9: 1.757473e+08 | G9: 31590 | H9: =SUMIF(Sep!A:A,'Sheet 1'!A9,Sep!N:N) -> 31640 | I9: =IF(H9>0,(IF(H9<=10000,MIN(15000,H9*4),MIN(H9*4,75000))),0) -> 75000 | J9: =IF(C9="Հիվանդանոց",80000,IF(C9="Բժշկական կենտրոն",IF(M9>2000,150000,130000),IF(C9="Շտապ բուժօգնություն",50000,IF(C9="ատամնաբուժարան",IF(M9<=200,7000,IF(AND(M9>200,M9<=500),15000,2000)),IF(C9="առողջարան",50000)))))*1.2 -> 156000 | K9: =SUMIF(Sep!A:A,'Sheet 1'!A9,Sep!I:I) -> 20 | L9: =IF(AND(C9<>"Ամբուլատորիա",C9<>"Պոլիկլինիկա"),500*K9*1.2,0) -> 12000 | M9: =+SUMIF(Sep!A:A,'Sheet 1'!A9,Sep!E:E) -> 1135 | N9: =M9*1000*1.2 -> 1362000 | O9: =I9+J9+L9+N9 -> 1605000 | P9: =+F9*1.5% -> 2636209.5 | Q9: =MIN(O9,P9) -> 1605000 | R9: 0.5 | S9: =Q9*R9 -> 802500 | T9: =Q9-S9 -> 802500 | U9: =+Q9*12 -> 19260000 | V9: =S9*12 -> 9630000 | W9: =T9*12 -> 9630000
A10: Նորք-Մարաշ բժշկական կենտրոն ՓԲԸ | B10: Երևան | C10: Բժշկական կենտրոն | D10: 2 | E10: Հիվանդանոց Երևան >100m շրջ. ՊԵՏԱԿԱՆ | F10: 1.0321952e+08 | H10: =SUMIF(Sep!A:A,'Sheet 1'!A10,Sep!N:N) -> 0 | I10: =IF(H10>0,(IF(H10<=10000,MIN(15000,H10*4),MIN(H10*4,75000))),0) -> 0 | J10: =IF(C10="Հիվանդանոց",80000,IF(C10="Բժշկական կենտրոն",IF(M10>2000,150000,130000),IF(C10="Շտապ բուժօգնություն",50000,IF(C10="ատամնաբուժարան",IF(M10<=200,7000,IF(AND(M10>200,M10<=500),15000,2000)),IF(C10="առողջարան",50000)))))*1.2 -> 156000 | K10: =SUMIF(Sep!A:A,'Sheet 1'!A10,Sep!I:I) -> 5 | L10: =IF(AND(C10<>"Ամբուլատորիա",C10<>"Պոլիկլինիկա"),500*K10*1.2,0) -> 3000 | M10: =+SUMIF(Sep!A:A,'Sheet 1'!A10,Sep!E:E) -> 154 | N10: =M10*1000*1.2 -> 184800 | O10: =I10+J10+L10+N10 -> 343800 | P10: =+F10*1.5% -> 1548292.8 | Q10: =MIN(O10,P10) -> 343800 | R10: 0.5 | S10: =Q10*R10 -> 171900 | T10: =Q10-S10 -> 171900 | U10: =+Q10*12 -> 4125600 | V10: =S10*12 -> 2062800 | W10: =T10*12 -> 2062800
A11: Սուրբ Աստվածամայր բժշկական կենտրոն ՓԲԸ | B11: Երևան | C11: Բժշկական կենտրոն | D11: 2 | E11: Հիվանդանոց Երևան >100m շրջ. ՊԵՏԱԿԱՆ | F11: 1.184294e+08 | G11: 42818 | H11: =SUMIF(Sep!A:A,'Sheet 1'!A11,Sep!N:N) -> 42837 | I11: =IF(H11>0,(IF(H11<=10000,MIN(15000,H11*4),MIN(H11*4,75000))),0) -> 75000 | J11: =IF(C11="Հիվանդանոց",80000,IF(C11="Բժշկական կենտրոն",IF(M11>2000,150000,130000),IF(C11="Շտապ բուժօգնություն",50000,IF(C11="ատամնաբուժարան",IF(M11<=200,7000,IF(AND(M11>200,M11<=500),15000,2000)),IF(C11="առողջարան",50000)))))*1.2 -> 156000 | K11: =SUMIF(Sep!A:A,'Sheet 1'!A11,Sep!I:I) -> 3 | L11: =IF(AND(C11<>"Ամբուլատորիա",C11<>"Պոլիկլինիկա"),500*K11*1.2,0) -> 1800 | M11: =+SUMIF(Sep!A:A,'Sheet 1'!A11,Sep!E:E) -> 794 | N11: =M11*1000*1.2 -> 952800 | O11: =I11+J11+L11+N11 -> 1185600 | P11: =+F11*1.5% -> 1776440.9 | Q11: =MIN(O11,P11) -> 1185600 | R11: 0.5 | S11: =Q11*R11 -> 592800 | T11: =Q11-S11 -> 592800 | U11: =+Q11*12 -> 14227200 | V11: =S11*12 -> 7113600 | W11: =T11*12 -> 7113600
A12: Սուրբ Գրիգոր Լուսավորիչ բժշկական կենտրոն ՓԲԸ | B12: Երևան | C12: Բժշկական կենտրոն | D12: 2 | E12: Հիվանդանոց Երևան >100m շրջ. ՊԵՏԱԿԱՆ | F12: 4.1749907e+08 | G12: 77673 | H12: =SUMIF(Sep!A:A,'Sheet 1'!A12,Sep!N:N) -> 78083 | I12: =IF(H12>0,(IF(H12<=10000,MIN(15000,H12*4),MIN(H12*4,75000))),0) -> 75000 | J12: =IF(C12="Հիվանդանոց",80000,IF(C12="Բժշկական կենտրոն",IF(M12>2000,150000,130000),IF(C12="Շտապ բուժօգնություն",50000,IF(C12="ատամնաբուժարան",IF(M12<=200,7000,IF(AND(M12>200,M12<=500),15000,2000)),IF(C12="առողջարան",50000)))))*1.2 -> 180000 | K12: =SUMIF(Sep!A:A,'Sheet 1'!A12,Sep!I:I) -> 17 | L12: =IF(AND(C12<>"Ամբուլատորիա",C12<>"Պոլիկլինիկա"),500*K12*1.2,0) -> 10200 | M12: =+SUMIF(Sep!A:A,'Sheet 1'!A12,Sep!E:E) -> 3053 | N12: =M12*1000*1.2 -> 3663600 | O12: =I12+J12+L12+N12 -> 3928800 | P12: =+F12*1.5% -> 6262486 | Q12: =MIN(O12,P12) -> 3928800 | R12: 0.5 | S12: =Q12*R12 -> 1964400 | T12: =Q12-S12 -> 1964400 | U12: =+Q12*12 -> 47145600 | V12: =S12*12 -> 23572800 | W12: =T12*12 -> 23572800
A13: Շտապ բուժօգնություն ՓԲԸ | B13: Երևան | C13: Շտապ բուժօգնություն | D13: 2 | E13: Հիվանդանոց Երևան >100m շրջ. ՊԵՏԱԿԱՆ | F13: 1.1185921e+08 | H13: =SUMIF(Sep!A:A,'Sheet 1'!A13,Sep!N:N) -> 0 | I13: =IF(H13>0,(IF(H13<=10000,MIN(15000,H13*4),MIN(H13*4,75000))),0) -> 0 | J13: =IF(C13="Հիվանդանոց",80000,IF(C13="Բժշկական կենտրոն",IF(M13>2000,150000,130000),IF(C13="Շտապ բուժօգնություն",50000,IF(C13="ատամնաբուժարան",IF(M13<=200,7000,IF(AND(M13>200,M13<=500),15000,2000)),IF(C13="առողջարան",50000)))))*1.2 -> 60000 | K13: =SUMIF(Sep!A:A,'Sheet 1'!A13,Sep!I:I) -> 3 | L13: =IF(AND(C13<>"Ամբուլատորիա",C13<>"Պոլիկլինիկա"),500*K13*1.2,0) -> 1800 | M13: =+SUMIF(Sep!A:A,'Sheet 1'!A13,Sep!E:E) -> 0 | N13: =M13*1000*1.2 -> 0 | O13: =I13+J13+L13+N13 -> 61800 | P13: =+F13*1.5% -> 1677888.1 | Q13: =MIN(O13,P13) -> 61800 | R13: 0.5 | S13: =Q13*R13 -> 30900 | T13: =Q13-S13 -> 30900 | U13: =+Q13*12 -> 741600 | V13: =S13*12 -> 370800 | W13: =T13*12 -> 370800
A14: Առողջ ապագա բժշկական կենտրոն ՍՊԸ | B14: Երևան | C14: Առողջարան | D14: 3 | E14: Հիվանդանոց Երևան <=100m շրջ. ՄԱՍՆԱՎՈՐ | F14: 22765004 | H14: =SUMIF(Sep!A:A,'Sheet 1'!A14,Sep!N:N) -> 0 | I14: =IF(H14>0,(IF(H14<=10000,MIN(15000,H14*4),MIN(H14*4,75000))),0) -> 0 | J14: =IF(C14="Հիվանդանոց",80000,IF(C14="Բժշկական կենտրոն",IF(M14>2000,150000,130000),IF(C14="Շտապ բուժօգնություն",50000,IF(C14="ատամնաբուժարան",IF(M14<=200,7000,IF(AND(M14>200,M14<=500),15000,2000)),IF(C14="առողջարան",50000)))))*1.2 -> 60000 | K14: =SUMIF(Sep!A:A,'Sheet 1'!A14,Sep!I:I) -> 3 | L14: =IF(AND(C14<>"Ամբուլատորիա",C14<>"Պոլիկլինիկա"),500*K14*1.2,0) -> 1800 | M14: =+SUMIF(Sep!A:A,'Sheet 1'!A14,Sep!E:E) -> 0 | N14: =M14*1000*1.2 -> 0 | O14: =I14+J14+L14+N14 -> 61800 | P14: =+F14*1.5% -> 341475.06 | Q14: =MIN(O14,P14) -> 61800 | R14: 0.7 | S14: =Q14*R14 -> 43260 | T14: =Q14-S14 -> 18540 | U14: =+Q14*12 -> 741600 | V14: =S14*12 -> 519120 | W14: =T14*12 -> 222480
A15: Արթմեդ բժշկական վերականգնողական կենտրոն ՓԲԸ | B15: Երևան | C15: Բժշկական կենտրոն | D15: 3 | E15: Հիվանդանոց Երևան <=100m շրջ. ՄԱՍՆԱՎՈՐ | F15: 10920559 | G15: 1974 | H15: =SUMIF(Sep!A:A,'Sheet 1'!A15,Sep!N:N) -> 1973 | I15: =IF(H15>0,(IF(H15<=10000,MIN(15000,H15*4),MIN(H15*4,75000))),0) -> 7892 | J15: =IF(C15="Հիվանդանոց",80000,IF(C15="Բժշկական կենտրոն",IF(M15>2000,150000,130000),IF(C15="Շտապ բուժօգնություն",50000,IF(C15="ատամնաբուժարան",IF(M15<=200,7000,IF(AND(M15>200,M15<=500),15000,2000)),IF(C15="առողջարան",50000)))))*1.2 -> 156000 | K15: =SUMIF(Sep!A:A,'Sheet 1'!A15,Sep!I:I) -> 6 | L15: =IF(AND(C15<>"Ամբուլատորիա",C15<>"Պոլիկլինիկա"),500*K15*1.2,0) -> 3600 | M15: =+SUMIF(Sep!A:A,'Sheet 1'!A15,Sep!E:E) -> 82 | N15: =M15*1000*1.2 -> 98400 | O15: =I15+J15+L15+N15 -> 265892 | P15: =+F15*1.5% -> 163808.38 | Q15: =MIN(O15,P15) -> 163808.38 | R15: 0.7 | S15: =Q15*R15 -> 114665.87 | T15: =Q15-S15 -> 49142.516 | U15: =+Q15*12 -> 1965700.6 | V15: =S15*12 -> 1375990.4 | W15: =T15*12 -> 589710.19
A16: Արմամաքս ՍՊԸ | B16: Երևան | C16: Բժշկական կենտրոն | D16: 3 | E16: Հիվանդանոց Երևան <=100m շրջ. ՄԱՍՆԱՎՈՐ | F16: 17727437 | H16: =SUMIF(Sep!A:A,'Sheet 1'!A16,Sep!N:N) -> 0 | I16: =IF(H16>0,(IF(H16<=10000,MIN(15000,H16*4),MIN(H16*4,75000))),0) -> 0 | J16: =IF(C16="Հիվանդանոց",80000,IF(C16="Բժշկական կենտրոն",IF(M16>2000,150000,130000),IF(C16="Շտապ բուժօգնություն",50000,IF(C16="ատամնաբուժարան",IF(M16<=200,7000,IF(AND(M16>200,M16<=500),15000,2000)),IF(C16="առողջարան",50000)))))*1.2 -> 156000 | K16: =SUMIF(Sep!A:A,'Sheet 1'!A16,Sep!I:I) -> 6 | L16: =IF(AND(C16<>"Ամբուլատորիա",C16<>"Պոլիկլինիկա"),500*K16*1.2,0) -> 3600 | M16: =+SUMIF(Sep!A:A,'Sheet 1'!A16,Sep!E:E) -> 0 | N16: =M16*1000*1.2 -> 0 | O16: =I16+J16+L16+N16 -> 159600 | P16: =+F16*1.5% -> 265911.55 | Q16: =MIN(O16,P16) -> 159600 | R16: 0.7 | S16: =Q16*R16 -> 111720 | T16: =Q16-S16 -> 47880 | U16: =+Q16*12 -> 1915200 | V16: =S16*12 -> 1340640 | W16: =T16*12 -> 574560
A17: Բժշկական գենետիկայի և առողջության առաջնային պահպանման կենտրոն ՍՊԸ | B17: Երևան | C17: Բժշկական կենտրոն | D17: 3 | E17: Հիվանդանոց Երևան <=100m շրջ. ՄԱՍՆԱՎՈՐ | F17: 4040283.8 | H17: =SUMIF(Sep!A:A,'Sheet 1'!A17,Sep!N:N) -> 0 | I17: =IF(H17>0,(IF(H17<=10000,MIN(15000,H17*4),MIN(H17*4,75000))),0) -> 0 | J17: =IF(C17="Հիվանդանոց",80000,IF(C17="Բժշկական կենտրոն",IF(M17>2000,150000,130000),IF(C17="Շտապ բուժօգնություն",50000,IF(C17="ատամնաբուժարան",IF(M17<=200,7000,IF(AND(M17>200,M17<=500),15000,2000)),IF(C17="առողջարան",50000)))))*1.2 -> 156000 | K17: =SUMIF(Sep!A:A,'Sheet 1'!A17,Sep!I:I) -> 8 | L17: =IF(AND(C17<>"Ամբուլատորիա",C17<>"Պոլիկլինիկա"),500*K17*1.2,0) -> 4800 | M17: =+SUMIF(Sep!A:A,'Sheet 1'!A17,Sep!E:E) -> 0 | N17: =M17*1000*1.2 -> 0 | O17: =I17+J17+L17+N17 -> 160800 | P17: =+F17*1.5% -> 60604.256 | Q17: =MIN(O17,P17) -> 60604.256 | R17: 0.7 | S17: =Q17*R17 -> 42422.979 | T17: =Q17-S17 -> 18181.277 | U17: =+Q17*12 -> 727251.07 | V17: =S17*12 -> 509075.75 | W17: =T17*12 -> 218175.32
A18: Դիագնոստիկա բժշկական միավորում ԲԲԸ | B18: Երևան | C18: Բժշկական կենտրոն | D18: 3 | E18: Հիվանդանոց Երևան <=100m շրջ. ՄԱՍՆԱՎՈՐ | F18: 4529935.5 | H18: =SUMIF(Sep!A:A,'Sheet 1'!A18,Sep!N:N) -> 1934 | I18: =IF(H18>0,(IF(H18<=10000,MIN(15000,H18*4),MIN(H18*4,75000))),0) -> 7736 | J18: =IF(C18="Հիվանդանոց",80000,IF(C18="Բժշկական կենտրոն",IF(M18>2000,150000,130000),IF(C18="Շտապ բուժօգնություն",50000,IF(C18="ատամնաբուժարան",IF(M18<=200,7000,IF(AND(M18>200,M18<=500),15000,2000)),IF(C18="առողջարան",50000)))))*1.2 -> 156000 | K18: =SUMIF(Sep!A:A,'Sheet 1'!A18,Sep!I:I) -> 5 | L18: =IF(AND(C18<>"Ամբուլատորիա",C18<>"Պոլիկլինիկա"),500*K18*1.2,0) -> 3000 | M18: =+SUMIF(Sep!A:A,'Sheet 1'!A18,Sep!E:E) -> 0 | N18: =M18*1000*1.2 -> 0 | O18: =I18+J18+L18+N18 -> 166736 | P18: =+F18*1.5% -> 67949.033 | Q18: =MIN(O18,P18) -> 67949.033 | R18: 0.7 | S18: =Q18*R18 -> 47564.323 | T18: =Q18-S18 -> 20384.71 | U18: =+Q18*12 -> 815388.39 | V18: =S18*12 -> 570771.87 | W18: =T18*12 -> 244616.52
A19: Թիվ 2 բուժմիավորում ՓԲԸ | B19: Երևան | C19: Բժշկական կենտրոն | D19: 3 | E19: Հիվանդանոց Երևան <=100m շրջ. ՄԱՍՆԱՎՈՐ | F19: 25694099 | G19: 30941 | H19: =SUMIF(Sep!A:A,'Sheet 1'!A19,Sep!N:N) -> 31059 | I19: =IF(H19>0,(IF(H19<=10000,MIN(15000,H19*4),MIN(H19*4,75000))),0) -> 75000 | J19: =IF(C19="Հիվանդանոց",80000,IF(C19="Բժշկական կենտրոն",IF(M19>2000,150000,130000),IF(C19="Շտապ բուժօգնություն",50000,IF(C19="ատամնաբուժարան",IF(M19<=200,7000,IF(AND(M19>200,M19<=500),15000,2000)),IF(C19="առողջարան",50000)))))*1.2 -> 156000 | K19: =SUMIF(Sep!A:A,'Sheet 1'!A19,Sep!I:I) -> 8 | L19: =IF(AND(C19<>"Ամբուլատորիա",C19<>"Պոլիկլինիկա"),500*K19*1.2,0) -> 4800 | M19: =+SUMIF(Sep!A:A,'Sheet 1'!A19,Sep!E:E) -> 150 | N19: =M19*1000*1.2 -> 180000 | O19: =I19+J19+L19+N19 -> 415800 | P19: =+F19*1.5% -> 385411.48 | Q19: =MIN(O19,P19) -> 385411.48 | R19: 0.7 | S19: =Q19*R19 -> 269788.04 | T19: =Q19-S19 -> 115623.44 | U19: =+Q19*12 -> 4624937.8 | V19: =S19*12 -> 3237456.4 | W19: =T19*12 -> 1387481.3
A20: Իզմիրլյան | B20: Երևան | C20: Բժշկական կենտրոն | D20: 3 | E20: Հիվանդանոց Երևան <=100m շրջ. ՄԱՍՆԱՎՈՐ | F20: 30059505 | H20: =SUMIF(Sep!A:A,'Sheet 1'!A20,Sep!N:N) -> 0 | I20: =IF(H20>0,(IF(H20<=10000,MIN(15000,H20*4),MIN(H20*4,75000))),0) -> 0 | J20: =IF(C20="Հիվանդանոց",80000,IF(C20="Բժշկական կենտրոն",IF(M20>2000,150000,130000),IF(C20="Շտապ բուժօգնություն",50000,IF(C20="ատամնաբուժարան",IF(M20<=200,7000,IF(AND(M20>200,M20<=500),15000,2000)),IF(C20="առողջարան",50000)))))*1.2 -> 156000 | K20: =SUMIF(Sep!A:A,'Sheet 1'!A20,Sep!I:I) -> 7 | L20: =IF(AND(C20<>"Ամբուլատորիա",C20<>"Պոլիկլինիկա"),500*K20*1.2,0) -> 4200 | M20: =+SUMIF(Sep!A:A,'Sheet 1'!A20,Sep!E:E) -> 103 | N20: =M20*1000*1.2 -> 123600 | O20: =I20+J20+L20+N20 -> 283800 | P20: =+F20*1.5% -> 450892.58 | Q20: =MIN(O20,P20) -> 283800 | R20: 0.7 | S20: =Q20*R20 -> 198660 | T20: =Q20-S20 -> 85140 | U20: =+Q20*12 -> 3405600 | V20: =S20*12 -> 2383920 | W20: =T20*12 -> 1021680
A21: ՀԿԽԸ «Գրացիա» միջազգային վերականգնողական կենտրոն ՍՊԸ | B21: Երևան | C21: Բժշկական կենտրոն | D21: 3 | E21: Հիվանդանոց Երևան <=100m շրջ. ՄԱՍՆԱՎՈՐ | F21: 16681375 | H21: =SUMIF(Sep!A:A,'Sheet 1'!A21,Sep!N:N) -> 0 | I21: =IF(H21>0,(IF(H21<=10000,MIN(15000,H21*4),MIN(H21*4,75000))),0) -> 0 | J21: =IF(C21="Հիվանդանոց",80000,IF(C21="Բժշկական կենտրոն",IF(M21>2000,150000,130000),IF(C21="Շտապ բուժօգնություն",50000,IF(C21="ատամնաբուժարան",IF(M21<=200,7000,IF(AND(M21>200,M21<=500),15000,2000)),IF(C21="առողջարան",50000)))))*1.2 -> 156000 | K21: =SUMIF(Sep!A:A,'Sheet 1'!A21,Sep!I:I) -> 3 | L21: =IF(AND(C21<>"Ամբուլատորիա",C21<>"Պոլիկլինիկա"),500*K21*1.2,0) -> 1800 | M21: =+SUMIF(Sep!A:A,'Sheet 1'!A21,Sep!E:E) -> 89 | N21: =M21*1000*1.2 -> 106800 | O21: =I21+J21+L21+N21 -> 264600 | P21: =+F21*1.5% -> 250220.62 | Q21: =MIN(O21,P21) -> 250220.62 | R21: 0.7 | S21: =Q21*R21 -> 175154.44 | T21: =Q21-S21 -> 75066.188 | U21: =+Q21*12 -> 3002647.5 | V21: =S21*12 -> 2101853.2 | W21: =T21*12 -> 900794.25
A22: Մեդլայն կլինիկ ՍՊԸ | B22: Երևան | C22: Բժշկական կենտրոն | D22: 3 | E22: Հիվանդանոց Երևան <=100m շրջ. ՄԱՍՆԱՎՈՐ | F22: 15545410 | G22: 6441 | H22: =SUMIF(Sep!A:A,'Sheet 1'!A22,Sep!N:N) -> 6446 | I22: =IF(H22>0,(IF(H22<=10000,MIN(15000,H22*4),MIN(H22*4,75000))),0) -> 15000 | J22: =IF(C22="Հիվանդանոց",80000,IF(C22="Բժշկական կենտրոն",IF(M22>2000,150000,130000),IF(C22="Շտապ բուժօգնություն",50000,IF(C22="ատամնաբուժարան",IF(M22<=200,7000,IF(AND(M22>200,M22<=500),15000,2000)),IF(C22="առողջարան",50000)))))*1.2 -> 156000 | K22: =SUMIF(Sep!A:A,'Sheet 1'!A22,Sep!I:I) -> 6 | L22: =IF(AND(C22<>"Ամբուլատորիա",C22<>"Պոլիկլինիկա"),500*K22*1.2,0) -> 3600 | M22: =+SUMIF(Sep!A:A,'Sheet 1'!A22,Sep!E:E) -> 49 | N22: =M22*1000*1.2 -> 58800 | O22: =I22+J22+L22+N22 -> 233400 | P22: =+F22*1.5% -> 233181.15 | Q22: =MIN(O22,P22) -> 233181.15 | R22: 0.7 | S22: =Q22*R22 -> 163226.8 | T22: =Q22-S22 -> 69954.344 | U22: =+Q22*12 -> 2798173.8 | V22: =S22*12 -> 1958721.6 | W22: =T22*12 -> 839452.13
A23: Մոր և մանկան առողջության պահպանման ԳՀԿ ՓԲԸ | B23: Երևան | C23: Բժշկական կենտրոն | D23: 3 | E23: Հիվանդանոց Երևան <=100m շրջ. ՄԱՍՆԱՎՈՐ | F23: 63462011 | H23: =SUMIF(Sep!A:A,'Sheet 1'!A23,Sep!N:N) -> 0 | I23: =IF(H23>0,(IF(H23<=10000,MIN(15000,H23*4),MIN(H23*4,75000))),0) -> 0 | J23: =IF(C23="Հիվանդանոց",80000,IF(C23="Բժշկական կենտրոն",IF(M23>2000,150000,130000),IF(C23="Շտապ բուժօգնություն",50000,IF(C23="ատամնաբուժարան",IF(M23<=200,7000,IF(AND(M23>200,M23<=500),15000,2000)),IF(C23="առողջարան",50000)))))*1.2 -> 156000 | K23: =SUMIF(Sep!A:A,'Sheet 1'!A23,Sep!I:I) -> 25 | L23: =IF(AND(C23<>"Ամբուլատորիա",C23<>"Պոլիկլինիկա"),500*K23*1.2,0) -> 15000 | M23: =+SUMIF(Sep!A:A,'Sheet 1'!A23,Sep!E:E) -> 372 | N23: =M23*1000*1.2 -> 446400 | O23: =I23+J23+L23+N23 -> 617400 | P23: =+F23*1.5% -> 951930.16 | Q23: =MIN(O23,P23) -> 617400 | R23: 0.7 | S23: =Q23*R23 -> 432180 | T23: =Q23-S23 -> 185220 | U23: =+Q23*12 -> 7408800 | V23: =S23*12 -> 5186160 | W23: =T23*12 -> 2222640
A24: Նորմեդ ՍՊԸ | B24: Երևան | C24: Բժշկական կենտրոն | D24: 3 | E24: Հիվանդանոց Երևան <=100m շրջ. ՄԱՍՆԱՎՈՐ | F24: 538040.08 | H24: =SUMIF(Sep!A:A,'Sheet 1'!A24,Sep!N:N) -> 0 | I24: =IF(H24>0,(IF(H24<=10000,MIN(15000,H24*4),MIN(H24*4,75000))),0) -> 0 | J24: =IF(C24="Հիվանդանոց",80000,IF(C24="Բժշկական կենտրոն",IF(M24>2000,150000,130000),IF(C24="Շտապ բուժօգնություն",50000,IF(C24="ատամնաբուժարան",IF(M24<=200,7000,IF(AND(M24>200,M24<=500),15000,2000)),IF(C24="առողջարան",50000)))))*1.2 -> 156000 | K24: =SUMIF(Sep!A:A,'Sheet 1'!A24,Sep!I:I) -> 4 | L24: =IF(AND(C24<>"Ամբուլատորիա",C24<>"Պոլիկլինիկա"),500*K24*1.2,0) -> 2400 | M24: =+SUMIF(Sep!A:A,'Sheet 1'!A24,Sep!E:E) -> 0 | N24: =M24*1000*1.2 -> 0 | O24: =I24+J24+L24+N24 -> 158400 | P24: =+F24*1.5% -> 8070.6013 | Q24: =MIN(O24,P24) -> 8070.6013 | R24: 0.7 | S24: =Q24*R24 -> 5649.4209 | T24: =Q24-S24 -> 2421.1804 | U24: =+Q24*12 -> 96847.215 | V24: =S24*12 -> 67793.05 | W24: =T24*12 -> 29054.165
A25: Շենգավիթ բժշկական կենտրոն ՓԲԸ | B25: Երևան | C25: Բժշկական կենտրոն | D25: 3 | E25: Հիվանդանոց Երևան <=100m շրջ. ՄԱՍՆԱՎՈՐ | F25: 52988144 | H25: =SUMIF(Sep!A:A,'Sheet 1'!A25,Sep!N:N) -> 0 | I25: =IF(H25>0,(IF(H25<=10000,MIN(15000,H25*4),MIN(H25*4,75000))),0) -> 0 | J25: =IF(C25="Հիվանդանոց",80000,IF(C25="Բժշկական կենտրոն",IF(M25>2000,150000,130000),IF(C25="Շտապ բուժօգնություն",50000,IF(C25="ատամնաբուժարան",IF(M25<=200,7000,IF(AND(M25>200,M25<=500),15000,2000)),IF(C25="առողջարան",50000)))))*1.2 -> 156000 | K25: =SUMIF(Sep!A:A,'Sheet 1'!A25,Sep!I:I) -> 14 | L25: =IF(AND(C25<>"Ամբուլատորիա",C25<>"Պոլիկլինիկա"),500*K25*1.2,0) -> 8400 | M25: =+SUMIF(Sep!A:A,'Sheet 1'!A25,Sep!E:E) -> 276 | N25: =M25*1000*1.2 -> 331200 | O25: =I25+J25+L25+N25 -> 495600 | P25: =+F25*1.5% -> 794822.15 | Q25: =MIN(O25,P25) -> 495600 | R25: 0.7 | S25: =Q25*R25 -> 346920 | T25: =Q25-S25 -> 148680 | U25: =+Q25*12 -> 5947200 | V25: =S25*12 -> 4163040 | W25: =T25*12 -> 1784160
A26: Ուլտրաիմիջինգ գիտամեթոդական կենտրոն ՍՊԸ | B26: Երևան | C26: Բժշկական կենտրոն | D26: 3 | E26: Հիվանդանոց Երևան <=100m շրջ. ՄԱՍՆԱՎՈՐ | F26: 4119689.2 | H26: =SUMIF(Sep!A:A,'Sheet 1'!A26,Sep!N:N) -> 0 | I26: =IF(H26>0,(IF(H26<=10000,MIN(15000,H26*4),MIN(H26*4,75000))),0) -> 0 | J26: =IF(C26="Հիվանդանոց",80000,IF(C26="Բժշկական կենտրոն",IF(M26>2000,150000,130000),IF(C26="Շտապ բուժօգնություն",50000,IF(C26="ատամնաբուժարան",IF(M26<=200,7000,IF(AND(M26>200,M26<=500),15000,2000)),IF(C26="առողջարան",50000)))))*1.2 -> 156000 | K26: =SUMIF(Sep!A:A,'Sheet 1'!A26,Sep!I:I) -> 8 | L26: =IF(AND(C26<>"Ամբուլատորիա",C26<>"Պոլիկլինիկա"),500*K26*1.2,0) -> 4800 | M26: =+SUMIF(Sep!A:A,'Sheet 1'!A26,Sep!E:E) -> 0 | N26: =M26*1000*1.2 -> 0 | O26: =I26+J26+L26+N26 -> 160800 | P26: =+F26*1.5% -> 61795.337 | Q26: =MIN(O26,P26) -> 61795.337 | R26: 0.7 | S26: =Q26*R26 -> 43256.736 | T26: =Q26-S26 -> 18538.601 | U26: =+Q26*12 -> 741544.05 | V26: =S26*12 -> 519080.83 | W26: =T26*12 -> 222463.21
A27: Ս.Վ. Մալայանի անվան ակնաբուժական կենտրոն ՓԲԸ | B27: Երևան | C27: Բժշկական կենտրոն | D27: 3 | E27: Հիվանդանոց Երևան <=100m շրջ. ՄԱՍՆԱՎՈՐ | F27: 24940152 | H27: =SUMIF(Sep!A:A,'Sheet 1'!A27,Sep!N:N) -> 0 | I27: =IF(H27>0,(IF(H27<=10000,MIN(15000,H27*4),MIN(H27*4,75000))),0) -> 0 | J27: =IF(C27="Հիվանդանոց",80000,IF(C27="Բժշկական կենտրոն",IF(M27>2000,150000,130000),IF(C27="Շտապ բուժօգնություն",50000,IF(C27="ատամնաբուժարան",IF(M27<=200,7000,IF(AND(M27>200,M27<=500),15000,2000)),IF(C27="առողջարան",50000)))))*1.2 -> 156000 | K27: =SUMIF(Sep!A:A,'Sheet 1'!A27,Sep!I:I) -> 3 | L27: =IF(AND(C27<>"Ամբուլատորիա",C27<>"Պոլիկլինիկա"),500*K27*1.2,0) -> 1800 | M27: =+SUMIF(Sep!A:A,'Sheet 1'!A27,Sep!E:E) -> 281 | N27: =M27*1000*1.2 -> 337200 | O27: =I27+J27+L27+N27 -> 495000 | P27: =+F27*1.5% -> 374102.27 | Q27: =MIN(O27,P27) -> 374102.27 | R27: 0.7 | S27: =Q27*R27 -> 261871.59 | T27: =Q27-S27 -> 112230.68 | U27: =+Q27*12 -> 4489227.3 | V27: =S27*12 -> 3142459.1 | W27: =T27*12 -> 1346768.2
A28: Վ. Ավագյանի անվան բժշկական կենտրոն ՍՊԸ | B28: Երևան | C28: Բժշկական կենտրոն | D28: 3 | E28: Հիվանդանոց Երևան <=100m շրջ. ՄԱՍՆԱՎՈՐ | F28: 14769641 | G28: 3720 | H28: =SUMIF(Sep!A:A,'Sheet 1'!A28,Sep!N:N) -> 3704 | I28: =IF(H28>0,(IF(H28<=10000,MIN(15000,H28*4),MIN(H28*4,75000))),0) -> 14816 | J28: =IF(C28="Հիվանդանոց",80000,IF(C28="Բժշկական կենտրոն",IF(M28>2000,150000,130000),IF(C28="Շտապ բուժօգնություն",50000,IF(C28="ատամնաբուժարան",IF(M28<=200,7000,IF(AND(M28>200,M28<=500),15000,2000)),IF(C28="առողջարան",50000)))))*1.2 -> 156000 | K28: =SUMIF(Sep!A:A,'Sheet 1'!A28,Sep!I:I) -> 6 | L28: =IF(AND(C28<>"Ամբուլատորիա",C28<>"Պոլիկլինիկա"),500*K28*1.2,0) -> 3600 | M28: =+SUMIF(Sep!A:A,'Sheet 1'!A28,Sep!E:E) -> 42 | N28: =M28*1000*1.2 -> 50400 | O28: =I28+J28+L28+N28 -> 224816 | P28: =+F28*1.5% -> 221544.61 | Q28: =MIN(O28,P28) -> 221544.61 | R28: 0.7 | S28: =Q28*R28 -> 155081.23 | T28: =Q28-S28 -> 66463.383 | U28: =+Q28*12 -> 2658535.3 | V28: =S28*12 -> 1860974.7 | W28: =T28*12 -> 797560.6
A29: Արամյանց բժշկական կենտրոն ՓԲԸ | B29: Երևան | C29: Հիվանդանոց | D29: 3 | E29: Հիվանդանոց Երևան <=100m շրջ. ՄԱՍՆԱՎՈՐ | F29: 13760720 | H29: =SUMIF(Sep!A:A,'Sheet 1'!A29,Sep!N:N) -> 0 | I29: =IF(H29>0,(IF(H29<=10000,MIN(15000,H29*4),MIN(H29*4,75000))),0) -> 0 | J29: =IF(C29="Հիվանդանոց",80000,IF(C29="Բժշկական կենտրոն",IF(M29>2000,150000,130000),IF(C29="Շտապ բուժօգնություն",50000,IF(C29="ատամնաբուժարան",IF(M29<=200,7000,IF(AND(M29>200,M29<=500),15000,2000)),IF(C29="առողջարան",50000)))))*1.2 -> 96000 | K29: =SUMIF(Sep!A:A,'Sheet 1'!A29,Sep!I:I) -> 3 | L29: =IF(AND(C29<>"Ամբուլատորիա",C29<>"Պոլիկլինիկա"),500*K29*1.2,0) -> 1800 | M29: =+SUMIF(Sep!A:A,'Sheet 1'!A29,Sep!E:E) -> 76 | N29: =M29*1000*1.2 -> 91200 | O29: =I29+J29+L29+N29 -> 189000 | P29: =+F29*1.5% -> 206410.8 | Q29: =MIN(O29,P29) -> 189000 | R29: 0.7 | S29: =Q29*R29 -> 132300 | T29: =Q29-S29 -> 56700 | U29: =+Q29*12 -> 2268000 | V29: =S29*12 -> 1587600 | W29: =T29*12 -> 680400
A30: Բեգլարյան բժշկական կենտրոն ՓԲԸ | B30: Երևան | C30: Հիվանդանոց | D30: 3 | E30: Հիվանդանոց Երևան <=100m շրջ. ՄԱՍՆԱՎՈՐ | F30: 30245731 | H30: =SUMIF(Sep!A:A,'Sheet 1'!A30,Sep!N:N) -> 0 | I30: =IF(H30>0,(IF(H30<=10000,MIN(15000,H30*4),MIN(H30*4,75000))),0) -> 0 | J30: =IF(C30="Հիվանդանոց",80000,IF(C30="Բժշկական կենտրոն",IF(M30>2000,150000,130000),IF(C30="Շտապ բուժօգնություն",50000,IF(C30="ատամնաբուժարան",IF(M30<=200,7000,IF(AND(M30>200,M30<=500),15000,2000)),IF(C30="առողջարան",50000)))))*1.2 -> 96000 | K30: =SUMIF(Sep!A:A,'Sheet 1'!A30,Sep!I:I) -> 10 | L30: =IF(AND(C30<>"Ամբուլատորիա",C30<>"Պոլիկլինիկա"),500*K30*1.2,0) -> 6000 | M30: =+SUMIF(Sep!A:A,'Sheet 1'!A30,Sep!E:E) -> 217 | N30: =M30*1000*1.2 -> 260400 | O30: =I30+J30+L30+N30 -> 362400 | P30: =+F30*1.5% -> 453685.97 | Q30: =MIN(O30,P30) -> 362400 | R30: 0.7 | S30: =Q30*R30 -> 253680 | T30: =Q30-S30 -> 108720 | U30: =+Q30*12 -> 4348800 | V30: =S30*12 -> 3044160 | W30: =T30*12 -> 1304640
A31: ԷլենՆարե ծննդօգնության կենտրոն ՍՊԸ | B31: Երևան | C31: Հիվանդանոց | D31: 3 | E31: Հիվանդանոց Երևան <=100m շրջ. ՄԱՍՆԱՎՈՐ | F31: 11379475 | H31: =SUMIF(Sep!A:A,'Sheet 1'!A31,Sep!N:N) -> 0 | I31: =IF(H31>0,(IF(H31<=10000,MIN(15000,H31*4),MIN(H31*4,75000))),0) -> 0 | J31: =IF(C31="Հիվանդանոց",80000,IF(C31="Բժշկական կենտրոն",IF(M31>2000,150000,130000),IF(C31="Շտապ բուժօգնություն",50000,IF(C31="ատամնաբուժարան",IF(M31<=200,7000,IF(AND(M31>200,M31<=500),15000,2000)),IF(C31="առողջարան",50000)))))*1.2 -> 96000 | K31: =SUMIF(Sep!A:A,'Sheet 1'!A31,Sep!I:I) -> 5 | L31: =IF(AND(C31<>"Ամբուլատորիա",C31<>"Պոլիկլինիկա"),500*K31*1.2,0) -> 3000 | M31: =+SUMIF(Sep!A:A,'Sheet 1'!A31,Sep!E:E) -> 99 | N31: =M31*1000*1.2 -> 118800 | O31: =I31+J31+L31+N31 -> 217800 | P31: =+F31*1.5% -> 170692.12 | Q31: =MIN(O31,P31) -> 170692.12 | R31: 0.7 | S31: =Q31*R31 -> 119484.49 | T31: =Q31-S31 -> 51207.638 | U31: =+Q31*12 -> 2048305.5 | V31: =S31*12 -> 1433813.8 | W31: =T31*12 -> 614491.65
A32: Հանրապետական անձավաբուժական կենտրոն ՓԲԸ | B32: Երևան | C32: Հիվանդանոց | D32: 3 | E32: Հիվանդանոց Երևան <=100m շրջ. ՄԱՍՆԱՎՈՐ | F32: 2399512.5 | H32: =SUMIF(Sep!A:A,'Sheet 1'!A32,Sep!N:N) -> 0 | I32: =IF(H32>0,(IF(H32<=10000,MIN(15000,H32*4),MIN(H32*4,75000))),0) -> 0 | J32: =IF(C32="Հիվանդանոց",80000,IF(C32="Բժշկական կենտրոն",IF(M32>2000,150000,130000),IF(C32="Շտապ բուժօգնություն",50000,IF(C32="ատամնաբուժարան",IF(M32<=200,7000,IF(AND(M32>200,M32<=500),15000,2000)),IF(C32="առողջարան",50000)))))*1.2 -> 96000 | K32: =SUMIF(Sep!A:A,'Sheet 1'!A32,Sep!I:I) -> 3 | L32: =IF(AND(C32<>"Ամբուլատորիա",C32<>"Պոլիկլինիկա"),500*K32*1.2,0) -> 1800 | M32: =+SUMIF(Sep!A:A,'Sheet 1'!A32,Sep!E:E) -> 0 | N32: =M32*1000*1.2 -> 0 | O32: =I32+J32+L32+N32 -> 97800 | P32: =+F32*1.5% -> 35992.688 | Q32: =MIN(O32,P32) -> 35992.688 | R32: 0.7 | S32: =Q32*R32 -> 25194.881 | T32: =Q32-S32 -> 10797.806 | U32: =+Q32*12 -> 431912.25 | V32: =S32*12 -> 302338.57 | W32: =T32*12 -> 129573.68
A33: Հանրապետական մանկական վերականգնողական կենտրոն ՓԲԸ | B33: Երևան | C33: Հիվանդանոց | D33: 3 | E33: Հիվանդանոց Երևան <=100m շրջ. ՄԱՍՆԱՎՈՐ | F33: 8676315.8 | H33: =SUMIF(Sep!A:A,'Sheet 1'!A33,Sep!N:N) -> 0 | I33: =IF(H33>0,(IF(H33<=10000,MIN(15000,H33*4),MIN(H33*4,75000))),0) -> 0 | J33: =IF(C33="Հիվանդանոց",80000,IF(C33="Բժշկական կենտրոն",IF(M33>2000,150000,130000),IF(C33="Շտապ բուժօգնություն",50000,IF(C33="ատամնաբուժարան",IF(M33<=200,7000,IF(AND(M33>200,M33<=500),15000,2000)),IF(C33="առողջարան",50000)))))*1.2 -> 96000 | K33: =SUMIF(Sep!A:A,'Sheet 1'!A33,Sep!I:I) -> 5 | L33: =IF(AND(C33<>"Ամբուլատորիա",C33<>"Պոլիկլինիկա"),500*K33*1.2,0) -> 3000 | M33: =+SUMIF(Sep!A:A,'Sheet 1'!A33,Sep!E:E) -> 11 | N33: =M33*1000*1.2 -> 13200 | O33: =I33+J33+L33+N33 -> 112200 | P33: =+F33*1.5% -> 130144.74 | Q33: =MIN(O33,P33) -> 112200 | R33: 0.7 | S33: =Q33*R33 -> 78540 | T33: =Q33-S33 -> 33660 | U33: =+Q33*12 -> 1346400 | V33: =S33*12 -> 942480 | W33: =T33*12 -> 403920
A34: Միքայելյան վիրաբուժության ինստիտուտ ՓԲԸ | B34: Երևան | C34: Հիվանդանոց | D34: 3 | E34: Հիվանդանոց Երևան <=100m շրջ. ՄԱՍՆԱՎՈՐ | F34: 9892949.7 | H34: =SUMIF(Sep!A:A,'Sheet 1'!A34,Sep!N:N) -> 0 | I34: =IF(H34>0,(IF(H34<=10000,MIN(15000,H34*4),MIN(H34*4,75000))),0) -> 0 | J34: =IF(C34="Հիվանդանոց",80000,IF(C34="Բժշկական կենտրոն",IF(M34>2000,150000,130000),IF(C34="Շտապ բուժօգնություն",50000,IF(C34="ատամնաբուժարան",IF(M34<=200,7000,IF(AND(M34>200,M34<=500),15000,2000)),IF(C34="առողջարան",50000)))))*1.2 -> 96000 | K34: =SUMIF(Sep!A:A,'Sheet 1'!A34,Sep!I:I) -> 6 | L34: =IF(AND(C34<>"Ամբուլատորիա",C34<>"Պոլիկլինիկա"),500*K34*1.2,0) -> 3600 | M34: =+SUMIF(Sep!A:A,'Sheet 1'!A34,Sep!E:E) -> 59 | N34: =M34*1000*1.2 -> 70800 | O34: =I34+J34+L34+N34 -> 170400 | P34: =+F34*1.5% -> 148394.24 | Q34: =MIN(O34,P34) -> 148394.24 | R34: 0.7 | S34: =Q34*R34 -> 103875.97 | T34: =Q34-S34 -> 44518.274 | U34: =+Q34*12 -> 1780730.9 | V34: =S34*12 -> 1246511.7 | W34: =T34*12 -> 534219.28
A35: Նաիրի ԲԱՄ ՓԲԸ | B35: Երևան | C35: Հիվանդանոց | D35: 3 | E35: Հիվանդանոց Երևան <=100m շրջ. ՄԱՍՆԱՎՈՐ | F35: 14059170 | H35: =SUMIF(Sep!A:A,'Sheet 1'!A35,Sep!N:N) -> 0 | I35: =IF(H35>0,(IF(H35<=10000,MIN(15000,H35*4),MIN(H35*4,75000))),0) -> 0 | J35: =IF(C35="Հիվանդանոց",80000,IF(C35="Բժշկական կենտրոն",IF(M35>2000,150000,130000),IF(C35="Շտապ բուժօգնություն",50000,IF(C35="ատամնաբուժարան",IF(M35<=200,7000,IF(AND(M35>200,M35<=500),15000,2000)),IF(C35="առողջարան",50000)))))*1.2 -> 96000 | K35: =SUMIF(Sep!A:A,'Sheet 1'!A35,Sep!I:I) -> 5 | L35: =IF(AND(C35<>"Ամբուլատորիա",C35<>"Պոլիկլինիկա"),500*K35*1.2,0) -> 3000 | M35: =+SUMIF(Sep!A:A,'Sheet 1'!A35,Sep!E:E) -> 42 | N35: =M35*1000*1.2 -> 50400 | O35: =I35+J35+L35+N35 -> 149400 | P35: =+F35*1.5% -> 210887.55 | Q35: =MIN(O35,P35) -> 149400 | R35: 0.7 | S35: =Q35*R35 -> 104580 | T35: =Q35-S35 -> 44820 | U35: =+Q35*12 -> 1792800 | V35: =S35*12 -> 1254960 | W35: =T35*12 -> 537840
A36: Ս. Սարգսյան և գործընկերներ ՍՊԸ | B36: Երևան | C36: Հիվանդանոց | D36: 3 | E36: Հիվանդանոց Երևան <=100m շրջ. ՄԱՍՆԱՎՈՐ | F36: 6391607.2 | H36: =SUMIF(Sep!A:A,'Sheet 1'!A36,Sep!N:N) -> 0 | I36: =IF(H36>0,(IF(H36<=10000,MIN(15000,H36*4),MIN(H36*4,75000))),0) -> 0 | J36: =IF(C36="Հիվանդանոց",80000,IF(C36="Բժշկական կենտրոն",IF(M36>2000,150000,130000),IF(C36="Շտապ բուժօգնություն",50000,IF(C36="ատամնաբուժարան",IF(M36<=200,7000,IF(AND(M36>200,M36<=500),15000,2000)),IF(C36="առողջարան",50000)))))*1.2 -> 96000 | K36: =SUMIF(Sep!A:A,'Sheet 1'!A36,Sep!I:I) -> 2 | L36: =IF(AND(C36<>"Ամբուլատորիա",C36<>"Պոլիկլինիկա"),500*K36*1.2,0) -> 1200 | M36: =+SUMIF(Sep!A:A,'Sheet 1'!A36,Sep!E:E) -> 70 | N36: =M36*1000*1.2 -> 84000 | O36: =I36+J36+L36+N36 -> 181200 | P36: =+F36*1.5% -> 95874.109 | Q36: =MIN(O36,P36) -> 95874.109 | R36: 0.7 | S36: =Q36*R36 -> 67111.876 | T36: =Q36-S36 -> 28762.233 | U36: =+Q36*12 -> 1150489.3 | V36: =S36*12 -> 805342.51 | W36: =T36*12 -> 345146.79
A37: Սլավմեդ ՍՊԸ | B37: Երևան | C37: Հիվանդանոց | D37: 3 | E37: Հիվանդանոց Երևան <=100m շրջ. ՄԱՍՆԱՎՈՐ | F37: 8891838.7 | H37: =SUMIF(Sep!A:A,'Sheet 1'!A37,Sep!N:N) -> 0 | I37: =IF(H37>0,(IF(H37<=10000,MIN(15000,H37*4),MIN(H37*4,75000))),0) -> 0 | J37: =IF(C37="Հիվանդանոց",80000,IF(C37="Բժշկական կենտրոն",IF(M37>2000,150000,130000),IF(C37="Շտապ բուժօգնություն",50000,IF(C37="ատամնաբուժարան",IF(M37<=200,7000,IF(AND(M37>200,M37<=500),15000,2000)),IF(C37="առողջարան",50000)))))*1.2 -> 96000 | K37: =SUMIF(Sep!A:A,'Sheet 1'!A37,Sep!I:I) -> 4 | L37: =IF(AND(C37<>"Ամբուլատորիա",C37<>"Պոլիկլինիկա"),500*K37*1.2,0) -> 2400 | M37: =+SUMIF(Sep!A:A,'Sheet 1'!A37,Sep!E:E) -> 54 | N37: =M37*1000*1.2 -> 64800 | O37: =I37+J37+L37+N37 -> 163200 | P37: =+F37*1.5% -> 133377.58 | Q37: =MIN(O37,P37) -> 133377.58 | R37: 0.7 | S37: =Q37*R37 -> 93364.306 | T37: =Q37-S37 -> 40013.274 | U37: =+Q37*12 -> 1600531 | V37: =S37*12 -> 1120371.7 | W37: =T37*12 -> 480159.29
A38: Քանկոր սիրտ-անոթային բժշկական կենտրոն ՍՊԸ | B38: Երևան | C38: Հիվանդանոց | D38: 3 | E38: Հիվանդանոց Երևան <=100m շրջ. ՄԱՍՆԱՎՈՐ | F38: 5890012.2 | H38: =SUMIF(Sep!A:A,'Sheet 1'!A38,Sep!N:N) -> 0 | I38: =IF(H38>0,(IF(H38<=10000,MIN(15000,H38*4),MIN(H38*4,75000))),0) -> 0 | J38: =IF(C38="Հիվանդանոց",80000,IF(C38="Բժշկական կենտրոն",IF(M38>2000,150000,130000),IF(C38="Շտապ բուժօգնություն",50000,IF(C38="ատամնաբուժարան",IF(M38<=200,7000,IF(AND(M38>200,M38<=500),15000,2000)),IF(C38="առողջարան",50000)))))*1.2 -> 96000 | K38: =SUMIF(Sep!A:A,'Sheet 1'!A38,Sep!I:I) -> 3 | L38: =IF(AND(C38<>"Ամբուլատորիա",C38<>"Պոլիկլինիկա"),500*K38*1.2,0) -> 1800 | M38: =+SUMIF(Sep!A:A,'Sheet 1'!A38,Sep!E:E) -> 0 | N38: =M38*1000*1.2 -> 0 | O38: =I38+J38+L38+N38 -> 97800 | P38: =+F38*1.5% -> 88350.182 | Q38: =MIN(O38,P38) -> 88350.182 | R38: 0.7 | S38: =Q38*R38 -> 61845.128 | T38: =Q38-S38 -> 26505.055 | U38: =+Q38*12 -> 1060202.2 | V38: =S38*12 -> 742141.53 | W38: =T38*12 -> 318060.66
